Workbook

Sheet Total
A1: DEPARTMENT | B1: NUMBER OF EMPLOYEES 2010 | C1: NUMBER OF EMPLOYEES 2011 | D1: AS A % OF KZN 2010 | E1: AS A % OF KZN 2011 | F1: Year-on-Year % Change
A2: Education | B2: =' Education 1'!C214 -> 102174 | C2: =' Education 1'!D214 -> 111288 | D2: =B2/$B$19*100 -> 54.76678 | E2: =C2/$C$19*100 -> 54.791175 | F2: =(C2-B2)/B2*100 -> 8.9200775
A3: Office of the Premier | B3: ='Office ot the premier2'!C17 -> 323 | C3: ='Office ot the premier2'!D17 -> 355 | D3: =B3/$B$19*100 -> 0.17313279 | E3: =C3/$C$19*100 -> 0.17477956 | F3: =(C3-B3)/B3*100 -> 9.9071207
A4: Legislature | B4: ='Legislature 3'!C11 -> 213 | C4: ='Legislature 3'!D11 -> 219 | D4: =B4/$B$19*100 -> 0.11417116 | E4: =C4/$C$19*100 -> 0.10782175 | F4: =(C4-B4)/B4*100 -> 2.8169014
A5: Agriculture, Environmental Affairs and Rural Development | B5: ='Agriculture 4'!C55 -> 3236 | C5: ='Agriculture 4'!D55 -> 3368 | D5: =B5/$B$19*100 -> 1.734544 | E5: =C5/$C$19*100 -> 1.6581903 | F5: =(C5-B5)/B5*100 -> 4.07911 | G5: City Distributions
A6: Economic Development and Tourism | B6: ='Economic Development 5'!C20 -> 302 | C6: ='Economic Development 5'!D20 -> 373 | D6: =B6/$B$19*100 -> 0.16187648 | E6: =C6/$C$19*100 -> 0.18364162 | F6: =(C6-B6)/B6*100 -> 23.509934
A7: Provincial Treasury | B7: ='Provincial Treasury6'!C17 -> 297 | C7: ='Provincial Treasury6'!D17 -> 391 | D7: =B7/$B$19*100 -> 0.15919641 | E7: =C7/$C$19*100 -> 0.19250368 | F7: =(C7-B7)/B7*100 -> 31.649832
A8: Health | B8: ='Health 7'!C165 -> 64739 | C8: ='Health 7'!D165 -> 69582 | D8: =B8/$B$19*100 -> 34.701065 | E8: =C8/$C$19*100 -> 34.257778 | F8: =(C8-B8)/B8*100 -> 7.4808076 | G8: City Percentage
A9: Human Settlement | B9: ='Human Settlement 8'!C30 -> 822 | C9: ='Human Settlement 8'!D30 -> 811 | D9: =B9/$B$19*100 -> 0.4406042 | E9: =C9/$C$19*100 -> 0.39928513 | F9: =(C9-B9)/B9*100 -> -1.3381995
A10: Community and Safety and Liason | B10: ='Community and Safety 9'!C17 -> 100 | C10: ='Community and Safety 9'!D17 -> 107 | D10: =B10/$B$19*100 -> 0.053601484 | E10: =C10/$C$19*100 -> 0.052680035 | F10: =(C10-B10)/B10*100 -> 7
A11: Royal Household | B11: ='Royal Household 10 '!C20 -> 149 | C11: ='Royal Household 10 '!D20 -> 145 | D11: =B11/$B$19*100 -> 0.079866211 | E11: =C11/$C$19*100 -> 0.071388833 | F11: =(C11-B11)/B11*100 -> -2.6845638
A12: Cooperative Governance and Traditional Affairs | B12: ='Coorperative Gov 11'!C23 -> 4274 | C12: ='Coorperative Gov 11'!D23 -> 4749 | D12: =B12/$B$19*100 -> 2.2909274 | E12: =C12/$C$19*100 -> 2.3381074 | F12: =(C12-B12)/B12*100 -> 11.113711
A13: Transport | B13: ='Transport 12 '!C141 -> 5476 | C13: ='Transport 12 '!D141 -> 5599 | D13: =B13/$B$19*100 -> 2.9352172 | E13: =C13/$C$19*100 -> 2.7565936 | F13: =(C13-B13)/B13*100 -> 2.2461651
A14: Social Development | B14: ='Social Development 13 '!C116 -> 2832 | C14: ='Social Development 13 '!D116 -> 3417 | D14: =B14/$B$19*100 -> 1.517994 | E14: =C14/$C$19*100 -> 1.6823148 | F14: =(C14-B14)/B14*100 -> 20.65678
A15: Public Works | B15: ='Public Works 14'!C50 -> 1024 | C15: ='Public Works 14'!D50 -> 2092 | D15: =B15/$B$19*100 -> 0.54887919 | E15: =C15/$C$19*100 -> 1.0299685 | F15: =(C15-B15)/B15*100 -> 104.29688
A16: Art and Culture | B16: ='Art and Cultur e 15'!C18 -> 436 | C16: ='Art and Cultur e 15'!D18 -> 447 | D16: =B16/$B$19*100 -> 0.23370247 | E16: =C16/$C$19*100 -> 0.22007454 | F16: =(C16-B16)/B16*100 -> 2.5229358
A17: Sport and Recreation | B17: ='Sport and Recreation 16'!C28 -> 165 | C17: ='Sport and Recreation 16'!D28 -> 170 | D17: =B17/$B$19*100 -> 0.088442448 | E17: =C17/$C$19*100 -> 0.083697252 | F17: =(C17-B17)/B17*100 -> 3.030303
A19: TOTAL | B19: =SUM(B2:B17) -> 186562 | C19: =SUM(C2:C17) -> 203113 | D19: =SUM(D2:D17) -> 100 | E19: =SUM(E2:E17) -> 100 | F19: =(C19-B19)/B19*100 -> 8.8715816

Sheet Cities
A1: 2010/2011 MAIN TOWN OR CITY TOTALS
A2: MAIN TOWN OR CITY | B2: EDUCATION | C2: OFFICE OF THE PREMIER | D2: LEGISLATURE | E2: AGRICULTURE, ENVIRONMENTAL AFFAIRS AND RURAL DEVELOPMENT | F2: ECONOMIC DEVELOPMENT AND TOURISM | G2: PROVINCIAL TREASURY | H2: HEALTH | I2: HUMAN SETTLEMENT | J2: COMMUNITY AND SAFETY AND LIASON | K2: ROYAL HOUSEHOLD | L2: COOPERATIVE GOVERNANCE AND TRADITIONAL AFFAIRS | M2: TRANSPORT | N2: SOCIAL DEVELOPMENT | O2: PUBLIC WORKS | P2: ART AND CULTURE | Q2: SPORT AND RECREATION | R2: TOTALS
A3: Alfred | B3: =' Education 1'!D133 -> 141 | C3: - | D3: - | E3: - | F3: - | G3: - | H3: ='Health 7'!D111 -> 456 | I3: - | J3: - | K3: - | L3: - | M3: - | N3: - | O3: - | P3: - | Q3: - | R3: =SUM(B3:Q3) -> 597
A4: Babanango | B4: =' Education 1'!D134 -> 115 | C4: - | D4: - | E4: - | F4: - | G4: - | H4: ='Health 7'!D112 -> 25 | I4: - | J4: - | K4: - | L4: - | M4: - | N4: - | O4: - | P4: - | Q4: - | R4: =SUM(B4:Q4) -> 140
A5: Beaufort West | B5: - | C5: - | D5: - | E5: - | F5: - | G5: - | H5: ='Health 7'!D113 -> 2 | I5: - | J5: - | K5: - | L5: - | M5: - | N5: - | O5: - | P5: - | Q5: - | R5: =SUM(B5:Q5) -> 2
A6: Bedford | B6: =' Education 1'!D135 -> 70 | C6: - | D6: - | E6: - | F6: - | G6: - | H6: - | I6: - | J6: - | K6: - | L6: - | M6: - | N6: - | O6: - | P6: - | Q6: - | R6: =SUM(B6:Q6) -> 70
A7: Bergville | B7: =' Education 1'!D136 -> 306 | C7: - | D7: - | E7: - | F7: - | G7: - | H7: - | I7: - | J7: - | K7: - | L7: - | M7: ='Transport 12 '!D92 -> 39 | N7: ='Social Development 13 '!D66 -> 31 | O7: - | P7: - | Q7: - | R7: =SUM(B7:Q7) -> 376
A8: Bloemfontein | B8: =' Education 1'!D137 -> 15 | C8: - | D8: - | E8: - | F8: - | G8: - | H8: - | I8: - | J8: - | K8: - | L8: - | M8: - | N8: - | O8: - | P8: - | Q8: - | R8: =SUM(B8:Q8) -> 15
A9: Camperdown | B9: =' Education 1'!D138 -> 360 | C9: - | D9: - | E9: - | F9: - | G9: - | H9: - | I9: - | J9: - | K9: - | L9: - | M9: ='Transport 12 '!D93 -> 15 | N9: ='Social Development 13 '!D67 -> 14 | O9: - | P9: - | Q9: - | R9: =SUM(B9:Q9) -> 389
A10: Chatsworth | B10: =' Education 1'!D139 -> 1506 | C10: - | D10: - | E10: - | F10: - | G10: - | H10: - | I10: - | J10: - | K10: - | L10: - | M10: - | N10: ='Social Development 13 '!D68 -> 25 | O10: - | P10: - | Q10: - | R10: =SUM(B10:Q10) -> 1531
A11: Cullinan | B11: =' Education 1'!D140 -> 11 | C11: - | D11: - | E11: - | F11: - | G11: - | H11: - | I11: - | J11: - | K11: - | L11: - | M11: - | N11: - | O11: - | P11: - | Q11: - | R11: =SUM(B11:Q11) -> 11
A12: Dannhauser | B12: =' Education 1'!D141 -> 717 | C12: - | D12: - | E12: - | F12: - | G12: - | H12: - | I12: - | J12: - | K12: - | L12: - | M12: ='Transport 12 '!D94 -> 7 | N12: ='Social Development 13 '!D69 -> 25 | O12: - | P12: - | Q12: - | R12: =SUM(B12:Q12) -> 749
A13: Dundee | B13: =' Education 1'!D142 -> 661 | C13: - | D13: - | E13: ='Agriculture 4'!D39 -> 1 | F13: - | G13: - | H13: ='Health 7'!D114 -> 621 | I13: - | J13: - | K13: - | L13: - | M13: ='Transport 12 '!D95 -> 218 | N13: ='Social Development 13 '!D70 -> 24 | O13: ='Public Works 14'!D34 -> 65 | P13: - | Q13: - | R13: =SUM(B13:Q13) -> 1590
A14: Durban | B14: =' Education 1'!D143 -> 10778 | C14: - | D14: - | E14: ='Agriculture 4'!D40 -> 247 | F14: ='Economic Development 5'!D17 -> 32 | G14: - | H14: ='Health 7'!D115 -> 19143 | I14: ='Human Settlement 8'!D23 -> 491 | J14: - | K14: - | L14: ='Coorperative Gov 11'!D18 -> 33 | M14: ='Transport 12 '!D96 -> 612 | N14: ='Social Development 13 '!D71 -> 458 | O14: ='Public Works 14'!D35 -> 463 | P14: - | Q14: ='Sport and Recreation 16'!D21 -> 66 | R14: =SUM(B14:Q14) -> 32323
A15: Dzanani | B15: - | C15: - | D15: - | E15: - | F15: - | G15: - | H15: ='Health 7'!D116 -> 462 | I15: - | J15: - | K15: - | L15: - | M15: - | N15: - | O15: - | P15: - | Q15: - | R15: =SUM(B15:Q15) -> 462
A16: Ekuvukeni | M16: - | N16: ='Social Development 13 '!D72 -> 17 | O16: - | P16: - | Q16: - | R16: =SUM(B16:Q16) -> 17
A17: Emnambithi | B17: =' Education 1'!D144 -> 70 | C17: - | D17: - | E17: - | F17: - | G17: - | H17: - | I17: - | J17: - | K17: - | L17: - | M17: - | N17: - | O17: ='Public Works 14'!D36 -> 3 | P17: - | Q17: ='Sport and Recreation 16'!D22 -> 19 | R17: =SUM(B17:Q17) -> 92
A18: Eshowe | B18: =' Education 1'!D145 -> 2726 | C18: - | D18: - | E18: ='Agriculture 4'!D41 -> 96 | F18: - | G18: - | H18: ='Health 7'!D117 -> 1835 | I18: - | J18: - | K18: - | L18: - | M18: ='Transport 12 '!D97 -> 226 | N18: ='Social Development 13 '!D73 -> 51 | O18: ='Public Works 14'!D37 -> 97 | P18: - | Q18: - | R18: =SUM(B18:Q18) -> 5031
A19: Escourt | B19: =' Education 1'!D146 -> 3247 | C19: - | D19: - | E19: ='Agriculture 4'!D42 -> 12 | F19: - | G19: - | H19: ='Health 7'!D118 -> 1106 | I19: - | J19: - | K19: - | L19: - | M19: ='Transport 12 '!D98 -> 177 | N19: ='Social Development 13 '!D74 -> 21 | O19: - | P19: - | Q19: - | R19: =SUM(B19:Q19) -> 4563
A20: Frankfort | B20: =' Education 1'!D147 -> 13 | C20: - | D20: - | E20: - | F20: - | G20: - | H20: - | I20: - | J20: - | K20: - | L20: - | M20: - | N20: - | O20: - | P20: - | Q20: - | R20: =SUM(B20:Q20) -> 13
A21: Fraserburg | B21: - | C21: - | D21: - | E21: - | F21: - | G21: - | H21: ='Health 7'!D119 -> 155 | I21: - | J21: - | K21: - | L21: - | M21: - | N21: - | O21: - | P21: - | Q21: - | R21: =SUM(B21:Q21) -> 155
A22: Germiston | B22: =' Education 1'!D148 -> 2 | C22: - | D22: - | E22: - | F22: - | G22: - | H22: - | I22: - | J22: - | K22: - | L22: - | M22: - | N22: - | O22: - | P22: - | Q22: - | R22: =SUM(B22:Q22) -> 2
A23: Glencoe | B23: =' Education 1'!D149 -> 436 | C23: - | D23: - | E23: - | F23: - | G23: - | H23: - | I23: - | J23: - | K23: - | L23: - | M23: ='Transport 12 '!D99 -> 2 | N23: ='Social Development 13 '!D75 -> 16 | P23: - | Q23: - | R23: =SUM(B23:Q23) -> 454
A24: Hlabisa | B24: =' Education 1'!D150 -> 2851 | C24: - | D24: - | E24: ='Agriculture 4'!D43 -> 11 | F24: - | G24: - | H24: ='Health 7'!D120 -> 869 | I24: - | J24: - | K24: - | L24: - | M24: ='Transport 12 '!D100 -> 207 | N24: ='Social Development 13 '!D76 -> 67 | O24: ='Public Works 14'!D38 -> 46 | P24: - | Q24: - | R24: =SUM(B24:Q24) -> 4051
A25: Hlanganani | B25: - | C25: - | D25: - | E25: - | F25: - | G25: - | H25: ='Health 7'!D121 -> 160 | I25: - | J25: - | K25: - | L25: - | M25: - | N25: ='Social Development 13 '!D77 -> 19 | O25: - | P25: - | Q25: - | R25: =SUM(B25:Q25) -> 179
A26: Humansdrop | B26: - | C26: - | D26: - | E26: - | F26: - | G26: - | H26: - | I26: - | J26: - | K26: - | L26: - | M26: ='Transport 12 '!D101 -> 1 | N26: - | O26: - | P26: - | Q26: - | R26: =SUM(B26:Q26) -> 1
A27: Impendle | B27: =' Education 1'!D151 -> 134 | C27: - | D27: - | E27: - | F27: - | G27: - | H27: - | I27: - | J27: - | K27: - | L27: - | M27: ='Transport 12 '!D102 -> 22 | N27: ='Social Development 13 '!D78 -> 8 | O27: - | P27: - | Q27: - | R27: =SUM(B27:Q27) -> 164
A28: Inanda | B28: =' Education 1'!D152 -> 5008 | C28: - | D28: - | E28: - | F28: - | G28: - | H28: ='Health 7'!D122 -> 636 | I28: - | J28: - | K28: - | L28: - | M28: - | N28: ='Social Development 13 '!D79 -> 40 | O28: - | P28: - | Q28: - | R28: =SUM(B28:Q28) -> 5684
A29: Indwe | B29: =' Education 1'!D153 -> 5 | C29: - | D29: - | E29: - | F29: - | G29: - | H29: - | I29: - | J29: - | K29: - | L29: - | M29: - | N29: - | O29: - | P29: - | Q29: - | R29: =SUM(B29:Q29) -> 5
A30: Ingwavuma | B30: =' Education 1'!D154 -> 1058 | C30: - | D30: - | E30: - | F30: - | G30: - | H30: ='Health 7'!D123 -> 1405 | I30: - | J30: - | K30: - | L30: - | M30: ='Transport 12 '!D103 -> 7 | N30: ='Social Development 13 '!D80 -> 76 | O30: - | P30: - | Q30: - | R30: =SUM(B30:Q30) -> 2546
A31: Ixopo | B31: =' Education 1'!D155 -> 2290 | C31: - | D31: - | E31: ='Agriculture 4'!D44 -> 63 | F31: - | G31: - | H31: ='Health 7'!D124 -> 816 | I31: - | J31: - | K31: - | L31: - | M31: ='Transport 12 '!D104 -> 158 | N31: ='Social Development 13 '!D81 -> 17 | O31: - | P31: - | Q31: - | R31: =SUM(B31:Q31) -> 3344
A32: Jagersfontein | B32: =' Education 1'!D156 -> 6 | C32: - | D32: - | E32: - | F32: - | G32: - | H32: - | I32: - | J32: - | K32: - | L32: - | M32: - | N32: - | O32: - | P32: - | Q32: - | R32: =SUM(B32:Q32) -> 6
A33: Jansenville | B33: =' Education 1'!D157 -> 6 | C33: - | D33: - | E33: - | F33: - | G33: - | H33: - | I33: - | J33: - | K33: - | L33: - | M33: - | N33: - | O33: - | P33: - | Q33: - | R33: =SUM(B33:Q33) -> 6
A34: Klipriver | B34: =' Education 1'!D158 -> 529 | C34: - | D34: - | E34: - | F34: - | G34: - | H34: ='Health 7'!D125 -> 71 | I34: - | J34: - | K34: - | L34: - | M34: ='Transport 12 '!D105 -> 197 | N34: ='Social Development 13 '!D82 -> 73 | O34: ='Public Works 14'!D39 -> 141 | P34: - | Q34: - | R34: =SUM(B34:Q34) -> 1011
A35: Knysna | B35: =' Education 1'!D159 -> 24 | C35: - | D35: - | E35: - | F35: - | G35: - | H35: - | I35: - | J35: - | K35: - | L35: - | M35: - | N35: - | O35: - | P35: - | Q35: - | R35: =SUM(B35:Q35) -> 24
A36: Koffiefontein | B36: =' Education 1'!D160 -> 20 | C36: - | D36: - | E36: - | F36: - | G36: - | H36: - | I36: - | J36: - | K36: - | L36: - | M36: - | N36: - | O36: - | P36: - | Q36: - | R36: =SUM(B36:Q36) -> 20
A37: Kranskop | B37: =' Education 1'!D161 -> 833 | C37: - | D37: - | E37: - | F37: - | G37: - | H37: ='Health 7'!D126 -> 635 | I37: - | J37: - | K37: - | L37: - | M37: ='Transport 12 '!D106 -> 8 | N37: ='Social Development 13 '!D83 -> 19 | O37: - | P37: - | Q37: - | R37: =SUM(B37:Q37) -> 1495
A38: Kuils River | B38: =' Education 1'!D162 -> 6 | C38: - | D38: - | E38: - | F38: - | G38: - | H38: ='Health 7'!D127 -> 11 | I38: - | J38: - | K38: - | L38: - | M38: - | N38: - | O38: - | P38: - | Q38: - | R38: =SUM(B38:Q38) -> 17
A39: Ladismith | B39: =' Education 1'!D163 -> 3242 | C39: - | D39: - | E39: ='Agriculture 4'!D45 -> 167 | F39: - | G39: - | H39: ='Health 7'!D128 -> 1347 | I39: - | J39: - | K39: - | L39: - | M39: ='Transport 12 '!D107 -> 40 | N39: ='Social Development 13 '!D84 -> 52 | O39: - | P39: - | Q39: ='Sport and Recreation 16'!D23 -> 13 | R39: =SUM(B39:Q39) -> 4861
A40: Lady Grey | B40: =' Education 1'!D164 -> 40 | C40: - | D40: - | E40: - | F40: - | G40: - | H40: - | I40: - | J40: - | K40: - | L40: - | M40: - | N40: - | O40: - | P40: - | Q40: - | R40: =SUM(B40:Q40) -> 40
A41: Ladybrand | B41: =' Education 1'!D165 -> 27 | C41: - | D41: - | E41: - | F41: - | G41: - | H41: - | I41: - | J41: - | K41: - | L41: - | M41: - | N41: - | O41: - | P41: - | Q41: - | R41: =SUM(B41:Q41) -> 27
A42: Lions River | B42: =' Education 1'!D166 -> 262 | C42: - | D42: - | E42: - | F42: - | G42: - | H42: ='Health 7'!D129 -> 398 | I42: - | J42: - | K42: - | L42: - | M42: ='Transport 12 '!D108 -> 43 | N42: - | O42: - | P42: - | Q42: - | R42: =SUM(B42:Q42) -> 703
A43: Lower Tugela | B43: =' Education 1'!D167 -> 1290 | C43: - | D43: - | E43: - | F43: - | G43: - | H43: ='Health 7'!D130 -> 1104 | I43: - | J43: - | K43: - | L43: - | M43: ='Transport 12 '!D109 -> 177 | N43: ='Social Development 13 '!D85 -> 40 | O43: - | P43: - | Q43: - | R43: =SUM(B43:Q43) -> 2611
A44: Lower Umfolozi | B44: =' Education 1'!D168 -> 5759 | C44: - | D44: - | E44: ='Agriculture 4'!D46 -> 36 | F44: - | G44: - | H44: ='Health 7'!D131 -> 711 | I44: - | J44: - | K44: - | L44: - | M44: ='Transport 12 '!D110 -> 151 | N44: - | O44: ='Public Works 14'!D40 -> 4 | P44: - | Q44: - | R44: =SUM(B44:Q44) -> 6661
A45: Maphumulo | B45: =' Education 1'!D169 -> 2298 | C45: - | D45: - | E45: - | F45: - | G45: - | H45: ='Health 7'!D132 -> 329 | I45: - | J45: - | K45: - | L45: - | M45: ='Transport 12 '!D111 -> 37 | N45: ='Social Development 13 '!D86 -> 9 | O45: - | P45: - | Q45: - | R45: =SUM(B45:Q45) -> 2673
A46: Matatiela | M46: ='Transport 12 '!D112 -> 6 | N46: ='Social Development 13 '!D87 -> 11 | O46: - | P46: - | Q46: - | R46: =SUM(B46:Q46) -> 17
A47: Mathanjana (1) | B47: - | C47: - | D47: - | E47: - | F47: - | G47: - | H47: ='Health 7'!D133 -> 42 | I47: - | J47: - | K47: - | L47: - | M47: - | N47: - | O47: - | P47: - | Q47: - | R47: =SUM(B47:Q47) -> 42
A48: Mhlabathini | B48: =' Education 1'!D170 -> 3162 | C48: - | D48: - | E48: - | F48: - | G48: - | H48: ='Health 7'!D134 -> 1903 | I48: ='Human Settlement 8'!D24 -> 96 | J48: - | K48: - | L48: ='Coorperative Gov 11'!D19 -> 3530 | M48: ='Transport 12 '!D113 -> 153 | N48: ='Social Development 13 '!D88 -> 270 | O48: ='Public Works 14'!D41 -> 307 | P48: - | Q48: ='Sport and Recreation 16'!D24 -> 10 | R48: =SUM(B48:Q48) -> 9431
A49: Mooiriver | B49: =' Education 1'!D171 -> 291 | C49: - | D49: - | E49: - | F49: - | G49: - | H49: ='Health 7'!D135 -> 7 | I49: - | J49: - | K49: - | L49: - | M49: - | N49: ='Social Development 13 '!D89 -> 13 | O49: - | P49: - | Q49: - | R49: =SUM(B49:Q49) -> 311
A50: Mount Currie | B50: =' Education 1'!D172 -> 623 | C50: - | D50: - | E50: - | F50: - | G50: - | H50: ='Health 7'!D136 -> 2087 | I50: - | J50: - | K50: - | L50: - | M50: ='Transport 12 '!D115 -> 59 | N50: ='Social Development 13 '!D90 -> 11 | O50: - | P50: - | Q50: - | R50: =SUM(B50:Q50) -> 2780
A51: Msinga | B51: =' Education 1'!D173 -> 2510 | C51: - | D51: - | E51: - | F51: - | G51: - | H51: ='Health 7'!D137 -> 788 | I51: - | J51: - | K51: - | L51: - | M51: ='Transport 12 '!D114 -> 13 | N51: ='Social Development 13 '!D91 -> 26 | O51: - | P51: - | Q51: - | R51: =SUM(B51:Q51) -> 3337
A52: Mtonjaneni | B52: =' Education 1'!D174 -> 185 | C52: - | D52: - | E52: - | F52: - | G52: - | H52: - | I52: - | J52: - | K52: - | L52: - | M52: ='Transport 12 '!D116 -> 5 | N52: ='Social Development 13 '!D92 -> 23 | O52: - | P52: - | Q52: - | R52: =SUM(B52:Q52) -> 213
A53: Mtunzini | B53: =' Education 1'!D175 -> 1338 | C53: - | D53: - | E53: - | F53: - | G53: - | H53: ='Health 7'!D138 -> 1 | I53: - | J53: - | K53: - | L53: - | M53: ='Transport 12 '!D118 -> 29 | N53: ='Social Development 13 '!D93 -> 146 | O53: ='Public Works 14'!D42 -> 81 | P53: - | Q53: - | R53: =SUM(B53:Q53) -> 1595
A54: Ndewdwe | B54: =' Education 1'!D176 -> 1918 | C54: - | D54: - | E54: - | F54: - | G54: - | H54: ='Health 7'!D139 -> 684 | I54: - | J54: - | K54: - | L54: - | M54: ='Transport 12 '!D117 -> 15 | N54: ='Social Development 13 '!D94 -> 29 | O54: - | P54: - | Q54: - | R54: =SUM(B54:Q54) -> 2646
A55: Nebo | B55: =' Education 1'!D177 -> 20 | C55: - | D55: - | E55: - | F55: - | G55: - | H55: - | I55: - | J55: - | K55: - | L55: - | M55: - | N55: - | O55: - | P55: - | Q55: - | R55: =SUM(B55:Q55) -> 20
A56: New Hanover | B56: =' Education 1'!D178 -> 1158 | C56: - | D56: - | E56: - | F56: - | G56: - | H56: - | I56: - | J56: - | K56: - | L56: - | M56: ='Transport 12 '!D119 -> 13 | N56: ='Social Development 13 '!D95 -> 17 | O56: - | P56: - | Q56: - | R56: =SUM(B56:Q56) -> 1188
A57: Newcastle | B57: =' Education 1'!D179 -> 3907 | C57: - | D57: - | E57: ='Agriculture 4'!D47 -> 11 | F57: - | G57: - | H57: ='Health 7'!D140 -> 2950 | I57: - | J57: - | K57: - | L57: - | M57: ='Transport 12 '!D120 -> 181 | N57: ='Social Development 13 '!D96 -> 288 | O57: ='Public Works 14'!D43 -> 44 | P57: - | Q57: - | R57: =SUM(B57:Q57) -> 7381
A58: Ngotshe | B58: =' Education 1'!D180 -> 322 | C58: - | D58: - | E58: - | F58: - | G58: - | H58: - | I58: - | J58: - | K58: - | L58: - | M58: ='Transport 12 '!D121 -> 6 | N58: ='Social Development 13 '!D97 -> 21 | O58: - | P58: - | Q58: - | R58: =SUM(B58:Q58) -> 349
A59: Nkandla | B59: =' Education 1'!D181 -> 1746 | C59: - | D59: - | E59: - | F59: - | G59: - | H59: ='Health 7'!D141 -> 914 | I59: - | J59: - | K59: - | L59: - | M59: ='Transport 12 '!D122 -> 31 | N59: ='Social Development 13 '!D98 -> 47 | O59: - | P59: - | Q59: - | R59: =SUM(B59:Q59) -> 2738
A60: Nongoma | B60: =' Education 1'!D182 -> 3138 | C60: - | D60: - | E60: - | F60: - | G60: - | H60: ='Health 7'!D142 -> 1143 | I60: ='Human Settlement 8'!D25 -> 5 | J60: - | K60: ='Royal Household 10 '!D18 -> 145 | L60: - | M60: ='Transport 12 '!D123 -> 114 | N60: - | O60: ='Public Works 14'!D44 -> 185 | P60: - | Q60: - | R60: =SUM(B60:Q60) -> 4730
A61: Nquthu | B61: =' Education 1'!D183 -> 2568 | C61: - | D61: - | E61: - | F61: - | G61: - | H61: ='Health 7'!D143 -> 978 | I61: - | J61: - | K61: - | L61: - | M61: ='Transport 12 '!D124 -> 22 | N61: ='Social Development 13 '!D99 -> 70 | O61: - | P61: - | Q61: - | R61: =SUM(B61:Q61) -> 3638
A62: Oudtshoorn | B62: - | C62: - | D62: - | E62: - | F62: - | G62: - | H62: ='Health 7'!D144 -> 2 | I62: - | J62: - | K62: - | L62: - | M62: - | N62: - | O62: - | P62: - | Q62: - | R62: =SUM(B62:Q62) -> 2
A63: Paarl | B63: =' Education 1'!D184 -> 16 | C63: - | D63: - | E63: - | F63: - | G63: - | H63: - | I63: - | J63: - | K63: - | L63: - | M63: - | N63: - | O63: - | P63: - | Q63: - | R63: =SUM(B63:Q63) -> 16
A64: Paulpiersburg | B64: =' Education 1'!D185 -> 855 | C64: - | D64: - | E64: ='Agriculture 4'!D48 -> 2513 | F64: - | G64: - | H64: ='Health 7'!D145 -> 60 | I64: - | J64: - | K64: - | L64: - | M64: ='Transport 12 '!D125 -> 12 | N64: ='Social Development 13 '!D100 -> 24 | O64: - | P64: - | Q64: - | R64: =SUM(B64:Q64) -> 3464
A65: Peit Retief | B65: =' Education 1'!D186 -> 283 | C65: - | D65: - | E65: - | F65: - | G65: - | H65: ='Health 7'!D146 -> 326 | I65: - | J65: - | K65: - | L65: - | M65: - | N65: - | O65: - | P65: - | Q65: - | R65: =SUM(B65:Q65) -> 609
A66: Peitermaritzburg | B66: =' Education 1'!D187 -> 11098 | C66: ='Office ot the premier2'!D15 -> 355 | D66: ='Legislature 3'!D9 -> 219 | E66: - | F66: ='Economic Development 5'!D18 -> 341 | G66: ='Provincial Treasury6'!D15 -> 391 | H66: ='Health 7'!D147 -> 17607 | I66: ='Human Settlement 8'!D26 -> 155 | J66: ='Community and Safety 9'!D15 -> 107 | K66: - | L66: ='Coorperative Gov 11'!D20 -> 1171 | M66: ='Transport 12 '!D126 -> 1596 | N66: ='Social Development 13 '!D101 -> 753 | O66: ='Public Works 14'!D45 -> 488 | P66: ='Art and Cultur e 15'!D16 -> 447 | Q66: ='Sport and Recreation 16'!D25 -> 55 | R66: =SUM(B66:Q66) -> 34783
A67: Peitersburg | J67: - | K67: - | L67: ='Coorperative Gov 11'!D21 -> 15 | M67: - | N67: - | O67: - | P67: - | Q67: - | R67: =SUM(B67:Q67) -> 15
A68: Pinetown | B68: =' Education 1'!D188 -> 1626 | C68: - | D68: - | E68: - | F68: - | G68: - | H68: ='Health 7'!D148 -> 514 | I68: ='Human Settlement 8'!D27 -> 44 | J68: - | K68: - | L68: - | M68: ='Transport 12 '!D127 -> 196 | N68: ='Social Development 13 '!D102 -> 136 | O68: - | P68: - | Q68: - | R68: =SUM(B68:Q68) -> 2516
A69: Polela | B69: =' Education 1'!D189 -> 1759 | C69: - | D69: - | E69: - | F69: - | G69: - | H69: ='Health 7'!D149 -> 38 | I69: - | J69: - | K69: - | L69: - | M69: - | N69: - | O69: - | P69: - | Q69: - | R69: =SUM(B69:Q69) -> 1797
A70: Pongola | B70: =' Education 1'!D190 -> 983 | C70: - | D70: - | E70: ='Agriculture 4'!D49 -> 1 | F70: - | G70: - | H70: ='Health 7'!D150 -> 147 | I70: - | J70: - | K70: - | L70: - | M70: - | N70: - | O70: - | P70: - | Q70: - | R70: =SUM(B70:Q70) -> 1131
A71: Port Elizabeth | B71: - | C71: - | D71: - | E71: - | F71: - | G71: - | H71: ='Health 7'!D151 -> 3 | I71: - | J71: - | K71: - | L71: - | M71: - | N71: - | O71: - | P71: - | Q71: - | R71: =SUM(B71:Q71) -> 3
A72: Port Shepstone | B72: =' Education 1'!D191 -> 4334 | C72: - | D72: - | E72: ='Agriculture 4'!D50 -> 94 | F72: - | G72: - | H72: ='Health 7'!D152 -> 2537 | I72: - | J72: - | K72: - | L72: - | M72: ='Transport 12 '!D128 -> 258 | N72: ='Social Development 13 '!D103 -> 95 | O72: ='Public Works 14'!D46 -> 75 | P72: - | Q72: ='Sport and Recreation 16'!D26 -> 7 | R72: =SUM(B72:Q72) -> 7400
A73: Richmond | B73: =' Education 1'!D192 -> 335 | C73: - | D73: - | E73: ='Agriculture 4'!D51 -> 44 | F73: - | G73: - | H73: ='Health 7'!D153 -> 28 | I73: - | J73: - | K73: - | L73: - | M73: ='Transport 12 '!D129 -> 2 | N73: ='Social Development 13 '!D104 -> 16 | O73: - | P73: - | Q73: - | R73: =SUM(B73:Q73) -> 425
A74: Riversdale | B74: - | C74: - | D74: - | E74: - | F74: - | G74: - | H74: - | I74: - | J74: - | K74: - | L74: - | M74: ='Transport 12 '!D130 -> 2 | N74: - | O74: - | P74: - | Q74: - | R74: =SUM(B74:Q74) -> 2
A75: Simdlangetsha | B75: - | C75: - | D75: - | E75: - | F75: - | G75: - | H75: - | I75: - | J75: - | K75: - | L75: - | M75: ='Transport 12 '!D131 -> 27 | N75: - | O75: - | P75: - | Q75: - | R75: =SUM(B75:Q75) -> 27
A76: Standerton | B76: - | C76: - | D76: - | E76: ='Agriculture 4'!D52 -> 5 | F76: - | G76: - | H76: - | I76: - | J76: - | K76: - | L76: - | M76: - | N76: - | O76: - | P76: - | Q76: - | R76: =SUM(B76:Q76) -> 5
A77: Soutpansberg | B77: =' Education 1'!D193 -> 102 | C77: - | D77: - | E77: - | F77: - | G77: - | H77: - | I77: - | J77: - | K77: - | L77: - | M77: - | N77: - | O77: - | P77: - | Q77: - | R77: =SUM(B77:Q77) -> 102
A78: Steyilerville | B78: =' Education 1'!D194 -> 14 | C78: - | D78: - | E78: - | F78: - | G78: - | H78: - | I78: - | J78: - | K78: - | L78: - | M78: - | N78: - | O78: - | P78: - | Q78: - | R78: =SUM(B78:Q78) -> 14
A79: Ubombo | B79: =' Education 1'!D195 -> 4708 | C79: - | D79: - | E79: - | F79: - | G79: - | H79: ='Health 7'!D154 -> 1498 | I79: - | J79: - | K79: - | L79: - | M79: ='Transport 12 '!D132 -> 79 | N79: ='Social Development 13 '!D105 -> 29 | O79: ='Public Works 14'!D47 -> 54 | P79: - | Q79: - | R79: =SUM(B79:Q79) -> 6368
A80: Umbumbulu | B80: =' Education 1'!D196 -> 2566 | C80: - | D80: - | E80: - | F80: - | G80: - | H80: - | I80: - | J80: - | K80: - | L80: - | M80: - | N80: ='Social Development 13 '!D106 -> 44 | O80: - | P80: - | Q80: - | R80: =SUM(B80:Q80) -> 2610
A81: Umlazi | B81: =' Education 1'!D197 -> 3774 | C81: - | D81: - | E81: - | F81: - | G81: - | H81: ='Health 7'!D155 -> 78 | I81: ='Human Settlement 8'!D28 -> 20 | J81: - | K81: - | L81: - | M81: - | N81: ='Social Development 13 '!D107 -> 81 | O81: - | P81: - | Q81: - | R81: =SUM(B81:Q81) -> 3953
A82: Umvoti | B82: =' Education 1'!D198 -> 508 | C82: - | D82: - | E82: - | F82: - | G82: - | H82: ='Health 7'!D156 -> 499 | I82: - | J82: - | K82: - | L82: - | M82: ='Transport 12 '!D133 -> 84 | N82: ='Social Development 13 '!D108 -> 21 | O82: - | P82: - | Q82: - | R82: =SUM(B82:Q82) -> 1112
A83: Umzikulu | B83: =' Education 1'!D199 -> 2220 | C83: - | D83: - | E83: - | F83: - | G83: - | H83: ='Health 7'!D157 -> 807 | I83: - | J83: - | K83: - | L83: - | M83: ='Transport 12 '!D134 -> 60 | N83: ='Social Development 13 '!D109 -> 25 | O83: - | P83: - | Q83: - | R83: =SUM(B83:Q83) -> 3112
A84: Umzinto | B84: =' Education 1'!D200 -> 2751 | C84: - | D84: - | E84: ='Agriculture 4'!D53 -> 67 | F84: - | G84: - | H84: ='Health 7'!D158 -> 751 | I84: - | J84: - | K84: - | L84: - | M84: ='Transport 12 '!D135 -> 59 | N84: ='Social Development 13 '!D110 -> 20 | O84: - | P84: - | Q84: - | R84: =SUM(B84:Q84) -> 3648
A85: Underburg | B85: =' Education 1'!D201 -> 81 | C85: - | D85: - | E85: - | F85: - | G85: - | H85: ='Health 7'!D159 -> 26 | I85: - | J85: - | K85: - | L85: - | M85: ='Transport 12 '!D136 -> 35 | N85: ='Social Development 13 '!D111 -> 14 | O85: - | P85: - | Q85: - | R85: =SUM(B85:Q85) -> 156
A86: Uterecht | B86: =' Education 1'!D202 -> 281 | C86: - | D86: - | E86: - | F86: - | G86: - | H86: ='Health 7'!D160 -> 174 | I86: - | J86: - | K86: - | L86: - | M86: ='Transport 12 '!D137 -> 24 | N86: ='Social Development 13 '!D112 -> 20 | O86: - | P86: - | Q86: - | R86: =SUM(B86:Q86) -> 499
A87: Volkrust | B87: =' Education 1'!D203 -> 30 | C87: - | D87: - | E87: - | F87: - | G87: - | H87: - | I87: - | J87: - | K87: - | L87: - | M87: - | N87: - | O87: - | P87: - | Q87: - | R87: =SUM(B87:Q87) -> 30
A88: Vredefort | B88: =' Education 1'!D204 -> 10 | C88: - | D88: - | E88: - | F88: - | G88: - | H88: ='Health 7'!D161 -> 6 | I88: - | J88: - | K88: - | L88: - | M88: - | N88: - | O88: - | P88: - | Q88: - | R88: =SUM(B88:Q88) -> 16
A89: Vryburg | B89: =' Education 1'!D205 -> 24 | C89: - | D89: - | E89: - | F89: - | G89: - | I89: - | J89: - | K89: - | L89: - | M89: - | N89: - | O89: - | P89: - | Q89: - | R89: =SUM(B89:Q89) -> 24
A90: Vryheid | B90: =' Education 1'!D206 -> 2774 | C90: - | D90: - | E90: - | F90: - | G90: - | H90: ='Health 7'!D162 -> 686 | I90: - | J90: - | K90: - | L90: - | M90: ='Transport 12 '!D138 -> 168 | N90: ='Social Development 13 '!D113 -> 49 | O90: ='Public Works 14'!D48 -> 39 | P90: - | Q90: - | R90: =SUM(B90:Q90) -> 3716
A91: Wakkerstroom | B91: =' Education 1'!D207 -> 59 | C91: - | D91: - | E91: - | F91: - | G91: - | H91: - | I91: - | J91: - | K91: - | L91: - | M91: - | N91: - | O91: - | P91: - | Q91: - | R91: =SUM(B91:Q91) -> 59
A92: Weenen | B92: =' Education 1'!D208 -> 273 | C92: - | D92: - | E92: - | F92: - | G92: - | H92: - | I92: - | J92: - | K92: - | L92: - | M92: ='Transport 12 '!D139 -> 6 | N92: ='Social Development 13 '!D114 -> 16 | O92: - | P92: - | Q92: - | R92: =SUM(B92:Q92) -> 295
A93: Welkom | B93: - | C93: - | D93: - | E93: - | F93: - | G93: - | H93: ='Health 7'!D163 -> 1 | I93: - | J93: - | K93: - | L93: - | M93: - | N93: - | O93: - | P93: - | Q93: - | R93: =SUM(B93:Q93) -> 1
A94: Willowmore | B94: =' Education 1'!D209 -> 23 | C94: - | D94: - | E94: - | F94: - | G94: - | H94: - | I94: - | J94: - | K94: - | L94: - | M94: - | N94: - | O94: - | P94: - | Q94: - | R94: =SUM(B94:Q94) -> 23
A95: Winburg | B95: =' Education 1'!D210 -> 23 | C95: - | D95: - | E95: - | F95: - | G95: - | H95: - | I95: - | J95: - | K95: - | L95: - | M95: - | N95: - | O95: - | P95: - | Q95: - | R95: =SUM(B95:Q95) -> 23
A96: Wolmarsnsstad | B96: =' Education 1'!D211 -> 25 | C96: - | D96: - | E96: - | F96: - | G96: - | H96: - | I96: - | J96: - | K96: - | L96: - | M96: - | N96: - | O96: - | P96: - | Q96: - | R96: =SUM(B96:Q96) -> 25
A97: Wonderboom | B97: =' Education 1'!D212 -> 5 | C97: - | D97: - | E97: - | F97: - | G97: - | H97: - | I97: - | J97: - | K97: - | L97: - | M97: - | N97: - | O97: - | P97: - | Q97: - | R97: =SUM(B97:Q97) -> 5
A98: TOTALS | B98: =SUM(B3:B97) -> 111288 | C98: =SUM(C3:C97) -> 355 | D98: =SUM(D3:D97) -> 219 | E98: =SUM(E3:E97) -> 3368 | F98: =SUM(F3:F97) -> 373 | G98: =SUM(G3:G97) -> 391 | H98: =SUM(H3:H97) -> 69582 | I98: =SUM(I3:I97) -> 811 | ... Q98: =SUM(Q3:Q97) -> 170 | R98: =SUM(B98:Q98) -> 203113
A100: 2009/2010 MAIN TOWN OR CITY TOTALS
A101: MAIN TOWN OR CITY | B101: EDUCATION | C101: OFFICE OF THE PREMIER | D101: LEGISLATURE | E101: AGRICULTURE, ENVIRONMENTAL AFFAIRS AND RURAL DEVELOPMENT | F101: ECONOMIC DEVELOPMENT AND TOURISM | G101: PROVINCIAL TREASURY | H101: HEALTH | I101: HUMAN SETTLEMENT | J101: COMMUNITY AND SAFETY AND LIASON | K101: ROYAL HOUSEHOLD | L101: COOPERATIVE GOVERNANCE AND TRADITIONAL AFFAIRS | M101: TRANSPORT | N101: SOCIAL DEVELOPMENT | O101: PUBLIC WORKS | P101: ART AND CULTURE | Q101: SPORT AND RECREATION | R101: TOTALS
...

Sheet Cities1
A1: =Cities!A2 -> MAIN TOWN OR CITY | B1: As a % of Total 2010/2011 | C1: As a % of Total 2009/2010 | D1: Yearly Change
A2: =Cities!A3 -> Alfred | B2: =Cities!R3/Cities!R$98*100 -> 0.29392506 | C2: =Cities!R102/Cities!R$197*100 -> 0.087906433 | D2: =B2-C2 -> 0.20601862
A3: =Cities!A4 -> Babanango | B3: =Cities!R4/Cities!R$98*100 -> 0.068927149 | C3: 0 | D3: =B3-C3 -> 0.068927149
A4: =Cities!A5 -> Beaufort West | B4: =Cities!R5/Cities!R$98*100 -> 0.00098467356 | C4: 0 | D4: =B4-C4 -> 0.00098467356
A5: =Cities!A6 -> Bedford | B5: =Cities!R6/Cities!R$98*100 -> 0.034463574 | C5: 0 | D5: =B5-C5 -> 0.034463574
A6: =Cities!A7 -> Bergville | B6: =Cities!R7/Cities!R$98*100 -> 0.18511863 | C6: =Cities!R106/Cities!R$197*100 -> 0.16938069 | D6: =B6-C6 -> 0.01573794
A7: =Cities!A8 -> Bloemfontein | B7: =Cities!R8/Cities!R$98*100 -> 0.0073850517 | C7: 0 | D7: =B7-C7 -> 0.0073850517
A8: =Cities!A9 -> Camperdown | B8: =Cities!R9/Cities!R$98*100 -> 0.19151901 | C8: =Cities!R108/Cities!R$197*100 -> 0.19778947 | D8: =B8-C8 -> -0.0062704682
A9: =Cities!A10 -> Chatsworth | B9: =Cities!R10/Cities!R$98*100 -> 0.75376761 | C9: 0 | D9: =B9-C9 -> 0.75376761
A10: =Cities!A11 -> Cullinan | B10: =Cities!R11/Cities!R$98*100 -> 0.0054157046 | C10: 0 | D10: =B10-C10 -> 0.0054157046
A11: =Cities!A12 -> Dannhauser | B11: =Cities!R12/Cities!R$98*100 -> 0.36876025 | C11: =Cities!R111/Cities!R$197*100 -> 0.38164256 | D11: =B11-C11 -> -0.012882317
A12: =Cities!A13 -> Dundee | B12: =Cities!R13/Cities!R$98*100 -> 0.78281548 | C12: =Cities!R112/Cities!R$197*100 -> 1.1942411 | D12: =B12-C12 -> -0.41142558
A13: =Cities!A14 -> Durban | B13: =Cities!R14/Cities!R$98*100 -> 15.913802 | C13: =Cities!R113/Cities!R$197*100 -> 26.141444 | D13: =B13-C13 -> -10.227642
A14: =Cities!A15 -> Dzanani | B14: =Cities!R15/Cities!R$98*100 -> 0.22745959 | C14: 0 | D14: =B14-C14 -> 0.22745959
A15: =Cities!A16 -> Ekuvukeni | B15: =Cities!R16/Cities!R$98*100 -> 0.0083697252 | C15: 0 | D15: =B15-C15 -> 0.0083697252
A16: =Cities!A17 -> Emnambithi | B16: =Cities!R17/Cities!R$98*100 -> 0.045294984 | C16: 0 | D16: =B16-C16 -> 0.045294984
A17: =Cities!A18 -> Eshowe | B17: =Cities!R18/Cities!R$98*100 -> 2.4769463 | C17: =Cities!R117/Cities!R$197*100 -> 2.6146804 | D17: =B17-C17 -> -0.13773404
A18: =Cities!A19 -> Escourt | B18: =Cities!R19/Cities!R$98*100 -> 2.2465327 | C18: =Cities!R118/Cities!R$197*100 -> 2.6178965 | D18: =B18-C18 -> -0.37136375
A19: =Cities!A20 -> Frankfort | B19: =Cities!R20/Cities!R$98*100 -> 0.0064003781 | C19: 0 | D19: =B19-C19 -> 0.0064003781
A20: =Cities!A21 -> Fraserburg | B20: =Cities!R21/Cities!R$98*100 -> 0.076312201 | C20: 0 | D20: =B20-C20 -> 0.076312201
A21: =Cities!A22 -> Germiston | B21: =Cities!R22/Cities!R$98*100 -> 0.00098467356 | C21: 0 | D21: =B21-C21 -> 0.00098467356
A22: =Cities!A23 -> Glencoe | B22: =Cities!R23/Cities!R$98*100 -> 0.2235209 | C22: =Cities!R122/Cities!R$197*100 -> 0.22566225 | D22: =B22-C22 -> -0.0021413491
A23: =Cities!A24 -> Hlabisa | B23: =Cities!R24/Cities!R$98*100 -> 1.9944563 | C23: =Cities!R123/Cities!R$197*100 -> 2.059905 | D23: =B23-C23 -> -0.06544873
A24: =Cities!A25 -> Hlanganani | B24: =Cities!R25/Cities!R$98*100 -> 0.088128283 | C24: =Cities!R124/Cities!R$197*100 -> 0.088978463 | D24: =B24-C24 -> -0.00085017965
A25: =Cities!A26 -> Humansdrop | B25: =Cities!R26/Cities!R$98*100 -> 0.00049233678 | C25: 0 | D25: =B25-C25 -> 0.00049233678
A26: =Cities!A27 -> Impendle | B26: =Cities!R27/Cities!R$98*100 -> 0.080743232 | C26: =Cities!R126/Cities!R$197*100 -> 0.070217944 | D26: =B26-C26 -> 0.010525288
A27: =Cities!A28 -> Inanda | B27: =Cities!R28/Cities!R$98*100 -> 2.7984422 | C27: =Cities!R127/Cities!R$197*100 -> 0.35912994 | D27: =B27-C27 -> 2.4393123
A28: =Cities!A29 -> Indwe | B28: =Cities!R29/Cities!R$98*100 -> 0.0024616839 | C28: 0 | D28: =B28-C28 -> 0.0024616839
A29: =Cities!A30 -> Ingwavuma | B29: =Cities!R30/Cities!R$98*100 -> 1.2534894 | C29: =Cities!R129/Cities!R$197*100 -> 0.74559664 | D29: =B29-C29 -> 0.5078928
A30: =Cities!A31 -> Ixopo | B30: =Cities!R31/Cities!R$98*100 -> 1.6463742 | C30: =Cities!R130/Cities!R$197*100 -> 1.7945777 | D30: =B30-C30 -> -0.14820349
A31: =Cities!A32 -> Jagersfontein | B31: =Cities!R32/Cities!R$98*100 -> 0.0029540207 | C31: 0 | D31: =B31-C31 -> 0.0029540207
A32: =Cities!A33 -> Jansenville | B32: =Cities!R33/Cities!R$98*100 -> 0.0029540207 | C32: 0 | D32: =B32-C32 -> 0.0029540207
A33: =Cities!A34 -> Klipriver | B33: =Cities!R34/Cities!R$98*100 -> 0.49775248 | C33: =Cities!R133/Cities!R$197*100 -> 0.37789046 | D33: =B33-C33 -> 0.11986202
A34: =Cities!A35 -> Knysna | B34: =Cities!R35/Cities!R$98*100 -> 0.011816083 | C34: 0 | D34: =B34-C34 -> 0.011816083
A35: =Cities!A36 -> Koffiefontein | B35: =Cities!R36/Cities!R$98*100 -> 0.0098467356 | C35: 0 | D35: =B35-C35 -> 0.0098467356
A36: =Cities!A37 -> Kranskop | B36: =Cities!R37/Cities!R$98*100 -> 0.73604348 | C36: =Cities!R136/Cities!R$197*100 -> 1.046837 | D36: =B36-C36 -> -0.31079349
A37: =Cities!A38 -> Kuils River | B37: =Cities!R38/Cities!R$98*100 -> 0.0083697252 | C37: 0 | D37: =B37-C37 -> 0.0083697252
A38: =Cities!A39 -> Ladismith | B38: =Cities!R39/Cities!R$98*100 -> 2.3932491 | C38: =Cities!R138/Cities!R$197*100 -> 3.3088196 | D38: =B38-C38 -> -0.91557051
A39: =Cities!A40 -> Lady Grey | B39: =Cities!R40/Cities!R$98*100 -> 0.019693471 | C39: 0 | D39: =B39-C39 -> 0.019693471
A40: =Cities!A41 -> Ladybrand | B40: =Cities!R41/Cities!R$98*100 -> 0.013293093 | C40: 0 | D40: =B40-C40 -> 0.013293093
A41: =Cities!A42 -> Lions River | B41: =Cities!R42/Cities!R$98*100 -> 0.34611275 | C41: =Cities!R141/Cities!R$197*100 -> 0.35698588 | D41: =B41-C41 -> -0.010873126
A42: =Cities!A43 -> Lower Tugela | B42: =Cities!R43/Cities!R$98*100 -> 1.2854913 | C42: =Cities!R142/Cities!R$197*100 -> 1.2703552 | D42: =B42-C42 -> 0.015136164
A43: =Cities!A44 -> Lower Umfolozi | B43: =Cities!R44/Cities!R$98*100 -> 3.2794553 | C43: =Cities!R143/Cities!R$197*100 -> 3.7419196 | D43: =B43-C43 -> -0.4624643
A44: =Cities!A45 -> Maphumulo | B44: =Cities!R45/Cities!R$98*100 -> 1.3160162 | C44: =Cities!R144/Cities!R$197*100 -> 0.18278106 | D44: =B44-C44 -> 1.1332351
A45: =Cities!A46 -> Matatiela | B45: =Cities!R46/Cities!R$98*100 -> 0.0083697252 | C45: 0 | D45: =B45-C45 -> 0.0083697252
A46: =Cities!A47 -> Mathanjana (1) | B46: =Cities!R47/Cities!R$98*100 -> 0.020678145 | C46: =Cities!R146/Cities!R$197*100 -> 0.022512623 | D46: =B46-C46 -> -0.0018344785
A47: =Cities!A48 -> Mhlabathini | B47: =Cities!R48/Cities!R$98*100 -> 4.6432282 | C47: =Cities!R147/Cities!R$197*100 -> 1.7254318 | D47: =B47-C47 -> 2.9177964
A48: =Cities!A49 -> Mooiriver | B48: =Cities!R49/Cities!R$98*100 -> 0.15311674 | C48: =Cities!R148/Cities!R$197*100 -> 0.15919641 | D48: =B48-C48 -> -0.0060796686
A49: =Cities!A50 -> Mount Currie | B49: =Cities!R50/Cities!R$98*100 -> 1.3686962 | C49: =Cities!R149/Cities!R$197*100 -> 1.5206741 | D49: =B49-C49 -> -0.15197785
A50: =Cities!A51 -> Msinga | B50: =Cities!R51/Cities!R$98*100 -> 1.6429278 | C50: =Cities!R150/Cities!R$197*100 -> 1.7189996 | D50: =B50-C50 -> -0.076071754
A51: =Cities!A52 -> Mtonjaneni | B51: =Cities!R52/Cities!R$98*100 -> 0.10486773 | C51: =Cities!R151/Cities!R$197*100 -> 0.13936386 | D51: =B51-C51 -> -0.034496124
A52: =Cities!A53 -> Mtunzini | B52: =Cities!R53/Cities!R$98*100 -> 0.78527716 | C52: =Cities!R152/Cities!R$197*100 -> 0.06539381 | D52: =B52-C52 -> 0.71988335
A53: =Cities!A54 -> Ndewdwe | B53: =Cities!R54/Cities!R$98*100 -> 1.3027231 | C53: =Cities!R153/Cities!R$197*100 -> 1.3529014 | D53: =B53-C53 -> -0.050178334
A54: =Cities!A55 -> Nebo | B54: =Cities!R55/Cities!R$98*100 -> 0.0098467356 | C54: 0 | D54: =B54-C54 -> 0.0098467356
A55: =Cities!A56 -> New Hanover | B55: =Cities!R56/Cities!R$98*100 -> 0.58489609 | C55: =Cities!R155/Cities!R$197*100 -> 0.66144231 | D55: =B55-C55 -> -0.076546216
A56: =Cities!A57 -> Newcastle | B56: =Cities!R57/Cities!R$98*100 -> 3.6339378 | C56: =Cities!R156/Cities!R$197*100 -> 3.7462077 | D56: =B56-C56 -> -0.11226994
A57: =Cities!A58 -> Ngotshe | B57: =Cities!R58/Cities!R$98*100 -> 0.17182554 | C57: =Cities!R157/Cities!R$197*100 -> 0.68502696 | D57: =B57-C57 -> -0.51320143
A58: =Cities!A59 -> Nkandla | B58: =Cities!R59/Cities!R$98*100 -> 1.3480181 | C58: =Cities!R158/Cities!R$197*100 -> 1.3587976 | D58: =B58-C58 -> -0.010779513
A59: =Cities!A60 -> Nongoma | B59: =Cities!R60/Cities!R$98*100 -> 2.328753 | C59: =Cities!R159/Cities!R$197*100 -> 2.4431556 | D59: =B59-C59 -> -0.11440267
A60: =Cities!A61 -> Nquthu | B60: =Cities!R61/Cities!R$98*100 -> 1.7911212 | C60: =Cities!R160/Cities!R$197*100 -> 1.8851642 | D60: =B60-C60 -> -0.094042983
A61: =Cities!A62 -> Oudtshoorn | B61: =Cities!R62/Cities!R$98*100 -> 0.00098467356 | C61: 0 | D61: =B61-C61 -> 0.00098467356
A62: =Cities!A63 -> Paarl | B62: =Cities!R63/Cities!R$98*100 -> 0.0078773884 | C62: 0 | D62: =B62-C62 -> 0.0078773884
A63: =Cities!A64 -> Paulpiersburg | B63: =Cities!R64/Cities!R$98*100 -> 1.7054546 | C63: =Cities!R163/Cities!R$197*100 -> 0.48509343 | D63: =B63-C63 -> 1.2203612
A64: =Cities!A65 -> Peit Retief | B64: =Cities!R65/Cities!R$98*100 -> 0.2998331 | C64: =Cities!R164/Cities!R$197*100 -> 0.19242933 | D64: =B64-C64 -> 0.10740377
A65: =Cities!A66 -> Peitermaritzburg | B65: =Cities!R66/Cities!R$98*100 -> 17.12495 | C65: =Cities!R165/Cities!R$197*100 -> 19.88615 | D65: =B65-C65 -> -2.7612003
A66: =Cities!A67 -> Peitersburg | B66: =Cities!R67/Cities!R$98*100 -> 0.0073850517 | C66: 0 | D66: =B66-C66 -> 0.0073850517
A67: =Cities!A68 -> Pinetown | B67: =Cities!R68/Cities!R$98*100 -> 1.2387193 | C67: =Cities!R167/Cities!R$197*100 -> 0.25246299 | D67: =B67-C67 -> 0.98625635
A68: =Cities!A69 -> Polela | B68: =Cities!R69/Cities!R$98*100 -> 0.88472919 | C68: =Cities!R168/Cities!R$197*100 -> 0.95625047 | D68: =B68-C68 -> -0.071521279
A69: =Cities!A70 -> Pongola | B69: =Cities!R70/Cities!R$98*100 -> 0.5568329 | C69: =Cities!R169/Cities!R$197*100 -> 0.078794181 | D69: =B69-C69 -> 0.47803871
A70: =Cities!A71 -> Port Elizabeth | B70: =Cities!R71/Cities!R$98*100 -> 0.0014770103 | C70: 0 | D70: =B70-C70 -> 0.0014770103
A71: =Cities!A72 -> Port Shepstone | B71: =Cities!R72/Cities!R$98*100 -> 3.6432922 | C71: =Cities!R171/Cities!R$197*100 -> 3.7655042 | D71: =B71-C71 -> -0.12221207
A72: =Cities!A73 -> Richmond | B72: =Cities!R73/Cities!R$98*100 -> 0.20924313 | C72: =Cities!R172/Cities!R$197*100 -> 0.21601398 | D72: =B72-C72 -> -0.0067708486
A73: =Cities!A74 -> Riversdale | B73: =Cities!R74/Cities!R$98*100 -> 0.00098467356 | C73: =Cities!R173/Cities!R$197*100 -> 0.0016080445 | D73: =B73-C73 -> -0.00062337095
A74: =Cities!A75 -> Simdlangetsha | B74: =Cities!R75/Cities!R$98*100 -> 0.013293093 | C74: 0 | D74: =B74-C74 -> 0.013293093
A75: =Cities!A76 -> Standerton | B75: =Cities!R76/Cities!R$98*100 -> 0.0024616839 | C75: 0 | D75: =B75-C75 -> 0.0024616839
A76: =Cities!A77 -> Soutpansberg | B76: =Cities!R77/Cities!R$98*100 -> 0.050218351 | C76: 0 | D76: =B76-C76 -> 0.050218351
A77: =Cities!A78 -> Steyilerville | B77: =Cities!R78/Cities!R$98*100 -> 0.0068927149 | C77: 0 | D77: =B77-C77 -> 0.0068927149
A78: =Cities!A79 -> Ubombo | B78: =Cities!R79/Cities!R$98*100 -> 3.1352006 | C78: =Cities!R178/Cities!R$197*100 -> 2.9738103 | D78: =B78-C78 -> 0.16139029
A79: =Cities!A80 -> Umbumbulu | B79: =Cities!R80/Cities!R$98*100 -> 1.284999 | C79: 0 | D79: =B79-C79 -> 1.284999
A80: =Cities!A81 -> Umlazi | B80: =Cities!R81/Cities!R$98*100 -> 1.9462073 | C80: =Cities!R180/Cities!R$197*100 -> 0.040737128 | D80: =B80-C80 -> 1.9054702
A81: =Cities!A82 -> Umvoti | B81: =Cities!R82/Cities!R$98*100 -> 0.5474785 | C81: =Cities!R181/Cities!R$197*100 -> 0.26211126 | D81: =B81-C81 -> 0.28536724
A82: =Cities!A83 -> Umzikulu | B82: =Cities!R83/Cities!R$98*100 -> 1.5321521 | C82: =Cities!R182/Cities!R$197*100 -> 1.6680782 | D82: =B82-C82 -> -0.13592612
A83: =Cities!A84 -> Umzinto | B83: =Cities!R84/Cities!R$98*100 -> 1.7960446 | C83: =Cities!R183/Cities!R$197*100 -> 0.41701954 | D83: =B83-C83 -> 1.379025
A84: =Cities!A85 -> Underburg | B84: =Cities!R85/Cities!R$98*100 -> 0.076804537 | C84: =Cities!R184/Cities!R$197*100 -> 0.056817573 | D84: =B84-C84 -> 0.019986965
A85: =Cities!A86 -> Uterecht | B85: =Cities!R86/Cities!R$98*100 -> 0.24567605 | C85: =Cities!R185/Cities!R$197*100 -> 0.24281472 | D85: =B85-C85 -> 0.0028613311
A86: =Cities!A87 -> Volkrust | B86: =Cities!R87/Cities!R$98*100 -> 0.014770103 | C86: 0 | D86: =B86-C86 -> 0.014770103
A87: =Cities!A88 -> Vredefort | B87: =Cities!R88/Cities!R$98*100 -> 0.0078773884 | C87: 0 | D87: =B87-C87 -> 0.0078773884
A88: =Cities!A89 -> Vryburg | B88: =Cities!R89/Cities!R$98*100 -> 0.011816083 | C88: 0 | D88: =B88-C88 -> 0.011816083
A89: =Cities!A90 -> Vryheid | B89: =Cities!R90/Cities!R$98*100 -> 1.8295235 | C89: =Cities!R189/Cities!R$197*100 -> 1.985399 | D89: =B89-C89 -> -0.15587549
A90: =Cities!A91 -> Wakkerstroom | B90: =Cities!R91/Cities!R$98*100 -> 0.02904787 | C90: 0 | D90: =B90-C90 -> 0.02904787
A91: =Cities!A92 -> Weenen | B91: =Cities!R92/Cities!R$98*100 -> 0.14523935 | C91: 0 | D91: =B91-C91 -> 0.14523935
A92: =Cities!A93 -> Welkom | B92: =Cities!R93/Cities!R$98*100 -> 0.00049233678 | C92: 0 | D92: =B92-C92 -> 0.00049233678
A93: =Cities!A94 -> Willowmore | B93: =Cities!R94/Cities!R$98*100 -> 0.011323746 | C93: 0 | D93: =B93-C93 -> 0.011323746
A94: =Cities!A95 -> Winburg | B94: =Cities!R95/Cities!R$98*100 -> 0.011323746 | C94: 0 | D94: =B94-C94 -> 0.011323746
A95: =Cities!A96 -> Wolmarsnsstad | B95: =Cities!R96/Cities!R$98*100 -> 0.012308419 | C95: 0 | D95: =B95-C95 -> 0.012308419
A96: =Cities!A97 -> Wonderboom | B96: =Cities!R97/Cities!R$98*100 -> 0.0024616839 | C96: 0 | D96: =B96-C96 -> 0.0024616839
A98: TOTALS | B98: =SUM(B2:B96) -> 100 | C98: =SUM(C2:C96) -> 100

Sheet  Education 1
A1: MAIN TOWN OR CITY | B1: MUNICIPALITY | C1: NUMBER OF EMPLOYEES | D1: DISTRICT | E1: AS A % OF KZN
A3: 2009/2010
A4: DURBAN | B4: ETHEKWINI MUNICIPALITY METROPOLOTAN | C4: 27571 | D4: ETHEKWINI MUNICIPALITY | E4: =C4/$C$45*100 -> 26.98436
A5: PIETERMARITZBURG | B5: UMSUNDUZI LOCAL MUNICIPALITY | C5: 11097 | D5: UMGUNGUNDLOVU DISTRICT MUNICIPALITY | E5: =C5/$C$45*100 -> 10.860884
A6: LOWER UMFOLOZI | B6: UMHLATHUZE LOCAL MUNICIPALITY | C6: 5880 | D6: UTHUNGULU DISTRICT MUNICIPALITY | E6: =C6/$C$45*100 -> 5.7548887
A7: PORT SHEPSTONE | B7: HIBISCUS COAST LOCAL MUNICIPALITY | C7: 4410 | D7: UGU DISTRICT MUNICIPALITY | E7: =C7/$C$45*100 -> 4.3161665
A8: LADISMITH | B8: EMNAMBITHI LADYSMITH LOCAL MUNICIPALITY | C8: 4192 | D8: UTHUKELA DISTRICT MUNICIPALITY | E8: =C8/$C$45*100 -> 4.102805
A9: UBOMBO | B9: JOZINI LOCAL MUNICIPALITY | C9: 3972 | D9: UMKHANYAKUDE DISTRICT MUNICIPALITY | E9: =C9/$C$45*100 -> 3.8874861
A10: NEWCASTLE | B10: NEWCASTLE LOCAL MUNICIPALITY | C10: 3817 | D10: UTHUNGULU DISTRICT MUNICIPALITY | E10: =C10/$C$45*100 -> 3.7357841
A11: ESTCOURT | B11: UMTSHEZI LOCAL MUNICIPALITY | C11: 3445 | D11: UTHUKELA REGIONAL COUNCIL SOUTH | E11: =C11/$C$45*100 -> 3.3716993
A12: NONGOMA | B12: NONGOMA LOCAL MUNICIPALITY | C12: 3093 | D12: ZULULAND DISTRICT MUNICIPALITY | E12: =C12/$C$45*100 -> 3.0271889
A13: VRYHEID | B13: ABAQULUSI LOCAL MUNICIPALITY | C13: 2803 | D13: ZULULAND DISTRICT MUNICIPALITY | E13: =C13/$C$45*100 -> 2.7433594
A14: HLABISA | B14: THE BIG FIVE FALSE BAY LOCAL MUNICIPALITY | C14: 2798 | D14: UMKHANYAKUDE DISTRICT MUNICIPALITY | E14: =C14/$C$45*100 -> 2.7384658
A15: ESHOWE | B15: UMLALAZI LOCAL MUNICIPALITY | C15: 2633 | D15: UTHUNGULU DISTRICT MUNICIPALITY | E15: =C15/$C$45*100 -> 2.5769765
... A42: UNDERBURG | B42: KWA SANI LOCAL MUNICIPALITY | C42: 77 | D42: SISONKE DISTRICT MUNICIPALITY | E42: =C42/$C$45*100 -> 0.075361638
C45: =SUM(C4:C43) -> 102174
A46: 2010/2011
A47: ALFRED | B47: UMUZIWABANTU LOCAL MUNICIPALITY | C47: 141 | D47: UGU DISTRICT MUNICIPALITY | E47: =C47/$C$128*100 -> 0.1266983
A48: BABANANGO | B48: ULUNDI LOCAL MUNICIPALITY | C48: 115 | D48: ZULULAND DISTRICT MUNICIPALITY | E48: =C48/$C$128*100 -> 0.10333549
A49: BEDFORD | B49: BEDFORD LOCAL MUNICIPALITY | C49: 70 | D49: UMGUNGUNDLOVU DISTRICT MUNICIPALITY | E49: =C49/$C$128*100 -> 0.062899863
A50: BERGVILLE | B50: OKHAHLAMBA LOCAL MUNICIPALITY | C50: 306 | D50: UTHUKELA REGIONAL COUNCIL SOUTH | E50: =C50/$C$128*100 -> 0.27496226
A51: BLOEMFONTEIN | B51: NONGOMA LOCAL MUNICIPALITY | C51: 15 | D51: ZULULAND DISTRICT MUNICIPALITY | E51: =C51/$C$128*100 -> 0.013478542
A52: CAMPERDOWN | B52: UMKHAMBATHINI LOCAL MUNIPALITY | C52: 360 | D52: UMGUNGUNDLOVU DISTRICT MUNICIPALITY | E52: =C52/$C$128*100 -> 0.32348501
A53: CHATSWORTH | B53: ETHEKWINI MUNICIPALITY METROPOLOTAN | C53: 1506 | D53: ETHEKWINI MUNICIPALITY | E53: =C53/$C$128*100 -> 1.3532456
A54: CULLINAN | B54: CULLINAN LOCAL MUNICIPALITY | C54: 11 | D54: UMZINYATHI DISTRICT MUNICIPALITY | E54: =C54/$C$128*100 -> 0.0098842643
A55: DANNHAUSER | B55: DANNHAUSER LOCAL MUNICIPALITY | C55: 717 | D55: UTHUKELA REGIONAL COUNCIL SOUTH | E55: =C55/$C$128*100 -> 0.64427432
A56: DUNDEE | B56: MSINGA LOCAL MUNICIPALITY | C56: 661 | D56: UMZINYATHI DISTRICT MUNICIPALITY | E56: =C56/$C$128*100 -> 0.59395442
A57: DURBAN | B57: ETHEKWINI MUNICIPALITY METROPOLOTAN | C57: 10778 | D57: ETHEKWINI MUNICIPALITY | E57: =C57/$C$128*100 -> 9.6847818
A58: EMNAMBITHI | B58: EMNAMBITHI LADYSMITH LOCAL MUNICIPALITY | C58: 70 | D58: UTHUKELA DISTRICT MUNICIPALITY | E58: =C58/$C$128*100 -> 0.062899863
... A126: WONDERBOOM | B126: ETHEKWINI MUNICIPALITY METROPOLITAN | C126: 5 | D126: ETHEKWINI MUNICIPALITY | E126: =C126/$C$128*100 -> 0.0044928474
C128: =SUM(C47:C126) -> 111288
A131: EDUCATION
A132: MAIN TOWN OR CITY | B132: MUNICIPALITY | C132: NUMBER OF EMPLOYEES 2010 | D132: NUMBER OF EMPLOYEES 2011 | E132: AS A % OF KZN 2010 | F132: AS A % OF KZN 2011 | G132: Year-on-Year % Change
A133: Alfred | B133: Umuziwabantu Local Municipality | C133: =C40 -> 139 | D133: =C47 -> 141 | E133: =C133/$C$214*100 -> 0.13604244 | F133: =D133/$D$214*100 -> 0.1266983 | G133: =(D133-C133)/C133*100 -> 1.4388489
A134: Babanango | B134: Ulundi Local Municipality | C134: - | D134: =C48 -> 115 | E134: - | F134: =D134/$D$214*100 -> 0.10333549 | G134: -
A135: Bedford | B135: Bedford Local Municipality | C135: - | D135: =C49 -> 70 | E135: - | F135: =D135/$D$214*100 -> 0.062899863 | G135: -
A136: Bergville | B136: Okhahlamba Local Municipality | C136: =C35 -> 299 | D136: =C50 -> 306 | E136: =C136/$C$214*100 -> 0.29263805 | F136: =D136/$D$214*100 -> 0.27496226 | G136: =(D136-C136)/C136*100 -> 2.3411371
A137: Bloemfontein | B137: Nongoma Local Municipality | C137: - | D137: =C51 -> 15 | E137: - | F137: =D137/$D$214*100 -> 0.013478542 | G137: -
A138: Camperdown | B138: Umkhambathini Local Munipality | C138: =C33 -> 369 | D138: =C52 -> 360 | E138: =C138/$C$214*100 -> 0.36114863 | F138: =D138/$D$214*100 -> 0.32348501 | G138: =(D138-C138)/C138*100 -> -2.4390244
A139: Chatsworth | B139: Ethekwini Municipality Metropolotan | C139: - | D139: =C53 -> 1506 | E139: - | F139: =D139/$D$214*100 -> 1.3532456 | G139: -
A140: Cullinan | B140: Cullinan Local Municipality | C140: - | D140: =C54 -> 11 | E140: - | F140: =D140/$D$214*100 -> 0.0098842643 | G140: -
A141: Dannhauser | B141: Dannhauser Local Municipality | C141: =C29 -> 712 | D141: =C55 -> 717 | E141: =C141/$C$214*100 -> 0.69685047 | F141: =D141/$D$214*100 -> 0.64427432 | G141: =(D141-C141)/C141*100 -> 0.70224719
A142: Dundee | B142: Msinga Local Municipality | C142: =C23 -> 1339 | D142: =C56 -> 661 | E142: =C142/$C$214*100 -> 1.3105095 | F142: =D142/$D$214*100 -> 0.59395442 | G142: =(D142-C142)/C142*100 -> -50.634802
A143: Durban | B143: Ethekwini Municipality Metropolotan | C143: =C4 -> 27571 | D143: =C57 -> 10778 | E143: =C143/$C$214*100 -> 26.98436 | F143: =D143/$D$214*100 -> 9.6847818 | G143: =(D143-C143)/C143*100 -> -60.908201
A144: Emnambithi | B144: Emnambithi Ladysmith Local Municipality | C144: - | D144: =C58 -> 70 | E144: - | F144: =D144/$D$214*100 -> 0.062899863 | G144: -
A145: Eshowe | B145: Umlalazi Local Municipality | C145: =C15 -> 2633 | D145: =C59 -> 2726 | E145: =C145/$C$214*100 -> 2.5769765 | F145: =D145/$D$214*100 -> 2.4495004 | G145: =(D145-C145)/C145*100 -> 3.5320927
A146: Escourt | B146: Umtshezi Local Municipality | C146: =C11 -> 3445 | D146: =C60 -> 3247 | E146: =C146/$C$214*100 -> 3.3716993 | F146: =D146/$D$214*100 -> 2.9176551 | G146: =(D146-C146)/C146*100 -> -5.7474601
A147: Frankfort | B147: Ethekwini Municipality Metropolitan | C147: - | D147: =C61 -> 13 | E147: - | F147: =D147/$D$214*100 -> 0.011681403 | G147: -
A148: Germiston | B148: Ethekwini Municipality Metropolotan | C148: - | D148: =C62 -> 2 | E148: - | F148: =D148/$D$214*100 -> 0.001797139 | G148: -
A149: Glencoe | B149: Endumeni Local Municipality | C149: =C32 -> 421 | D149: =C63 -> 436 | E149: =C149/$C$214*100 -> 0.4120422 | F149: =D149/$D$214*100 -> 0.39177629 | G149: =(D149-C149)/C149*100 -> 3.5629454
A150: Hlabisa | B150: Big Five False Bay Local Municipality | C150: =C14 -> 2798 | D150: =C64 -> 2851 | E150: =C150/$C$214*100 -> 2.7384658 | F150: =D150/$D$214*100 -> 2.5618216 | G150: =(D150-C150)/C150*100 -> 1.8942102
A151: Impendle | B151: Impendle Local Municipality | C151: =C41 -> 131 | D151: =C65 -> 134 | E151: =C151/$C$214*100 -> 0.12821266 | F151: =D151/$D$214*100 -> 0.12040831 | G151: =(D151-C151)/C151*100 -> 2.2900763
A152: Inanda | B152: Ethekwini Municipality Metropolotan | C152: - | D152: =C66 -> 5008 | E152: - | F152: =D152/$D$214*100 -> 4.5000359 | G152: -
A153: Indwe | B153: Big Five False Bay Local Municipality | C153: - | D153: =C67 -> 5 | E153: - | F153: =D153/$D$214*100 -> 0.0044928474 | G153: -
A154: Ingwavuma | B154: Ingwavuma Local Municipality | C154: - | D154: =C68 -> 1058 | E154: - | F154: =D154/$D$214*100 -> 0.95068651 | G154: -
A155: Ixopo | B155: Ubuhlebezwe Local Municipality | C155: =C19 -> 2233 | D155: =C69 -> 2290 | E155: =C155/$C$214*100 -> 2.1854875 | F155: =D155/$D$214*100 -> 2.0577241 | G155: =(D155-C155)/C155*100 -> 2.5526198
A156: Jagersfontein | B156: Jagersfontein Local Municipality | C156: - | D156: =C70 -> 6 | E156: - | F156: =D156/$D$214*100 -> 0.0053914169 | G156: -
A157: Jansenville | B157: Ikwezi Local Municipality | C157: - | D157: =C71 -> 6 | E157: - | F157: =D157/$D$214*100 -> 0.0053914169 | G157: -
A158: Klipriver | B158: Ladysmith Local Municipality | C158: =C31 -> 510 | D158: =C72 -> 529 | E158: =C158/$C$214*100 -> 0.49914851 | F158: =D158/$D$214*100 -> 0.47534325 | G158: =(D158-C158)/C158*100 -> 3.7254902
A159: Knysna | B159: Knysna Local Municipality | C159: - | D159: =C73 -> 24 | E159: - | F159: =D159/$D$214*100 -> 0.021565667 | G159: -
A160: Koffiefontein | B160: Lestemeng Local Municipality | C160: - | D160: =C74 -> 20 | E160: - | F160: =D160/$D$214*100 -> 0.01797139 | G160: -
A161: Kranskop | B161: Umvoti Local Municipality | C161: =C24 -> 1284 | D161: =C75 -> 833 | E161: =C161/$C$214*100 -> 1.2566798 | F161: =D161/$D$214*100 -> 0.74850837 | G161: =(D161-C161)/C161*100 -> -35.124611
A162: Kuils River | B162: Indaka Local Municipality | C162: - | D162: =C76 -> 6 | E162: - | F162: =D162/$D$214*100 -> 0.0053914169 | G162: -
A163: Ladismith | B163: Emnambithi Ladysmith Local Municipality | C163: =C8 -> 4192 | D163: =C77 -> 3242 | E163: =C163/$C$214*100 -> 4.102805 | F163: =D163/$D$214*100 -> 2.9131622 | G163: =(D163-C163)/C163*100 -> -22.662214
A164: Lady Grey | B164: Emnambithi Ladysmith Local Municipality | C164: - | D164: =C78 -> 40 | E164: - | F164: =D164/$D$214*100 -> 0.035942779 | G164: -
A165: Ladybrand | B165: Emnambithi Ladysmith Local Municipality | C165: - | D165: =C79 -> 27 | E165: - | F165: =D165/$D$214*100 -> 0.024261376 | G165: -
A166: Lions River | B166: Umngeni Local Municipality | C166: =C39 -> 258 | D166: =C80 -> 262 | E166: =C166/$C$214*100 -> 0.25251042 | F166: =D166/$D$214*100 -> 0.2354252 | G166: =(D166-C166)/C166*100 -> 1.5503876
A167: Lower Tugela | B167: Maphumulo Local Municipality | C167: =C26 -> 1231 | D167: =C81 -> 1290 | E167: =C167/$C$214*100 -> 1.2048075 | F167: =D167/$D$214*100 -> 1.1591546 | G167: =(D167-C167)/C167*100 -> 4.7928513
A168: Lower Umfolozi | B168: Mtubatuba Local Municipality | C168: =C6 -> 5880 | D168: =C82 -> 5759 | E168: =C168/$C$214*100 -> 5.7548887 | F168: =D168/$D$214*100 -> 5.1748616 | G168: =(D168-C168)/C168*100 -> -2.0578231
A169: Maphumulo | B169: Maphumulo Local Municipality | C169: - | D169: =C83 -> 2298 | E169: - | F169: =D169/$D$214*100 -> 2.0649127 | G169: -
A170: Mhlabathini | B170: Ulundi Local Municipality | C170: - | D170: =C84 -> 3162 | E170: - | F170: =D170/$D$214*100 -> 2.8412767 | G170: -
A171: Mooiriver | B171: Mpofana Local Municipality | C171: =C36 -> 290 | D171: =C85 -> 291 | E171: =C171/$C$214*100 -> 0.28382955 | F171: =D171/$D$214*100 -> 0.26148372 | G171: =(D171-C171)/C171*100 -> 0.34482759
A172: Mount Currie | B172: The Great Kokstard Local Municipality | C172: =C30 -> 619 | D172: =C86 -> 623 | E172: =C172/$C$214*100 -> 0.60582927 | F172: =D172/$D$214*100 -> 0.55980878 | G172: =(D172-C172)/C172*100 -> 0.64620355
A173: Msinga | B173: Msinga Local Municipality | C173: =C17 -> 2434 | D173: =C87 -> 2510 | E173: =C173/$C$214*100 -> 2.3822107 | F173: =D173/$D$214*100 -> 2.2554094 | G173: =(D173-C173)/C173*100 -> 3.1224322
A174: Mtonjaneni | B174: Mtonjaneni Local Municipality | C174: =C38 -> 260 | D174: =C88 -> 185 | E174: =C174/$C$214*100 -> 0.25446787 | F174: =D174/$D$214*100 -> 0.16623535 | G174: =(D174-C174)/C174*100 -> -28.846154
A175: Mtunzini | B175: Umlalazi Municipality | C175: - | D175: =C89 -> 1338 | E175: - | F175: =D175/$D$214*100 -> 1.202286 | G175: -
A176: Ndewdwe | B176: Ndwendwe Local Municipality | C176: =C20 -> 1830 | D176: =C90 -> 1918 | E176: =C176/$C$214*100 -> 1.7910623 | F176: =D176/$D$214*100 -> 1.7234563 | G176: =(D176-C176)/C176*100 -> 4.8087432
A177: Nebo | B177: Nebo Local Municipality | C177: - | D177: =C91 -> 20 | E177: - | F177: =D177/$D$214*100 -> 0.01797139 | G177: -
A178: New Hanover | B178: Umshwathi Municipality | C178: =C27 -> 1222 | D178: =C92 -> 1158 | E178: =C178/$C$214*100 -> 1.195999 | F178: =D178/$D$214*100 -> 1.0405435 | G178: =(D178-C178)/C178*100 -> -5.2373159
A179: Newcastle | B179: Newcastle Local Municipality | C179: =C10 -> 3817 | D179: =C93 -> 3907 | E179: =C179/$C$214*100 -> 3.7357841 | F179: =D179/$D$214*100 -> 3.5107109 | G179: =(D179-C179)/C179*100 -> 2.3578727
A180: Ngotshe | B180: Uphongola Local Municipality | C180: =C25 -> 1278 | D180: =C94 -> 322 | E180: =C180/$C$214*100 -> 1.2508074 | F180: =D180/$D$214*100 -> 0.28933937 | G180: =(D180-C180)/C180*100 -> -74.804382
A181: Nkandla | B181: Nkandla Local Municipality | C181: =C22 -> 1593 | D181: =C95 -> 1746 | E181: =C181/$C$214*100 -> 1.5591051 | F181: =D181/$D$214*100 -> 1.5689023 | G181: =(D181-C181)/C181*100 -> 9.6045198
A182: Nongoma | B182: Nongoma Local Municipality | C182: =C12 -> 3093 | D182: =C96 -> 3138 | E182: =C182/$C$214*100 -> 3.0271889 | F182: =D182/$D$214*100 -> 2.819711 | G182: =(D182-C182)/C182*100 -> 1.4548982
A183: Nquthu | B183: Nquthu Local Municipality | C183: =C16 -> 2509 | D183: =C97 -> 2568 | E183: =C183/$C$214*100 -> 2.4556149 | F183: =D183/$D$214*100 -> 2.3075264 | G183: =(D183-C183)/C183*100 -> 2.3515345
A184: Paarl | B184: Drankestein Local Municipality | C184: - | D184: =C98 -> 16 | E184: - | F184: =D184/$D$214*100 -> 0.014377112 | G184: -
A185: Paulpiersburg | B185: Edumbe Local Municipality | C185: =C28 -> 840 | D185: =C99 -> 855 | E185: =C185/$C$214*100 -> 0.82212696 | F185: =D185/$D$214*100 -> 0.7682769 | G185: =(D185-C185)/C185*100 -> 1.7857143
A186: Peit Retief | B186: Mkhondo Local Municipality | C186: - | D186: =C100 -> 283 | E186: - | F186: =D186/$D$214*100 -> 0.25429516 | G186: -
A187: Peitermaritzburg | B187: Umsunduzi Local Municipality | C187: =C5 -> 11097 | D187: =C101 -> 11098 | E187: =C187/$C$214*100 -> 10.860884 | F187: =D187/$D$214*100 -> 9.9723241 | G187: =(D187-C187)/C187*100 -> 0.0090114445
A188: Pinetown | B188: Ethekwini Municipality Metropolotan | C188: - | D188: =C102 -> 1626 | E188: - | F188: =D188/$D$214*100 -> 1.461074 | G188: -
A189: Polela | B189: Ingwe Local Municipality | C189: =C21 -> 1747 | D189: =C103 -> 1759 | E189: =C189/$C$214*100 -> 1.7098283 | F189: =D189/$D$214*100 -> 1.5805837 | G189: =(D189-C189)/C189*100 -> 0.68689181
A190: Pongola | B190: Uphongola Local Municipality | C190: - | D190: =C104 -> 983 | E190: - | F190: =D190/$D$214*100 -> 0.8832938 | G190: -
A191: Port Shepstone | B191: Ethekwini Local Municipality | C191: =C7 -> 4410 | D191: =C105 -> 4334 | E191: =C191/$C$214*100 -> 4.3161665 | F191: =D191/$D$214*100 -> 3.8944001 | G191: =(D191-C191)/C191*100 -> -1.723356
A192: Richmond | B192: Richmond Local Municipality | C192: =C34 -> 326 | D192: =C106 -> 335 | E192: =C192/$C$214*100 -> 0.31906356 | F192: =D192/$D$214*100 -> 0.30102077 | G192: =(D192-C192)/C192*100 -> 2.7607362
A193: Soutpansberg | B193: Soutpansberg Local Municipality | C193: - | D193: =C107 -> 102 | E193: - | F193: =D193/$D$214*100 -> 0.091654087 | G193: -
A194: Steyilerville | B194: Steyilerville Local Municipality | C194: - | D194: =C108 -> 14 | E194: - | F194: =D194/$D$214*100 -> 0.012579973 | G194: -
A195: Ubombo | B195: Jozini Local Municipality | C195: =C9 -> 3972 | D195: =C109 -> 4708 | E195: =C195/$C$214*100 -> 3.8874861 | F195: =D195/$D$214*100 -> 4.2304651 | G195: =(D195-C195)/C195*100 -> 18.529708
A196: Umbumbulu | B196: Mkhambathini Local Municipality | C196: - | D196: =C110 -> 2566 | E196: - | F196: =D196/$D$214*100 -> 2.3057293 | G196: -
A197: Umlazi | B197: Ethekwini Municipality Metropolotan | C197: - | D197: =C111 -> 3774 | E197: - | F197: =D197/$D$214*100 -> 3.3912012 | G197: -
A198: Umvoti | B198: Mvoti Local Municipality | C198: - | D198: =C112 -> 508 | E198: - | F198: =D198/$D$214*100 -> 0.45647329 | G198: -
A199: Umzikulu | B199: Umzimkhulu Local Municipality | C199: =C18 -> 2238 | D199: =C113 -> 2220 | E199: =C199/$C$214*100 -> 2.1903811 | F199: =D199/$D$214*100 -> 1.9948242 | G199: =(D199-C199)/C199*100 -> -0.80428954
...

Sheet Office ot the premier2
A1: MAIN TOWN OR CITY | B1: MUNICIPALITY | C1: NUMBER OF EMPLOYEES | D1: DISTRICT | E1: AS A % OF KZN
A2: 2009/2010
A3: PIETERMARITZBURG | B3: UMSUNDUZI LOCAL MUNICIPALITY | C3: 323 | D3: UMGUNGUNDLOVU DISTRICT MUNICIPALITY | E3: =C3/C5*100 -> 100
C5: =C3 -> 323
A7: 2010/2011
A8: PIETERMARITZBURG | B8: UMSUNDUZI LOCAL MUNICIPALITY | C8: 355 | D8: UMGUNGUNDLOVU DISTRICT MUNICIPALITY | E8: =C8/C10*100 -> 100
C10: =C8 -> 355
A13: OFFICE OF THE PREMIER
A14: MAIN TOWN OR CITY | B14: MUNICIPALITY | C14: NUMBER OF EMPLOYEES 2010 | D14: NUMBER OF EMPLOYEES 2011 | E14: AS A % OF KZN 2010 | F14: AS A % OF KZN 2011 | G14: Year-on-Year % Change
A15: Pietermaritzburg | B15: Umsunduzi Local Municipality | C15: =C5 -> 323 | D15: =C10 -> 355 | E15: =C15/C17*100 -> 100 | F15: =D15/D17*100 -> 100 | G15: =(D17-C17)/C17 -> 0.099071207
C17: =C15 -> 323 | D17: =C10 -> 355 | E17: =E15 -> 100 | F17: =F15 -> 100 | G17: =G15 -> 0.099071207

Sheet Legislature 3
A1: MAIN TOWN OR CITY | B1: MUNICIPALITY | C1: NUMBER OF EMPLOYEES | D1: DISTRICT | E1: AS A % OF KZN
A2: 2009/2010
A3: PIETERMARITZBURG | B3: UMSUNDUZI LOCAL MUNICIPALITY | C3: 213 | D3: UMGUNGUNDLOVU DISTRICT MUNICIPALITY | E3: 100
C5: =C3 -> 213
A7: LEGISLATURE
A8: MAIN TOWN OR CITY | B8: MUNICIPALITY | C8: NUMBER OF EMPLOYEES 2010 | D8: NUMBER OF EMPLOYEES 2011 | E8: AS A % OF KZN 2010 | F8: AS A % OF KZN 2011 | G8: Year-on-Year % Change
A9: Pietermaritzburg | B9: Umsunduzi Local Municipality | C9: =C3 -> 213 | D9: 219 | E9: =C9/C11*100 -> 100 | F9: =D9/D11*100 -> 100
C11: =C9 -> 213 | D11: =D9 -> 219 | E11: =E9 -> 100 | F11: =F9 -> 100 | G11: =(D11-C11)/C11*100 -> 2.8169014

Sheet Agriculture 4
A1: KZN:VOTE 03: AGR ENV AFF&RUR DEV | B1: AGRICUL +SUPPORT SR7 | C1: DUNDEE | D1: UMZINYATHI DISTRICT MUNICIPALITY
A2: MAIN TOWN OR CITY | B2: MUNICIPALITY | C2: NUMBER OF EMPLOYEES | D2: DISTRICT | E2: AS A % OF KZN
A3: 2009/2010
A4: DUNDEE | B4: UMSINGA LOCAL MUNICIPALITY | C4: 1 | D4: UMZINYATHI DISTRICT MUNICIPALITY | E4: =C4/$C$16*100 -> 0.030902349
A5: DURBAN | B5: ETHEKWINI MUNICIPALITY METROPOLITAN | C5: 258 | D5: ETHEKWINI MUNICIPALITY | E5: =C5/$C$16*100 -> 7.9728059
A6: IXOPO | B6: UBUHLEBEZWE LOCAL MUNICIPALITY | C6: 63 | D6: SISONKE DISTRIC MUNICIPALITY | E6: =C6/$C$16*100 -> 1.946848
A7: LADISMITH | B7: LADISMITH LOCAL MUNICIPALITY | C7: 179 | D7: ZULULAND DISTRICT MUNICIPALITY | E7: =C7/$C$16*100 -> 5.5315204
A8: LOWER UMFOLOZI | B8: UMHLATHUZE LOCAL MUNICIPALITY | C8: 39 | D8: UTHUNGULU DISTRICT MUNICIPALITY | E8: =C8/$C$16*100 -> 1.2051916
A9: NEWCASTLE | B9: NEWCASTE LOCAL MUNICIPALITY | C9: 12 | D9: AMAJUBA DISTRICT MUNICIPALITY | E9: =C9/$C$16*100 -> 0.37082818
A10: PIETERMARITZBURG | B10: MSUNDUZI MUNICIPALITY | C10: 2462 | D10: UMGUNGUNDLOVU DISTRICT MUNICIPALITY | E10: =C10/$C$16*100 -> 76.081582
A11: PONGOLA | B11: PONGOLA LOCAL MUNICIPALITY | C11: 1 | D11: ZULULAND DISTRICT MUNICIPALITY | E11: =C11/$C$16*100 -> 0.030902349
A12: PORT SHEPSTONE | B12: ETHEKWINI MUNICIPALITY DISTRIC | C12: 106 | D12: UGU DISTRICT MUNICIPALITY | E12: =C12/$C$16*100 -> 3.2756489
A13: RICHMOND (NATAL) | B13: RICHMOND LOCAL MUNICIPALITY | C13: 47 | D13: UMGUNGUNDLOVU DISTRICT MUNICIPALITY | E13: =C13/$C$16*100 -> 1.4524104
A14: UMZINTO | B14: UMDONI LOCAL MUNICIPA LITY | C14: 68 | D14: UGU DISTRICT MUNICIPALITY | E14: =C14/$C$16*100 -> 2.1013597
C16: =SUM(C4:C15) -> 3236
A18: 2010/2011
A19: DUNDEE | B19: UMSINGA LOCAL MUNICIPALITY | C19: 1 | D19: UMZINYATHI DISTRICT MUNICIPALITY | E19: =C19/$C$35*100 -> 0.029691211
A20: DURBAN | B20: ETHEKWINI MUNICIPALITY METROPOLITAN | C20: 247 | D20: ETHEKWINI MUNICIPALITY | E20: =C20/$C$35*100 -> 7.3337292
A21: ESHOWE | B21: INKANDLA LOCAL MUNICIPALITY | C21: 96 | D21: UTHUNGULU DISTRICT MUNICIPALITY | E21: =C21/$C$35*100 -> 2.8503563
A22: ESTCOURT | B22: UMTSHEZI LOCAL MUNICIPALITY | C22: 12 | D22: UTHUKELA REGIONAL COUNCIL SOUTH | E22: =C22/$C$35*100 -> 0.35629454
A23: HLABISA | B23: BIG FIVE FALSE BAY LOCAL MUNICIPALITY | C23: 11 | D23: UMKHANYAKUDE DISTRICT MUNICIPALITY (DC27) | E23: =C23/$C$35*100 -> 0.32660333
A24: IXOPO | B24: UBUHLEBEZWE LOCAL MUNICIPALITY | C24: 63 | D24: SISONKE DISTRIC MUNICIPALITY | E24: =C24/$C$35*100 -> 1.8705463
A25: LADYSMITH | B25: LADISMITH LOCAL MUNICIPALITY | C25: 167 | D25: ZULULAND DISTRICT MUNICIPALITY | E25: =C25/$C$35*100 -> 4.9584323
A26: LOWER UMFOLOZI | B26: UMHLATHUZE LOCAL MUNICIPALITY | C26: 36 | D26: UTHUNGULU DISTRICT MUNICIPALITY | E26: =C26/$C$35*100 -> 1.0688836
A27: NEWCASTLE | B27: NEWCASTE LOCAL MUNICIPALITY | C27: 11 | D27: AMAJUBA DISTRICT MUNICIPALITY | E27: =C27/$C$35*100 -> 0.32660333
A28: PONGOLA | B28: PONGOLA LOCAL MUNICIPALITY | C28: 1 | D28: ZULULAND DISTRICT MUNICIPALITY | E28: =C28/$C$35*100 -> 0.029691211
A29: PEITERMARUITZBURG | B29: MSUNDUZI MUNICIPALITY | C29: 2513 | D29: UMGUNGUNDLOVU DISTRICT MUNICIPALITY | E29: =C29/$C$35*100 -> 74.614014
A30: PORT SHEPSTONE | B30: ETHEKWINI MUNICIPALITY DISTRIC | C30: 94 | D30: UGU DISTRICT MUNICIPALITY | E30: =C30/$C$35*100 -> 2.7909739
... A33: UMZINTO | B33: UMDONI LOCAL MUNICIPA LITY | C33: 67 | D33: UGU DISTRICT MUNICIPALITY | E33: =C33/$C$35*100 -> 1.9893112
C35: =SUM(C19:C33) -> 3368
A37: Agriculture, Environmental Affairs and Rural Development
A38: MAIN TOWN OR CITY | B38: MUNICIPALITY | C38: NUMBER OF EMPLOYEES 2010 | D38: NUMBER OF EMPLOYEES 2011 | E38: AS A % OF KZN 2010 | F38: AS A % OF KZN 2011 | G38: Year-on-Year % Change
A39: Dundee | B39: Umsinga Local Municipality | C39: =C4 -> 1 | D39: =C19 -> 1 | E39: =C39/$C$55*100 -> 0.030902349 | F39: =D39/$D$55*100 -> 0.029691211 | G39: =(D39-C39)/C39*100 -> 0
A40: Durban | B40: Ethekwini Municipality Metropolitan | C40: =C5 -> 258 | D40: =C20 -> 247 | E40: =C40/$C$55*100 -> 7.9728059 | F40: =D40/$D$55*100 -> 7.3337292 | G40: =(D40-C40)/C40*100 -> -4.2635659
A41: Eshowe | B41: Inkandla Local Municipality | C41: - | D41: 96 | E41: - | F41: =D41/$D$55*100 -> 2.8503563 | G41: -
A42: Estcourt | B42: Umtshezi Local Municipality | C42: - | D42: 12 | E42: - | F42: =D42/$D$55*100 -> 0.35629454 | G42: -
A43: Hlabisa | B43: Big Five False Bay Local Municipality | C43: - | D43: 11 | E43: - | F43: =D43/$D$55*100 -> 0.32660333 | G43: -
A44: Ixopo | B44: Ubuhlebezwe Local Municipality | C44: =C6 -> 63 | D44: 63 | E44: =C44/$C$55*100 -> 1.946848 | F44: =D44/$D$55*100 -> 1.8705463 | G44: =(D44-C44)/C44*100 -> 0
A45: Ladismith | B45: Ladismith Local Municipality | C45: =C7 -> 179 | D45: 167 | E45: =C45/$C$55*100 -> 5.5315204 | F45: =D45/$D$55*100 -> 4.9584323 | G45: =(D45-C45)/C45*100 -> -6.7039106
A46: Lower Umfolozi | B46: Umhlathuze Local Municipality | C46: =C8 -> 39 | D46: 36 | E46: =C46/$C$55*100 -> 1.2051916 | F46: =D46/$D$55*100 -> 1.0688836 | G46: =(D46-C46)/C46*100 -> -7.6923077
A47: Newcastle | B47: Newcaste Local Municipality | C47: =C9 -> 12 | D47: =C27 -> 11 | E47: =C47/$C$55*100 -> 0.37082818 | F47: =D47/$D$55*100 -> 0.32660333 | G47: =(D47-C47)/C47*100 -> -8.3333333
A48: Pietermaritzburg | B48: Msunduzi Municipality | C48: =C10 -> 2462 | D48: 2513 | E48: =C48/$C$55*100 -> 76.081582 | F48: =D48/$D$55*100 -> 74.614014 | G48: =(D48-C48)/C48*100 -> 2.0714866
A49: Pongola | B49: Pongola Local Municipality | C49: =C11 -> 1 | D49: 1 | E49: =C49/$C$55*100 -> 0.030902349 | F49: =D49/$D$55*100 -> 0.029691211 | G49: =(D49-C49)/C49*100 -> 0
A50: Port Shepstone | B50: Ethekwini Municipality Distric | C50: =C12 -> 106 | D50: 94 | E50: =C50/$C$55*100 -> 3.2756489 | F50: =D50/$D$55*100 -> 2.7909739 | G50: =(D50-C50)/C50*100 -> -11.320755
A51: Richmond (Natal) | B51: Richmond Local Municipality | C51: =C13 -> 47 | D51: 44 | E51: =C51/$C$55*100 -> 1.4524104 | F51: =D51/$D$55*100 -> 1.3064133 | G51: =(D51-C51)/C51*100 -> -6.3829787
A52: Standerton | B52: Standerton Local Municipality | C52: - | D52: 5 | E52: - | F52: =D52/$D$55*100 -> 0.14845606 | G52: -
A53: Umzinto | B53: Umdoni Local Municipality | C53: =C14 -> 68 | D53: 67 | E53: =C53/$C$55*100 -> 2.1013597 | F53: =D53/$D$55*100 -> 1.9893112 | G53: =(D53-C53)/C53*100 -> -1.4705882
C55: =SUM(C39:C53) -> 3236 | D55: =SUM(D39:D53) -> 3368 | E55: =SUM(E39:E53) -> 100 | F55: =SUM(F39:F53) -> 100 | G55: =(D55-C55)/C55*100 -> 4.07911

Sheet Economic Development 5
A1: MAIN TOWN OR CITY | B1: MUNICIPALITY | C1: NUMBER OF EMPLOYEES | D1: DISTRICT | E1: AS A % OF KZN
A2: 2009/2010
A3: DURBAN | B3: ETHEKWINI MUNICIPALITY DISTRIC | C3: 0 | D3: ETHEKWINI MUNICIPALITY | E3: =C3/$C$6*100 -> 0
A4: PIETERMARITZBURG | B4: UMSUNDUZ LOCAL IMUNICIPALITY | C4: =94+208 -> 302 | D4: UMGUNGUNDLOVU DISTRICT MUNICIPALITY | E4: =C4/$C$6*100 -> 100
C6: =SUM(C3:C5) -> 302
A8: 2010/2011
A9: DURBAN | B9: ETHEKWINI MUNICIPALITY DISTRIC | C9: 32 | D9: ETHEKWINI MUNICIPALITY | E9: =C9/$C$12*100 -> 8.5790885
A10: PIETERMARITZBURG | B10: UMSUNDUZ LOCAL IMUNICIPALITY | C10: 341 | D10: UMGUNGUNDLOVU DISTRICT MUNICIPALITY | E10: =C10/$C$12*100 -> 91.420912
C12: =SUM(C9:C10) -> 373
A15: ECONOMIC DEVELOPMENT AND TOURISM
A16: MAIN TOWN OR CITY | B16: MUNICIPALITY | C16: NUMBER OF EMPLOYEES 2010 | D16: NUMBER OF EMPLOYEES 2011 | E16: AS A % OF KZN 2010 | F16: AS A % OF KZN 2011 | G16: Year-on-Year % Change
A17: Durban | B17: Ethekwini Municipality Distric | C17: =C3 -> 0 | D17: =C9 -> 32 | E17: =C17/$C$20*100 -> 0 | F17: =D17/$D$20*100 -> 8.5790885 | G17: -
A18: Pietermaritzburg | B18: Umsunduzi Local Municipality | C18: =C4 -> 302 | D18: =C10 -> 341 | E18: =C18/$C$20*100 -> 100 | F18: =D18/$D$20*100 -> 91.420912 | G18: =(D18-C18)/C18*100 -> 12.913907
C20: =SUM(C17:C18) -> 302 | D20: =SUM(D17:D18) -> 373 | E20: =SUM(E17:E18) -> 100 | F20: =SUM(F17:F18) -> 100 | G20: =(D20-C20)/C20*100 -> 23.509934

Sheet Provincial Treasury6
A1: MAIN TOWN OR CITY | B1: MUNICIPALITY | C1: NUMBER OF EMPLOYEES | D1: DISTRICT | E1: AS A % OF KZN
A2: 2009/2010
A3: PIETERMARITZBURG | B3: UMSUNDUZI LOCAL MUNICIPALITY | C3: 297 | D3: UMGUNGUNDLOVU DISTRICT MUNICIPALITY | E3: =C3/C5*100 -> 100
C5: =C3 -> 297
A8: 2010/2011
A9: PIETERMARITZBURG | B9: UMSUNDUZI LOCAL MUNICIPALITY | C9: 391 | D9: UMGUNGUNDLOVU DISTRICT MUNICIPALITY | E9: =C9/C11*100 -> 100
C11: 391
A13: PROVINCIAL TREASURY
A14: MAIN TOWN OR CITY | B14: MUNICIPALITY | C14: NUMBER OF EMPLOYEES 2010 | D14: NUMBER OF EMPLOYEES 2011 | E14: AS A % OF KZN 2010 | F14: AS A % OF KZN 2011 | G14: Year-on-Year % Change
A15: Pietermaritzburg | B15: Umsunduzi Local Municipality | C15: =C3 -> 297 | D15: =C9 -> 391 | E15: =C15/C17*100 -> 100 | F15: =D15/D17*100 -> 100 | G15: =(D15-C15)/C15*100 -> 31.649832
C17: =C15 -> 297 | D17: =D15 -> 391 | E17: =E15 -> 100 | F17: =F15 -> 100 | G17: =(D17-C17)/C17*100 -> 31.649832

Sheet Health 7
A1: MAIN TOWN OR CITY | B1: MUNICIPALITY | C1: NUMBER OF EMPLOYEES | D1: DISTRICT | E1: AS A % OF KZN
A2: 2009/2010
A3: BABANANGO | B3: ULUNDI LOCAL MUNICIPALITY | C3: 25 | D3: ZULULAND DISTRICT MUNICIPALITY | E3: =C3/$C$48*100 -> 0.038616599
A4: DUNDEE | B4: ENDUMENI LOCAL MUNICIPALITY | C4: 617 | D4: UMZINYATHI DISTRICT MUNICIPALITY | E4: =C4/$C$48*100 -> 0.95305766
A5: DURBAN | B5: ETHEKWINI LOCAL MUNICIPALITY | C5: 18354 | D5: ETHEKWINI MUNICIPALITY | E5: =C5/$C$48*100 -> 28.350762
A6: ESHOWE | B6: INKANDLA LOCAL MUNICIPALITY | C6: 1883 | D6: UTHUNGULU DISTRICT MUNICIPALITY | E6: =C6/$C$48*100 -> 2.9086022
A7: ESTCOURT | B7: UMTSHEZI LOCAL MUNICIPALITY | C7: 1120 | D7: UTHUKELA REGIONAL COUNCIL SOUTH | E7: =C7/$C$48*100 -> 1.7300236
A8: HLABISA | B8: BIG FIVE FALSE BAY LOCAL MUNICIPALITY | C8: 870 | D8: UMKHANYAKUDE DISTRICT MUNICIPALITY (DC27) | E8: =C8/$C$48*100 -> 1.3438576
A9: HLANGANANI | B9: UMZUMBE LOCAL MUNICIPALITY | C9: 166 | D9: UMGUNGUNDLOVU DISTRICT MUNICIPALITY | E9: =C9/$C$48*100 -> 0.25641422
A10: INANDA | B10: ETHEKWINI LOCAL MU NICIPALITY | C10: 670 | D10: ILEMBE DISTRICT MUNICIPALITY | E10: =C10/$C$48*100 -> 1.0349249
A11: INGWAVUMA | B11: UPHONGOLA LOCAL MUNICIPALITY | C11: 1391 | D11: UMKHANYAKUDE DISTRICT MUNICIPALITY (DC27) | E11: =C11/$C$48*100 -> 2.1486276
A12: IXOPO | B12: UBUHLEBEZWE LOCAL MUNICIPALITY | C12: 819 | D12: SISONKE DISTRICT MUNICIPALITY | E12: =C12/$C$48*100 -> 1.2650798
A13: KLIPRIVER | B13: LADYSMITH LOCAL MUNICIPALITY | C13: 72 | D13: UTHUKELA REGIONAL COUNCIL SOUTH | E13: =C13/$C$48*100 -> 0.11121581
A14: KRANSKOP | B14: UMVOTI LOCAL MUNICIPALITY | C14: 669 | D14: UMZINYATHI DISTRICT MUNICIPALITY | E14: =C14/$C$48*100 -> 1.0333802
... A46: VRYHEID | B46: ABAQULUSI LOCAL MUNICIPALITY | C46: 685 | D46: ZULULAND DISTRICT MUNICIPALITY | E46: =C46/$C$48*100 -> 1.0580948
C48: =SUM(C3:C47) -> 64739
A51: 2010/11
A52: ALFRED | B52: UMUZIWABANTU LOCAL MUNICIPALITY | C52: 456 | D52: UGU DISTRICT MUNICIPALITY | E52: =C52/$C$106*100 -> 0.6553419
A53: BABANANGO | B53: ULUNDI LOCAL MUNICIPALITY | C53: 25 | D53: ZULULAND DISTRICT MUNICIPALITY | E53: =C53/$C$106*100 -> 0.035928832
A54: BEAUFORT WEST | B54: BEAUFORT WEST MUNICIPALITY | C54: 2 | D54: UMZINYATHI DISTRICT MUNICIPALITY | E54: =C54/$C$106*100 -> 0.0028743066
A55: DUNDEE | B55: ENDUMENI LOCAL MUNICIPALITY | C55: 621 | D55: UMZINYATHI DISTRICT MUNICIPALITY | E55: =C55/$C$106*100 -> 0.89247219
A56: DURBAN | B56: ETHEKWINI LOCAL MUNICIPALITY | C56: 19143 | D56: ETHEKWINI MUNICIPALITY | E56: =C56/$C$106*100 -> 27.511425
A57: DZANANI | B57: DZANANI MUNICIPALITY | C57: 462 | D57: ETHEKWINI MUNICIPALITY | E57: =C57/$C$106*100 -> 0.66396482
A58: ESHOWE | B58: INKANDLA LOCAL MUNICIPALITY | C58: 1835 | D58: UTHUNGULU DISTRICT MUNICIPALITY | E58: =C58/$C$106*100 -> 2.6371763
A59: ESTCOURT | B59: UMTSHEZI LOCAL MUNICIPALITY | C59: 1106 | D59: UTHUKELA REGIONAL COUNCIL SOUTH | E59: =C59/$C$106*100 -> 1.5894915
A60: FRASERBURG | B60: FRASERBURG MUCIPALITY | C60: 155 | D60: UTHUNGULU DISTRICT MUNICIPALITY | E60: =C60/$C$106*100 -> 0.22275876
A61: HLABISA | B61: BIG FIVE FALSE BAY LOCAL MUNICIPALITY | C61: 869 | D61: UMKHANYAKUDE DISTRICT MUNICIPALITY (DC27) | E61: =C61/$C$106*100 -> 1.2488862
A62: HLANGANANI | B62: UMZUMBE LOCAL MUNICIPALITY | C62: 160 | D62: UMGUNGUNDLOVU DISTRICT MUNICIPALITY | E62: =C62/$C$106*100 -> 0.22994453
A63: INANDA | B63: ETHEKWINI LOCAL MU NICIPALITY | C63: 636 | D63: ILEMBE DISTRICT MUNICIPALITY | E63: =C63/$C$106*100 -> 0.91402949
... A104: WELKOM | B104: WELKOM MUNICIPALITY | C104: 1 | D104: ZULULAND DISTRICT MUNICIPALITY | E104: =C104/$C$106*100 -> 0.0014371533
C106: =SUM(C52:C104) -> 69582
A109: HEALTH
A110: MAIN TOWN OR CITY | B110: MUNICIPALITY | C110: NUMBER OF EMPLOYEES 2010 | D110: NUMBER OF EMPLOYEES 2011 | E110: AS A % OF KZN 2010 | F110: AS A % OF KZN 2011 | G110: Year-on-Year % Change
A111: Alfred | B111: Umuziwabantu Local Municipality | C111: =C3 -> 25 | D111: =C52 -> 456 | E111: =C111/$C$165*100 -> 0.038616599 | F111: =D111/$D$165*100 -> 0.6553419 | G111: =(D111-C111)/C111*100 -> 1724
A112: Babanango | B112: Ulundi Local Municipality | C112: - | D112: =C53 -> 25 | E112: - | F112: =D112/$D$165*100 -> 0.035928832 | G112: -
A113: Beaufort West | B113: Beaufort West Municipality | C113: - | D113: =C54 -> 2 | E113: - | F113: =D113/$D$165*100 -> 0.0028743066 | G113: -
A114: Dundee | B114: Endumeni Local Municipality | C114: =C4 -> 617 | D114: =C55 -> 621 | E114: =C114/$C$165*100 -> 0.95305766 | F114: =D114/$D$165*100 -> 0.89247219 | G114: =(D114-C114)/C114*100 -> 0.64829822
A115: Durban | B115: Ethekwini Local Municipality | C115: =C5 -> 18354 | D115: =C56 -> 19143 | E115: =C115/$C$165*100 -> 28.350762 | F115: =D115/$D$165*100 -> 27.511425 | G115: =(D115-C115)/C115*100 -> 4.2987905
A116: Dzanani | B116: Dzanani Municipality | C116: - | D116: =C57 -> 462 | E116: - | F116: =D116/$D$165*100 -> 0.66396482 | G116: -
A117: Eshowe | B117: Inkandla Local Municipality | C117: =C6 -> 1883 | D117: =C58 -> 1835 | E117: =C117/$C$165*100 -> 2.9086022 | F117: =D117/$D$165*100 -> 2.6371763 | G117: =(D117-C117)/C117*100 -> -2.5491237
A118: Estcourt | B118: Umtshezi Local Municipality | C118: =C7 -> 1120 | D118: =C59 -> 1106 | E118: =C118/$C$165*100 -> 1.7300236 | F118: =D118/$D$165*100 -> 1.5894915 | G118: =(D118-C118)/C118*100 -> -1.25
A119: Fraserburg | B119: Fraserburg Mucipality | C119: - | D119: =C60 -> 155 | E119: - | F119: =D119/$D$165*100 -> 0.22275876 | G119: -
A120: Hlabisa | B120: Big Five False Bay Local Municipality | C120: =C8 -> 870 | D120: =C61 -> 869 | E120: =C120/$C$165*100 -> 1.3438576 | F120: =D120/$D$165*100 -> 1.2488862 | G120: =(D120-C120)/C120*100 -> -0.11494253
A121: Hlanganani | B121: Umzumbe Local Municipality | C121: =C9 -> 166 | D121: =C62 -> 160 | E121: =C121/$C$165*100 -> 0.25641422 | F121: =D121/$D$165*100 -> 0.22994453 | G121: =(D121-C121)/C121*100 -> -3.6144578
A122: Inanda | B122: Ethekwini Local Mu Nicipality | C122: =C10 -> 670 | D122: =C63 -> 636 | E122: =C122/$C$165*100 -> 1.0349249 | F122: =D122/$D$165*100 -> 0.91402949 | G122: =(D122-C122)/C122*100 -> -5.0746269
A123: Ingwavuma | B123: Uphongola Local Municipality | C123: =C11 -> 1391 | D123: =C64 -> 1405 | E123: =C123/$C$165*100 -> 2.1486276 | F123: =D123/$D$165*100 -> 2.0192004 | G123: =(D123-C123)/C123*100 -> 1.0064702
A124: Ixopo | B124: Ubuhlebezwe Local Municipality | C124: =C12 -> 819 | D124: =C65 -> 816 | E124: =C124/$C$165*100 -> 1.2650798 | F124: =D124/$D$165*100 -> 1.1727171 | G124: =(D124-C124)/C124*100 -> -0.36630037
A125: Klipriver | B125: Ladysmith Local Municipality | C125: =C13 -> 72 | D125: =C66 -> 71 | E125: =C125/$C$165*100 -> 0.11121581 | F125: =D125/$D$165*100 -> 0.10203788 | G125: =(D125-C125)/C125*100 -> -1.3888889
A126: Kranskop | B126: Umvoti Local Municipality | C126: =C14 -> 669 | D126: =C67 -> 635 | E126: =C126/$C$165*100 -> 1.0333802 | F126: =D126/$D$165*100 -> 0.91259234 | G126: =(D126-C126)/C126*100 -> -5.0822123
A127: Kuils River | B127: Kuils River Municipality | C127: - | D127: =C68 -> 11 | E127: - | F127: =D127/$D$165*100 -> 0.015808686 | G127: -
A128: Ladismith | B128: Emnambithi-Ladysmith Local Municipality | C128: =C15 -> 1169 | D128: =C69 -> 1347 | E128: =C128/$C$165*100 -> 1.8057122 | F128: =D128/$D$165*100 -> 1.9358455 | G128: =(D128-C128)/C128*100 -> 15.226689
A129: Lions River | B129: Umngeni Local Municipality | C129: =C16 -> 408 | D129: =C70 -> 398 | E129: =C129/$C$165*100 -> 0.6302229 | F129: =D129/$D$165*100 -> 0.57198701 | G129: =(D129-C129)/C129*100 -> -2.4509804
A130: Lower Tugela | B130: Maphumulo Local Municipality | C130: =C17 -> 1139 | D130: =C71 -> 1104 | E130: =C130/$C$165*100 -> 1.7593722 | F130: =D130/$D$165*100 -> 1.5866172 | G130: =(D130-C130)/C130*100 -> -3.0728709
A131: Lower Umfolozi | B131: Mtubatuba Local Municipality | C131: =C18 -> 671 | D131: =C72 -> 711 | E131: =C131/$C$165*100 -> 1.0364695 | F131: =D131/$D$165*100 -> 1.021816 | G131: =(D131-C131)/C131*100 -> 5.9612519
A132: Mapumulo | B132: Maphumulo Local Municipality | C132: =C19 -> 341 | D132: =C73 -> 329 | E132: =C132/$C$165*100 -> 0.52673041 | F132: =D132/$D$165*100 -> 0.47282343 | G132: =(D132-C132)/C132*100 -> -3.5190616
A133: Mathanjana (1) | B133: Dr Js Moroka Local Municipality | C133: =C20 -> 42 | D133: =C74 -> 42 | E133: =C133/$C$165*100 -> 0.064875886 | F133: =D133/$D$165*100 -> 0.060360438 | G133: =(D133-C133)/C133*100 -> 0
A134: Mhlabatini | B134: Ulundi Local Municipality | C134: =C21 -> 1905 | D134: =C75 -> 1903 | E134: =C134/$C$165*100 -> 2.9425848 | F134: =D134/$D$165*100 -> 2.7349027 | G134: =(D134-C134)/C134*100 -> -0.10498688
A135: Mooiriver | B135: Mpofana Local Municipality | C135: =C22 -> 7 | D135: =C76 -> 7 | E135: =C135/$C$165*100 -> 0.010812648 | F135: =D135/$D$165*100 -> 0.010060073 | G135: =(D135-C135)/C135*100 -> 0
A136: Mount Currie | B136: The Great Kokstard Local Municipality | C136: =C23 -> 2202 | D136: =C77 -> 2087 | E136: =C136/$C$165*100 -> 3.40135 | F136: =D136/$D$165*100 -> 2.9993389 | G136: =(D136-C136)/C136*100 -> -5.222525
A137: Msinga | B137: Msinga Local Municipality | C137: =C24 -> 773 | D137: =C78 -> 788 | E137: =C137/$C$165*100 -> 1.1940252 | F137: =D137/$D$165*100 -> 1.1324768 | G137: =(D137-C137)/C137*100 -> 1.9404916
A138: Mtunzini | B138: Umlalazi Municipality | C138: =C25 -> 1 | D138: =C79 -> 1 | E138: =C138/$C$165*100 -> 0.001544664 | F138: =D138/$D$165*100 -> 0.0014371533 | G138: =(D138-C138)/C138*100 -> 0
A139: Ndwedwe | B139: Ndwendwe Local Municipality | C139: =C26 -> 694 | D139: =C80 -> 684 | E139: =C139/$C$165*100 -> 1.0719968 | F139: =D139/$D$165*100 -> 0.98301285 | G139: =(D139-C139)/C139*100 -> -1.4409222
... A143: Nqutu | B143: Nquthu Local Municipality | C143: =C30 -> 1008 | D143: =C84 -> 978 | E143: =C143/$C$165*100 -> 1.5570213 | F143: =D143/$D$165*100 -> 1.4055359 | G143: =(D143-C143)/C143*100 -> -2.9761905
A144: Oudtshoorn | B144: Oudtshoorn Municipality | C144: - | D144: =C85 -> 2 | E144: - | F144: =D144/$D$165*100 -> 0.0028743066 | G144: -
A145: Paulpietersburg | B145: Edumbe Local Municipality | C145: =C31 -> 65 | D145: =C86 -> 60 | E145: =C145/$C$165*100 -> 0.10040316 | F145: =D145/$D$165*100 -> 0.086229197 | G145: =(D145-C145)/C145*100 -> -7.6923077
A146: Piet Retief (1) | B146: Mkhondo Local Municipality | C146: =C32 -> 359 | D146: =C87 -> 326 | E146: =C146/$C$165*100 -> 0.55453436 | F146: =D146/$D$165*100 -> 0.46851197 | G146: =(D146-C146)/C146*100 -> -9.1922006
A147: Pietermaritzburg | B147: Msunduzi Local Municipality | C147: =C33 -> 14939 | D147: =C88 -> 17607 | E147: =C147/$C$165*100 -> 23.075735 | F147: =D147/$D$165*100 -> 25.303958 | G147: =(D147-C147)/C147*100 -> 17.859294
A148: Pinetown | B148: Ethekwini Local Municipality | C148: =C34 -> 471 | D148: =C89 -> 514 | E148: =C148/$C$165*100 -> 0.72753672 | F148: =D148/$D$165*100 -> 0.73869679 | G148: =(D148-C148)/C148*100 -> 9.1295117
A149: Polela | B149: Impendle Local Municipality | C149: =C35 -> 37 | D149: =C90 -> 38 | E149: =C149/$C$165*100 -> 0.057152566 | F149: =D149/$D$165*100 -> 0.054611825 | G149: =(D149-C149)/C149*100 -> 2.7027027
A150: Pongola | B150: Uphongola Local Municipality | C150: =C36 -> 146 | D150: =C91 -> 147 | E150: =C150/$C$165*100 -> 0.22552094 | F150: =D150/$D$165*100 -> 0.21126153 | G150: =(D150-C150)/C150*100 -> 0.68493151
A151: Port Elizabeth | B151: Port Elizabeth Municipality | C151: - | D151: =C92 -> 3 | E151: - | F151: =D151/$D$165*100 -> 0.0043114599 | G151: -
A152: Port Shepstone | B152: Ethekwini Local Municipality | C152: =C37 -> 2158 | D152: =C93 -> 2537 | E152: =C152/$C$165*100 -> 3.3333848 | F152: =D152/$D$165*100 -> 3.6460579 | G152: =(D152-C152)/C152*100 -> 17.562558
A153: Richmond (Natal) | B153: Richmond Local Municipality | C153: =C38 -> 24 | D153: =C94 -> 28 | E153: =C153/$C$165*100 -> 0.037071935 | F153: =D153/$D$165*100 -> 0.040240292 | G153: =(D153-C153)/C153*100 -> 16.666667
A154: Ubombo | B154: Umkhanyakude Distric Municipality | C154: =C39 -> 1494 | D154: =C95 -> 1498 | E154: =C154/$C$165*100 -> 2.307728 | F154: =D154/$D$165*100 -> 2.1528556 | G154: =(D154-C154)/C154*100 -> 0.26773762
A155: Umlazi | B155: Ethekwini Municipality Metropolitan | C155: =C40 -> 76 | D155: =C96 -> 78 | E155: =C155/$C$165*100 -> 0.11739446 | F155: =D155/$D$165*100 -> 0.11209796 | G155: =(D155-C155)/C155*100 -> 2.6315789
A156: Umvoti | B156: Mvoti Local Municipality | C156: =C41 -> 489 | D156: =C97 -> 499 | E156: =C156/$C$165*100 -> 0.75534068 | F156: =D156/$D$165*100 -> 0.71713949 | G156: =(D156-C156)/C156*100 -> 2.0449898
A157: Umzimkulu | B157: Umzimkhulu Local Municipality | C157: =C42 -> 831 | D157: =C98 -> 807 | E157: =C157/$C$165*100 -> 1.2836157 | F157: =D157/$D$165*100 -> 1.1597827 | G157: =(D157-C157)/C157*100 -> -2.8880866
A158: Umzinto | B158: Ethekwini Municipality Metropolitan | C158: =C43 -> 710 | D158: =C99 -> 751 | E158: =C158/$C$165*100 -> 1.0967114 | F158: =D158/$D$165*100 -> 1.0793021 | G158: =(D158-C158)/C158*100 -> 5.7746479
A159: Underburg | B159: Kwasani Local Municipality | C159: =C44 -> 29 | D159: =C100 -> 26 | E159: =C159/$C$165*100 -> 0.044795255 | F159: =D159/$D$165*100 -> 0.037365985 | G159: =(D159-C159)/C159*100 -> -10.344828
A160: Utrecht | B160: Emadlangeni Local Municipality | C160: =C45 -> 179 | D160: =C101 -> 174 | E160: =C160/$C$165*100 -> 0.27649485 | F160: =D160/$D$165*100 -> 0.25006467 | G160: =(D160-C160)/C160*100 -> -2.7932961
A161: Vredefort | B161: Vredefort Municipality | C161: - | D161: =C102 -> 6 | E161: - | F161: =D161/$D$165*100 -> 0.0086229197 | G161: -
A162: Vryheid | B162: Abaqulusi Local Municipality | C162: =C46 -> 685 | D162: =C103 -> 686 | E162: =C162/$C$165*100 -> 1.0580948 | F162: =D162/$D$165*100 -> 0.98588715 | G162: =(D162-C162)/C162*100 -> 0.1459854
A163: Welkom | B163: Welkom Municipality | C163: - | D163: =C104 -> 1 | E163: - | F163: =D163/$D$165*100 -> 0.0014371533 | G163: -
C165: =SUM(C111:C162) -> 64739 | D165: =SUM(D111:D163) -> 69582 | E165: =SUM(E111:E163) -> 100 | F165: =SUM(F111:F163) -> 100 | G165: =(D165-C165)/C165*100 -> 7.4808076

Sheet Human Settlement 8
A1: MAIN TOWN OR CITY | B1: MUNICIPALITY | C1: NUMBER OF EMPLOYEES | D1: DISTRICT | E1: AS A % OF KZN
A2: 2009/2010 | B2: 2009/2010
A3: DURBAN | B3: ETHEKWINI MUNICIPALITY METROPOLITAN | C3: 657 | D3: ETHEKWINI MUNICIPALITY | E3: =C3/$C$8*100 -> 79.927007
A4: MHLABATINI | B4: MAPHUMULO LOCAL MUNICIPALITY | C4: 17 | D4: ZULULAND LOCAL MUNICIPALITY | E4: =C4/$C$8*100 -> 2.0681265
A5: NONGOMA | B5: NONGOMA LOCAL MUNICIPALITY | C5: 8 | D5: ZULULAND DISTRICT MUNICIPALITY | E5: =C5/$C$8*100 -> 0.97323601
A6: PIETERMARITZBURG | B6: UMSUNDUZI LOCAL MUNICIPALITY | C6: 140 | D6: UMGUNGUNDLOVU DISTRICT MUNICIPALITY | E6: =C6/$C$8*100 -> 17.03163
C8: =SUM(C3:C7) -> 822
A10: 2010/2011 | B10: 2010/2011
A11: DURBAN | B11: ETHEKWINI MUNICIPALITY METROPOLITAN | C11: 491 | D11: ETHEKWINI MUNICIPALITY | E11: =C11/$C$18*100 -> 60.54254
A12: MHLABATINI | B12: MAPHUMULO LOCAL MUNICIPALITY | C12: 96 | D12: ZULULAND LOCAL MUNICIPALITY | E12: =C12/$C$18*100 -> 11.837238
A13: NONGOMA | B13: NONGOMA LOCAL MUNICIPALITY | C13: 5 | D13: ZULULAND DISTRICT MUNICIPALITY | E13: =C13/$C$18*100 -> 0.61652281
A14: PIETERMARITZBURG | B14: UMSUNDUZI LOCAL MUNICIPALITY | C14: 155 | D14: UMGUNGUNDLOVU DISTRICT MUNICIPALITY | E14: =C14/$C$18*100 -> 19.112207
A15: PINETOWN | B15: ETHEKWINI MUNICIPALITY METROPOLITAN | C15: 44 | D15: ETHEKWINI MUNICIPALITY | E15: =C15/$C$18*100 -> 5.4254007
A16: UMLAZI | B16: ETHEKWINI MUNICIPALITY METROPOLITAN | C16: 20 | D16: ETHEKWINI MUNICIPALITY | E16: =C16/$C$18*100 -> 2.4660912
C18: =SUM(C11:C16) -> 811
A21: HUMAN SETTLEMENT
A22: MAIN TOWN OR CITY | B22: MUNICIPALITY | C22: NUMBER OF EMPLOYEES 2010 | D22: NUMBER OF EMPLOYEES 2011 | E22: AS A % OF KZN 2010 | F22: AS A % OF KZN 2011 | G22: Year-on-Year % Change
A23: Durban | B23: Ethekwini Municipality Metropolitan | C23: =C3 -> 657 | D23: =C11 -> 491 | E23: =C23/$C$30*100 -> 79.927007 | F23: =D23/$D$30*100 -> 60.54254 | G23: =(D23-C23)/C23*100 -> -25.266362
A24: Mhlabatini | B24: Maphumulo Local Municipality | C24: =C4 -> 17 | D24: =C12 -> 96 | E24: =C24/$C$30*100 -> 2.0681265 | F24: =D24/$D$30*100 -> 11.837238 | G24: =(D24-C24)/C24*100 -> 464.70588
A25: Nongoma | B25: Nongoma Local Municipality | C25: =C5 -> 8 | D25: =C13 -> 5 | E25: =C25/$C$30*100 -> 0.97323601 | F25: =D25/$D$30*100 -> 0.61652281 | G25: =(D25-C25)/C25*100 -> -37.5
A26: Pietermaritzburg | B26: Umsunduzi Local Municipality | C26: =C6 -> 140 | D26: =C14 -> 155 | E26: =C26/$C$30*100 -> 17.03163 | F26: =D26/$D$30*100 -> 19.112207 | G26: =(D26-C26)/C26*100 -> 10.714286
A27: Pinetown | B27: Ethekwini Municipality Metropolitan | C27: - | D27: =C15 -> 44 | E27: - | F27: =D27/$D$30*100 -> 5.4254007
A28: Umlazi | B28: Ethekwini Municipality Metropolitan | C28: - | D28: =C16 -> 20 | E28: - | F28: =D28/$D$30*100 -> 2.4660912
C30: =SUM(C23:C28) -> 822 | D30: =SUM(D23:D28) -> 811 | E30: =SUM(E23:E28) -> 100 | F30: =SUM(F23:F28) -> 100 | G30: =(D30-C30)/C30*100 -> -1.3381995

Sheet Community and Safety 9
A1: MAIN TOWN OR CITY | B1: MUNICIPALITY | C1: NUMBER OF EMPLOYEES | D1: DISTRICT | E1: AS A % OF KZN
A2: 2009/2010
A3: PIETERMARITZBURG | B3: UMSUNDUZI LOCAL MUNICIPALITY | C3: 100 | D3: UMGUNGUNDLOVU DISTRICT MUNICIPALITY | E3: 100
C5: =C3 -> 100
A8: 2010/2011
A9: PIETERMARITZBURG | B9: UMSUNDUZI LOCAL MUNICIPALITY | C9: 107 | D9: UMGUNGUNDLOVU DISTRICT MUNICIPALITY | E9: =C9/C11*100 -> 100
C11: =C9 -> 107
A13: COMMUNITY AND SAFETY AND LIASON
A14: MAIN TOWN OR CITY | B14: MUNICIPALITY | C14: NUMBER OF EMPLOYEES 2010 | D14: NUMBER OF EMPLOYEES 2011 | E14: AS A % OF KZN 2010 | F14: AS A % OF KZN 2011 | G14: Year-on-Year % Change
A15: Pietermaritzburg | B15: Umsunduzi Local Municipality | C15: =C3 -> 100 | D15: =C9 -> 107 | E15: =C15/C17*100 -> 100 | F15: =D15/D17*100 -> 100 | G15: =(D15-C15)/C15*100 -> 7
C17: =C15 -> 100 | D17: =D15 -> 107 | E17: =E15 -> 100 | F17: =F15 -> 100 | G17: =(D17-C17)/C17*100 -> 7

Sheet Royal Household 10 
A1: MAIN TOWN OR CITY | B1: MUNICIPALITY | C1: NUMBER OF EMPLOYEES | D1: DISTRICT | E1: AS A % OF KZN
A2: 2009/2010
A3: MHLABATINI | B3: ULUNDI LOCAL MUNICIPALITY | C3: 28 | D3: ZULULAND DISTRICT MUNICIPALITY | E3: =C3/$C$6*100 -> 18.791946
A4: NONGOMA | B4: ULUNDI LOCAL MUNICIPALITY | C4: 121 | D4: ZULULAND DISTRICT MUNICIPALITY | E4: =C4/$C$6*100 -> 81.208054
C6: =SUM(C3:C5) -> 149
A8: 2010/2011
A9: NONGOMA | B9: ULUNDI LOCAL MUNICIPALITY | C9: 145 | D9: ZULULAND DISTRICT MUNICIPALITY | E9: =C9/C11*100 -> 100
C11: 145
A15: ROYAL HOUSEHOLD
A16: MAIN TOWN OR CITY | B16: MUNICIPALITY | C16: NUMBER OF EMPLOYEES 2010 | D16: NUMBER OF EMPLOYEES 2011 | E16: AS A % OF KZN 2010 | F16: AS A % OF KZN 2011 | G16: Year-on-Year % Change
A17: Mhlabatini | B17: Ulundi Local Municipality | C17: =C3 -> 28 | D17: - | E17: =C17/$C$20*100 -> 18.791946 | F17: - | G17: -
A18: Nongoma | B18: Ulundi Local Municipality | C18: =C4 -> 121 | D18: =C9 -> 145 | E18: =C18/$C$20*100 -> 81.208054 | F18: =D18/D20*100 -> 100 | G18: =(D18-C18)/C18*100 -> 19.834711
C20: =SUM(C17:C18) -> 149 | D20: =D18 -> 145 | E20: =SUM(E17:E18) -> 100 | F20: =SUM(F17:F18) -> 100 | G20: =(D20-C20)/C20*100 -> -2.6845638

Sheet Coorperative Gov 11
A1: MAIN TOWN OR CITY | B1: MUNICIPALITY | C1: NUMBER OF EMPLOYEES | D1: DISTRICT | E1: AS A % OF KZN
A2: 2009/2010
A3: DURBAN | B3: ETHEKWINI MUNICIPALITY METROPOLITAN | C3: 23 | D3: UMGUNGUNDLOVU DISTRICT MUNICIPALITY | E3: =C3/$C$7*100 -> 0.53813758
A4: MHLABATINI | B4: ULUNDI LOCAL MUNICIPALITY | C4: 180 | D4: UMKHANYAKUDE DISTRICT MUNICIPALITY | E4: =C4/$C$7*100 -> 4.2115115
A5: PIETERMARITZBURG | B5: UMSUNDUZI LOCAL MUNICIPALITY | C5: 4071 | D5: UMGUNGUNDLOVU DISTRICT MUNICIPALITY | E5: =C5/$C$7*100 -> 95.250351
C7: =SUM(C3:C6) -> 4274
A8: 2010/2011
A9: DURBAN | B9: ETHEKWINI MUNICIPALITY METROPOLITAN | C9: 33 | D9: ETHEKWINI DISTRICT MUNICIPALITY | E9: =C9/$C$14*100 -> 0.69488313
A10: MHLABATINI | B10: ULUNDI LOCAL MUNICIPALITY | C10: 3530 | D10: ZULULAND DISTRICT MUNICIPALITY | E10: =C10/$C$14*100 -> 74.331438
A11: PIETERMARITZBURG | B11: UMSUNDUZI LOCAL MUNICIPALITY | C11: 1171 | D11: UMGUNGUNDLOVU DISTICT MUNICIPLATY | E11: =C11/$C$14*100 -> 24.657823
A12: PIETERSBURG | B12: UMSUNDUZI LOCAL MUNICIPALITY | C12: 15 | D12: UMGUNGUNDLOVU DISTICT MUNICIPLATY | E12: =C12/$C$14*100 -> 0.31585597
C14: =SUM(C9:C12) -> 4749
A16: COORPERATIVE GORVENANCE AND TRADITIONAL AFFAIRS
A17: MAIN TOWN OR CITY | B17: MUNICIPALITY | C17: NUMBER OF EMPLOYEES 2010 | D17: NUMBER OF EMPLOYEES 2011 | E17: AS A % OF KZN 2010 | F17: AS A % OF KZN 2011 | G17: Year-on-Year % Change
A18: Durban | B18: Ethekwini Municipality Metropolitan | C18: =C3 -> 23 | D18: =C9 -> 33 | E18: =C18/$C$23*100 -> 0.53813758 | F18: =D18/$D$23*100 -> 0.69488313 | G18: =(D18-C18)/C18*100 -> 43.478261
A19: Mhlabatini | B19: Ulundi Local Municipality | C19: =C4 -> 180 | D19: =C10 -> 3530 | E19: =C19/$C$23*100 -> 4.2115115 | F19: =D19/$D$23*100 -> 74.331438 | G19: =(D19-C19)/C19*100 -> 1861.1111
A20: Pietermaritzburg | B20: Umsunduzi Local Municipality | C20: =C5 -> 4071 | D20: =C11 -> 1171 | E20: =C20/$C$23*100 -> 95.250351 | F20: =D20/$D$23*100 -> 24.657823 | G20: =(D20-C20)/C20*100 -> -71.235569
A21: Pietersburg | B21: Umsunduzi Local Municipality | C21: - | D21: =C12 -> 15 | E21: - | F21: =D21/$D$23*100 -> 0.31585597
C23: =SUM(C18:C21) -> 4274 | D23: =SUM(D18:D21) -> 4749 | E23: =SUM(E18:E21) -> 100 | F23: =SUM(F18:F21) -> 100 | G23: =(D23-C23)/C23*100 -> 11.113711

Sheet Transport 12 
A1: MAIN TOWN OR CITY | B1: MUNICIPALITY | C1: NUMBER OF EMPLOYEES | D1: DISTRICT | E1: AS A % OF KZN
A2: 2009/2010
A3: BERGVILLE | B3: OKHAHLAMBA LOCAL MUNICIPALITY | C3: 17 | D3: UTHUKELA REGIONAL COUNCIL SOUTH | E3: =C3/$C$31*100 -> 0.30730296
A4: DUNDEE | B4: ENDUMENI LOCAL MUNICIPALITY | C4: 271 | D4: UMZINYATHI DISTRICT MUNICIPALITY | E4: =C4/$C$31*100 -> 4.8987708
A5: DURBAN | B5: ETHEKWINI LOCAL MUNICIPALITY | C5: 909 | D5: ETHEKWINI MUNICIPALITY | E5: =C5/$C$31*100 -> 16.43167
A6: ESHOWE | B6: ENKANDLA LOCAL MUNICIPALITY | C6: 362 | D6: UTHUNGULU DISTRICT MUNICIPALITY | E6: =C6/$C$31*100 -> 6.5437455
A7: ESTCOURT | B7: UMTSHEZI LOCAL MUNICIPALITY | C7: 319 | D7: UTHUKELA REGIONAL COUNCIL SOUTH | E7: =C7/$C$31*100 -> 5.7664497
A8: HLABISA | B8: HLABISA LOCAL MUNICIPALITY | C8: 175 | D8: UMKHANYAKUDE DISTRICT MUNICIPALITY (DC27) | E8: =C8/$C$31*100 -> 3.1634129
A9: INGWAVUMA | B9: JOZINI LOCAL MUNICIPALITY | C9: 8 | D9: UMKHANYAKUDE DISTRICT MUNICIPALITY (DC27) | E9: =C9/$C$31*100 -> 0.14461316
A10: IXOPO | B10: UBUHLEBEZWE LOCAL MUNICIPALITY | C10: 233 | D10: UMGUNGUNDLOVU DISTRICT MUNICIPALITY | E10: =C10/$C$31*100 -> 4.2118583
A11: KLIPRIVER | B11: OKHAHLAMBA LOCAL MUNICIPALITY | C11: 57 | D11: UTHUKELA REGIONAL COUNCIL SOUTH | E11: =C11/$C$31*100 -> 1.0303688
A12: LADISMITH | B12: EMNAMBITHI-LADYSMITH LOCAL MUNICIPALITY | C12: 18 | D12: UTHUKELA REGIONAL COUNCIL SOUTH | E12: =C12/$C$31*100 -> 0.32537961
A13: LOWER UMFOLOZI | B13: MBONANBI LOCAL MUNICIPALITY | C13: 391 | D13: ZULULAND DISTRICT MUNICIPALITY | E13: =C13/$C$31*100 -> 7.0679682
A14: MHLABATINI | B14: UKUNDI LOCAL MUNICIPALITY | C14: 224 | D14: ZULULAND DISTRICT MUNICIPALITY | E14: =C14/$C$31*100 -> 4.0491685
... A29: VRYHEID | B29: ABAQULUSI LOCAL MUNICIPALITY | C29: 173 | D29: ZULULAND DISTRICT MUNICIPALITY | E29: =C29/$C$31*100 -> 3.1272596
C31: =SUM(C3:C30) -> 5532
A33: 2010/2011
A35: BERGVILLE | B35: OKHAHLAMBA LOCAL MUNICIPALITY | C35: 39 | D35: UTHUKELA REGIONAL COUNCIL SOUTH | E35: =C35/$C$87*100 -> 0.087646358
A36: CAMPERDOWN | B36: UMKHAMBATHINI LOCAL MUNIPALITY | C36: 15 | D36: UMGUNGUNDLOVU DISTRICT MUNICIPALITY | E36: =C36/$C$87*100 -> 0.033710138
A37: DANNHAUSER | B37: DANNHAUSER LOCAL MUNICIPALITY | C37: 7 | D37: UTHUKELA REGIONAL COUNCIL SOUTH | E37: =C37/$C$87*100 -> 0.015731398
A38: DUNDEE | B38: ENDUMENI LOCAL MUNICIPALITY | C38: 3797 | D38: UMZINYATHI DISTRICT MUNICIPALITY | E38: =C38/$C$87*100 -> 8.5331595
A39: DURBAN | B39: ETHEKWINI LOCAL MUNICIPALITY | C39: 1952 | D39: ETHEKWINI MUNICIPALITY | E39: =C39/$C$87*100 -> 4.3868126
A40: ESHOWE | B40: ENKANDLA LOCAL MUNICIPALITY | C40: 5299 | D40: UTHUNGULU DISTRICT MUNICIPALITY | E40: =C40/$C$87*100 -> 11.908668
A41: ESTCOURT | B41: UMTSHEZI LOCAL MUNICIPALITY | C41: 2542 | D41: UTHUKELA REGIONAL COUNCIL SOUTH | E41: =C41/$C$87*100 -> 5.7127447
A42: GLENCOE | B42: ENDUMENI LOCAL MUNICIPALITY | C42: 2 | D42: UMZINYATHI DISTRICT MUNICIPALITY | E42: =C42/$C$87*100 -> 0.004494685
A43: HLABISA | B43: HLABISA LOCAL MUNICIPALITY | C43: 4083 | D43: UMKHANYAKUDE DISTRICT MUNICIPALITY (DC27) | E43: =C43/$C$87*100 -> 9.1758995
A44: HUMANSDORP | B44: HUMANSDORP LOCAL MUNICIPALITY | C44: 1 | D44: UMGUNGUNDLOVU DISTRICT MUNICIPALITY | E44: =C44/$C$87*100 -> 0.0022473425
A45: IMPENDLE | B45: IMPENDLE LOCAL MUNICIPALITY | C45: 22 | D45: UMGUNGUNDLOVU DISTRICT MUNICIPALITY | E45: =C45/$C$87*100 -> 0.049441535
A46: INGWAVUMA | B46: JOZINI LOCAL MUNICIPALITY | C46: 7 | D46: UMKHANYAKUDE DISTRICT MUNICIPALITY (DC27) | E46: =C46/$C$87*100 -> 0.015731398
... A85: WEENEN | B85: WEENEN LOCAL MUNICIPALITY | C85: 6 | D85: UTHUKELA REGIONAL COUNCIL SOUTH | E85: =C85/$C$87*100 -> 0.013484055
C87: =SUM(C35:C85) -> 44497
A90: TRANSPORT
A91: MAIN TOWN OR CITY | B91: MUNICIPALITY | C91: NUMBER OF EMPLOYEES 2010 | D91: NUMBER OF EMPLOYEES 2011 | E91: AS A % OF KZN 2010 | F91: AS A % OF KZN 2011 | G91: Year-on-Year % Change
A92: Bergville | B92: Okhahlamba Local Municipality | C92: =C3 -> 17 | D92: =C35 -> 39 | E92: =C92/$C$141*100 -> 0.31044558 | F92: =D92/$D$141*100 -> 0.69655296 | G92: =(D92-C92)/C92*100 -> 129.41176
A93: Camperdown | B93: Umkhambathini Local Munipality | C93: - | D93: =C36 -> 15 | E93: - | F93: =D93/$D$141*100 -> 0.26790498 | G93: -
A94: Dannhauser | B94: Dannhauser Local Municipality | C94: - | D94: =C37 -> 7 | E94: - | F94: =D94/$D$141*100 -> 0.12502233 | G94: -
A95: Dundee | B95: Endumeni Local Municipality | C95: =C4 -> 271 | D95: 218 | E95: =C95/$C$141*100 -> 4.9488678 | F95: =D95/$D$141*100 -> 3.8935524 | G95: =(D95-C95)/C95*100 -> -19.557196
A96: Durban | B96: Ethekwini Local Municipality | C96: =C5 -> 909 | D96: 612 | E96: =C96/$C$141*100 -> 16.599708 | F96: =D96/$D$141*100 -> 10.930523 | G96: =(D96-C96)/C96*100 -> -32.673267
A97: Eshowe | B97: Enkandla Local Municipality | C97: =C6 -> 362 | D97: 226 | E97: =C97/$C$141*100 -> 6.6106647 | F97: =D97/$D$141*100 -> 4.0364351 | G97: =(D97-C97)/C97*100 -> -37.569061
A98: Estcourt | B98: Umtshezi Local Municipality | C98: =C7 -> 319 | D98: 177 | E98: =C98/$C$141*100 -> 5.82542 | F98: =D98/$D$141*100 -> 3.1612788 | G98: =(D98-C98)/C98*100 -> -44.514107
A99: Glencoe | B99: Endumeni Local Municipality | C99: - | D99: =C42 -> 2 | E99: - | F99: =D99/$D$141*100 -> 0.035720664 | G99: -
A100: Hlabisa | B100: Hlabisa Local Municipality | C100: =C8 -> 175 | D100: 207 | E100: =C100/$C$141*100 -> 3.1957633 | F100: =D100/$D$141*100 -> 3.6970888 | G100: =(D100-C100)/C100*100 -> 18.285714
A101: Humansdorp | B101: Humansdorp Local Municipality | C101: - | D101: =C44 -> 1 | E101: - | F101: =D101/$D$141*100 -> 0.017860332 | G101: -
A102: Impendle | B102: Impendle Local Municipality | C102: - | D102: =C45 -> 22 | E102: - | F102: =D102/$D$141*100 -> 0.39292731 | G102: -
A103: Ingwavuma | B103: Jozini Local Municipality | C103: - | D103: =C46 -> 7 | E103: - | F103: =D103/$D$141*100 -> 0.12502233 | G103: -
A104: Ixopo | B104: Ubuhlebezwe Local Municipality | C104: =C10 -> 233 | D104: 158 | E104: =C104/$C$141*100 -> 4.2549306 | F104: =D104/$D$141*100 -> 2.8219325 | G104: =(D104-C104)/C104*100 -> -32.188841
A105: Klipriver | B105: Okhahlamba Local Municipality | C105: =C11 -> 57 | D105: =C48 -> 197 | E105: =C105/$C$141*100 -> 1.0409058 | F105: =D105/$D$141*100 -> 3.5184854 | G105: =(D105-C105)/C105*100 -> 245.61404
A106: Kranskop | B106: Umvoti Local Municipality | C106: - | D106: =C49 -> 8 | E106: - | F106: =D106/$D$141*100 -> 0.14288266 | G106: -
A107: Ladismith | B107: Emnambithi-Ladysmith Local Municipality | C107: =C12 -> 18 | D107: 40 | E107: =C107/$C$141*100 -> 0.32870709 | F107: =D107/$D$141*100 -> 0.71441329 | G107: =(D107-C107)/C107*100 -> 122.22222
A108: Lions River | B108: Umngeni Local Municipality | C108: - | D108: =C51 -> 43 | E108: - | F108: =D108/$D$141*100 -> 0.76799428 | G108: -
A109: Lower Tugela | B109: Maphumulo Local Municipality | C109: - | D109: 177 | E109: - | F109: =D109/$D$141*100 -> 3.1612788 | G109: -
A110: Lower Umfolozi | B110: Mbonanbi Local Municipality | C110: =C13 -> 391 | D110: =C53 -> 151 | E110: =C110/$C$141*100 -> 7.1402484 | F110: =D110/$D$141*100 -> 2.6969102 | G110: =(D110-C110)/C110*100 -> -61.381074
A111: Mapumulo | B111: Maphumulo Local Municipality | C111: - | D111: =C54 -> 37 | E111: - | F111: =D111/$D$141*100 -> 0.66083229 | G111: -
A112: Matatiele | B112: Matatiele Municipality | C112: - | D112: =C55 -> 6 | E112: - | F112: =D112/$D$141*100 -> 0.10716199 | G112: -
A113: Mhlabatini | B113: Ukundi Local Municipality | C113: =C14 -> 224 | D113: 153 | E113: =C113/$C$141*100 -> 4.0905771 | F113: =D113/$D$141*100 -> 2.7326308 | G113: =(D113-C113)/C113*100 -> -31.696429
A114: Msinga | B114: Msinga Local Municipality | C114: - | D114: =C57 -> 13 | E114: - | F114: =D114/$D$141*100 -> 0.23218432 | G114: -
A115: Mount Currie | B115: The Greater Kokstad Municipality | C115: =C15 -> 16 | D115: 59 | E115: =C115/$C$141*100 -> 0.29218408 | F115: =D115/$D$141*100 -> 1.0537596 | G115: =(D115-C115)/C115*100 -> 268.75
A116: Mtonjaneni | B116: Mtonjaneni Local Municipality | C116: - | D116: =C59 -> 5 | E116: - | F116: =D116/$D$141*100 -> 0.089301661 | G116: -
A117: Ndwedwe | B117: Kwadukuza Local Municipality | C117: - | D117: =C60 -> 15 | E117: - | F117: =D117/$D$141*100 -> 0.26790498 | G117: -
A118: Mtunzini | B118: Umlalazi Municipality | C118: =C17 -> 12 | D118: =C61 -> 29 | E118: =C118/$C$141*100 -> 0.21913806 | F118: =D118/$D$141*100 -> 0.51794963 | G118: =(D118-C118)/C118*100 -> 141.66667
A119: New Hanover | B119: Umdoni Local Municipality | C119: =C18 -> 12 | D119: =C62 -> 13 | E119: =C119/$C$141*100 -> 0.21913806 | F119: =D119/$D$141*100 -> 0.23218432 | G119: =(D119-C119)/C119*100 -> 8.3333333
A120: Newcastle | B120: Newcastle Local Municipality | C120: =C19 -> 165 | D120: 181 | E120: =C120/$C$141*100 -> 3.0131483 | F120: =D120/$D$141*100 -> 3.2327201 | G120: =(D120-C120)/C120*100 -> 9.6969697
A121: Ngotshe | B121: Uphongola Local Municipality | C121: - | D121: =C64 -> 6 | E121: - | F121: =D121/$D$141*100 -> 0.10716199 | G121: -
A122: Nkandhla | B122: Nkandla Local Municipality | C122: =C20 -> 11 | D122: 31 | E122: =C122/$C$141*100 -> 0.20087655 | F122: =D122/$D$141*100 -> 0.5536703 | G122: =(D122-C122)/C122*100 -> 181.81818
A123: Nongoma | B123: Nongoma Local Municipality | C123: =C21 -> 12 | D123: 114 | E123: =C123/$C$141*100 -> 0.21913806 | F123: =D123/$D$141*100 -> 2.0360779 | G123: =(D123-C123)/C123*100 -> 850
A124: Nquthu | B124: Nquthu Local Municipality | D124: =C67 -> 22 | E124: =C124/$C$141*100 -> 0 | F124: =D124/$D$141*100 -> 0.39292731 | G124: -
A125: Paulpietersburg | B125: Edumbe Local Municipality | C125: - | D125: =C68 -> 12 | E125: - | F125: =D125/$D$141*100 -> 0.21432399 | G125: -
A126: Pietermaritzburg | B126: Umsunduzi Local Mnicipality | C126: =C23 -> 1776 | D126: 1596 | E126: =C126/$C$141*100 -> 32.432432 | F126: =D126/$D$141*100 -> 28.50509 | G126: =(D126-C126)/C126*100 -> -10.135135
A127: Pinetown | B127: Ethekwini Local Municipality | C127: - | D127: =C71 -> 196 | E127: - | F127: =D127/$D$141*100 -> 3.5006251 | G127: -
A128: Port Shepstone | B128: Hibuscus Coast Local Municipality | C128: =C25 -> 271 | D128: 258 | E128: =C128/$C$141*100 -> 4.9488678 | F128: =D128/$D$141*100 -> 4.6079657 | G128: =(D128-C128)/C128*100 -> -4.797048
A129: Richmond | B129: Richmond Local Municipality | C129: =C26 -> 6 | D129: =C74 -> 2 | E129: =C129/$C$141*100 -> 0.10956903 | F129: =D129/$D$141*100 -> 0.035720664 | G129: =(D129-C129)/C129*100 -> -66.666667
A130: Riversdale | B130: Riversdale Municipality | C130: =C27 -> 3 | D130: =C75 -> 2 | E130: =C130/$C$141*100 -> 0.054784514 | F130: =D130/$D$141*100 -> 0.035720664 | G130: =(D130-C130)/C130*100 -> -33.333333
A131: Simdlangentsha | B131: Simdlangentsha Municipality | C131: - | D131: =C76 -> 27 | E131: - | F131: =D131/$D$141*100 -> 0.48222897 | G131: -
A132: Ubombo | B132: The Big Five False Bay Local Municipality | C132: - | D132: =C77 -> 79 | E132: - | F132: =D132/$D$141*100 -> 1.4109662 | G132: -
A133: Umvoti | B133: Mvoti Local Municipality | C133: - | D133: =C79 -> 84 | E133: - | F133: =D133/$D$141*100 -> 1.5002679 | G133: -
A134: Umzimkulu | B134: Umzimkulu Local Municipality | C134: =C28 -> 43 | D134: =C80 -> 60 | E134: =C134/$C$141*100 -> 0.7852447 | F134: =D134/$D$141*100 -> 1.0716199 | G134: =(D134-C134)/C134*100 -> 39.534884
A135: Umzinto | B135: Ethekwini Municipality Metropolitan | C135: - | D135: =C81 -> 59 | E135: - | F135: =D135/$D$141*100 -> 1.0537596 | G135: -
A136: Underburg | B136: Kwasani Local Municipality | C136: - | D136: =C82 -> 35 | E136: - | F136: =D136/$D$141*100 -> 0.62511163 | G136: -
A137: Utrecht | B137: Emadlangeni Local Municipality | C137: - | D137: =C83 -> 24 | E137: - | F137: =D137/$D$141*100 -> 0.42864797 | G137: -
A138: Vryheid | B138: Abaqulusi Local Municipality | C138: =C29 -> 173 | D138: 168 | E138: =C138/$C$141*100 -> 3.1592403 | F138: =D138/$D$141*100 -> 3.0005358 | G138: =(D138-C138)/C138*100 -> -2.8901734
A139: Weenen | B139: Weenen Local Municipality | C139: - | D139: =C85 -> 6 | F139: =D139/$D$141*100 -> 0.10716199 | G139: -
C141: =SUM(C92:C139) -> 5476 | D141: =SUM(D92:D139) -> 5599 | E141: =C141/$C$141*100 -> 100 | F141: =D141/$D$141*100 -> 100 | G141: =(D141-C141)/C141*100 -> 2.2461651

Sheet Social Development 13 
A1: MAIN TOWN OR CITY | B1: MUNICIPALITY | C1: NUMBER OF EMPLOYEES | D1: DISTRICT | E1: AS A % OF KZN
A2: 2009/2010 | B2: 2009/2010
A3: DURBAN | B3: ETHEKWINI METRO MUNICIPALITY | C3: 833 | D3: ETHEKWINI MUNICIPALITY | E3: =C3/$C$9*100 -> 29.413842
A4: KLIPRIVER | B4: OKHAHLAMBA LOCAL MUNICIPALITY | C4: 66 | D4: UTHUKELA REGIONAL COUNCIL SOUTH | E4: =C4/$C$9*100 -> 2.3305085
A5: LADISMITH | B5: AMAJUBA LOCAL MUNICIPALITY | C5: 615 | D5: AMAJUBA DISTRICT MUNICIPALITY | E5: =C5/$C$9*100 -> 21.716102
A6: MHLABATINI | B6: ETHEKWINI MUNINICIPALITY METROPOLITAN | C6: 865 | D6: ETHEKWINI MUNICIPALITY | E6: =C6/$C$9*100 -> 30.543785
A7: PIETERMARITZBURG | B7: UMSUNDUZI LOCAL MUNICIPALITAN | C7: 453 | D7: UMGUNGUNDLOVU DISTRICT MUNICIPALITY | E7: =C7/$C$9*100 -> 15.995763
C9: =SUM(C3:C8) -> 2832
A10: 2010/11
B11: 2010/2011
A12: BERGVILLE | B12: OKHAHLAMBA LOCAL MUNICIPALITY | C12: 31 | D12: UTHUKELA REGIONAL COUNCIL SOUTH | E12: =C12/$C$62*100 -> 0.90722856
A13: CAMPERDOWN | B13: UMKHAMBATHINI LOCAL MUNIPALITY | C13: 14 | D13: UMGUNGUNDLOVU DISTRICT MUNICIPALITY | E13: =C13/$C$62*100 -> 0.40971613
A14: CHATSWORTH | B14: ETHEKWINI LOCAL MUNICIPALITY | C14: 25 | D14: ETHEKWINI MUNICIPALITY | E14: =C14/$C$62*100 -> 0.73163594
A15: DANNAHOUSER | B15: DANNHAUSER LOCAL MUNICIPALITY | C15: 25 | D15: UTHUKELA REGIONAL COUNCIL SOUTH | E15: =C15/$C$62*100 -> 0.73163594
A16: DUNDEE | B16: ENDUMENI LOCAL MUNICIPALITY | C16: 24 | D16: UMZINYATHI DISTRICT MUNICIPALITY | E16: =C16/$C$62*100 -> 0.7023705
A17: DURBAN | B17: ETHEKWINI METRO MUNICIPALITY | C17: 458 | D17: ETHEKWINI MUNICIPALITY | E17: =C17/$C$62*100 -> 13.40357
A18: EKUVUKENI | B18: EKUVUKENI MUNICIPALITY | C18: 17 | D18: UTHUKELA REGIONAL COUNCIL SOUTH | E18: =C18/$C$62*100 -> 0.49751244
A19: ESHOWE | B19: ENKANDLA LOCAL MUNICIPALITY | C19: 51 | D19: UTHUNGULU DISTRICT MUNICIPALITY | E19: =C19/$C$62*100 -> 1.4925373
A20: ESTCOURT | B20: UMTSHEZI LOCAL MUNICIPALITY | C20: 21 | D20: UTHUKELA REGIONAL COUNCIL SOUTH | E20: =C20/$C$62*100 -> 0.61457419
A21: GLENCOE | B21: GLENCOE MUNICIPALITY | C21: 16 | D21: UMZINYATHI DISTRICT MUNICIPALITY | E21: =C21/$C$62*100 -> 0.468247
A22: HLABISA | B22: HLABISA LOCAL MUNICIPALITY | C22: 67 | D22: UMKHANYAKUDE DISTRICT MUNICIPALITY (DC27) | E22: =C22/$C$62*100 -> 1.9607843
A23: HLANGANANI | B23: UMZUMBE LOCAL MUNICIPALITY | C23: 19 | D23: UMGUNGUNDLOVU DISTRICT MUNICIPALITY | E23: =C23/$C$62*100 -> 0.55604331
... A60: WEENEN | B60: WEENEN LOCAL MUNICIPALITY | C60: 16 | D60: UTHUKELA REGIONAL COUNCIL SOUTH | E60: =C60/$C$62*100 -> 0.468247
C62: =SUM(C12:C60) -> 3417
A64: SOCIAL DEVELOPMENT
A65: MAIN TOWN OR CITY | B65: MUNICIPALITY | C65: NUMBER OF EMPLOYEES 2010 | D65: NUMBER OF EMPLOYEES 2011 | E65: AS A % OF KZN 2010 | F65: AS A % OF KZN 2011 | G65: Year-on-Year % Change
A66: Bergville | B66: Okhahlamba Local Municipality | C66: - | D66: =C12 -> 31 | E66: - | F66: =D66/$D$116*100 -> 0.90722856 | G66: -
A67: Camperdown | B67: Umkhambathini Local Munipality | C67: - | D67: =C13 -> 14 | E67: - | F67: =D67/$D$116*100 -> 0.40971613 | G67: -
A68: Chatsworth | B68: Ethekwini Local Municipality | C68: - | D68: =C14 -> 25 | E68: - | F68: =D68/$D$116*100 -> 0.73163594 | G68: -
A69: Dannahouser | B69: Dannhauser Local Municipality | C69: - | D69: =C15 -> 25 | E69: - | F69: =D69/$D$116*100 -> 0.73163594 | G69: -
A70: Dundee | B70: Endumeni Local Municipality | C70: - | D70: =C16 -> 24 | E70: - | F70: =D70/$D$116*100 -> 0.7023705 | G70: -
A71: Durban | B71: Ethekwini Metro Municipality | C71: 833 | D71: =C17 -> 458 | E71: =C71/$C$116*100 -> 29.413842 | F71: =D71/$D$116*100 -> 13.40357 | G71: =(D71-C71)/C71*100 -> -45.018007
A72: Ekuvukeni | B72: Ekuvukeni Municipality | C72: - | D72: =C18 -> 17 | E72: - | F72: =D72/$D$116*100 -> 0.49751244 | G72: -
A73: Eshowe | B73: Enkandla Local Municipality | C73: - | D73: =C19 -> 51 | E73: - | F73: =D73/$D$116*100 -> 1.4925373 | G73: -
A74: Estcourt | B74: Umtshezi Local Municipality | C74: - | D74: =C20 -> 21 | E74: - | F74: =D74/$D$116*100 -> 0.61457419 | G74: -
A75: Glencoe | B75: Glencoe Municipality | C75: - | D75: =C21 -> 16 | E75: - | F75: =D75/$D$116*100 -> 0.468247 | G75: -
A76: Hlabisa | B76: Hlabisa Local Municipality | C76: - | D76: =C22 -> 67 | E76: - | F76: =D76/$D$116*100 -> 1.9607843 | G76: -
A77: Hlanganani | B77: Umzumbe Local Municipality | C77: - | D77: =C23 -> 19 | E77: - | F77: =D77/$D$116*100 -> 0.55604331 | G77: -
A78: Impendle | B78: Impendle Local Municipality | C78: - | D78: =C24 -> 8 | E78: - | F78: =D78/$D$116*100 -> 0.2341235 | G78: -
A79: Inanda | B79: Ethekwini Municipality Metropolotan | C79: - | D79: =C25 -> 40 | E79: - | F79: =D79/$D$116*100 -> 1.1706175 | G79: -
A80: Ingwavuma | B80: Jozini Local Municipality | C80: - | D80: =C26 -> 76 | E80: - | F80: =D80/$D$116*100 -> 2.2241733 | G80: -
A81: Ixopo | B81: Ubuhlebezwe Local Municipality | C81: - | D81: =C27 -> 17 | E81: - | F81: =D81/$D$116*100 -> 0.49751244 | G81: -
A82: Klipriver | B82: Okhahlamba Local Municipality | C82: 66 | D82: =C28 -> 73 | E82: =C82/$C$116*100 -> 2.3305085 | F82: =D82/$D$116*100 -> 2.1363769 | G82: =(D82-C82)/C82*100 -> 10.606061
A83: Kranskop | B83: Umvoti Local Municipality | C83: - | D83: =C29 -> 19 | E83: - | F83: =D83/$D$116*100 -> 0.55604331 | G83: -
A84: Ladismith | B84: Amajuba Local Municipality | C84: 615 | D84: =C30 -> 52 | E84: =C84/$C$116*100 -> 21.716102 | F84: =D84/$D$116*100 -> 1.5218028 | G84: =(D84-C84)/C84*100 -> -91.544715
A85: Lower Tugela | B85: Maphumulo Local Municipality | C85: - | D85: =C31 -> 40 | E85: - | F85: =D85/$D$116*100 -> 1.1706175 | G85: -
A86: Maphumulo | B86: Maphumulo Local Municipality | C86: - | D86: =C32 -> 9 | E86: - | F86: =D86/$D$116*100 -> 0.26338894 | G86: -
A87: Matatiele | B87: Matatiele Municipality | C87: - | D87: =C33 -> 11 | E87: - | F87: =D87/$D$116*100 -> 0.32191981 | G87: -
A88: Mhlabatini | B88: Ethekwini Muninicipality Metropolitan | C88: 865 | D88: =C34 -> 270 | E88: =C88/$C$116*100 -> 30.543785 | F88: =D88/$D$116*100 -> 7.9016681 | G88: =(D88-C88)/C88*100 -> -68.786127
A89: Mooiriver | B89: Mpofana Local Municipality | C89: - | D89: =C35 -> 13 | E89: - | F89: =D89/$D$116*100 -> 0.38045069 | G89: -
A90: Mount Currie | B90: The Great Kokstard Local Municipality | C90: - | D90: =C36 -> 11 | E90: - | F90: =D90/$D$116*100 -> 0.32191981 | G90: -
A91: Msinga | B91: Msinga Local Municipality | C91: - | D91: =C37 -> 26 | E91: - | F91: =D91/$D$116*100 -> 0.76090138 | G91: -
A92: Mtonjaneni | B92: Mtonjaneni Local Municipality | C92: - | D92: =C38 -> 23 | E92: - | F92: =D92/$D$116*100 -> 0.67310506 | G92: -
A93: Mtunzini | B93: Umlalazi Municipality | C93: - | D93: =C39 -> 146 | E93: - | F93: =D93/$D$116*100 -> 4.2727539 | G93: -
A94: Ndwedwe | B94: Ndwendwe Local Municipality | C94: - | D94: =C40 -> 29 | E94: - | F94: =D94/$D$116*100 -> 0.84869769 | G94: -
A95: New Hanover | B95: Umshwathi Municipality | C95: - | D95: =C41 -> 17 | E95: - | F95: =D95/$D$116*100 -> 0.49751244 | G95: -
A96: Newcastle | B96: Newcastle Local Municipality | C96: - | D96: =C42 -> 288 | E96: - | F96: =D96/$D$116*100 -> 8.428446 | G96: -
A97: Ngotshe | B97: Uphongola Local Municipality | C97: - | D97: =C43 -> 21 | E97: - | F97: =D97/$D$116*100 -> 0.61457419 | G97: -
A98: Nkandla | B98: Nkandla Local Municipality | C98: - | D98: =C44 -> 47 | E98: - | F98: =D98/$D$116*100 -> 1.3754756 | G98: -
A99: Nquthu | B99: Nquthu Local Municipality | C99: - | D99: =C45 -> 70 | E99: - | F99: =D99/$D$116*100 -> 2.0485806 | G99: -
A100: Paul Pietersburg | B100: Edumbe Local Municipality | C100: - | D100: =C46 -> 24 | E100: - | F100: =D100/$D$116*100 -> 0.7023705 | G100: -
A101: Pietermaritzburg | B101: Umsunduzi Local Municipalitan | C101: 453 | D101: =C47 -> 753 | E101: =C101/$C$116*100 -> 15.995763 | F101: =D101/$D$116*100 -> 22.036874 | G101: =(D101-C101)/C101*100 -> 66.225166
A102: Pinetown | B102: Ethekwini Local Municipality | C102: - | D102: =C48 -> 136 | E102: - | F102: =D102/$D$116*100 -> 3.9800995 | G102: -
A103: Port Shepstone | B103: Hibuscus Coast Local Municipality | C103: - | D103: =C49 -> 95 | E103: - | F103: =D103/$D$116*100 -> 2.7802166 | G103: -
A104: Richmond | B104: Richmond Local Municipality | C104: - | D104: =C50 -> 16 | E104: - | F104: =D104/$D$116*100 -> 0.468247 | G104: -
A105: Ubombo | B105: Umkhanyakude Distric Municipality | C105: - | D105: =C51 -> 29 | E105: - | F105: =D105/$D$116*100 -> 0.84869769 | G105: -
A106: Umbumbulu | B106: Mkhambathini Local Municipality | C106: - | D106: =C52 -> 44 | E106: - | F106: =D106/$D$116*100 -> 1.2876793 | G106: -
A107: Umlazi | B107: Ethekwini Municipality Metropolitan | C107: - | D107: =C53 -> 81 | E107: - | F107: =D107/$D$116*100 -> 2.3705004 | G107: -
A108: Umvoti | B108: Mvoti Local Municipality | C108: - | D108: =C54 -> 21 | E108: - | F108: =D108/$D$116*100 -> 0.61457419 | G108: -
A109: Umzimkhulu | B109: Umzimkhulu Local Municipality | C109: - | D109: =C55 -> 25 | E109: - | F109: =D109/$D$116*100 -> 0.73163594 | G109: -
A110: Umzinto | B110: Ethekwini Municipality Metropolitan | C110: - | D110: =C56 -> 20 | E110: - | F110: =D110/$D$116*100 -> 0.58530875 | G110: -
A111: Underburg | B111: Kwasani Local Municipality | C111: - | D111: =C57 -> 14 | E111: - | F111: =D111/$D$116*100 -> 0.40971613 | G111: -
A112: Utrecht | B112: Emadlangeni Local Municipality | C112: - | D112: =C58 -> 20 | E112: - | F112: =D112/$D$116*100 -> 0.58530875 | G112: -
A113: Vryheid | B113: Abaqulusi Local Municipality | C113: - | D113: =C59 -> 49 | E113: - | F113: =D113/$D$116*100 -> 1.4340064 | G113: -
A114: Weenen | B114: Weenen Local Municipality | C114: - | D114: =C60 -> 16 | E114: - | F114: =D114/$D$116*100 -> 0.468247 | G114: -
C116: =SUM(C66:C114) -> 2832 | D116: =SUM(D66:D114) -> 3417 | E116: =SUM(E66:E114) -> 100 | F116: =SUM(F66:F114) -> 100 | G116: =(D116-C116)/C116*100 -> 20.65678

Sheet Public Works  14
A1: MAIN TOWN OR CITY | B1: MUNICIPALITY | C1: NUMBER OF EMPLOYEES | D1: DISTRICT | E1: AS A % OF KZN
A2: 2009/2010
A3: MTUNZINI | B3: Mbombela Local Municipality | C3: 109 | D3: UMKHANYAKUDE DISTRICT MUNICIPALITY (DC27) | E3: =C3/$C$11*100 -> 10.644531
A4: NEWCASTLE | B4: NEWCASTLE LOCAL MUNICIPALITY | C4: 45 | D4: UMZINYATHI DISTRICT MUNICIPALITY | E4: =C4/$C$11*100 -> 4.3945312
A5: NONGOMA | B5: NONGOMA LOCAL MUNICIPALITY | C5: 174 | D5: ZULULAND DISTRICT MUNICIPALITY | E5: =C5/$C$11*100 -> 16.992188
A6: PIETERMARITZBURG | B6: UMSUNDUZI LOCAL MUNICIPALITY | C6: 491 | D6: UMGUNGUNDLOVU DISTRICT MUNICIPALITY | E6: =C6/$C$11*100 -> 47.949219
A7: PORT SHEPSTONE | B7: HIBISCUS COAST LOCAL MUNICIPALITY | C7: 80 | D7: UGU DISTRICT MUNICIPALITY | E7: =C7/$C$11*100 -> 7.8125
A8: UBOMBO | B8: THE BIG FIVE FALSE BAY LOCAL MUNICIPALITY | C8: 82 | D8: UMKHANYAKUDE DISTRICT MUNICIPALITY (DC27) | E8: =C8/$C$11*100 -> 8.0078125
A9: VRYHEID | B9: ABAQULUSI LOCAL MUNICIPALITY | C9: 43 | D9: ZULULAND DISTRICT MUNICIPALITY | E9: =C9/$C$11*100 -> 4.1992188
C11: =SUM(C3:C10) -> 1024
A12: 2010/11
A14: DUNDEE | B14: ENDUMENI LOCAL MUNICIPALITY | C14: 65 | D14: UMZINYATHI DISTRICT MUNICIPALITY | E14: =C14/$C$30*100 -> 3.1070746
A15: DURBAN | B15: ETHEKWINI LOCAL MUNICIPALITY | C15: 463 | D15: ETHEKWINI MUNICIPALITY | E15: =C15/$C$30*100 -> 22.131931
A16: EMNAMBITHI | B16: EMNAMBITHI-LADYSMITH LOCAL MUNICIPALITY | C16: 3 | D16: UTHUNGULU DISTRICT MUNICIPALITY | E16: =C16/$C$30*100 -> 0.14340344
A17: ESHOWE | B17: INKANDLA LOCAL MUNICIPALITY | C17: 97 | D17: UTHUKELA DISTRICT MUNICIPALITY | E17: =C17/$C$30*100 -> 4.6367113
A18: HLABISA | B18: BIG FIVE FALSE BAY LOCAL MUNICIPALITY | C18: 46 | D18: UMKHANYAKUDE DISTRICT MUNICIPALITY (DC27) | E18: =C18/$C$30*100 -> 2.1988528
A19: KLIPRIVER | B19: LADYSMITH LOCAL MUNICIPALITY | C19: 141 | D19: UTHUKELA REGIONAL COUNCIL SOUTH | E19: =C19/$C$30*100 -> 6.7399618
A20: LOWER UMFOLOZI | B20: MTUBATUBA LOCAL MUNICIPALITY | C20: 4 | D20: UTHUNGULU DISTRICT MUNICIPALITY | E20: =C20/$C$30*100 -> 0.19120459
A21: MHLABATHINI | B21: ULUNDI LOCAL MUNICIPALITY | C21: 307 | D21: ZULULAND DISTRICT MUNICIPALITY | E21: =C21/$C$30*100 -> 14.674952
A22: MTUNZINI | B22: Mbombela Local Municipality | C22: 81 | D22: UMKHANYAKUDE DISTRICT MUNICIPALITY (DC27) | E22: =C22/$C$30*100 -> 3.8718929
A23: NEWCASTLE | B23: NEWCASTLE LOCAL MUNICIPALITY | C23: 44 | D23: UMZINYATHI DISTRICT MUNICIPALITY | E23: =C23/$C$30*100 -> 2.1032505
A24: NONGOMA | B24: NONGOMA LOCAL MUNICIPALITY | C24: 185 | D24: ZULULAND DISTRICT MUNICIPALITY | E24: =C24/$C$30*100 -> 8.8432122
A25: PIETERMARITZBURG | B25: UMSUNDUZI LOCAL MUNICIPALITY | C25: 488 | D25: UMGUNGUNDLOVU DISTRICT MUNICIPALITY | E25: =C25/$C$30*100 -> 23.32696
... A28: VRYHEID | B28: ABAQULUSI LOCAL MUNICIPALITY | C28: 39 | D28: ZULULAND DISTRICT MUNICIPALITY | E28: =C28/$C$30*100 -> 1.8642447
C30: =SUM(C14:C28) -> 2092
A32: PUBLIC WORKS
A33: MAIN TOWN OR CITY | B33: MUNICIPALITY | C33: NUMBER OF EMPLOYEES 2010 | D33: NUMBER OF EMPLOYEES 2011 | E33: AS A % OF KZN 2010 | F33: AS A % OF KZN 2011 | G33: Year-on-Year % Change
A34: Dundee | B34: Endumeni Local Municipality | C34: - | D34: =C14 -> 65 | E34: - | F34: =D34/$D$50*100 -> 3.1070746 | G34: -
A35: Durban | B35: Ethekwini Local Municipality | C35: - | D35: =C15 -> 463 | E35: - | F35: =D35/$D$50*100 -> 22.131931 | G35: -
A36: Emnambithi | B36: Emnambithi-Ladysmith Local Municipality | C36: - | D36: =C16 -> 3 | E36: - | F36: =D36/$D$50*100 -> 0.14340344 | G36: -
A37: Eshowe | B37: Inkandla Local Municipality | C37: - | D37: =C17 -> 97 | E37: - | F37: =D37/$D$50*100 -> 4.6367113 | G37: -
A38: Hlabisa | B38: Big Five False Bay Local Municipality | C38: - | D38: =C18 -> 46 | E38: - | F38: =D38/$D$50*100 -> 2.1988528 | G38: -
A39: Klipriver | B39: Ladysmith Local Municipality | C39: - | D39: =C19 -> 141 | E39: - | F39: =D39/$D$50*100 -> 6.7399618 | G39: -
A40: Lower Umfolozi | B40: Mtubatuba Local Municipality | C40: - | D40: =C20 -> 4 | E40: - | F40: =D40/$D$50*100 -> 0.19120459 | G40: -
A41: Mhlabathini | B41: Ulundi Local Municipality | C41: - | D41: =C21 -> 307 | E41: - | F41: =D41/$D$50*100 -> 14.674952 | G41: -
A42: Mtunzini | B42: Mbombela Local Municipality | C42: =C3 -> 109 | D42: =C22 -> 81 | E42: =C42/$C$50*100 -> 10.644531 | F42: =D42/$D$50*100 -> 3.8718929 | G42: =(D42-C42)/C42*100 -> -25.688073
A43: Newcastle | B43: Newcastle Local Municipality | C43: =C4 -> 45 | D43: =C23 -> 44 | E43: =C43/$C$50*100 -> 4.3945312 | F43: =D43/$D$50*100 -> 2.1032505 | G43: =(D43-C43)/C43*100 -> -2.2222222
A44: Nongoma | B44: Nongoma Local Municipality | C44: =C5 -> 174 | D44: =C24 -> 185 | E44: =C44/$C$50*100 -> 16.992188 | F44: =D44/$D$50*100 -> 8.8432122 | G44: =(D44-C44)/C44*100 -> 6.3218391
A45: Pietermaritzburg | B45: Umsunduzi Local Municipality | C45: =C6 -> 491 | D45: =C25 -> 488 | E45: =C45/$C$50*100 -> 47.949219 | F45: =D45/$D$50*100 -> 23.32696 | G45: =(D45-C45)/C45*100 -> -0.61099796
A46: Port Shepstone | B46: Hibiscus Coast Local Municipality | C46: =C7 -> 80 | D46: =C26 -> 75 | E46: =C46/$C$50*100 -> 7.8125 | F46: =D46/$D$50*100 -> 3.585086 | G46: =(D46-C46)/C46*100 -> -6.25
A47: Ubombo | B47: The Big Five False Bay Local Municipality | C47: =C8 -> 82 | D47: =C27 -> 54 | E47: =C47/$C$50*100 -> 8.0078125 | F47: =D47/$D$50*100 -> 2.581262 | G47: =(D47-C47)/C47*100 -> -34.146341
A48: Vryheid | B48: Abaqulusi Local Municipality | C48: =C9 -> 43 | D48: =C28 -> 39 | E48: =C48/$C$50*100 -> 4.1992188 | F48: =D48/$D$50*100 -> 1.8642447 | G48: =(D48-C48)/C48*100 -> -9.3023256
C50: =SUM(C34:C48) -> 1024 | D50: =SUM(D34:D48) -> 2092 | E50: =SUM(E34:E48) -> 100 | F50: =SUM(F34:F48) -> 100 | G50: =(D50-C50)/C50*100 -> 104.29688

Sheet Art and Cultur e 15
A1: MAIN TOWN OR CITY | B1: MUNICIPALITY | C1: NUMBER OF EMPLOYEES | D1: DISTRICT | E1: AS A % OF KZN
A2: 2009/2010
A3: PIETERMARITZBURG | B3: UMSUNDUZI LOCAL MUNICIPALITY | C3: 436 | D3: UMGUNGUNDLOVU DISTRICT MUNICIPALITY | E3: =C3/C5*100 -> 100
C5: =C3 -> 436
A8: 2010/2011
A9: PIETERMARITZBURG | B9: UMSUNDUZI LOCAL MUNICIPALITY | C9: 447 | D9: UMGUNGUNDLOVU DISTRICT MUNICIPALITY | E9: =C9/C11*100 -> 100
C11: =C9 -> 447
A14: ART AND CULTURE
A15: MAIN TOWN OR CITY | B15: MUNICIPALITY | C15: NUMBER OF EMPLOYEES 2010 | D15: NUMBER OF EMPLOYEES 2011 | E15: AS A % OF KZN 2010 | F15: AS A % OF KZN 2011 | G15: Year-on-Year % Change
A16: Pietermaritzburg | B16: Umsunduzi Local Municipality | C16: =C3 -> 436 | D16: =C9 -> 447 | E16: =C16/C18*100 -> 100 | F16: =D16/D18*100 -> 100 | G16: =(D16-C16)/C16*100 -> 2.5229358
C18: =C16 -> 436 | D18: =D16 -> 447 | E18: =E16 -> 100 | F18: =F16 -> 100 | G18: =(D18-C18)/C18*100 -> 2.5229358

Sheet Sport and Recreation 16
A1: MAIN TOWN OR CITY | B1: MUNICIPALITY | C1: NUMBER OF EMPLOYEES | D1: DISTRICT | E1: AS A % OF KZN
A2: 2009/2010
A3: DURBAN | B3: ETHEKWINI MUNICIPALITY METROPOLOTAN | C3: 165 | D3: ETHEKWINI MUNICIPALITY | E3: =C3/C5*100 -> 100
C5: =C3 -> 165
A7: 2010/11
A9: DURBAN | B9: ETHEKWINI MUNICIPALITY METROPOLOTAN | C9: 97 | D9: ETHEKWINI MUNICIPALITY | E9: =C9/$C$16*100 -> 4.6344959
A10: EMNAMBITHI | B10: EMNAMBITHI-LADYSMITH LOCAL MUNICIPALITY | C10: 19 | D10: UTHUKELA REGIONAL COUNCIL SOUTH | E10: =C10/$C$16*100 -> 0.90778786
A11: LADISMITH | B11: EMNAMBITHI-LADYSMITH LOCAL MUNICIPALITY | C11: 13 | D11: UTHUKELA REGIONAL COUNCIL SOUTH | E11: =C11/$C$16*100 -> 0.62111801
A12: MHLABATHINI | B12: ULUNDI LOCAL MUNICIPALITY | C12: 10 | D12: ZULULAND DISTRICT MUNICIPALITY | E12: =C12/$C$16*100 -> 0.47778309
A13: PIETERMARITZBURG | B13: UMSUNDUZI LOCAL MNICIPALITY | C13: 1947 | D13: UMGUNGUNDLOVU DISTRICT MUNICIPALITY | E13: =C13/$C$16*100 -> 93.024367
A14: PORTSHEPSTONE | B14: HIBUSCUS COAST LOCAL MUNICIPALITY | C14: 7 | D14: UGU DISTRICT MUNICIPALITY | E14: =C14/$C$16*100 -> 0.33444816
C16: =SUM(C9:C14) -> 2093
A19: SPORT AND RECREATION
A20: MAIN TOWN OR CITY | B20: MUNICIPALITY | C20: NUMBER OF EMPLOYEES 2010 | D20: NUMBER OF EMPLOYEES 2011 | E20: AS A % OF KZN 2010 | F20: AS A % OF KZN 2011 | G20: Year-on-Year % Change
A21: Durban | B21: Ethekwini Municipality Metropolotan | C21: =C3 -> 165 | D21: 66 | E21: =C21/C28*100 -> 100 | F21: =D21/$D$28*100 -> 38.823529 | G21: =(D21-C21)/C21*100 -> -60
A22: Emnambithi | B22: Emnambithi-Ladysmith Local Municipality | C22: - | D22: 19 | F22: =D22/$D$28*100 -> 11.176471 | G22: -
A23: Ladismith | B23: Emnambithi-Ladysmith Local Municipality | C23: - | D23: =C11 -> 13 | F23: =D23/$D$28*100 -> 7.6470588 | G23: -
A24: Mhlabathini | B24: Ulundi Local Municipality | C24: - | D24: =C12 -> 10 | F24: =D24/$D$28*100 -> 5.8823529 | G24: -
A25: Pietermaritzburg | B25: Umsunduzi Local Mnicipality | C25: - | D25: 55 | F25: =D25/$D$28*100 -> 32.352941 | G25: -
A26: Portshepstone | B26: Hibuscus Coast Local Municipality | C26: - | D26: =C14 -> 7 | F26: =D26/$D$28*100 -> 4.1176471 | G26: -
C28: =C21 -> 165 | D28: =SUM(D21:D26) -> 170 | E28: =SUM(E21:E26) -> 100 | F28: =SUM(F21:F26) -> 100 | G28: =(D28-C28)/C28*100 -> 3.030303

Sheet Sheet1
