Workbook

Sheet Total
A1: DEPARTMENT | B1: NUMBER OF EMPLOYEES 2010 | C1: NUMBER OF EMPLOYEES 2011 | D1: AS A % OF KZN 2010 | E1: AS A % OF KZN 2011 | F1: Year-on-Year % Change
A2: Education | B2: =' Education 1'!C214 -> 102174 | C2: =' Education 1'!D214 -> 111288 | D2: =B2/$B$19*100 -> 54.76678 | E2: =C2/$C$19*100 -> 54.791175 | F2: =(C2-B2)/B2*100 -> 8.9200775
A3: Office of the Premier | B3: ='Office ot the premier2'!C17 -> 323 | C3: ='Office ot the premier2'!D17 -> 355 | D3: =B3/$B$19*100 -> 0.17313279 | E3: =C3/$C$19*100 -> 0.17477956 | F3: =(C3-B3)/B3*100 -> 9.9071207
A4: Legislature | B4: ='Legislature 3'!C11 -> 213 | C4: ='Legislature 3'!D11 -> 219 | D4: =B4/$B$19*100 -> 0.11417116 | E4: =C4/$C$19*100 -> 0.10782175 | F4: =(C4-B4)/B4*100 -> 2.8169014
A5: Agriculture, Environmental Affairs and Rural Development | B5: ='Agriculture 4'!C55 -> 3236 | C5: ='Agriculture 4'!D55 -> 3368 | D5: =B5/$B$19*100 -> 1.734544 | E5: =C5/$C$19*100 -> 1.6581903 | F5: =(C5-B5)/B5*100 -> 4.07911 | G5: City Distributions
A6: Economic Development and Tourism | B6: ='Economic Development 5'!C20 -> 302 | C6: ='Economic Development 5'!D20 -> 373 | D6: =B6/$B$19*100 -> 0.16187648 | E6: =C6/$C$19*100 -> 0.18364162 | F6: =(C6-B6)/B6*100 -> 23.509934
A7: Provincial Treasury | B7: ='Provincial Treasury6'!C17 -> 297 | C7: ='Provincial Treasury6'!D17 -> 391 | D7: =B7/$B$19*100 -> 0.15919641 | E7: =C7/$C$19*100 -> 0.19250368 | F7: =(C7-B7)/B7*100 -> 31.649832
A8: Health | B8: ='Health 7'!C165 -> 64739 | C8: ='Health 7'!D165 -> 69582 | D8: =B8/$B$19*100 -> 34.701065 | E8: =C8/$C$19*100 -> 34.257778 | F8: =(C8-B8)/B8*100 -> 7.4808076 | G8: City Percentage
A9: Human Settlement | B9: ='Human Settlement 8'!C30 -> 822 | C9: ='Human Settlement 8'!D30 -> 811 | D9: =B9/$B$19*100 -> 0.4406042 | E9: =C9/$C$19*100 -> 0.39928513 | F9: =(C9-B9)/B9*100 -> -1.3381995
A10: Community and Safety and Liason | B10: ='Community and Safety 9'!C17 -> 100 | C10: ='Community and Safety 9'!D17 -> 107 | D10: =B10/$B$19*100 -> 0.053601484 | E10: =C10/$C$19*100 -> 0.052680035 | F10: =(C10-B10)/B10*100 -> 7
A11: Royal Household | B11: ='Royal Household 10 '!C20 -> 149 | C11: ='Royal Household 10 '!D20 -> 145 | D11: =B11/$B$19*100 -> 0.079866211 | E11: =C11/$C$19*100 -> 0.071388833 | F11: =(C11-B11)/B11*100 -> -2.6845638
A12: Cooperative Governance and Traditional Affairs | B12: ='Coorperative Gov 11'!C23 -> 4274 | C12: ='Coorperative Gov 11'!D23 -> 4749 | D12: =B12/$B$19*100 -> 2.2909274 | E12: =C12/$C$19*100 -> 2.3381074 | F12: =(C12-B12)/B12*100 -> 11.113711
A13: Transport | B13: ='Transport 12 '!C141 -> 5476 | C13: ='Transport 12 '!D141 -> 5599 | D13: =B13/$B$19*100 -> 2.9352172 | E13: =C13/$C$19*100 -> 2.7565936 | F13: =(C13-B13)/B13*100 -> 2.2461651
A14: Social Development | B14: ='Social Development 13 '!C116 -> 2832 | C14: ='Social Development 13 '!D116 -> 3417 | D14: =B14/$B$19*100 -> 1.517994 | E14: =C14/$C$19*100 -> 1.6823148 | F14: =(C14-B14)/B14*100 -> 20.65678
A15: Public Works | B15: ='Public Works 14'!C50 -> 1024 | C15: ='Public Works 14'!D50 -> 2092 | D15: =B15/$B$19*100 -> 0.54887919 | E15: =C15/$C$19*100 -> 1.0299685 | F15: =(C15-B15)/B15*100 -> 104.29688
A16: Art and Culture | B16: ='Art and Cultur e 15'!C18 -> 436 | C16: ='Art and Cultur e 15'!D18 -> 447 | D16: =B16/$B$19*100 -> 0.23370247 | E16: =C16/$C$19*100 -> 0.22007454 | F16: =(C16-B16)/B16*100 -> 2.5229358
A17: Sport and Recreation | B17: ='Sport and Recreation 16'!C28 -> 165 | C17: ='Sport and Recreation 16'!D28 -> 170 | D17: =B17/$B$19*100 -> 0.088442448 | E17: =C17/$C$19*100 -> 0.083697252 | F17: =(C17-B17)/B17*100 -> 3.030303
A19: TOTAL | B19: =SUM(B2:B17) -> 186562 | C19: =SUM(C2:C17) -> 203113 | D19: =SUM(D2:D17) -> 100 | E19: =SUM(E2:E17) -> 100 | F19: =(C19-B19)/B19*100 -> 8.8715816

Sheet Cities
A1: 2010/2011 MAIN TOWN OR CITY TOTALS
A2: MAIN TOWN OR CITY | B2: EDUCATION | C2: OFFICE OF THE PREMIER | D2: LEGISLATURE | E2: AGRICULTURE, ENVIRONMENTAL AFFAIRS AND RURAL DEVELOPMENT | F2: ECONOMIC DEVELOPMENT AND TOURISM | G2: PROVINCIAL TREASURY | H2: HEALTH | I2: HUMAN SETTLEMENT | J2: COMMUNITY AND SAFETY AND LIASON | K2: ROYAL HOUSEHOLD | L2: COOPERATIVE GOVERNANCE AND TRADITIONAL AFFAIRS | M2: TRANSPORT | N2: SOCIAL DEVELOPMENT | O2: PUBLIC WORKS | P2: ART AND CULTURE | Q2: SPORT AND RECREATION | R2: TOTALS
A3: Alfred | B3: =' Education 1'!D133 -> 141 | C3: - | D3: - | E3: - | F3: - | G3: - | H3: ='Health 7'!D111 -> 456 | I3: - | J3: - | K3: - | L3: - | M3: - | N3: - | O3: - | P3: - | Q3: - | R3: =SUM(B3:Q3) -> 597
A4: Babanango | B4: =' Education 1'!D134 -> 115 | C4: - | D4: - | E4: - | F4: - | G4: - | H4: ='Health 7'!D112 -> 25 | I4: - | J4: - | K4: - | L4: - | M4: - | N4: - | O4: - | P4: - | Q4: - | R4: =SUM(B4:Q4) -> 140
A5: Beaufort West | B5: - | C5: - | D5: - | E5: - | F5: - | G5: - | H5: ='Health 7'!D113 -> 2 | I5: - | J5: - | K5: - | L5: - | M5: - | N5: - | O5: - | P5: - | Q5: - | R5: =SUM(B5:Q5) -> 2
A6: Bedford | B6: =' Education 1'!D135 -> 70 | C6: - | D6: - | E6: - | F6: - | G6: - | H6: - | I6: - | J6: - | K6: - | L6: - | M6: - | N6: - | O6: - | P6: - | Q6: - | R6: =SUM(B6:Q6) -> 70
A7: Bergville | B7: =' Education 1'!D136 -> 306 | C7: - | D7: - | E7: - | F7: - | G7: - | H7: - | I7: - | J7: - | K7: - | L7: - | M7: ='Transport 12 '!D92 -> 39 | N7: ='Social Development 13 '!D66 -> 31 | O7: - | P7: - | Q7: - | R7: =SUM(B7:Q7) -> 376
A8: Bloemfontein | B8: =' Education 1'!D137 -> 15 | C8: - | D8: - | E8: - | F8: - | G8: - | H8: - | I8: - | J8: - | K8: - | L8: - | M8: - | N8: - | O8: - | P8: - | Q8: - | R8: =SUM(B8:Q8) -> 15
A9: Camperdown | B9: =' Education 1'!D138 -> 360 | C9: - | D9: - | E9: - | F9: - | G9: - | H9: - | I9: - | J9: - | K9: - | L9: - | M9: ='Transport 12 '!D93 -> 15 | N9: ='Social Development 13 '!D67 -> 14 | O9: - | P9: - | Q9: - | R9: =SUM(B9:Q9) -> 389
A10: Chatsworth | B10: =' Education 1'!D139 -> 1506 | C10: - | D10: - | E10: - | F10: - | G10: - | H10: - | I10: - | J10: - | K10: - | L10: - | M10: - | N10: ='Social Development 13 '!D68 -> 25 | O10: - | P10: - | Q10: - | R10: =SUM(B10:Q10) -> 1531
A11: Cullinan | B11: =' Education 1'!D140 -> 11 | C11: - | D11: - | E11: - | F11: - | G11: - | H11: - | I11: - | J11: - | K11: - | L11: - | M11: - | N11: - | O11: - | P11: - | Q11: - | R11: =SUM(B11:Q11) -> 11
A12: Dannhauser | B12: =' Education 1'!D141 -> 717 | C12: - | D12: - | E12: - | F12: - | G12: - | H12: - | I12: - | J12: - | K12: - | L12: - | M12: ='Transport 12 '!D94 -> 7 | N12: ='Social Development 13 '!D69 -> 25 | O12: - | P12: - | Q12: - | R12: =SUM(B12:Q12) -> 749
A13: Dundee | B13: =' Education 1'!D142 -> 661 | C13: - | D13: - | E13: ='Agriculture 4'!D39 -> 1 | F13: - | G13: - | H13: ='Health 7'!D114 -> 621 | I13: - | J13: - | K13: - | L13: - | M13: ='Transport 12 '!D95 -> 218 | N13: ='Social Development 13 '!D70 -> 24 | O13: ='Public Works 14'!D34 -> 65 | P13: - | Q13: - | R13: =SUM(B13:Q13) -> 1590
A14: Durban | B14: =' Education 1'!D143 -> 10778 | C14: - | D14: - | E14: ='Agriculture 4'!D40 -> 247 | F14: ='Economic Development 5'!D17 -> 32 | G14: - | H14: ='Health 7'!D115 -> 19143 | I14: ='Human Settlement 8'!D23 -> 491 | J14: - | K14: - | L14: ='Coorperative Gov 11'!D18 -> 33 | M14: ='Transport 12 '!D96 -> 612 | N14: ='Social Development 13 '!D71 -> 458 | O14: ='Public Works 14'!D35 -> 463 | P14: - | Q14: ='Sport and Recreation 16'!D21 -> 66 | R14: =SUM(B14:Q14) -> 32323
A15: Dzanani | B15: - | C15: - | D15: - | E15: - | F15: - | G15: - | H15: ='Health 7'!D116 -> 462 | I15: - | J15: - | K15: - | L15: - | M15: - | N15: - | O15: - | P15: - | Q15: - | R15: =SUM(B15:Q15) -> 462
A16: Ekuvukeni | M16: - | N16: ='Social Development 13 '!D72 -> 17 | O16: - | P16: - | Q16: - | R16: =SUM(B16:Q16) -> 17
A17: Emnambithi | B17: =' Education 1'!D144 -> 70 | C17: - | D17: - | E17: - | F17: - | G17: - | H17: - | I17: - | J17: - | K17: - | L17: - | M17: - | N17: - | O17: ='Public Works 14'!D36 -> 3 | P17: - | Q17: ='Sport and Recreation 16'!D22 -> 19 | R17: =SUM(B17:Q17) -> 92
A18: Eshowe | B18: =' Education 1'!D145 -> 2726 | C18: - | D18: - | E18: ='Agriculture 4'!D41 -> 96 | F18: - | G18: - | H18: ='Health 7'!D117 -> 1835 | I18: - | J18: - | K18: - | L18: - | M18: ='Transport 12 '!D97 -> 226 | N18: ='Social Development 13 '!D73 -> 51 | O18: ='Public Works 14'!D37 -> 97 | P18: - | Q18: - | R18: =SUM(B18:Q18) -> 5031
A19: Escourt | B19: =' Education 1'!D146 -> 3247 | C19: - | D19: - | E19: ='Agriculture 4'!D42 -> 12 | F19: - | G19: - | H19: ='Health 7'!D118 -> 1106 | I19: - | J19: - | K19: - | L19: - | M19: ='Transport 12 '!D98 -> 177 | N19: ='Social Development 13 '!D74 -> 21 | O19: - | P19: - | Q19: - | R19: =SUM(B19:Q19) -> 4563
A20: Frankfort | B20: =' Education 1'!D147 -> 13 | C20: - | D20: - | E20: - | F20: - | G20: - | H20: - | I20: - | J20: - | K20: - | L20: - | M20: - | N20: - | O20: - | P20: - | Q20: - | R20: =SUM(B20:Q20) -> 13
A21: Fraserburg | B21: - | C21: - | D21: - | E21: - | F21: - | G21: - | H21: ='Health 7'!D119 -> 155 | I21: - | J21: - | K21: - | L21: - | M21: - | N21: - | O21: - | P21: - | Q21: - | R21: =SUM(B21:Q21) -> 155
A22: Germiston | B22: =' Education 1'!D148 -> 2 | C22: - | D22: - | E22: - | F22: - | G22: - | H22: - | I22: - | J22: - | K22: - | L22: - | M22: - | N22: - | O22: - | P22: - | Q22: - | R22: =SUM(B22:Q22) -> 2
A23: Glencoe | B23: =' Education 1'!D149 -> 436 | C23: - | D23: - | E23: - | F23: - | G23: - | H23: - | I23: - | J23: - | K23: - | L23: - | M23: ='Transport 12 '!D99 -> 2 | N23: ='Social Development 13 '!D75 -> 16 | P23: - | Q23: - | R23: =SUM(B23:Q23) -> 454
A24: Hlabisa | B24: =' Education 1'!D150 -> 2851 | C24: - | D24: - | E24: ='Agriculture 4'!D43 -> 11 | F24: - | G24: - | H24: ='Health 7'!D120 -> 869 | I24: - | J24: - | K24: - | L24: - | M24: ='Transport 12 '!D100 -> 207 | N24: ='Social Development 13 '!D76 -> 67 | O24: ='Public Works 14'!D38 -> 46 | P24: - | Q24: - | R24: =SUM(B24:Q24) -> 4051
A25: Hlanganani | B25: - | C25: - | D25: - | E25: - | F25: - | G25: - | H25: ='Health 7'!D121 -> 160 | I25: - | J25: - | K25: - | L25: - | M25: - | N25: ='Social Development 13 '!D77 -> 19 | O25: - | P25: - | Q25: - | R25: =SUM(B25:Q25) -> 179
A26: Humansdrop | B26: - | C26: - | D26: - | E26: - | F26: - | G26: - | H26: - | I26: - | J26: - | K26: - | L26: - | M26: ='Transport 12 '!D101 -> 1 | N26: - | O26: - | P26: - | Q26: - | R26: =SUM(B26:Q26) -> 1
A27: Impendle | B27: =' Education 1'!D151 -> 134 | C27: - | D27: - | E27: - | F27: - | G27: - | H27: - | I27: - | J27: - | K27: - | L27: - | M27: ='Transport 12 '!D102 -> 22 | N27: ='Social Development 13 '!D78 -> 8 | O27: - | P27: - | Q27: - | R27: =SUM(B27:Q27) -> 164
A28: Inanda | B28: =' Education 1'!D152 -> 5008 | C28: - | D28: - | E28: - | F28: - | G28: - | H28: ='Health 7'!D122 -> 636 | I28: - | J28: - | K28: - | L28: - | M28: - | N28: ='Social Development 13 '!D79 -> 40 | O28: - | P28: - | Q28: - | R28: =SUM(B28:Q28) -> 5684
A29: Indwe | B29: =' Education 1'!D153 -> 5 | C29: - | D29: - | E29: - | F29: - | G29: - | H29: - | I29: - | J29: - | K29: - | L29: - | M29: - | N29: - | O29: - | P29: - | Q29: - | R29: =SUM(B29:Q29) -> 5
A30: Ingwavuma | B30: =' Education 1'!D154 -> 1058 | C30: - | D30: - | E30: - | F30: - | G30: - | H30: ='Health 7'!D123 -> 1405 | I30: - | J30: - | K30: - | L30: - | M30: ='Transport 12 '!D103 -> 7 | N30: ='Social Development 13 '!D80 -> 76 | O30: - | P30: - | Q30: - | R30: =SUM(B30:Q30) -> 2546
A31: Ixopo | B31: =' Education 1'!D155 -> 2290 | C31: - | D31: - | E31: ='Agriculture 4'!D44 -> 63 | F31: - | G31: - | H31: ='Health 7'!D124 -> 816 | I31: - | J31: - | K31: - | L31: - | M31: ='Transport 12 '!D104 -> 158 | N31: ='Social Development 13 '!D81 -> 17 | O31: - | P31: - | Q31: - | R31: =SUM(B31:Q31) -> 3344
A32: Jagersfontein | B32: =' Education 1'!D156 -> 6 | C32: - | D32: - | E32: - | F32: - | G32: - | H32: - | I32: - | J32: - | K32: - | L32: - | M32: - | N32: - | O32: - | P32: - | Q32: - | R32: =SUM(B32:Q32) -> 6
A33: Jansenville | B33: =' Education 1'!D157 -> 6 | C33: - | D33: - | E33: - | F33: - | G33: - | H33: - | I33: - | J33: - | K33: - | L33: - | M33: - | N33: - | O33: - | P33: - | Q33: - | R33: =SUM(B33:Q33) -> 6
A34: Klipriver | B34: =' Education 1'!D158 -> 529 | C34: - | D34: - | E34: - | F34: - | G34: - | H34: ='Health 7'!D125 -> 71 | I34: - | J34: - | K34: - | L34: - | M34: ='Transport 12 '!D105 -> 197 | N34: ='Social Development 13 '!D82 -> 73 | O34: ='Public Works 14'!D39 -> 141 | P34: - | Q34: - | R34: =SUM(B34:Q34) -> 1011
A35: Knysna | B35: =' Education 1'!D159 -> 24 | C35: - | D35: - | E35: - | F35: - | G35: - | H35: - | I35: - | J35: - | K35: - | L35: - | M35: - | N35: - | O35: - | P35: - | Q35: - | R35: =SUM(B35:Q35) -> 24
A36: Koffiefontein | B36: =' Education 1'!D160 -> 20 | C36: - | D36: - | E36: - | F36: - | G36: - | H36: - | I36: - | J36: - | K36: - | L36: - | M36: - | N36: - | O36: - | P36: - | Q36: - | R36: =SUM(B36:Q36) -> 20
A37: Kranskop | B37: =' Education 1'!D161 -> 833 | C37: - | D37: - | E37: - | F37: - | G37: - | H37: ='Health 7'!D126 -> 635 | I37: - | J37: - | K37: - | L37: - | M37: ='Transport 12 '!D106 -> 8 | N37: ='Social Development 13 '!D83 -> 19 | O37: - | P37: - | Q37: - | R37: =SUM(B37:Q37) -> 1495
A38: Kuils River | B38: =' Education 1'!D162 -> 6 | C38: - | D38: - | E38: - | F38: - | G38: - | H38: ='Health 7'!D127 -> 11 | I38: - | J38: - | K38: - | L38: - | M38: - | N38: - | O38: - | P38: - | Q38: - | R38: =SUM(B38:Q38) -> 17
A39: Ladismith | B39: =' Education 1'!D163 -> 3242 | C39: - | D39: - | E39: ='Agriculture 4'!D45 -> 167 | F39: - | G39: - | H39: ='Health 7'!D128 -> 1347 | I39: - | J39: - | K39: - | L39: - | M39: ='Transport 12 '!D107 -> 40 | N39: ='Social Development 13 '!D84 -> 52 | O39: - | P39: - | Q39: ='Sport and Recreation 16'!D23 -> 13 | R39: =SUM(B39:Q39) -> 4861
A40: Lady Grey | B40: =' Education 1'!D164 -> 40 | C40: - | D40: - | E40: - | F40: - | G40: - | H40: - | I40: - | J40: - | K40: - | L40: - | M40: - | N40: - | O40: - | P40: - | Q40: - | R40: =SUM(B40:Q40) -> 40
...

Sheet Cities1
A1: =Cities!A2 -> MAIN TOWN OR CITY | B1: As a % of Total 2010/2011 | C1: As a % of Total 2009/2010 | D1: Yearly Change
A2: =Cities!A3 -> Alfred | B2: =Cities!R3/Cities!R$98*100 -> 0.29392506 | C2: =Cities!R102/Cities!R$197*100 -> 0.087906433 | D2: =B2-C2 -> 0.20601862
A3: =Cities!A4 -> Babanango | B3: =Cities!R4/Cities!R$98*100 -> 0.068927149 | C3: 0 | D3: =B3-C3 -> 0.068927149
A4: =Cities!A5 -> Beaufort West | B4: =Cities!R5/Cities!R$98*100 -> 0.00098467356 | C4: 0 | D4: =B4-C4 -> 0.00098467356
A5: =Cities!A6 -> Bedford | B5: =Cities!R6/Cities!R$98*100 -> 0.034463574 | C5: 0 | D5: =B5-C5 -> 0.034463574
A6: =Cities!A7 -> Bergville | B6: =Cities!R7/Cities!R$98*100 -> 0.18511863 | C6: =Cities!R106/Cities!R$197*100 -> 0.16938069 | D6: =B6-C6 -> 0.01573794
A7: =Cities!A8 -> Bloemfontein | B7: =Cities!R8/Cities!R$98*100 -> 0.0073850517 | C7: 0 | D7: =B7-C7 -> 0.0073850517
A8: =Cities!A9 -> Camperdown | B8: =Cities!R9/Cities!R$98*100 -> 0.19151901 | C8: =Cities!R108/Cities!R$197*100 -> 0.19778947 | D8: =B8-C8 -> -0.0062704682
A9: =Cities!A10 -> Chatsworth | B9: =Cities!R10/Cities!R$98*100 -> 0.75376761 | C9: 0 | D9: =B9-C9 -> 0.75376761
A10: =Cities!A11 -> Cullinan | B10: =Cities!R11/Cities!R$98*100 -> 0.0054157046 | C10: 0 | D10: =B10-C10 -> 0.0054157046
A11: =Cities!A12 -> Dannhauser | B11: =Cities!R12/Cities!R$98*100 -> 0.36876025 | C11: =Cities!R111/Cities!R$197*100 -> 0.38164256 | D11: =B11-C11 -> -0.012882317
A12: =Cities!A13 -> Dundee | B12: =Cities!R13/Cities!R$98*100 -> 0.78281548 | C12: =Cities!R112/Cities!R$197*100 -> 1.1942411 | D12: =B12-C12 -> -0.41142558
A13: =Cities!A14 -> Durban | B13: =Cities!R14/Cities!R$98*100 -> 15.913802 | C13: =Cities!R113/Cities!R$197*100 -> 26.141444 | D13: =B13-C13 -> -10.227642
A14: =Cities!A15 -> Dzanani | B14: =Cities!R15/Cities!R$98*100 -> 0.22745959 | C14: 0 | D14: =B14-C14 -> 0.22745959
A15: =Cities!A16 -> Ekuvukeni | B15: =Cities!R16/Cities!R$98*100 -> 0.0083697252 | C15: 0 | D15: =B15-C15 -> 0.0083697252
A16: =Cities!A17 -> Emnambithi | B16: =Cities!R17/Cities!R$98*100 -> 0.045294984 | C16: 0 | D16: =B16-C16 -> 0.045294984
A17: =Cities!A18 -> Eshowe | B17: =Cities!R18/Cities!R$98*100 -> 2.4769463 | C17: =Cities!R117/Cities!R$197*100 -> 2.6146804 | D17: =B17-C17 -> -0.13773404
A18: =Cities!A19 -> Escourt | B18: =Cities!R19/Cities!R$98*100 -> 2.2465327 | C18: =Cities!R118/Cities!R$197*100 -> 2.6178965 | D18: =B18-C18 -> -0.37136375
A19: =Cities!A20 -> Frankfort | B19: =Cities!R20/Cities!R$98*100 -> 0.0064003781 | C19: 0 | D19: =B19-C19 -> 0.0064003781
A20: =Cities!A21 -> Fraserburg | B20: =Cities!R21/Cities!R$98*100 -> 0.076312201 | C20: 0 | D20: =B20-C20 -> 0.076312201
A21: =Cities!A22 -> Germiston | B21: =Cities!R22/Cities!R$98*100 -> 0.00098467356 | C21: 0 | D21: =B21-C21 -> 0.00098467356
A22: =Cities!A23 -> Glencoe | B22: =Cities!R23/Cities!R$98*100 -> 0.2235209 | C22: =Cities!R122/Cities!R$197*100 -> 0.22566225 | D22: =B22-C22 -> -0.0021413491
A23: =Cities!A24 -> Hlabisa | B23: =Cities!R24/Cities!R$98*100 -> 1.9944563 | C23: =Cities!R123/Cities!R$197*100 -> 2.059905 | D23: =B23-C23 -> -0.06544873
A24: =Cities!A25 -> Hlanganani | B24: =Cities!R25/Cities!R$98*100 -> 0.088128283 | C24: =Cities!R124/Cities!R$197*100 -> 0.088978463 | D24: =B24-C24 -> -0.00085017965
A25: =Cities!A26 -> Humansdrop | B25: =Cities!R26/Cities!R$98*100 -> 0.00049233678 | C25: 0 | D25: =B25-C25 -> 0.00049233678
A26: =Cities!A27 -> Impendle | B26: =Cities!R27/Cities!R$98*100 -> 0.080743232 | C26: =Cities!R126/Cities!R$197*100 -> 0.070217944 | D26: =B26-C26 -> 0.010525288
A27: =Cities!A28 -> Inanda | B27: =Cities!R28/Cities!R$98*100 -> 2.7984422 | C27: =Cities!R127/Cities!R$197*100 -> 0.35912994 | D27: =B27-C27 -> 2.4393123
A28: =Cities!A29 -> Indwe | B28: =Cities!R29/Cities!R$98*100 -> 0.0024616839 | C28: 0 | D28: =B28-C28 -> 0.0024616839
A29: =Cities!A30 -> Ingwavuma | B29: =Cities!R30/Cities!R$98*100 -> 1.2534894 | C29: =Cities!R129/Cities!R$197*100 -> 0.74559664 | D29: =B29-C29 -> 0.5078928
A30: =Cities!A31 -> Ixopo | B30: =Cities!R31/Cities!R$98*100 -> 1.6463742 | C30: =Cities!R130/Cities!R$197*100 -> 1.7945777 | D30: =B30-C30 -> -0.14820349
A31: =Cities!A32 -> Jagersfontein | B31: =Cities!R32/Cities!R$98*100 -> 0.0029540207 | C31: 0 | D31: =B31-C31 -> 0.0029540207
A32: =Cities!A33 -> Jansenville | B32: =Cities!R33/Cities!R$98*100 -> 0.0029540207 | C32: 0 | D32: =B32-C32 -> 0.0029540207
A33: =Cities!A34 -> Klipriver | B33: =Cities!R34/Cities!R$98*100 -> 0.49775248 | C33: =Cities!R133/Cities!R$197*100 -> 0.37789046 | D33: =B33-C33 -> 0.11986202
A34: =Cities!A35 -> Knysna | B34: =Cities!R35/Cities!R$98*100 -> 0.011816083 | C34: 0 | D34: =B34-C34 -> 0.011816083
A35: =Cities!A36 -> Koffiefontein | B35: =Cities!R36/Cities!R$98*100 -> 0.0098467356 | C35: 0 | D35: =B35-C35 -> 0.0098467356
A36: =Cities!A37 -> Kranskop | B36: =Cities!R37/Cities!R$98*100 -> 0.73604348 | C36: =Cities!R136/Cities!R$197*100 -> 1.046837 | D36: =B36-C36 -> -0.31079349
A37: =Cities!A38 -> Kuils River | B37: =Cities!R38/Cities!R$98*100 -> 0.0083697252 | C37: 0 | D37: =B37-C37 -> 0.0083697252
A38: =Cities!A39 -> Ladismith | B38: =Cities!R39/Cities!R$98*100 -> 2.3932491 | C38: =Cities!R138/Cities!R$197*100 -> 3.3088196 | D38: =B38-C38 -> -0.91557051
A39: =Cities!A40 -> Lady Grey | B39: =Cities!R40/Cities!R$98*100 -> 0.019693471 | C39: 0 | D39: =B39-C39 -> 0.019693471
A40: =Cities!A41 -> Ladybrand | B40: =Cities!R41/Cities!R$98*100 -> 0.013293093 | C40: 0 | D40: =B40-C40 -> 0.013293093
...

Sheet  Education 1
A1: MAIN TOWN OR CITY | B1: MUNICIPALITY | C1: NUMBER OF EMPLOYEES | D1: DISTRICT | E1: AS A % OF KZN
A3: 2009/2010
A4: DURBAN | B4: ETHEKWINI MUNICIPALITY METROPOLOTAN | C4: 27571 | D4: ETHEKWINI MUNICIPALITY | E4: =C4/$C$45*100 -> 26.98436
A5: PIETERMARITZBURG | B5: UMSUNDUZI LOCAL MUNICIPALITY | C5: 11097 | D5: UMGUNGUNDLOVU DISTRICT MUNICIPALITY | E5: =C5/$C$45*100 -> 10.860884
A6: LOWER UMFOLOZI | B6: UMHLATHUZE LOCAL MUNICIPALITY | C6: 5880 | D6: UTHUNGULU DISTRICT MUNICIPALITY | E6: =C6/$C$45*100 -> 5.7548887
A7: PORT SHEPSTONE | B7: HIBISCUS COAST LOCAL MUNICIPALITY | C7: 4410 | D7: UGU DISTRICT MUNICIPALITY | E7: =C7/$C$45*100 -> 4.3161665
A8: LADISMITH | B8: EMNAMBITHI LADYSMITH LOCAL MUNICIPALITY | C8: 4192 | D8: UTHUKELA DISTRICT MUNICIPALITY | E8: =C8/$C$45*100 -> 4.102805
A9: UBOMBO | B9: JOZINI LOCAL MUNICIPALITY | C9: 3972 | D9: UMKHANYAKUDE DISTRICT MUNICIPALITY | E9: =C9/$C$45*100 -> 3.8874861
A10: NEWCASTLE | B10: NEWCASTLE LOCAL MUNICIPALITY | C10: 3817 | D10: UTHUNGULU DISTRICT MUNICIPALITY | E10: =C10/$C$45*100 -> 3.7357841
A11: ESTCOURT | B11: UMTSHEZI LOCAL MUNICIPALITY | C11: 3445 | D11: UTHUKELA REGIONAL COUNCIL SOUTH | E11: =C11/$C$45*100 -> 3.3716993
A12: NONGOMA | B12: NONGOMA LOCAL MUNICIPALITY | C12: 3093 | D12: ZULULAND DISTRICT MUNICIPALITY | E12: =C12/$C$45*100 -> 3.0271889
A13: VRYHEID | B13: ABAQULUSI LOCAL MUNICIPALITY | C13: 2803 | D13: ZULULAND DISTRICT MUNICIPALITY | E13: =C13/$C$45*100 -> 2.7433594
A14: HLABISA | B14: THE BIG FIVE FALSE BAY LOCAL MUNICIPALITY | C14: 2798 | D14: UMKHANYAKUDE DISTRICT MUNICIPALITY | E14: =C14/$C$45*100 -> 2.7384658
A15: ESHOWE | B15: UMLALAZI LOCAL MUNICIPALITY | C15: 2633 | D15: UTHUNGULU DISTRICT MUNICIPALITY | E15: =C15/$C$45*100 -> 2.5769765
... A42: UNDERBURG | B42: KWA SANI LOCAL MUNICIPALITY | C42: 77 | D42: SISONKE DISTRICT MUNICIPALITY | E42: =C42/$C$45*100 -> 0.075361638
C45: =SUM(C4:C43) -> 102174
A46: 2010/2011
A47: ALFRED | B47: UMUZIWABANTU LOCAL MUNICIPALITY | C47: 141 | D47: UGU DISTRICT MUNICIPALITY | E47: =C47/$C$128*100 -> 0.1266983
A48: BABANANGO | B48: ULUNDI LOCAL MUNICIPALITY | C48: 115 | D48: ZULULAND DISTRICT MUNICIPALITY | E48: =C48/$C$128*100 -> 0.10333549
A49: BEDFORD | B49: BEDFORD LOCAL MUNICIPALITY | C49: 70 | D49: UMGUNGUNDLOVU DISTRICT MUNICIPALITY | E49: =C49/$C$128*100 -> 0.062899863
A50: BERGVILLE | B50: OKHAHLAMBA LOCAL MUNICIPALITY | C50: 306 | D50: UTHUKELA REGIONAL COUNCIL SOUTH | E50: =C50/$C$128*100 -> 0.27496226
A51: BLOEMFONTEIN | B51: NONGOMA LOCAL MUNICIPALITY | C51: 15 | D51: ZULULAND DISTRICT MUNICIPALITY | E51: =C51/$C$128*100 -> 0.013478542
A52: CAMPERDOWN | B52: UMKHAMBATHINI LOCAL MUNIPALITY | C52: 360 | D52: UMGUNGUNDLOVU DISTRICT MUNICIPALITY | E52: =C52/$C$128*100 -> 0.32348501
A53: CHATSWORTH | B53: ETHEKWINI MUNICIPALITY METROPOLOTAN | C53: 1506 | D53: ETHEKWINI MUNICIPALITY | E53: =C53/$C$128*100 -> 1.3532456
A54: CULLINAN | B54: CULLINAN LOCAL MUNICIPALITY | C54: 11 | D54: UMZINYATHI DISTRICT MUNICIPALITY | E54: =C54/$C$128*100 -> 0.0098842643
A55: DANNHAUSER | B55: DANNHAUSER LOCAL MUNICIPALITY | C55: 717 | D55: UTHUKELA REGIONAL COUNCIL SOUTH | E55: =C55/$C$128*100 -> 0.64427432
A56: DUNDEE | B56: MSINGA LOCAL MUNICIPALITY | C56: 661 | D56: UMZINYATHI DISTRICT MUNICIPALITY | E56: =C56/$C$128*100 -> 0.59395442
A57: DURBAN | B57: ETHEKWINI MUNICIPALITY METROPOLOTAN | C57: 10778 | D57: ETHEKWINI MUNICIPALITY | E57: =C57/$C$128*100 -> 9.6847818
A58: EMNAMBITHI | B58: EMNAMBITHI LADYSMITH LOCAL MUNICIPALITY | C58: 70 | D58: UTHUKELA DISTRICT MUNICIPALITY | E58: =C58/$C$128*100 -> 0.062899863
... A126: WONDERBOOM | B126: ETHEKWINI MUNICIPALITY METROPOLITAN | C126: 5 | D126: ETHEKWINI MUNICIPALITY | E126: =C126/$C$128*100 -> 0.0044928474
C128: =SUM(C47:C126) -> 111288
A131: EDUCATION
A132: MAIN TOWN OR CITY | B132: MUNICIPALITY | C132: NUMBER OF EMPLOYEES 2010 | D132: NUMBER OF EMPLOYEES 2011 | E132: AS A % OF KZN 2010 | F132: AS A % OF KZN 2011 | G132: Year-on-Year % Change
A133: Alfred | B133: Umuziwabantu Local Municipality | C133: =C40 -> 139 | D133: =C47 -> 141 | E133: =C133/$C$214*100 -> 0.13604244 | F133: =D133/$D$214*100 -> 0.1266983 | G133: =(D133-C133)/C133*100 -> 1.4388489
A134: Babanango | B134: Ulundi Local Municipality | C134: - | D134: =C48 -> 115 | E134: - | F134: =D134/$D$214*100 -> 0.10333549 | G134: -
A135: Bedford | B135: Bedford Local Municipality | C135: - | D135: =C49 -> 70 | E135: - | F135: =D135/$D$214*100 -> 0.062899863 | G135: -
A136: Bergville | B136: Okhahlamba Local Municipality | C136: =C35 -> 299 | D136: =C50 -> 306 | E136: =C136/$C$214*100 -> 0.29263805 | F136: =D136/$D$214*100 -> 0.27496226 | G136: =(D136-C136)/C136*100 -> 2.3411371
A137: Bloemfontein | B137: Nongoma Local Municipality | C137: - | D137: =C51 -> 15 | E137: - | F137: =D137/$D$214*100 -> 0.013478542 | G137: -
A138: Camperdown | B138: Umkhambathini Local Munipality | C138: =C33 -> 369 | D138: =C52 -> 360 | E138: =C138/$C$214*100 -> 0.36114863 | F138: =D138/$D$214*100 -> 0.32348501 | G138: =(D138-C138)/C138*100 -> -2.4390244
A139: Chatsworth | B139: Ethekwini Municipality Metropolotan | C139: - | D139: =C53 -> 1506 | E139: - | F139: =D139/$D$214*100 -> 1.3532456 | G139: -
...

Sheet Office ot the premier2
A1: MAIN TOWN OR CITY | B1: MUNICIPALITY | C1: NUMBER OF EMPLOYEES | D1: DISTRICT | E1: AS A % OF KZN
A2: 2009/2010
A3: PIETERMARITZBURG | B3: UMSUNDUZI LOCAL MUNICIPALITY | C3: 323 | D3: UMGUNGUNDLOVU DISTRICT MUNICIPALITY | E3: =C3/C5*100 -> 100
C5: =C3 -> 323
A7: 2010/2011
A8: PIETERMARITZBURG | B8: UMSUNDUZI LOCAL MUNICIPALITY | C8: 355 | D8: UMGUNGUNDLOVU DISTRICT MUNICIPALITY | E8: =C8/C10*100 -> 100
C10: =C8 -> 355
A13: OFFICE OF THE PREMIER
A14: MAIN TOWN OR CITY | B14: MUNICIPALITY | C14: NUMBER OF EMPLOYEES 2010 | D14: NUMBER OF EMPLOYEES 2011 | E14: AS A % OF KZN 2010 | F14: AS A % OF KZN 2011 | G14: Year-on-Year % Change
A15: Pietermaritzburg | B15: Umsunduzi Local Municipality | C15: =C5 -> 323 | D15: =C10 -> 355 | E15: =C15/C17*100 -> 100 | F15: =D15/D17*100 -> 100 | G15: =(D17-C17)/C17 -> 0.099071207
C17: =C15 -> 323 | D17: =C10 -> 355 | E17: =E15 -> 100 | F17: =F15 -> 100 | G17: =G15 -> 0.099071207

Sheet Legislature 3
A1: MAIN TOWN OR CITY | B1: MUNICIPALITY | C1: NUMBER OF EMPLOYEES | D1: DISTRICT | E1: AS A % OF KZN
A2: 2009/2010
A3: PIETERMARITZBURG | B3: UMSUNDUZI LOCAL MUNICIPALITY | C3: 213 | D3: UMGUNGUNDLOVU DISTRICT MUNICIPALITY | E3: 100
C5: =C3 -> 213
A7: LEGISLATURE
A8: MAIN TOWN OR CITY | B8: MUNICIPALITY | C8: NUMBER OF EMPLOYEES 2010 | D8: NUMBER OF EMPLOYEES 2011 | E8: AS A % OF KZN 2010 | F8: AS A % OF KZN 2011 | G8: Year-on-Year % Change
A9: Pietermaritzburg | B9: Umsunduzi Local Municipality | C9: =C3 -> 213 | D9: 219 | E9: =C9/C11*100 -> 100 | F9: =D9/D11*100 -> 100
C11: =C9 -> 213 | D11: =D9 -> 219 | E11: =E9 -> 100 | F11: =F9 -> 100 | G11: =(D11-C11)/C11*100 -> 2.8169014

Sheet Agriculture 4
A1: KZN:VOTE 03: AGR ENV AFF&RUR DEV | B1: AGRICUL +SUPPORT SR7 | C1: DUNDEE | D1: UMZINYATHI DISTRICT MUNICIPALITY
A2: MAIN TOWN OR CITY | B2: MUNICIPALITY | C2: NUMBER OF EMPLOYEES | D2: DISTRICT | E2: AS A % OF KZN
A3: 2009/2010
A4: DUNDEE | B4: UMSINGA LOCAL MUNICIPALITY | C4: 1 | D4: UMZINYATHI DISTRICT MUNICIPALITY | E4: =C4/$C$16*100 -> 0.030902349
A5: DURBAN | B5: ETHEKWINI MUNICIPALITY METROPOLITAN | C5: 258 | D5: ETHEKWINI MUNICIPALITY | E5: =C5/$C$16*100 -> 7.9728059
A6: IXOPO | B6: UBUHLEBEZWE LOCAL MUNICIPALITY | C6: 63 | D6: SISONKE DISTRIC MUNICIPALITY | E6: =C6/$C$16*100 -> 1.946848
A7: LADISMITH | B7: LADISMITH LOCAL MUNICIPALITY | C7: 179 | D7: ZULULAND DISTRICT MUNICIPALITY | E7: =C7/$C$16*100 -> 5.5315204
A8: LOWER UMFOLOZI | B8: UMHLATHUZE LOCAL MUNICIPALITY | C8: 39 | D8: UTHUNGULU DISTRICT MUNICIPALITY | E8: =C8/$C$16*100 -> 1.2051916
A9: NEWCASTLE | B9: NEWCASTE LOCAL MUNICIPALITY | C9: 12 | D9: AMAJUBA DISTRICT MUNICIPALITY | E9: =C9/$C$16*100 -> 0.37082818
A10: PIETERMARITZBURG | B10: MSUNDUZI MUNICIPALITY | C10: 2462 | D10: UMGUNGUNDLOVU DISTRICT MUNICIPALITY | E10: =C10/$C$16*100 -> 76.081582
A11: PONGOLA | B11: PONGOLA LOCAL MUNICIPALITY | C11: 1 | D11: ZULULAND DISTRICT MUNICIPALITY | E11: =C11/$C$16*100 -> 0.030902349
A12: PORT SHEPSTONE | B12: ETHEKWINI MUNICIPALITY DISTRIC | C12: 106 | D12: UGU DISTRICT MUNICIPALITY | E12: =C12/$C$16*100 -> 3.2756489
A13: RICHMOND (NATAL) | B13: RICHMOND LOCAL MUNICIPALITY | C13: 47 | D13: UMGUNGUNDLOVU DISTRICT MUNICIPALITY | E13: =C13/$C$16*100 -> 1.4524104
A14: UMZINTO | B14: UMDONI LOCAL MUNICIPA LITY | C14: 68 | D14: UGU DISTRICT MUNICIPALITY | E14: =C14/$C$16*100 -> 2.1013597
C16: =SUM(C4:C15) -> 3236
A18: 2010/2011
A19: DUNDEE | B19: UMSINGA LOCAL MUNICIPALITY | C19: 1 | D19: UMZINYATHI DISTRICT MUNICIPALITY | E19: =C19/$C$35*100 -> 0.029691211
A20: DURBAN | B20: ETHEKWINI MUNICIPALITY METROPOLITAN | C20: 247 | D20: ETHEKWINI MUNICIPALITY | E20: =C20/$C$35*100 -> 7.3337292
A21: ESHOWE | B21: INKANDLA LOCAL MUNICIPALITY | C21: 96 | D21: UTHUNGULU DISTRICT MUNICIPALITY | E21: =C21/$C$35*100 -> 2.8503563
A22: ESTCOURT | B22: UMTSHEZI LOCAL MUNICIPALITY | C22: 12 | D22: UTHUKELA REGIONAL COUNCIL SOUTH | E22: =C22/$C$35*100 -> 0.35629454
A23: HLABISA | B23: BIG FIVE FALSE BAY LOCAL MUNICIPALITY | C23: 11 | D23: UMKHANYAKUDE DISTRICT MUNICIPALITY (DC27) | E23: =C23/$C$35*100 -> 0.32660333
A24: IXOPO | B24: UBUHLEBEZWE LOCAL MUNICIPALITY | C24: 63 | D24: SISONKE DISTRIC MUNICIPALITY | E24: =C24/$C$35*100 -> 1.8705463
A25: LADYSMITH | B25: LADISMITH LOCAL MUNICIPALITY | C25: 167 | D25: ZULULAND DISTRICT MUNICIPALITY | E25: =C25/$C$35*100 -> 4.9584323
A26: LOWER UMFOLOZI | B26: UMHLATHUZE LOCAL MUNICIPALITY | C26: 36 | D26: UTHUNGULU DISTRICT MUNICIPALITY | E26: =C26/$C$35*100 -> 1.0688836
A27: NEWCASTLE | B27: NEWCASTE LOCAL MUNICIPALITY | C27: 11 | D27: AMAJUBA DISTRICT MUNICIPALITY | E27: =C27/$C$35*100 -> 0.32660333
A28: PONGOLA | B28: PONGOLA LOCAL MUNICIPALITY | C28: 1 | D28: ZULULAND DISTRICT MUNICIPALITY | E28: =C28/$C$35*100 -> 0.029691211
A29: PEITERMARUITZBURG | B29: MSUNDUZI MUNICIPALITY | C29: 2513 | D29: UMGUNGUNDLOVU DISTRICT MUNICIPALITY | E29: =C29/$C$35*100 -> 74.614014
A30: PORT SHEPSTONE | B30: ETHEKWINI MUNICIPALITY DISTRIC | C30: 94 | D30: UGU DISTRICT MUNICIPALITY | E30: =C30/$C$35*100 -> 2.7909739
... A33: UMZINTO | B33: UMDONI LOCAL MUNICIPA LITY | C33: 67 | D33: UGU DISTRICT MUNICIPALITY | E33: =C33/$C$35*100 -> 1.9893112
C35: =SUM(C19:C33) -> 3368
A37: Agriculture, Environmental Affairs and Rural Development
A38: MAIN TOWN OR CITY | B38: MUNICIPALITY | C38: NUMBER OF EMPLOYEES 2010 | D38: NUMBER OF EMPLOYEES 2011 | E38: AS A % OF KZN 2010 | F38: AS A % OF KZN 2011 | G38: Year-on-Year % Change
A39: Dundee | B39: Umsinga Local Municipality | C39: =C4 -> 1 | D39: =C19 -> 1 | E39: =C39/$C$55*100 -> 0.030902349 | F39: =D39/$D$55*100 -> 0.029691211 | G39: =(D39-C39)/C39*100 -> 0
A40: Durban | B40: Ethekwini Municipality Metropolitan | C40: =C5 -> 258 | D40: =C20 -> 247 | E40: =C40/$C$55*100 -> 7.9728059 | F40: =D40/$D$55*100 -> 7.3337292 | G40: =(D40-C40)/C40*100 -> -4.2635659
A41: Eshowe | B41: Inkandla Local Municipality | C41: - | D41: 96 | E41: - | F41: =D41/$D$55*100 -> 2.8503563 | G41: -
A42: Estcourt | B42: Umtshezi Local Municipality | C42: - | D42: 12 | E42: - | F42: =D42/$D$55*100 -> 0.35629454 | G42: -
A43: Hlabisa | B43: Big Five False Bay Local Municipality | C43: - | D43: 11 | E43: - | F43: =D43/$D$55*100 -> 0.32660333 | G43: -
A44: Ixopo | B44: Ubuhlebezwe Local Municipality | C44: =C6 -> 63 | D44: 63 | E44: =C44/$C$55*100 -> 1.946848 | F44: =D44/$D$55*100 -> 1.8705463 | G44: =(D44-C44)/C44*100 -> 0
A45: Ladismith | B45: Ladismith Local Municipality | C45: =C7 -> 179 | D45: 167 | E45: =C45/$C$55*100 -> 5.5315204 | F45: =D45/$D$55*100 -> 4.9584323 | G45: =(D45-C45)/C45*100 -> -6.7039106
A46: Lower Umfolozi | B46: Umhlathuze Local Municipality | C46: =C8 -> 39 | D46: 36 | E46: =C46/$C$55*100 -> 1.2051916 | F46: =D46/$D$55*100 -> 1.0688836 | G46: =(D46-C46)/C46*100 -> -7.6923077
...

Sheet Economic Development 5
A1: MAIN TOWN OR CITY | B1: MUNICIPALITY | C1: NUMBER OF EMPLOYEES | D1: DISTRICT | E1: AS A % OF KZN
A2: 2009/2010
A3: DURBAN | B3: ETHEKWINI MUNICIPALITY DISTRIC | C3: 0 | D3: ETHEKWINI MUNICIPALITY | E3: =C3/$C$6*100 -> 0
A4: PIETERMARITZBURG | B4: UMSUNDUZ LOCAL IMUNICIPALITY | C4: =94+208 -> 302 | D4: UMGUNGUNDLOVU DISTRICT MUNICIPALITY | E4: =C4/$C$6*100 -> 100
C6: =SUM(C3:C5) -> 302
A8: 2010/2011
A9: DURBAN | B9: ETHEKWINI MUNICIPALITY DISTRIC | C9: 32 | D9: ETHEKWINI MUNICIPALITY | E9: =C9/$C$12*100 -> 8.5790885
A10: PIETERMARITZBURG | B10: UMSUNDUZ LOCAL IMUNICIPALITY | C10: 341 | D10: UMGUNGUNDLOVU DISTRICT MUNICIPALITY | E10: =C10/$C$12*100 -> 91.420912
C12: =SUM(C9:C10) -> 373
A15: ECONOMIC DEVELOPMENT AND TOURISM
A16: MAIN TOWN OR CITY | B16: MUNICIPALITY | C16: NUMBER OF EMPLOYEES 2010 | D16: NUMBER OF EMPLOYEES 2011 | E16: AS A % OF KZN 2010 | F16: AS A % OF KZN 2011 | G16: Year-on-Year % Change
A17: Durban | B17: Ethekwini Municipality Distric | C17: =C3 -> 0 | D17: =C9 -> 32 | E17: =C17/$C$20*100 -> 0 | F17: =D17/$D$20*100 -> 8.5790885 | G17: -
A18: Pietermaritzburg | B18: Umsunduzi Local Municipality | C18: =C4 -> 302 | D18: =C10 -> 341 | E18: =C18/$C$20*100 -> 100 | F18: =D18/$D$20*100 -> 91.420912 | G18: =(D18-C18)/C18*100 -> 12.913907
C20: =SUM(C17:C18) -> 302 | D20: =SUM(D17:D18) -> 373 | E20: =SUM(E17:E18) -> 100 | F20: =SUM(F17:F18) -> 100 | G20: =(D20-C20)/C20*100 -> 23.509934

Sheet Provincial Treasury6
A1: MAIN TOWN OR CITY | B1: MUNICIPALITY | C1: NUMBER OF EMPLOYEES | D1: DISTRICT | E1: AS A % OF KZN
A2: 2009/2010
A3: PIETERMARITZBURG | B3: UMSUNDUZI LOCAL MUNICIPALITY | C3: 297 | D3: UMGUNGUNDLOVU DISTRICT MUNICIPALITY | E3: =C3/C5*100 -> 100
C5: =C3 -> 297
A8: 2010/2011
A9: PIETERMARITZBURG | B9: UMSUNDUZI LOCAL MUNICIPALITY | C9: 391 | D9: UMGUNGUNDLOVU DISTRICT MUNICIPALITY | E9: =C9/C11*100 -> 100
C11: 391
A13: PROVINCIAL TREASURY
A14: MAIN TOWN OR CITY | B14: MUNICIPALITY | C14: NUMBER OF EMPLOYEES 2010 | D14: NUMBER OF EMPLOYEES 2011 | E14: AS A % OF KZN 2010 | F14: AS A % OF KZN 2011 | G14: Year-on-Year % Change
A15: Pietermaritzburg | B15: Umsunduzi Local Municipality | C15: =C3 -> 297 | D15: =C9 -> 391 | E15: =C15/C17*100 -> 100 | F15: =D15/D17*100 -> 100 | G15: =(D15-C15)/C15*100 -> 31.649832
C17: =C15 -> 297 | D17: =D15 -> 391 | E17: =E15 -> 100 | F17: =F15 -> 100 | G17: =(D17-C17)/C17*100 -> 31.649832

Sheet Health 7
A1: MAIN TOWN OR CITY | B1: MUNICIPALITY | C1: NUMBER OF EMPLOYEES | D1: DISTRICT | E1: AS A % OF KZN
A2: 2009/2010
A3: BABANANGO | B3: ULUNDI LOCAL MUNICIPALITY | C3: 25 | D3: ZULULAND DISTRICT MUNICIPALITY | E3: =C3/$C$48*100 -> 0.038616599
A4: DUNDEE | B4: ENDUMENI LOCAL MUNICIPALITY | C4: 617 | D4: UMZINYATHI DISTRICT MUNICIPALITY | E4: =C4/$C$48*100 -> 0.95305766
A5: DURBAN | B5: ETHEKWINI LOCAL MUNICIPALITY | C5: 18354 | D5: ETHEKWINI MUNICIPALITY | E5: =C5/$C$48*100 -> 28.350762
A6: ESHOWE | B6: INKANDLA LOCAL MUNICIPALITY | C6: 1883 | D6: UTHUNGULU DISTRICT MUNICIPALITY | E6: =C6/$C$48*100 -> 2.9086022
A7: ESTCOURT | B7: UMTSHEZI LOCAL MUNICIPALITY | C7: 1120 | D7: UTHUKELA REGIONAL COUNCIL SOUTH | E7: =C7/$C$48*100 -> 1.7300236
A8: HLABISA | B8: BIG FIVE FALSE BAY LOCAL MUNICIPALITY | C8: 870 | D8: UMKHANYAKUDE DISTRICT MUNICIPALITY (DC27) | E8: =C8/$C$48*100 -> 1.3438576
A9: HLANGANANI | B9: UMZUMBE LOCAL MUNICIPALITY | C9: 166 | D9: UMGUNGUNDLOVU DISTRICT MUNICIPALITY | E9: =C9/$C$48*100 -> 0.25641422
A10: INANDA | B10: ETHEKWINI LOCAL MU NICIPALITY | C10: 670 | D10: ILEMBE DISTRICT MUNICIPALITY | E10: =C10/$C$48*100 -> 1.0349249
A11: INGWAVUMA | B11: UPHONGOLA LOCAL MUNICIPALITY | C11: 1391 | D11: UMKHANYAKUDE DISTRICT MUNICIPALITY (DC27) | E11: =C11/$C$48*100 -> 2.1486276
A12: IXOPO | B12: UBUHLEBEZWE LOCAL MUNICIPALITY | C12: 819 | D12: SISONKE DISTRICT MUNICIPALITY | E12: =C12/$C$48*100 -> 1.2650798
A13: KLIPRIVER | B13: LADYSMITH LOCAL MUNICIPALITY | C13: 72 | D13: UTHUKELA REGIONAL COUNCIL SOUTH | E13: =C13/$C$48*100 -> 0.11121581
A14: KRANSKOP | B14: UMVOTI LOCAL MUNICIPALITY | C14: 669 | D14: UMZINYATHI DISTRICT MUNICIPALITY | E14: =C14/$C$48*100 -> 1.0333802
... A46: VRYHEID | B46: ABAQULUSI LOCAL MUNICIPALITY | C46: 685 | D46: ZULULAND DISTRICT MUNICIPALITY | E46: =C46/$C$48*100 -> 1.0580948
C48: =SUM(C3:C47) -> 64739
A51: 2010/11
A52: ALFRED | B52: UMUZIWABANTU LOCAL MUNICIPALITY | C52: 456 | D52: UGU DISTRICT MUNICIPALITY | E52: =C52/$C$106*100 -> 0.6553419
A53: BABANANGO | B53: ULUNDI LOCAL MUNICIPALITY | C53: 25 | D53: ZULULAND DISTRICT MUNICIPALITY | E53: =C53/$C$106*100 -> 0.035928832
A54: BEAUFORT WEST | B54: BEAUFORT WEST MUNICIPALITY | C54: 2 | D54: UMZINYATHI DISTRICT MUNICIPALITY | E54: =C54/$C$106*100 -> 0.0028743066
A55: DUNDEE | B55: ENDUMENI LOCAL MUNICIPALITY | C55: 621 | D55: UMZINYATHI DISTRICT MUNICIPALITY | E55: =C55/$C$106*100 -> 0.89247219
A56: DURBAN | B56: ETHEKWINI LOCAL MUNICIPALITY | C56: 19143 | D56: ETHEKWINI MUNICIPALITY | E56: =C56/$C$106*100 -> 27.511425
A57: DZANANI | B57: DZANANI MUNICIPALITY | C57: 462 | D57: ETHEKWINI MUNICIPALITY | E57: =C57/$C$106*100 -> 0.66396482
A58: ESHOWE | B58: INKANDLA LOCAL MUNICIPALITY | C58: 1835 | D58: UTHUNGULU DISTRICT MUNICIPALITY | E58: =C58/$C$106*100 -> 2.6371763
A59: ESTCOURT | B59: UMTSHEZI LOCAL MUNICIPALITY | C59: 1106 | D59: UTHUKELA REGIONAL COUNCIL SOUTH | E59: =C59/$C$106*100 -> 1.5894915
A60: FRASERBURG | B60: FRASERBURG MUCIPALITY | C60: 155 | D60: UTHUNGULU DISTRICT MUNICIPALITY | E60: =C60/$C$106*100 -> 0.22275876
A61: HLABISA | B61: BIG FIVE FALSE BAY LOCAL MUNICIPALITY | C61: 869 | D61: UMKHANYAKUDE DISTRICT MUNICIPALITY (DC27) | E61: =C61/$C$106*100 -> 1.2488862
A62: HLANGANANI | B62: UMZUMBE LOCAL MUNICIPALITY | C62: 160 | D62: UMGUNGUNDLOVU DISTRICT MUNICIPALITY | E62: =C62/$C$106*100 -> 0.22994453
A63: INANDA | B63: ETHEKWINI LOCAL MU NICIPALITY | C63: 636 | D63: ILEMBE DISTRICT MUNICIPALITY | E63: =C63/$C$106*100 -> 0.91402949
... A104: WELKOM | B104: WELKOM MUNICIPALITY | C104: 1 | D104: ZULULAND DISTRICT MUNICIPALITY | E104: =C104/$C$106*100 -> 0.0014371533
C106: =SUM(C52:C104) -> 69582
A109: HEALTH
A110: MAIN TOWN OR CITY | B110: MUNICIPALITY | C110: NUMBER OF EMPLOYEES 2010 | D110: NUMBER OF EMPLOYEES 2011 | E110: AS A % OF KZN 2010 | F110: AS A % OF KZN 2011 | G110: Year-on-Year % Change
A111: Alfred | B111: Umuziwabantu Local Municipality | C111: =C3 -> 25 | D111: =C52 -> 456 | E111: =C111/$C$165*100 -> 0.038616599 | F111: =D111/$D$165*100 -> 0.6553419 | G111: =(D111-C111)/C111*100 -> 1724
A112: Babanango | B112: Ulundi Local Municipality | C112: - | D112: =C53 -> 25 | E112: - | F112: =D112/$D$165*100 -> 0.035928832 | G112: -
A113: Beaufort West | B113: Beaufort West Municipality | C113: - | D113: =C54 -> 2 | E113: - | F113: =D113/$D$165*100 -> 0.0028743066 | G113: -
A114: Dundee | B114: Endumeni Local Municipality | C114: =C4 -> 617 | D114: =C55 -> 621 | E114: =C114/$C$165*100 -> 0.95305766 | F114: =D114/$D$165*100 -> 0.89247219 | G114: =(D114-C114)/C114*100 -> 0.64829822
A115: Durban | B115: Ethekwini Local Municipality | C115: =C5 -> 18354 | D115: =C56 -> 19143 | E115: =C115/$C$165*100 -> 28.350762 | F115: =D115/$D$165*100 -> 27.511425 | G115: =(D115-C115)/C115*100 -> 4.2987905
A116: Dzanani | B116: Dzanani Municipality | C116: - | D116: =C57 -> 462 | E116: - | F116: =D116/$D$165*100 -> 0.66396482 | G116: -
A117: Eshowe | B117: Inkandla Local Municipality | C117: =C6 -> 1883 | D117: =C58 -> 1835 | E117: =C117/$C$165*100 -> 2.9086022 | F117: =D117/$D$165*100 -> 2.6371763 | G117: =(D117-C117)/C117*100 -> -2.5491237
...

Sheet Human Settlement 8
A1: MAIN TOWN OR CITY | B1: MUNICIPALITY | C1: NUMBER OF EMPLOYEES | D1: DISTRICT | E1: AS A % OF KZN
A2: 2009/2010 | B2: 2009/2010
A3: DURBAN | B3: ETHEKWINI MUNICIPALITY METROPOLITAN | C3: 657 | D3: ETHEKWINI MUNICIPALITY | E3: =C3/$C$8*100 -> 79.927007
A4: MHLABATINI | B4: MAPHUMULO LOCAL MUNICIPALITY | C4: 17 | D4: ZULULAND LOCAL MUNICIPALITY | E4: =C4/$C$8*100 -> 2.0681265
A5: NONGOMA | B5: NONGOMA LOCAL MUNICIPALITY | C5: 8 | D5: ZULULAND DISTRICT MUNICIPALITY | E5: =C5/$C$8*100 -> 0.97323601
A6: PIETERMARITZBURG | B6: UMSUNDUZI LOCAL MUNICIPALITY | C6: 140 | D6: UMGUNGUNDLOVU DISTRICT MUNICIPALITY | E6: =C6/$C$8*100 -> 17.03163
C8: =SUM(C3:C7) -> 822
A10: 2010/2011 | B10: 2010/2011
A11: DURBAN | B11: ETHEKWINI MUNICIPALITY METROPOLITAN | C11: 491 | D11: ETHEKWINI MUNICIPALITY | E11: =C11/$C$18*100 -> 60.54254
A12: MHLABATINI | B12: MAPHUMULO LOCAL MUNICIPALITY | C12: 96 | D12: ZULULAND LOCAL MUNICIPALITY | E12: =C12/$C$18*100 -> 11.837238
A13: NONGOMA | B13: NONGOMA LOCAL MUNICIPALITY | C13: 5 | D13: ZULULAND DISTRICT MUNICIPALITY | E13: =C13/$C$18*100 -> 0.61652281
A14: PIETERMARITZBURG | B14: UMSUNDUZI LOCAL MUNICIPALITY | C14: 155 | D14: UMGUNGUNDLOVU DISTRICT MUNICIPALITY | E14: =C14/$C$18*100 -> 19.112207
A15: PINETOWN | B15: ETHEKWINI MUNICIPALITY METROPOLITAN | C15: 44 | D15: ETHEKWINI MUNICIPALITY | E15: =C15/$C$18*100 -> 5.4254007
A16: UMLAZI | B16: ETHEKWINI MUNICIPALITY METROPOLITAN | C16: 20 | D16: ETHEKWINI MUNICIPALITY | E16: =C16/$C$18*100 -> 2.4660912
C18: =SUM(C11:C16) -> 811
A21: HUMAN SETTLEMENT
A22: MAIN TOWN OR CITY | B22: MUNICIPALITY | C22: NUMBER OF EMPLOYEES 2010 | D22: NUMBER OF EMPLOYEES 2011 | E22: AS A % OF KZN 2010 | F22: AS A % OF KZN 2011 | G22: Year-on-Year % Change
A23: Durban | B23: Ethekwini Municipality Metropolitan | C23: =C3 -> 657 | D23: =C11 -> 491 | E23: =C23/$C$30*100 -> 79.927007 | F23: =D23/$D$30*100 -> 60.54254 | G23: =(D23-C23)/C23*100 -> -25.266362
A24: Mhlabatini | B24: Maphumulo Local Municipality | C24: =C4 -> 17 | D24: =C12 -> 96 | E24: =C24/$C$30*100 -> 2.0681265 | F24: =D24/$D$30*100 -> 11.837238 | G24: =(D24-C24)/C24*100 -> 464.70588
A25: Nongoma | B25: Nongoma Local Municipality | C25: =C5 -> 8 | D25: =C13 -> 5 | E25: =C25/$C$30*100 -> 0.97323601 | F25: =D25/$D$30*100 -> 0.61652281 | G25: =(D25-C25)/C25*100 -> -37.5
A26: Pietermaritzburg | B26: Umsunduzi Local Municipality | C26: =C6 -> 140 | D26: =C14 -> 155 | E26: =C26/$C$30*100 -> 17.03163 | F26: =D26/$D$30*100 -> 19.112207 | G26: =(D26-C26)/C26*100 -> 10.714286
A27: Pinetown | B27: Ethekwini Municipality Metropolitan | C27: - | D27: =C15 -> 44 | E27: - | F27: =D27/$D$30*100 -> 5.4254007
A28: Umlazi | B28: Ethekwini Municipality Metropolitan | C28: - | D28: =C16 -> 20 | E28: - | F28: =D28/$D$30*100 -> 2.4660912
C30: =SUM(C23:C28) -> 822 | D30: =SUM(D23:D28) -> 811 | E30: =SUM(E23:E28) -> 100 | F30: =SUM(F23:F28) -> 100 | G30: =(D30-C30)/C30*100 -> -1.3381995

Sheet Community and Safety 9
A1: MAIN TOWN OR CITY | B1: MUNICIPALITY | C1: NUMBER OF EMPLOYEES | D1: DISTRICT | E1: AS A % OF KZN
A2: 2009/2010
A3: PIETERMARITZBURG | B3: UMSUNDUZI LOCAL MUNICIPALITY | C3: 100 | D3: UMGUNGUNDLOVU DISTRICT MUNICIPALITY | E3: 100
C5: =C3 -> 100
A8: 2010/2011
A9: PIETERMARITZBURG | B9: UMSUNDUZI LOCAL MUNICIPALITY | C9: 107 | D9: UMGUNGUNDLOVU DISTRICT MUNICIPALITY | E9: =C9/C11*100 -> 100
C11: =C9 -> 107
A13: COMMUNITY AND SAFETY AND LIASON
A14: MAIN TOWN OR CITY | B14: MUNICIPALITY | C14: NUMBER OF EMPLOYEES 2010 | D14: NUMBER OF EMPLOYEES 2011 | E14: AS A % OF KZN 2010 | F14: AS A % OF KZN 2011 | G14: Year-on-Year % Change
A15: Pietermaritzburg | B15: Umsunduzi Local Municipality | C15: =C3 -> 100 | D15: =C9 -> 107 | E15: =C15/C17*100 -> 100 | F15: =D15/D17*100 -> 100 | G15: =(D15-C15)/C15*100 -> 7
C17: =C15 -> 100 | D17: =D15 -> 107 | E17: =E15 -> 100 | F17: =F15 -> 100 | G17: =(D17-C17)/C17*100 -> 7

Sheet Royal Household 10 
A1: MAIN TOWN OR CITY | B1: MUNICIPALITY | C1: NUMBER OF EMPLOYEES | D1: DISTRICT | E1: AS A % OF KZN
A2: 2009/2010
A3: MHLABATINI | B3: ULUNDI LOCAL MUNICIPALITY | C3: 28 | D3: ZULULAND DISTRICT MUNICIPALITY | E3: =C3/$C$6*100 -> 18.791946
A4: NONGOMA | B4: ULUNDI LOCAL MUNICIPALITY | C4: 121 | D4: ZULULAND DISTRICT MUNICIPALITY | E4: =C4/$C$6*100 -> 81.208054
C6: =SUM(C3:C5) -> 149
A8: 2010/2011
A9: NONGOMA | B9: ULUNDI LOCAL MUNICIPALITY | C9: 145 | D9: ZULULAND DISTRICT MUNICIPALITY | E9: =C9/C11*100 -> 100
C11: 145
A15: ROYAL HOUSEHOLD
A16: MAIN TOWN OR CITY | B16: MUNICIPALITY | C16: NUMBER OF EMPLOYEES 2010 | D16: NUMBER OF EMPLOYEES 2011 | E16: AS A % OF KZN 2010 | F16: AS A % OF KZN 2011 | G16: Year-on-Year % Change
A17: Mhlabatini | B17: Ulundi Local Municipality | C17: =C3 -> 28 | D17: - | E17: =C17/$C$20*100 -> 18.791946 | F17: - | G17: -
A18: Nongoma | B18: Ulundi Local Municipality | C18: =C4 -> 121 | D18: =C9 -> 145 | E18: =C18/$C$20*100 -> 81.208054 | F18: =D18/D20*100 -> 100 | G18: =(D18-C18)/C18*100 -> 19.834711
C20: =SUM(C17:C18) -> 149 | D20: =D18 -> 145 | E20: =SUM(E17:E18) -> 100 | F20: =SUM(F17:F18) -> 100 | G20: =(D20-C20)/C20*100 -> -2.6845638

Sheet Coorperative Gov 11
A1: MAIN TOWN OR CITY | B1: MUNICIPALITY | C1: NUMBER OF EMPLOYEES | D1: DISTRICT | E1: AS A % OF KZN
A2: 2009/2010
A3: DURBAN | B3: ETHEKWINI MUNICIPALITY METROPOLITAN | C3: 23 | D3: UMGUNGUNDLOVU DISTRICT MUNICIPALITY | E3: =C3/$C$7*100 -> 0.53813758
A4: MHLABATINI | B4: ULUNDI LOCAL MUNICIPALITY | C4: 180 | D4: UMKHANYAKUDE DISTRICT MUNICIPALITY | E4: =C4/$C$7*100 -> 4.2115115
A5: PIETERMARITZBURG | B5: UMSUNDUZI LOCAL MUNICIPALITY | C5: 4071 | D5: UMGUNGUNDLOVU DISTRICT MUNICIPALITY | E5: =C5/$C$7*100 -> 95.250351
C7: =SUM(C3:C6) -> 4274
A8: 2010/2011
A9: DURBAN | B9: ETHEKWINI MUNICIPALITY METROPOLITAN | C9: 33 | D9: ETHEKWINI DISTRICT MUNICIPALITY | E9: =C9/$C$14*100 -> 0.69488313
A10: MHLABATINI | B10: ULUNDI LOCAL MUNICIPALITY | C10: 3530 | D10: ZULULAND DISTRICT MUNICIPALITY | E10: =C10/$C$14*100 -> 74.331438
A11: PIETERMARITZBURG | B11: UMSUNDUZI LOCAL MUNICIPALITY | C11: 1171 | D11: UMGUNGUNDLOVU DISTICT MUNICIPLATY | E11: =C11/$C$14*100 -> 24.657823
A12: PIETERSBURG | B12: UMSUNDUZI LOCAL MUNICIPALITY | C12: 15 | D12: UMGUNGUNDLOVU DISTICT MUNICIPLATY | E12: =C12/$C$14*100 -> 0.31585597
C14: =SUM(C9:C12) -> 4749
A16: COORPERATIVE GORVENANCE AND TRADITIONAL AFFAIRS
A17: MAIN TOWN OR CITY | B17: MUNICIPALITY | C17: NUMBER OF EMPLOYEES 2010 | D17: NUMBER OF EMPLOYEES 2011 | E17: AS A % OF KZN 2010 | F17: AS A % OF KZN 2011 | G17: Year-on-Year % Change
A18: Durban | B18: Ethekwini Municipality Metropolitan | C18: =C3 -> 23 | D18: =C9 -> 33 | E18: =C18/$C$23*100 -> 0.53813758 | F18: =D18/$D$23*100 -> 0.69488313 | G18: =(D18-C18)/C18*100 -> 43.478261
A19: Mhlabatini | B19: Ulundi Local Municipality | C19: =C4 -> 180 | D19: =C10 -> 3530 | E19: =C19/$C$23*100 -> 4.2115115 | F19: =D19/$D$23*100 -> 74.331438 | G19: =(D19-C19)/C19*100 -> 1861.1111
A20: Pietermaritzburg | B20: Umsunduzi Local Municipality | C20: =C5 -> 4071 | D20: =C11 -> 1171 | E20: =C20/$C$23*100 -> 95.250351 | F20: =D20/$D$23*100 -> 24.657823 | G20: =(D20-C20)/C20*100 -> -71.235569
A21: Pietersburg | B21: Umsunduzi Local Municipality | C21: - | D21: =C12 -> 15 | E21: - | F21: =D21/$D$23*100 -> 0.31585597
C23: =SUM(C18:C21) -> 4274 | D23: =SUM(D18:D21) -> 4749 | E23: =SUM(E18:E21) -> 100 | F23: =SUM(F18:F21) -> 100 | G23: =(D23-C23)/C23*100 -> 11.113711

Sheet Transport 12 
A1: MAIN TOWN OR CITY | B1: MUNICIPALITY | C1: NUMBER OF EMPLOYEES | D1: DISTRICT | E1: AS A % OF KZN
A2: 2009/2010
A3: BERGVILLE | B3: OKHAHLAMBA LOCAL MUNICIPALITY | C3: 17 | D3: UTHUKELA REGIONAL COUNCIL SOUTH | E3: =C3/$C$31*100 -> 0.30730296
A4: DUNDEE | B4: ENDUMENI LOCAL MUNICIPALITY | C4: 271 | D4: UMZINYATHI DISTRICT MUNICIPALITY | E4: =C4/$C$31*100 -> 4.8987708
A5: DURBAN | B5: ETHEKWINI LOCAL MUNICIPALITY | C5: 909 | D5: ETHEKWINI MUNICIPALITY | E5: =C5/$C$31*100 -> 16.43167
A6: ESHOWE | B6: ENKANDLA LOCAL MUNICIPALITY | C6: 362 | D6: UTHUNGULU DISTRICT MUNICIPALITY | E6: =C6/$C$31*100 -> 6.5437455
A7: ESTCOURT | B7: UMTSHEZI LOCAL MUNICIPALITY | C7: 319 | D7: UTHUKELA REGIONAL COUNCIL SOUTH | E7: =C7/$C$31*100 -> 5.7664497
A8: HLABISA | B8: HLABISA LOCAL MUNICIPALITY | C8: 175 | D8: UMKHANYAKUDE DISTRICT MUNICIPALITY (DC27) | E8: =C8/$C$31*100 -> 3.1634129
A9: INGWAVUMA | B9: JOZINI LOCAL MUNICIPALITY | C9: 8 | D9: UMKHANYAKUDE DISTRICT MUNICIPALITY (DC27) | E9: =C9/$C$31*100 -> 0.14461316
A10: IXOPO | B10: UBUHLEBEZWE LOCAL MUNICIPALITY | C10: 233 | D10: UMGUNGUNDLOVU DISTRICT MUNICIPALITY | E10: =C10/$C$31*100 -> 4.2118583
A11: KLIPRIVER | B11: OKHAHLAMBA LOCAL MUNICIPALITY | C11: 57 | D11: UTHUKELA REGIONAL COUNCIL SOUTH | E11: =C11/$C$31*100 -> 1.0303688
A12: LADISMITH | B12: EMNAMBITHI-LADYSMITH LOCAL MUNICIPALITY | C12: 18 | D12: UTHUKELA REGIONAL COUNCIL SOUTH | E12: =C12/$C$31*100 -> 0.32537961
A13: LOWER UMFOLOZI | B13: MBONANBI LOCAL MUNICIPALITY | C13: 391 | D13: ZULULAND DISTRICT MUNICIPALITY | E13: =C13/$C$31*100 -> 7.0679682
A14: MHLABATINI | B14: UKUNDI LOCAL MUNICIPALITY | C14: 224 | D14: ZULULAND DISTRICT MUNICIPALITY | E14: =C14/$C$31*100 -> 4.0491685
... A29: VRYHEID | B29: ABAQULUSI LOCAL MUNICIPALITY | C29: 173 | D29: ZULULAND DISTRICT MUNICIPALITY | E29: =C29/$C$31*100 -> 3.1272596
C31: =SUM(C3:C30) -> 5532
A33: 2010/2011
A35: BERGVILLE | B35: OKHAHLAMBA LOCAL MUNICIPALITY | C35: 39 | D35: UTHUKELA REGIONAL COUNCIL SOUTH | E35: =C35/$C$87*100 -> 0.087646358
A36: CAMPERDOWN | B36: UMKHAMBATHINI LOCAL MUNIPALITY | C36: 15 | D36: UMGUNGUNDLOVU DISTRICT MUNICIPALITY | E36: =C36/$C$87*100 -> 0.033710138
A37: DANNHAUSER | B37: DANNHAUSER LOCAL MUNICIPALITY | C37: 7 | D37: UTHUKELA REGIONAL COUNCIL SOUTH | E37: =C37/$C$87*100 -> 0.015731398
A38: DUNDEE | B38: ENDUMENI LOCAL MUNICIPALITY | C38: 3797 | D38: UMZINYATHI DISTRICT MUNICIPALITY | E38: =C38/$C$87*100 -> 8.5331595
A39: DURBAN | B39: ETHEKWINI LOCAL MUNICIPALITY | C39: 1952 | D39: ETHEKWINI MUNICIPALITY | E39: =C39/$C$87*100 -> 4.3868126
A40: ESHOWE | B40: ENKANDLA LOCAL MUNICIPALITY | C40: 5299 | D40: UTHUNGULU DISTRICT MUNICIPALITY | E40: =C40/$C$87*100 -> 11.908668
A41: ESTCOURT | B41: UMTSHEZI LOCAL MUNICIPALITY | C41: 2542 | D41: UTHUKELA REGIONAL COUNCIL SOUTH | E41: =C41/$C$87*100 -> 5.7127447
A42: GLENCOE | B42: ENDUMENI LOCAL MUNICIPALITY | C42: 2 | D42: UMZINYATHI DISTRICT MUNICIPALITY | E42: =C42/$C$87*100 -> 0.004494685
A43: HLABISA | B43: HLABISA LOCAL MUNICIPALITY | C43: 4083 | D43: UMKHANYAKUDE DISTRICT MUNICIPALITY (DC27) | E43: =C43/$C$87*100 -> 9.1758995
A44: HUMANSDORP | B44: HUMANSDORP LOCAL MUNICIPALITY | C44: 1 | D44: UMGUNGUNDLOVU DISTRICT MUNICIPALITY | E44: =C44/$C$87*100 -> 0.0022473425
A45: IMPENDLE | B45: IMPENDLE LOCAL MUNICIPALITY | C45: 22 | D45: UMGUNGUNDLOVU DISTRICT MUNICIPALITY | E45: =C45/$C$87*100 -> 0.049441535
A46: INGWAVUMA | B46: JOZINI LOCAL MUNICIPALITY | C46: 7 | D46: UMKHANYAKUDE DISTRICT MUNICIPALITY (DC27) | E46: =C46/$C$87*100 -> 0.015731398
... A85: WEENEN | B85: WEENEN LOCAL MUNICIPALITY | C85: 6 | D85: UTHUKELA REGIONAL COUNCIL SOUTH | E85: =C85/$C$87*100 -> 0.013484055
C87: =SUM(C35:C85) -> 44497
A90: TRANSPORT
A91: MAIN TOWN OR CITY | B91: MUNICIPALITY | C91: NUMBER OF EMPLOYEES 2010 | D91: NUMBER OF EMPLOYEES 2011 | E91: AS A % OF KZN 2010 | F91: AS A % OF KZN 2011 | G91: Year-on-Year % Change
A92: Bergville | B92: Okhahlamba Local Municipality | C92: =C3 -> 17 | D92: =C35 -> 39 | E92: =C92/$C$141*100 -> 0.31044558 | F92: =D92/$D$141*100 -> 0.69655296 | G92: =(D92-C92)/C92*100 -> 129.41176
A93: Camperdown | B93: Umkhambathini Local Munipality | C93: - | D93: =C36 -> 15 | E93: - | F93: =D93/$D$141*100 -> 0.26790498 | G93: -
A94: Dannhauser | B94: Dannhauser Local Municipality | C94: - | D94: =C37 -> 7 | E94: - | F94: =D94/$D$141*100 -> 0.12502233 | G94: -
A95: Dundee | B95: Endumeni Local Municipality | C95: =C4 -> 271 | D95: 218 | E95: =C95/$C$141*100 -> 4.9488678 | F95: =D95/$D$141*100 -> 3.8935524 | G95: =(D95-C95)/C95*100 -> -19.557196
A96: Durban | B96: Ethekwini Local Municipality | C96: =C5 -> 909 | D96: 612 | E96: =C96/$C$141*100 -> 16.599708 | F96: =D96/$D$141*100 -> 10.930523 | G96: =(D96-C96)/C96*100 -> -32.673267
A97: Eshowe | B97: Enkandla Local Municipality | C97: =C6 -> 362 | D97: 226 | E97: =C97/$C$141*100 -> 6.6106647 | F97: =D97/$D$141*100 -> 4.0364351 | G97: =(D97-C97)/C97*100 -> -37.569061
A98: Estcourt | B98: Umtshezi Local Municipality | C98: =C7 -> 319 | D98: 177 | E98: =C98/$C$141*100 -> 5.82542 | F98: =D98/$D$141*100 -> 3.1612788 | G98: =(D98-C98)/C98*100 -> -44.514107
...

Sheet Social Development 13 
A1: MAIN TOWN OR CITY | B1: MUNICIPALITY | C1: NUMBER OF EMPLOYEES | D1: DISTRICT | E1: AS A % OF KZN
A2: 2009/2010 | B2: 2009/2010
A3: DURBAN | B3: ETHEKWINI METRO MUNICIPALITY | C3: 833 | D3: ETHEKWINI MUNICIPALITY | E3: =C3/$C$9*100 -> 29.413842
A4: KLIPRIVER | B4: OKHAHLAMBA LOCAL MUNICIPALITY | C4: 66 | D4: UTHUKELA REGIONAL COUNCIL SOUTH | E4: =C4/$C$9*100 -> 2.3305085
A5: LADISMITH | B5: AMAJUBA LOCAL MUNICIPALITY | C5: 615 | D5: AMAJUBA DISTRICT MUNICIPALITY | E5: =C5/$C$9*100 -> 21.716102
A6: MHLABATINI | B6: ETHEKWINI MUNINICIPALITY METROPOLITAN | C6: 865 | D6: ETHEKWINI MUNICIPALITY | E6: =C6/$C$9*100 -> 30.543785
A7: PIETERMARITZBURG | B7: UMSUNDUZI LOCAL MUNICIPALITAN | C7: 453 | D7: UMGUNGUNDLOVU DISTRICT MUNICIPALITY | E7: =C7/$C$9*100 -> 15.995763
C9: =SUM(C3:C8) -> 2832
A10: 2010/11
B11: 2010/2011
A12: BERGVILLE | B12: OKHAHLAMBA LOCAL MUNICIPALITY | C12: 31 | D12: UTHUKELA REGIONAL COUNCIL SOUTH | E12: =C12/$C$62*100 -> 0.90722856
A13: CAMPERDOWN | B13: UMKHAMBATHINI LOCAL MUNIPALITY | C13: 14 | D13: UMGUNGUNDLOVU DISTRICT MUNICIPALITY | E13: =C13/$C$62*100 -> 0.40971613
A14: CHATSWORTH | B14: ETHEKWINI LOCAL MUNICIPALITY | C14: 25 | D14: ETHEKWINI MUNICIPALITY | E14: =C14/$C$62*100 -> 0.73163594
A15: DANNAHOUSER | B15: DANNHAUSER LOCAL MUNICIPALITY | C15: 25 | D15: UTHUKELA REGIONAL COUNCIL SOUTH | E15: =C15/$C$62*100 -> 0.73163594
A16: DUNDEE | B16: ENDUMENI LOCAL MUNICIPALITY | C16: 24 | D16: UMZINYATHI DISTRICT MUNICIPALITY | E16: =C16/$C$62*100 -> 0.7023705
A17: DURBAN | B17: ETHEKWINI METRO MUNICIPALITY | C17: 458 | D17: ETHEKWINI MUNICIPALITY | E17: =C17/$C$62*100 -> 13.40357
A18: EKUVUKENI | B18: EKUVUKENI MUNICIPALITY | C18: 17 | D18: UTHUKELA REGIONAL COUNCIL SOUTH | E18: =C18/$C$62*100 -> 0.49751244
A19: ESHOWE | B19: ENKANDLA LOCAL MUNICIPALITY | C19: 51 | D19: UTHUNGULU DISTRICT MUNICIPALITY | E19: =C19/$C$62*100 -> 1.4925373
A20: ESTCOURT | B20: UMTSHEZI LOCAL MUNICIPALITY | C20: 21 | D20: UTHUKELA REGIONAL COUNCIL SOUTH | E20: =C20/$C$62*100 -> 0.61457419
A21: GLENCOE | B21: GLENCOE MUNICIPALITY | C21: 16 | D21: UMZINYATHI DISTRICT MUNICIPALITY | E21: =C21/$C$62*100 -> 0.468247
A22: HLABISA | B22: HLABISA LOCAL MUNICIPALITY | C22: 67 | D22: UMKHANYAKUDE DISTRICT MUNICIPALITY (DC27) | E22: =C22/$C$62*100 -> 1.9607843
A23: HLANGANANI | B23: UMZUMBE LOCAL MUNICIPALITY | C23: 19 | D23: UMGUNGUNDLOVU DISTRICT MUNICIPALITY | E23: =C23/$C$62*100 -> 0.55604331
... A60: WEENEN | B60: WEENEN LOCAL MUNICIPALITY | C60: 16 | D60: UTHUKELA REGIONAL COUNCIL SOUTH | E60: =C60/$C$62*100 -> 0.468247
C62: =SUM(C12:C60) -> 3417
A64: SOCIAL DEVELOPMENT
A65: MAIN TOWN OR CITY | B65: MUNICIPALITY | C65: NUMBER OF EMPLOYEES 2010 | D65: NUMBER OF EMPLOYEES 2011 | E65: AS A % OF KZN 2010 | F65: AS A % OF KZN 2011 | G65: Year-on-Year % Change
A66: Bergville | B66: Okhahlamba Local Municipality | C66: - | D66: =C12 -> 31 | E66: - | F66: =D66/$D$116*100 -> 0.90722856 | G66: -
A67: Camperdown | B67: Umkhambathini Local Munipality | C67: - | D67: =C13 -> 14 | E67: - | F67: =D67/$D$116*100 -> 0.40971613 | G67: -
A68: Chatsworth | B68: Ethekwini Local Municipality | C68: - | D68: =C14 -> 25 | E68: - | F68: =D68/$D$116*100 -> 0.73163594 | G68: -
A69: Dannahouser | B69: Dannhauser Local Municipality | C69: - | D69: =C15 -> 25 | E69: - | F69: =D69/$D$116*100 -> 0.73163594 | G69: -
A70: Dundee | B70: Endumeni Local Municipality | C70: - | D70: =C16 -> 24 | E70: - | F70: =D70/$D$116*100 -> 0.7023705 | G70: -
A71: Durban | B71: Ethekwini Metro Municipality | C71: 833 | D71: =C17 -> 458 | E71: =C71/$C$116*100 -> 29.413842 | F71: =D71/$D$116*100 -> 13.40357 | G71: =(D71-C71)/C71*100 -> -45.018007
A72: Ekuvukeni | B72: Ekuvukeni Municipality | C72: - | D72: =C18 -> 17 | E72: - | F72: =D72/$D$116*100 -> 0.49751244 | G72: -
A73: Eshowe | B73: Enkandla Local Municipality | C73: - | D73: =C19 -> 51 | E73: - | F73: =D73/$D$116*100 -> 1.4925373 | G73: -
A74: Estcourt | B74: Umtshezi Local Municipality | C74: - | D74: =C20 -> 21 | E74: - | F74: =D74/$D$116*100 -> 0.61457419 | G74: -
A75: Glencoe | B75: Glencoe Municipality | C75: - | D75: =C21 -> 16 | E75: - | F75: =D75/$D$116*100 -> 0.468247 | G75: -
A76: Hlabisa | B76: Hlabisa Local Municipality | C76: - | D76: =C22 -> 67 | E76: - | F76: =D76/$D$116*100 -> 1.9607843 | G76: -
A77: Hlanganani | B77: Umzumbe Local Municipality | C77: - | D77: =C23 -> 19 | E77: - | F77: =D77/$D$116*100 -> 0.55604331 | G77: -
A78: Impendle | B78: Impendle Local Municipality | C78: - | D78: =C24 -> 8 | E78: - | F78: =D78/$D$116*100 -> 0.2341235 | G78: -
A79: Inanda | B79: Ethekwini Municipality Metropolotan | C79: - | D79: =C25 -> 40 | E79: - | F79: =D79/$D$116*100 -> 1.1706175 | G79: -
...

Sheet Public Works  14
A1: MAIN TOWN OR CITY | B1: MUNICIPALITY | C1: NUMBER OF EMPLOYEES | D1: DISTRICT | E1: AS A % OF KZN
A2: 2009/2010
A3: MTUNZINI | B3: Mbombela Local Municipality | C3: 109 | D3: UMKHANYAKUDE DISTRICT MUNICIPALITY (DC27) | E3: =C3/$C$11*100 -> 10.644531
A4: NEWCASTLE | B4: NEWCASTLE LOCAL MUNICIPALITY | C4: 45 | D4: UMZINYATHI DISTRICT MUNICIPALITY | E4: =C4/$C$11*100 -> 4.3945312
A5: NONGOMA | B5: NONGOMA LOCAL MUNICIPALITY | C5: 174 | D5: ZULULAND DISTRICT MUNICIPALITY | E5: =C5/$C$11*100 -> 16.992188
A6: PIETERMARITZBURG | B6: UMSUNDUZI LOCAL MUNICIPALITY | C6: 491 | D6: UMGUNGUNDLOVU DISTRICT MUNICIPALITY | E6: =C6/$C$11*100 -> 47.949219
A7: PORT SHEPSTONE | B7: HIBISCUS COAST LOCAL MUNICIPALITY | C7: 80 | D7: UGU DISTRICT MUNICIPALITY | E7: =C7/$C$11*100 -> 7.8125
A8: UBOMBO | B8: THE BIG FIVE FALSE BAY LOCAL MUNICIPALITY | C8: 82 | D8: UMKHANYAKUDE DISTRICT MUNICIPALITY (DC27) | E8: =C8/$C$11*100 -> 8.0078125
A9: VRYHEID | B9: ABAQULUSI LOCAL MUNICIPALITY | C9: 43 | D9: ZULULAND DISTRICT MUNICIPALITY | E9: =C9/$C$11*100 -> 4.1992188
C11: =SUM(C3:C10) -> 1024
A12: 2010/11
A14: DUNDEE | B14: ENDUMENI LOCAL MUNICIPALITY | C14: 65 | D14: UMZINYATHI DISTRICT MUNICIPALITY | E14: =C14/$C$30*100 -> 3.1070746
A15: DURBAN | B15: ETHEKWINI LOCAL MUNICIPALITY | C15: 463 | D15: ETHEKWINI MUNICIPALITY | E15: =C15/$C$30*100 -> 22.131931
A16: EMNAMBITHI | B16: EMNAMBITHI-LADYSMITH LOCAL MUNICIPALITY | C16: 3 | D16: UTHUNGULU DISTRICT MUNICIPALITY | E16: =C16/$C$30*100 -> 0.14340344
A17: ESHOWE | B17: INKANDLA LOCAL MUNICIPALITY | C17: 97 | D17: UTHUKELA DISTRICT MUNICIPALITY | E17: =C17/$C$30*100 -> 4.6367113
A18: HLABISA | B18: BIG FIVE FALSE BAY LOCAL MUNICIPALITY | C18: 46 | D18: UMKHANYAKUDE DISTRICT MUNICIPALITY (DC27) | E18: =C18/$C$30*100 -> 2.1988528
A19: KLIPRIVER | B19: LADYSMITH LOCAL MUNICIPALITY | C19: 141 | D19: UTHUKELA REGIONAL COUNCIL SOUTH | E19: =C19/$C$30*100 -> 6.7399618
A20: LOWER UMFOLOZI | B20: MTUBATUBA LOCAL MUNICIPALITY | C20: 4 | D20: UTHUNGULU DISTRICT MUNICIPALITY | E20: =C20/$C$30*100 -> 0.19120459
A21: MHLABATHINI | B21: ULUNDI LOCAL MUNICIPALITY | C21: 307 | D21: ZULULAND DISTRICT MUNICIPALITY | E21: =C21/$C$30*100 -> 14.674952
A22: MTUNZINI | B22: Mbombela Local Municipality | C22: 81 | D22: UMKHANYAKUDE DISTRICT MUNICIPALITY (DC27) | E22: =C22/$C$30*100 -> 3.8718929
A23: NEWCASTLE | B23: NEWCASTLE LOCAL MUNICIPALITY | C23: 44 | D23: UMZINYATHI DISTRICT MUNICIPALITY | E23: =C23/$C$30*100 -> 2.1032505
A24: NONGOMA | B24: NONGOMA LOCAL MUNICIPALITY | C24: 185 | D24: ZULULAND DISTRICT MUNICIPALITY | E24: =C24/$C$30*100 -> 8.8432122
A25: PIETERMARITZBURG | B25: UMSUNDUZI LOCAL MUNICIPALITY | C25: 488 | D25: UMGUNGUNDLOVU DISTRICT MUNICIPALITY | E25: =C25/$C$30*100 -> 23.32696
... A28: VRYHEID | B28: ABAQULUSI LOCAL MUNICIPALITY | C28: 39 | D28: ZULULAND DISTRICT MUNICIPALITY | E28: =C28/$C$30*100 -> 1.8642447
C30: =SUM(C14:C28) -> 2092
A32: PUBLIC WORKS
A33: MAIN TOWN OR CITY | B33: MUNICIPALITY | C33: NUMBER OF EMPLOYEES 2010 | D33: NUMBER OF EMPLOYEES 2011 | E33: AS A % OF KZN 2010 | F33: AS A % OF KZN 2011 | G33: Year-on-Year % Change
A34: Dundee | B34: Endumeni Local Municipality | C34: - | D34: =C14 -> 65 | E34: - | F34: =D34/$D$50*100 -> 3.1070746 | G34: -
A35: Durban | B35: Ethekwini Local Municipality | C35: - | D35: =C15 -> 463 | E35: - | F35: =D35/$D$50*100 -> 22.131931 | G35: -
A36: Emnambithi | B36: Emnambithi-Ladysmith Local Municipality | C36: - | D36: =C16 -> 3 | E36: - | F36: =D36/$D$50*100 -> 0.14340344 | G36: -
A37: Eshowe | B37: Inkandla Local Municipality | C37: - | D37: =C17 -> 97 | E37: - | F37: =D37/$D$50*100 -> 4.6367113 | G37: -
