Workbook

Sheet Matrix
A1: Sectors | B1: Variables
B2: Employment per R1m GDP | C2: Employment per Establishment | D2: Increase in Employment | E2: Increase in GDP??? | F2: Increase in Number of Establishments??? | I2: Employment Target
A3: =Data!A51 -> Agriculture, Hunting, Forestry and Fisheries | B3: =Projections!B26*1000000 -> 9.2843224 | C3: =Projections!C26 -> 73.466713 | D3: =Projections!D3 -> 39608.219 | E3: =Projections!H3/Projections!F3 -> 0.22831899 | F3: =Projections!K3/Projections!I3 -> 0.091420744 | I3: 3200000
A4: =Data!A52 -> Mining And Quarrying | B4: =Projections!B32*1000000 -> 2.8296993 | C4: =Projections!C32 -> 46.133897 | D4: =Projections!D4 -> 4864.1672 | E4: =Projections!H4/Projections!F4 -> 0.66109628 | F4: =Projections!K4/Projections!I4 -> 0.49583588
A5: =Data!A53 -> Manufacturing | B5: =Projections!B38*1000000 -> 6.6553447 | C5: =Projections!C38 -> 61.379207 | D5: =Projections!D5 -> 160219.71 | E5: =Projections!H5/Projections!F5 -> 0.3667754 | F5: =Projections!K5/Projections!I5 -> 0.20972248
A6: =Data!A54 -> Electricity, Gas And Water Supply | B6: =Projections!B44*1000000 -> 1.844302 | C6: =Projections!C44 -> 48.830014 | D6: =Projections!D6 -> 5161.9734 | E6: =Projections!H6/Projections!F6 -> 0.73465094 | F6: =Projections!K6/Projections!I6 -> 0.51813398
A7: =Data!A55 -> Construction | B7: =Projections!B50*1000000 -> 27.644968 | C7: =Projections!C50 -> 21.717888 | D7: =Projections!D7 -> 92716.983 | E7: =Projections!H7/Projections!F7 -> 0.37291801 | F7: =Projections!K7/Projections!I7 -> 0.22010063
A8: =Data!A56 -> Wholesale And Retail Trade; Repair Of Motor Vehicles, Motor Cycles And Personal And Household Goods; Hotels And Restaurants | B8: =Projections!B56*1000000 -> 13.884724 | C8: =Projections!C56 -> 17.915787 | D8: =Projections!D8 -> 229310.74 | E8: =Projections!H8/Projections!F8 -> 0.43522118 | F8: =Projections!K8/Projections!I8 -> 0.28165486
A9: =Data!A57 -> Transport, Storage And Communication | B9: =Projections!B62*1000000 -> 4.6929683 | C9: =Projections!C62 -> 39.57369 | D9: =Projections!D9 -> 67701.266 | E9: =Projections!H9/Projections!F9 -> 0.32739837 | F9: =Projections!K9/Projections!I9 -> 0.17287268
A10: =Data!A58 -> Financial Intermediation Insurance, Real Estate And Business Services | B10: =Projections!B68*1000000 -> 5.3276126 | C10: =Projections!C68 -> 9.9591469 | D10: =Projections!D10 -> 108897.78 | E10: =Projections!H10/Projections!F10 -> 0.32454234 | F10: =Projections!K10/Projections!I10 -> 0.14207529
A11: =Data!A59 -> Community, Social And Personal Services | B11: =Projections!B74*1000000 -> 28.356351 | C11: =Projections!C74 -> 61.470507 | D11: =Projections!D11 -> 201019.16 | E11: =Projections!H11/Projections!F11 -> 0.47534476 | F11: =Projections!K11/Projections!I11 -> 0.31856856
A12: Average | B12: =AVERAGE(B3:B11) -> 11.168921 | C12: =AVERAGE(C3:C11) -> 42.271872 | D12: =SUM(D3:D11) -> 909500 | E12: =AVERAGE(E3:E11) -> 0.43625181 | F12: =AVERAGE(F3:F11) -> 0.27226501

Sheet Projections
A1: Sectors | B1: Employment Projection (Q) | E1: GDP Projection (R) | I1: Business Projection (Q)
B2: Current Employment | C2: Target Employment | D2: Difference | E2: Current GDP | F2: =E2 -> Current GDP | G2: Required GDP | H2: Difference | I2: Current Number of Establishments | J2: Required Number of Establishment | K2: Difference
A3: =Data!A51 -> Agriculture, Hunting, Forestry and Fisheries | B3: =Data!H51 -> 99750 | C3: =((B3/$B$12)*($C$12)) -> 139358.22 | D3: =C3-B3 -> 39608.219 | E3: =Data!E21 -> 12220 | F3: =E3*1000000 -> 12220000000 | G3: =C3/B26 -> 1.5010058e+10 | H3: =G3-F3 -> 2.7900581e+09 | I3: =Data!H37 -> 1738 | J3: =C3/C26 -> 1896.8893 | K3: =J3-I3 -> 158.88925
A4: =Data!A52 -> Mining And Quarrying | B4: =Data!H52 -> 12250 | C4: =((B4/$B$12)*($C$12)) -> 17114.167 | D4: =C4-B4 -> 4864.1672 | E4: =Data!E22 -> 3641 | F4: =E4*1000000 -> 3641000000 | G4: =C4/B32 -> 6.0480515e+09 | H4: =G4-F4 -> 2.4070515e+09 | I4: =Data!H38 -> 248 | J4: =C4/C32 -> 370.9673 | K4: =J4-I4 -> 122.9673
A5: =Data!A53 -> Manufacturing | B5: =Data!H53 -> 403500 | C5: =((B5/$B$12)*($C$12)) -> 563719.71 | D5: =C5-B5 -> 160219.71 | E5: =Data!E24 -> 61972 | F5: =E5*1000000 -> 61972000000 | G5: =C5/B38 -> 8.4701805e+10 | H5: =G5-F5 -> 2.2729805e+10 | I5: =Data!H39 -> 7592 | J5: =C5/C38 -> 9184.213 | K5: =J5-I5 -> 1592.213
A6: =Data!A54 -> Electricity, Gas And Water Supply | B6: =Data!H54 -> 13000 | C6: =((B6/$B$12)*($C$12)) -> 18161.973 | D6: =C6-B6 -> 5161.9734 | E6: =Data!E25 -> 5677 | F6: =E6*1000000 -> 5677000000 | G6: =C6/B44 -> 9.8476134e+09 | H6: =G6-F6 -> 4.1706134e+09 | I6: =Data!H40 -> 245 | J6: =C6/C44 -> 371.94283 | K6: =J6-I6 -> 126.94283
A7: =Data!A55 -> Construction | B7: =Data!H55 -> 233500 | C7: =((B7/$B$12)*($C$12)) -> 326216.98 | D7: =C7-B7 -> 92716.983 | E7: =Data!E26 -> 8595 | F7: =E7*1000000 -> 8595000000 | G7: =C7/B50 -> 1.180023e+10 | H7: =G7-F7 -> 3.2052303e+09 | I7: =Data!H41 -> 12311 | J7: =C7/C50 -> 15020.659 | K7: =J7-I7 -> 2709.6589
A8: =Data!A56 -> Wholesale And Retail Trade; Repair Of Motor Vehicles, Motor Cycles And Personal And Household Goods; Hotels And Restaurants | B8: =Data!H56 -> 577500 | C8: =((B8/$B$12)*($C$12)) -> 806810.74 | D8: =C8-B8 -> 229310.74 | E8: =Data!E28 -> 40487 | F8: =E8*1000000 -> 40487000000 | G8: =C8/B56 -> 5.81078e+10 | H8: =G8-F8 -> 1.76208e+10 | I8: =Data!H42 -> 35137 | J8: =C8/C56 -> 45033.507 | K8: =J8-I8 -> 9896.5069
A9: =Data!A57 -> Transport, Storage And Communication | B9: =Data!H57 -> 170500 | C9: =((B9/$B$12)*($C$12)) -> 238201.27 | D9: =C9-B9 -> 67701.266 | E9: =Data!E29 -> 38238 | F9: =E9*1000000 -> 38238000000 | G9: =C9/B62 -> 5.0757059e+10 | H9: =G9-F9 -> 1.2519059e+10 | I9: =Data!H43 -> 5132 | J9: =C9/C62 -> 6019.1826 | K9: =J9-I9 -> 887.18258
A10: =Data!A58 -> Financial Intermediation Insurance, Real Estate And Business Services | B10: =Data!H58 -> 274250 | C10: =((B10/$B$12)*($C$12)) -> 383147.78 | D10: =C10-B10 -> 108897.78 | E10: =Data!E30 -> 54296 | F10: =E10*1000000 -> 54296000000 | G10: =C10/B68 -> 7.1917351e+10 | H10: =G10-F10 -> 1.7621351e+10 | I10: =Data!H44 -> 33686 | J10: =C10/C68 -> 38471.948 | K10: =J10-I10 -> 4785.9482
A11: =Data!A59 -> Community, Social And Personal Services | B11: =Data!H59 -> 506250 | C11: =((B11/$B$12)*($C$12)) -> 707269.16 | D11: =C11-B11 -> 201019.16 | E11: =Data!E31 -> 16906 | F11: =E11*1000000 -> 16906000000 | G11: =C11/B74 -> 2.4942178e+10 | H11: =G11-F11 -> 8.0361784e+09 | I11: =Data!H45 -> 8726 | J11: =C11/C74 -> 11505.829 | K11: =J11-I11 -> 2779.8293
A12: =Data!A60 -> Total | B12: =SUM(B3:B11) -> 2290500 | C12: =Matrix!I3 -> 3200000 | D12: =C12-B12 -> 909500 | E12: =SUM(E3:E11) -> 242032 | F12: =SUM(F3:F11) -> 242032000000 | G12: =SUM(G3:G11) -> 3.3313215e+11 | H12: =G12-F12 -> 9.1100147e+10 | I12: =Data!H46 -> 104815 | J12: =SUM(J3:J11) -> 127875.14 | K12: =J12-I12 -> 23060.138
A14: Cumulative Growth Rate | B14: =D12/B12 -> 0.39707487 | F14: =H12/F12 -> 0.37639712 | I14: =K12/I12 -> 0.220008
A15: 5 Year Growth Rate | B15: =B14/5 -> 0.079414975 | F15: =F14/5 -> 0.075279423 | I15: =I14/5 -> 0.044001599
A16: 10 Year Growth Rate | B16: =B14/10 -> 0.039707487 | F16: =F14/10 -> 0.037639712 | I16: =I14/10 -> 0.0220008
B22: Employment per GDP | C22: Employment per Business
A23: Agriculture 2009 | B23: =Data!D51/(Data!C21*1000000) -> 9.8534882e-06 | C23: =Data!D51/Data!D37 -> 66.743383
A24: Agriculture 2010 | B24: =Data!F51/(Data!D21*1000000) -> 9.8366313e-06 | C24: =Data!F51/Data!F37 -> 96.263201
A25: Agriculture 2011 | B25: =Data!H51/(Data!E21*1000000) -> 8.1628478e-06 | C25: =Data!H51/Data!H37 -> 57.393556
A26: Average | B26: =AVERAGE(B23:B25) -> 9.2843224e-06 | C26: =AVERAGE(C23:C25) -> 73.466713
B28: Employment per GDP | C28: Employment per Business
A29: Mining and quarrying 2009 | B29: =Data!D52/(Data!C22*1000000) -> 2.4902825e-06 | C29: =Data!D52/Data!D38 -> 32.258065
A30: Mining and quarrying 2010 | B30: =Data!F52/(Data!D22*1000000) -> 2.6343551e-06 | C30: =Data!F52/Data!F38 -> 56.748466
A31: Mining and quarrying 2011 | B31: =Data!H52/(Data!E22*1000000) -> 3.3644603e-06 | C31: =Data!H52/Data!H38 -> 49.395161
A32: Average | B32: =AVERAGE(B29:B31) -> 2.8296993e-06 | C32: =AVERAGE(C29:C31) -> 46.133897
B34: Employment per GDP | C34: Employment per Business
A35: Manufacturing 2009 | B35: =Data!D53/(Data!C24*1000000) -> 7.0848487e-06 | C35: =Data!D53/Data!D39 -> 52.950474
A36: Manufacturing 2010 | B36: =Data!F53/(Data!D24*1000000) -> 6.3701805e-06 | C36: =Data!F53/Data!F39 -> 78.039096
A37: Manufacturing 2011 | B37: =Data!H53/(Data!E24*1000000) -> 6.511005e-06 | C37: =Data!H53/Data!H39 -> 53.148051
A38: Average | B38: =AVERAGE(B35:B37) -> 6.6553447e-06 | C38: =AVERAGE(C35:C37) -> 61.379207
B40: Employment per GDP | C40: Employment per Business
A41: Electricity, gas and water 2009 | B41: =Data!D54/(Data!C25*1000000) -> 1.5172105e-06 | C41: =Data!D54/Data!D40 -> 34.693878
A42: Electricity, gas and water 2010 | B42: =Data!F54/(Data!D25*1000000) -> 1.7257537e-06 | C42: =Data!F54/Data!F40 -> 58.73494
A43: Electricity, gas and water 2011 | B43: =Data!H54/(Data!E25*1000000) -> 2.2899419e-06 | C43: =Data!H54/Data!H40 -> 53.061224
A44: Average | B44: =AVERAGE(B41:B43) -> 1.844302e-06 | C44: =AVERAGE(C41:C43) -> 48.830014
B46: Employment per GDP | C46: Employment per Business
A47: Construction 2009 | B47: =Data!D55/(Data!C26*1000000) -> 2.8104279e-05 | C47: =Data!D55/Data!D41 -> 18.946471
A48: Construction 2010 | B48: =Data!F55/(Data!D26*1000000) -> 2.7663666e-05 | C48: =Data!F55/Data!F41 -> 27.240415
A49: Construction 2011 | B49: =Data!H55/(Data!E26*1000000) -> 2.7166958e-05 | C49: =Data!H55/Data!H41 -> 18.966778
A50: Average | B50: =AVERAGE(B47:B49) -> 2.7644968e-05 | C50: =AVERAGE(C47:C49) -> 21.717888
...

Sheet Data
A1: GROSS DOMESTIC PRODUCT, NUMBER OF ESTBALISHMENTS AND EMPLOYMENT
A3: National Industry (GDP Constant 2005 Prices) | B3: 2004 | C3: 2009 | D3: 2010 | E3: 2011
A4: Primary Industries | B4: =SUM(B5:B6) -> 141295.26 | C4: =SUM(C5:C6) -> 135553.5 | D4: =SUM(D5:D6) -> 140923.72 | E4: =SUM(E5:E6) -> 140968
A5: Agriculture, forestry and fishing | B5: 36380 | C5: 41496.137 | D5: 41700.894 | E5: 41553
A6: Mining and quarrying | B6: 104915.26 | C6: 94057.359 | D6: 99222.824 | E6: 99415
A7: Secondary Industries | B7: =SUM(B8:B10) -> 309751 | C7: =SUM(C8:C10) -> 358713 | D7: =SUM(D8:D10) -> 374283.86 | E7: =SUM(E8:E10) -> 382005
A8: Manufacturing | B8: 243965 | C8: 267722.57 | D8: 282215.35 | E8: 289015
A9: Electricity, gas and water | B9: 31335 | C9: 33711.906 | D9: 34287.149 | E9: 34749
A10: Construction | B10: 34451 | C10: 57278.524 | D10: 57781.36 | E10: 58241
A11: Tertiary industries | B11: =SUM(B12:B15) -> 679397 | C11: =SUM(C12:C15) -> 861303.29 | D11: =SUM(D12:D15) -> 879808.51 | E11: =SUM(E12:E15) -> 911346
A12: Wholesale & retail trade; hotels & restaurants | B12: 182175 | C12: 217073.92 | D12: 224653.48 | E12: 234630
A13: Transport , storage and communication | B13: 132459 | C13: 163999.44 | D13: 167282.89 | E13: 172733
A14: Finance, real estate and business services | B14: 279544 | C14: 378996.81 | D14: 386744.79 | E14: 400382
A15: Personal services | B15: 85219 | C15: 101233.11 | D15: 101127.36 | E15: 103601
A16: All industries at basic prices | B16: =B11+B7+B4 -> 1130443.3 | C16: =C11+C7+C4 -> 1355569.8 | D16: =D11+D7+D4 -> 1395016.1 | E16: =E11+E7+E4 -> 1434319
A19: Provincial Industry (GDP Constant 2005 Prices) | B19: 2004 | C19: 2009 | D19: 2010 | E19: 2011
A20: Primary Industries | B20: 14670.86 | C20: 15243.988 | D20: =SUM(D21:D22) -> 15558.103 | E20: =SUM(E21:E22) -> 15861
A21: Agriculture, forestry and fishing | B21: 10717.488 | C21: 11772.481 | D21: 12046.807 | E21: 12220
A22: Mining and quarrying | B22: 3953.3719 | C22: 3212.4869 | D22: 3511.2958 | E22: 3641
A23: Secondary Industries | B23: 62217.716 | C23: 70148.665 | D23: =SUM(D24:D26) -> 74262.548 | E23: =SUM(E24:E26) -> 76244
A24: Manufacturing | B24: 51829.694 | C24: 56740.803 | D24: 60163.13 | E24: 61972
A25: Electricity, gas and water | B25: 5343.3901 | C25: 5602.3866 | D25: 5649.7055 | E25: 5677
A26: Construction | B26: 5044.6319 | C26: 8299.4478 | D26: 8449.7117 | E26: 8595
A27: Tertiary industries | B27: 137951.47 | C27: 174996.29 | D27: =SUM(D28:D31) -> 145114.84 | E27: =SUM(E28:E31) -> 149927
A28: Wholesale & retail trade; hotels & restaurants | B28: 30957.429 | C28: 37447.343 | D28: 38760.28 | E28: 40487
A29: Transport , storage and communication | B29: 28301.562 | C29: 35759.306 | D29: 36753.18 | E29: 38238
A30: Finance, real estate and business services | B30: 37561.638 | C30: 52603.395 | D30: 53062.601 | E30: 54296
A31: Personal services | B31: 13924.515 | C31: 16592.493 | D31: 16538.783 | E31: 16906
A32: All industries at basic prices | B32: 214840.04 | C32: 260388.94 | D32: =D20+D23+D27 -> 234935.49 | E32: =E20+E23+E27 -> 242032
A34: Number of CIPRO Registered Establishments in KZN and SA per Period | B34: 2004 | D34: 2009 | F34: 2010 | H34: 2011
A36: Description | B36: Kwa-Zulu Natal | C36: SA | D36: Kwa-Zulu Natal | E36: SA | F36: Kwa-Zulu Natal | G36: SA | H36: Kwa-Zulu Natal | I36: SA
A37: Agriculture, Hunting, Forestry and Fisheries | B37: 1711 | C37: 15475 | D37: 1738 | E37: 16047 | F37: 1231 | G37: 11239 | H37: 1738 | I37: 16047
A38: Mining And Quarrying | B38: 206 | C38: 3116 | D38: 248 | E38: 3860 | F38: 163 | G38: 2331 | H38: 248 | I38: 3860
A39: Manufacturing | B39: 7312 | C39: 46170 | D39: 7592 | E39: 47755 | F39: 4911 | G39: 29922 | H39: 7592 | I39: 47755
A40: Electricity, Gas And Water Supply | B40: 47 | C40: 381 | D40: 245 | E40: 1975 | F40: 166 | G40: 1380 | H40: 245 | I40: 1975
A41: Construction | B41: 7841 | C41: 55111 | D41: 12311 | E41: 83829 | F41: 8581 | G41: 56579 | H41: 12311 | I41: 83829
A42: Wholesale And Retail Trade; Repair Of Motor Vehicles, Motor Cycles And Personal And Household Goods; Hotels And Restaurants | B42: 28329 | C42: 221781 | D42: 35137 | E42: 272837 | F42: 23167 | G42: 175263 | H42: 35137 | I42: 272837
A43: Transport, Storage And Communication | B43: 3621 | C43: 23874 | D43: 5132 | E43: 34092 | F43: 3392 | G43: 22143 | H43: 5132 | I43: 34092
A44: Financial Intermediation Insurance, Real Estate And Business Services | B44: 34940 | C44: 282869 | D44: 33686 | E44: 270994 | F44: 21780 | G44: 173152 | H44: 33686 | I44: 270994
A45: Community, Social And Personal Services | B45: 4192 | C45: 38185 | D45: 8726 | E45: 65659 | F45: 6054 | G45: 46406 | H45: 8726 | I45: 65659
...

Sheet Percentage
A1: Sector GDP as a % of Total GDP
E2: 2004 | F2: 2009 | G2: 2010 | H2: 2011
A3: Primary Industries | C3: Agriculture, forestry and fishing | D3: KZN | E3: =Data!B21/Data!B32 -> 0.049885897 | F3: =Data!C21/Data!C32 -> 0.04521114 | G3: =Data!D21/Data!D32 -> 0.051277084 | H3: =Data!E21/Data!E32 -> 0.050489192
C4: Agriculture, forestry and fishing | D4: SA | E4: =Data!B5/Data!B16 -> 0.032182066 | F4: =Data!C5/Data!C16 -> 0.030611583 | G4: =Data!D5/Data!D16 -> 0.029892769 | H4: =Data!E5/Data!E16 -> 0.028970543
C5: Mining and quarrying | D5: KZN | E5: =Data!B22/Data!B32 -> 0.018401467 | F5: =Data!C22/Data!C32 -> 0.012337263 | G5: =Data!D22/Data!D32 -> 0.014945787 | H5: =Data!E22/Data!E32 -> 0.015043465
C6: Mining and quarrying | D6: SA | E6: =Data!B6/Data!B16 -> 0.092808954 | F6: =Data!C6/Data!C16 -> 0.069385848 | G6: =Data!D6/Data!D16 -> 0.071126652 | H6: =Data!E6/Data!E16 -> 0.069311638
A7: Secondary Industries | C7: Manufacturing | D7: KZN | E7: =Data!B24/Data!B32 -> 0.24124783 | F7: =Data!C24/Data!C32 -> 0.21790788 | G7: =Data!D24/Data!D32 -> 0.25608361 | H7: =Data!E24/Data!E32 -> 0.25604879
C8: Manufacturing | D8: SA | E8: =Data!B8/Data!B16 -> 0.21581357 | F8: =Data!C8/Data!C16 -> 0.19749818 | G8: =Data!D8/Data!D16 -> 0.20230257 | H8: =Data!E8/Data!E16 -> 0.20149981
C9: Electricity, gas and water | D9: KZN | E9: =Data!B25/Data!B32 -> 0.024871481 | F9: =Data!C25/Data!C32 -> 0.021515455 | G9: =Data!D25/Data!D32 -> 0.024047901 | H9: =Data!E25/Data!E32 -> 0.023455576
C10: Electricity, gas and water | D10: SA | E10: =Data!B9/Data!B16 -> 0.027719215 | F10: =Data!C9/Data!C16 -> 0.024869178 | G10: =Data!D9/Data!D16 -> 0.024578318 | H10: =Data!E9/Data!E16 -> 0.024226828
C11: Construction | D11: KZN | E11: =Data!B26/Data!B32 -> 0.023480873 | F11: =Data!C26/Data!C32 -> 0.031873273 | G11: =Data!D26/Data!D32 -> 0.035966092 | H11: =Data!E26/Data!E32 -> 0.035511833
C12: Construction | D12: SA | E12: =Data!B10/Data!B16 -> 0.030475656 | F12: =Data!C10/Data!C16 -> 0.042254205 | G12: =Data!D10/Data!D16 -> 0.041419852 | H12: =Data!E10/Data!E16 -> 0.040605333
A13: Tertiary industries | C13: Wholesale & retail trade; hotels & restaurants | D13: KZN | E13: =Data!B28/Data!B32 -> 0.14409525 | F13: =Data!C28/Data!C32 -> 0.14381311 | G13: =Data!D28/Data!D32 -> 0.16498265 | H13: =Data!E28/Data!E32 -> 0.16727953
C14: Wholesale & retail trade; hotels & restaurants | D14: SA | E14: =Data!B12/Data!B16 -> 0.1611536 | F14: =Data!C12/Data!C16 -> 0.16013482 | G14: =Data!D12/Data!D16 -> 0.16104006 | H14: =Data!E12/Data!E16 -> 0.16358286
C15: Transport , storage and communication | D15: KZN | E15: =Data!B29/Data!B32 -> 0.13173318 | F15: =Data!C29/Data!C32 -> 0.13733036 | G15: =Data!D29/Data!D32 -> 0.15643945 | H15: =Data!E29/Data!E32 -> 0.15798737
C16: Transport , storage and communication | D16: SA | E16: =Data!B13/Data!B16 -> 0.11717439 | F16: =Data!C13/Data!C16 -> 0.12098193 | G16: =Data!D13/Data!D16 -> 0.11991467 | H16: =Data!E13/Data!E16 -> 0.12042858
C17: Finance, real estate and business services | D17: KZN | E17: =Data!B30/Data!B32 -> 0.17483537 | F17: =Data!C30/Data!C32 -> 0.20201855 | G17: =Data!D30/Data!D32 -> 0.2258603 | H17: =Data!E30/Data!E32 -> 0.22433397
C18: Finance, real estate and business services | D18: SA | E18: =Data!B14/Data!B16 -> 0.24728707 | F18: =Data!C14/Data!C16 -> 0.27958488 | G18: =Data!D14/Data!D16 -> 0.27723321 | H18: =Data!E14/Data!E16 -> 0.27914432
C19: Personal services | D19: KZN | E19: =Data!B31/Data!B32 -> 0.064813406 | F19: =Data!C31/Data!C32 -> 0.063721959 | G19: =Data!D31/Data!D32 -> 0.070397124 | H19: =Data!E31/Data!E32 -> 0.069850268
C20: Personal services | D20: SA | E20: =Data!B15/Data!B16 -> 0.075385473 | F20: =Data!C15/Data!C16 -> 0.074679377 | G20: =Data!D15/Data!D16 -> 0.072491894 | H20: =Data!E15/Data!E16 -> 0.072230097
A21: Sector Establishments as a % of Total Establishments
E22: 2004 | F22: 2009 | G22: 2010 | H22: 2011
A23: Primary Industries | C23: Agriculture, forestry and fishing | D23: KZN | E23: =Data!B37/Data!B46 -> 0.019399313 | F23: =Data!D37/Data!D46 -> 0.016581596 | G23: =Data!F37/Data!F46 -> 0.017726258 | H23: =Data!H37/Data!H46 -> 0.016581596
C24: Agriculture, forestry and fishing | D24: SA | E24: =Data!C37/Data!C46 -> 0.022526719 | F24: =Data!E37/Data!E46 -> 0.020133041 | G24: =Data!G37/Data!G46 -> 0.021679542 | H24: =Data!I37/Data!I46 -> 0.020133041
C25: Mining and quarrying | D25: KZN | E25: =Data!B38/Data!B46 -> 0.0023356274 | F25: =Data!D38/Data!D46 -> 0.0023660736 | G25: =Data!F38/Data!F46 -> 0.0023471812 | H25: =Data!H38/Data!H46 -> 0.0023660736
C26: Mining and quarrying | D26: SA | E26: =Data!C38/Data!C46 -> 0.0045359132 | F26: =Data!E38/Data!E46 -> 0.0048428702 | G26: =Data!G38/Data!G46 -> 0.0044963977 | H26: =Data!I38/Data!I46 -> 0.0048428702
A27: Secondary Industries | C27: Manufacturing | D27: KZN | E27: =Data!B39/Data!B46 -> 0.082903434 | F27: =Data!D39/Data!D46 -> 0.072432381 | G27: =Data!F39/Data!F46 -> 0.070717834 | H27: =Data!H39/Data!H46 -> 0.072432381
C28: Manufacturing | D28: SA | E28: =Data!C39/Data!C46 -> 0.067208958 | F28: =Data!E39/Data!E46 -> 0.059914836 | G28: =Data!G39/Data!G46 -> 0.057718237 | H28: =Data!I39/Data!I46 -> 0.059914836
C29: Electricity, gas and water | D29: KZN | E29: =Data!B40/Data!B46 -> 0.00053288586 | F29: =Data!D40/Data!D46 -> 0.0023374517 | G29: =Data!F40/Data!F46 -> 0.0023903809 | H29: =Data!H40/Data!H46 -> 0.0023374517
C30: Electricity, gas and water | D30: SA | E30: =Data!C40/Data!C46 -> 0.00055461583 | F30: =Data!E40/Data!E46 -> 0.0024778934 | G30: =Data!G40/Data!G46 -> 0.00266196 | H30: =Data!I40/Data!I46 -> 0.0024778934
C31: Construction | D31: KZN | E31: =Data!B41/Data!B46 -> 0.088901235 | F31: =Data!D41/Data!D46 -> 0.11745456 | G31: =Data!F41/Data!F46 -> 0.12356541 | H31: =Data!H41/Data!H46 -> 0.11745456
C32: Construction | D32: SA | E32: =Data!C41/Data!C46 -> 0.080224234 | F32: =Data!E41/Data!E46 -> 0.10517434 | G32: =Data!G41/Data!G46 -> 0.10913843 | H32: =Data!I41/Data!I46 -> 0.10517434
A33: Tertiary industries | C33: Wholesale & retail trade; hotels & restaurants | D33: KZN | E33: =Data!B42/Data!B46 -> 0.32119412 | F33: =Data!D42/Data!D46 -> 0.33522874 | G33: =Data!F42/Data!F46 -> 0.33360213 | H33: =Data!H42/Data!H46 -> 0.33522874
C34: Wholesale & retail trade; hotels & restaurants | D34: SA | E34: =Data!C42/Data!C46 -> 0.32284318 | F34: =Data!E42/Data!E46 -> 0.34230937 | G34: =Data!G42/Data!G46 -> 0.33807471 | H34: =Data!I42/Data!I46 -> 0.34230937
C35: Transport , storage and communication | D35: KZN | E35: =Data!B43/Data!B46 -> 0.041054887 | F35: =Data!D43/Data!D46 -> 0.048962458 | G35: =Data!F43/Data!F46 -> 0.048844409 | H35: =Data!H43/Data!H46 -> 0.048962458
C36: Transport , storage and communication | D36: SA | E36: =Data!C43/Data!C46 -> 0.034753014 | F36: =Data!E43/Data!E46 -> 0.042772832 | G36: =Data!G43/Data!G46 -> 0.042712884 | H36: =Data!I43/Data!I46 -> 0.042772832
C37: Finance, real estate and business services | D37: KZN | E37: =Data!B44/Data!B46 -> 0.39614962 | F37: =Data!D44/Data!D46 -> 0.3213853 | G37: =Data!F44/Data!F46 -> 0.31362949 | H37: =Data!H44/Data!H46 -> 0.3213853
C38: Finance, real estate and business services | D38: SA | E38: =Data!C44/Data!C46 -> 0.41176805 | F38: =Data!E44/Data!E46 -> 0.33999709 | G38: =Data!G44/Data!G46 -> 0.33400268 | H38: =Data!I44/Data!I46 -> 0.33999709
C39: Personal services | D39: KZN | E39: =Data!B45/Data!B46 -> 0.047528884 | F39: =Data!D45/Data!D46 -> 0.083251443 | G39: =Data!F45/Data!F46 -> 0.087176903 | H39: =Data!H45/Data!H46 -> 0.083251443
C40: Personal services | D40: SA | E40: =Data!C45/Data!C46 -> 0.055585316 | F40: =Data!E45/Data!E46 -> 0.082377724 | G40: =Data!G45/Data!G46 -> 0.089515157 | H40: =Data!I45/Data!I46 -> 0.082377724

Sheet Stats
A1: SA and KZN – GDP/GDPR by Activity % DIFFERENCE
D2: 2004 | E2: 2009 | F2: 2010 | G2: 2011
A3: Primary Industries | C3: Agriculture, forestry and fishing | D3: =Percentage!E3-Percentage!E4 -> 0.017703831 | E3: =Percentage!F3-Percentage!F4 -> 0.014599557 | F3: =Percentage!G3-Percentage!G4 -> 0.021384315 | G3: =Percentage!H3-Percentage!H4 -> 0.021518649
C4: Mining and quarrying | D4: =Percentage!E6-Percentage!E5 -> 0.074407488 | E4: =Percentage!F6-Percentage!F5 -> 0.057048585 | F4: =Percentage!G6-Percentage!G5 -> 0.056180865 | G4: =Percentage!H6-Percentage!H5 -> 0.054268173
A5: Secondary Industries | C5: Manufacturing | D5: =Percentage!E7-Percentage!E8 -> 0.025434256 | E5: =Percentage!F7-Percentage!F8 -> 0.020409698 | F5: =Percentage!G7-Percentage!G8 -> 0.053781038 | G5: =Percentage!H7-Percentage!H8 -> 0.054548981
C6: Electricity, gas and water | D6: =Percentage!E10-Percentage!E9 -> 0.0028477339 | E6: =Percentage!F10-Percentage!F9 -> 0.0033537226 | F6: =Percentage!G10-Percentage!G9 -> 0.0005304173 | G6: =Percentage!H10-Percentage!H9 -> 0.00077125208
C7: Construction | D7: =Percentage!E12-Percentage!E11 -> 0.0069947827 | E7: =Percentage!F12-Percentage!F11 -> 0.010380932 | F7: =Percentage!G12-Percentage!G11 -> 0.0054537598 | G7: =Percentage!H12-Percentage!H11 -> 0.0050934994
A8: Tertiary industries | C8: Wholesale & retail trade; hotels & restaurants | D8: =Percentage!E14-Percentage!E13 -> 0.017058354 | E8: =Percentage!F14-Percentage!F13 -> 0.016321712 | F8: =Percentage!G13-Percentage!G14 -> 0.0039425871 | G8: =Percentage!H14-Percentage!H13 -> -0.0036966762
C9: Transport , storage and communication | D9: =Percentage!E15-Percentage!E16 -> 0.014558788 | E9: =Percentage!F15-Percentage!F16 -> 0.016348432 | F9: =Percentage!G15-Percentage!G16 -> 0.036524785 | G9: =Percentage!H15-Percentage!H16 -> 0.037558794
C10: Finance, real estate and business services | D10: =Percentage!E18-Percentage!E17 -> 0.072451702 | E10: =Percentage!F18-Percentage!F17 -> 0.07756633 | F10: =Percentage!G18-Percentage!G17 -> 0.051372913 | G10: =Percentage!H18-Percentage!H17 -> 0.054810346
C11: Personal services | D11: =Percentage!E20-Percentage!E19 -> 0.010572067 | E11: =Percentage!F20-Percentage!F19 -> 0.010957418 | F11: =Percentage!G20-Percentage!G19 -> 0.0020947702 | G11: =Percentage!H20-Percentage!H19 -> 0.0023798289
A12: Number of Establishments
D14: 2004 | E14: 2009 | F14: 2010 | G14: 2011
A15: Primary Industries | C15: Agriculture, forestry and fishing | D15: =Percentage!E24-Percentage!E23 -> 0.0031274062 | E15: =Percentage!F24-Percentage!F23 -> 0.0035514448 | F15: =Percentage!G24-Percentage!G23 -> 0.0039532843 | G15: =Percentage!H24-Percentage!H23 -> 0.0035514448
C16: Mining and quarrying | D16: =Percentage!E26-Percentage!E25 -> 0.0022002858 | E16: =Percentage!F26-Percentage!F25 -> 0.0024767966 | F16: =Percentage!G26-Percentage!G25 -> 0.0021492165 | G16: =Percentage!H26-Percentage!H25 -> 0.0024767966
A17: Secondary Industries | C17: Manufacturing | D17: =Percentage!E27-Percentage!E28 -> 0.015694477 | E17: =Percentage!F27-Percentage!F28 -> 0.012517545 | F17: =Percentage!G27-Percentage!G28 -> 0.012999597 | G17: =Percentage!H27-Percentage!H28 -> 0.012517545
C18: Electricity, gas and water | D18: =Percentage!E30-Percentage!E29 -> 2.172997e-05 | E18: =Percentage!F30-Percentage!F29 -> 0.00014044173 | F18: =Percentage!G30-Percentage!G29 -> 0.00027157914 | G18: =Percentage!H30-Percentage!H29 -> 0.00014044173
C19: Construction | D19: =Percentage!E31-Percentage!E32 -> 0.0086770011 | E19: =Percentage!F31-Percentage!F32 -> 0.012280219 | F19: =Percentage!G31-Percentage!G32 -> 0.01442698 | G19: =Percentage!H31-Percentage!H32 -> 0.012280219
A20: Tertiary industries | C20: Wholesale & retail trade; hotels & restaurants | D20: =Percentage!E34-Percentage!E33 -> 0.0016490671 | E20: =Percentage!F34-Percentage!F33 -> 0.0070806352 | F20: =Percentage!G34-Percentage!G33 -> 0.0044725773 | G20: =Percentage!H34-Percentage!H33 -> 0.0070806352
C21: Transport , storage and communication | D21: =Percentage!E35-Percentage!E36 -> 0.0063018732 | E21: =Percentage!F35-Percentage!F36 -> 0.0061896259 | F21: =Percentage!G35-Percentage!G36 -> 0.0061315248 | G21: =Percentage!H35-Percentage!H36 -> 0.0061896259
C22: Finance, real estate and business services | D22: =Percentage!E38-Percentage!E37 -> 0.015618429 | E22: =Percentage!F38-Percentage!F37 -> 0.018611791 | F22: =Percentage!G38-Percentage!G37 -> 0.02037319 | G22: =Percentage!H38-Percentage!H37 -> 0.018611791
C23: Personal services | D23: =Percentage!E40-Percentage!E39 -> 0.0080564327 | E23: =Percentage!F39-Percentage!F40 -> 0.00087371922 | F23: =Percentage!G40-Percentage!G39 -> 0.0023382542 | G23: =Percentage!H39-Percentage!H40 -> 0.00087371922

Sheet Graphs
A1: Sector GDP as a % of Total GDP - A SA and KZN Comparative Analysis

Sheet Graphs1
A1: Sector GDP as a % of Total GDP and Sector Establishments as a % of Total Establishments - A SA and KZN Comparative Analysis
A4: KZN | K4: SA
