Workbook

Sheet Summary
A1: KZN SUMMARARY STATISTICS DATABASE
A2: Macro-Indicators
A3: Business-Indicators
A4: Leading-Indicators
A5: National-Indicators
A6: Provincial-Indicators
A7: Indicators
A8: Index
A9: Proportions
A10: Model

Sheet Macro-Indicators
A1: Indicators (various units of measurement) | B1: 2006 | C1: =B1+1 -> 2007 | D1: =C1+1 -> 2008 | E1: =D1+1 -> 2009 | F1: =E1+1 -> 2010 | G1: =F1+1 -> 2011 | H1: 2012 year to date
A2: Macro-Indicators
A3: Total Population SA | B3: 47889378 | C3: 48360518 | D3: 48831499 | E3: 49306038 | F3: 49780934 | G3: 50586757
A4: Total Population KZN | B4: 9974344 | C4: 10045594 | D4: 10105436 | E4: 10449300 | F4: 10645400 | G4: 10267300
A5: GDP SA | B5: 1.6591216e+09 | C5: 1.7511647e+09 | D5: 1.8145318e+09 | E5: 1.7866368e+09 | F5: 1.8382641e+09 | G5: 1.895668e+09 | H5: 1.9469004e+09
A6: GDP KZN | B6: 2.6979729e+08 | C6: 2.8561604e+08 | D6: 2.9711491e+08 | E6: 2.9263707e+08 | F6: 3.015539e+08 | G6: 3.111227e+08 | H6: 3.1948461e+08
A7: GDP Growth Rate SA | B7: 5.6037661 | C7: 5.5678272 | D7: 3.5760909 | E7: -1.5157141 | F7: 2.8896362 | G7: 3.122724 | H7: 2.7
A8: GDP Grwoth Rate KZN | B8: 5.5333279 | C8: 5.8948085 | D8: 3.9731293 | E8: -1.7814714 | F8: 3.3622851 | G8: 3.4900996 | H8: 2.98
A9: CPI SA | B9: 4.4333333 | C9: 6.9 | D9: 11.483333 | E9: 7.4083333 | F9: 4.525 | G9: 4.7583333 | H9: 5.7444444
A10: CPI KZN | E10: 7.6174487 | F10: 3.3016931 | G10: 4.6276157 | H10: 6.023819
A11: Unemployment Rate SA (narrow def) | B11: =0.253661380361285*100 -> 25.366138 | C11: =0.241237312694315*100 -> 24.123731 | D11: =0.227624463238132*100 -> 22.762446 | E11: =0.238034350794309*100 -> 23.803435 | F11: =0.247279072968314*100 -> 24.727907 | G11: =0.247345488082754*100 -> 24.734549 | H11: 25.2
A12: Unemployment Rate KZN (narrow def) | B12: =0.334101489391315*100 -> 33.410149 | C12: =0.307059925637259*100 -> 30.705993 | D12: 21.920474 | E12: 19.942087 | F12: 19.9239 | G12: 19.778868 | H12: 20.533333
A13: Unemployment Rate SA (expanded def) | D13: 29.224754 | E13: 32.697873 | F13: 36.453626 | G13: 37.563962 | H13: 37.803362
A14: Unemployment Rate KZN (expanded def) | D14: 27.633719 | E14: 33.499482 | F14: 37.239126 | G14: 38.175304 | H14: 38.732207
A15: Total Employment SA | B15: 11898421 | C15: 12366732 | D15: 13066951 | E15: 12745379 | F15: 12593532 | G15: 12876879 | H15: 13504667
A16: Total Employment KZN | B16: 1766421 | C16: 1841963 | D16: 1990658 | E16: 1977527 | F16: 1974874 | G16: 2034401 | H16: 2524000

Sheet Business-Indicators
A1: Indicators (various units of measurement) | B1: 2006 | C1: =B1+1 -> 2007 | D1: =C1+1 -> 2008 | E1: =D1+1 -> 2009 | F1: =E1+1 -> 2010 | G1: =F1+1 -> 2011 | H1: 2012 year to date
A2: Business Indicators
A3: Number of CIPRO Registered Establishments SA | E3: 797048 | F3: 518415 | G3: 797048
A4: Number of CIPRO Registered Establishments KZN | E4: 104815 | F4: 69445 | G4: 104815
A5: Number of Active CO and CC Entities SA | B5: 165018 | C5: 187163 | D5: 291131 | E5: 262095 | F5: 178478 | G5: 177842
A6: Number of Active CO and CC Entities KZN | B6: 24638 | C6: 26160 | D6: 39364 | E6: 38148 | F6: 23209 | G6: 23160
A7: Total Tax Assessed SA | B7: 111329 | C7: 125341 | D7: 147860 | E7: 168084 | F7: 166310
A8: Total Tax Assessed KZN | B8: 14994 | C8: 15846 | D8: 18550 | E8: 21236 | F8: 21133
A9: Average Admin Salary SA | D9: ='[1]Office-Admin Assitant'!$B$10+'[1]Office-Admin Assitant'!$B$11 -> 16481.591 | E9: ='[1]Office-Admin Assitant'!$B$12+'[1]Office-Admin Assitant'!$B$13 -> 16822.425
A10: Average Admin Salary KZN | D10: ='[1]Office-Admin Assitant'!$H$3+'[1]Office-Admin Assitant'!$H$4 -> 14429 | E10: ='[1]Office-Admin Assitant'!$H$5+'[1]Office-Admin Assitant'!$H$6 -> 15945
A11: Yearly Research and Development Expenditure SA | B11: 8243776 | C11: 9243165 | D11: 10738456 | E11: 12332011
A12: Yearly Research and Development Expenditure KZN | B12: 1532158 | C12: 1809014 | D12: 2081167 | E12: 2210336
A13: Gross Tonnage of Vessels SA | B13: 255976219 | C13: 269726312 | D13: 2.8234538e+08 | E13: 300417981 | F13: 299570865 | G13: 324797252 | H13: 340952748
A14: Gross Tonnage of Vessels KZN | B14: 151896477 | C14: 161324294 | D14: 1.6359608e+08 | E14: 181992665 | F14: 185954136 | G14: 189623659 | H14: 190649064
A15: JSE Listed Companies SA | B15: 19665 | C15: 25722 | D15: 24929 | E15: 20996 | F15: 25416 | G15: 28540 | H15: 30562
A16: JSE Listed Companies KZN | B16: 2634.9638 | C16: 3715.9081 | D16: 3075.4689 | E16: 2955.6116 | F16: 3568.8911 | G16: 3651.539 | H16: 4505.7486
A17: Air Passenger Movements SA | B17: 2619517.9 | C17: 3010875.2 | D17: 2887568.8 | E17: 2740687.2 | F17: 2867020.8 | G17: 2989862 | H17: 2901754.5
A18: Air Passenger Movements KZN | B18: 336016.08 | C18: 399975.17 | D18: 371559.58 | E18: 358727.42 | F18: 393332.2 | G18: 419135.88 | H18: 395750.75
A19: Business Confidence SA | B19: 83.5 | C19: 74.75 | D19: 40 | E19: 26 | F19: 42.5 | G19: 45 | H19: 46.5
A20: Business Confidence KZN | C20: 81 | D20: 61 | E20: 69 | F20: 67 | G20: 73 | H20: 69

Sheet Leading-Indicators
A1: Indicators (various units of measurement) | B1: 2006 | C1: =B1+1 -> 2007 | D1: =C1+1 -> 2008 | E1: =D1+1 -> 2009 | F1: =E1+1 -> 2010 | G1: =F1+1 -> 2011 | H1: 2012 year to date
A2: Leading Indicators
A3: Civil Cases Recorded and Summonses Issued for Debt SA | B3: 133642.42 | C3: 121662.25 | D3: 120223 | E3: 132940.08 | F3: 122443.5 | G3: 102339.5 | H3: 87928.571
A4: Civil Cases Recorded and Summonses Issued for Debt KZN | B4: 7695.5 | C4: 8296.6667 | D4: 8554.6667 | E4: 9399.0833 | F4: 9468.1667 | G4: 6794.3333 | H4: 5468.4286
A5: Electricity Generated and Available for Distribution SA | B5: 17894.667 | C5: 18702.917 | D5: 18239.417 | E5: 17823.417 | F5: 18490.846 | G5: 18559.167 | H5: 18318.375
A6: Electricity Generated and Available for Distribution KZN | B6: 3597.8333 | C6: 3599.4167 | D6: 3436.75 | E6: 3506.75 | F6: 3509.5385 | G6: 3493.5833 | H6: 3343
A7: Cementitious Sales SA | B7: 1104330.2 | C7: 1177022.7 | D7: 1122737.9 | E7: 981404.98 | F7: 905866.17 | G7: 923399.15 | H7: 831851.5
A8: Cementitious Sales KZN | B8: 165973.49 | C8: 176981.66 | D8: 179746.96 | E8: 172409.56 | F8: 158748.25 | G8: 161821.18 | H8: 145802.19
A9: House prices SA | B9: 812103.97 | C9: 930237.85 | D9: 967773.88 | E9: 964507.25 | F9: 1033076.5 | G9: 1055081.8 | H9: 1044894.4
A10: House prices KZN | B10: 818120.35 | C10: 884806.65 | D10: 852831.95 | E10: 849559.62 | F10: 925645.4 | G10: 958238.43 | H10: 908102.23
A11: Recorded Building Plans Residential Passed SA | B11: =AVERAGE([2]Sheet1!$F$2:$F$13) -> 1173803.5 | C11: =AVERAGE([2]Sheet1!$F$14:$F$25) -> 1145294.2 | D11: =AVERAGE([2]Sheet1!$F$26:$F$37) -> 882948.42 | E11: =AVERAGE([2]Sheet1!$F$38:$F$49) -> 541857.33 | F11: =AVERAGE([2]Sheet1!$F$50:$F$61) -> 508958 | G11: =AVERAGE([2]Sheet1!$F$62:$F$73) -> 528513.17 | H11: =AVERAGE([2]Sheet1!$F$74:$F$82) -> 514547.33
A12: Recorded Building Plans Residential Passed KZN | B12: =AVERAGE('[3]Building Plans Approved'!$P$161:$P$172) -> 127159.5 | C12: =AVERAGE('[3]Building Plans Approved'!$P$173:$P$184) -> 123056.83 | D12: =AVERAGE('[3]Building Plans Approved'!$P$185:$P$196) -> 126125.17 | E12: =AVERAGE('[3]Building Plans Approved'!$P$197:$P$208) -> 66799.167 | F12: =AVERAGE('[3]Building Plans Approved'!$P$209:$P$220) -> 59895.333 | G12: =AVERAGE('[3]Building Plans Approved'!$P$221:$P$232) -> 53683.667 | H12: =AVERAGE('[3]Building Plans Approved'!$P$233:$P$241) -> 50190.667
A13: Recorded Building Plans Non-Residential Passed by SA | B13: =AVERAGE([2]Sheet1!$K$2:$K$13) -> 394386.25 | C13: =AVERAGE([2]Sheet1!$K$14:$K$25) -> 403121.08 | D13: =AVERAGE([2]Sheet1!$K$26:$K$37) -> 425189.67 | E13: =AVERAGE([2]Sheet1!$K$38:$K$49) -> 349416.17 | F13: =AVERAGE([2]Sheet1!$K$50:$K$61) -> 238908.42 | G13: =AVERAGE([2]Sheet1!$K$62:$K$73) -> 263366.17 | H13: =AVERAGE([2]Sheet1!$K$74:$K$82) -> 257463
A14: Recorded Building Plans Non-Residential Passed by KZN | B14: =AVERAGE('[3]Building Plans Approved1'!$K$161:$K$172) -> 63487.667 | C14: =AVERAGE('[3]Building Plans Approved1'!$K$173:$K$184) -> 61758.417 | D14: =AVERAGE('[3]Building Plans Approved1'!$K$185:$K$196) -> 91731.417 | E14: =AVERAGE('[3]Building Plans Approved1'!$K$197:$K$208) -> 61134.917 | F14: =AVERAGE('[3]Building Plans Approved1'!$K$209:$K$220) -> 41759.083 | G14: =AVERAGE('[3]Building Plans Approved1'!$K$221:$K$232) -> 70915 | H14: =AVERAGE('[3]Building Plans Approved1'!$K$233:$K$241) -> 50896.889

Sheet National-Indicators
A1: Indicators (various units of measurement) | B1: 2006 | C1: =B1+1 -> 2007 | D1: =C1+1 -> 2008 | E1: =D1+1 -> 2009 | F1: =E1+1 -> 2010 | G1: =F1+1 -> 2011 | H1: 2012 year to date
A2: National Indicators
A3: Trade Balance SA | B3: -66780.87 | C3: -71003.89 | D3: -83519.22 | E3: -18251.537 | F3: 11364.847 | G3: -30365.157 | H3: -104851.92
A4: Total National Government Debt | B4: 487285.58 | C4: 486459.92 | D4: 496936.33 | E4: 579835.67 | F4: 723612.25 | G4: 880200.25 | H4: 970563
A5: Short Term Interest Rate | D5: =AVERAGE([4]DataBase!$B$40:$C$40) -> 10.835 | E5: =AVERAGE([4]DataBase!$D$40:$O$40) -> 7.849785 | F5: =AVERAGE([4]DataBase!$Q$40:$AA$40) -> 6.3572727 | G5: =AVERAGE([4]DataBase!$AB$40:$AM$40) -> 5.4866667 | H5: =AVERAGE([4]DataBase!$AN$40:$AY$40) -> 5.353
A6: Long Term Interest Rate | B6: 8.0008333 | C6: 8.19 | D6: 9.0925 | E6: 8.2158333 | F6: 7.6895833 | G6: 7.2570833 | H6: 6.1044444
A7: Rand Dollar Exchange Rate | B7: 6.8117583 | C7: 7.0046091 | D7: 7.238725 | E7: 6.5155667 | F7: 6.7169167 | G7: 7.3033333 | H7: 8.0647556
A8: Real Short Term Interest Rate | D8: =AVERAGE([4]DataBase!$B$208:$C$208) -> -1.065 | E8: =AVERAGE([4]DataBase!$D$208:$O$208) -> 0.44145167 | F8: =AVERAGE([4]DataBase!$P$208:$AA$208) -> 1.895 | G8: =AVERAGE([4]DataBase!$AB$208:$AM$208) -> 0.72 | H8: =AVERAGE([4]DataBase!$AN$208:$AY$208) -> 1.0821556
A9: Brent Crude Oil Price | D9: =AVERAGE([4]DataBase!$B$175:$M$175) -> 95.934167 | E9: =AVERAGE([4]DataBase!$N$175:$Y$175) -> 62.64 | F9: =AVERAGE([4]DataBase!$Z$175:$AK$175) -> 79.68 | G9: =AVERAGE([4]DataBase!$AL$175:$AW$175) -> 112.49667 | H9: =AVERAGE([4]DataBase!$AX$175:$BI$175) -> 111.595
A10: Gold Price | D10: =AVERAGE([4]DataBase!$B$176:$M$176) -> 879.69167 | E10: =AVERAGE([4]DataBase!$N$176:$Y$176) -> 980.98333 | F10: =AVERAGE([4]DataBase!$Z$176:$AK$176) -> 1229.825 | G10: =AVERAGE([4]DataBase!$AL$176:$AW$176) -> 1570.1467 | H10: =AVERAGE([4]DataBase!$AX$176:$BI$176) -> 1676.075
A11: Indices of Physical Volume Production | B11: 104.80833 | C11: 110.91818 | D11: 110.58333 | E11: 96.275 | F11: 100.9 | G11: 103.45833 | H11: 102.1
A12: Total Value of Industrial Production Sales | B12: 84741793 | C12: 98005032 | D12: 1.1515017e+08 | E12: 99394151 | F12: 1.0730754e+08 | G12: 1.1723734e+08 | H12: 1.252847e+08
A13: Total Retail Sales | B13: 39339.083 | C13: 42275.091 | D13: 42005.25 | E13: 40463 | F13: 41990.417 | G13: 44487.833 | H13: 43746
A14: Total Wholesale Trade Sales | B14: 42240.167 | C14: 44669.182 | D14: 48128.667 | E14: 43577.917 | F14: 45841.417 | G14: 48791.333 | H14: 52311
A15: Total Motor Trade Sales | B15: 26248.75 | C15: 28723.818 | D15: 29934.917 | E15: 26746.417 | F15: 31385.667 | G15: 35772.417 | H15: 39222.286
A16: Credit extended to the domestic private sector | B16: 1201030.9 | C16: 1509941.2 | D16: 1807369.5 | E16: 1867082.7 | F16: 1903290.3 | G16: 2013138.2 | H16: 2147786.8
A17: Consumer Confidence Index | B17: =AVERAGE('[3]Survey Results'!$M$69:$M$72) -> 19 | C17: =AVERAGE('[3]Survey Results'!$M$73:$M$76) -> 21 | D17: =AVERAGE('[3]Survey Results'!$M$77:$M$80) -> 0.25 | E17: =AVERAGE('[3]Survey Results'!$M$81:$M$84) -> 3 | F17: =AVERAGE('[3]Survey Results'!$M$85:$M$88) -> 14.5 | G17: =AVERAGE('[3]Survey Results'!$M$89:$M$92) -> 7.25 | H17: =AVERAGE('[3]Survey Results'!$M$93:$M$96) -> 0.33333333
A18: Investec PMI Survey | B18: =AVERAGE('[3]Survey Results'!$O$81:$O$92) -> 55.700294 | C18: =AVERAGE('[3]Survey Results'!$O$93:$O$104) -> 56.313949 | D18: =AVERAGE('[3]Survey Results'!$O$105:$O$116) -> 46.207488 | E18: =AVERAGE('[3]Survey Results'!$O$117:$O$128) -> 41.785483 | F18: =AVERAGE('[3]Survey Results'!$O$129:$O$140) -> 52.424308 | G18: =AVERAGE('[3]Survey Results'!$O$141:$O$152) -> 52.098158 | H18: =AVERAGE('[3]Survey Results'!$O$153:$O$164) -> 51.83

Sheet Provincial-Indicators
A1: Indicators (various units of measurement) | B1: 2006 | C1: =B1+1 -> 2007 | D1: =C1+1 -> 2008 | E1: =D1+1 -> 2009 | F1: =E1+1 -> 2010 | G1: =F1+1 -> 2011 | H1: 2012 year to date
A2: Provincial Indicators
A3: KZN Risk Index | B3: 0.53491408 | C3: -0.16540683 | D3: 1.3988741 | E3: -0.92180976 | F3: 0.029209983 | G3: -0.009327562 | H3: =AVERAGE([5]Intro!$M$19:$M$28) -> 0.17446814
A4: KZN Barometer | B4: =AVERAGE('[6]Seasonal Adjustment'!$BR$51:$BR$62) -> 98.455917 | C4: =AVERAGE('[6]Seasonal Adjustment'!$BR$63:$BR$74) -> 107.02964 | D4: =AVERAGE('[6]Seasonal Adjustment'!$BR$75:$BR$86) -> 111.13083 | E4: =AVERAGE('[6]Seasonal Adjustment'!$BR$87:$BR$98) -> 103.69732 | F4: =AVERAGE('[6]Seasonal Adjustment'!$BR$99:$BR$110) -> 99.342692 | G4: =AVERAGE('[6]Seasonal Adjustment'!$BR$111:$BR$122) -> 96.395049 | H4: =AVERAGE('[6]Seasonal Adjustment'!$BR$123:$BR$132) -> 96.359272
A5: KZN Investment Monitor | B5: =AVERAGE('[7]Sea adjusted indices'!$AQ$53:$AQ$64) -> 110.21135 | C5: =AVERAGE('[7]Sea adjusted indices'!$AQ$65:$AQ$76) -> 124.44372 | D5: =AVERAGE('[7]Sea adjusted indices'!$AQ$77:$AQ$88) -> 129.85931 | E5: =AVERAGE('[7]Sea adjusted indices'!$AQ$89:$AQ$100) -> 103.36019 | F5: =AVERAGE('[7]Sea adjusted indices'!$AQ$101:$AQ$112) -> 101.31445 | G5: =AVERAGE('[7]Sea adjusted indices'!$AQ$113:$AQ$124) -> 115.43539 | H5: =AVERAGE('[7]Sea adjusted indices'!$AQ$125:$AQ$132) -> 133.89051
A6: KZN Provincial Government Total Expenditure | C6: 38532542 | D6: 49423460 | E6: 68214216 | F6: 76315973 | G6: 83620481 | H6: 96508793
A7: KZN Provincial Government Total CAPEX | C7: 5621740 | D7: 10320809 | E7: 20544853 | F7: 20230438 | G7: 23071684 | H7: 26404480
A8: Total Municipal Operating Expenditure | B8: 16297858 | C8: 18939471 | D8: 19902725 | E8: 25537738 | F8: 30689425 | G8: 33799974 | H8: 37164710
A9: Total Municipal Capital Expenditure | B9: 4428394 | C9: 4394943 | D9: 6751656.4 | E9: 8687795 | F9: 9614262.7 | G9: 10123966 | H9: 8906958.5
A10: KZN UIF Claims | C10: 9664.8889 | D10: 10723.917 | E10: 14938.167 | F10: 10516.5 | G10: 9531.25 | H10: 8805.8333
A11: KZN New Vehicle Sales | B11: 1359.6389 | C11: 1220.3333 | D11: 906.05556 | E11: 603.05556 | F11: 527.01667 | G11: 607.21667 | H11: 673.02222
A12: KZN Total Live Vehicle Population | G12: 1363958 | H12: =AVERAGE([8]Total!$B$8:$B$19) -> 1401343.4
A13: KZN Total Number of Patents | B13: 398 | C13: 343 | D13: 343 | E13: 299

Sheet Indicators
A1: Indicators (various units of measurement) | B1: 2006 | C1: =B1+1 -> 2007 | D1: =C1+1 -> 2008 | E1: =D1+1 -> 2009 | F1: =E1+1 -> 2010 | G1: =F1+1 -> 2011 | H1: 2012 year to date
A2: Comparative Indicators
A3: Total Population SA | B3: 47889378 | C3: 48360518 | D3: 48831499 | E3: 49306038 | F3: 49780934 | G3: 50586757
A4: Total Population KZN | B4: 9974344 | C4: 10045594 | D4: 10105436 | E4: 10449300 | F4: 10645400 | G4: 10267300
A5: GDP SA | B5: 1.6591216e+09 | C5: 1.7511647e+09 | D5: 1.8145318e+09 | E5: 1.7866368e+09 | F5: 1.8382641e+09 | G5: 1.895668e+09 | H5: 1.9469004e+09
A6: GDP KZN | B6: 2.6979729e+08 | C6: 2.8561604e+08 | D6: 2.9711491e+08 | E6: 2.9263707e+08 | F6: 3.015539e+08 | G6: 3.111227e+08 | H6: 3.1948461e+08
A7: GDP Growth Rate SA | B7: 5.6037661 | C7: 5.5678272 | D7: 3.5760909 | E7: -1.5157141 | F7: 2.8896362 | G7: 3.122724 | H7: 2.7
A8: GDP Grwoth Rate KZN | B8: 5.5333279 | C8: 5.8948085 | D8: 3.9731293 | E8: -1.7814714 | F8: 3.3622851 | G8: 3.4900996 | H8: 2.98
A9: CPI SA | B9: 4.4333333 | C9: 6.9 | D9: 11.483333 | E9: 7.4083333 | F9: 4.525 | G9: 4.7583333 | H9: 5.7444444
A10: CPI KZN | E10: 7.6174487 | F10: 3.3016931 | G10: 4.6276157 | H10: 6.023819
A11: Unemployment Rate SA (narrow def) | B11: =0.253661380361285*100 -> 25.366138 | C11: =0.241237312694315*100 -> 24.123731 | D11: =0.227624463238132*100 -> 22.762446 | E11: =0.238034350794309*100 -> 23.803435 | F11: =0.247279072968314*100 -> 24.727907 | G11: =0.247345488082754*100 -> 24.734549 | H11: 25.2
A12: Unemployment Rate KZN (narrow def) | B12: =0.334101489391315*100 -> 33.410149 | C12: =0.307059925637259*100 -> 30.705993 | D12: 21.920474 | E12: 19.942087 | F12: 19.9239 | G12: 19.778868 | H12: 20.533333
A13: Unemployment Rate SA (expanded def) | D13: 29.224754 | E13: 32.697873 | F13: 36.453626 | G13: 37.563962 | H13: 37.803362
A14: Unemployment Rate KZN (expanded def) | D14: 27.633719 | E14: 33.499482 | F14: 37.239126 | G14: 38.175304 | H14: 38.732207
A15: Total Employment SA | B15: 11898421 | C15: 12366732 | D15: 13066951 | E15: 12745379 | F15: 12593532 | G15: 12876879 | H15: 13504667
A16: Total Employment KZN | B16: 1766421 | C16: 1841963 | D16: 1990658 | E16: 1977527 | F16: 1974874 | G16: 2034401 | H16: 2524000
A17: Number of CIPRO Registered Establishments SA | E17: 797048 | F17: 518415 | G17: 797048
A18: Number of CIPRO Registered Establishments KZN | E18: 104815 | F18: 69445 | G18: 104815
A19: Number of Active CO and CC Entities SA | B19: 165018 | C19: 187163 | D19: 291131 | E19: 262095 | F19: 178478 | G19: 177842
A20: Number of Active CO and CC Entities KZN | B20: 24638 | C20: 26160 | D20: 39364 | E20: 38148 | F20: 23209 | G20: 23160
A21: Total Tax Assessed SA | B21: 111329 | C21: 125341 | D21: 147860 | E21: 168084 | F21: 166310
A22: Total Tax Assessed KZN | B22: 14994 | C22: 15846 | D22: 18550 | E22: 21236 | F22: 21133
A23: Average Admin Salary SA | D23: ='[1]Office-Admin Assitant'!$B$10+'[1]Office-Admin Assitant'!$B$11 -> 16481.591 | E23: ='[1]Office-Admin Assitant'!$B$12+'[1]Office-Admin Assitant'!$B$13 -> 16822.425
A24: Average Admin Salary KZN | D24: ='[1]Office-Admin Assitant'!$H$3+'[1]Office-Admin Assitant'!$H$4 -> 14429 | E24: ='[1]Office-Admin Assitant'!$H$5+'[1]Office-Admin Assitant'!$H$6 -> 15945
A25: Yearly Research and Development Expenditure SA | B25: 8243776 | C25: 9243165 | D25: 10738456 | E25: 12332011
A26: Yearly Research and Development Expenditure KZN | B26: 1532158 | C26: 1809014 | D26: 2081167 | E26: 2210336
A27: Gross Tonnage of Vessels SA | B27: 255976219 | C27: 269726312 | D27: 2.8234538e+08 | E27: 300417981 | F27: 299570865 | G27: 324797252 | H27: 340952748
A28: Gross Tonnage of Vessels KZN | B28: 151896477 | C28: 161324294 | D28: 1.6359608e+08 | E28: 181992665 | F28: 185954136 | G28: 189623659 | H28: 190649064
A29: JSE Listed Companies SA | B29: 19665 | C29: 25722 | D29: 24929 | E29: 20996 | F29: 25416 | G29: 28540 | H29: 30562
A30: JSE Listed Companies KZN | B30: 2634.9638 | C30: 3715.9081 | D30: 3075.4689 | E30: 2955.6116 | F30: 3568.8911 | G30: 3651.539 | H30: 4505.7486
A31: Air Passenger Movements SA | B31: 2619517.9 | C31: 3010875.2 | D31: 2887568.8 | E31: 2740687.2 | F31: 2867020.8 | G31: 2989862 | H31: 2901754.5
A32: Air Passenger Movements KZN | B32: 336016.08 | C32: 399975.17 | D32: 371559.58 | E32: 358727.42 | F32: 393332.2 | G32: 419135.88 | H32: 395750.75
A33: Business Confidence SA | B33: 83.5 | C33: 74.75 | D33: 40 | E33: 26 | F33: 42.5 | G33: 45 | H33: 46.5
A34: Business Confidence KZN | C34: 81 | D34: 61 | E34: 69 | F34: 67 | G34: 73 | H34: 69
A35: Civil Cases Recorded and Summonses Issued for Debt SA | B35: 133642.42 | C35: 121662.25 | D35: 120223 | E35: 132940.08 | F35: 122443.5 | G35: 102339.5 | H35: 87928.571
A36: Civil Cases Recorded and Summonses Issued for Debt KZN | B36: 7695.5 | C36: 8296.6667 | D36: 8554.6667 | E36: 9399.0833 | F36: 9468.1667 | G36: 6794.3333 | H36: 5468.4286
A37: Electricity Generated and Available for Distribution SA | B37: 17894.667 | C37: 18702.917 | D37: 18239.417 | E37: 17823.417 | F37: 18490.846 | G37: 18559.167 | H37: 18318.375
A38: Electricity Generated and Available for Distribution KZN | B38: 3597.8333 | C38: 3599.4167 | D38: 3436.75 | E38: 3506.75 | F38: 3509.5385 | G38: 3493.5833 | H38: 3343
A39: Cementitious Sales SA | B39: 1104330.2 | C39: 1177022.7 | D39: 1122737.9 | E39: 981404.98 | F39: 905866.17 | G39: 923399.15 | H39: 831851.5
A40: Cementitious Sales KZN | B40: 165973.49 | C40: 176981.66 | D40: 179746.96 | E40: 172409.56 | F40: 158748.25 | G40: 161821.18 | H40: 145802.19
...

Sheet Index
A1: Indicator (Index, various base years) | B1: 2006 | C1: =B1+1 -> 2007 | D1: =C1+1 -> 2008 | E1: =D1+1 -> 2009 | F1: =E1+1 -> 2010 | G1: =F1+1 -> 2011 | H1: 2012 year to date
A2: Comparative Indicators
A3: Total Population SA | B3: =Indicators!B3/Indicators!$B3*100 -> 100 | C3: =Indicators!C3/Indicators!$B3*100 -> 100.98381 | D3: =Indicators!D3/Indicators!$B3*100 -> 101.96729 | E3: =Indicators!E3/Indicators!$B3*100 -> 102.95819 | F3: =Indicators!F3/Indicators!$B3*100 -> 103.94984 | G3: =Indicators!G3/Indicators!$B3*100 -> 105.63252
A4: Total Population KZN | B4: =Indicators!B4/Indicators!$B4*100 -> 100 | C4: =Indicators!C4/Indicators!$B4*100 -> 100.71433 | D4: =Indicators!D4/Indicators!$B4*100 -> 101.31429 | E4: =Indicators!E4/Indicators!$B4*100 -> 104.76178 | F4: =Indicators!F4/Indicators!$B4*100 -> 106.72782 | G4: =Indicators!G4/Indicators!$B4*100 -> 102.9371
A5: GDP SA | B5: =Indicators!B5/Indicators!$B5*100 -> 100 | C5: =Indicators!C5/Indicators!$B5*100 -> 105.5477 | D5: =Indicators!D5/Indicators!$B5*100 -> 109.36701 | E5: =Indicators!E5/Indicators!$B5*100 -> 107.6857 | F5: =Indicators!F5/Indicators!$B5*100 -> 110.79743 | G5: =Indicators!G5/Indicators!$B5*100 -> 114.25732 | H5: =Indicators!H5/Indicators!$B5*100 -> 117.34525
A6: GDP KZN | B6: =Indicators!B6/Indicators!$B6*100 -> 100 | C6: =Indicators!C6/Indicators!$B6*100 -> 105.8632 | D6: =Indicators!D6/Indicators!$B6*100 -> 110.12524 | E6: =Indicators!E6/Indicators!$B6*100 -> 108.46553 | F6: =Indicators!F6/Indicators!$B6*100 -> 111.77054 | G6: =Indicators!G6/Indicators!$B6*100 -> 115.31721 | H6: =Indicators!H6/Indicators!$B6*100 -> 118.41654
A7: GDP Growth Rate SA | B7: =Indicators!B7/Indicators!$B7*100 -> 100 | C7: =Indicators!C7/Indicators!$B7*100 -> 99.358664 | D7: =Indicators!D7/Indicators!$B7*100 -> 63.815849 | E7: =Indicators!E7/Indicators!$B7*100 -> -27.048133 | F7: =Indicators!F7/Indicators!$B7*100 -> 51.565967 | G7: =Indicators!G7/Indicators!$B7*100 -> 55.725452 | H7: =Indicators!H7/Indicators!$B7*100 -> 48.181882
A8: GDP Grwoth Rate KZN | B8: =Indicators!B8/Indicators!$B8*100 -> 100 | C8: =Indicators!C8/Indicators!$B8*100 -> 106.53279 | D8: =Indicators!D8/Indicators!$B8*100 -> 71.803613 | E8: =Indicators!E8/Indicators!$B8*100 -> -32.195297 | F8: =Indicators!F8/Indicators!$B8*100 -> 60.764248 | G8: =Indicators!G8/Indicators!$B8*100 -> 63.074152 | H8: =Indicators!H8/Indicators!$B8*100 -> 53.855475
A9: CPI SA | B9: =Indicators!B9/Indicators!$B9*100 -> 100 | C9: =Indicators!C9/Indicators!$B9*100 -> 155.6391 | D9: =Indicators!D9/Indicators!$B9*100 -> 259.02256 | E9: =Indicators!E9/Indicators!$B9*100 -> 167.10526 | F9: =Indicators!F9/Indicators!$B9*100 -> 102.06767 | G9: =Indicators!G9/Indicators!$B9*100 -> 107.33083 | H9: =Indicators!H9/Indicators!$B9*100 -> 129.57393
A10: CPI KZN | E10: =Indicators!E10/Indicators!$E10*100 -> 100 | F10: =Indicators!F10/Indicators!$E10*100 -> 43.343818 | G10: =Indicators!G10/Indicators!$E10*100 -> 60.750206 | H10: =Indicators!H10/Indicators!$E10*100 -> 79.07922
A11: Unemployment Rate SA (narrow def) | B11: =Indicators!B11/Indicators!$B11*100 -> 100 | C11: =Indicators!C11/Indicators!$B11*100 -> 95.102105 | D11: =Indicators!D11/Indicators!$B11*100 -> 89.735561 | E11: =Indicators!E11/Indicators!$B11*100 -> 93.839413 | F11: =Indicators!F11/Indicators!$B11*100 -> 97.483926 | G11: =Indicators!G11/Indicators!$B11*100 -> 97.510109 | H11: =Indicators!H11/Indicators!$B11*100 -> 99.34504
A12: Unemployment Rate KZN (narrow def) | B12: =Indicators!B12/Indicators!$B12*100 -> 100 | C12: =Indicators!C12/Indicators!$B12*100 -> 91.906183 | D12: =Indicators!D12/Indicators!$B12*100 -> 65.610225 | E12: =Indicators!E12/Indicators!$B12*100 -> 59.68871 | F12: =Indicators!F12/Indicators!$B12*100 -> 59.634276 | G12: =Indicators!G12/Indicators!$B12*100 -> 59.200178 | H12: =Indicators!H12/Indicators!$B12*100 -> 61.458371
A13: Unemployment Rate SA (expanded def) | D13: =Indicators!D13/Indicators!$D13*100 -> 100 | E13: =Indicators!E13/Indicators!$D13*100 -> 111.88417 | F13: =Indicators!F13/Indicators!$D13*100 -> 124.73544 | G13: =Indicators!G13/Indicators!$D13*100 -> 128.53474 | H13: =Indicators!H13/Indicators!$D13*100 -> 129.35391
A14: Unemployment Rate KZN (expanded def) | D14: =Indicators!D14/Indicators!$D14*100 -> 100 | E14: =Indicators!E14/Indicators!$D14*100 -> 121.22683 | F14: =Indicators!F14/Indicators!$D14*100 -> 134.75973 | G14: =Indicators!G14/Indicators!$D14*100 -> 138.14754 | H14: =Indicators!H14/Indicators!$D14*100 -> 140.16285
A15: Total Employment SA | B15: =Indicators!B15/Indicators!$B15*100 -> 100 | C15: =Indicators!C15/Indicators!$B15*100 -> 103.93591 | D15: =Indicators!D15/Indicators!$B15*100 -> 109.82088 | E15: =Indicators!E15/Indicators!$B15*100 -> 107.11824 | F15: =Indicators!F15/Indicators!$B15*100 -> 105.84204 | G15: =Indicators!G15/Indicators!$B15*100 -> 108.22343 | H15: =Indicators!H15/Indicators!$B15*100 -> 113.49965
A16: Total Employment KZN | B16: =Indicators!B16/Indicators!$B16*100 -> 100 | C16: =Indicators!C16/Indicators!$B16*100 -> 104.27656 | D16: =Indicators!D16/Indicators!$B16*100 -> 112.69443 | E16: =Indicators!E16/Indicators!$B16*100 -> 111.95106 | F16: =Indicators!F16/Indicators!$B16*100 -> 111.80087 | G16: =Indicators!G16/Indicators!$B16*100 -> 115.17079 | H16: =Indicators!H16/Indicators!$B16*100 -> 142.88779
A17: Number of CIPRO Registered Establishments SA | E17: =Indicators!E17/Indicators!$E17*100 -> 100 | F17: =Indicators!F17/Indicators!$E17*100 -> 65.04188 | G17: =Indicators!G17/Indicators!$E17*100 -> 100
A18: Number of CIPRO Registered Establishments KZN | E18: =Indicators!E18/Indicators!$E18*100 -> 100 | F18: =Indicators!F18/Indicators!$E18*100 -> 66.25483 | G18: =Indicators!G18/Indicators!$E18*100 -> 100
A19: Number of Active CO and CC Entities SA | B19: =Indicators!B19/Indicators!$B19*100 -> 100 | C19: =Indicators!C19/Indicators!$B19*100 -> 113.41975 | D19: =Indicators!D19/Indicators!$B19*100 -> 176.42378 | E19: =Indicators!E19/Indicators!$B19*100 -> 158.82813 | F19: =Indicators!F19/Indicators!$B19*100 -> 108.15669 | G19: =Indicators!G19/Indicators!$B19*100 -> 107.77127
A20: Number of Active CO and CC Entities KZN | B20: =Indicators!B20/Indicators!$B20*100 -> 100 | C20: =Indicators!C20/Indicators!$B20*100 -> 106.17745 | D20: =Indicators!D20/Indicators!$B20*100 -> 159.76946 | E20: =Indicators!E20/Indicators!$B20*100 -> 154.834 | F20: =Indicators!F20/Indicators!$B20*100 -> 94.200016 | G20: =Indicators!G20/Indicators!$B20*100 -> 94.001136
A21: Total Tax Assessed SA | B21: =Indicators!B21/Indicators!$B21*100 -> 100 | C21: =Indicators!C21/Indicators!$B21*100 -> 112.58612 | D21: =Indicators!D21/Indicators!$B21*100 -> 132.81355 | E21: =Indicators!E21/Indicators!$B21*100 -> 150.97953 | F21: =Indicators!F21/Indicators!$B21*100 -> 149.38605
A22: Total Tax Assessed KZN | B22: =Indicators!B22/Indicators!$B22*100 -> 100 | C22: =Indicators!C22/Indicators!$B22*100 -> 105.68227 | D22: =Indicators!D22/Indicators!$B22*100 -> 123.71615 | E22: =Indicators!E22/Indicators!$B22*100 -> 141.62999 | F22: =Indicators!F22/Indicators!$B22*100 -> 140.94304
A23: Average Admin Salary SA | D23: =Indicators!D24/Indicators!$D23*100 -> 87.54616 | E23: =Indicators!E24/Indicators!$D23*100 -> 96.744301
A24: Average Admin Salary KZN | D24: =Indicators!D24/Indicators!$D24*100 -> 100 | E24: =Indicators!E24/Indicators!$D24*100 -> 110.50662
A25: Yearly Research and Development Expenditure SA | B25: =Indicators!B25/Indicators!$B25*100 -> 100 | C25: =Indicators!C25/Indicators!$B25*100 -> 112.12295 | D25: =Indicators!D25/Indicators!$B25*100 -> 130.26138 | E25: =Indicators!E25/Indicators!$B25*100 -> 149.59178
A26: Yearly Research and Development Expenditure KZN | B26: =Indicators!B26/Indicators!$B26*100 -> 100 | C26: =Indicators!C26/Indicators!$B26*100 -> 118.06968 | D26: =Indicators!D26/Indicators!$B26*100 -> 135.8324 | E26: =Indicators!E26/Indicators!$B26*100 -> 144.26293
A27: Gross Tonnage of Vessels SA | B27: =Indicators!B27/Indicators!$B27*100 -> 100 | C27: =Indicators!C27/Indicators!$B27*100 -> 105.37163 | D27: =Indicators!D27/Indicators!$B27*100 -> 110.30141 | E27: =Indicators!E27/Indicators!$B27*100 -> 117.36168 | F27: =Indicators!F27/Indicators!$B27*100 -> 117.03074 | G27: =Indicators!G27/Indicators!$B27*100 -> 126.88571 | H27: =Indicators!H27/Indicators!$B27*100 -> 133.19704
A28: Gross Tonnage of Vessels KZN | B28: =Indicators!B28/Indicators!$B28*100 -> 100 | C28: =Indicators!C28/Indicators!$B28*100 -> 106.20674 | D28: =Indicators!D28/Indicators!$B28*100 -> 107.70235 | E28: =Indicators!E28/Indicators!$B28*100 -> 119.81362 | F28: =Indicators!F28/Indicators!$B28*100 -> 122.42163 | G28: =Indicators!G28/Indicators!$B28*100 -> 124.83743 | H28: =Indicators!H28/Indicators!$B28*100 -> 125.5125
A29: JSE Listed Companies SA | B29: =Indicators!B29/Indicators!$B29*100 -> 100 | C29: =Indicators!C29/Indicators!$B29*100 -> 130.80092 | D29: =Indicators!D29/Indicators!$B29*100 -> 126.76837 | E29: =Indicators!E29/Indicators!$B29*100 -> 106.76837 | F29: =Indicators!F29/Indicators!$B29*100 -> 129.24485 | G29: =Indicators!G29/Indicators!$B29*100 -> 145.13094 | H29: =Indicators!H29/Indicators!$B29*100 -> 155.41317
A30: JSE Listed Companies KZN | B30: =Indicators!B30/Indicators!$B30*100 -> 100 | C30: =Indicators!C30/Indicators!$B30*100 -> 141.02312 | D30: =Indicators!D30/Indicators!$B30*100 -> 116.71769 | E30: =Indicators!E30/Indicators!$B30*100 -> 112.16897 | F30: =Indicators!F30/Indicators!$B30*100 -> 135.44365 | G30: =Indicators!G30/Indicators!$B30*100 -> 138.58024 | H30: =Indicators!H30/Indicators!$B30*100 -> 170.9985
A31: Air Passenger Movements SA | B31: =Indicators!B31/Indicators!$B31*100 -> 100 | C31: =Indicators!C31/Indicators!$B31*100 -> 114.94005 | D31: =Indicators!D31/Indicators!$B31*100 -> 110.23283 | E31: =Indicators!E31/Indicators!$B31*100 -> 104.62563 | F31: =Indicators!F31/Indicators!$B31*100 -> 109.44842 | G31: =Indicators!G31/Indicators!$B31*100 -> 114.13787 | H31: =Indicators!H31/Indicators!$B31*100 -> 110.77437
A32: Air Passenger Movements KZN | B32: =Indicators!B32/Indicators!$B32*100 -> 100 | C32: =Indicators!C32/Indicators!$B32*100 -> 119.03453 | D32: =Indicators!D32/Indicators!$B32*100 -> 110.57792 | E32: =Indicators!E32/Indicators!$B32*100 -> 106.759 | F32: =Indicators!F32/Indicators!$B32*100 -> 117.05755 | G32: =Indicators!G32/Indicators!$B32*100 -> 124.73685 | H32: =Indicators!H32/Indicators!$B32*100 -> 117.77732
A33: Business Confidence SA | B33: =Indicators!B33/Indicators!$B33*100 -> 100 | C33: =Indicators!C33/Indicators!$B33*100 -> 89.520958 | D33: =Indicators!D33/Indicators!$B33*100 -> 47.904192 | E33: =Indicators!E33/Indicators!$B33*100 -> 31.137725 | F33: =Indicators!F33/Indicators!$B33*100 -> 50.898204 | G33: =Indicators!G33/Indicators!$B33*100 -> 53.892216 | H33: =Indicators!H33/Indicators!$B33*100 -> 55.688623
A34: Business Confidence KZN | C34: =Indicators!C34/Indicators!$C34*100 -> 100 | D34: =Indicators!D34/Indicators!$C34*100 -> 75.308642 | E34: =Indicators!E34/Indicators!$C34*100 -> 85.185185 | F34: =Indicators!F34/Indicators!$C34*100 -> 82.716049 | G34: =Indicators!G34/Indicators!$C34*100 -> 90.123457 | H34: =Indicators!H34/Indicators!$C34*100 -> 85.185185
A35: Civil Cases Recorded and Summonses Issued for Debt SA | B35: =Indicators!B35/Indicators!$B35*100 -> 100 | C35: =Indicators!C35/Indicators!$B35*100 -> 91.035655 | D35: =Indicators!D35/Indicators!$B35*100 -> 89.958714 | E35: =Indicators!E35/Indicators!$B35*100 -> 99.474468 | F35: =Indicators!F35/Indicators!$B35*100 -> 91.620238 | G35: =Indicators!G35/Indicators!$B35*100 -> 76.57711 | H35: =Indicators!H35/Indicators!$B35*100 -> 65.79391
A36: Civil Cases Recorded and Summonses Issued for Debt KZN | B36: =Indicators!B36/Indicators!$B36*100 -> 100 | C36: =Indicators!C36/Indicators!$B36*100 -> 107.81192 | D36: =Indicators!D36/Indicators!$B36*100 -> 111.16453 | E36: =Indicators!E36/Indicators!$B36*100 -> 122.1374 | F36: =Indicators!F36/Indicators!$B36*100 -> 123.03511 | G36: =Indicators!G36/Indicators!$B36*100 -> 88.289693 | H36: =Indicators!H36/Indicators!$B36*100 -> 71.060081
A37: Electricity Generated and Available for Distribution SA | B37: =Indicators!B37/Indicators!$B37*100 -> 100 | C37: =Indicators!C37/Indicators!$B37*100 -> 104.51671 | D37: =Indicators!D37/Indicators!$B37*100 -> 101.92655 | E37: =Indicators!E37/Indicators!$B37*100 -> 99.601837 | F37: =Indicators!F37/Indicators!$B37*100 -> 103.3316 | G37: =Indicators!G37/Indicators!$B37*100 -> 103.7134 | H37: =Indicators!H37/Indicators!$B37*100 -> 102.36779
A38: Electricity Generated and Available for Distribution KZN | B38: =Indicators!B38/Indicators!$B38*100 -> 100 | C38: =Indicators!C38/Indicators!$B38*100 -> 100.04401 | D38: =Indicators!D38/Indicators!$B38*100 -> 95.522768 | E38: =Indicators!E38/Indicators!$B38*100 -> 97.468384 | F38: =Indicators!F38/Indicators!$B38*100 -> 97.545888 | G38: =Indicators!G38/Indicators!$B38*100 -> 97.102423 | H38: =Indicators!H38/Indicators!$B38*100 -> 92.917033
A39: Cementitious Sales SA | B39: =Indicators!B39/Indicators!$B39*100 -> 100 | C39: =Indicators!C39/Indicators!$B39*100 -> 106.58249 | D39: =Indicators!D39/Indicators!$B39*100 -> 101.66687 | E39: =Indicators!E39/Indicators!$B39*100 -> 88.868798 | F39: =Indicators!F39/Indicators!$B39*100 -> 82.02856 | G39: =Indicators!G39/Indicators!$B39*100 -> 83.616218 | H39: =Indicators!H39/Indicators!$B39*100 -> 75.326338
A40: Cementitious Sales KZN | B40: =Indicators!B40/Indicators!$B40*100 -> 100 | C40: =Indicators!C40/Indicators!$B40*100 -> 106.63249 | D40: =Indicators!D40/Indicators!$B40*100 -> 108.2986 | E40: =Indicators!E40/Indicators!$B40*100 -> 103.87777 | F40: =Indicators!F40/Indicators!$B40*100 -> 95.646752 | G40: =Indicators!G40/Indicators!$B40*100 -> 97.498211 | H40: =Indicators!H40/Indicators!$B40*100 -> 87.846672
...

Sheet Proportions
A1: Indicators (Ratio's) | B1: 2006 | C1: =B1+1 -> 2007 | D1: =C1+1 -> 2008 | E1: =D1+1 -> 2009 | F1: =E1+1 -> 2010 | G1: =F1+1 -> 2011 | H1: 2012 year to date
A2: Comparative Indicators
A3: Total KZN Population as a % of Total SA Population | B3: =Indicators!B4/Indicators!B3*100 -> 20.827884 | C3: =Indicators!C4/Indicators!C3*100 -> 20.772305 | D3: =Indicators!D4/Indicators!D3*100 -> 20.694503 | E3: =Indicators!E4/Indicators!E3*100 -> 21.192739 | F3: =Indicators!F4/Indicators!F3*100 -> 21.384492 | G3: =Indicators!G4/Indicators!G3*100 -> 20.296419
A4: Total GDP KZN as a % of Total SA GDP | B4: 16.261453 | C4: 16.310062 | D4: 16.374192 | E4: 16.379214 | F4: 16.404275 | G4: 16.412299 | H4: 16.40991
A5: Total CPI KZN as a % of SA CPI | E5: 102.8227 | F5: 72.965593 | G5: 97.25287 | H5: 104.86339
A6: Total Unemployment Rate KZN as a % of SA (narrow def) | B6: 131.71161 | C6: 127.28542 | D6: 96.301047 | E6: 83.778189 | F6: 80.572529 | G6: 79.964538 | H6: 81.481481
A7: Total Unemployment Rate KZN as a % of SA (expanded def) | D7: 94.555863 | E7: 102.45156 | F7: 102.15479 | G7: 101.62747 | H7: 102.45704
A8: Total Employment KZN as a % of SA Total Employment | B8: 14.845844 | C8: 14.894501 | D8: 15.234296 | E8: 15.515639 | F8: 15.681653 | G8: 15.798867 | H8: 18.689836
A9: Total Number of CIPRO Registered Establishments KZN as a % of SA | E9: 13.1504 | F9: 13.395639 | G9: 13.1504
A10: Total Number of Active CO and CC Entities KZN as a % of SA | B10: 14.930492 | C10: 13.977122 | D10: 13.521061 | E10: 14.555028 | F10: 13.003844 | G10: 13.022796
A11: Total Tax Assessed KZN as a % of SA | B11: 13.468189 | C11: 12.642312 | D11: 12.545651 | E11: 12.634159 | F11: 12.706993
A12: Average Admin Salary KZN as a % of SA | D12: 87.54616 | E12: 94.784194
A13: Yearly Research and Development Expenditure KZN as a % of SA | B13: 18.585634 | C13: 19.57137 | D13: 19.380505 | E13: 17.923565
A14: Gross Tonnage of Vessels KZN as a % of SA | B14: 59.340074 | C14: 59.810366 | D14: 57.941829 | E14: 60.579818 | F14: 62.073505 | G14: 58.382162 | H14: 55.916565
A15: JSE Listed Companies KZN as a % SA | B15: 13.399256 | C15: 14.44642 | D15: 12.336912 | E15: 14.077022 | F15: 14.041907 | G15: 12.79446 | H15: 14.742977
A16: Air Passenger Movements KZN as a % of SA | B16: 12.827402 | C16: 13.284349 | D16: 12.867558 | E16: 13.088959 | F16: 13.719196 | G16: 14.018569 | H16: 13.638326
A17: Business Confidence KZN as a % of SA | C17: 108.3612 | D17: 152.5 | E17: 265.38462 | F17: 157.64706 | G17: 162.22222 | H17: 148.3871
A18: Civil Cases Recorded and Summonses Issued for Debt KZN as % of SA | B18: 5.7582766 | C18: 6.8194256 | D18: 7.1156656 | E18: 7.0701651 | F18: 7.7326821 | G18: 6.6390136 | H18: 6.2191714
A19: Electricity Generated and Available for Distribution KZN as a % of SA | B19: 20.105618 | C19: 19.245216 | D19: 18.842434 | E19: 19.674959 | F19: 18.979869 | G19: 18.824031 | H19: 18.249435
A20: Cementitious Sales KZN as a % of SA | B20: 15.029335 | C20: 15.036385 | D20: 16.009699 | E20: 17.567626 | F20: 17.524471 | G20: 17.52451 | H20: 17.52743
A21: House prices KZN as a % SA | B21: 100.74084 | C21: 95.116174 | D21: 88.12306 | E21: 88.082244 | F21: 89.600855 | G21: 90.821247 | H21: 86.908515
A22: Recorded Building Plans of Residentail Passed KZN as a % of SA | B22: 10.833116 | C22: 10.74456 | D22: 14.284545 | E22: 12.327814 | F22: 11.768227 | G22: 10.157489 | H22: 9.7543342
A23: Recorded Building Plans Non-Residentail Passed KZN as a % of SA | B23: 16.09784 | C23: 15.320066 | D23: 21.574235 | E23: 17.496305 | F23: 17.479118 | G23: 26.92639 | H23: 19.768623

Sheet Model
B1: Constant | C1: Current | G1: Constant
B2: KZN GDP | C2: KZN GOS | D2: KZN COMP | E2: GDP deflator | G2: =B2 -> KZN GDP | H2: =C2 -> KZN GOS | I2: =D2 -> KZN COMP | J2: =C2 -> KZN GOS | K2: =D2 -> KZN COMP
A3: 1995 | B3: 184251.68 | C3: 39317.327 | D3: 45369.493 | E3: 10.3 | F3: =A3 -> 1995 | G3: =B3 -> 184251.68 | H3: =C3 -> 39317.327 | I3: =D3 -> 45369.493
A4: =1+A3 -> 1996 | B4: 193787.61 | C4: 44922.573 | D4: 50874.33 | E4: 8.1 | F4: =A4 -> 1996 | G4: =B4 -> 193787.61 | H4: =H3*(1+L4/100) -> 41737.87 | I4: =I3*(1+M4/100) -> 47199.401 | J4: =(C4-C3)/C3*100 -> 14.256428 | K4: =(D4-D3)/D3*100 -> 12.133344 | L4: =J4-E4 -> 6.1564277 | M4: =K4-E4 -> 4.0333437
A5: =1+A4 -> 1997 | B5: 197562.74 | C5: 49943.426 | D5: 55338.191 | E5: 8.1 | F5: =A5 -> 1997 | G5: =B5 -> 197562.74 | H5: =H4*(1+L5/100) -> 43022.011 | I5: =I4*(1+M5/100) -> 47517.662 | J5: =(C5-C4)/C4*100 -> 11.176682 | K5: =(D5-D4)/D4*100 -> 8.7742896 | L5: =J5-E5 -> 3.0766816 | M5: =K5-E5 -> 0.67428956
A6: =1+A5 -> 1998 | B6: 199287.18 | C6: 52038.953 | D6: 61061.513 | E6: 7.7 | F6: =A6 -> 1998 | G6: =B6 -> 199287.18 | H6: =H5*(1+L6/100) -> 41514.435 | I6: =I5*(1+M6/100) -> 48773.29 | J6: =(C6-C5)/C5*100 -> 4.195802 | K6: =(D6-D5)/D5*100 -> 10.342446 | L6: =J6-E6 -> -3.504198 | M6: =K6-E6 -> 2.642446
A7: =1+A6 -> 1999 | B7: 200817.72 | C7: 56092.88 | D7: 64972.063 | E7: 7.1 | F7: =A7 -> 1999 | G7: =B7 -> 200817.72 | H7: =H6*(1+L7/100) -> 41800.958 | I7: =I6*(1+M7/100) -> 48433.964 | J7: =(C7-C6)/C6*100 -> 7.7901771 | K7: =(D7-D6)/D6*100 -> 6.4042784 | L7: =J7-E7 -> 0.69017708 | M7: =K7-E7 -> -0.69572163
A8: =1+A7 -> 2000 | B8: 209731.89 | C8: 65610.882 | D8: 70977.597 | E8: 8.8 | F8: =A8 -> 2000 | G8: =B8 -> 209731.89 | H8: =H7*(1+L8/100) -> 45215.38 | I8: =I7*(1+M8/100) -> 48648.65 | J8: =(C8-C7)/C7*100 -> 16.968288 | K8: =(D8-D7)/D7*100 -> 9.2432559 | L8: =J8-E8 -> 8.1682882 | M8: =K8-E8 -> 0.44325588
A9: =1+A8 -> 2001 | B9: 219073.58 | C9: 75429.729 | D9: 77180.833 | E9: 7.7 | F9: =A9 -> 2001 | G9: =B9 -> 219073.58 | H9: =H8*(1+L9/100) -> 48500.401 | I9: =I8*(1+M9/100) -> 49154.455 | J9: =(C9-C8)/C8*100 -> 14.965273 | K9: =(D9-D8)/D8*100 -> 8.7397102 | L9: =J9-E9 -> 7.2652728 | M9: =K9-E9 -> 1.0397102
A10: =1+A9 -> 2002 | B10: 224523.01 | C10: 88277.762 | D10: 85249.026 | E10: 10.7 | F10: =A10 -> 2002 | G10: =B10 -> 224523.01 | H10: =H9*(1+L10/100) -> 51571.987 | I10: =I9*(1+M10/100) -> 49033.35 | J10: =(C10-C9)/C9*100 -> 17.033115 | K10: =(D10-D9)/D9*100 -> 10.453622 | L10: =J10-E10 -> 6.3331153 | M10: =K10-E10 -> -0.24637777
A11: =1+A10 -> 2003 | B11: 230682.27 | C11: 96285.273 | D11: 93118.19 | E11: 5.6 | F11: =A11 -> 2003 | G11: =B11 -> 230682.27 | H11: =H10*(1+L11/100) -> 53361.955 | I11: =I10*(1+M11/100) -> 50813.651 | J11: =(C11-C10)/C10*100 -> 9.0708137 | K11: =(D11-D10)/D10*100 -> 9.2307969 | L11: =J11-E11 -> 3.4708137 | M11: =K11-E11 -> 3.6307969
A12: =1+A11 -> 2004 | B12: 241055.47 | C12: 105785.46 | D12: 101813.03 | E12: 6.4 | F12: =A12 -> 2004 | G12: =B12 -> 241055.47 | H12: =H11*(1+L12/100) -> 55211.857 | I12: =I11*(1+M12/100) -> 52306.264 | J12: =(C12-C11)/C11*100 -> 9.8667053 | K12: =(D12-D11)/D11*100 -> 9.3374245 | L12: =J12-E12 -> 3.4667053 | M12: =K12-E12 -> 2.9374245
A13: =1+A12 -> 2005 | B13: 254938.58 | C13: 115970.18 | D13: 111570.22 | E13: 5.4 | F13: =A13 -> 2005 | G13: =B13 -> 254938.58 | H13: =H12*(1+L13/100) -> 57546.059 | I13: =I12*(1+M13/100) -> 54494.464 | J13: =(C13-C12)/C12*100 -> 9.6277191 | K13: =(D13-D12)/D12*100 -> 9.5834378 | L13: =J13-E13 -> 4.2277191 | M13: =K13-E13 -> 4.1834378
A14: =1+A13 -> 2006 | B14: 269045.17 | C14: 129259.09 | D14: 123233.4 | E14: 6.5 | F14: =A14 -> 2006 | G14: =B14 -> 269045.17 | H14: =H13*(1+L14/100) -> 60399.711 | I14: =I13*(1+M14/100) -> 56648.995 | J14: =(C14-C13)/C13*100 -> 11.458901 | K14: =(D14-D13)/D13*100 -> 10.453671 | L14: =J14-E14 -> 4.9589009 | M14: =K14-E14 -> 3.9536712
A15: =1+A14 -> 2007 | B15: 284904.87 | C15: 146857.8 | D15: 139510.42 | E15: 8.1 | F15: =A15 -> 2007 | G15: =B15 -> 284904.87 | H15: =H14*(1+L15/100) -> 63730.795 | I15: =I14*(1+M15/100) -> 59542.787 | J15: =(C15-C14)/C14*100 -> 13.615066 | K15: =(D15-D14)/D14*100 -> 13.208284 | L15: =J15-E15 -> 5.5150658 | M15: =K15-E15 -> 5.1082841
... A19: =1+A18 -> 2011 | B19: 313036.61 | C19: 202770.57 | D19: 209515.81 | E19: 8 | F19: =A19 -> 2011 | G19: =B19 -> 313036.61 | H19: =H18*(1+L19/100) -> 64824.762 | I19: =I18*(1+M19/100) -> 66308.728 | J19: =(C19-C18)/C18*100 -> 6.2310133 | K19: =(D19-D18)/D18*100 -> 9.7165083 | L19: =J19-E19 -> -1.7689867 | M19: =K19-E19 -> 1.7165083
B21: =G2 -> KZN GDP | C21: =H2 -> KZN GOS | D21: =I2 -> KZN COMP
A22: =A4 -> 1996 | B22: =(G4-G3)/G3*100 -> 5.1754906 | C22: =(H4-H3)/H3*100 -> 6.1564277 | D22: =(I4-I3)/I3*100 -> 4.0333437
A23: =A5 -> 1997 | B23: =(G5-G4)/G4*100 -> 1.948076 | C23: =(H5-H4)/H4*100 -> 3.0766816 | D23: =(I5-I4)/I4*100 -> 0.67428956
A24: =A6 -> 1998 | B24: =(G6-G5)/G5*100 -> 0.87285779 | C24: =(H6-H5)/H5*100 -> -3.504198 | D24: =(I6-I5)/I5*100 -> 2.642446
A25: =A7 -> 1999 | B25: =(G7-G6)/G6*100 -> 0.76800943 | C25: =(H7-H6)/H6*100 -> 0.69017708 | D25: =(I7-I6)/I6*100 -> -0.69572163
A26: =A8 -> 2000 | B26: =(G8-G7)/G7*100 -> 4.4389331 | C26: =(H8-H7)/H7*100 -> 8.1682882 | D26: =(I8-I7)/I7*100 -> 0.44325588
A27: =A9 -> 2001 | B27: =(G9-G8)/G8*100 -> 4.45411 | C27: =(H9-H8)/H8*100 -> 7.2652728 | D27: =(I9-I8)/I8*100 -> 1.0397102
A28: =A10 -> 2002 | B28: =(G10-G9)/G9*100 -> 2.4874919 | C28: =(H10-H9)/H9*100 -> 6.3331153 | D28: =(I10-I9)/I9*100 -> -0.24637777
A29: =A11 -> 2003 | B29: =(G11-G10)/G10*100 -> 2.743264 | C29: =(H11-H10)/H10*100 -> 3.4708137 | D29: =(I11-I10)/I10*100 -> 3.6307969
A30: =A12 -> 2004 | B30: =(G12-G11)/G11*100 -> 4.4967465 | C30: =(H12-H11)/H11*100 -> 3.4667053 | D30: =(I12-I11)/I11*100 -> 2.9374245
A31: =A13 -> 2005 | B31: =(G13-G12)/G12*100 -> 5.7593019 | C31: =(H13-H12)/H12*100 -> 4.2277191 | D31: =(I13-I12)/I12*100 -> 4.1834378
A32: =A14 -> 2006 | B32: =(G14-G13)/G13*100 -> 5.5333279 | C32: =(H14-H13)/H13*100 -> 4.9589009 | D32: =(I14-I13)/I13*100 -> 3.9536712
A33: =A15 -> 2007 | B33: =(G15-G14)/G14*100 -> 5.8948085 | C33: =(H15-H14)/H14*100 -> 5.5150658 | D33: =(I15-I14)/I14*100 -> 5.1082841
... A37: =A19 -> 2011 | B37: =(G19-G18)/G18*100 -> 3.6883499 | C37: =(H19-H18)/H18*100 -> -1.7689867 | D37: =(I19-I18)/I18*100 -> 1.7165083
