Workbook

Sheet KZN
A1: KWAZULU-NATAL
A2: Real Y-o-Y Growth Rates | B2: Gross Domestic Product | C2: Annual Gross Operating Surplus | D2: Annual Compensation of Employees
A3: 1996 | B3: 5.1754906 | C3: =H3-J3 -> 6.8564277 | D3: =I3-J3 -> 4.7333437 | H3: 14.256428 | I3: 12.133344 | J3: 7.4
A4: 1997 | B4: 1.948076 | C4: =H4-J4 -> 2.5766816 | D4: =I4-J4 -> 0.17428956 | H4: 11.176682 | I4: 8.7742896 | J4: 8.6
A5: 1998 | B5: 0.87285779 | C5: =H5-J5 -> -2.704198 | D5: =I5-J5 -> 3.442446 | H5: 4.195802 | I5: 10.342446 | J5: 6.9
A6: 1999 | B6: 0.76800943 | C6: =H6-J6 -> 2.5901771 | D6: =I6-J6 -> 1.2042784 | H6: 7.7901771 | I6: 6.4042784 | J6: 5.2
A7: 2000 | B7: 4.6799297 | C7: =H7-J7 -> 11.668288 | D7: =I7-J7 -> 3.9432559 | H7: 16.968288 | I7: 9.2432559 | J7: 5.3
A8: 2001 | B8: 4.45411 | C8: =H8-J8 -> 9.2652728 | D8: =I8-J8 -> 3.0397102 | H8: 14.965273 | I8: 8.7397102 | J8: 5.7
A9: 2002 | B9: 2.4874919 | C9: =H9-J9 -> 7.8331153 | D9: =I9-J9 -> 1.2536222 | H9: 17.033115 | I9: 10.453622 | J9: 9.2
A10: 2003 | B10: 2.743264 | C10: =H10-J10 -> 3.1708137 | D10: =I10-J10 -> 3.3307969 | H10: 9.0708137 | I10: 9.2307969 | J10: 5.9
A11: 2004 | B11: 4.4967465 | C11: =H11-J11 -> 8.4667053 | D11: =I11-J11 -> 7.9374245 | H11: 9.8667053 | I11: 9.3374245 | J11: 1.4
A12: 2005 | B12: 5.7593019 | C12: =H12-J12 -> 6.2277191 | D12: =I12-J12 -> 6.1834378 | H12: 9.6277191 | I12: 9.5834378 | J12: 3.4
A13: 2006 | B13: 5.5333279 | C13: =H13-J13 -> 6.8589009 | D13: =I13-J13 -> 5.8536712 | H13: 11.458901 | I13: 10.453671 | J13: 4.6
A14: 2007 | B14: 5.8948085 | C14: =H14-J14 -> 6.5150658 | D14: =I14-J14 -> 6.1082841 | H14: 13.615066 | I14: 13.208284 | J14: 7.1
A15: 2008 | B15: 3.9731293 | C15: =H15-J15 -> 1.2331039 | D15: =I15-J15 -> 0.46503271 | H15: 12.733104 | I15: 11.965033 | J15: 11.5
A16: 2009 | B16: -1.7814714 | C16: =H16-J16 -> -0.92591942 | D16: =I16-J16 -> 1.9590166 | H16: 6.1740806 | I16: 9.0590166 | J16: 7.1
A17: 2010 | B17: 3.7649684 | C17: =H17-J17 -> 4.2903286 | D17: =I17-J17 -> 7.7982232 | H17: 8.5903286 | I17: 12.098223 | J17: 4.3
A18: 2011 | B18: 3.6880186 | C18: =H18-J18 -> 1.2314719 | D18: =I18-J18 -> 4.7169302 | H18: 6.2314719 | I18: 9.7169302 | J18: 5
A19: 2012 | B19: 2.9454019 | C19: =H19-J19 -> 3.6034976 | D19: =I19-J19 -> 3.6809467 | H19: 8.6034976 | I19: 8.6809467 | J19: 5
B21: =B2 -> Gross Domestic Product | C21: =C2 -> Annual Gross Operating Surplus | D21: =D2 -> Annual Compensation of Employees
A22: Average | B22: =AVERAGE(B3:B19) -> 3.3766742 | C22: =AVERAGE(C3:C19) -> 4.6327913 | D22: =AVERAGE(D3:D19) -> 3.8720418

Sheet Ethekwini
A1: ETHEKWINI
A2: Real Y-o-Y Growth Rates | B2: Gross Domestic Product | C2: Annual Gross Operating Surplus | D2: Annual Compensation of Employees
A3: 2003 | B3: 2.743187 | C3: 3.1705698 | D3: 3.3305508 | H3: 9.0708137 | I3: 9.2307969 | J3: 5.9
A4: 2004 | B4: 4.4966349 | C4: 8.4667053 | D4: 7.9374245 | H4: 9.8667053 | I4: 9.3374245 | J4: 1.4
A5: 2005 | B5: 5.7596284 | C5: 6.2277191 | D5: 6.1834378 | H5: 9.6277191 | I5: 9.5834378 | J5: 3.4
A6: 2006 | B6: 5.5332587 | C6: 6.8589009 | D6: 5.8536712 | H6: 11.458901 | I6: 10.453671 | J6: 4.6
A7: 2007 | B7: 5.8740044 | C7: 6.5150658 | D7: 6.1082827 | H7: 13.615066 | I7: 13.208284 | J7: 7.1
A8: 2008 | B8: 5.1366231 | C8: 2.4659055 | D8: 1.5681293 | H8: 12.733104 | I8: 11.965033 | J8: 11.5
A9: 2009 | B9: -4.1682479 | C9: -3.7911318 | D9: -0.90564421 | H9: 6.1740806 | I9: 9.0590166 | J9: 7.1
A10: 2010 | B10: 4.9802907 | C10: 5.896895 | D10: 9.4383041 | H10: 8.5903286 | I10: 12.098223 | J10: 4.3
A11: 2011 | B11: 3.6172214 | C11: 1.1625412 | D11: 4.6131289 | H11: 6.2314719 | I11: 9.7169302 | J11: 5
A12: 2012 | B12: 2.4949784 | C12: 3.1234701 | D12: 3.2402531 | H12: 8.6034976 | I12: 8.6809467 | J12: 5
B14: =B2 -> Gross Domestic Product | C14: =C2 -> Annual Gross Operating Surplus | D14: =D2 -> Annual Compensation of Employees
A15: Average | B15: =AVERAGE(B3:B12) -> 3.6467579 | C15: =AVERAGE(C3:C12) -> 4.0096641 | D15: =AVERAGE(D3:D12) -> 4.7367538

Sheet Msunduzi
A1: MSUNDUZI
A2: Real Y-o-Y Growth Rates | B2: Gross Domestic Product | C2: Annual Gross Operating Surplus | D2: Annual Compensation of Employees
A3: 2003 | B3: 2.743187 | C3: 3.1705698 | D3: 3.3305508 | H3: 9.0708137 | I3: 9.2307969 | J3: 5.9
A4: 2004 | B4: 4.4966349 | C4: 8.4667053 | D4: 7.9374245 | H4: 9.8667053 | I4: 9.3374245 | J4: 1.4
A5: 2005 | B5: 5.7596284 | C5: 6.2277191 | D5: 6.1834378 | H5: 9.6277191 | I5: 9.5834378 | J5: 3.4
A6: 2006 | B6: 5.5332587 | C6: 6.8589009 | D6: 5.8536712 | H6: 11.458901 | I6: 10.453671 | J6: 4.6
A7: 2007 | B7: 5.8740044 | C7: 6.5150658 | D7: 6.1082827 | H7: 13.615066 | I7: 13.208284 | J7: 7.1
A8: 2008 | B8: 2.461212 | C8: -0.59198014 | D8: -1.1563862 | H8: 12.733104 | I8: 11.965033 | J8: 11.5
A9: 2009 | B9: 5.0519998 | C9: 6.0864279 | D9: 9.4557325 | H9: 6.1740806 | I9: 9.0590166 | J9: 7.1
A10: 2010 | B10: -0.35681344 | C10: 0.3809392 | D10: 3.4961876 | H10: 8.5903286 | I10: 12.098223 | J10: 4.3
A11: 2011 | B11: 4.101285 | C11: 1.6363813 | D11: 5.109199 | H11: 6.2314719 | I11: 9.7169302 | J11: 5
A12: 2012 | B12: 3.9853938 | C12: 4.6748587 | D12: 4.834226 | H12: 8.6034976 | I12: 8.6809467 | J12: 5
B14: =B2 -> Gross Domestic Product | C14: =C2 -> Annual Gross Operating Surplus | D14: =D2 -> Annual Compensation of Employees
A15: Average | B15: =AVERAGE(B3:B12) -> 3.9649791 | C15: =AVERAGE(C3:C12) -> 4.3425588 | D15: =AVERAGE(D3:D12) -> 5.1152326

Sheet Mthlatuze
A1: MTHLATUZE
A2: Real Y-o-Y Growth Rates | B2: Gross Domestic Product | C2: Annual Gross Operating Surplus | D2: Annual Compensation of Employees
A3: 2003 | B3: 6.3312421 | C3: 3.1705698 | D3: 3.3305508 | H3: 9.0708137 | I3: 9.2307969 | J3: 5.9
A4: 2004 | B4: 4.4966349 | C4: 8.4667053 | D4: 7.9374245 | H4: 9.8667053 | I4: 9.3374245 | J4: 1.4
A5: 2005 | B5: 5.7596284 | C5: 6.2277191 | D5: 6.1834378 | H5: 9.6277191 | I5: 9.5834378 | J5: 3.4
A6: 2006 | B6: 5.5332587 | C6: 6.8589009 | D6: 5.8536712 | H6: 11.458901 | I6: 10.453671 | J6: 4.6
A7: 2007 | B7: 5.8740044 | C7: 6.5150658 | D7: 6.1082827 | H7: 13.615066 | I7: 13.208284 | J7: 7.1
A8: 2008 | B8: 9.9320619 | C8: 7.7770099 | D8: 6.7015121 | H8: 12.733104 | I8: 11.965033 | J8: 11.5
A9: 2009 | B9: -13.097347 | C9: -13.58991 | D9: -10.665612 | H9: 6.1740806 | I9: 9.0590166 | J9: 7.1
A10: 2010 | B10: 10.534114 | C10: 11.83115 | D10: 15.329235 | H10: 8.5903286 | I10: 12.098223 | J10: 4.3
A11: 2011 | B11: 3.5562176 | C11: 1.1298347 | D11: 4.5610015 | H11: 6.2314719 | I11: 9.7169302 | J11: 5
A12: 2012 | B12: 0.83079857 | C12: 1.3211029 | D12: 1.4950476 | H12: 8.6034976 | I12: 8.6809467 | J12: 5
B14: =B2 -> Gross Domestic Product | C14: =C2 -> Annual Gross Operating Surplus | D14: =D2 -> Annual Compensation of Employees
A15: Average | B15: =AVERAGE(B3:B12) -> 3.9750614 | C15: =AVERAGE(C3:C12) -> 3.9708149 | D15: =AVERAGE(D3:D12) -> 4.683455

Sheet Hibiscus
A1: Hibiscus
A2: Real Y-O-Y Growth Rates | B2: Gross Domestic Product | C2: Annual Gross Operating Surplus | D2: Annual Compensation of Employees
A3: 2003 | B3: 6.3312421 | C3: =F3-$H3 -> 3.1705698 | D3: =G3-$H3 -> 3.3305508 | F3: 9.0705698 | G3: 9.2305508 | H3: 5.9
A4: 2004 | B4: 4.4966349 | C4: =F4-$H4 -> 8.4667053 | D4: =G4-$H4 -> 7.9374245 | F4: 9.8667053 | G4: 9.3374245 | H4: 1.4
A5: 2005 | B5: 5.7596284 | C5: =F5-$H5 -> 6.2277191 | D5: =G5-$H5 -> 6.1834378 | F5: 9.6277191 | G5: 9.5834378 | H5: 3.4
A6: 2006 | B6: 5.5332587 | C6: =F6-$H6 -> 6.8589009 | D6: =G6-$H6 -> 5.8536712 | F6: 11.458901 | G6: 10.453671 | H6: 4.6
A7: 2007 | B7: 5.8740044 | C7: =F7-$H7 -> 6.5150658 | D7: =G7-$H7 -> 6.1082827 | F7: 13.615066 | G7: 13.208283 | H7: 7.1
A8: 2008 | B8: 0.9140218 | C8: =F8-$H8 -> -2.3502327 | D8: =G8-$H8 -> -2.6387069 | F8: 9.1497673 | G8: 8.8612931 | H8: 11.5
A9: 2009 | B9: 5.0468988 | C9: =F9-$H9 -> 6.4115986 | D9: =G9-$H9 -> 8.9138629 | F9: 13.511599 | G9: 16.013863 | H9: 7.1
A10: 2010 | B10: 0.15478648 | C10: =F10-$H10 -> 0.72179187 | D10: =G10-$H10 -> 4.3333912 | F10: 5.0217919 | G10: 8.6333912 | H10: 4.3
A11: 2011 | B11: 3.7524711 | C11: =F11-$H11 -> 1.2774434 | D11: =G11-$H11 -> 4.7417902 | F11: 6.2774434 | G11: 9.7417902 | H11: 5
A12: 2012 | B12: 4.0340965 | C12: =F12-$H12 -> 4.7892498 | D12: =G12-$H12 -> 4.8331808 | F12: 9.7892498 | G12: 9.8331808 | H12: 5
B14: =B2 -> Gross Domestic Product | C14: Annual Gross Operating Surplus | D14: =D2 -> Annual Compensation of Employees
A15: Average | B15: =AVERAGE(B3:B12) -> 4.1897043 | C15: =AVERAGE(C3:C12) -> 4.2088812 | D15: =AVERAGE(D3:D12) -> 4.9596885

Sheet Newcastle
A1: Newcastle
A2: Real Y-O-Y Growth Rates | B2: Gross Domestic Product | C2: Annual Gross Operating Surplus | D2: Annual Compensation of Employees
A3: 2003 | B3: 6.3312421 | C3: =F3-$H3 -> 3.1705698 | D3: =G3-$H3 -> 3.3305508 | F3: 9.0705698 | G3: 9.2305508 | H3: 5.9
A4: 2004 | B4: 4.4966349 | C4: =F4-$H4 -> 8.4667053 | D4: =G4-$H4 -> 7.9374245 | F4: 9.8667053 | G4: 9.3374245 | H4: 1.4
A5: 2005 | B5: 5.7596284 | C5: =F5-$H5 -> 6.2277191 | D5: =G5-$H5 -> 6.1834378 | F5: 9.6277191 | G5: 9.5834378 | H5: 3.4
A6: 2006 | B6: 5.5332587 | C6: =F6-$H6 -> 6.8589009 | D6: =G6-$H6 -> 5.8536712 | F6: 11.458901 | G6: 10.453671 | H6: 4.6
A7: 2007 | B7: 5.8740044 | C7: =F7-$H7 -> 6.5150658 | D7: =G7-$H7 -> 6.1082827 | F7: 13.615066 | G7: 13.208283 | H7: 7.1
A8: 2008 | B8: 3.6651797 | C8: =F8-$H8 -> 0.74572694 | D8: =G8-$H8 -> 0.1485938 | F8: 12.245727 | G8: 11.648594 | H8: 11.5
A9: 2009 | B9: -1.2104326 | C9: =F9-$H9 -> -0.41850794 | D9: =G9-$H9 -> 2.1798674 | F9: 6.6814921 | G9: 9.2798674 | H9: 7.1
A10: 2010 | B10: 3.3673375 | C10: =F10-$H10 -> 4.1136361 | D10: =G10-$H10 -> 7.7598494 | F10: 8.4136361 | G10: 12.059849 | H10: 4.3
A11: 2011 | B11: 3.6461967 | C11: =F11-$H11 -> 1.1826731 | D11: =G11-$H11 -> 4.6419986 | F11: 6.1826731 | G11: 9.6419986 | H11: 5
A12: 2012 | B12: 3.0086967 | C12: =F12-$H12 -> 3.7085696 | D12: =G12-$H12 -> 3.7605515 | F12: 8.7085696 | G12: 8.7605515 | H12: 5
B14: =B2 -> Gross Domestic Product | C14: =C2 -> Annual Gross Operating Surplus | D14: =D2 -> Annual Compensation of Employees
A15: Average | B15: =AVERAGE(B3:B12) -> 4.0471747 | C15: =AVERAGE(C3:C12) -> 4.0571059 | D15: =AVERAGE(D3:D12) -> 4.7904228

Sheet GDP
A1: GROSS DOMESTIC PRODUCT
A2: =KZN!A2 -> Real Y-o-Y Growth Rates | B2: KZN | C2: Ethekwini | D2: Msunduzi | E2: Mthlatuze | F2: Hibiscus | G2: Newcastle
A3: =KZN!A10 -> 2003 | B3: =KZN!B10 -> 2.743264 | C3: =Ethekwini!B3 -> 2.743187 | D3: =Msunduzi!B3 -> 2.743187 | E3: =Mthlatuze!B3 -> 6.3312421 | F3: =Hibiscus!B3 -> 6.3312421 | G3: =Newcastle!B3 -> 6.3312421 | H3: 9.0708137 | I3: 9.2307969 | J3: 5.9
A4: =KZN!A11 -> 2004 | B4: =KZN!B11 -> 4.4967465 | C4: =Ethekwini!B4 -> 4.4966349 | D4: =Msunduzi!B4 -> 4.4966349 | E4: =Mthlatuze!B4 -> 4.4966349 | F4: =Hibiscus!B4 -> 4.4966349 | G4: =Newcastle!B4 -> 4.4966349 | H4: 9.8667053 | I4: 9.3374245 | J4: 1.4
A5: =KZN!A12 -> 2005 | B5: =KZN!B12 -> 5.7593019 | C5: =Ethekwini!B5 -> 5.7596284 | D5: =Msunduzi!B5 -> 5.7596284 | E5: =Mthlatuze!B5 -> 5.7596284 | F5: =Hibiscus!B5 -> 5.7596284 | G5: =Newcastle!B5 -> 5.7596284 | H5: 9.6277191 | I5: 9.5834378 | J5: 3.4
A6: =KZN!A13 -> 2006 | B6: =KZN!B13 -> 5.5333279 | C6: =Ethekwini!B6 -> 5.5332587 | D6: =Msunduzi!B6 -> 5.5332587 | E6: =Mthlatuze!B6 -> 5.5332587 | F6: =Hibiscus!B6 -> 5.5332587 | G6: =Newcastle!B6 -> 5.5332587 | H6: 11.458901 | I6: 10.453671 | J6: 4.6
A7: =KZN!A14 -> 2007 | B7: =KZN!B14 -> 5.8948085 | C7: =Ethekwini!B7 -> 5.8740044 | D7: =Msunduzi!B7 -> 5.8740044 | E7: =Mthlatuze!B7 -> 5.8740044 | F7: =Hibiscus!B7 -> 5.8740044 | G7: =Newcastle!B7 -> 5.8740044 | H7: 13.615066 | I7: 13.208284 | J7: 7.1
A8: =KZN!A15 -> 2008 | B8: =KZN!B15 -> 3.9731293 | C8: =Ethekwini!B8 -> 5.1366231 | D8: =Msunduzi!B8 -> 2.461212 | E8: =Mthlatuze!B8 -> 9.9320619 | F8: =Hibiscus!B8 -> 0.9140218 | G8: =Newcastle!B8 -> 3.6651797 | H8: 12.733104 | I8: 11.965033 | J8: 11.5
A9: =KZN!A16 -> 2009 | B9: =KZN!B16 -> -1.7814714 | C9: =Ethekwini!B9 -> -4.1682479 | D9: =Msunduzi!B9 -> 5.0519998 | E9: =Mthlatuze!B9 -> -13.097347 | F9: =Hibiscus!B9 -> 5.0468988 | G9: =Newcastle!B9 -> -1.2104326 | H9: 6.1740806 | I9: 9.0590166 | J9: 7.1
A10: =KZN!A17 -> 2010 | B10: =KZN!B17 -> 3.7649684 | C10: =Ethekwini!B10 -> 4.9802907 | D10: =Msunduzi!B10 -> -0.35681344 | E10: =Mthlatuze!B10 -> 10.534114 | F10: =Hibiscus!B10 -> 0.15478648 | G10: =Newcastle!B10 -> 3.3673375 | H10: 8.5903286 | I10: 12.098223 | J10: 4.3
A11: =KZN!A18 -> 2011 | B11: =KZN!B18 -> 3.6880186 | C11: =Ethekwini!B11 -> 3.6172214 | D11: =Msunduzi!B11 -> 4.101285 | E11: =Mthlatuze!B11 -> 3.5562176 | F11: =Hibiscus!B11 -> 3.7524711 | G11: =Newcastle!B11 -> 3.6461967 | H11: 6.2314719 | I11: 9.7169302 | J11: 5
A12: =KZN!A19 -> 2012 | B12: =KZN!B19 -> 2.9454019 | C12: =Ethekwini!B12 -> 2.4949784 | D12: =Msunduzi!B12 -> 3.9853938 | E12: =Mthlatuze!B12 -> 0.83079857 | F12: =Hibiscus!B12 -> 4.0340965 | G12: =Newcastle!B12 -> 3.0086967 | H12: 8.6034976 | I12: 8.6809467 | J12: 5
B14: =B2 -> KZN | C14: =C2 -> Ethekwini | D14: =D2 -> Msunduzi | E14: =E2 -> Mthlatuze | F14: =F2 -> Hibiscus | G14: =G2 -> Newcastle
A15: =KZN!A22 -> Average | B15: =KZN!B22 -> 3.3766742 | C15: =Ethekwini!B15 -> 3.6467579 | D15: =Msunduzi!B15 -> 3.9649791 | E15: =Mthlatuze!B15 -> 3.9750614 | F15: =Hibiscus!B15 -> 4.1897043 | G15: =Newcastle!B15 -> 4.0471747

Sheet GOS
A1: GROSS OPERATING SURPLUS
A2: =KZN!A2 -> Real Y-o-Y Growth Rates | B2: KZN | C2: Ethekwini | D2: Msunduzi | E2: Mthlatuze | F2: Hibiscus | G2: Newcastle
A3: =KZN!A10 -> 2003 | B3: =KZN!C10 -> 3.1708137 | C3: =Ethekwini!C3 -> 3.1705698 | D3: =Msunduzi!C3 -> 3.1705698 | E3: =Mthlatuze!C3 -> 3.1705698 | F3: =Hibiscus!C3 -> 3.1705698 | G3: =Newcastle!C3 -> 3.1705698 | H3: 9.0708137 | I3: 9.2307969 | J3: 5.9
A4: =KZN!A11 -> 2004 | B4: =KZN!C11 -> 8.4667053 | C4: =Ethekwini!C4 -> 8.4667053 | D4: =Msunduzi!C4 -> 8.4667053 | E4: =Mthlatuze!C4 -> 8.4667053 | F4: =Hibiscus!C4 -> 8.4667053 | G4: =Newcastle!C4 -> 8.4667053 | H4: 9.8667053 | I4: 9.3374245 | J4: 1.4
A5: =KZN!A12 -> 2005 | B5: =KZN!C12 -> 6.2277191 | C5: =Ethekwini!C5 -> 6.2277191 | D5: =Msunduzi!C5 -> 6.2277191 | E5: =Mthlatuze!C5 -> 6.2277191 | F5: =Hibiscus!C5 -> 6.2277191 | G5: =Newcastle!C5 -> 6.2277191 | H5: 9.6277191 | I5: 9.5834378 | J5: 3.4
A6: =KZN!A13 -> 2006 | B6: =KZN!C13 -> 6.8589009 | C6: =Ethekwini!C6 -> 6.8589009 | D6: =Msunduzi!C6 -> 6.8589009 | E6: =Mthlatuze!C6 -> 6.8589009 | F6: =Hibiscus!C6 -> 6.8589009 | G6: =Newcastle!C6 -> 6.8589009 | H6: 11.458901 | I6: 10.453671 | J6: 4.6
A7: =KZN!A14 -> 2007 | B7: =KZN!C14 -> 6.5150658 | C7: =Ethekwini!C7 -> 6.5150658 | D7: =Msunduzi!C7 -> 6.5150658 | E7: =Mthlatuze!C7 -> 6.5150658 | F7: =Hibiscus!C7 -> 6.5150658 | G7: =Newcastle!C7 -> 6.5150658 | H7: 13.615066 | I7: 13.208284 | J7: 7.1
A8: =KZN!A15 -> 2008 | B8: =KZN!C15 -> 1.2331039 | C8: =Ethekwini!C8 -> 2.4659055 | D8: =Msunduzi!C8 -> -0.59198014 | E8: =Mthlatuze!C8 -> 7.7770099 | F8: =Hibiscus!C8 -> -2.3502327 | G8: =Newcastle!C8 -> 0.74572694 | H8: 12.733104 | I8: 11.965033 | J8: 11.5
A9: =KZN!A16 -> 2009 | B9: =KZN!C16 -> -0.92591942 | C9: =Ethekwini!C9 -> -3.7911318 | D9: =Msunduzi!C9 -> 6.0864279 | E9: =Mthlatuze!C9 -> -13.58991 | F9: =Hibiscus!C9 -> 6.4115986 | G9: =Newcastle!C9 -> -0.41850794 | H9: 6.1740806 | I9: 9.0590166 | J9: 7.1
A10: =KZN!A17 -> 2010 | B10: =KZN!C17 -> 4.2903286 | C10: =Ethekwini!C10 -> 5.896895 | D10: =Msunduzi!C10 -> 0.3809392 | E10: =Mthlatuze!C10 -> 11.83115 | F10: =Hibiscus!C10 -> 0.72179187 | G10: =Newcastle!C10 -> 4.1136361 | H10: 8.5903286 | I10: 12.098223 | J10: 4.3
A11: =KZN!A18 -> 2011 | B11: =KZN!C18 -> 1.2314719 | C11: =Ethekwini!C11 -> 1.1625412 | D11: =Msunduzi!C11 -> 1.6363813 | E11: =Mthlatuze!C11 -> 1.1298347 | F11: =Hibiscus!C11 -> 1.2774434 | G11: =Newcastle!C11 -> 1.1826731 | H11: 6.2314719 | I11: 9.7169302 | J11: 5
A12: =KZN!A19 -> 2012 | B12: =KZN!C19 -> 3.6034976 | C12: =Ethekwini!C12 -> 3.1234701 | D12: =Msunduzi!C12 -> 4.6748587 | E12: =Mthlatuze!C12 -> 1.3211029 | F12: =Hibiscus!C12 -> 4.7892498 | G12: =Newcastle!C12 -> 3.7085696 | H12: 8.6034976 | I12: 8.6809467 | J12: 5
B14: =B2 -> KZN | C14: =C2 -> Ethekwini | D14: =D2 -> Msunduzi | E14: =E2 -> Mthlatuze | F14: =F2 -> Hibiscus | G14: =G2 -> Newcastle
A15: =KZN!A22 -> Average | B15: =KZN!C22 -> 4.6327913 | C15: =Ethekwini!C15 -> 4.0096641 | D15: =Msunduzi!C15 -> 4.3425588 | E15: =Mthlatuze!C15 -> 3.9708149 | F15: =Hibiscus!C15 -> 4.2088812 | G15: =Newcastle!C15 -> 4.0571059

Sheet COMP
A1: COMPENSATION OF EMPLOYEES
A2: =KZN!A2 -> Real Y-o-Y Growth Rates | B2: KZN | C2: Ethekwini | D2: Msunduzi | E2: Mthlatuze | F2: Hibiscus | G2: Newcastle
A3: =KZN!A10 -> 2003 | B3: =KZN!D3 -> 4.7333437 | C3: =Ethekwini!D3 -> 3.3305508 | D3: =Msunduzi!D3 -> 3.3305508 | E3: =Mthlatuze!D3 -> 3.3305508 | F3: =Hibiscus!D3 -> 3.3305508 | G3: =Newcastle!D3 -> 3.3305508 | H3: 9.0708137 | I3: 9.2307969 | J3: 5.9
A4: =KZN!A11 -> 2004 | B4: =KZN!D4 -> 0.17428956 | C4: =Ethekwini!D4 -> 7.9374245 | D4: =Msunduzi!D4 -> 7.9374245 | E4: =Mthlatuze!D4 -> 7.9374245 | F4: =Hibiscus!D4 -> 7.9374245 | G4: =Newcastle!D4 -> 7.9374245 | H4: 9.8667053 | I4: 9.3374245 | J4: 1.4
A5: =KZN!A12 -> 2005 | B5: =KZN!D5 -> 3.442446 | C5: =Ethekwini!D5 -> 6.1834378 | D5: =Msunduzi!D5 -> 6.1834378 | E5: =Mthlatuze!D5 -> 6.1834378 | F5: =Hibiscus!D5 -> 6.1834378 | G5: =Newcastle!D5 -> 6.1834378 | H5: 9.6277191 | I5: 9.5834378 | J5: 3.4
A6: =KZN!A13 -> 2006 | B6: =KZN!D6 -> 1.2042784 | C6: =Ethekwini!D6 -> 5.8536712 | D6: =Msunduzi!D6 -> 5.8536712 | E6: =Mthlatuze!D6 -> 5.8536712 | F6: =Hibiscus!D6 -> 5.8536712 | G6: =Newcastle!D6 -> 5.8536712 | H6: 11.458901 | I6: 10.453671 | J6: 4.6
A7: =KZN!A14 -> 2007 | B7: =KZN!D7 -> 3.9432559 | C7: =Ethekwini!D7 -> 6.1082827 | D7: =Msunduzi!D7 -> 6.1082827 | E7: =Mthlatuze!D7 -> 6.1082827 | F7: =Hibiscus!D7 -> 6.1082827 | G7: =Newcastle!D7 -> 6.1082827 | H7: 13.615066 | I7: 13.208284 | J7: 7.1
A8: =KZN!A15 -> 2008 | B8: =KZN!D8 -> 3.0397102 | C8: =Ethekwini!D8 -> 1.5681293 | D8: =Msunduzi!D8 -> -1.1563862 | E8: =Mthlatuze!D8 -> 6.7015121 | F8: =Hibiscus!D8 -> -2.6387069 | G8: =Newcastle!D8 -> 0.1485938 | H8: 12.733104 | I8: 11.965033 | J8: 11.5
A9: =KZN!A16 -> 2009 | B9: =KZN!D9 -> 1.2536222 | C9: =Ethekwini!D9 -> -0.90564421 | D9: =Msunduzi!D9 -> 9.4557325 | E9: =Mthlatuze!D9 -> -10.665612 | F9: =Hibiscus!D9 -> 8.9138629 | G9: =Newcastle!D9 -> 2.1798674 | H9: 6.1740806 | I9: 9.0590166 | J9: 7.1
A10: =KZN!A17 -> 2010 | B10: =KZN!D10 -> 3.3307969 | C10: =Ethekwini!D10 -> 9.4383041 | D10: =Msunduzi!D10 -> 3.4961876 | E10: =Mthlatuze!D10 -> 15.329235 | F10: =Hibiscus!D10 -> 4.3333912 | G10: =Newcastle!D10 -> 7.7598494 | H10: 8.5903286 | I10: 12.098223 | J10: 4.3
A11: =KZN!A18 -> 2011 | B11: =KZN!D11 -> 7.9374245 | C11: =Ethekwini!D11 -> 4.6131289 | D11: =Msunduzi!D11 -> 5.109199 | E11: =Mthlatuze!D11 -> 4.5610015 | F11: =Hibiscus!D11 -> 4.7417902 | G11: =Newcastle!D11 -> 4.6419986 | H11: 6.2314719 | I11: 9.7169302 | J11: 5
A12: =KZN!A19 -> 2012 | B12: =KZN!D12 -> 6.1834378 | C12: =Ethekwini!D12 -> 3.2402531 | E12: =Mthlatuze!D12 -> 1.4950476 | F12: =Hibiscus!D12 -> 4.8331808 | G12: =Newcastle!D12 -> 3.7605515 | H12: 8.6034976 | I12: 8.6809467 | J12: 5
B14: =B2 -> KZN | C14: =C2 -> Ethekwini | D14: =D2 -> Msunduzi | E14: =E2 -> Mthlatuze | F14: =F2 -> Hibiscus | G14: =G2 -> Newcastle
A15: =KZN!A22 -> Average | B15: =KZN!D22 -> 3.8720418 | C15: =Ethekwini!D15 -> 4.7367538 | D15: =Msunduzi!D15 -> 5.1152326 | E15: =Mthlatuze!D15 -> 4.683455 | F15: =Hibiscus!D15 -> 4.9596885 | G15: =Newcastle!D15 -> 4.7904228
