Workbook

Sheet Introduction
A1: SPATIAL DISTRIBUTION OF SPACE EXPANSION IN KWAZULU-NATAL (2001 to 2010)
D3: Building Plans Reported as Completed
D5: Dwellings less than 80m² | G5: Total Provincial Space Expansion
D7: Dwellings equal and more than 80m² | G7: Urban vs. Rural Space Expansion
D9: Flats | G9: Rank Structure and Rank Correlation
D11: Townhouses | G11: To Navigate this Spreadsheet
D13: Other residential buildings | G13: Click on the Links to view Statistics
D15: Schools, nursery schools, crèches, hospitals | G15: Click on Red Arrow to view Introduction page
D17: Churches, Sport and Recreaction
D19: Office & Banking Space | G19: To view Actual Data click HERE
D21: Shopping Space
D23: Industrial & Warehouse Space

Sheet Data
A1: Building Plans Reported as Completed | C1: Dwellings less than 80m² | F1: Dwellings equal and more than 80m² | I1: Flats | L1: Townhouses | O1: Other residential buildings | R1: Schools, nursery schools, crèches, hospitals | U1: Churches, Sport and Recreaction | X1: Office & Banking Space | AA1: Shopping Space | AD1: Industrial & Warehouse Space | AG1: Additions and alterations
C2: Number | D2: Square metres | E2: R'000 | F2: Number | G2: Square metres | H2: R'000 | I2: Number | J2: Square metres | K2: R'000 | L2: Number | M2: Square metres | N2: R'000 | O2: Number | P2: Square metres | Q2: R'000 | R2: Number | S2: Square metres | T2: R'000 | U2: Number | V2: Square metres | W2: R'000 | X2: Number | Y2: Square metres | Z2: R'000 | AA2: Number | AB2: Square metres | AC2: R'000 | AD2: Number | AE2: Square metres | AF2: R'000 | AG2: Number | AH2: Square metres | AI2: R'000
A5: AbaQulusi | B5: 2001 | C5: 197 | D5: 5031 | E5: 3337 | F5: 18 | G5: 3030 | H5: 3181 | I5: 0 | J5: 0 | K5: 0 | L5: 16 | M5: 3143 | N5: 3300 | O5: 54 | P5: 8216 | Q5: 8216 | R5: 0 | S5: 0 | T5: 0 | U5: 1 | V5: 156 | W5: 140 | X5: 0 | Y5: 0 | Z5: 0 | AA5: 1 | AB5: 273 | AC5: 290 | AD5: 3 | AE5: 3861 | AF5: 3250 | AG5: 0 | AH5: 0 | AI5: 0
B6: 2002 | C6: 8 | D6: 444 | E6: 545 | F6: 13 | G6: 2738 | H6: 3085 | I6: 0 | J6: 0 | K6: 0 | L6: 0 | M6: 0 | N6: 0 | O6: 0 | P6: 0 | Q6: 0 | R6: 0 | S6: 0 | T6: 0 | U6: 0 | V6: 0 | W6: 0 | X6: 0 | Y6: 0 | Z6: 0 | AA6: 0 | AB6: 0 | AC6: 0 | AD6: 0 | AE6: 0 | AF6: 0 | AG6: 44 | AH6: 4723 | AI6: 5650
B7: 2003 | C7: 3 | D7: 157 | E7: 175 | F7: 16 | G7: 2500 | H7: 2541 | I7: 0 | J7: 0 | K7: 0 | L7: 0 | M7: 0 | N7: 0 | O7: 0 | P7: 0 | Q7: 0 | R7: 0 | S7: 0 | T7: 0 | U7: 0 | V7: 0 | W7: 0 | X7: 0 | Y7: 0 | Z7: 0 | AA7: 0 | AB7: 0 | AC7: 0 | AD7: 1 | AE7: 0 | AF7: 0 | AG7: 29 | AH7: 2577 | AI7: 2668
B8: 2004 | C8: 977 | D8: 29430 | E8: 13902 | F8: 18 | G8: 2618 | H8: 5637 | I8: 0 | J8: 0 | K8: 0 | L8: 0 | M8: 0 | N8: 0 | O8: 0 | P8: 0 | Q8: 0 | R8: 0 | S8: 0 | T8: 0 | U8: 0 | V8: 0 | W8: 0 | X8: 0 | Y8: 0 | Z8: 0 | AA8: 2 | AB8: 635 | AC8: 1270 | AD8: 3 | AE8: 520 | AF8: 936 | AG8: 26 | AH8: 2919 | AI8: 9970
B9: 2005 | C9: 491 | D9: 14797 | E9: 6962 | F9: 5 | G9: 907 | H9: 2086 | I9: 0 | J9: 0 | K9: 0 | L9: 0 | M9: 0 | N9: 0 | O9: 0 | P9: 0 | Q9: 0 | R9: 0 | S9: 0 | T9: 0 | U9: 0 | V9: 0 | W9: 0 | X9: 1 | Y9: 699 | Z9: 200 | AA9: 1 | AB9: 3748 | AC9: 8000 | AD9: 0 | AE9: 0 | AF9: 0 | AG9: 0 | AH9: 0 | AI9: 0
B10: 2006 | C10: 3 | D10: 163 | E10: 387 | F10: 9 | G10: 1702 | H10: 4258 | I10: 0 | J10: 0 | K10: 0 | L10: 5 | M10: 344 | N10: 817 | O10: 0 | P10: 0 | Q10: 0 | R10: 0 | S10: 0 | T10: 0 | U10: 0 | V10: 0 | W10: 0 | X10: 0 | Y10: 0 | Z10: 0 | AA10: 2 | AB10: 687 | AC10: 1580 | AD10: 0 | AE10: 0 | AF10: 0
B11: 2007 | C11: 0 | D11: 0 | E11: 0 | F11: 0 | G11: 0 | H11: 0 | I11: 0 | J11: 0 | K11: 0 | L11: 17 | M11: 2228 | N11: 5695 | O11: 0 | P11: 0 | Q11: 0 | R11: 0 | S11: 0 | T11: 0 | U11: 0 | V11: 0 | W11: 0 | X11: 0 | Y11: 0 | Z11: 0 | AA11: 1 | AB11: 773 | AC11: 1800 | AD11: 1 | AE11: 356 | AF11: 680 | AG11: 26 | AH11: 2 438 | AI11: 5190
B12: 2008 | C12: 66 | D12: 2640 | E12: 2640 | F12: 7 | G12: 1892 | H12: 5862 | I12: 0 | J12: 0 | K12: 0 | L12: 0 | M12: 0 | N12: 0 | O12: 0 | P12: 0 | Q12: 0 | R12: 0 | S12: 0 | T12: 0 | U12: 0 | V12: 0 | W12: 0 | X12: 0 | Y12: 0 | Z12: 0 | AA12: 1 | AB12: 285 | AC12: 1000 | AD12: 0 | AE12: 0 | AF12: 0
B13: 2009 | C13: 1078 | D13: 43120 | E13: 47344 | F13: 12 | G13: 3276 | H13: 8000 | I13: 0 | J13: 0 | K13: 0 | L13: 0 | M13: 0 | O13: 0 | P13: 0 | Q13: 0 | R13: 0 | S13: 0 | T13: 0 | U13: 0 | V13: 0 | W13: 0 | X13: 1 | Y13: 927 | Z13: 3000 | AA13: 0 | AB13: 0 | AC13: 0 | AD13: 1 | AE13: 280 | AF13: 900
B14: 2010 | C14: 0 | D14: 0 | E14: 0 | F14: 10 | G14: 1785 | H14: 8500 | I14: 0 | J14: 0 | K14: 0 | L14: 0 | M14: 0 | N14: 0 | O14: 0 | P14: 0 | Q14: 0 | R14: 0 | S14: 0 | T14: 0 | U14: 1 | V14: 595 | W14: 1400 | X14: 0 | Y14: 0 | Z14: 0 | AA14: 2 | AB14: 2168 | AC14: 9000 | AD14: 0 | AE14: 0 | AF14: 0 | AG14: 26 | AH14: 2 438 | AI14: 5190
B16: Average | C16: =AVERAGE(C5:C14) -> 282.3 | D16: =AVERAGE(D5:D14) -> 9578.2 | E16: =AVERAGE(E5:E14) -> 7529.2 | F16: =AVERAGE(F5:F14) -> 10.8 | G16: =AVERAGE(G5:G14) -> 2044.8 | H16: =AVERAGE(H5:H14) -> 4315 | I16: =AVERAGE(I5:I14) -> 0 | J16: =AVERAGE(J5:J14) -> 0 | ... AI16: =AVERAGE(AI5:AI14) -> 4095.4286
B17: Total | C17: =SUM(C5:C14) -> 2823 | D17: =SUM(D5:D14) -> 95782 | E17: =SUM(E5:E14) -> 75292 | F17: =SUM(F5:F14) -> 108 | G17: =SUM(G5:G14) -> 20448 | H17: =SUM(H5:H14) -> 43150 | I17: =SUM(I5:I14) -> 0 | J17: =SUM(J5:J14) -> 0 | ... AI17: =SUM(AI5:AI14) -> 28668
A19: Big 5 False Bay | B19: 2001 | C19: 550 | D19: 16500 | E19: 10120 | F19: 2 | G19: 404 | H19: 650 | I19: 0 | J19: 0 | K19: 0 | L19: 0 | M19: 0 | N19: 0 | O19: 0 | P19: 0 | Q19: 0 | R19: 0 | S19: 0 | T19: 0 | U19: 0 | V19: 0 | W19: 0 | X19: 0 | Y19: 0 | Z19: 0 | AA19: 0 | AB19: 0 | AC19: 0 | AD19: 0 | AE19: 0 | AF19: 0 | AG19: 0 | AH19: 0 | AI19: 0
B20: 2002 | C20: 0 | D20: 0 | E20: 0 | F20: 0 | G20: 0 | H20: 0 | I20: 0 | J20: 0 | K20: 0 | L20: 0 | M20: 0 | N20: 0 | O20: 1 | P20: 1226 | Q20: 1594 | R20: 0 | S20: 0 | T20: 0 | U20: 0 | V20: 0 | W20: 0 | X20: 0 | Y20: 0 | Z20: 0 | AA20: 0 | AB20: 0 | AC20: 0 | AD20: 4 | AE20: 124 | AF20: 156 | AG20: 44 | AH20: 4723 | AI20: 5650
B21: 2003 | C21: 0 | D21: 0 | E21: 0 | F21: 0 | G21: 0 | H21: 0 | I21: 0 | J21: 0 | K21: 0 | L21: 0 | M21: 0 | N21: 0 | O21: 0 | P21: 0 | Q21: 0 | R21: 0 | S21: 0 | T21: 0 | U21: 0 | V21: 0 | W21: 0 | X21: 0 | Y21: 0 | Z21: 0 | AA21: 3 | AB21: 1097 | AC21: 1 305 | AD21: 0 | AE21: 0 | AF21: 0 | AG21: 3 | AH21: 143 | AI21: 405
B22: 2004 | C22: 4 | D22: 280 | E22: 504 | F22: 13 | G22: 2730 | H22: 5187 | I22: 0 | J22: 0 | K22: 0 | L22: 0 | M22: 0 | N22: 0 | O22: 2 | P22: 1650 | Q22: 2700 | R22: 0 | S22: 0 | T22: 0 | U22: 0 | V22: 0 | W22: 0 | X22: 1 | Y22: 340 | Z22: 680 | AA22: 2 | AB22: 635 | AC22: 1270 | AD22: 3 | AE22: 520 | AF22: 936 | AG22: 6 | AH22: 495 | AI22: 929
B23: 2005 | C23: 0 | D23: 0 | E23: 0 | F23: 7 | G23: 813 | H23: 2280 | I23: 0 | J23: 0 | K23: 0 | L23: 0 | M23: 0 | N23: 0 | O23: 4 | P23: 865 | Q23: 3380 | R23: 0 | S23: 0 | T23: 0 | U23: 0 | V23: 0 | W23: 0 | X23: 3 | Y23: 285 | Z23: 855 | AA23: 3 | AB23: 6246 | AC23: 18740 | AD23: 0 | AE23: 0 | AF23: 0 | AG23: 0 | AH23: 0 | AI23: 0
B24: 2006 | C24: 0 | D24: 0 | E24: 0 | F24: 7 | G24: 1489 | H24: 5940 | I24: 0 | J24: 0 | K24: 0 | L24: 0 | M24: 0 | N24: 0 | O24: 4 | P24: 930 | Q24: 3255 | R24: 0 | S24: 0 | T24: 0 | U24: 0 | V24: 0 | W24: 0 | X24: 0 | Y24: 0 | Z24: 0 | AA24: 0 | AB24: 0 | AC24: 0 | AD24: 1 | AE24: 970 | AF24: 2910
B25: 2007 | C25: 0 | D25: 0 | E25: 0 | F25: 3 | G25: 280 | H25: 776 | I25: 0 | J25: 0 | K25: 0 | L25: 0 | M25: 0 | N25: 0 | O25: 0 | P25: 0 | Q25: 0 | R25: 0 | S25: 0 | T25: 0 | U25: 0 | V25: 0 | W25: 0 | X25: 0 | Y25: 0 | Z25: 0 | AA25: 1 | AB25: 1299 | AC25: 3600 | AD25: 0 | AE25: 0 | AF25: 0 | AG25: 3 | AH25: 250 | AI25: 1069
B26: 2008 | C26: 3500 | D26: 147000 | E26: 153615 | F26: 2 | G26: 603 | H26: 1812 | I26: 0 | J26: 0 | K26: 0 | L26: 0 | M26: 0 | N26: 0 | O26: 0 | P26: 0 | Q26: 0 | R26: 0 | S26: 0 | T26: 0 | U26: 0 | V26: 0 | W26: 0 | X26: 0 | Y26: 0 | Z26: 0 | AA26: 1 | AB26: 1299 | AC26: 4287 | AD26: 0 | AE26: 0 | AF26: 0
B27: 2009 | C27: 2400 | D27: 96000 | E27: 148800 | F27: 1 | G27: 181 | H27: 634 | I27: 0 | J27: 0 | K27: 0 | L27: 0 | M27: 0 | N27: 0 | O27: 0 | P27: 0 | Q27: 0 | R27: 0 | S27: 0 | T27: 0 | U27: 0 | V27: 0 | W27: 0 | X27: 0 | Y27: 0 | Z27: 0 | AA27: 0 | AB27: 0 | AC27: 0 | AD27: 0 | AE27: 0 | AF27: 0
B28: 2010 | C28: 100 | D28: 4000 | E28: 6200 | F28: 0 | G28: 0 | H28: 0 | I28: 0 | J28: 0 | K28: 0 | L28: 0 | M28: 0 | N28: 0 | O28: 0 | P28: 0 | Q28: 0 | R28: 0 | S28: 0 | T28: 0 | U28: 0 | V28: 0 | W28: 0 | X28: 0 | Y28: 0 | Z28: 0 | AA28: 0 | AB28: 0 | AC28: 0 | AD28: 0 | AE28: 0 | AF28: 0 | AG28: 3 | AH28: 250 | AI28: 1069
B30: Average | C30: =AVERAGE(C19:C28) -> 655.4 | D30: =AVERAGE(D19:D28) -> 26378 | E30: =AVERAGE(E19:E28) -> 31923.9 | F30: =AVERAGE(F19:F28) -> 3.5 | G30: =AVERAGE(G19:G28) -> 650 | H30: =AVERAGE(H19:H28) -> 1727.9 | I30: =AVERAGE(I19:I28) -> 0 | J30: =AVERAGE(J19:J28) -> 0 | ... AI30: =AVERAGE(AI19:AI28) -> 1303.1429
B31: Total | C31: =SUM(C19:C28) -> 6554 | D31: =SUM(D19:D28) -> 263780 | E31: =SUM(E19:E28) -> 319239 | F31: =SUM(F19:F28) -> 35 | G31: =SUM(G19:G28) -> 6500 | H31: =SUM(H19:H28) -> 17279 | I31: =SUM(I19:I28) -> 0 | J31: =SUM(J19:J28) -> 0 | ... AI31: =SUM(AI19:AI28) -> 9122
A33: Dannhauser | B33: 2001 | C33: 2 | D33: 84 | E33: 23 | F33: 0 | G33: 0 | H33: 0 | I33: 0 | J33: 0 | K33: 0 | L33: 0 | M33: 0 | N33: 0 | O33: 0 | P33: 0 | Q33: 0 | R33: 0 | S33: 0 | T33: 0 | U33: 0 | V33: 0 | W33: 0 | X33: 0 | Y33: 0 | Z33: 0 | AA33: 1 | AB33: 646 | AC33: 900 | AD33: 0 | AE33: 0 | AF33: 0 | AG33: 0 | AH33: 0 | AI33: 0
B34: 2002 | C34: 0 | D34: 0 | E34: 0 | F34: 0 | G34: 0 | H34: 0 | I34: 0 | J34: 0 | K34: 0 | L34: 0 | M34: 0 | N34: 0 | O34: 0 | P34: 0 | Q34: 0 | R34: 0 | S34: 0 | T34: 0 | U34: 0 | V34: 0 | W34: 0 | X34: 0 | Y34: 0 | Z34: 0 | AA34: 0 | AB34: 0 | AC34: 0 | AD34: 0 | AE34: 0 | AF34: 0 | AG34: 0 | AH34: 0 | AI34: 0
B35: 2003 | C35: 20 | D35: 600 | E35: 148 | F35: 0 | G35: 0 | H35: 0 | I35: 0 | J35: 0 | K35: 0 | L35: 0 | M35: 0 | N35: 0 | O35: 0 | P35: 0 | Q35: 0 | R35: 0 | S35: 0 | T35: 0 | U35: 0 | V35: 0 | W35: 0 | X35: 0 | Y35: 0 | Z35: 0 | AA35: 0 | AB35: 0 | AC35: 0 | AD35: 0 | AE35: 0 | AF35: 0 | AG35: 3 | AH35: 100 | AI35: 200
B36: 2004 | C36: 50 | D36: 1740 | E36: 452 | F36: 2 | G36: 240 | H36: 480 | I36: 0 | J36: 0 | K36: 0 | L36: 0 | M36: 0 | N36: 0 | O36: 0 | P36: 0 | Q36: 0 | R36: 0 | S36: 0 | T36: 0 | U36: 0 | V36: 0 | W36: 0 | X36: 0 | Y36: 0 | Z36: 0 | AA36: 1 | AB36: 553 | AC36: 995 | AD36: 0 | AE36: 0 | AF36: 0 | AG36: 54 | AH36: 2817 | AI36: 4429
B37: 2005 | C37: 499 | D37: 18962 | E37: 10653 | F37: 1 | G37: 165 | H37: 462 | I37: 0 | J37: 0 | K37: 0 | L37: 0 | M37: 0 | N37: 0 | O37: 0 | P37: 0 | Q37: 0 | R37: 0 | S37: 0 | T37: 0 | U37: 0 | V37: 0 | W37: 0 | X37: 0 | Y37: 0 | Z37: 0 | AA37: 0 | AB37: 0 | AC37: 0 | AD37: 0 | AE37: 0 | AF37: 0 | AG37: 0 | AH37: 0 | AI37: 0
B38: 2006 | C38: 157 | D38: 5966 | E38: 3352 | F38: 0 | G38: 0 | H38: 0 | I38: 0 | J38: 0 | K38: 0 | L38: 0 | M38: 0 | N38: 0 | O38: 0 | P38: 0 | Q38: 0 | R38: 0 | S38: 0 | T38: 0 | U38: 0 | V38: 0 | W38: 0 | X38: 0 | Y38: 0 | Z38: 0 | AA38: 0 | AB38: 0 | AC38: 0 | AD38: 0 | AE38: 0 | AF38: 0
B39: 2007 | C39: 89 | D39: 3724 | E39: 2325 | F39: 0 | G39: 0 | H39: 0 | I39: 0 | J39: 0 | K39: 0 | L39: 0 | M39: 0 | N39: 0 | O39: 0 | P39: 0 | Q39: 0 | R39: 0 | S39: 0 | T39: 0 | U39: 0 | V39: 0 | W39: 0 | X39: 0 | Y39: 0 | Z39: 0 | AA39: 0 | AB39: 0 | AC39: 0 | AD39: 0 | AE39: 0 | AF39: 0 | AG39: 3 | AH39: 367 | AI39: 840
B40: 2008 | C40: 44 | D40: 1672 | E40: 1760 | F40: 0 | G40: 0 | H40: 0 | I40: 0 | J40: 0 | K40: 0 | L40: 0 | M40: 0 | N40: 0 | O40: 0 | P40: 0 | Q40: 0 | R40: 0 | S40: 0 | T40: 0 | U40: 0 | V40: 0 | W40: 0 | X40: 0 | Y40: 0 | Z40: 0 | AA40: 0 | AB40: 0 | AC40: 0 | AD40: 2 | AE40: 1600 | AF40: 4800
B41: 2009 | C41: 0 | D41: 0 | E41: 0 | F41: 0 | G41: 0 | H41: 0 | I41: 0 | J41: 0 | K41: 0 | L41: 0 | M41: 0 | N41: 0 | O41: 0 | P41: 0 | Q41: 0 | R41: 1 | S41: 230 | T41: 690 | U41: 0 | V41: 0 | W41: 0 | X41: 0 | Y41: 0 | Z41: 0 | AA41: 0 | AB41: 0 | AC41: 0 | AD41: 1 | AE41: 324 | AF41: 972
B42: 2010 | C42: 0 | D42: 0 | E42: 0 | F42: 0 | G42: 0 | H42: 0 | I42: 0 | J42: 0 | K42: 0 | L42: 0 | M42: 0 | N42: 0 | O42: 0 | P42: 0 | Q42: 0 | R42: 0 | S42: 0 | T42: 0 | U42: 0 | V42: 0 | W42: 0 | X42: 0 | Y42: 0 | Z42: 0 | AA42: 0 | AB42: 0 | AC42: 0 | AD42: 0 | AE42: 0 | AF42: 0 | AG42: 3 | AH42: 367 | AI42: 840
B44: Average | C44: =AVERAGE(C33:C42) -> 86.1 | D44: =AVERAGE(D33:D42) -> 3274.8 | E44: =AVERAGE(E33:E42) -> 1871.3 | F44: =AVERAGE(F33:F42) -> 0.3 | G44: =AVERAGE(G33:G42) -> 40.5 | H44: =AVERAGE(H33:H42) -> 94.2 | I44: =AVERAGE(I33:I42) -> 0 | J44: =AVERAGE(J33:J42) -> 0 | ... AI44: =AVERAGE(AI33:AI42) -> 901.28571
B45: Total | C45: =SUM(C33:C42) -> 861 | D45: =SUM(D33:D42) -> 32748 | E45: =SUM(E33:E42) -> 18713 | F45: =SUM(F33:F42) -> 3 | G45: =SUM(G33:G42) -> 405 | H45: =SUM(H33:H42) -> 942 | I45: =SUM(I33:I42) -> 0 | J45: =SUM(J33:J42) -> 0 | ... AI45: =SUM(AI33:AI42) -> 6309
A47: Edumbe | B47: 2001 | C47: 247 | D47: 5928 | E47: 1976 | F47: 10 | G47: 1253 | H47: 1195 | I47: 0 | J47: 0 | K47: 0 | L47: 0 | M47: 0 | N47: 0 | O47: 0 | P47: 0 | Q47: 0 | R47: 0 | S47: 0 | T47: 0 | U47: 0 | V47: 0 | W47: 0 | X47: 0 | Y47: 0 | Z47: 0 | AA47: 0 | AB47: 0 | AC47: 0 | AD47: 0 | AE47: 0 | AF47: 0 | AG47: 4 | AH47: 124 | AI47: 156
B48: 2002 | C48: 0 | D48: 0 | E48: 0 | F48: 5 | G48: 840 | H48: 900 | I48: 0 | J48: 0 | K48: 0 | L48: 0 | M48: 0 | N48: 0 | O48: 0 | P48: 0 | Q48: 0 | R48: 0 | S48: 0 | T48: 0 | U48: 0 | V48: 0 | W48: 0 | X48: 0 | Y48: 0 | Z48: 0 | AA48: 0 | AB48: 0 | AC48: 0 | AD48: 0 | AE48: 0 | AF48: 0 | AG48: 0 | AH48: 0 | AI48: 0
...

Sheet Dwellings - Small
A1: Dwellings Less than 80m²
B2: Number of Building Plans Completed | C2: Square Meters Completed | E2: Total Rand Value | F2: Square Meters per Building Plan | G2: Cost per Square Meter | H2: Building Plans As a % of Total | I2: Square Meters As a % of Total | J2: Rand Value As a % of Total
A3: Ethekwini | B3: =Data!C115 -> 16214 | C3: =Data!D115 -> 668858 | D3: =Data!E115 -> 1183831 | E3: =D3*1000 -> 1183831000 | F3: =C3/B3 -> 41.251881 | G3: =E3/C3 -> 1769.9287 | H3: =B3/B$55*100 -> 17.206433 | I3: =C3/C$55*100 -> 18.400825 | J3: =D3/D$55*100 -> 26.245411
A4: Msunduzi | B4: =Data!C364 -> 13655 | C4: =Data!D364 -> 445031 | D4: =Data!E364 -> 462726 | E4: =D4*1000 -> 462726000 | F4: =C4/B4 -> 32.591066 | G4: =E4/C4 -> 1039.7613 | H4: =B4/B$55*100 -> 14.4908 | I4: =C4/C$55*100 -> 12.243163 | J4: =D4/D$55*100 -> 10.258587
A5: Umhlabuyalingana | B5: =Data!C560 -> 3961 | C5: =Data!D560 -> 184020 | D5: =Data!E560 -> 177681 | E5: =D5*1000 -> 177681000 | F5: =C5/B5 -> 46.457965 | G5: =E5/C5 -> 965.55266 | H5: =B5/B$55*100 -> 4.2034464 | I5: =C5/C$55*100 -> 5.0625392 | J5: =D5/D$55*100 -> 3.9391694
A6: Big 5 False Bay | B6: =Data!C31 -> 6554 | C6: =Data!D31 -> 263780 | D6: =Data!E31 -> 319239 | E6: =D6*1000 -> 319239000 | F6: =C6/B6 -> 40.247177 | G6: =E6/C6 -> 1210.2472 | H6: =B6/B$55*100 -> 6.9551597 | I6: =C6/C$55*100 -> 7.2568014 | J6: =D6/D$55*100 -> 7.0774955
A7: Valamehlo | B7: =Data!C714 -> 4052 | C7: =Data!D714 -> 158750 | D7: =Data!E714 -> 169417 | E7: =D7*1000 -> 169417000 | F7: =C7/B7 -> 39.178184 | G7: =E7/C7 -> 1067.1937 | H7: =B7/B$55*100 -> 4.3000163 | I7: =C7/C$55*100 -> 4.3673411 | J7: =D7/D$55*100 -> 3.7559573
A8: Richmond | B8: =Data!C504 -> 3551.2 | C8: =Data!D504 -> 109880.8 | D8: =Data!E504 -> 70132 | E8: =D8*1000 -> 70132000 | F8: =C8/B8 -> 30.941879 | G8: =E8/C8 -> 638.25527 | H8: =B8/B$55*100 -> 3.7685632 | I8: =C8/C$55*100 -> 3.0229098 | J8: =D8/D$55*100 -> 1.5548192
A9: Endumeni | B9: =Data!C101 -> 2420 | C9: =Data!D101 -> 94658 | D9: =Data!E101 -> 82640 | E9: =D9*1000 -> 82640000 | F9: =C9/B9 -> 39.114876 | G9: =E9/C9 -> 873.03767 | H9: =B9/B$55*100 -> 2.5681243 | I9: =C9/C$55*100 -> 2.6041182 | J9: =D9/D$55*100 -> 1.8321202
A10: Jozini | B10: =Data!C241 -> 2288 | C10: =Data!D241 -> 85083 | D10: =Data!E241 -> 91079 | E10: =D10*1000 -> 91079000 | F10: =C10/B10 -> 37.186626 | G10: =E10/C10 -> 1070.4724 | H10: =B10/B$55*100 -> 2.4280448 | I10: =C10/C$55*100 -> 2.3407022 | J10: =D10/D$55*100 -> 2.019212
A11: Umuziwabantu | B11: =Data!C644 -> 3384 | C11: =Data!D644 -> 118747 | D11: =Data!E644 -> 108672 | E11: =D11*1000 -> 108672000 | F11: =C11/B11 -> 35.090721 | G11: =E11/C11 -> 915.15575 | H11: =B11/B$55*100 -> 3.5911291 | I11: =C11/C$55*100 -> 3.2668261 | J11: =D11/D$55*100 -> 2.409247
A12: Okhahlamba | B12: =Data!C490 -> 4341 | C12: =Data!D490 -> 176236 | D12: =Data!E490 -> 204732 | E12: =D12*1000 -> 204732000 | F12: =C12/B12 -> 40.598019 | G12: =E12/C12 -> 1161.6923 | H12: =B12/B$55*100 -> 4.6067056 | I12: =C12/C$55*100 -> 4.8483951 | J12: =D12/D$55*100 -> 4.5388872
A13: Umzimkhulu | B13: =Data!C672 -> 1870 | C13: =Data!D672 -> 65593 | D13: =Data!E672 -> 44826 | E13: =D13*1000 -> 44826000 | F13: =C13/B13 -> 35.076471 | G13: =E13/C13 -> 683.39609 | H13: =B13/B$55*100 -> 1.9844597 | I13: =C13/C$55*100 -> 1.8045165 | J13: =D13/D$55*100 -> 0.99378777
A14: Umtshezi | B14: =Data!C630 -> 1652 | C14: =Data!D630 -> 64575 | D14: =Data!E630 -> 59040 | E14: =D14*1000 -> 59040000 | F14: =C14/B14 -> 39.088983 | G14: =E14/C14 -> 914.28571 | H14: =B14/B$55*100 -> 1.7531162 | I14: =C14/C$55*100 -> 1.7765105 | J14: =D14/D$55*100 -> 1.3089107
A15: AbaQulusi | B15: =Data!C17 -> 2823 | C15: =Data!D17 -> 95782 | D15: =Data!E17 -> 75292 | E15: =D15*1000 -> 75292000 | F15: =C15/B15 -> 33.929153 | G15: =E15/C15 -> 786.07672 | H15: =B15/B$55*100 -> 2.9957912 | I15: =C15/C$55*100 -> 2.6350404 | J15: =D15/D$55*100 -> 1.6692158
A16: Nquthu | B16: =Data!C462 -> 1594 | C16: =Data!D462 -> 73864 | D16: =Data!E462 -> 121035 | E16: =D16*1000 -> 121035000 | F16: =C16/B16 -> 46.33877 | G16: =E16/C16 -> 1638.6196 | H16: =B16/B$55*100 -> 1.6915662 | I16: =C16/C$55*100 -> 2.0320585 | J16: =D16/D$55*100 -> 2.6833334
A17: Ezinqoleni | B17: =Data!C129 -> 1165 | C17: =Data!D129 -> 46600 | D17: =Data!E129 -> 44270 | E17: =D17*1000 -> 44270000 | F17: =C17/B17 -> 40 | G17: =E17/C17 -> 950 | H17: =B17/B$55*100 -> 1.2363078 | I17: =C17/C$55*100 -> 1.2820037 | J17: =D17/D$55*100 -> 0.98146131
A18: Mtubatuba | B18: =Data!C392 -> 1234 | C18: =Data!D392 -> 40251 | D18: =Data!E392 -> 23650 | E18: =D18*1000 -> 23650000 | F18: =C18/B18 -> 32.618314 | G18: =E18/C18 -> 587.56304 | H18: =B18/B$55*100 -> 1.3095311 | I18: =C18/C$55*100 -> 1.1073376 | J18: =D18/D$55*100 -> 0.52431805
A19: Emnambithi | B19: =Data!C87 -> 991 | C19: =Data!D87 -> 41846 | D19: =Data!E87 -> 76978 | E19: =D19*1000 -> 76978000 | F19: =C19/B19 -> 42.226034 | G19: =E19/C19 -> 1839.5546 | H19: =B19/B$55*100 -> 1.0516575 | I19: =C19/C$55*100 -> 1.1512173 | J19: =D19/D$55*100 -> 1.7065943
A20: Hlabisa | B20: =Data!C171 -> 915 | C20: =Data!D171 -> 35634 | D20: =Data!E171 -> 32586 | E20: =D20*1000 -> 32586000 | F20: =C20/B20 -> 38.944262 | G20: =E20/C20 -> 914.46371 | H20: =B20/B$55*100 -> 0.97100566 | I20: =C20/C$55*100 -> 0.9803202 | J20: =D20/D$55*100 -> 0.72242824
A21: Ingwe | B21: =Data!C227 -> 834 | C21: =Data!D227 -> 33367 | D21: =Data!E227 -> 23069 | E21: =D21*1000 -> 23069000 | F21: =C21/B21 -> 40.008393 | G21: =E21/C21 -> 691.37171 | H21: =B21/B$55*100 -> 0.88504779 | I21: =C21/C$55*100 -> 0.91795319 | J21: =D21/D$55*100 -> 0.51143734
A22: Dannhauser | B22: =Data!C45 -> 861 | C22: =Data!D45 -> 32748 | D22: =Data!E45 -> 18713 | E22: =D22*1000 -> 18713000 | F22: =C22/B22 -> 38.034843 | G22: =E22/C22 -> 571.42421 | H22: =B22/B$55*100 -> 0.91370041 | I22: =C22/C$55*100 -> 0.900924 | J22: =D22/D$55*100 -> 0.41486527
A23: Ulundi | B23: =Data!C532 -> 2162 | C23: =Data!D532 -> 88645 | D23: =Data!E532 -> 105272 | E23: =D23*1000 -> 105272000 | F23: =C23/B23 -> 41.001388 | G23: =E23/C23 -> 1187.5684 | H23: =B23/B$55*100 -> 2.2943325 | I23: =C23/C$55*100 -> 2.4386957 | J23: =D23/D$55*100 -> 2.3338693
A24: Mpofana | B24: =Data!C336 -> 141 | C24: =Data!D336 -> 6359 | D24: =Data!E336 -> 10290 | E24: =D24*1000 -> 10290000 | F24: =C24/B24 -> 45.099291 | G24: =E24/C24 -> 1618.179 | H24: =B24/B$55*100 -> 0.14963038 | I24: =C24/C$55*100 -> 0.17494124 | J24: =D24/D$55*100 -> 0.22812823
A25: KwaSani | B25: =Data!C255 -> 1273 | C25: =Data!D255 -> 41316 | D25: =Data!E255 -> 84623 | E25: =D25*1000 -> 84623000 | F25: =C25/B25 -> 32.455617 | G25: =E25/C25 -> 2048.1896 | H25: =B25/B$55*100 -> 1.3509183 | I25: =C25/C$55*100 -> 1.1366366 | J25: =D25/D$55*100 -> 1.8760831
A26: Umdoni | B26: =Data!C546 -> 786 | C26: =Data!D546 -> 27936 | D26: =Data!E546 -> 39625 | E26: =D26*1000 -> 39625000 | F26: =C26/B26 -> 35.541985 | G26: =E26/C26 -> 1418.4207 | H26: =B26/B$55*100 -> 0.83410978 | I26: =C26/C$55*100 -> 0.76854198 | J26: =D26/D$55*100 -> 0.87848214
A27: Umlalazi | B27: =Data!C588 -> 1072 | C27: =Data!D588 -> 43791 | D27: =Data!E588 -> 86904 | E27: =D27*1000 -> 86904000 | F27: =C27/B27 -> 40.849813 | G27: =E27/C27 -> 1984.5174 | H27: =B27/B$55*100 -> 1.1376154 | I27: =C27/C$55*100 -> 1.2047259 | J27: =D27/D$55*100 -> 1.9266527
A28: KwaDukuza | B28: =Data!C269 -> 784 | C28: =Data!D269 -> 23955 | D28: =Data!E269 -> 43283 | E28: =D28*1000 -> 43283000 | F28: =C28/B28 -> 30.554847 | G28: =E28/C28 -> 1806.8462 | H28: =B28/B$55*100 -> 0.83198737 | I28: =C28/C$55*100 -> 0.65902145 | J28: =D28/D$55*100 -> 0.95957962
A29: New Castle | B29: =Data!C420 -> 319 | C29: =Data!D420 -> 22872 | D29: =Data!E420 -> 57464 | E29: =D29*1000 -> 57464000 | F29: =C29/B29 -> 71.69906 | G29: =E29/C29 -> 2512.4169 | H29: =B29/B$55*100 -> 0.33852547 | I29: =C29/C$55*100 -> 0.62922724 | J29: =D29/D$55*100 -> 1.2739709
A30: Greater Kokstad | B30: =Data!C143 -> 444 | C30: =Data!D143 -> 21765 | D30: =Data!E143 -> 32479 | E30: =D30*1000 -> 32479000 | F30: =C30/B30 -> 49.02027 | G30: =E30/C30 -> 1492.2582 | H30: =B30/B$55*100 -> 0.47117652 | I30: =C30/C$55*100 -> 0.59877278 | J30: =D30/D$55*100 -> 0.72005606
A31: Mandeni | B31: =Data!C283 -> 3268 | C31: =Data!D283 -> 127642 | D31: =Data!E283 -> 164796 | E31: =D31*1000 -> 164796000 | F31: =C31/B31 -> 39.05814 | G31: =E31/C31 -> 1291.0797 | H31: =B31/B$55*100 -> 3.468029 | I31: =C31/C$55*100 -> 3.5115348 | J31: =D31/D$55*100 -> 3.6535102
A32: Uphongolo | B32: =Data!C700 -> 324 | C32: =Data!D700 -> 13015 | D32: =Data!E700 -> 8705 | E32: =D32*1000 -> 8705000 | F32: =C32/B32 -> 40.169753 | G32: =E32/C32 -> 668.84364 | H32: =B32/B$55*100 -> 0.34383151 | I32: =C32/C$55*100 -> 0.35805319 | J32: =D32/D$55*100 -> 0.19298895
A33: Ubuhlebezwe | B33: =Data!C518 -> 253 | C33: =Data!D518 -> 11883 | D33: =Data!E518 -> 8564 | E33: =D33*1000 -> 8564000 | F33: =C33/B33 -> 46.968379 | G33: =E33/C33 -> 720.69343 | H33: =B33/B$55*100 -> 0.26848572 | I33: =C33/C$55*100 -> 0.32691095 | J33: =D33/D$55*100 -> 0.18986299
A34: uMhlathuze | B34: =Data!C574 -> 177 | C34: =Data!D574 -> 10615 | D34: =Data!E574 -> 18047 | E34: =D34*1000 -> 18047000 | F34: =C34/B34 -> 59.971751 | G34: =E34/C34 -> 1700.1413 | H34: =B34/B$55*100 -> 0.18783388 | I34: =C34/C$55*100 -> 0.29202725 | J34: =D34/D$55*100 -> 0.40010012
A35: Indaka | B35: =Data!C213 -> 300 | C35: =Data!D213 -> 9000 | D35: =Data!E213 -> 6900 | E35: =D35*1000 -> 6900000 | F35: =C35/B35 -> 30 | G35: =E35/C35 -> 766.66667 | H35: =B35/B$55*100 -> 0.31836251 | I35: =C35/C$55*100 -> 0.24759729 | J35: =D35/D$55*100 -> 0.15297228
A36: Mbonambi | B36: =Data!C308 -> 469 | C36: =Data!D308 -> 15008 | D36: =Data!E308 -> 22050 | E36: =D36*1000 -> 22050000 | F36: =C36/B36 -> 32 | G36: =E36/C36 -> 1469.2164 | H36: =B36/B$55*100 -> 0.49770673 | I36: =C36/C$55*100 -> 0.41288223 | J36: =D36/D$55*100 -> 0.48884621
A37: Ntambanana | B37: =Data!C476 -> 882 | C37: =Data!D476 -> 36680 | D37: =Data!E476 -> 47118 | E37: =D37*1000 -> 47118000 | F37: =C37/B37 -> 41.587302 | G37: =E37/C37 -> 1284.5692 | H37: =B37/B$55*100 -> 0.93598579 | I37: =C37/C$55*100 -> 1.0090965 | J37: =D37/D$55*100 -> 1.0446012
A38: Hibiscus Coast | B38: =Data!C157 -> 156 | C38: =Data!D157 -> 9301 | D38: =Data!E157 -> 23637 | E38: =D38*1000 -> 23637000 | F38: =C38/B38 -> 59.621795 | G38: =E38/C38 -> 2541.3396 | H38: =B38/B$55*100 -> 0.16554851 | I38: =C38/C$55*100 -> 0.25587804 | J38: =D38/D$55*100 -> 0.52402984
A39: Edumbe | B39: =Data!C59 -> 255 | C39: =Data!D59 -> 6404 | D39: =Data!E59 -> 3046 | E39: =D39*1000 -> 3046000 | F39: =C39/B39 -> 25.113725 | G39: =E39/C39 -> 475.64022 | H39: =B39/B$55*100 -> 0.27060814 | I39: =C39/C$55*100 -> 0.17617923 | J39: =D39/D$55*100 -> 0.067529504
A40: Emadlangeni | B40: =Data!C73 -> 67 | C40: =Data!D73 -> 4078 | D40: =Data!E73 -> 6740 | E40: =D40*1000 -> 6740000 | F40: =C40/B40 -> 60.865672 | G40: =E40/C40 -> 1652.771 | H40: =B40/B$55*100 -> 0.071100961 | I40: =C40/C$55*100 -> 0.11218908 | J40: =D40/D$55*100 -> 0.1494251
...

Sheet Dwellings - Large
A1: Dwellings More than 80m²
B2: Number of Building Plans Completed | C2: Square Meters Completed | D2: Total Rand Value | E2: Total Rand Value | F2: Square Meters per Building Plan | G2: Cost per Square Meter | H2: Building Plans As a % of Total | I2: Square Meters As a % of Total | J2: Rand Value As a % of Total
A3: Ethekwini | B3: =Data!F115 -> 9849 | C3: =Data!G115 -> 2091744 | D3: =Data!H115 -> 6731397 | E3: =D3*1000 -> 6731397000 | F3: =C3/B3 -> 212.38136 | G3: =E3/C3 -> 3218.0788 | H3: =B3/B$55*100 -> 53.367073 | I3: =C3/C$55*100 -> 52.179483 | J3: =D3/D$55*100 -> 54.305023
A4: KwaDukuza | B4: =Data!F269 -> 1652 | C4: =Data!G269 -> 459598 | D4: =Data!H269 -> 1909147 | E4: =D4*1000 -> 1909147000 | F4: =C4/B4 -> 278.20702 | G4: =E4/C4 -> 4153.9498 | H4: =B4/B$55*100 -> 8.9514066 | I4: =C4/C$55*100 -> 11.464876 | J4: =D4/D$55*100 -> 15.401895
A5: Hibiscus Coast | B5: =Data!F157 -> 1278 | C5: =Data!G157 -> 303752 | D5: =Data!H157 -> 936255 | E5: =D5*1000 -> 936255000 | F5: =C5/B5 -> 237.67762 | G5: =E5/C5 -> 3082.3007 | H5: =B5/B$55*100 -> 6.9248775 | I5: =C5/C$55*100 -> 7.5772286 | J5: =D5/D$55*100 -> 7.5531645
A6: KwaSani | B6: =Data!F255 -> 331 | C6: =Data!G255 -> 166437 | D6: =Data!H255 -> 318243 | E6: =D6*1000 -> 318243000 | F6: =C6/B6 -> 502.83082 | G6: =E6/C6 -> 1912.0929 | H6: =B6/B$55*100 -> 1.7935324 | I6: =C6/C$55*100 -> 4.1518449 | J6: =D6/D$55*100 -> 2.5674007
A7: Umngeni | B7: =Data!F602 -> 609 | C7: =Data!G602 -> 165487 | D7: =Data!H602 -> 484854 | E7: =D7*1000 -> 484854000 | F7: =C7/B7 -> 271.73563 | G7: =E7/C7 -> 2929.8616 | H7: =B7/B$55*100 -> 3.299883 | I7: =C7/C$55*100 -> 4.1281467 | J7: =D7/D$55*100 -> 3.911522
A8: uMhlathuze | B8: =Data!F574 -> 451 | C8: =Data!G574 -> 93780 | D8: =Data!H574 -> 185137 | E8: =D8*1000 -> 185137000 | F8: =C8/B8 -> 207.93792 | G8: =E8/C8 -> 1974.1629 | H8: =B8/B$55*100 -> 2.4437557 | I8: =C8/C$55*100 -> 2.3393838 | J8: =D8/D$55*100 -> 1.4935784
A9: New Castle | B9: =Data!F420 -> 509 | C9: =Data!G420 -> 97268 | D9: =Data!H420 -> 212842 | E9: =D9*1000 -> 212842000 | F9: =C9/B9 -> 191.09627 | G9: =E9/C9 -> 2188.2017 | H9: =B9/B$55*100 -> 2.7580303 | I9: =C9/C$55*100 -> 2.4263935 | J9: =D9/D$55*100 -> 1.7170863
A10: Msunduzi | B10: =Data!F364 -> 542 | C10: =Data!G364 -> 79745 | D10: =Data!H364 -> 142186 | E10: =D10*1000 -> 142186000 | F10: =C10/B10 -> 147.131 | G10: =E10/C10 -> 1783.0083 | H10: =B10/B$55*100 -> 2.9368416 | I10: =C10/C$55*100 -> 1.9892745 | J10: =D10/D$55*100 -> 1.1470745
A11: Umlalazi | B11: =Data!F588 -> 390 | C11: =Data!G588 -> 79844 | D11: =Data!H588 -> 234914 | E11: =D11*1000 -> 234914000 | F11: =C11/B11 -> 204.72821 | G11: =E11/C11 -> 2942.1622 | H11: =B11/B$55*100 -> 2.1132255 | I11: =C11/C$55*100 -> 1.9917441 | J11: =D11/D$55*100 -> 1.8951505
A12: Umdoni | B12: =Data!F546 -> 337 | C12: =Data!G546 -> 69765 | D12: =Data!H546 -> 193822 | E12: =D12*1000 -> 193822000 | F12: =C12/B12 -> 207.0178 | G12: =E12/C12 -> 2778.2126 | H12: =B12/B$55*100 -> 1.8260436 | I12: =C12/C$55*100 -> 1.7403189 | J12: =D12/D$55*100 -> 1.5636439
A13: Endumeni | B13: =Data!F101 -> 264 | C13: =Data!G101 -> 58160 | D13: =Data!H101 -> 163381 | E13: =D13*1000 -> 163381000 | F13: =C13/B13 -> 220.30303 | G13: =E13/C13 -> 2809.1644 | H13: =B13/B$55*100 -> 1.4304911 | I13: =C13/C$55*100 -> 1.450827 | J13: =D13/D$55*100 -> 1.3180635
A14: Emnambithi | B14: =Data!F87 -> 290 | C14: =Data!G87 -> 48853 | D14: =Data!H87 -> 140482 | E14: =D14*1000 -> 140482000 | F14: =C14/B14 -> 168.45862 | G14: =E14/C14 -> 2875.6064 | H14: =B14/B$55*100 -> 1.5713728 | I14: =C14/C$55*100 -> 1.2186598 | J14: =D14/D$55*100 -> 1.1333276
A15: Mpofana | B15: =Data!F336 -> 96 | C15: =Data!G336 -> 25852 | D15: =Data!H336 -> 77585 | E15: =D15*1000 -> 77585000 | F15: =C15/B15 -> 269.29167 | G15: =E15/C15 -> 3001.1218 | H15: =B15/B$55*100 -> 0.52017859 | I15: =C15/C$55*100 -> 0.64488963 | J15: =D15/D$55*100 -> 0.62591096
A16: Umtshezi | B16: =Data!F630 -> 227 | C16: =Data!G630 -> 35990 | D16: =Data!H630 -> 97114 | E16: =D16*1000 -> 97114000 | F16: =C16/B16 -> 158.54626 | G16: =E16/C16 -> 2698.3607 | H16: =B16/B$55*100 -> 1.2300056 | I16: =C16/C$55*100 -> 0.89778654 | J16: =D16/D$55*100 -> 0.78345965
A17: Mtubatuba | B17: =Data!F392 -> 179 | C17: =Data!G392 -> 28592 | D17: =Data!H392 -> 58153 | E17: =D17*1000 -> 58153000 | F17: =C17/B17 -> 159.73184 | G17: =E17/C17 -> 2033.8906 | H17: =B17/B$55*100 -> 0.96991634 | I17: =C17/C$55*100 -> 0.71324014 | J17: =D17/D$55*100 -> 0.46914481
A18: Mandeni | B18: =Data!F283 -> 76 | C18: =Data!G283 -> 17110 | D18: =Data!H283 -> 46823 | E18: =D18*1000 -> 46823000 | F18: =C18/B18 -> 225.13158 | G18: =E18/C18 -> 2736.5868 | H18: =B18/B$55*100 -> 0.41180805 | I18: =C18/C$55*100 -> 0.42681655 | J18: =D18/D$55*100 -> 0.37774092
A19: Okhahlamba | B19: =Data!F490 -> 175 | C19: =Data!G490 -> 23240 | D19: =Data!H490 -> 77756 | E19: =D19*1000 -> 77756000 | F19: =C19/B19 -> 132.8 | G19: =E19/C19 -> 3345.7831 | H19: =B19/B$55*100 -> 0.94824223 | I19: =C19/C$55*100 -> 0.57973213 | J19: =D19/D$55*100 -> 0.62729049
A20: AbaQulusi | B20: =Data!F17 -> 108 | C20: =Data!G17 -> 20448 | D20: =Data!H17 -> 43150 | E20: =D20*1000 -> 43150000 | F20: =C20/B20 -> 189.33333 | G20: =E20/C20 -> 2110.2308 | H20: =B20/B$55*100 -> 0.58520092 | I20: =C20/C$55*100 -> 0.51008445 | J20: =D20/D$55*100 -> 0.34810927
A21: Umshwathi | B21: =Data!F616 -> 92 | C21: =Data!G616 -> 23939 | D21: =Data!H616 -> 65127 | E21: =D21*1000 -> 65127000 | F21: =C21/B21 -> 260.20652 | G21: =E21/C21 -> 2720.5397 | H21: =B21/B$55*100 -> 0.49850449 | I21: =C21/C$55*100 -> 0.59716899 | J21: =D21/D$55*100 -> 0.52540702
A22: Umuziwabantu | B22: =Data!F644 -> 81 | C22: =Data!G644 -> 13540 | D22: =Data!H644 -> 33363 | E22: =D22*1000 -> 33363000 | F22: =C22/B22 -> 167.16049 | G22: =E22/C22 -> 2464.0325 | H22: =B22/B$55*100 -> 0.43890069 | I22: =C22/C$55*100 -> 0.33776132 | J22: =D22/D$55*100 -> 0.26915341
A23: Nquthu | B23: =Data!F462 -> 81 | C23: =Data!G462 -> 11728 | D23: =Data!H462 -> 19680 | E23: =D23*1000 -> 19680000 | F23: =C23/B23 -> 144.79012 | G23: =E23/C23 -> 1678.0355 | H23: =B23/B$55*100 -> 0.43890069 | I23: =C23/C$55*100 -> 0.29256017 | J23: =D23/D$55*100 -> 0.15876687
A24: Emadlangeni | B24: =Data!F73 -> 71 | C24: =Data!G73 -> 11163 | D24: =Data!H73 -> 24319 | E24: =D24*1000 -> 24319000 | F24: =C24/B24 -> 157.22535 | G24: =E24/C24 -> 2178.5362 | H24: =B24/B$55*100 -> 0.38471542 | I24: =C24/C$55*100 -> 0.27846599 | J24: =D24/D$55*100 -> 0.19619164
A25: Uphongolo | B25: =Data!F700 -> 64 | C25: =Data!G700 -> 12217 | D25: =Data!H700 -> 32333 | E25: =D25*1000 -> 32333000 | F25: =C25/B25 -> 190.89062 | G25: =E25/C25 -> 2646.5581 | H25: =B25/B$55*100 -> 0.34678573 | I25: =C25/C$55*100 -> 0.30475849 | J25: =D25/D$55*100 -> 0.26084397
A26: Greater Kokstad | B26: =Data!F143 -> 62 | C26: =Data!G143 -> 9411 | D26: =Data!H143 -> 21283 | E26: =D26*1000 -> 21283000 | F26: =C26/B26 -> 151.79032 | G26: =E26/C26 -> 2261.5025 | H26: =B26/B$55*100 -> 0.33594868 | I26: =C26/C$55*100 -> 0.23476158 | J26: =D26/D$55*100 -> 0.17169895
A27: Big 5 False Bay | B27: =Data!F31 -> 35 | C27: =Data!G31 -> 6500 | D27: =Data!H31 -> 17279 | E27: =D27*1000 -> 17279000 | F27: =C27/B27 -> 185.71429 | G27: =E27/C27 -> 2658.3077 | H27: =B27/B$55*100 -> 0.18964845 | I27: =C27/C$55*100 -> 0.16214539 | J27: =D27/D$55*100 -> 0.13939699
A28: Edumbe | B28: =Data!F59 -> 42 | C28: =Data!G59 -> 7153 | D28: =Data!H59 -> 13555 | E28: =D28*1000 -> 13555000 | F28: =C28/B28 -> 170.30952 | G28: =E28/C28 -> 1895.0091 | H28: =B28/B$55*100 -> 0.22757814 | I28: =C28/C$55*100 -> 0.17843476 | J28: =D28/D$55*100 -> 0.10935391
A29: Mkhambathini | B29: =Data!F322 -> 38 | C29: =Data!G322 -> 6736 | D29: =Data!H322 -> 12401 | E29: =D29*1000 -> 12401000 | F29: =C29/B29 -> 177.26316 | G29: =E29/C29 -> 1841.0036 | H29: =B29/B$55*100 -> 0.20590403 | I29: =C29/C$55*100 -> 0.16803251 | J29: =D29/D$55*100 -> 0.1000441
A30: Jozini | B30: =Data!F241 -> 46 | C30: =Data!G241 -> 6808 | D30: =Data!H241 -> 12573 | E30: =D30*1000 -> 12573000 | F30: =C30/B30 -> 148 | G30: =E30/C30 -> 1846.7979 | H30: =B30/B$55*100 -> 0.24925224 | I30: =C30/C$55*100 -> 0.16982858 | J30: =D30/D$55*100 -> 0.1014317
A31: Umvoti | B31: =Data!F658 -> 33 | C31: =Data!G658 -> 5127 | D31: =Data!H658 -> 11048 | E31: =D31*1000 -> 11048000 | F31: =C31/B31 -> 155.36364 | G31: =E31/C31 -> 2154.8664 | H31: =B31/B$55*100 -> 0.17881139 | I31: =C31/C$55*100 -> 0.12789529 | J31: =D31/D$55*100 -> 0.089128882
A32: Mthonjaneni | B32: =Data!F378 -> 28 | C32: =Data!G378 -> 4672 | D32: =Data!H378 -> 9663 | E32: =D32*1000 -> 9663000 | F32: =C32/B32 -> 166.85714 | G32: =E32/C32 -> 2068.2791 | H32: =B32/B$55*100 -> 0.15171876 | I32: =C32/C$55*100 -> 0.11654512 | J32: =D32/D$55*100 -> 0.077955502
A33: Ulundi | B33: =Data!F532 -> 101 | C33: =Data!G532 -> 10013 | D33: =Data!H532 -> 32580 | E33: =D33*1000 -> 32580000 | F33: =C33/B33 -> 99.138614 | G33: =E33/C33 -> 3253.7701 | H33: =B33/B$55*100 -> 0.54727123 | I33: =C33/C$55*100 -> 0.24977873 | J33: =D33/D$55*100 -> 0.26283662
A34: Ubuhlebezwe | B34: =Data!F518 -> 21 | C34: =Data!G518 -> 3240 | D34: =Data!H518 -> 6151 | E34: =D34*1000 -> 6151000 | F34: =C34/B34 -> 154.28571 | G34: =E34/C34 -> 1898.4568 | H34: =B34/B$55*100 -> 0.11378907 | I34: =C34/C$55*100 -> 0.08082324 | J34: =D34/D$55*100 -> 0.049622715
A35: Umzumbe | B35: =Data!F686 -> 13 | C35: =Data!G686 -> 2730 | D35: =Data!H686 -> 5187 | E35: =D35*1000 -> 5187000 | F35: =C35/B35 -> 210 | G35: =E35/C35 -> 1900 | H35: =B35/B$55*100 -> 0.070440851 | I35: =C35/C$55*100 -> 0.068101063 | J35: =D35/D$55*100 -> 0.04184572
A36: Richmond | B36: =Data!F504 -> 253.2 | C36: =Data!G504 -> 2332 | D36: =Data!H504 -> 7661 | E36: =D36*1000 -> 7661000 | F36: =C36/B36 -> 9.2101106 | G36: =E36/C36 -> 3285.163 | H36: =B36/B$55*100 -> 1.371971 | I36: =C36/C$55*100 -> 0.058172776 | J36: =D36/D$55*100 -> 0.061804523
A37: Umzimkhulu | B37: =Data!F672 -> 10 | C37: =Data!G672 -> 1738 | D37: =Data!H672 -> 8690 | E37: =D37*1000 -> 8690000 | F37: =C37/B37 -> 173.8 | G37: =E37/C37 -> 5000 | H37: =B37/B$55*100 -> 0.05418527 | I37: =C37/C$55*100 -> 0.043355182 | J37: =D37/D$55*100 -> 0.0701059
A38: Nkandla | B38: =Data!F434 -> 6 | C38: =Data!G434 -> 1383 | D38: =Data!H434 -> 3100 | E38: =D38*1000 -> 3100000 | F38: =C38/B38 -> 230.5 | G38: =E38/C38 -> 2241.504 | H38: =B38/B$55*100 -> 0.032511162 | I38: =C38/C$55*100 -> 0.034499549 | J38: =D38/D$55*100 -> 0.025009009
A39: Mbonambi | B39: =Data!F308 -> 4 | C39: =Data!G308 -> 1119 | D39: =Data!H308 -> 2300 | E39: =D39*1000 -> 2300000 | F39: =C39/B39 -> 279.75 | G39: =E39/C39 -> 2055.4066 | H39: =B39/B$55*100 -> 0.021674108 | I39: =C39/C$55*100 -> 0.027913952 | J39: =D39/D$55*100 -> 0.018555071
A40: Nongoma | B40: =Data!F448 -> 5 | C40: =Data!G448 -> 665 | D40: =Data!H448 -> 2184 | E40: =D40*1000 -> 2184000 | F40: =C40/B40 -> 133 | G40: =E40/C40 -> 3284.2105 | H40: =B40/B$55*100 -> 0.027092635 | I40: =C40/C$55*100 -> 0.01658872 | J40: =D40/D$55*100 -> 0.01761925
...

Sheet Flats
A1: Flats
B2: Number of Building Plans Completed | C2: Square Meters Completed | D2: Total Rand Value | E2: Total Rand Value | F2: Square Meters per Building Plan | G2: Cost per Square Meter | H2: Building Plans As a % of Total | I2: Square Meters As a % of Total | J2: Rand Value As a % of Total
A3: Ethekwini | B3: =Data!I115 -> 4283 | C3: =Data!J115 -> 666777 | D3: =Data!K115 -> 2917333 | E3: =D3*1000 -> 2917333000 | F3: =C3/B3 -> 155.6799 | G3: =E3/C3 -> 4375.2754 | H3: =B3/B$55*100 -> 55.06557 | I3: =C3/C$55*100 -> 59.08111 | J3: =D3/D$55*100 -> 59.015399
A4: KwaDukuza | B4: =Data!I269 -> 1704 | C4: =Data!J269 -> 291510 | D4: =Data!K269 -> 1558940 | E4: =D4*1000 -> 1558940000 | F4: =C4/B4 -> 171.07394 | G4: =E4/C4 -> 5347.8097 | H4: =B4/B$55*100 -> 21.907945 | I4: =C4/C$55*100 -> 25.829827 | J4: =D4/D$55*100 -> 31.536155
A5: Hibiscus Coast | B5: =Data!I157 -> 348 | C5: =Data!J157 -> 40326 | D5: =Data!K157 -> 114686 | E5: =D5*1000 -> 114686000 | F5: =C5/B5 -> 115.87931 | G5: =E5/C5 -> 2843.9716 | H5: =B5/B$55*100 -> 4.4741579 | I5: =C5/C$55*100 -> 3.5731659 | J5: =D5/D$55*100 -> 2.3200094
A6: Msunduzi | B6: =Data!I364 -> 527 | C6: =Data!J364 -> 30400 | D6: =Data!K364 -> 78634 | E6: =D6*1000 -> 78634000 | F6: =C6/B6 -> 57.685009 | G6: =E6/C6 -> 2586.6447 | H6: =B6/B$55*100 -> 6.7755207 | I6: =C6/C$55*100 -> 2.6936528 | J6: =D6/D$55*100 -> 1.5907052
A7: New Castle | B7: =Data!I420 -> 204 | C7: =Data!J420 -> 19765 | D7: =Data!K420 -> 52773 | E7: =D7*1000 -> 52773000 | F7: =C7/B7 -> 96.887255 | G7: =E7/C7 -> 2670.0228 | H7: =B7/B$55*100 -> 2.6227822 | I7: =C7/C$55*100 -> 1.7513174 | J7: =D7/D$55*100 -> 1.0675571
A8: uMhlathuze | B8: =Data!I574 -> 100 | C8: =Data!J574 -> 13514 | D8: =Data!K574 -> 32877 | E8: =D8*1000 -> 32877000 | F8: =C8/B8 -> 135.14 | G8: =E8/C8 -> 2432.8104 | H8: =B8/B$55*100 -> 1.2856776 | I8: =C8/C$55*100 -> 1.197435 | J8: =D8/D$55*100 -> 0.66507638
A9: Mtubatuba | B9: =Data!I392 -> 110 | C9: =Data!J392 -> 10660 | D9: =Data!K392 -> 24077 | E9: =D9*1000 -> 24077000 | F9: =C9/B9 -> 96.909091 | G9: =E9/C9 -> 2258.6304 | H9: =B9/B$55*100 -> 1.4142453 | I9: =C9/C$55*100 -> 0.94455063 | J9: =D9/D$55*100 -> 0.48705916
A10: Umdoni | B10: =Data!I546 -> 95 | C10: =Data!J546 -> 14883 | D10: =Data!K546 -> 46781 | E10: =D10*1000 -> 46781000 | F10: =C10/B10 -> 156.66316 | G10: =E10/C10 -> 3143.2507 | H10: =B10/B$55*100 -> 1.2213937 | I10: =C10/C$55*100 -> 1.318738 | J10: =D10/D$55*100 -> 0.94634359
A11: Mandeni | B11: =Data!I283 -> 106 | C11: =Data!J283 -> 8720 | D11: =Data!K283 -> 12028 | E11: =D11*1000 -> 12028000 | F11: =C11/B11 -> 82.264151 | G11: =E11/C11 -> 1379.3578 | H11: =B11/B$55*100 -> 1.3628182 | I11: =C11/C$55*100 -> 0.77265304 | J11: =D11/D$55*100 -> 0.24331717
A12: Umngeni | B12: =Data!I602 -> 88 | C12: =Data!J602 -> 10806 | D12: =Data!K602 -> 36713 | E12: =D12*1000 -> 36713000 | F12: =C12/B12 -> 122.79545 | G12: =E12/C12 -> 3397.4644 | H12: =B12/B$55*100 -> 1.1313962 | I12: =C12/C$55*100 -> 0.95748725 | J12: =D12/D$55*100 -> 0.7426757
A13: Okhahlamba | B13: =Data!I490 -> 39 | C13: =Data!J490 -> 5219 | D13: =Data!K490 -> 15658 | E13: =D13*1000 -> 15658000 | F13: =C13/B13 -> 133.82051 | G13: =E13/C13 -> 3000.1916 | H13: =B13/B$55*100 -> 0.50141425 | I13: =C13/C$55*100 -> 0.46243994 | J13: =D13/D$55*100 -> 0.31674928
A14: Endumeni | B14: =Data!I101 -> 31 | C14: =Data!J101 -> 3492 | D14: =Data!K101 -> 8731 | E14: =D14*1000 -> 8731000 | F14: =C14/B14 -> 112.64516 | G14: =E14/C14 -> 2500.2864 | H14: =B14/B$55*100 -> 0.39856004 | I14: =C14/C$55*100 -> 0.30941565 | J14: =D14/D$55*100 -> 0.1766214
A15: Umtshezi | B15: =Data!I630 -> 20 | C15: =Data!J630 -> 2104 | D15: =Data!K630 -> 4800 | E15: =D15*1000 -> 4800000 | F15: =C15/B15 -> 105.2 | G15: =E15/C15 -> 2281.3688 | H15: =B15/B$55*100 -> 0.25713551 | I15: =C15/C$55*100 -> 0.18642913 | J15: =D15/D$55*100 -> 0.097100302
A16: Umlalazi | B16: =Data!I588 -> 28 | C16: =Data!J588 -> 3518 | D16: =Data!K588 -> 15650 | E16: =D16*1000 -> 15650000 | F16: =C16/B16 -> 125.64286 | G16: =E16/C16 -> 4448.5503 | H16: =B16/B$55*100 -> 0.35998971 | I16: =C16/C$55*100 -> 0.31171943 | J16: =D16/D$55*100 -> 0.31658744
A17: Emnambithi | B17: =Data!I87 -> 44 | C17: =Data!J87 -> 3149 | D17: =Data!K87 -> 13293 | E17: =D17*1000 -> 13293000 | F17: =C17/B17 -> 71.568182 | G17: =E17/C17 -> 4221.3401 | H17: =B17/B$55*100 -> 0.56569812 | I17: =C17/C$55*100 -> 0.27902344 | J17: =D17/D$55*100 -> 0.26890715
A18: Umzimkhulu | B18: =Data!I672 -> 14 | C18: =Data!J672 -> 1080 | D18: =Data!K672 -> 2117 | E18: =D18*1000 -> 2117000 | F18: =C18/B18 -> 77.142857 | G18: =E18/C18 -> 1960.1852 | H18: =B18/B$55*100 -> 0.17999486 | I18: =C18/C$55*100 -> 0.095695561 | J18: =D18/D$55*100 -> 0.042825279
A19: Nongoma | B19: =Data!I448 -> 12 | C19: =Data!J448 -> 902 | D19: =Data!K448 -> 3608 | E19: =D19*1000 -> 3608000 | F19: =C19/B19 -> 75.166667 | G19: =E19/C19 -> 4000 | H19: =B19/B$55*100 -> 0.15428131 | I19: =C19/C$55*100 -> 0.079923514 | J19: =D19/D$55*100 -> 0.07298706
A20: Edumbe | B20: =Data!I59 -> 12 | C20: =Data!J59 -> 706 | D20: =Data!K59 -> 1723 | E20: =D20*1000 -> 1723000 | F20: =C20/B20 -> 58.833333 | G20: =E20/C20 -> 2440.5099 | H20: =B20/B$55*100 -> 0.15428131 | I20: =C20/C$55*100 -> 0.062556542 | J20: =D20/D$55*100 -> 0.034854962
A21: Uphongolo | B21: =Data!I700 -> 10 | C21: =Data!J700 -> 688 | D21: =Data!K700 -> 1720 | E21: =D21*1000 -> 1720000 | F21: =C21/B21 -> 68.8 | G21: =E21/C21 -> 2500 | H21: =B21/B$55*100 -> 0.12856776 | I21: =C21/C$55*100 -> 0.060961616 | J21: =D21/D$55*100 -> 0.034794275
A22: Umvoti | B22: =Data!I658 -> 3 | C22: =Data!J658 -> 360 | D22: =Data!K658 -> 1200 | E22: =D22*1000 -> 1200000 | F22: =C22/B22 -> 120 | G22: =E22/C22 -> 3333.3333 | H22: =B22/B$55*100 -> 0.038570327 | I22: =C22/C$55*100 -> 0.03189852 | J22: =D22/D$55*100 -> 0.024275075
A23: Umshwathi | B23: =Data!I616 -> 0 | C23: =Data!J616 -> 0 | D23: =Data!K616 -> 0 | E23: =D23*1000 -> 0 | F23: =C23/B23 -> #DIV/0! | G23: =E23/C23 -> #DIV/0! | H23: =B23/B$55*100 -> 0 | I23: =C23/C$55*100 -> 0 | J23: =D23/D$55*100 -> 0
A24: AbaQulusi | B24: =Data!I17 -> 0 | C24: =Data!J17 -> 0 | D24: =Data!K17 -> 0 | E24: =D24*1000 -> 0 | F24: =C24/B24 -> #DIV/0! | G24: =E24/C24 -> #DIV/0! | H24: =B24/B$55*100 -> 0 | I24: =C24/C$55*100 -> 0 | J24: =D24/D$55*100 -> 0
A25: Umuziwabantu | B25: =Data!I644 -> 0 | C25: =Data!J644 -> 0 | D25: =Data!K644 -> 0 | E25: =D25*1000 -> 0 | F25: =C25/B25 -> #DIV/0! | G25: =E25/C25 -> #DIV/0! | H25: =B25/B$55*100 -> 0 | I25: =C25/C$55*100 -> 0 | J25: =D25/D$55*100 -> 0
A26: Big 5 False Bay | B26: =Data!I31 -> 0 | C26: =Data!J31 -> 0 | D26: =Data!K31 -> 0 | E26: =D26*1000 -> 0 | F26: =C26/B26 -> #DIV/0! | G26: =E26/C26 -> #DIV/0! | H26: =B26/B$55*100 -> 0 | I26: =C26/C$55*100 -> 0 | J26: =D26/D$55*100 -> 0
A27: Dannhauser | B27: =Data!I45 -> 0 | C27: =Data!J45 -> 0 | D27: =Data!K45 -> 0 | E27: =D27*1000 -> 0 | F27: =C27/B27 -> #DIV/0! | G27: =E27/C27 -> #DIV/0! | H27: =B27/B$55*100 -> 0 | I27: =C27/C$55*100 -> 0 | J27: =D27/D$55*100 -> 0
A28: Emadlangeni | B28: =Data!I73 -> 0 | C28: =Data!J73 -> 0 | D28: =Data!K73 -> 0 | E28: =D28*1000 -> 0 | F28: =C28/B28 -> #DIV/0! | G28: =E28/C28 -> #DIV/0! | H28: =B28/B$55*100 -> 0 | I28: =C28/C$55*100 -> 0 | J28: =D28/D$55*100 -> 0
A29: Ezinqoleni | B29: =Data!I129 -> 0 | C29: =Data!J129 -> 0 | D29: =Data!K129 -> 0 | E29: =D29*1000 -> 0 | F29: =C29/B29 -> #DIV/0! | G29: =E29/C29 -> #DIV/0! | H29: =B29/B$55*100 -> 0 | I29: =C29/C$55*100 -> 0 | J29: =D29/D$55*100 -> 0
A30: Greater Kokstad | B30: =Data!I143 -> 0 | C30: =Data!J143 -> 0 | D30: =Data!K143 -> 0 | E30: =D30*1000 -> 0 | F30: =C30/B30 -> #DIV/0! | G30: =E30/C30 -> #DIV/0! | H30: =B30/B$55*100 -> 0 | I30: =C30/C$55*100 -> 0 | J30: =D30/D$55*100 -> 0
A31: Hlabisa | B31: =Data!I171 -> 0 | C31: =Data!J171 -> 0 | D31: =Data!K171 -> 0 | E31: =D31*1000 -> 0 | F31: =C31/B31 -> #DIV/0! | G31: =E31/C31 -> #DIV/0! | H31: =B31/B$55*100 -> 0 | I31: =C31/C$55*100 -> 0 | J31: =D31/D$55*100 -> 0
A32: Imbabazane | B32: =Data!I185 -> 0 | C32: =Data!J185 -> 0 | D32: =Data!K185 -> 0 | E32: =D32*1000 -> 0 | F32: =C32/B32 -> #DIV/0! | G32: =E32/C32 -> #DIV/0! | H32: =B32/B$55*100 -> 0 | I32: =C32/C$55*100 -> 0 | J32: =D32/D$55*100 -> 0
A33: Impendle | B33: =Data!I199 -> 0 | C33: =Data!J199 -> 0 | D33: =Data!K199 -> 0 | E33: =D33*1000 -> 0 | F33: =C33/B33 -> #DIV/0! | G33: =E33/C33 -> #DIV/0! | H33: =B33/B$55*100 -> 0 | I33: =C33/C$55*100 -> 0 | J33: =D33/D$55*100 -> 0
A34: Indaka | B34: =Data!I213 -> 0 | C34: =Data!J213 -> 0 | D34: =Data!K213 -> 0 | E34: =D34*1000 -> 0 | F34: =C34/B34 -> #DIV/0! | G34: =E34/C34 -> #DIV/0! | H34: =B34/B$55*100 -> 0 | I34: =C34/C$55*100 -> 0 | J34: =D34/D$55*100 -> 0
A35: Ingwe | B35: =Data!I227 -> 0 | C35: =Data!J227 -> 0 | D35: =Data!K227 -> 0 | E35: =D35*1000 -> 0 | F35: =C35/B35 -> #DIV/0! | G35: =E35/C35 -> #DIV/0! | H35: =B35/B$55*100 -> 0 | I35: =C35/C$55*100 -> 0 | J35: =D35/D$55*100 -> 0
A36: Jozini | B36: =Data!I241 -> 0 | C36: =Data!J241 -> 0 | D36: =Data!K241 -> 0 | E36: =D36*1000 -> 0 | F36: =C36/B36 -> #DIV/0! | G36: =E36/C36 -> #DIV/0! | H36: =B36/B$55*100 -> 0 | I36: =C36/C$55*100 -> 0 | J36: =D36/D$55*100 -> 0
A37: KwaSani | B37: =Data!I255 -> 0 | C37: =Data!J255 -> 0 | D37: =Data!K255 -> 0 | E37: =D37*1000 -> 0 | F37: =C37/B37 -> #DIV/0! | G37: =E37/C37 -> #DIV/0! | H37: =B37/B$55*100 -> 0 | I37: =C37/C$55*100 -> 0 | J37: =D37/D$55*100 -> 0
A38: Maphumulo | B38: =Data!I294 -> 0 | C38: =Data!J294 -> 0 | D38: =Data!K294 -> 0 | E38: =D38*1000 -> 0 | F38: =C38/B38 -> #DIV/0! | G38: =E38/C38 -> #DIV/0! | H38: =B38/B$55*100 -> 0 | I38: =C38/C$55*100 -> 0 | J38: =D38/D$55*100 -> 0
A39: Mbonambi | B39: =Data!I308 -> 0 | C39: =Data!J308 -> 0 | D39: =Data!K308 -> 0 | E39: =D39*1000 -> 0 | F39: =C39/B39 -> #DIV/0! | G39: =E39/C39 -> #DIV/0! | H39: =B39/B$55*100 -> 0 | I39: =C39/C$55*100 -> 0 | J39: =D39/D$55*100 -> 0
A40: Mkhambathini | B40: =Data!I322 -> 0 | C40: =Data!J322 -> 0 | D40: =Data!K322 -> 0 | E40: =D40*1000 -> 0 | F40: =C40/B40 -> #DIV/0! | G40: =E40/C40 -> #DIV/0! | H40: =B40/B$55*100 -> 0 | I40: =C40/C$55*100 -> 0 | J40: =D40/D$55*100 -> 0
...

Sheet Townhouses
A1: Townhouses
B2: Number of Building Plans Completed | C2: Square Meters Completed | D2: Total Rand Value | E2: Total Rand Value | F2: Square Meters per Building Plan | G2: Cost per Square Meter | H2: Building Plans As a % of Total | I2: Square Meters As a % of Total | J2: Rand Value As a % of Total
A3: Ethekwini | B3: =Data!L115 -> 6647 | C3: =Data!M115 -> 1267527 | D3: =Data!N115 -> 4389008 | E3: =D3*1000 -> 4389008000 | F3: =C3/B3 -> 190.69159 | G3: =E3/C3 -> 3462.6544 | H3: =B3/B$55*100 -> 51.427466 | I3: =C3/C$55*100 -> 55.005765 | J3: =D3/D$55*100 -> 56.690163
A4: Hibiscus Coast | B4: =Data!L157 -> 2237 | C4: =Data!M157 -> 341025 | D4: =Data!N157 -> 1179882 | E4: =D4*1000 -> 1179882000 | F4: =C4/B4 -> 152.44747 | G4: =E4/C4 -> 3459.8109 | H4: =B4/B$55*100 -> 17.307544 | I4: =C4/C$55*100 -> 14.799165 | J4: =D4/D$55*100 -> 15.239823
A5: KwaDukuza | B5: =Data!L269 -> 1042 | C5: =Data!M269 -> 235992 | D5: =Data!N269 -> 885835 | E5: =D5*1000 -> 885835000 | F5: =C5/B5 -> 226.47985 | G5: =E5/C5 -> 3753.6654 | H5: =B5/B$55*100 -> 8.0618956 | I5: =C5/C$55*100 -> 10.241139 | J5: =D5/D$55*100 -> 11.441795
A6: Umngeni | B6: =Data!L602 -> 1111 | C6: =Data!M602 -> 187059 | D6: =Data!N602 -> 526450 | E6: =D6*1000 -> 526450000 | F6: =C6/B6 -> 168.36994 | G6: =E6/C6 -> 2814.3527 | H6: =B6/B$55*100 -> 8.5957447 | I6: =C6/C$55*100 -> 8.1176365 | J6: =D6/D$55*100 -> 6.7998364
A7: New Castle | B7: =Data!L420 -> 352 | C7: =Data!M420 -> 58418 | D7: =Data!N420 -> 132969 | E7: =D7*1000 -> 132969000 | F7: =C7/B7 -> 165.96023 | G7: =E7/C7 -> 2276.1649 | H7: =B7/B$55*100 -> 2.7234043 | I7: =C7/C$55*100 -> 2.5351151 | J7: =D7/D$55*100 -> 1.7174802
A8: Msunduzi | B8: =Data!L364 -> 285 | C8: =Data!M364 -> 43787 | D8: =Data!N364 -> 103470 | E8: =D8*1000 -> 103470000 | F8: =C8/B8 -> 153.6386 | G8: =E8/C8 -> 2363.0301 | H8: =B8/B$55*100 -> 2.205029 | I8: =C8/C$55*100 -> 1.9001863 | J8: =D8/D$55*100 -> 1.3364594
A9: Umdoni | B9: =Data!L546 -> 172 | C9: =Data!M546 -> 28579 | D9: =Data!N546 -> 98912 | E9: =D9*1000 -> 98912000 | F9: =C9/B9 -> 166.15698 | G9: =E9/C9 -> 3461.0028 | H9: =B9/B$55*100 -> 1.3307544 | I9: =C9/C$55*100 -> 1.240218 | J9: =D9/D$55*100 -> 1.2775865
A10: Okhahlamba | B10: =Data!L490 -> 128 | C10: =Data!M490 -> 18903 | D10: =Data!N490 -> 73144 | E10: =D10*1000 -> 73144000 | F10: =C10/B10 -> 147.67969 | G10: =E10/C10 -> 3869.4387 | H10: =B10/B$55*100 -> 0.99032882 | I10: =C10/C$55*100 -> 0.82031703 | J10: =D10/D$55*100 -> 0.94475683
A11: Nkandla | B11: =Data!L434 -> 78 | C11: =Data!M434 -> 13013 | D11: =Data!N434 -> 28628 | E11: =D11*1000 -> 28628000 | F11: =C11/B11 -> 166.83333 | G11: =E11/C11 -> 2199.9539 | H11: =B11/B$55*100 -> 0.60348162 | I11: =C11/C$55*100 -> 0.56471383 | J11: =D11/D$55*100 -> 0.36977057
A12: Mandeni | B12: =Data!L283 -> 114 | C12: =Data!M283 -> 12600 | D12: =Data!N283 -> 36126 | E12: =D12*1000 -> 36126000 | F12: =C12/B12 -> 110.52632 | G12: =E12/C12 -> 2867.1429 | H12: =B12/B$55*100 -> 0.88201161 | I12: =C12/C$55*100 -> 0.54679123 | J12: =D12/D$55*100 -> 0.4666177
A13: uMhlathuze | B13: =Data!L574 -> 104 | C13: =Data!M574 -> 12580 | D13: =Data!N574 -> 28579 | E13: =D13*1000 -> 28579000 | F13: =C13/B13 -> 120.96154 | G13: =E13/C13 -> 2271.7806 | H13: =B13/B$55*100 -> 0.80464217 | I13: =C13/C$55*100 -> 0.5459233 | J13: =D13/D$55*100 -> 0.36913767
A14: Umlalazi | B14: =Data!L588 -> 127 | C14: =Data!M588 -> 18416 | D14: =Data!N588 -> 73903 | E14: =D14*1000 -> 73903000 | F14: =C14/B14 -> 145.00787 | G14: =E14/C14 -> 4012.9778 | H14: =B14/B$55*100 -> 0.98259188 | I14: =C14/C$55*100 -> 0.79918311 | J14: =D14/D$55*100 -> 0.95456038
A15: Endumeni | B15: =Data!L101 -> 62 | C15: =Data!M101 -> 11548 | D15: =Data!N101 -> 29459 | E15: =D15*1000 -> 29459000 | F15: =C15/B15 -> 186.25806 | G15: =E15/C15 -> 2551.0045 | H15: =B15/B$55*100 -> 0.47969052 | I15: =C15/C$55*100 -> 0.5011385 | J15: =D15/D$55*100 -> 0.3805041
A16: Mthonjaneni | B16: =Data!L378 -> 57 | C16: =Data!M378 -> 6300 | D16: =Data!N378 -> 18063 | E16: =D16*1000 -> 18063000 | F16: =C16/B16 -> 110.52632 | G16: =E16/C16 -> 2867.1429 | H16: =B16/B$55*100 -> 0.4410058 | I16: =C16/C$55*100 -> 0.27339561 | J16: =D16/D$55*100 -> 0.23330885
A17: Ndwedwe | B17: =Data!L406 -> 57 | C17: =Data!M406 -> 6300 | D17: =Data!N406 -> 18063 | E17: =D17*1000 -> 18063000 | F17: =C17/B17 -> 110.52632 | G17: =E17/C17 -> 2867.1429 | H17: =B17/B$55*100 -> 0.4410058 | I17: =C17/C$55*100 -> 0.27339561 | J17: =D17/D$55*100 -> 0.23330885
A18: AbaQulusi | B18: =Data!L17 -> 38 | C18: =Data!M17 -> 5715 | D18: =Data!N17 -> 9812 | E18: =D18*1000 -> 9812000 | F18: =C18/B18 -> 150.39474 | G18: =E18/C18 -> 1716.8854 | H18: =B18/B$55*100 -> 0.29400387 | I18: =C18/C$55*100 -> 0.24800888 | J18: =D18/D$55*100 -> 0.12673567
A19: Mkhambathini | B19: =Data!L322 -> 41 | C19: =Data!M322 -> 7827 | D19: =Data!N322 -> 29080 | E19: =D19*1000 -> 29080000 | F19: =C19/B19 -> 190.90244 | G19: =E19/C19 -> 3715.3443 | H19: =B19/B$55*100 -> 0.3172147 | I19: =C19/C$55*100 -> 0.3396615 | J19: =D19/D$55*100 -> 0.37560878
A20: Umtshezi | B20: =Data!L630 -> 72 | C20: =Data!M630 -> 7469 | D20: =Data!N630 -> 26474 | E20: =D20*1000 -> 26474000 | F20: =C20/B20 -> 103.73611 | G20: =E20/C20 -> 3544.5173 | H20: =B20/B$55*100 -> 0.55705996 | I20: =C20/C$55*100 -> 0.32412569 | J20: =D20/D$55*100 -> 0.34194866
A21: Ezinqoleni | B21: =Data!L129 -> 0 | C21: =Data!M129 -> 0 | D21: =Data!N129 -> 0 | E21: =D21*1000 -> 0 | F21: =C21/B21 -> #DIV/0! | G21: =E21/C21 -> #DIV/0! | H21: =B21/B$55*100 -> 0 | I21: =C21/C$55*100 -> 0 | J21: =D21/D$55*100 -> 0
A22: Umuziwabantu | B22: =Data!L644 -> 28 | C22: =Data!M644 -> 2459 | D22: =Data!N644 -> 3082 | E22: =D22*1000 -> 3082000 | F22: =C22/B22 -> 87.821429 | G22: =E22/C22 -> 1253.355 | H22: =B22/B$55*100 -> 0.21663443 | I22: =C22/C$55*100 -> 0.10671108 | J22: =D22/D$55*100 -> 0.039808331
A23: Emnambithi | B23: =Data!L87 -> 31 | C23: =Data!M87 -> 4336 | D23: =Data!N87 -> 17460 | E23: =D23*1000 -> 17460000 | F23: =C23/B23 -> 139.87097 | G23: =E23/C23 -> 4026.7528 | H23: =B23/B$55*100 -> 0.23984526 | I23: =C23/C$55*100 -> 0.18816562 | J23: =D23/D$55*100 -> 0.22552027
A24: Nongoma | B24: =Data!L448 -> 23 | C24: =Data!M448 -> 2736 | D24: =Data!N448 -> 4515 | E24: =D24*1000 -> 4515000 | F24: =C24/B24 -> 118.95652 | G24: =E24/C24 -> 1650.2193 | H24: =B24/B$55*100 -> 0.17794971 | I24: =C24/C$55*100 -> 0.11873181 | J24: =D24/D$55*100 -> 0.058317526
A25: Edumbe | B25: =Data!L59 -> 24 | C25: =Data!M59 -> 2095 | D25: =Data!N59 -> 6319 | E25: =D25*1000 -> 6319000 | F25: =C25/B25 -> 87.291667 | G25: =E25/C25 -> 3016.2291 | H25: =B25/B$55*100 -> 0.18568665 | I25: =C25/C$55*100 -> 0.09091489 | J25: =D25/D$55*100 -> 0.081618703
A26: Greater Kokstad | B26: =Data!L143 -> 42 | C26: =Data!M143 -> 2623 | D26: =Data!N143 -> 4242 | E26: =D26*1000 -> 4242000 | F26: =C26/B26 -> 62.452381 | G26: =E26/C26 -> 1617.2322 | H26: =B26/B$55*100 -> 0.32495164 | I26: =C26/C$55*100 -> 0.11382805 | J26: =D26/D$55*100 -> 0.05479135
A27: Umzimkhulu | B27: =Data!L672 -> 4 | C27: =Data!M672 -> 480 | D27: =Data!N672 -> 941 | E27: =D27*1000 -> 941000 | F27: =C27/B27 -> 120 | G27: =E27/C27 -> 1960.4167 | H27: =B27/B$55*100 -> 0.030947776 | I27: =C27/C$55*100 -> 0.020830142 | J27: =D27/D$55*100 -> 0.012154328
A28: Umvoti | B28: =Data!L658 -> 3 | C28: =Data!M658 -> 360 | D28: =Data!N658 -> 1200 | E28: =D28*1000 -> 1200000 | F28: =C28/B28 -> 120 | G28: =E28/C28 -> 3333.3333 | H28: =B28/B$55*100 -> 0.023210832 | I28: =C28/C$55*100 -> 0.015622606 | J28: =D28/D$55*100 -> 0.015499675
A29: Umshwathi | B29: =Data!L616 -> 4 | C29: =Data!M616 -> 332 | D29: =Data!N616 -> 704 | E29: =D29*1000 -> 704000 | F29: =C29/B29 -> 83 | G29: =E29/C29 -> 2120.4819 | H29: =B29/B$55*100 -> 0.030947776 | I29: =C29/C$55*100 -> 0.014407515 | J29: =D29/D$55*100 -> 0.0090931425
A30: KwaSani | B30: =Data!L255 -> 2 | C30: =Data!M255 -> 300 | D30: =Data!N255 -> 1350 | E30: =D30*1000 -> 1350000 | F30: =C30/B30 -> 150 | G30: =E30/C30 -> 4500 | H30: =B30/B$55*100 -> 0.015473888 | I30: =C30/C$55*100 -> 0.013018839 | J30: =D30/D$55*100 -> 0.017437134
A31: Mtubatuba | B31: =Data!L392 -> 7 | C31: =Data!M392 -> 1203 | D31: =Data!N392 -> 3818 | E31: =D31*1000 -> 3818000 | F31: =C31/B31 -> 171.85714 | G31: =E31/C31 -> 3173.7323 | H31: =B31/B$55*100 -> 0.054158607 | I31: =C31/C$55*100 -> 0.052205543 | J31: =D31/D$55*100 -> 0.049314798
A32: Big 5 False Bay | B32: =Data!L31 -> 0 | C32: =Data!M31 -> 0 | D32: =Data!N31 -> 0 | E32: =D32*1000 -> 0 | F32: =C32/B32 -> #DIV/0! | G32: =E32/C32 -> #DIV/0! | H32: =B32/B$55*100 -> 0 | I32: =C32/C$55*100 -> 0 | J32: =D32/D$55*100 -> 0
A33: Dannhauser | B33: =Data!L45 -> 0 | C33: =Data!M45 -> 0 | D33: =Data!N45 -> 0 | E33: =D33*1000 -> 0 | F33: =C33/B33 -> #DIV/0! | G33: =E33/C33 -> #DIV/0! | H33: =B33/B$55*100 -> 0 | I33: =C33/C$55*100 -> 0 | J33: =D33/D$55*100 -> 0
A34: Emadlangeni | B34: =Data!L73 -> 0 | C34: =Data!M73 -> 0 | D34: =Data!N73 -> 0 | E34: =D34*1000 -> 0 | F34: =C34/B34 -> #DIV/0! | G34: =E34/C34 -> #DIV/0! | H34: =B34/B$55*100 -> 0 | I34: =C34/C$55*100 -> 0 | J34: =D34/D$55*100 -> 0
A35: Hlabisa | B35: =Data!L171 -> 0 | C35: =Data!M171 -> 0 | D35: =Data!N171 -> 0 | E35: =D35*1000 -> 0 | F35: =C35/B35 -> #DIV/0! | G35: =E35/C35 -> #DIV/0! | H35: =B35/B$55*100 -> 0 | I35: =C35/C$55*100 -> 0 | J35: =D35/D$55*100 -> 0
A36: Imbabazane | B36: =Data!L185 -> 0 | C36: =Data!M185 -> 0 | D36: =Data!N185 -> 0 | E36: =D36*1000 -> 0 | F36: =C36/B36 -> #DIV/0! | G36: =E36/C36 -> #DIV/0! | H36: =B36/B$55*100 -> 0 | I36: =C36/C$55*100 -> 0 | J36: =D36/D$55*100 -> 0
A37: Impendle | B37: =Data!L199 -> 0 | C37: =Data!M199 -> 0 | D37: =Data!N199 -> 0 | E37: =D37*1000 -> 0 | F37: =C37/B37 -> #DIV/0! | G37: =E37/C37 -> #DIV/0! | H37: =B37/B$55*100 -> 0 | I37: =C37/C$55*100 -> 0 | J37: =D37/D$55*100 -> 0
A38: Indaka | B38: =Data!L213 -> 0 | C38: =Data!M213 -> 0 | D38: =Data!N213 -> 0 | E38: =D38*1000 -> 0 | F38: =C38/B38 -> #DIV/0! | G38: =E38/C38 -> #DIV/0! | H38: =B38/B$55*100 -> 0 | I38: =C38/C$55*100 -> 0 | J38: =D38/D$55*100 -> 0
A39: Ingwe | B39: =Data!L227 -> 0 | C39: =Data!M227 -> 0 | D39: =Data!N227 -> 0 | E39: =D39*1000 -> 0 | F39: =C39/B39 -> #DIV/0! | G39: =E39/C39 -> #DIV/0! | H39: =B39/B$55*100 -> 0 | I39: =C39/C$55*100 -> 0 | J39: =D39/D$55*100 -> 0
A40: Jozini | B40: =Data!L241 -> 33 | C40: =Data!M241 -> 4371 | D40: =Data!N241 -> 10610 | E40: =D40*1000 -> 10610000 | F40: =C40/B40 -> 132.45455 | G40: =E40/C40 -> 2427.3622 | H40: =B40/B$55*100 -> 0.25531915 | I40: =C40/C$55*100 -> 0.18968448 | J40: =D40/D$55*100 -> 0.13704296
...

Sheet Other
A1: Other residential buildings
B2: Number of Building Plans Completed | C2: Square Meters Completed | D2: Total Rand Value | E2: Total Rand Value | F2: Square Meters per Building Plan | G2: Cost per Square Meter | H2: Building Plans As a % of Total | I2: Square Meters As a % of Total | J2: Rand Value As a % of Total
A3: Ethekwini | B3: =Data!O115 -> 171 | C3: =Data!P115 -> 261610 | D3: =Data!Q115 -> 1872552 | E3: =D3*1000 -> 1872552000 | F3: =C3/B3 -> 1529.883 | G3: =E3/C3 -> 7157.7998 | H3: =B3/B$55*100 -> 32.20339 | I3: =C3/C$55*100 -> 67.823283 | J3: =D3/D$55*100 -> 83.327081
A4: KwaDukuza | B4: =Data!O269 -> 68 | C4: =Data!P269 -> 26546 | D4: =Data!Q269 -> 88325 | E4: =D4*1000 -> 88325000 | F4: =C4/B4 -> 390.38235 | G4: =E4/C4 -> 3327.2433 | H4: =B4/B$55*100 -> 12.806026 | I4: =C4/C$55*100 -> 6.8821408 | J4: =D4/D$55*100 -> 3.9303926
A5: Msunduzi | B5: =Data!O364 -> 4 | C5: =Data!P364 -> 17986 | D5: =Data!Q364 -> 80220 | E5: =D5*1000 -> 80220000 | F5: =C5/B5 -> 4496.5 | G5: =E5/C5 -> 4460.1357 | H5: =B5/B$55*100 -> 0.75329567 | I5: =C5/C$55*100 -> 4.6629317 | J5: =D5/D$55*100 -> 3.5697265
A6: New Castle | B6: =Data!O420 -> 4 | C6: =Data!P420 -> 12137 | D6: =Data!Q420 -> 26131 | E6: =D6*1000 -> 26131000 | F6: =C6/B6 -> 3034.25 | G6: =E6/C6 -> 2153.0032 | H6: =B6/B$55*100 -> 0.75329567 | I6: =C6/C$55*100 -> 3.1465585 | J6: =D6/D$55*100 -> 1.1628088
A7: AbaQulusi | B7: =Data!O17 -> 54 | C7: =Data!P17 -> 8216 | D7: =Data!Q17 -> 8216 | E7: =D7*1000 -> 8216000 | F7: =C7/B7 -> 152.14815 | G7: =E7/C7 -> 1000 | H7: =B7/B$55*100 -> 10.169492 | I7: =C7/C$55*100 -> 2.130026 | J7: =D7/D$55*100 -> 0.36560549
A8: Umdoni | B8: =Data!O546 -> 34 | C8: =Data!P546 -> 7949 | D8: =Data!Q546 -> 15495 | E8: =D8*1000 -> 15495000 | F8: =C8/B8 -> 233.79412 | G8: =E8/C8 -> 1949.3018 | H8: =B8/B$55*100 -> 6.4030132 | I8: =C8/C$55*100 -> 2.0608053 | J8: =D8/D$55*100 -> 0.68951523
A9: Nquthu | B9: =Data!O462 -> 5 | C9: =Data!P462 -> 5982 | D9: =Data!Q462 -> 20560 | E9: =D9*1000 -> 20560000 | F9: =C9/B9 -> 1196.4 | G9: =E9/C9 -> 3436.9776 | H9: =B9/B$55*100 -> 0.94161959 | I9: =C9/C$55*100 -> 1.5508539 | J9: =D9/D$55*100 -> 0.91490372
A10: Big 5 False Bay | B10: =Data!O31 -> 11 | C10: =Data!P31 -> 4671 | D10: =Data!Q31 -> 10929 | E10: =D10*1000 -> 10929000 | F10: =C10/B10 -> 424.63636 | G10: =E10/C10 -> 2339.7559 | H10: =B10/B$55*100 -> 2.0715631 | I10: =C10/C$55*100 -> 1.2109726 | J10: =D10/D$55*100 -> 0.48633185
A11: Umlalazi | B11: =Data!O588 -> 20 | C11: =Data!P588 -> 3720 | D11: =Data!Q588 -> 12960 | E11: =D11*1000 -> 12960000 | F11: =C11/B11 -> 186 | G11: =E11/C11 -> 3483.871 | H11: =B11/B$55*100 -> 3.7664783 | I11: =C11/C$55*100 -> 0.96442266 | J11: =D11/D$55*100 -> 0.57670974
A12: KwaSani | B12: =Data!O255 -> 86 | C12: =Data!P255 -> 13853 | D12: =Data!Q255 -> 59632 | E12: =D12*1000 -> 59632000 | F12: =C12/B12 -> 161.0814 | G12: =E12/C12 -> 4304.6272 | H12: =B12/B$55*100 -> 16.195857 | I12: =C12/C$55*100 -> 3.5914374 | J12: =D12/D$55*100 -> 2.6535768
A13: Umzimkhulu | B13: =Data!O672 -> 3 | C13: =Data!P672 -> 3010 | D13: =Data!Q672 -> 6727 | E13: =D13*1000 -> 6727000 | F13: =C13/B13 -> 1003.3333 | G13: =E13/C13 -> 2234.8837 | H13: =B13/B$55*100 -> 0.56497175 | I13: =C13/C$55*100 -> 0.78035274 | J13: =D13/D$55*100 -> 0.29934617
A14: Mtubatuba | B14: =Data!O392 -> 1 | C14: =Data!P392 -> 2890 | D14: =Data!Q392 -> 3468 | E14: =D14*1000 -> 3468000 | F14: =C14/B14 -> 2890 | G14: =E14/C14 -> 1200 | H14: =B14/B$55*100 -> 0.18832392 | I14: =C14/C$55*100 -> 0.74924233 | J14: =D14/D$55*100 -> 0.15432325
