Workbook

Sheet Introduction
A1: SPATIAL DISTRIBUTION OF SPACE EXPANSION IN KWAZULU-NATAL (2001 to 2010)
D3: Building Plans Reported as Completed
D5: Dwellings less than 80m² | G5: Total Provincial Space Expansion
D7: Dwellings equal and more than 80m² | G7: Urban vs. Rural Space Expansion
D9: Flats | G9: Rank Structure and Rank Correlation
D11: Townhouses | G11: To Navigate this Spreadsheet
D13: Other residential buildings | G13: Click on the Links to view Statistics
D15: Schools, nursery schools, crèches, hospitals | G15: Click on Red Arrow to view Introduction page
D17: Churches, Sport and Recreaction
D19: Office & Banking Space | G19: To view Actual Data click HERE
D21: Shopping Space
D23: Industrial & Warehouse Space

Sheet Data
A1: Building Plans Reported as Completed | C1: Dwellings less than 80m² | F1: Dwellings equal and more than 80m² | I1: Flats | L1: Townhouses | O1: Other residential buildings | R1: Schools, nursery schools, crèches, hospitals | U1: Churches, Sport and Recreaction | X1: Office & Banking Space | AA1: Shopping Space | AD1: Industrial & Warehouse Space | AG1: Additions and alterations
C2: Number | D2: Square metres | E2: R'000 | F2: Number | G2: Square metres | H2: R'000 | I2: Number | J2: Square metres | K2: R'000 | L2: Number | M2: Square metres | N2: R'000 | O2: Number | P2: Square metres | Q2: R'000 | R2: Number | S2: Square metres | T2: R'000 | U2: Number | V2: Square metres | W2: R'000 | X2: Number | Y2: Square metres | Z2: R'000 | AA2: Number | AB2: Square metres | AC2: R'000 | AD2: Number | AE2: Square metres | AF2: R'000 | AG2: Number | AH2: Square metres | AI2: R'000
A5: AbaQulusi | B5: 2001 | C5: 197 | D5: 5031 | E5: 3337 | F5: 18 | G5: 3030 | H5: 3181 | I5: 0 | J5: 0 | K5: 0 | L5: 16 | M5: 3143 | N5: 3300 | O5: 54 | P5: 8216 | Q5: 8216 | R5: 0 | S5: 0 | T5: 0 | U5: 1 | V5: 156 | W5: 140 | X5: 0 | Y5: 0 | Z5: 0 | AA5: 1 | AB5: 273 | AC5: 290 | AD5: 3 | AE5: 3861 | AF5: 3250 | AG5: 0 | AH5: 0 | AI5: 0
B6: 2002 | C6: 8 | D6: 444 | E6: 545 | F6: 13 | G6: 2738 | H6: 3085 | I6: 0 | J6: 0 | K6: 0 | L6: 0 | M6: 0 | N6: 0 | O6: 0 | P6: 0 | Q6: 0 | R6: 0 | S6: 0 | T6: 0 | U6: 0 | V6: 0 | W6: 0 | X6: 0 | Y6: 0 | Z6: 0 | AA6: 0 | AB6: 0 | AC6: 0 | AD6: 0 | AE6: 0 | AF6: 0 | AG6: 44 | AH6: 4723 | AI6: 5650
B7: 2003 | C7: 3 | D7: 157 | E7: 175 | F7: 16 | G7: 2500 | H7: 2541 | I7: 0 | J7: 0 | K7: 0 | L7: 0 | M7: 0 | N7: 0 | O7: 0 | P7: 0 | Q7: 0 | R7: 0 | S7: 0 | T7: 0 | U7: 0 | V7: 0 | W7: 0 | X7: 0 | Y7: 0 | Z7: 0 | AA7: 0 | AB7: 0 | AC7: 0 | AD7: 1 | AE7: 0 | AF7: 0 | AG7: 29 | AH7: 2577 | AI7: 2668
B8: 2004 | C8: 977 | D8: 29430 | E8: 13902 | F8: 18 | G8: 2618 | H8: 5637 | I8: 0 | J8: 0 | K8: 0 | L8: 0 | M8: 0 | N8: 0 | O8: 0 | P8: 0 | Q8: 0 | R8: 0 | S8: 0 | T8: 0 | U8: 0 | V8: 0 | W8: 0 | X8: 0 | Y8: 0 | Z8: 0 | AA8: 2 | AB8: 635 | AC8: 1270 | AD8: 3 | AE8: 520 | AF8: 936 | AG8: 26 | AH8: 2919 | AI8: 9970
B9: 2005 | C9: 491 | D9: 14797 | E9: 6962 | F9: 5 | G9: 907 | H9: 2086 | I9: 0 | J9: 0 | K9: 0 | L9: 0 | M9: 0 | N9: 0 | O9: 0 | P9: 0 | Q9: 0 | R9: 0 | S9: 0 | T9: 0 | U9: 0 | V9: 0 | W9: 0 | X9: 1 | Y9: 699 | Z9: 200 | AA9: 1 | AB9: 3748 | AC9: 8000 | AD9: 0 | AE9: 0 | AF9: 0 | AG9: 0 | AH9: 0 | AI9: 0
B10: 2006 | C10: 3 | D10: 163 | E10: 387 | F10: 9 | G10: 1702 | H10: 4258 | I10: 0 | J10: 0 | K10: 0 | L10: 5 | M10: 344 | N10: 817 | O10: 0 | P10: 0 | Q10: 0 | R10: 0 | S10: 0 | T10: 0 | U10: 0 | V10: 0 | W10: 0 | X10: 0 | Y10: 0 | Z10: 0 | AA10: 2 | AB10: 687 | AC10: 1580 | AD10: 0 | AE10: 0 | AF10: 0
B11: 2007 | C11: 0 | D11: 0 | E11: 0 | F11: 0 | G11: 0 | H11: 0 | I11: 0 | J11: 0 | K11: 0 | L11: 17 | M11: 2228 | N11: 5695 | O11: 0 | P11: 0 | Q11: 0 | R11: 0 | S11: 0 | T11: 0 | U11: 0 | V11: 0 | W11: 0 | X11: 0 | Y11: 0 | Z11: 0 | AA11: 1 | AB11: 773 | AC11: 1800 | AD11: 1 | AE11: 356 | AF11: 680 | AG11: 26 | AH11: 2 438 | AI11: 5190
B12: 2008 | C12: 66 | D12: 2640 | E12: 2640 | F12: 7 | G12: 1892 | H12: 5862 | I12: 0 | J12: 0 | K12: 0 | L12: 0 | M12: 0 | N12: 0 | O12: 0 | P12: 0 | Q12: 0 | R12: 0 | S12: 0 | T12: 0 | U12: 0 | V12: 0 | W12: 0 | X12: 0 | Y12: 0 | Z12: 0 | AA12: 1 | AB12: 285 | AC12: 1000 | AD12: 0 | AE12: 0 | AF12: 0
B13: 2009 | C13: 1078 | D13: 43120 | E13: 47344 | F13: 12 | G13: 3276 | H13: 8000 | I13: 0 | J13: 0 | K13: 0 | L13: 0 | M13: 0 | O13: 0 | P13: 0 | Q13: 0 | R13: 0 | S13: 0 | T13: 0 | U13: 0 | V13: 0 | W13: 0 | X13: 1 | Y13: 927 | Z13: 3000 | AA13: 0 | AB13: 0 | AC13: 0 | AD13: 1 | AE13: 280 | AF13: 900
B14: 2010 | C14: 0 | D14: 0 | E14: 0 | F14: 10 | G14: 1785 | H14: 8500 | I14: 0 | J14: 0 | K14: 0 | L14: 0 | M14: 0 | N14: 0 | O14: 0 | P14: 0 | Q14: 0 | R14: 0 | S14: 0 | T14: 0 | U14: 1 | V14: 595 | W14: 1400 | X14: 0 | Y14: 0 | Z14: 0 | AA14: 2 | AB14: 2168 | AC14: 9000 | AD14: 0 | AE14: 0 | AF14: 0 | AG14: 26 | AH14: 2 438 | AI14: 5190
B16: Average | C16: =AVERAGE(C5:C14) -> 282.3 | D16: =AVERAGE(D5:D14) -> 9578.2 | E16: =AVERAGE(E5:E14) -> 7529.2 | F16: =AVERAGE(F5:F14) -> 10.8 | G16: =AVERAGE(G5:G14) -> 2044.8 | H16: =AVERAGE(H5:H14) -> 4315 | I16: =AVERAGE(I5:I14) -> 0 | J16: =AVERAGE(J5:J14) -> 0 | ... AI16: =AVERAGE(AI5:AI14) -> 4095.4286
B17: Total | C17: =SUM(C5:C14) -> 2823 | D17: =SUM(D5:D14) -> 95782 | E17: =SUM(E5:E14) -> 75292 | F17: =SUM(F5:F14) -> 108 | G17: =SUM(G5:G14) -> 20448 | H17: =SUM(H5:H14) -> 43150 | I17: =SUM(I5:I14) -> 0 | J17: =SUM(J5:J14) -> 0 | ... AI17: =SUM(AI5:AI14) -> 28668
A19: Big 5 False Bay | B19: 2001 | C19: 550 | D19: 16500 | E19: 10120 | F19: 2 | G19: 404 | H19: 650 | I19: 0 | J19: 0 | K19: 0 | L19: 0 | M19: 0 | N19: 0 | O19: 0 | P19: 0 | Q19: 0 | R19: 0 | S19: 0 | T19: 0 | U19: 0 | V19: 0 | W19: 0 | X19: 0 | Y19: 0 | Z19: 0 | AA19: 0 | AB19: 0 | AC19: 0 | AD19: 0 | AE19: 0 | AF19: 0 | AG19: 0 | AH19: 0 | AI19: 0
B20: 2002 | C20: 0 | D20: 0 | E20: 0 | F20: 0 | G20: 0 | H20: 0 | I20: 0 | J20: 0 | K20: 0 | L20: 0 | M20: 0 | N20: 0 | O20: 1 | P20: 1226 | Q20: 1594 | R20: 0 | S20: 0 | T20: 0 | U20: 0 | V20: 0 | W20: 0 | X20: 0 | Y20: 0 | Z20: 0 | AA20: 0 | AB20: 0 | AC20: 0 | AD20: 4 | AE20: 124 | AF20: 156 | AG20: 44 | AH20: 4723 | AI20: 5650
B21: 2003 | C21: 0 | D21: 0 | E21: 0 | F21: 0 | G21: 0 | H21: 0 | I21: 0 | J21: 0 | K21: 0 | L21: 0 | M21: 0 | N21: 0 | O21: 0 | P21: 0 | Q21: 0 | R21: 0 | S21: 0 | T21: 0 | U21: 0 | V21: 0 | W21: 0 | X21: 0 | Y21: 0 | Z21: 0 | AA21: 3 | AB21: 1097 | AC21: 1 305 | AD21: 0 | AE21: 0 | AF21: 0 | AG21: 3 | AH21: 143 | AI21: 405
B22: 2004 | C22: 4 | D22: 280 | E22: 504 | F22: 13 | G22: 2730 | H22: 5187 | I22: 0 | J22: 0 | K22: 0 | L22: 0 | M22: 0 | N22: 0 | O22: 2 | P22: 1650 | Q22: 2700 | R22: 0 | S22: 0 | T22: 0 | U22: 0 | V22: 0 | W22: 0 | X22: 1 | Y22: 340 | Z22: 680 | AA22: 2 | AB22: 635 | AC22: 1270 | AD22: 3 | AE22: 520 | AF22: 936 | AG22: 6 | AH22: 495 | AI22: 929
B23: 2005 | C23: 0 | D23: 0 | E23: 0 | F23: 7 | G23: 813 | H23: 2280 | I23: 0 | J23: 0 | K23: 0 | L23: 0 | M23: 0 | N23: 0 | O23: 4 | P23: 865 | Q23: 3380 | R23: 0 | S23: 0 | T23: 0 | U23: 0 | V23: 0 | W23: 0 | X23: 3 | Y23: 285 | Z23: 855 | AA23: 3 | AB23: 6246 | AC23: 18740 | AD23: 0 | AE23: 0 | AF23: 0 | AG23: 0 | AH23: 0 | AI23: 0
B24: 2006 | C24: 0 | D24: 0 | E24: 0 | F24: 7 | G24: 1489 | H24: 5940 | I24: 0 | J24: 0 | K24: 0 | L24: 0 | M24: 0 | N24: 0 | O24: 4 | P24: 930 | Q24: 3255 | R24: 0 | S24: 0 | T24: 0 | U24: 0 | V24: 0 | W24: 0 | X24: 0 | Y24: 0 | Z24: 0 | AA24: 0 | AB24: 0 | AC24: 0 | AD24: 1 | AE24: 970 | AF24: 2910
B25: 2007 | C25: 0 | D25: 0 | E25: 0 | F25: 3 | G25: 280 | H25: 776 | I25: 0 | J25: 0 | K25: 0 | L25: 0 | M25: 0 | N25: 0 | O25: 0 | P25: 0 | Q25: 0 | R25: 0 | S25: 0 | T25: 0 | U25: 0 | V25: 0 | W25: 0 | X25: 0 | Y25: 0 | Z25: 0 | AA25: 1 | AB25: 1299 | AC25: 3600 | AD25: 0 | AE25: 0 | AF25: 0 | AG25: 3 | AH25: 250 | AI25: 1069
B26: 2008 | C26: 3500 | D26: 147000 | E26: 153615 | F26: 2 | G26: 603 | H26: 1812 | I26: 0 | J26: 0 | K26: 0 | L26: 0 | M26: 0 | N26: 0 | O26: 0 | P26: 0 | Q26: 0 | R26: 0 | S26: 0 | T26: 0 | U26: 0 | V26: 0 | W26: 0 | X26: 0 | Y26: 0 | Z26: 0 | AA26: 1 | AB26: 1299 | AC26: 4287 | AD26: 0 | AE26: 0 | AF26: 0
B27: 2009 | C27: 2400 | D27: 96000 | E27: 148800 | F27: 1 | G27: 181 | H27: 634 | I27: 0 | J27: 0 | K27: 0 | L27: 0 | M27: 0 | N27: 0 | O27: 0 | P27: 0 | Q27: 0 | R27: 0 | S27: 0 | T27: 0 | U27: 0 | V27: 0 | W27: 0 | X27: 0 | Y27: 0 | Z27: 0 | AA27: 0 | AB27: 0 | AC27: 0 | AD27: 0 | AE27: 0 | AF27: 0
B28: 2010 | C28: 100 | D28: 4000 | E28: 6200 | F28: 0 | G28: 0 | H28: 0 | I28: 0 | J28: 0 | K28: 0 | L28: 0 | M28: 0 | N28: 0 | O28: 0 | P28: 0 | Q28: 0 | R28: 0 | S28: 0 | T28: 0 | U28: 0 | V28: 0 | W28: 0 | X28: 0 | Y28: 0 | Z28: 0 | AA28: 0 | AB28: 0 | AC28: 0 | AD28: 0 | AE28: 0 | AF28: 0 | AG28: 3 | AH28: 250 | AI28: 1069
B30: Average | C30: =AVERAGE(C19:C28) -> 655.4 | D30: =AVERAGE(D19:D28) -> 26378 | E30: =AVERAGE(E19:E28) -> 31923.9 | F30: =AVERAGE(F19:F28) -> 3.5 | G30: =AVERAGE(G19:G28) -> 650 | H30: =AVERAGE(H19:H28) -> 1727.9 | I30: =AVERAGE(I19:I28) -> 0 | J30: =AVERAGE(J19:J28) -> 0 | ... AI30: =AVERAGE(AI19:AI28) -> 1303.1429
B31: Total | C31: =SUM(C19:C28) -> 6554 | D31: =SUM(D19:D28) -> 263780 | E31: =SUM(E19:E28) -> 319239 | F31: =SUM(F19:F28) -> 35 | G31: =SUM(G19:G28) -> 6500 | H31: =SUM(H19:H28) -> 17279 | I31: =SUM(I19:I28) -> 0 | J31: =SUM(J19:J28) -> 0 | ... AI31: =SUM(AI19:AI28) -> 9122
A33: Dannhauser | B33: 2001 | C33: 2 | D33: 84 | E33: 23 | F33: 0 | G33: 0 | H33: 0 | I33: 0 | J33: 0 | K33: 0 | L33: 0 | M33: 0 | N33: 0 | O33: 0 | P33: 0 | Q33: 0 | R33: 0 | S33: 0 | T33: 0 | U33: 0 | V33: 0 | W33: 0 | X33: 0 | Y33: 0 | Z33: 0 | AA33: 1 | AB33: 646 | AC33: 900 | AD33: 0 | AE33: 0 | AF33: 0 | AG33: 0 | AH33: 0 | AI33: 0
B34: 2002 | C34: 0 | D34: 0 | E34: 0 | F34: 0 | G34: 0 | H34: 0 | I34: 0 | J34: 0 | K34: 0 | L34: 0 | M34: 0 | N34: 0 | O34: 0 | P34: 0 | Q34: 0 | R34: 0 | S34: 0 | T34: 0 | U34: 0 | V34: 0 | W34: 0 | X34: 0 | Y34: 0 | Z34: 0 | AA34: 0 | AB34: 0 | AC34: 0 | AD34: 0 | AE34: 0 | AF34: 0 | AG34: 0 | AH34: 0 | AI34: 0
B35: 2003 | C35: 20 | D35: 600 | E35: 148 | F35: 0 | G35: 0 | H35: 0 | I35: 0 | J35: 0 | K35: 0 | L35: 0 | M35: 0 | N35: 0 | O35: 0 | P35: 0 | Q35: 0 | R35: 0 | S35: 0 | T35: 0 | U35: 0 | V35: 0 | W35: 0 | X35: 0 | Y35: 0 | Z35: 0 | AA35: 0 | AB35: 0 | AC35: 0 | AD35: 0 | AE35: 0 | AF35: 0 | AG35: 3 | AH35: 100 | AI35: 200
B36: 2004 | C36: 50 | D36: 1740 | E36: 452 | F36: 2 | G36: 240 | H36: 480 | I36: 0 | J36: 0 | K36: 0 | L36: 0 | M36: 0 | N36: 0 | O36: 0 | P36: 0 | Q36: 0 | R36: 0 | S36: 0 | T36: 0 | U36: 0 | V36: 0 | W36: 0 | X36: 0 | Y36: 0 | Z36: 0 | AA36: 1 | AB36: 553 | AC36: 995 | AD36: 0 | AE36: 0 | AF36: 0 | AG36: 54 | AH36: 2817 | AI36: 4429
B37: 2005 | C37: 499 | D37: 18962 | E37: 10653 | F37: 1 | G37: 165 | H37: 462 | I37: 0 | J37: 0 | K37: 0 | L37: 0 | M37: 0 | N37: 0 | O37: 0 | P37: 0 | Q37: 0 | R37: 0 | S37: 0 | T37: 0 | U37: 0 | V37: 0 | W37: 0 | X37: 0 | Y37: 0 | Z37: 0 | AA37: 0 | AB37: 0 | AC37: 0 | AD37: 0 | AE37: 0 | AF37: 0 | AG37: 0 | AH37: 0 | AI37: 0
B38: 2006 | C38: 157 | D38: 5966 | E38: 3352 | F38: 0 | G38: 0 | H38: 0 | I38: 0 | J38: 0 | K38: 0 | L38: 0 | M38: 0 | N38: 0 | O38: 0 | P38: 0 | Q38: 0 | R38: 0 | S38: 0 | T38: 0 | U38: 0 | V38: 0 | W38: 0 | X38: 0 | Y38: 0 | Z38: 0 | AA38: 0 | AB38: 0 | AC38: 0 | AD38: 0 | AE38: 0 | AF38: 0
B39: 2007 | C39: 89 | D39: 3724 | E39: 2325 | F39: 0 | G39: 0 | H39: 0 | I39: 0 | J39: 0 | K39: 0 | L39: 0 | M39: 0 | N39: 0 | O39: 0 | P39: 0 | Q39: 0 | R39: 0 | S39: 0 | T39: 0 | U39: 0 | V39: 0 | W39: 0 | X39: 0 | Y39: 0 | Z39: 0 | AA39: 0 | AB39: 0 | AC39: 0 | AD39: 0 | AE39: 0 | AF39: 0 | AG39: 3 | AH39: 367 | AI39: 840
B40: 2008 | C40: 44 | D40: 1672 | E40: 1760 | F40: 0 | G40: 0 | H40: 0 | I40: 0 | J40: 0 | K40: 0 | L40: 0 | M40: 0 | N40: 0 | O40: 0 | P40: 0 | Q40: 0 | R40: 0 | S40: 0 | T40: 0 | U40: 0 | V40: 0 | W40: 0 | X40: 0 | Y40: 0 | Z40: 0 | AA40: 0 | AB40: 0 | AC40: 0 | AD40: 2 | AE40: 1600 | AF40: 4800
B41: 2009 | C41: 0 | D41: 0 | E41: 0 | F41: 0 | G41: 0 | H41: 0 | I41: 0 | J41: 0 | K41: 0 | L41: 0 | M41: 0 | N41: 0 | O41: 0 | P41: 0 | Q41: 0 | R41: 1 | S41: 230 | T41: 690 | U41: 0 | V41: 0 | W41: 0 | X41: 0 | Y41: 0 | Z41: 0 | AA41: 0 | AB41: 0 | AC41: 0 | AD41: 1 | AE41: 324 | AF41: 972
B42: 2010 | C42: 0 | D42: 0 | E42: 0 | F42: 0 | G42: 0 | H42: 0 | I42: 0 | J42: 0 | K42: 0 | L42: 0 | M42: 0 | N42: 0 | O42: 0 | P42: 0 | Q42: 0 | R42: 0 | S42: 0 | T42: 0 | U42: 0 | V42: 0 | W42: 0 | X42: 0 | Y42: 0 | Z42: 0 | AA42: 0 | AB42: 0 | AC42: 0 | AD42: 0 | AE42: 0 | AF42: 0 | AG42: 3 | AH42: 367 | AI42: 840
B44: Average | C44: =AVERAGE(C33:C42) -> 86.1 | D44: =AVERAGE(D33:D42) -> 3274.8 | E44: =AVERAGE(E33:E42) -> 1871.3 | F44: =AVERAGE(F33:F42) -> 0.3 | G44: =AVERAGE(G33:G42) -> 40.5 | H44: =AVERAGE(H33:H42) -> 94.2 | I44: =AVERAGE(I33:I42) -> 0 | J44: =AVERAGE(J33:J42) -> 0 | ... AI44: =AVERAGE(AI33:AI42) -> 901.28571
B45: Total | C45: =SUM(C33:C42) -> 861 | D45: =SUM(D33:D42) -> 32748 | E45: =SUM(E33:E42) -> 18713 | F45: =SUM(F33:F42) -> 3 | G45: =SUM(G33:G42) -> 405 | H45: =SUM(H33:H42) -> 942 | I45: =SUM(I33:I42) -> 0 | J45: =SUM(J33:J42) -> 0 | ... AI45: =SUM(AI33:AI42) -> 6309
A47: Edumbe | B47: 2001 | C47: 247 | D47: 5928 | E47: 1976 | F47: 10 | G47: 1253 | H47: 1195 | I47: 0 | J47: 0 | K47: 0 | L47: 0 | M47: 0 | N47: 0 | O47: 0 | P47: 0 | Q47: 0 | R47: 0 | S47: 0 | T47: 0 | U47: 0 | V47: 0 | W47: 0 | X47: 0 | Y47: 0 | Z47: 0 | AA47: 0 | AB47: 0 | AC47: 0 | AD47: 0 | AE47: 0 | AF47: 0 | AG47: 4 | AH47: 124 | AI47: 156
B48: 2002 | C48: 0 | D48: 0 | E48: 0 | F48: 5 | G48: 840 | H48: 900 | I48: 0 | J48: 0 | K48: 0 | L48: 0 | M48: 0 | N48: 0 | O48: 0 | P48: 0 | Q48: 0 | R48: 0 | S48: 0 | T48: 0 | U48: 0 | V48: 0 | W48: 0 | X48: 0 | Y48: 0 | Z48: 0 | AA48: 0 | AB48: 0 | AC48: 0 | AD48: 0 | AE48: 0 | AF48: 0 | AG48: 0 | AH48: 0 | AI48: 0
B49: 2003 | C49: 3 | D49: 180 | E49: 300 | F49: 5 | G49: 1120 | H49: 2016 | I49: 0 | J49: 0 | K49: 0 | L49: 0 | M49: 0 | N49: 0 | O49: 0 | P49: 0 | Q49: 0 | R49: 0 | S49: 0 | T49: 0 | U49: 0 | V49: 0 | W49: 0 | X49: 0 | Y49: 0 | Z49: 0 | AA49: 1 | AB49: 553 | AC49: 995 | AD49: 0 | AE49: 0 | AF49: 0 | AG49: 3 | AH49: 149 | AI49: 224
B50: 2004 | C50: 1 | D50: 60 | E50: 120 | F50: 1 | G50: 322 | H50: 460 | I50: 0 | J50: 0 | K50: 0 | L50: 0 | M50: 0 | N50: 0 | O50: 0 | P50: 0 | Q50: 0 | R50: 0 | S50: 0 | T50: 0 | U50: 0 | V50: 0 | W50: 0 | X50: 0 | Y50: 0 | Z50: 0 | AA50: 1 | AB50: 553 | AC50: 995 | AD50: 0 | AE50: 0 | AF50: 0 | AG50: 0 | AH50: 0 | AI50: 0
B51: 2005 | C51: 3 | D51: 186 | E51: 500 | F51: 7 | G51: 2028 | H51: 3650 | I51: 3 | J51: 246 | K51: 443 | L51: 0 | M51: 0 | N51: 0 | O51: 3 | P51: 246 | Q51: 443 | R51: 0 | S51: 0 | T51: 0 | U51: 0 | V51: 0 | W51: 0 | X51: 0 | Y51: 0 | Z51: 0 | AA51: 5 | AB51: 4524 | AC51: 8143 | AD51: 0 | AE51: 0 | AF51: 0 | AG51: 3 | AH51: 103 | AI51: 155
B52: 2006 | C52: 0 | D52: 0 | E52: 0 | F52: 2 | G52: 240 | H52: 482 | I52: 0 | J52: 0 | K52: 0 | L52: 12 | M52: 535 | N52: 1231 | O52: 0 | P52: 0 | Q52: 0 | R52: 0 | S52: 0 | T52: 0 | U52: 0 | V52: 0 | W52: 0 | X52: 0 | Y52: 0 | Z52: 0 | AA52: 2 | AB52: 3119 | AC52: 7174 | AD52: 0 | AE52: 0 | AF52: 0
B53: 2007 | C53: 0 | D53: 0 | E53: 0 | F53: 0 | G53: 0 | H53: 0 | I53: 9 | J53: 460 | K53: 1280 | L53: 0 | M53: 0 | N53: 0 | O53: 0 | P53: 0 | Q53: 0 | R53: 0 | S53: 0 | T53: 0 | U53: 0 | V53: 0 | W53: 0 | X53: 0 | Y53: 0 | Z53: 0 | AA53: 1 | AB53: 140 | AC53: 680 | AD53: 0 | AE53: 0 | AF53: 0 | AG53: 0 | AH53: 0 | AI53: 0
B54: 2008 | C54: 1 | D54: 50 | E54: 150 | F54: 1 | G54: 81 | H54: 284 | I54: 0 | J54: 0 | K54: 0 | L54: 6 | M54: 720 | N54: 2736 | O54: 0 | P54: 0 | Q54: 0 | R54: 0 | S54: 0 | T54: 0 | U54: 0 | V54: 0 | W54: 0 | X54: 0 | Y54: 0 | Z54: 0 | AA54: 0 | AB54: 0 | AC54: 0 | AD54: 1 | AE54: 432 | AF54: 1296
B55: 2009 | C55: 0 | D55: 0 | E55: 0 | F55: 0 | G55: 0 | H55: 0 | I55: 0 | J55: 0 | K55: 0 | L55: 6 | M55: 840 | N55: 2352 | O55: 0 | P55: 0 | Q55: 0 | R55: 0 | S55: 0 | T55: 0 | U55: 0 | V55: 0 | W55: 0 | X55: 0 | Y55: 0 | Z55: 0 | AA55: 0 | AB55: 0 | AC55: 0 | AD55: 1 | AE55: 400 | AF55: 720
B56: 2010 | C56: 0 | D56: 0 | E56: 0 | F56: 11 | G56: 1269 | H56: 4568 | I56: 0 | J56: 0 | K56: 0 | L56: 0 | M56: 0 | N56: 0 | O56: 0 | P56: 0 | Q56: 0 | R56: 0 | S56: 0 | T56: 0 | U56: 2 | V56: 184 | W56: 589 | X56: 0 | Y56: 0 | Z56: 0 | AA56: 4 | AB56: 1907 | AC56: 5530 | AD56: 0 | AE56: 0 | AF56: 0 | AG56: 0 | AH56: 0 | AI56: 0
B58: Average | C58: =AVERAGE(C47:C56) -> 25.5 | D58: =AVERAGE(D47:D56) -> 640.4 | E58: =AVERAGE(E47:E56) -> 304.6 | F58: =AVERAGE(F47:F56) -> 4.2 | G58: =AVERAGE(G47:G56) -> 715.3 | H58: =AVERAGE(H47:H56) -> 1355.5 | I58: =AVERAGE(I47:I56) -> 1.2 | J58: =AVERAGE(J47:J56) -> 70.6 | ... AI58: =AVERAGE(AI47:AI56) -> 76.428571
B59: Total | C59: =SUM(C47:C56) -> 255 | D59: =SUM(D47:D56) -> 6404 | E59: =SUM(E47:E56) -> 3046 | F59: =SUM(F47:F56) -> 42 | G59: =SUM(G47:G56) -> 7153 | H59: =SUM(H47:H56) -> 13555 | I59: =SUM(I47:I56) -> 12 | J59: =SUM(J47:J56) -> 706 | ... AI59: =SUM(AI47:AI56) -> 535
A61: Emadlangeni | B61: 2001 | C61: 0 | D61: 0 | E61: 0 | F61: 0 | G61: 0 | H61: 0 | I61: 0 | J61: 0 | K61: 0 | L61: 0 | M61: 0 | N61: 0 | O61: 0 | P61: 0 | Q61: 0 | R61: 0 | S61: 0 | T61: 0 | U61: 0 | V61: 0 | W61: 0 | X61: 0 | Y61: 0 | Z61: 0 | AA61: 0 | AB61: 0 | AC61: 0 | AD61: 0 | AE61: 0 | AF61: 0 | AG61: 0 | AH61: 0 | AI61: 0
B62: 2002 | C62: 0 | D62: 0 | E62: 0 | F62: 0 | G62: 0 | H62: 0 | I62: 0 | J62: 0 | K62: 0 | L62: 0 | M62: 0 | N62: 0 | O62: 0 | P62: 0 | Q62: 0 | R62: 0 | S62: 0 | T62: 0 | U62: 0 | V62: 0 | W62: 0 | X62: 0 | Y62: 0 | Z62: 0 | AA62: 0 | AB62: 0 | AC62: 0 | AD62: 0 | AE62: 0 | AF62: 0 | AG62: 0 | AH62: 0 | AI62: 0
B63: 2003 | C63: 0 | D63: 0 | E63: 0 | F63: 0 | G63: 0 | H63: 0 | I63: 0 | J63: 0 | K63: 0 | L63: 0 | M63: 0 | N63: 0 | O63: 0 | P63: 0 | Q63: 0 | R63: 0 | S63: 0 | T63: 0 | U63: 0 | V63: 0 | W63: 0 | X63: 0 | Y63: 0 | Z63: 0 | AA63: 1 | AB63: 656 | AC63: 656 | AD63: 0 | AE63: 0 | AF63: 0 | AG63: 0 | AH63: 0 | AI63: 0
B64: 2004 | C64: 1 | D64: 60 | E64: 120 | F64: 1 | G64: 322 | H64: 460 | I64: 0 | J64: 0 | K64: 0 | L64: 0 | M64: 0 | N64: 0 | O64: 0 | P64: 0 | Q64: 0 | R64: 0 | S64: 0 | T64: 0 | U64: 0 | V64: 0 | W64: 0 | X64: 0 | Y64: 0 | Z64: 0 | AA64: 0 | AB64: 0 | AC64: 0 | AD64: 0 | AE64: 0 | AF64: 0 | AG64: 0 | AH64: 0 | AI64: 0
B65: 2005 | C65: 54 | D65: 3327 | E65: 4856 | F65: 53 | G65: 8327 | H65: 16530 | I65: 0 | J65: 0 | K65: 0 | L65: 0 | M65: 0 | N65: 0 | O65: 0 | P65: 0 | Q65: 0 | R65: 0 | S65: 0 | T65: 0 | U65: 0 | V65: 0 | W65: 0 | X65: 0 | Y65: 0 | Z65: 0 | AA65: 0 | AB65: 0 | AC65: 0 | AD65: 0 | AE65: 0 | AF65: 0 | AG65: 0 | AH65: 143 | AI65: 257
B66: 2006 | C66: 3 | D66: 181 | E66: 362 | F66: 1 | G66: 96 | H66: 192 | I66: 0 | J66: 0 | K66: 0 | L66: 0 | M66: 0 | N66: 0 | O66: 0 | P66: 0 | Q66: 0 | R66: 0 | S66: 0 | T66: 0 | U66: 0 | V66: 0 | W66: 0 | X66: 0 | Y66: 0 | Z66: 0 | AA66: 0 | AB66: 0 | AC66: 0 | AD66: 0 | AE66: 0 | AF66: 0
B67: 2007 | C67: 1 | D67: 70 | E67: 196 | F67: 2 | G67: 325 | H67: 911 | I67: 0 | J67: 0 | K67: 0 | L67: 0 | M67: 0 | N67: 0 | O67: 0 | P67: 0 | Q67: 0 | R67: 0 | S67: 0 | T67: 0 | U67: 0 | V67: 0 | W67: 0 | X67: 0 | Y67: 0 | Z67: 0 | AA67: 0 | AB67: 0 | AC67: 0 | AD67: 0 | AE67: 0 | AF67: 0 | AG67: 2 | AH67: 0 | AI67: 0
B68: 2008 | C68: 6 | D68: 354 | E68: 991 | F68: 10 | G68: 1521 | H68: 4796 | I68: 0 | J68: 0 | K68: 0 | L68: 0 | M68: 0 | N68: 0 | O68: 0 | P68: 0 | Q68: 0 | R68: 0 | S68: 0 | T68: 0 | U68: 0 | V68: 0 | W68: 0 | X68: 0 | Y68: 0 | Z68: 0 | AA68: 2 | AB68: 731 | AC68: 2193 | AD68: 0 | AE68: 0 | AF68: 0
B69: 2009 | C69: 2 | D69: 86 | E69: 215 | F69: 4 | G69: 572 | H69: 1430 | I69: 0 | J69: 0 | K69: 0 | L69: 0 | M69: 0 | O69: 0 | P69: 0 | Q69: 0 | R69: 0 | S69: 0 | T69: 0 | U69: 0 | V69: 0 | W69: 0 | X69: 0 | Y69: 0 | Z69: 0 | AA69: 3 | AB69: 624 | AC69: 1560 | AD69: 0 | AE69: 0 | AF69: 0
B70: 2010 | C70: 0 | D70: 0 | E70: 0 | F70: 0 | G70: 0 | H70: 0 | I70: 0 | J70: 0 | K70: 0 | L70: 0 | M70: 0 | N70: 0 | O70: 0 | P70: 0 | Q70: 0 | R70: 0 | S70: 0 | T70: 0 | U70: 0 | V70: 0 | W70: 0 | X70: 0 | Y70: 0 | Z70: 0 | AA70: 0 | AB70: 0 | AC70: 0 | AD70: 0 | AE70: 0 | AF70: 0
B72: Average | C72: =AVERAGE(C61:C70) -> 6.7 | D72: =AVERAGE(D61:D70) -> 407.8 | E72: =AVERAGE(E61:E70) -> 674 | F72: =AVERAGE(F61:F70) -> 7.1 | G72: =AVERAGE(G61:G70) -> 1116.3 | H72: =AVERAGE(H61:H70) -> 2431.9 | I72: =AVERAGE(I61:I70) -> 0 | J72: =AVERAGE(J61:J70) -> 0 | ... AI72: =AVERAGE(AI61:AI70) -> 42.833333
B73: Total | C73: =SUM(C61:C70) -> 67 | D73: =SUM(D61:D70) -> 4078 | E73: =SUM(E61:E70) -> 6740 | F73: =SUM(F61:F70) -> 71 | G73: =SUM(G61:G70) -> 11163 | H73: =SUM(H61:H70) -> 24319 | I73: =SUM(I61:I70) -> 0 | J73: =SUM(J61:J70) -> 0 | ... AI73: =SUM(AI61:AI70) -> 257
A75: Emnambithi | B75: 2001 | C75: 446 | D75: 13830 | E75: 18153 | F75: 8 | G75: 939 | H75: 1214 | I75: 0 | J75: 0 | K75: 0 | L75: 4 | M75: 592 | N75: 799 | O75: 0 | P75: 0 | Q75: 0 | R75: 0 | S75: 0 | T75: 0 | U75: 2 | V75: 652 | W75: 616 | X75: 1 | Y75: 733 | Z75: 733 | AA75: 0 | AB75: 0 | AC75: 0 | AD75: 1 | AE75: 500 | AF75: 400 | AG75: 124 | AH75: 8357 | AI75: 10900
B76: 2002 | C76: 185 | D76: 6908 | E76: 8614 | F76: 21 | G76: 4910 | H76: 5955 | I76: 0 | J76: 0 | K76: 0 | L76: 0 | M76: 0 | N76: 0 | O76: 0 | P76: 0 | Q76: 0 | R76: 2 | S76: 662 | T76: 832 | U76: 1 | V76: 490 | W76: 392 | X76: 0 | Y76: 0 | Z76: 0 | AA76: 1 | AB76: 656 | AC76: 820 | AD76: 1 | AE76: 586 | AF76: 469 | AG76: 108 | AH76: 17533 | AI76: 18566
B77: 2003 | C77: 69 | D77: 4041 | E77: 5790 | F77: 38 | G77: 7228 | H77: 11033 | I77: 0 | J77: 0 | K77: 0 | L77: 0 | M77: 0 | N77: 0 | O77: 1 | P77: 474 | Q77: 720 | R77: 2 | S77: 2603 | T77: 6160 | U77: 2 | V77: 1183 | W77: 1775 | X77: 0 | Y77: 0 | Z77: 0 | AA77: 3 | AB77: 1718 | AC77: 2094 | AD77: 3 | AE77: 1894 | AF77: 1515 | AG77: 240 | AH77: 25607 | AI77: 28844
B78: 2004 | C78: 87 | D78: 4927 | E78: 6829 | F78: 22 | G78: 3212 | H78: 5610 | I78: 0 | J78: 0 | K78: 0 | L78: 0 | M78: 0 | N78: 0 | O78: 0 | P78: 0 | Q78: 0 | R78: 0 | S78: 0 | T78: 0 | U78: 4 | V78: 1651 | W78: 2431 | X78: 1 | Y78: 2638 | Z78: 3957 | AA78: 0 | AB78: 0 | AC78: 0 | AD78: 3 | AE78: 2832 | AF78: 2276 | AG78: 133 | AH78: 11004 | AI78: 18353
B79: 2005 | C79: 34 | D79: 1958 | E79: 2899 | F79: 35 | G79: 6565 | H79: 13640 | I79: 0 | J79: 0 | K79: 0 | L79: 0 | M79: 0 | N79: 0 | O79: 4 | P79: 704 | Q79: 1444 | R79: 0 | S79: 0 | T79: 0 | U79: 0 | V79: 0 | W79: 0 | X79: 0 | Y79: 0 | Z79: 0 | AA79: 3 | AB79: 812 | AC79: 2248 | AD79: 1 | AE79: 394 | AF79: 985 | AG79: 167 | AH79: 16104 | AI79: 45826
B80: 2006 | C80: 36 | D80: 2163 | E80: 5387 | F80: 38 | G80: 5531 | H80: 17177 | I80: 18 | J80: 1165 | K80: 3495 | L80: 3 | M80: 358 | N80: 1074 | O80: 4 | P80: 160 | Q80: 400 | R80: 0 | S80: 0 | T80: 0 | U80: 0 | V80: 0 | W80: 0 | X80: 2 | Y80: 3418 | Z80: 8986 | AA80: 1 | AB80: 135 | AC80: 451 | AD80: 3 | AE80: 11149 | AF80: 26194
B81: 2007 | C81: 37 | D81: 2211 | E81: 6367 | F81: 34 | G81: 4609 | H81: 14558 | I81: 0 | J81: 0 | K81: 0 | L81: 4 | M81: 501 | N81: 1667 | O81: 0 | P81: 0 | Q81: 0 | R81: 0 | S81: 0 | T81: 0 | U81: 0 | V81: 0 | W81: 0 | X81: 1 | Y81: 1602 | Z81: 5335 | AA81: 3 | AB81: 1266 | AC81: 4216 | AD81: 3 | AE81: 575 | AF81: 1912 | AG81: 218 | AH81: 22559 | AI81: 61010
B82: 2008 | C82: 59 | D82: 3524 | E82: 13126 | F82: 32 | G82: 3175 | H82: 12705 | I82: 0 | J82: 0 | K82: 0 | L82: 6 | M82: 678 | N82: 3020 | O82: 0 | P82: 0 | Q82: 0 | R82: 1 | S82: 143 | T82: 523 | U82: 0 | V82: 0 | W82: 0 | X82: 0 | Y82: 0 | Z82: 0 | AA82: 0 | AB82: 0 | AC82: 0 | AD82: 1 | AE82: 469 | AF82: 2317
B83: 2009 | C83: 15 | D83: 882 | E83: 3600 | F83: 31 | G83: 6657 | H83: 31617 | I83: 26 | J83: 1984 | K83: 9798 | L83: 0 | M83: 0 | N83: 0 | O83: 0 | P83: 0 | Q83: 0 | R83: 0 | S83: 0 | T83: 0 | U83: 3 | V83: 335 | W83: 1492 | X83: 1 | Y83: 958 | Z83: 4734 | AA83: 1 | AB83: 902 | AC83: 4454 | AD83: 0 | AE83: 0 | AF83: 0
B84: 2010 | C84: 23 | D84: 1402 | E84: 6213 | F84: 31 | G84: 6027 | H84: 26973 | I84: 0 | J84: 0 | K84: 0 | L84: 14 | M84: 2207 | N84: 10900 | O84: 0 | P84: 0 | Q84: 0 | R84: 0 | S84: 0 | T84: 0 | U84: 0 | V84: 0 | W84: 0 | X84: 2 | Y84: 2866 | Z84: 14159 | AA84: 0 | AB84: 0 | AC84: 0 | AD84: 1 | AE84: 394 | AF84: 1946 | AG84: 218 | AH84: 22559 | AI84: 61010
B86: Average | C86: =AVERAGE(C75:C84) -> 99.1 | D86: =AVERAGE(D75:D84) -> 4184.6 | E86: =AVERAGE(E75:E84) -> 7697.8 | F86: =AVERAGE(F75:F84) -> 29 | G86: =AVERAGE(G75:G84) -> 4885.3 | H86: =AVERAGE(H75:H84) -> 14048.2 | I86: =AVERAGE(I75:I84) -> 4.4 | J86: =AVERAGE(J75:J84) -> 314.9 | ... AI86: =AVERAGE(AI75:AI84) -> 34929.857
B87: Total | C87: =SUM(C75:C84) -> 991 | D87: =SUM(D75:D84) -> 41846 | E87: =SUM(E75:E84) -> 76978 | F87: =SUM(F75:F84) -> 290 | G87: =SUM(G75:G84) -> 48853 | H87: =SUM(H75:H84) -> 140482 | I87: =SUM(I75:I84) -> 44 | J87: =SUM(J75:J84) -> 3149 | ... AI87: =SUM(AI75:AI84) -> 244509
A89: Endumeni | B89: 2001 | C89: 657 | D89: 19917 | E89: 7638 | F89: 9 | G89: 1309 | H89: 1347 | I89: 0 | J89: 0 | K89: 0 | L89: 0 | M89: 0 | N89: 0 | O89: 0 | P89: 0 | Q89: 0 | R89: 0 | S89: 0 | T89: 0 | U89: 0 | V89: 0 | W89: 0 | X89: 0 | Y89: 0 | Z89: 0 | AA89: 0 | AB89: 0 | AC89: 0 | AD89: 3 | AE89: 652 | AF89: 203 | AG89: 15 | AH89: 1288 | AI89: 1730
B90: 2002 | C90: 4 | D90: 237 | E90: 307 | F90: 15 | G90: 2100 | H90: 2371 | I90: 0 | J90: 0 | K90: 0 | L90: 0 | M90: 0 | N90: 0 | O90: 0 | P90: 0 | Q90: 0 | R90: 0 | S90: 0 | T90: 0 | U90: 0 | V90: 0 | W90: 0 | X90: 0 | Y90: 0 | Z90: 0 | AA90: 0 | AB90: 0 | AC90: 0 | AD90: 1 | AE90: 112 | AF90: 65 | AG90: 35 | AH90: 1251 | AI90: 1336
B91: 2003 | C91: 358 | D91: 11032 | E91: 5980 | F91: 9 | G91: 1206 | H91: 1518 | I91: 0 | J91: 0 | K91: 0 | L91: 0 | M91: 0 | N91: 0 | O91: 0 | P91: 0 | Q91: 0 | R91: 7 | S91: 5054 | T91: 8084 | U91: 0 | V91: 0 | W91: 0 | X91: 0 | Y91: 0 | Z91: 0 | AA91: 0 | AB91: 0 | AC91: 0 | AD91: 0 | AE91: 0 | AF91: 0 | AG91: 13 | AH91: 1400 | AI91: 1797
B92: 2004 | C92: 167 | D92: 6788 | E92: 5506 | F92: 24 | G92: 3197 | H92: 5860 | I92: 0 | J92: 0 | K92: 0 | L92: 0 | M92: 0 | N92: 0 | O92: 5 | P92: 835 | Q92: 1530 | R92: 0 | S92: 0 | T92: 0 | U92: 1 | V92: 181 | W92: 332 | X92: 0 | Y92: 0 | Z92: 0 | AA92: 0 | AB92: 0 | AC92: 0 | AD92: 0 | AE92: 0 | AF92: 0 | AG92: 32 | AH92: 2721 | AI92: 4988
B93: 2005 | C93: 424 | D93: 20430 | E93: 18268 | F93: 21 | G93: 3662 | H93: 8056 | I93: 0 | J93: 0 | K93: 0 | L93: 14 | M93: 2789 | N93: 6129 | O93: 0 | P93: 0 | Q93: 0 | R93: 1 | S93: 52 | T93: 114 | U93: 1 | V93: 205 | W93: 451 | X93: 1 | Y93: 565 | Z93: 1243 | AA93: 1 | AB93: 385 | AC93: 847 | AD93: 0 | AE93: 0 | AF93: 0 | AG93: 45 | AH93: 4532 | AI93: 10087
B94: 2006 | C94: 309 | D94: 13418 | E94: 11614 | F94: 29 | G94: 4379 | H94: 10947 | I94: 31 | J94: 3492 | K94: 8731 | L94: 35 | M94: 6314 | N94: 15785 | O94: 1 | P94: 150 | Q94: 375 | R94: 0 | S94: 0 | T94: 0 | U94: 1 | V94: 72 | W94: 182 | X94: 0 | Y94: 0 | Z94: 0 | AA94: 1 | AB94: 517 | AC94: 1293 | AD94: 2 | AE94: 601 | AF94: 1503
B95: 2007 | C95: 442 | D95: 19372 | E95: 22752 | F95: 60 | G95: 19736 | H95: 49098 | I95: 0 | J95: 0 | K95: 0 | L95: 0 | M95: 0 | N95: 0 | O95: 0 | P95: 0 | Q95: 0 | R95: 0 | S95: 0 | T95: 0 | U95: 0 | V95: 0 | W95: 0 | X95: 0 | Y95: 0 | Z95: 0 | AA95: 0 | AB95: 0 | AC95: 0 | AD95: 6 | AE95: 2835 | AF95: 6578
B96: 2008 | C96: 10 | D96: 540 | E96: 1620 | F96: 19 | G96: 4475 | H96: 13425 | I96: 0 | J96: 0 | K96: 0 | L96: 10 | M96: 1586 | N96: 4758 | O96: 0 | P96: 0 | Q96: 0 | R96: 0 | S96: 0 | T96: 0 | U96: 3 | V96: 770 | W96: 2310 | X96: 0 | Y96: 0 | Z96: 0 | AA96: 3 | AB96: 757 | AC96: 2271 | AD96: 4 | AE96: 1508 | AF96: 4254
B97: 2009 | C97: 16 | D97: 972 | E97: 2785 | F97: 24 | G97: 5225 | H97: 14976 | I97: 0 | J97: 0 | K97: 0 | L97: 0 | M97: 0 | O97: 0 | P97: 0 | Q97: 0 | R97: 0 | S97: 0 | T97: 0 | U97: 0 | V97: 0 | W97: 0 | X97: 0 | Y97: 0 | Z97: 0 | AA97: 0 | AB97: 0 | AC97: 0 | AD97: 0 | AE97: 0 | AF97: 0
B98: 2010 | C98: 33 | D98: 1952 | E98: 6170 | F98: 54 | G98: 12871 | H98: 55783 | I98: 0 | J98: 0 | K98: 0 | L98: 3 | M98: 859 | N98: 2787 | O98: 0 | P98: 0 | Q98: 0 | R98: 0 | S98: 0 | T98: 0 | U98: 0 | V98: 0 | W98: 0 | X98: 0 | Y98: 0 | Z98: 0 | AA98: 0 | AB98: 0 | AC98: 0 | AD98: 0 | AE98: 0 | AF98: 0
B100: Average | C100: =AVERAGE(C89:C98) -> 242 | D100: =AVERAGE(D89:D98) -> 9465.8 | E100: =AVERAGE(E89:E98) -> 8264 | F100: =AVERAGE(F89:F98) -> 26.4 | G100: =AVERAGE(G89:G98) -> 5816 | H100: =AVERAGE(H89:H98) -> 16338.1 | I100: =AVERAGE(I89:I98) -> 3.1 | J100: =AVERAGE(J89:J98) -> 349.2 | ... AF100: =AVERAGE(AF89:AF98) -> 1260.3 | AG100: =AVERAGE(AG89:AG93) -> 28 | AH100: =AVERAGE(AH89:AH93) -> 2238.4 | AI100: =AVERAGE(AI89:AI93) -> 3987.6
B101: Total | C101: =SUM(C89:C98) -> 2420 | D101: =SUM(D89:D98) -> 94658 | E101: =SUM(E89:E98) -> 82640 | F101: =SUM(F89:F98) -> 264 | G101: =SUM(G89:G98) -> 58160 | H101: =SUM(H89:H98) -> 163381 | I101: =SUM(I89:I98) -> 31 | J101: =SUM(J89:J98) -> 3492 | ... AI101: =SUM(AI89:AI98) -> 19938
A103: Ethekwini | B103: 2001 | C103: 736 | D103: 39241 | E103: 45872 | F103: 1028 | G103: 220962 | H103: 278883 | I103: 9 | J103: 1570 | K103: 2262 | L103: 501 | M103: 55801 | N103: 71156 | O103: 6 | P103: 9601 | Q103: 41840 | R103: 10 | S103: 6252 | T103: 6632 | U103: 20 | V103: 15696 | W103: 17593 | X103: 28 | Y103: 68636 | Z103: 264698 | AA103: 38 | AB103: 360053 | AC103: 1268558 | AD103: 62 | AE103: 118310 | AF103: 136779 | AG103: 4482 | AH103: 335207 | AI103: 493798
B104: 2002 | C104: 925 | D104: 47182 | E104: 54881 | F104: 1006 | G104: 209724 | H104: 302491 | I104: 56 | J104: 3807 | K104: 5340 | L104: 200 | M104: 34199 | N104: 59128 | O104: 54 | P104: 8216 | Q104: 13793 | R104: 15 | S104: 8083 | T104: 11582 | U104: 22 | V104: 19071 | W104: 25080 | X104: 48 | Y104: 89593 | Z104: 200359 | AA104: 34 | AB104: 70826 | AC104: 171408 | AD104: 80 | AE104: 149416 | AF104: 191830 | AG104: 4534 | AH104: 4491 | AI104: 49378
B105: 2003 | C105: 7225 | D105: 261520 | E105: 153154 | F105: 834 | G105: 157444 | H105: 253380 | I105: 29 | J105: 4500 | K105: 7381 | L105: 244 | M105: 42392 | N105: 80315 | O105: 4 | P105: 39557 | Q105: 467180 | R105: 7 | S105: 5054 | T105: 6232 | U105: 16 | V105: 14115 | W105: 15403 | X105: 29 | Y105: 53575 | Z105: 83841 | AA105: 21 | AB105: 32390 | AC105: 65037 | AD105: 57 | AE105: 75094 | AF105: 106652 | AG105: 4412 | AH105: 27192 | AI105: 107561
B106: 2004 | C106: 3059 | D106: 105379 | E106: 120817 | F106: 913 | G106: 193010 | H106: 360695 | I106: 534 | J106: 137847 | K106: 464863 | L106: 958 | M106: 186130 | N106: 415824 | O106: 94 | P106: 139642 | Q106: 898946 | R106: 12 | S106: 4204 | T106: 10240 | U106: 32 | V106: 15714 | W106: 20 | X106: 56 | Y106: 78442 | Z106: 164458 | AA106: 70 | AB106: 1068978 | AC106: 406937 | AD106: 45 | AE106: 89164 | AF106: 169597 | AG106: 8698 | AH106: 85313 | AI106: 156642
B107: 2005 | C107: 1147 | D107: 50892 | E107: 86794 | F107: 1022 | G107: 216839 | H107: 475960 | I107: 501 | J107: 63869 | K107: 173565 | L107: 861 | M107: 167328 | N107: 448648 | O107: 4 | P107: 2530 | Q107: 1000 | R107: 16 | S107: 11124 | T107: 47366 | U107: 27 | V107: 22934 | W107: 48082 | X107: 72 | Y107: 134934 | Z107: 349446 | AA107: 40 | AB107: 71164 | AC107: 163154 | AD107: 13 | AE107: 23573 | AF107: 35200 | AG107: 4 349 | AH107: 361 506 | AI107: 713 609
B108: 2006 | C108: 1314 | D108: 66280 | E108: 223362 | F108: 1808 | G108: 363020 | H108: 1133130 | I108: 581 | J108: 109344 | K108: 458113 | L108: 1127 | M108: 212770 | N108: 646578 | O108: 2 | P108: 9976 | Q108: 42024 | R108: 4 | S108: 7814 | T108: 25964 | U108: 34 | V108: 41474 | W108: 121852 | X108: 62 | Y108: 95598 | Z108: 28777 | AA108: 38 | AB108: 78630 | AC108: 342682 | AD108: 102 | AE108: 306410 | AF108: 739331
B109: 2007 | C109: 572 | D109: 31275 | E109: 130762 | F109: 1033 | G109: 228060 | H109: 981011 | I109: 414 | J109: 95332 | K109: 425392 | L109: 993 | M109: 200811 | N109: 761181 | O109: 2 | P109: 12606 | Q109: 101900 | R109: 8 | S109: 10538 | T109: 35085 | U109: 14 | V109: 11792 | W109: 54098 | X109: 27 | Y109: 37351 | Z109: 153796 | AA109: 21 | AB109: 57305 | AC109: 257387 | AD109: 79 | AE109: 297113 | AF109: 831469 | AG109: 3060 | AH109: 287 269 | AI109: 957 548
B110: 2008 | C110: 544 | D110: 29042 | E110: 134192 | F110: 933 | G110: 202586 | H110: 932674 | I110: 806 | J110: 111287 | K110: 540996 | L110: 590 | M110: 131535 | N110: 540835 | O110: 1 | P110: 220 | Q110: 1100 | R110: 3 | S110: 4146 | T110: 16124 | U110: 14 | V110: 9943 | W110: 46565 | X110: 43 | Y110: 95451 | Z110: 465396 | AA110: 19 | AB110: 66644 | AC110: 345576 | AD110: 62 | AE110: 222801 | AF110: 615740
B111: 2009 | C111: 417 | D111: 22720 | E111: 131211 | F111: 779 | G111: 191881 | H111: 1182172 | I111: 1189 | J111: 118933 | K111: 693249 | L111: 720 | M111: 128887 | N111: 707053 | O111: 0 | P111: 0 | Q111: 0 | R111: 4 | S111: 23702 | T111: 122656 | U111: 9 | V111: 5232 | W111: 28313 | X111: 28 | Y111: 63015 | Z111: 320079 | AA111: 19 | AB111: 140844 | AC111: 893525 | AD111: 81 | AE111: 236262 | AF111: 822935
B112: 2010 | C112: 275 | D112: 15327 | E112: 102786 | F112: 493 | G112: 108218 | H112: 831001 | I112: 164 | J112: 20288 | K112: 146172 | L112: 453 | M112: 107674 | N112: 658290 | O112: 4 | P112: 39262 | Q112: 304769 | R112: 3 | S112: 2717 | T112: 14329 | U112: 6 | V112: 4572 | W112: 28335 | X112: 17 | Y112: 119547 | Z112: 853030 | AA112: 13 | AB112: 69451 | AC112: 500944 | AD112: 39 | AE112: 91926 | AF112: 355634
B114: Average | C114: =AVERAGE(C103:C112) -> 1621.4 | D114: =AVERAGE(D103:D112) -> 66885.8 | E114: =AVERAGE(E103:E112) -> 118383.1 | F114: =AVERAGE(F103:F112) -> 984.9 | G114: =AVERAGE(G103:G112) -> 209174.4 | H114: =AVERAGE(H103:H112) -> 673139.7 | I114: =AVERAGE(I103:I112) -> 428.3 | J114: =AVERAGE(J103:J112) -> 66677.7 | ... AI114: =AVERAGE(AI103:AI112) -> 201844.75
B115: Total | C115: =SUM(C103:C112) -> 16214 | D115: =SUM(D103:D112) -> 668858 | E115: =SUM(E103:E112) -> 1183831 | F115: =SUM(F103:F112) -> 9849 | G115: =SUM(G103:G112) -> 2091744 | H115: =SUM(H103:H112) -> 6731397 | I115: =SUM(I103:I112) -> 4283 | J115: =SUM(J103:J112) -> 666777 | ... AI115: =SUM(AI103:AI112) -> 807379
A117: Ezinqoleni | B117: 2001 | C117: 0 | D117: 0 | E117: 0 | F117: 0 | G117: 0 | H117: 0 | I117: 0 | J117: 0 | K117: 0 | L117: 0 | M117: 0 | N117: 0 | O117: 0 | P117: 0 | Q117: 0 | R117: 0 | S117: 0 | T117: 0 | U117: 0 | V117: 0 | W117: 0 | X117: 0 | Y117: 0 | Z117: 0 | AA117: 0 | AB117: 0 | AC117: 0 | AD117: 0 | AE117: 0 | AF117: 0 | AG117: 0 | AH117: 0 | AI117: 0
B118: 2002 | C118: 0 | D118: 0 | E118: 0 | F118: 0 | G118: 0 | H118: 0 | I118: 0 | J118: 0 | K118: 0 | L118: 0 | M118: 0 | N118: 0 | O118: 0 | P118: 0 | Q118: 0 | R118: 0 | S118: 0 | T118: 0 | U118: 0 | V118: 0 | W118: 0 | X118: 0 | Y118: 0 | Z118: 0 | AA118: 0 | AB118: 0 | AC118: 0 | AD118: 0 | AE118: 0 | AF118: 0 | AG118: 0 | AH118: 0 | AI118: 0
...

Sheet Dwellings - Small
A1: Dwellings Less than 80m²
B2: Number of Building Plans Completed | C2: Square Meters Completed | E2: Total Rand Value | F2: Square Meters per Building Plan | G2: Cost per Square Meter | H2: Building Plans As a % of Total | I2: Square Meters As a % of Total | J2: Rand Value As a % of Total
A3: Ethekwini | B3: =Data!C115 -> 16214 | C3: =Data!D115 -> 668858 | D3: =Data!E115 -> 1183831 | E3: =D3*1000 -> 1183831000 | F3: =C3/B3 -> 41.251881 | G3: =E3/C3 -> 1769.9287 | H3: =B3/B$55*100 -> 17.206433 | I3: =C3/C$55*100 -> 18.400825 | J3: =D3/D$55*100 -> 26.245411
A4: Msunduzi | B4: =Data!C364 -> 13655 | C4: =Data!D364 -> 445031 | D4: =Data!E364 -> 462726 | E4: =D4*1000 -> 462726000 | F4: =C4/B4 -> 32.591066 | G4: =E4/C4 -> 1039.7613 | H4: =B4/B$55*100 -> 14.4908 | I4: =C4/C$55*100 -> 12.243163 | J4: =D4/D$55*100 -> 10.258587
A5: Umhlabuyalingana | B5: =Data!C560 -> 3961 | C5: =Data!D560 -> 184020 | D5: =Data!E560 -> 177681 | E5: =D5*1000 -> 177681000 | F5: =C5/B5 -> 46.457965 | G5: =E5/C5 -> 965.55266 | H5: =B5/B$55*100 -> 4.2034464 | I5: =C5/C$55*100 -> 5.0625392 | J5: =D5/D$55*100 -> 3.9391694
A6: Big 5 False Bay | B6: =Data!C31 -> 6554 | C6: =Data!D31 -> 263780 | D6: =Data!E31 -> 319239 | E6: =D6*1000 -> 319239000 | F6: =C6/B6 -> 40.247177 | G6: =E6/C6 -> 1210.2472 | H6: =B6/B$55*100 -> 6.9551597 | I6: =C6/C$55*100 -> 7.2568014 | J6: =D6/D$55*100 -> 7.0774955
A7: Valamehlo | B7: =Data!C714 -> 4052 | C7: =Data!D714 -> 158750 | D7: =Data!E714 -> 169417 | E7: =D7*1000 -> 169417000 | F7: =C7/B7 -> 39.178184 | G7: =E7/C7 -> 1067.1937 | H7: =B7/B$55*100 -> 4.3000163 | I7: =C7/C$55*100 -> 4.3673411 | J7: =D7/D$55*100 -> 3.7559573
A8: Richmond | B8: =Data!C504 -> 3551.2 | C8: =Data!D504 -> 109880.8 | D8: =Data!E504 -> 70132 | E8: =D8*1000 -> 70132000 | F8: =C8/B8 -> 30.941879 | G8: =E8/C8 -> 638.25527 | H8: =B8/B$55*100 -> 3.7685632 | I8: =C8/C$55*100 -> 3.0229098 | J8: =D8/D$55*100 -> 1.5548192
A9: Endumeni | B9: =Data!C101 -> 2420 | C9: =Data!D101 -> 94658 | D9: =Data!E101 -> 82640 | E9: =D9*1000 -> 82640000 | F9: =C9/B9 -> 39.114876 | G9: =E9/C9 -> 873.03767 | H9: =B9/B$55*100 -> 2.5681243 | I9: =C9/C$55*100 -> 2.6041182 | J9: =D9/D$55*100 -> 1.8321202
A10: Jozini | B10: =Data!C241 -> 2288 | C10: =Data!D241 -> 85083 | D10: =Data!E241 -> 91079 | E10: =D10*1000 -> 91079000 | F10: =C10/B10 -> 37.186626 | G10: =E10/C10 -> 1070.4724 | H10: =B10/B$55*100 -> 2.4280448 | I10: =C10/C$55*100 -> 2.3407022 | J10: =D10/D$55*100 -> 2.019212
A11: Umuziwabantu | B11: =Data!C644 -> 3384 | C11: =Data!D644 -> 118747 | D11: =Data!E644 -> 108672 | E11: =D11*1000 -> 108672000 | F11: =C11/B11 -> 35.090721 | G11: =E11/C11 -> 915.15575 | H11: =B11/B$55*100 -> 3.5911291 | I11: =C11/C$55*100 -> 3.2668261 | J11: =D11/D$55*100 -> 2.409247
A12: Okhahlamba | B12: =Data!C490 -> 4341 | C12: =Data!D490 -> 176236 | D12: =Data!E490 -> 204732 | E12: =D12*1000 -> 204732000 | F12: =C12/B12 -> 40.598019 | G12: =E12/C12 -> 1161.6923 | H12: =B12/B$55*100 -> 4.6067056 | I12: =C12/C$55*100 -> 4.8483951 | J12: =D12/D$55*100 -> 4.5388872
A13: Umzimkhulu | B13: =Data!C672 -> 1870 | C13: =Data!D672 -> 65593 | D13: =Data!E672 -> 44826 | E13: =D13*1000 -> 44826000 | F13: =C13/B13 -> 35.076471 | G13: =E13/C13 -> 683.39609 | H13: =B13/B$55*100 -> 1.9844597 | I13: =C13/C$55*100 -> 1.8045165 | J13: =D13/D$55*100 -> 0.99378777
A14: Umtshezi | B14: =Data!C630 -> 1652 | C14: =Data!D630 -> 64575 | D14: =Data!E630 -> 59040 | E14: =D14*1000 -> 59040000 | F14: =C14/B14 -> 39.088983 | G14: =E14/C14 -> 914.28571 | H14: =B14/B$55*100 -> 1.7531162 | I14: =C14/C$55*100 -> 1.7765105 | J14: =D14/D$55*100 -> 1.3089107
A15: AbaQulusi | B15: =Data!C17 -> 2823 | C15: =Data!D17 -> 95782 | D15: =Data!E17 -> 75292 | E15: =D15*1000 -> 75292000 | F15: =C15/B15 -> 33.929153 | G15: =E15/C15 -> 786.07672 | H15: =B15/B$55*100 -> 2.9957912 | I15: =C15/C$55*100 -> 2.6350404 | J15: =D15/D$55*100 -> 1.6692158
A16: Nquthu | B16: =Data!C462 -> 1594 | C16: =Data!D462 -> 73864 | D16: =Data!E462 -> 121035 | E16: =D16*1000 -> 121035000 | F16: =C16/B16 -> 46.33877 | G16: =E16/C16 -> 1638.6196 | H16: =B16/B$55*100 -> 1.6915662 | I16: =C16/C$55*100 -> 2.0320585 | J16: =D16/D$55*100 -> 2.6833334
A17: Ezinqoleni | B17: =Data!C129 -> 1165 | C17: =Data!D129 -> 46600 | D17: =Data!E129 -> 44270 | E17: =D17*1000 -> 44270000 | F17: =C17/B17 -> 40 | G17: =E17/C17 -> 950 | H17: =B17/B$55*100 -> 1.2363078 | I17: =C17/C$55*100 -> 1.2820037 | J17: =D17/D$55*100 -> 0.98146131
A18: Mtubatuba | B18: =Data!C392 -> 1234 | C18: =Data!D392 -> 40251 | D18: =Data!E392 -> 23650 | E18: =D18*1000 -> 23650000 | F18: =C18/B18 -> 32.618314 | G18: =E18/C18 -> 587.56304 | H18: =B18/B$55*100 -> 1.3095311 | I18: =C18/C$55*100 -> 1.1073376 | J18: =D18/D$55*100 -> 0.52431805
A19: Emnambithi | B19: =Data!C87 -> 991 | C19: =Data!D87 -> 41846 | D19: =Data!E87 -> 76978 | E19: =D19*1000 -> 76978000 | F19: =C19/B19 -> 42.226034 | G19: =E19/C19 -> 1839.5546 | H19: =B19/B$55*100 -> 1.0516575 | I19: =C19/C$55*100 -> 1.1512173 | J19: =D19/D$55*100 -> 1.7065943
A20: Hlabisa | B20: =Data!C171 -> 915 | C20: =Data!D171 -> 35634 | D20: =Data!E171 -> 32586 | E20: =D20*1000 -> 32586000 | F20: =C20/B20 -> 38.944262 | G20: =E20/C20 -> 914.46371 | H20: =B20/B$55*100 -> 0.97100566 | I20: =C20/C$55*100 -> 0.9803202 | J20: =D20/D$55*100 -> 0.72242824
A21: Ingwe | B21: =Data!C227 -> 834 | C21: =Data!D227 -> 33367 | D21: =Data!E227 -> 23069 | E21: =D21*1000 -> 23069000 | F21: =C21/B21 -> 40.008393 | G21: =E21/C21 -> 691.37171 | H21: =B21/B$55*100 -> 0.88504779 | I21: =C21/C$55*100 -> 0.91795319 | J21: =D21/D$55*100 -> 0.51143734
A22: Dannhauser | B22: =Data!C45 -> 861 | C22: =Data!D45 -> 32748 | D22: =Data!E45 -> 18713 | E22: =D22*1000 -> 18713000 | F22: =C22/B22 -> 38.034843 | G22: =E22/C22 -> 571.42421 | H22: =B22/B$55*100 -> 0.91370041 | I22: =C22/C$55*100 -> 0.900924 | J22: =D22/D$55*100 -> 0.41486527
A23: Ulundi | B23: =Data!C532 -> 2162 | C23: =Data!D532 -> 88645 | D23: =Data!E532 -> 105272 | E23: =D23*1000 -> 105272000 | F23: =C23/B23 -> 41.001388 | G23: =E23/C23 -> 1187.5684 | H23: =B23/B$55*100 -> 2.2943325 | I23: =C23/C$55*100 -> 2.4386957 | J23: =D23/D$55*100 -> 2.3338693
A24: Mpofana | B24: =Data!C336 -> 141 | C24: =Data!D336 -> 6359 | D24: =Data!E336 -> 10290 | E24: =D24*1000 -> 10290000 | F24: =C24/B24 -> 45.099291 | G24: =E24/C24 -> 1618.179 | H24: =B24/B$55*100 -> 0.14963038 | I24: =C24/C$55*100 -> 0.17494124 | J24: =D24/D$55*100 -> 0.22812823
A25: KwaSani | B25: =Data!C255 -> 1273 | C25: =Data!D255 -> 41316 | D25: =Data!E255 -> 84623 | E25: =D25*1000 -> 84623000 | F25: =C25/B25 -> 32.455617 | G25: =E25/C25 -> 2048.1896 | H25: =B25/B$55*100 -> 1.3509183 | I25: =C25/C$55*100 -> 1.1366366 | J25: =D25/D$55*100 -> 1.8760831
A26: Umdoni | B26: =Data!C546 -> 786 | C26: =Data!D546 -> 27936 | D26: =Data!E546 -> 39625 | E26: =D26*1000 -> 39625000 | F26: =C26/B26 -> 35.541985 | G26: =E26/C26 -> 1418.4207 | H26: =B26/B$55*100 -> 0.83410978 | I26: =C26/C$55*100 -> 0.76854198 | J26: =D26/D$55*100 -> 0.87848214
A27: Umlalazi | B27: =Data!C588 -> 1072 | C27: =Data!D588 -> 43791 | D27: =Data!E588 -> 86904 | E27: =D27*1000 -> 86904000 | F27: =C27/B27 -> 40.849813 | G27: =E27/C27 -> 1984.5174 | H27: =B27/B$55*100 -> 1.1376154 | I27: =C27/C$55*100 -> 1.2047259 | J27: =D27/D$55*100 -> 1.9266527
A28: KwaDukuza | B28: =Data!C269 -> 784 | C28: =Data!D269 -> 23955 | D28: =Data!E269 -> 43283 | E28: =D28*1000 -> 43283000 | F28: =C28/B28 -> 30.554847 | G28: =E28/C28 -> 1806.8462 | H28: =B28/B$55*100 -> 0.83198737 | I28: =C28/C$55*100 -> 0.65902145 | J28: =D28/D$55*100 -> 0.95957962
A29: New Castle | B29: =Data!C420 -> 319 | C29: =Data!D420 -> 22872 | D29: =Data!E420 -> 57464 | E29: =D29*1000 -> 57464000 | F29: =C29/B29 -> 71.69906 | G29: =E29/C29 -> 2512.4169 | H29: =B29/B$55*100 -> 0.33852547 | I29: =C29/C$55*100 -> 0.62922724 | J29: =D29/D$55*100 -> 1.2739709
A30: Greater Kokstad | B30: =Data!C143 -> 444 | C30: =Data!D143 -> 21765 | D30: =Data!E143 -> 32479 | E30: =D30*1000 -> 32479000 | F30: =C30/B30 -> 49.02027 | G30: =E30/C30 -> 1492.2582 | H30: =B30/B$55*100 -> 0.47117652 | I30: =C30/C$55*100 -> 0.59877278 | J30: =D30/D$55*100 -> 0.72005606
A31: Mandeni | B31: =Data!C283 -> 3268 | C31: =Data!D283 -> 127642 | D31: =Data!E283 -> 164796 | E31: =D31*1000 -> 164796000 | F31: =C31/B31 -> 39.05814 | G31: =E31/C31 -> 1291.0797 | H31: =B31/B$55*100 -> 3.468029 | I31: =C31/C$55*100 -> 3.5115348 | J31: =D31/D$55*100 -> 3.6535102
A32: Uphongolo | B32: =Data!C700 -> 324 | C32: =Data!D700 -> 13015 | D32: =Data!E700 -> 8705 | E32: =D32*1000 -> 8705000 | F32: =C32/B32 -> 40.169753 | G32: =E32/C32 -> 668.84364 | H32: =B32/B$55*100 -> 0.34383151 | I32: =C32/C$55*100 -> 0.35805319 | J32: =D32/D$55*100 -> 0.19298895
A33: Ubuhlebezwe | B33: =Data!C518 -> 253 | C33: =Data!D518 -> 11883 | D33: =Data!E518 -> 8564 | E33: =D33*1000 -> 8564000 | F33: =C33/B33 -> 46.968379 | G33: =E33/C33 -> 720.69343 | H33: =B33/B$55*100 -> 0.26848572 | I33: =C33/C$55*100 -> 0.32691095 | J33: =D33/D$55*100 -> 0.18986299
A34: uMhlathuze | B34: =Data!C574 -> 177 | C34: =Data!D574 -> 10615 | D34: =Data!E574 -> 18047 | E34: =D34*1000 -> 18047000 | F34: =C34/B34 -> 59.971751 | G34: =E34/C34 -> 1700.1413 | H34: =B34/B$55*100 -> 0.18783388 | I34: =C34/C$55*100 -> 0.29202725 | J34: =D34/D$55*100 -> 0.40010012
A35: Indaka | B35: =Data!C213 -> 300 | C35: =Data!D213 -> 9000 | D35: =Data!E213 -> 6900 | E35: =D35*1000 -> 6900000 | F35: =C35/B35 -> 30 | G35: =E35/C35 -> 766.66667 | H35: =B35/B$55*100 -> 0.31836251 | I35: =C35/C$55*100 -> 0.24759729 | J35: =D35/D$55*100 -> 0.15297228
A36: Mbonambi | B36: =Data!C308 -> 469 | C36: =Data!D308 -> 15008 | D36: =Data!E308 -> 22050 | E36: =D36*1000 -> 22050000 | F36: =C36/B36 -> 32 | G36: =E36/C36 -> 1469.2164 | H36: =B36/B$55*100 -> 0.49770673 | I36: =C36/C$55*100 -> 0.41288223 | J36: =D36/D$55*100 -> 0.48884621
A37: Ntambanana | B37: =Data!C476 -> 882 | C37: =Data!D476 -> 36680 | D37: =Data!E476 -> 47118 | E37: =D37*1000 -> 47118000 | F37: =C37/B37 -> 41.587302 | G37: =E37/C37 -> 1284.5692 | H37: =B37/B$55*100 -> 0.93598579 | I37: =C37/C$55*100 -> 1.0090965 | J37: =D37/D$55*100 -> 1.0446012
A38: Hibiscus Coast | B38: =Data!C157 -> 156 | C38: =Data!D157 -> 9301 | D38: =Data!E157 -> 23637 | E38: =D38*1000 -> 23637000 | F38: =C38/B38 -> 59.621795 | G38: =E38/C38 -> 2541.3396 | H38: =B38/B$55*100 -> 0.16554851 | I38: =C38/C$55*100 -> 0.25587804 | J38: =D38/D$55*100 -> 0.52402984
A39: Edumbe | B39: =Data!C59 -> 255 | C39: =Data!D59 -> 6404 | D39: =Data!E59 -> 3046 | E39: =D39*1000 -> 3046000 | F39: =C39/B39 -> 25.113725 | G39: =E39/C39 -> 475.64022 | H39: =B39/B$55*100 -> 0.27060814 | I39: =C39/C$55*100 -> 0.17617923 | J39: =D39/D$55*100 -> 0.067529504
A40: Emadlangeni | B40: =Data!C73 -> 67 | C40: =Data!D73 -> 4078 | D40: =Data!E73 -> 6740 | E40: =D40*1000 -> 6740000 | F40: =C40/B40 -> 60.865672 | G40: =E40/C40 -> 1652.771 | H40: =B40/B$55*100 -> 0.071100961 | I40: =C40/C$55*100 -> 0.11218908 | J40: =D40/D$55*100 -> 0.1494251
A41: Mkhambathini | B41: =Data!C322 -> 24 | C41: =Data!D322 -> 3499 | D41: =Data!E322 -> 1677 | E41: =D41*1000 -> 1677000 | F41: =C41/B41 -> 145.79167 | G41: =E41/C41 -> 479.27979 | H41: =B41/B$55*100 -> 0.025469001 | I41: =C41/C$55*100 -> 0.096260324 | J41: =D41/D$55*100 -> 0.037178916
A42: Umngeni | B42: =Data!C602 -> 77 | C42: =Data!D602 -> 4529 | D42: =Data!E602 -> 10854 | E42: =D42*1000 -> 10854000 | F42: =C42/B42 -> 58.818182 | G42: =E42/C42 -> 2396.5555 | H42: =B42/B$55*100 -> 0.081713045 | I42: =C42/C$55*100 -> 0.12459646 | J42: =D42/D$55*100 -> 0.24063205
A43: Mthonjaneni | B43: =Data!C378 -> 17 | C43: =Data!D378 -> 1045 | D43: =Data!E378 -> 1997 | E43: =D43*1000 -> 1997000 | F43: =C43/B43 -> 61.470588 | G43: =E43/C43 -> 1911.0048 | H43: =B43/B$55*100 -> 0.018040542 | I43: =C43/C$55*100 -> 0.028748796 | J43: =D43/D$55*100 -> 0.044273283
A44: Nkandla | B44: =Data!C434 -> 21 | C44: =Data!D434 -> 1195 | D44: =Data!E434 -> 4150 | E44: =D44*1000 -> 4150000 | F44: =C44/B44 -> 56.904762 | G44: =E44/C44 -> 3472.8033 | H44: =B44/B$55*100 -> 0.022285376 | I44: =C44/C$55*100 -> 0.032875418 | J44: =D44/D$55*100 -> 0.09200507
A45: Umshwathi | B45: =Data!C616 -> 13 | C45: =Data!D616 -> 653 | D45: =Data!E616 -> 1437 | E45: =D45*1000 -> 1437000 | F45: =C45/B45 -> 50.230769 | G45: =E45/C45 -> 2200.6126 | H45: =B45/B$55*100 -> 0.013795709 | I45: =C45/C$55*100 -> 0.017964559 | J45: =D45/D$55*100 -> 0.031858141
A46: Umzumbe | B46: =Data!C686 -> 2004 | C46: =Data!D686 -> 80280 | D46: =Data!E686 -> 92304 | E46: =D46*1000 -> 92304000 | F46: =C46/B46 -> 40.05988 | G46: =E46/C46 -> 1149.7758 | H46: =B46/B$55*100 -> 2.1266616 | I46: =C46/C$55*100 -> 2.2085678 | J46: =D46/D$55*100 -> 2.0463701
A47: Nongoma | B47: =Data!C448 -> 632 | C47: =Data!D448 -> 28500 | D47: =Data!E448 -> 24218 | E47: =D47*1000 -> 24218000 | F47: =C47/B47 -> 45.094937 | G47: =E47/C47 -> 849.75439 | H47: =B47/B$55*100 -> 0.67068369 | I47: =C47/C$55*100 -> 0.78405808 | J47: =D47/D$55*100 -> 0.53691055
A48: Umvoti | B48: =Data!C658 -> 2 | C48: =Data!D658 -> 115 | D48: =Data!E658 -> 260 | E48: =D48*1000 -> 260000 | F48: =C48/B48 -> 57.5 | G48: =E48/C48 -> 2260.8696 | H48: =B48/B$55*100 -> 0.0021224168 | I48: =C48/C$55*100 -> 0.0031637431 | J48: =D48/D$55*100 -> 0.005764173
A49: Msinga | B49: =Data!C350 -> 0 | C49: =Data!D350 -> 0 | D49: =Data!E350 -> 0 | E49: =D49*1000 -> 0 | F49: =C49/B49 -> #DIV/0! | G49: =E49/C49 -> #DIV/0! | H49: =B49/B$55*100 -> 0 | I49: =C49/C$55*100 -> 0 | J49: =D49/D$55*100 -> 0
A50: Imbabazane | B50: =Data!C185 -> 1510 | C50: =Data!D185 -> 61910 | D50: =Data!E185 -> 81898 | E50: =D50*1000 -> 81898000 | F50: =C50/B50 -> 41 | G50: =E50/C50 -> 1322.8558 | H50: =B50/B$55*100 -> 1.6024246 | I50: =C50/C$55*100 -> 1.7031942 | J50: =D50/D$55*100 -> 1.8156702
A51: Impendle | B51: =Data!C199 -> 950 | C51: =Data!D199 -> 38000 | D51: =Data!E199 -> 52161 | E51: =D51*1000 -> 52161000 | F51: =C51/B51 -> 40 | G51: =E51/C51 -> 1372.6579 | H51: =B51/B$55*100 -> 1.008148 | I51: =C51/C$55*100 -> 1.0454108 | J51: =D51/D$55*100 -> 1.156404
A52: Maphumulo | B52: =Data!C294 -> 0 | C52: =Data!D294 -> 0 | D52: =Data!E294 -> 0 | E52: =D52*1000 -> 0 | F52: =C52/B52 -> #DIV/0! | G52: =E52/C52 -> #DIV/0! | H52: =B52/B$55*100 -> 0 | I52: =C52/C$55*100 -> 0 | J52: =D52/D$55*100 -> 0
A53: Ndwedwe | B53: =Data!C406 -> 1491 | C53: =Data!D406 -> 59640 | D53: =Data!E406 -> 80514 | E53: =D53*1000 -> 80514000 | F53: =C53/B53 -> 40 | G53: =E53/C53 -> 1350 | H53: =B53/B$55*100 -> 1.5822617 | I53: =C53/C$55*100 -> 1.6407447 | J53: =D53/D$55*100 -> 1.784987
A55: Total | B55: =SUM(B3:B53) -> 94232.2 | C55: =SUM(C3:C53) -> 3634934.8 | D55: =SUM(D3:D53) -> 4510621 | E55: =SUM(E3:E53) -> 4510621000

Sheet Dwellings - Large
A1: Dwellings More than 80m²
B2: Number of Building Plans Completed | C2: Square Meters Completed | D2: Total Rand Value | E2: Total Rand Value | F2: Square Meters per Building Plan | G2: Cost per Square Meter | H2: Building Plans As a % of Total | I2: Square Meters As a % of Total | J2: Rand Value As a % of Total
A3: Ethekwini | B3: =Data!F115 -> 9849 | C3: =Data!G115 -> 2091744 | D3: =Data!H115 -> 6731397 | E3: =D3*1000 -> 6731397000 | F3: =C3/B3 -> 212.38136 | G3: =E3/C3 -> 3218.0788 | H3: =B3/B$55*100 -> 53.367073 | I3: =C3/C$55*100 -> 52.179483 | J3: =D3/D$55*100 -> 54.305023
A4: KwaDukuza | B4: =Data!F269 -> 1652 | C4: =Data!G269 -> 459598 | D4: =Data!H269 -> 1909147 | E4: =D4*1000 -> 1909147000 | F4: =C4/B4 -> 278.20702 | G4: =E4/C4 -> 4153.9498 | H4: =B4/B$55*100 -> 8.9514066 | I4: =C4/C$55*100 -> 11.464876 | J4: =D4/D$55*100 -> 15.401895
A5: Hibiscus Coast | B5: =Data!F157 -> 1278 | C5: =Data!G157 -> 303752 | D5: =Data!H157 -> 936255 | E5: =D5*1000 -> 936255000 | F5: =C5/B5 -> 237.67762 | G5: =E5/C5 -> 3082.3007 | H5: =B5/B$55*100 -> 6.9248775 | I5: =C5/C$55*100 -> 7.5772286 | J5: =D5/D$55*100 -> 7.5531645
A6: KwaSani | B6: =Data!F255 -> 331 | C6: =Data!G255 -> 166437 | D6: =Data!H255 -> 318243 | E6: =D6*1000 -> 318243000 | F6: =C6/B6 -> 502.83082 | G6: =E6/C6 -> 1912.0929 | H6: =B6/B$55*100 -> 1.7935324 | I6: =C6/C$55*100 -> 4.1518449 | J6: =D6/D$55*100 -> 2.5674007
A7: Umngeni | B7: =Data!F602 -> 609 | C7: =Data!G602 -> 165487 | D7: =Data!H602 -> 484854 | E7: =D7*1000 -> 484854000 | F7: =C7/B7 -> 271.73563 | G7: =E7/C7 -> 2929.8616 | H7: =B7/B$55*100 -> 3.299883 | I7: =C7/C$55*100 -> 4.1281467 | J7: =D7/D$55*100 -> 3.911522
A8: uMhlathuze | B8: =Data!F574 -> 451 | C8: =Data!G574 -> 93780 | D8: =Data!H574 -> 185137 | E8: =D8*1000 -> 185137000 | F8: =C8/B8 -> 207.93792 | G8: =E8/C8 -> 1974.1629 | H8: =B8/B$55*100 -> 2.4437557 | I8: =C8/C$55*100 -> 2.3393838 | J8: =D8/D$55*100 -> 1.4935784
A9: New Castle | B9: =Data!F420 -> 509 | C9: =Data!G420 -> 97268 | D9: =Data!H420 -> 212842 | E9: =D9*1000 -> 212842000 | F9: =C9/B9 -> 191.09627 | G9: =E9/C9 -> 2188.2017 | H9: =B9/B$55*100 -> 2.7580303 | I9: =C9/C$55*100 -> 2.4263935 | J9: =D9/D$55*100 -> 1.7170863
A10: Msunduzi | B10: =Data!F364 -> 542 | C10: =Data!G364 -> 79745 | D10: =Data!H364 -> 142186 | E10: =D10*1000 -> 142186000 | F10: =C10/B10 -> 147.131 | G10: =E10/C10 -> 1783.0083 | H10: =B10/B$55*100 -> 2.9368416 | I10: =C10/C$55*100 -> 1.9892745 | J10: =D10/D$55*100 -> 1.1470745
A11: Umlalazi | B11: =Data!F588 -> 390 | C11: =Data!G588 -> 79844 | D11: =Data!H588 -> 234914 | E11: =D11*1000 -> 234914000 | F11: =C11/B11 -> 204.72821 | G11: =E11/C11 -> 2942.1622 | H11: =B11/B$55*100 -> 2.1132255 | I11: =C11/C$55*100 -> 1.9917441 | J11: =D11/D$55*100 -> 1.8951505
A12: Umdoni | B12: =Data!F546 -> 337 | C12: =Data!G546 -> 69765 | D12: =Data!H546 -> 193822 | E12: =D12*1000 -> 193822000 | F12: =C12/B12 -> 207.0178 | G12: =E12/C12 -> 2778.2126 | H12: =B12/B$55*100 -> 1.8260436 | I12: =C12/C$55*100 -> 1.7403189 | J12: =D12/D$55*100 -> 1.5636439
A13: Endumeni | B13: =Data!F101 -> 264 | C13: =Data!G101 -> 58160 | D13: =Data!H101 -> 163381 | E13: =D13*1000 -> 163381000 | F13: =C13/B13 -> 220.30303 | G13: =E13/C13 -> 2809.1644 | H13: =B13/B$55*100 -> 1.4304911 | I13: =C13/C$55*100 -> 1.450827 | J13: =D13/D$55*100 -> 1.3180635
A14: Emnambithi | B14: =Data!F87 -> 290 | C14: =Data!G87 -> 48853 | D14: =Data!H87 -> 140482 | E14: =D14*1000 -> 140482000 | F14: =C14/B14 -> 168.45862 | G14: =E14/C14 -> 2875.6064 | H14: =B14/B$55*100 -> 1.5713728 | I14: =C14/C$55*100 -> 1.2186598 | J14: =D14/D$55*100 -> 1.1333276
A15: Mpofana | B15: =Data!F336 -> 96 | C15: =Data!G336 -> 25852 | D15: =Data!H336 -> 77585 | E15: =D15*1000 -> 77585000 | F15: =C15/B15 -> 269.29167 | G15: =E15/C15 -> 3001.1218 | H15: =B15/B$55*100 -> 0.52017859 | I15: =C15/C$55*100 -> 0.64488963 | J15: =D15/D$55*100 -> 0.62591096
A16: Umtshezi | B16: =Data!F630 -> 227 | C16: =Data!G630 -> 35990 | D16: =Data!H630 -> 97114 | E16: =D16*1000 -> 97114000 | F16: =C16/B16 -> 158.54626 | G16: =E16/C16 -> 2698.3607 | H16: =B16/B$55*100 -> 1.2300056 | I16: =C16/C$55*100 -> 0.89778654 | J16: =D16/D$55*100 -> 0.78345965
A17: Mtubatuba | B17: =Data!F392 -> 179 | C17: =Data!G392 -> 28592 | D17: =Data!H392 -> 58153 | E17: =D17*1000 -> 58153000 | F17: =C17/B17 -> 159.73184 | G17: =E17/C17 -> 2033.8906 | H17: =B17/B$55*100 -> 0.96991634 | I17: =C17/C$55*100 -> 0.71324014 | J17: =D17/D$55*100 -> 0.46914481
A18: Mandeni | B18: =Data!F283 -> 76 | C18: =Data!G283 -> 17110 | D18: =Data!H283 -> 46823 | E18: =D18*1000 -> 46823000 | F18: =C18/B18 -> 225.13158 | G18: =E18/C18 -> 2736.5868 | H18: =B18/B$55*100 -> 0.41180805 | I18: =C18/C$55*100 -> 0.42681655 | J18: =D18/D$55*100 -> 0.37774092
A19: Okhahlamba | B19: =Data!F490 -> 175 | C19: =Data!G490 -> 23240 | D19: =Data!H490 -> 77756 | E19: =D19*1000 -> 77756000 | F19: =C19/B19 -> 132.8 | G19: =E19/C19 -> 3345.7831 | H19: =B19/B$55*100 -> 0.94824223 | I19: =C19/C$55*100 -> 0.57973213 | J19: =D19/D$55*100 -> 0.62729049
A20: AbaQulusi | B20: =Data!F17 -> 108 | C20: =Data!G17 -> 20448 | D20: =Data!H17 -> 43150 | E20: =D20*1000 -> 43150000 | F20: =C20/B20 -> 189.33333 | G20: =E20/C20 -> 2110.2308 | H20: =B20/B$55*100 -> 0.58520092 | I20: =C20/C$55*100 -> 0.51008445 | J20: =D20/D$55*100 -> 0.34810927
A21: Umshwathi | B21: =Data!F616 -> 92 | C21: =Data!G616 -> 23939 | D21: =Data!H616 -> 65127 | E21: =D21*1000 -> 65127000 | F21: =C21/B21 -> 260.20652 | G21: =E21/C21 -> 2720.5397 | H21: =B21/B$55*100 -> 0.49850449 | I21: =C21/C$55*100 -> 0.59716899 | J21: =D21/D$55*100 -> 0.52540702
A22: Umuziwabantu | B22: =Data!F644 -> 81 | C22: =Data!G644 -> 13540 | D22: =Data!H644 -> 33363 | E22: =D22*1000 -> 33363000 | F22: =C22/B22 -> 167.16049 | G22: =E22/C22 -> 2464.0325 | H22: =B22/B$55*100 -> 0.43890069 | I22: =C22/C$55*100 -> 0.33776132 | J22: =D22/D$55*100 -> 0.26915341
A23: Nquthu | B23: =Data!F462 -> 81 | C23: =Data!G462 -> 11728 | D23: =Data!H462 -> 19680 | E23: =D23*1000 -> 19680000 | F23: =C23/B23 -> 144.79012 | G23: =E23/C23 -> 1678.0355 | H23: =B23/B$55*100 -> 0.43890069 | I23: =C23/C$55*100 -> 0.29256017 | J23: =D23/D$55*100 -> 0.15876687
A24: Emadlangeni | B24: =Data!F73 -> 71 | C24: =Data!G73 -> 11163 | D24: =Data!H73 -> 24319 | E24: =D24*1000 -> 24319000 | F24: =C24/B24 -> 157.22535 | G24: =E24/C24 -> 2178.5362 | H24: =B24/B$55*100 -> 0.38471542 | I24: =C24/C$55*100 -> 0.27846599 | J24: =D24/D$55*100 -> 0.19619164
A25: Uphongolo | B25: =Data!F700 -> 64 | C25: =Data!G700 -> 12217 | D25: =Data!H700 -> 32333 | E25: =D25*1000 -> 32333000 | F25: =C25/B25 -> 190.89062 | G25: =E25/C25 -> 2646.5581 | H25: =B25/B$55*100 -> 0.34678573 | I25: =C25/C$55*100 -> 0.30475849 | J25: =D25/D$55*100 -> 0.26084397
A26: Greater Kokstad | B26: =Data!F143 -> 62 | C26: =Data!G143 -> 9411 | D26: =Data!H143 -> 21283 | E26: =D26*1000 -> 21283000 | F26: =C26/B26 -> 151.79032 | G26: =E26/C26 -> 2261.5025 | H26: =B26/B$55*100 -> 0.33594868 | I26: =C26/C$55*100 -> 0.23476158 | J26: =D26/D$55*100 -> 0.17169895
A27: Big 5 False Bay | B27: =Data!F31 -> 35 | C27: =Data!G31 -> 6500 | D27: =Data!H31 -> 17279 | E27: =D27*1000 -> 17279000 | F27: =C27/B27 -> 185.71429 | G27: =E27/C27 -> 2658.3077 | H27: =B27/B$55*100 -> 0.18964845 | I27: =C27/C$55*100 -> 0.16214539 | J27: =D27/D$55*100 -> 0.13939699
A28: Edumbe | B28: =Data!F59 -> 42 | C28: =Data!G59 -> 7153 | D28: =Data!H59 -> 13555 | E28: =D28*1000 -> 13555000 | F28: =C28/B28 -> 170.30952 | G28: =E28/C28 -> 1895.0091 | H28: =B28/B$55*100 -> 0.22757814 | I28: =C28/C$55*100 -> 0.17843476 | J28: =D28/D$55*100 -> 0.10935391
A29: Mkhambathini | B29: =Data!F322 -> 38 | C29: =Data!G322 -> 6736 | D29: =Data!H322 -> 12401 | E29: =D29*1000 -> 12401000 | F29: =C29/B29 -> 177.26316 | G29: =E29/C29 -> 1841.0036 | H29: =B29/B$55*100 -> 0.20590403 | I29: =C29/C$55*100 -> 0.16803251 | J29: =D29/D$55*100 -> 0.1000441
A30: Jozini | B30: =Data!F241 -> 46 | C30: =Data!G241 -> 6808 | D30: =Data!H241 -> 12573 | E30: =D30*1000 -> 12573000 | F30: =C30/B30 -> 148 | G30: =E30/C30 -> 1846.7979 | H30: =B30/B$55*100 -> 0.24925224 | I30: =C30/C$55*100 -> 0.16982858 | J30: =D30/D$55*100 -> 0.1014317
A31: Umvoti | B31: =Data!F658 -> 33 | C31: =Data!G658 -> 5127 | D31: =Data!H658 -> 11048 | E31: =D31*1000 -> 11048000 | F31: =C31/B31 -> 155.36364 | G31: =E31/C31 -> 2154.8664 | H31: =B31/B$55*100 -> 0.17881139 | I31: =C31/C$55*100 -> 0.12789529 | J31: =D31/D$55*100 -> 0.089128882
A32: Mthonjaneni | B32: =Data!F378 -> 28 | C32: =Data!G378 -> 4672 | D32: =Data!H378 -> 9663 | E32: =D32*1000 -> 9663000 | F32: =C32/B32 -> 166.85714 | G32: =E32/C32 -> 2068.2791 | H32: =B32/B$55*100 -> 0.15171876 | I32: =C32/C$55*100 -> 0.11654512 | J32: =D32/D$55*100 -> 0.077955502
A33: Ulundi | B33: =Data!F532 -> 101 | C33: =Data!G532 -> 10013 | D33: =Data!H532 -> 32580 | E33: =D33*1000 -> 32580000 | F33: =C33/B33 -> 99.138614 | G33: =E33/C33 -> 3253.7701 | H33: =B33/B$55*100 -> 0.54727123 | I33: =C33/C$55*100 -> 0.24977873 | J33: =D33/D$55*100 -> 0.26283662
A34: Ubuhlebezwe | B34: =Data!F518 -> 21 | C34: =Data!G518 -> 3240 | D34: =Data!H518 -> 6151 | E34: =D34*1000 -> 6151000 | F34: =C34/B34 -> 154.28571 | G34: =E34/C34 -> 1898.4568 | H34: =B34/B$55*100 -> 0.11378907 | I34: =C34/C$55*100 -> 0.08082324 | J34: =D34/D$55*100 -> 0.049622715
A35: Umzumbe | B35: =Data!F686 -> 13 | C35: =Data!G686 -> 2730 | D35: =Data!H686 -> 5187 | E35: =D35*1000 -> 5187000 | F35: =C35/B35 -> 210 | G35: =E35/C35 -> 1900 | H35: =B35/B$55*100 -> 0.070440851 | I35: =C35/C$55*100 -> 0.068101063 | J35: =D35/D$55*100 -> 0.04184572
A36: Richmond | B36: =Data!F504 -> 253.2 | C36: =Data!G504 -> 2332 | D36: =Data!H504 -> 7661 | E36: =D36*1000 -> 7661000 | F36: =C36/B36 -> 9.2101106 | G36: =E36/C36 -> 3285.163 | H36: =B36/B$55*100 -> 1.371971 | I36: =C36/C$55*100 -> 0.058172776 | J36: =D36/D$55*100 -> 0.061804523
A37: Umzimkhulu | B37: =Data!F672 -> 10 | C37: =Data!G672 -> 1738 | D37: =Data!H672 -> 8690 | E37: =D37*1000 -> 8690000 | F37: =C37/B37 -> 173.8 | G37: =E37/C37 -> 5000 | H37: =B37/B$55*100 -> 0.05418527 | I37: =C37/C$55*100 -> 0.043355182 | J37: =D37/D$55*100 -> 0.0701059
A38: Nkandla | B38: =Data!F434 -> 6 | C38: =Data!G434 -> 1383 | D38: =Data!H434 -> 3100 | E38: =D38*1000 -> 3100000 | F38: =C38/B38 -> 230.5 | G38: =E38/C38 -> 2241.504 | H38: =B38/B$55*100 -> 0.032511162 | I38: =C38/C$55*100 -> 0.034499549 | J38: =D38/D$55*100 -> 0.025009009
A39: Mbonambi | B39: =Data!F308 -> 4 | C39: =Data!G308 -> 1119 | D39: =Data!H308 -> 2300 | E39: =D39*1000 -> 2300000 | F39: =C39/B39 -> 279.75 | G39: =E39/C39 -> 2055.4066 | H39: =B39/B$55*100 -> 0.021674108 | I39: =C39/C$55*100 -> 0.027913952 | J39: =D39/D$55*100 -> 0.018555071
A40: Nongoma | B40: =Data!F448 -> 5 | C40: =Data!G448 -> 665 | D40: =Data!H448 -> 2184 | E40: =D40*1000 -> 2184000 | F40: =C40/B40 -> 133 | G40: =E40/C40 -> 3284.2105 | H40: =B40/B$55*100 -> 0.027092635 | I40: =C40/C$55*100 -> 0.01658872 | J40: =D40/D$55*100 -> 0.01761925
A41: Dannhauser | B41: =Data!F45 -> 3 | C41: =Data!G45 -> 405 | D41: =Data!H45 -> 942 | E41: =D41*1000 -> 942000 | F41: =C41/B41 -> 135 | G41: =E41/C41 -> 2325.9259 | H41: =B41/B$55*100 -> 0.016255581 | I41: =C41/C$55*100 -> 0.010102905 | J41: =D41/D$55*100 -> 0.0075995119
A42: Ingwe | B42: =Data!F227 -> 3 | C42: =Data!G227 -> 464 | D42: =Data!H227 -> 873 | E42: =D42*1000 -> 873000 | F42: =C42/B42 -> 154.66667 | G42: =E42/C42 -> 1881.4655 | H42: =B42/B$55*100 -> 0.016255581 | I42: =C42/C$55*100 -> 0.011574686 | J42: =D42/D$55*100 -> 0.0070428597
A43: Ezinqoleni | B43: =Data!F129 -> 0 | C43: =Data!G129 -> 0 | D43: =Data!H129 -> 0 | E43: =D43*1000 -> 0 | F43: =C43/B43 -> #DIV/0! | G43: =E43/C43 -> #DIV/0! | H43: =B43/B$55*100 -> 0 | I43: =C43/C$55*100 -> 0 | J43: =D43/D$55*100 -> 0
A44: Hlabisa | B44: =Data!F171 -> 0 | C44: =Data!G171 -> 0 | D44: =Data!H171 -> 0 | E44: =D44*1000 -> 0 | F44: =C44/B44 -> #DIV/0! | G44: =E44/C44 -> #DIV/0! | H44: =B44/B$55*100 -> 0 | I44: =C44/C$55*100 -> 0 | J44: =D44/D$55*100 -> 0
A45: Imbabazane | B45: =Data!F185 -> 0 | C45: =Data!G185 -> 0 | D45: =Data!H185 -> 0 | E45: =D45*1000 -> 0 | F45: =C45/B45 -> #DIV/0! | G45: =E45/C45 -> #DIV/0! | H45: =B45/B$55*100 -> 0 | I45: =C45/C$55*100 -> 0 | J45: =D45/D$55*100 -> 0
A46: Impendle | B46: =Data!F199 -> 0 | C46: =Data!G199 -> 0 | D46: =Data!H199 -> 0 | E46: =D46*1000 -> 0 | F46: =C46/B46 -> #DIV/0! | G46: =E46/C46 -> #DIV/0! | H46: =B46/B$55*100 -> 0 | I46: =C46/C$55*100 -> 0 | J46: =D46/D$55*100 -> 0
A47: Indaka | B47: =Data!F213 -> 0 | C47: =Data!G213 -> 0 | D47: =Data!H213 -> 0 | E47: =D47*1000 -> 0 | F47: =C47/B47 -> #DIV/0! | G47: =E47/C47 -> #DIV/0! | H47: =B47/B$55*100 -> 0 | I47: =C47/C$55*100 -> 0 | J47: =D47/D$55*100 -> 0
A48: Maphumulo | B48: =Data!F294 -> 0 | C48: =Data!G294 -> 0 | D48: =Data!H294 -> 0 | E48: =D48*1000 -> 0 | F48: =C48/B48 -> #DIV/0! | G48: =E48/C48 -> #DIV/0! | H48: =B48/B$55*100 -> 0 | I48: =C48/C$55*100 -> 0 | J48: =D48/D$55*100 -> 0
A49: Msinga | B49: =Data!F350 -> 0 | C49: =Data!G350 -> 0 | D49: =Data!H350 -> 0 | E49: =D49*1000 -> 0 | F49: =C49/B49 -> #DIV/0! | G49: =E49/C49 -> #DIV/0! | H49: =B49/B$55*100 -> 0 | I49: =C49/C$55*100 -> 0 | J49: =D49/D$55*100 -> 0
A50: Ndwedwe | B50: =Data!F406 -> 0 | C50: =Data!G406 -> 0 | D50: =Data!H406 -> 0 | E50: =D50*1000 -> 0 | F50: =C50/B50 -> #DIV/0! | G50: =E50/C50 -> #DIV/0! | H50: =B50/B$55*100 -> 0 | I50: =C50/C$55*100 -> 0 | J50: =D50/D$55*100 -> 0
A51: Ntambanana | B51: =Data!F476 -> 0 | C51: =Data!G476 -> 0 | D51: =Data!H476 -> 0 | E51: =D51*1000 -> 0 | F51: =C51/B51 -> #DIV/0! | G51: =E51/C51 -> #DIV/0! | H51: =B51/B$55*100 -> 0 | I51: =C51/C$55*100 -> 0 | J51: =D51/D$55*100 -> 0
A52: Umhlabuyalingana | B52: =Data!F560 -> 0 | C52: =Data!G560 -> 0 | D52: =Data!H560 -> 0 | E52: =D52*1000 -> 0 | F52: =C52/B52 -> #DIV/0! | G52: =E52/C52 -> #DIV/0! | H52: =B52/B$55*100 -> 0 | I52: =C52/C$55*100 -> 0 | J52: =D52/D$55*100 -> 0
A53: Valamehlo | B53: =Data!F714 -> 0 | C53: =Data!G714 -> 0 | D53: =Data!H714 -> 0 | E53: =D53*1000 -> 0 | F53: =C53/B53 -> #DIV/0! | G53: =E53/C53 -> #DIV/0! | H53: =B53/B$55*100 -> 0 | I53: =C53/C$55*100 -> 0 | J53: =D53/D$55*100 -> 0
A55: Total | B55: =SUM(B3:B53) -> 18455.2 | C55: =SUM(C3:C53) -> 4008748 | D55: =SUM(D3:D53) -> 12395533 | E55: =SUM(E3:E53) -> 12395533000

Sheet Flats
A1: Flats
B2: Number of Building Plans Completed | C2: Square Meters Completed | D2: Total Rand Value | E2: Total Rand Value | F2: Square Meters per Building Plan | G2: Cost per Square Meter | H2: Building Plans As a % of Total | I2: Square Meters As a % of Total | J2: Rand Value As a % of Total
A3: Ethekwini | B3: =Data!I115 -> 4283 | C3: =Data!J115 -> 666777 | D3: =Data!K115 -> 2917333 | E3: =D3*1000 -> 2917333000 | F3: =C3/B3 -> 155.6799 | G3: =E3/C3 -> 4375.2754 | H3: =B3/B$55*100 -> 55.06557 | I3: =C3/C$55*100 -> 59.08111 | J3: =D3/D$55*100 -> 59.015399
A4: KwaDukuza | B4: =Data!I269 -> 1704 | C4: =Data!J269 -> 291510 | D4: =Data!K269 -> 1558940 | E4: =D4*1000 -> 1558940000 | F4: =C4/B4 -> 171.07394 | G4: =E4/C4 -> 5347.8097 | H4: =B4/B$55*100 -> 21.907945 | I4: =C4/C$55*100 -> 25.829827 | J4: =D4/D$55*100 -> 31.536155
A5: Hibiscus Coast | B5: =Data!I157 -> 348 | C5: =Data!J157 -> 40326 | D5: =Data!K157 -> 114686 | E5: =D5*1000 -> 114686000 | F5: =C5/B5 -> 115.87931 | G5: =E5/C5 -> 2843.9716 | H5: =B5/B$55*100 -> 4.4741579 | I5: =C5/C$55*100 -> 3.5731659 | J5: =D5/D$55*100 -> 2.3200094
A6: Msunduzi | B6: =Data!I364 -> 527 | C6: =Data!J364 -> 30400 | D6: =Data!K364 -> 78634 | E6: =D6*1000 -> 78634000 | F6: =C6/B6 -> 57.685009 | G6: =E6/C6 -> 2586.6447 | H6: =B6/B$55*100 -> 6.7755207 | I6: =C6/C$55*100 -> 2.6936528 | J6: =D6/D$55*100 -> 1.5907052
A7: New Castle | B7: =Data!I420 -> 204 | C7: =Data!J420 -> 19765 | D7: =Data!K420 -> 52773 | E7: =D7*1000 -> 52773000 | F7: =C7/B7 -> 96.887255 | G7: =E7/C7 -> 2670.0228 | H7: =B7/B$55*100 -> 2.6227822 | I7: =C7/C$55*100 -> 1.7513174 | J7: =D7/D$55*100 -> 1.0675571
A8: uMhlathuze | B8: =Data!I574 -> 100 | C8: =Data!J574 -> 13514 | D8: =Data!K574 -> 32877 | E8: =D8*1000 -> 32877000 | F8: =C8/B8 -> 135.14 | G8: =E8/C8 -> 2432.8104 | H8: =B8/B$55*100 -> 1.2856776 | I8: =C8/C$55*100 -> 1.197435 | J8: =D8/D$55*100 -> 0.66507638
A9: Mtubatuba | B9: =Data!I392 -> 110 | C9: =Data!J392 -> 10660 | D9: =Data!K392 -> 24077 | E9: =D9*1000 -> 24077000 | F9: =C9/B9 -> 96.909091 | G9: =E9/C9 -> 2258.6304 | H9: =B9/B$55*100 -> 1.4142453 | I9: =C9/C$55*100 -> 0.94455063 | J9: =D9/D$55*100 -> 0.48705916
A10: Umdoni | B10: =Data!I546 -> 95 | C10: =Data!J546 -> 14883 | D10: =Data!K546 -> 46781 | E10: =D10*1000 -> 46781000 | F10: =C10/B10 -> 156.66316 | G10: =E10/C10 -> 3143.2507 | H10: =B10/B$55*100 -> 1.2213937 | I10: =C10/C$55*100 -> 1.318738 | J10: =D10/D$55*100 -> 0.94634359
A11: Mandeni | B11: =Data!I283 -> 106 | C11: =Data!J283 -> 8720 | D11: =Data!K283 -> 12028 | E11: =D11*1000 -> 12028000 | F11: =C11/B11 -> 82.264151 | G11: =E11/C11 -> 1379.3578 | H11: =B11/B$55*100 -> 1.3628182 | I11: =C11/C$55*100 -> 0.77265304 | J11: =D11/D$55*100 -> 0.24331717
A12: Umngeni | B12: =Data!I602 -> 88 | C12: =Data!J602 -> 10806 | D12: =Data!K602 -> 36713 | E12: =D12*1000 -> 36713000 | F12: =C12/B12 -> 122.79545 | G12: =E12/C12 -> 3397.4644 | H12: =B12/B$55*100 -> 1.1313962 | I12: =C12/C$55*100 -> 0.95748725 | J12: =D12/D$55*100 -> 0.7426757
A13: Okhahlamba | B13: =Data!I490 -> 39 | C13: =Data!J490 -> 5219 | D13: =Data!K490 -> 15658 | E13: =D13*1000 -> 15658000 | F13: =C13/B13 -> 133.82051 | G13: =E13/C13 -> 3000.1916 | H13: =B13/B$55*100 -> 0.50141425 | I13: =C13/C$55*100 -> 0.46243994 | J13: =D13/D$55*100 -> 0.31674928
A14: Endumeni | B14: =Data!I101 -> 31 | C14: =Data!J101 -> 3492 | D14: =Data!K101 -> 8731 | E14: =D14*1000 -> 8731000 | F14: =C14/B14 -> 112.64516 | G14: =E14/C14 -> 2500.2864 | H14: =B14/B$55*100 -> 0.39856004 | I14: =C14/C$55*100 -> 0.30941565 | J14: =D14/D$55*100 -> 0.1766214
A15: Umtshezi | B15: =Data!I630 -> 20 | C15: =Data!J630 -> 2104 | D15: =Data!K630 -> 4800 | E15: =D15*1000 -> 4800000 | F15: =C15/B15 -> 105.2 | G15: =E15/C15 -> 2281.3688 | H15: =B15/B$55*100 -> 0.25713551 | I15: =C15/C$55*100 -> 0.18642913 | J15: =D15/D$55*100 -> 0.097100302
A16: Umlalazi | B16: =Data!I588 -> 28 | C16: =Data!J588 -> 3518 | D16: =Data!K588 -> 15650 | E16: =D16*1000 -> 15650000 | F16: =C16/B16 -> 125.64286 | G16: =E16/C16 -> 4448.5503 | H16: =B16/B$55*100 -> 0.35998971 | I16: =C16/C$55*100 -> 0.31171943 | J16: =D16/D$55*100 -> 0.31658744
A17: Emnambithi | B17: =Data!I87 -> 44 | C17: =Data!J87 -> 3149 | D17: =Data!K87 -> 13293 | E17: =D17*1000 -> 13293000 | F17: =C17/B17 -> 71.568182 | G17: =E17/C17 -> 4221.3401 | H17: =B17/B$55*100 -> 0.56569812 | I17: =C17/C$55*100 -> 0.27902344 | J17: =D17/D$55*100 -> 0.26890715
A18: Umzimkhulu | B18: =Data!I672 -> 14 | C18: =Data!J672 -> 1080 | D18: =Data!K672 -> 2117 | E18: =D18*1000 -> 2117000 | F18: =C18/B18 -> 77.142857 | G18: =E18/C18 -> 1960.1852 | H18: =B18/B$55*100 -> 0.17999486 | I18: =C18/C$55*100 -> 0.095695561 | J18: =D18/D$55*100 -> 0.042825279
A19: Nongoma | B19: =Data!I448 -> 12 | C19: =Data!J448 -> 902 | D19: =Data!K448 -> 3608 | E19: =D19*1000 -> 3608000 | F19: =C19/B19 -> 75.166667 | G19: =E19/C19 -> 4000 | H19: =B19/B$55*100 -> 0.15428131 | I19: =C19/C$55*100 -> 0.079923514 | J19: =D19/D$55*100 -> 0.07298706
A20: Edumbe | B20: =Data!I59 -> 12 | C20: =Data!J59 -> 706 | D20: =Data!K59 -> 1723 | E20: =D20*1000 -> 1723000 | F20: =C20/B20 -> 58.833333 | G20: =E20/C20 -> 2440.5099 | H20: =B20/B$55*100 -> 0.15428131 | I20: =C20/C$55*100 -> 0.062556542 | J20: =D20/D$55*100 -> 0.034854962
A21: Uphongolo | B21: =Data!I700 -> 10 | C21: =Data!J700 -> 688 | D21: =Data!K700 -> 1720 | E21: =D21*1000 -> 1720000 | F21: =C21/B21 -> 68.8 | G21: =E21/C21 -> 2500 | H21: =B21/B$55*100 -> 0.12856776 | I21: =C21/C$55*100 -> 0.060961616 | J21: =D21/D$55*100 -> 0.034794275
A22: Umvoti | B22: =Data!I658 -> 3 | C22: =Data!J658 -> 360 | D22: =Data!K658 -> 1200 | E22: =D22*1000 -> 1200000 | F22: =C22/B22 -> 120 | G22: =E22/C22 -> 3333.3333 | H22: =B22/B$55*100 -> 0.038570327 | I22: =C22/C$55*100 -> 0.03189852 | J22: =D22/D$55*100 -> 0.024275075
A23: Umshwathi | B23: =Data!I616 -> 0 | C23: =Data!J616 -> 0 | D23: =Data!K616 -> 0 | E23: =D23*1000 -> 0 | F23: =C23/B23 -> #DIV/0! | G23: =E23/C23 -> #DIV/0! | H23: =B23/B$55*100 -> 0 | I23: =C23/C$55*100 -> 0 | J23: =D23/D$55*100 -> 0
A24: AbaQulusi | B24: =Data!I17 -> 0 | C24: =Data!J17 -> 0 | D24: =Data!K17 -> 0 | E24: =D24*1000 -> 0 | F24: =C24/B24 -> #DIV/0! | G24: =E24/C24 -> #DIV/0! | H24: =B24/B$55*100 -> 0 | I24: =C24/C$55*100 -> 0 | J24: =D24/D$55*100 -> 0
A25: Umuziwabantu | B25: =Data!I644 -> 0 | C25: =Data!J644 -> 0 | D25: =Data!K644 -> 0 | E25: =D25*1000 -> 0 | F25: =C25/B25 -> #DIV/0! | G25: =E25/C25 -> #DIV/0! | H25: =B25/B$55*100 -> 0 | I25: =C25/C$55*100 -> 0 | J25: =D25/D$55*100 -> 0
A26: Big 5 False Bay | B26: =Data!I31 -> 0 | C26: =Data!J31 -> 0 | D26: =Data!K31 -> 0 | E26: =D26*1000 -> 0 | F26: =C26/B26 -> #DIV/0! | G26: =E26/C26 -> #DIV/0! | H26: =B26/B$55*100 -> 0 | I26: =C26/C$55*100 -> 0 | J26: =D26/D$55*100 -> 0
A27: Dannhauser | B27: =Data!I45 -> 0 | C27: =Data!J45 -> 0 | D27: =Data!K45 -> 0 | E27: =D27*1000 -> 0 | F27: =C27/B27 -> #DIV/0! | G27: =E27/C27 -> #DIV/0! | H27: =B27/B$55*100 -> 0 | I27: =C27/C$55*100 -> 0 | J27: =D27/D$55*100 -> 0
A28: Emadlangeni | B28: =Data!I73 -> 0 | C28: =Data!J73 -> 0 | D28: =Data!K73 -> 0 | E28: =D28*1000 -> 0 | F28: =C28/B28 -> #DIV/0! | G28: =E28/C28 -> #DIV/0! | H28: =B28/B$55*100 -> 0 | I28: =C28/C$55*100 -> 0 | J28: =D28/D$55*100 -> 0
A29: Ezinqoleni | B29: =Data!I129 -> 0 | C29: =Data!J129 -> 0 | D29: =Data!K129 -> 0 | E29: =D29*1000 -> 0 | F29: =C29/B29 -> #DIV/0! | G29: =E29/C29 -> #DIV/0! | H29: =B29/B$55*100 -> 0 | I29: =C29/C$55*100 -> 0 | J29: =D29/D$55*100 -> 0
A30: Greater Kokstad | B30: =Data!I143 -> 0 | C30: =Data!J143 -> 0 | D30: =Data!K143 -> 0 | E30: =D30*1000 -> 0 | F30: =C30/B30 -> #DIV/0! | G30: =E30/C30 -> #DIV/0! | H30: =B30/B$55*100 -> 0 | I30: =C30/C$55*100 -> 0 | J30: =D30/D$55*100 -> 0
A31: Hlabisa | B31: =Data!I171 -> 0 | C31: =Data!J171 -> 0 | D31: =Data!K171 -> 0 | E31: =D31*1000 -> 0 | F31: =C31/B31 -> #DIV/0! | G31: =E31/C31 -> #DIV/0! | H31: =B31/B$55*100 -> 0 | I31: =C31/C$55*100 -> 0 | J31: =D31/D$55*100 -> 0
A32: Imbabazane | B32: =Data!I185 -> 0 | C32: =Data!J185 -> 0 | D32: =Data!K185 -> 0 | E32: =D32*1000 -> 0 | F32: =C32/B32 -> #DIV/0! | G32: =E32/C32 -> #DIV/0! | H32: =B32/B$55*100 -> 0 | I32: =C32/C$55*100 -> 0 | J32: =D32/D$55*100 -> 0
A33: Impendle | B33: =Data!I199 -> 0 | C33: =Data!J199 -> 0 | D33: =Data!K199 -> 0 | E33: =D33*1000 -> 0 | F33: =C33/B33 -> #DIV/0! | G33: =E33/C33 -> #DIV/0! | H33: =B33/B$55*100 -> 0 | I33: =C33/C$55*100 -> 0 | J33: =D33/D$55*100 -> 0
A34: Indaka | B34: =Data!I213 -> 0 | C34: =Data!J213 -> 0 | D34: =Data!K213 -> 0 | E34: =D34*1000 -> 0 | F34: =C34/B34 -> #DIV/0! | G34: =E34/C34 -> #DIV/0! | H34: =B34/B$55*100 -> 0 | I34: =C34/C$55*100 -> 0 | J34: =D34/D$55*100 -> 0
A35: Ingwe | B35: =Data!I227 -> 0 | C35: =Data!J227 -> 0 | D35: =Data!K227 -> 0 | E35: =D35*1000 -> 0 | F35: =C35/B35 -> #DIV/0! | G35: =E35/C35 -> #DIV/0! | H35: =B35/B$55*100 -> 0 | I35: =C35/C$55*100 -> 0 | J35: =D35/D$55*100 -> 0
A36: Jozini | B36: =Data!I241 -> 0 | C36: =Data!J241 -> 0 | D36: =Data!K241 -> 0 | E36: =D36*1000 -> 0 | F36: =C36/B36 -> #DIV/0! | G36: =E36/C36 -> #DIV/0! | H36: =B36/B$55*100 -> 0 | I36: =C36/C$55*100 -> 0 | J36: =D36/D$55*100 -> 0
A37: KwaSani | B37: =Data!I255 -> 0 | C37: =Data!J255 -> 0 | D37: =Data!K255 -> 0 | E37: =D37*1000 -> 0 | F37: =C37/B37 -> #DIV/0! | G37: =E37/C37 -> #DIV/0! | H37: =B37/B$55*100 -> 0 | I37: =C37/C$55*100 -> 0 | J37: =D37/D$55*100 -> 0
A38: Maphumulo | B38: =Data!I294 -> 0 | C38: =Data!J294 -> 0 | D38: =Data!K294 -> 0 | E38: =D38*1000 -> 0 | F38: =C38/B38 -> #DIV/0! | G38: =E38/C38 -> #DIV/0! | H38: =B38/B$55*100 -> 0 | I38: =C38/C$55*100 -> 0 | J38: =D38/D$55*100 -> 0
A39: Mbonambi | B39: =Data!I308 -> 0 | C39: =Data!J308 -> 0 | D39: =Data!K308 -> 0 | E39: =D39*1000 -> 0 | F39: =C39/B39 -> #DIV/0! | G39: =E39/C39 -> #DIV/0! | H39: =B39/B$55*100 -> 0 | I39: =C39/C$55*100 -> 0 | J39: =D39/D$55*100 -> 0
A40: Mkhambathini | B40: =Data!I322 -> 0 | C40: =Data!J322 -> 0 | D40: =Data!K322 -> 0 | E40: =D40*1000 -> 0 | F40: =C40/B40 -> #DIV/0! | G40: =E40/C40 -> #DIV/0! | H40: =B40/B$55*100 -> 0 | I40: =C40/C$55*100 -> 0 | J40: =D40/D$55*100 -> 0
A41: Mpofana | B41: =Data!I336 -> 0 | C41: =Data!J336 -> 0 | D41: =Data!K336 -> 0 | E41: =D41*1000 -> 0 | F41: =C41/B41 -> #DIV/0! | G41: =E41/C41 -> #DIV/0! | H41: =B41/B$55*100 -> 0 | I41: =C41/C$55*100 -> 0 | J41: =D41/D$55*100 -> 0
A42: Msinga | B42: =Data!I350 -> 0 | C42: =Data!J350 -> 0 | D42: =Data!K350 -> 0 | E42: =D42*1000 -> 0 | F42: =C42/B42 -> #DIV/0! | G42: =E42/C42 -> #DIV/0! | H42: =B42/B$55*100 -> 0 | I42: =C42/C$55*100 -> 0 | J42: =D42/D$55*100 -> 0
A43: Mthonjaneni | B43: =Data!I378 -> 0 | C43: =Data!J378 -> 0 | D43: =Data!K378 -> 0 | E43: =D43*1000 -> 0 | F43: =C43/B43 -> #DIV/0! | G43: =E43/C43 -> #DIV/0! | H43: =B43/B$55*100 -> 0 | I43: =C43/C$55*100 -> 0 | J43: =D43/D$55*100 -> 0
A44: Ndwedwe | B44: =Data!I406 -> 0 | C44: =Data!J406 -> 0 | D44: =Data!K406 -> 0 | E44: =D44*1000 -> 0 | F44: =C44/B44 -> #DIV/0! | G44: =E44/C44 -> #DIV/0! | H44: =B44/B$55*100 -> 0 | I44: =C44/C$55*100 -> 0 | J44: =D44/D$55*100 -> 0
A45: Nkandla | B45: =Data!I434 -> 0 | C45: =Data!J434 -> 0 | D45: =Data!K434 -> 0 | E45: =D45*1000 -> 0 | F45: =C45/B45 -> #DIV/0! | G45: =E45/C45 -> #DIV/0! | H45: =B45/B$55*100 -> 0 | I45: =C45/C$55*100 -> 0 | J45: =D45/D$55*100 -> 0
A46: Nquthu | B46: =Data!I462 -> 0 | C46: =Data!J462 -> 0 | D46: =Data!K462 -> 0 | E46: =D46*1000 -> 0 | F46: =C46/B46 -> #DIV/0! | G46: =E46/C46 -> #DIV/0! | H46: =B46/B$55*100 -> 0 | I46: =C46/C$55*100 -> 0 | J46: =D46/D$55*100 -> 0
A47: Ntambanana | B47: =Data!I476 -> 0 | C47: =Data!J476 -> 0 | D47: =Data!K476 -> 0 | E47: =D47*1000 -> 0 | F47: =C47/B47 -> #DIV/0! | G47: =E47/C47 -> #DIV/0! | H47: =B47/B$55*100 -> 0 | I47: =C47/C$55*100 -> 0 | J47: =D47/D$55*100 -> 0
A48: Richmond | B48: =Data!I504 -> 0 | C48: =Data!J504 -> 0 | D48: =Data!K504 -> 0 | E48: =D48*1000 -> 0 | F48: =C48/B48 -> #DIV/0! | G48: =E48/C48 -> #DIV/0! | H48: =B48/B$55*100 -> 0 | I48: =C48/C$55*100 -> 0 | J48: =D48/D$55*100 -> 0
A49: Ubuhlebezwe | B49: =Data!I518 -> 0 | C49: =Data!J518 -> 0 | D49: =Data!K518 -> 0 | E49: =D49*1000 -> 0 | F49: =C49/B49 -> #DIV/0! | G49: =E49/C49 -> #DIV/0! | H49: =B49/B$55*100 -> 0 | I49: =C49/C$55*100 -> 0 | J49: =D49/D$55*100 -> 0
A50: Ulundi | B50: =Data!I532 -> 0 | C50: =Data!J532 -> 0 | D50: =Data!K532 -> 0 | E50: =D50*1000 -> 0 | F50: =C50/B50 -> #DIV/0! | G50: =E50/C50 -> #DIV/0! | H50: =B50/B$55*100 -> 0 | I50: =C50/C$55*100 -> 0 | J50: =D50/D$55*100 -> 0
A51: Umhlabuyalingana | B51: =Data!I560 -> 0 | C51: =Data!J560 -> 0 | D51: =Data!K560 -> 0 | E51: =D51*1000 -> 0 | F51: =C51/B51 -> #DIV/0! | G51: =E51/C51 -> #DIV/0! | H51: =B51/B$55*100 -> 0 | I51: =C51/C$55*100 -> 0 | J51: =D51/D$55*100 -> 0
A52: Umzumbe | B52: =Data!I686 -> 0 | C52: =Data!J686 -> 0 | D52: =Data!K686 -> 0 | E52: =D52*1000 -> 0 | F52: =C52/B52 -> #DIV/0! | G52: =E52/C52 -> #DIV/0! | H52: =B52/B$55*100 -> 0 | I52: =C52/C$55*100 -> 0 | J52: =D52/D$55*100 -> 0
A53: Valamehlo | B53: =Data!I714 -> 0 | C53: =Data!J714 -> 0 | D53: =Data!K714 -> 0 | E53: =D53*1000 -> 0 | F53: =C53/B53 -> #DIV/0! | G53: =E53/C53 -> #DIV/0! | H53: =B53/B$55*100 -> 0 | I53: =C53/C$55*100 -> 0 | J53: =D53/D$55*100 -> 0
A55: Total | B55: =SUM(B3:B53) -> 7778 | C55: =SUM(C3:C53) -> 1128579 | D55: =SUM(D3:D53) -> 4943342 | E55: =SUM(E3:E53) -> 4943342000

Sheet Townhouses
A1: Townhouses
B2: Number of Building Plans Completed | C2: Square Meters Completed | D2: Total Rand Value | E2: Total Rand Value | F2: Square Meters per Building Plan | G2: Cost per Square Meter | H2: Building Plans As a % of Total | I2: Square Meters As a % of Total | J2: Rand Value As a % of Total
A3: Ethekwini | B3: =Data!L115 -> 6647 | C3: =Data!M115 -> 1267527 | D3: =Data!N115 -> 4389008 | E3: =D3*1000 -> 4389008000 | F3: =C3/B3 -> 190.69159 | G3: =E3/C3 -> 3462.6544 | H3: =B3/B$55*100 -> 51.427466 | I3: =C3/C$55*100 -> 55.005765 | J3: =D3/D$55*100 -> 56.690163
A4: Hibiscus Coast | B4: =Data!L157 -> 2237 | C4: =Data!M157 -> 341025 | D4: =Data!N157 -> 1179882 | E4: =D4*1000 -> 1179882000 | F4: =C4/B4 -> 152.44747 | G4: =E4/C4 -> 3459.8109 | H4: =B4/B$55*100 -> 17.307544 | I4: =C4/C$55*100 -> 14.799165 | J4: =D4/D$55*100 -> 15.239823
A5: KwaDukuza | B5: =Data!L269 -> 1042 | C5: =Data!M269 -> 235992 | D5: =Data!N269 -> 885835 | E5: =D5*1000 -> 885835000 | F5: =C5/B5 -> 226.47985 | G5: =E5/C5 -> 3753.6654 | H5: =B5/B$55*100 -> 8.0618956 | I5: =C5/C$55*100 -> 10.241139 | J5: =D5/D$55*100 -> 11.441795
A6: Umngeni | B6: =Data!L602 -> 1111 | C6: =Data!M602 -> 187059 | D6: =Data!N602 -> 526450 | E6: =D6*1000 -> 526450000 | F6: =C6/B6 -> 168.36994 | G6: =E6/C6 -> 2814.3527 | H6: =B6/B$55*100 -> 8.5957447 | I6: =C6/C$55*100 -> 8.1176365 | J6: =D6/D$55*100 -> 6.7998364
A7: New Castle | B7: =Data!L420 -> 352 | C7: =Data!M420 -> 58418 | D7: =Data!N420 -> 132969 | E7: =D7*1000 -> 132969000 | F7: =C7/B7 -> 165.96023 | G7: =E7/C7 -> 2276.1649 | H7: =B7/B$55*100 -> 2.7234043 | I7: =C7/C$55*100 -> 2.5351151 | J7: =D7/D$55*100 -> 1.7174802
A8: Msunduzi | B8: =Data!L364 -> 285 | C8: =Data!M364 -> 43787 | D8: =Data!N364 -> 103470 | E8: =D8*1000 -> 103470000 | F8: =C8/B8 -> 153.6386 | G8: =E8/C8 -> 2363.0301 | H8: =B8/B$55*100 -> 2.205029 | I8: =C8/C$55*100 -> 1.9001863 | J8: =D8/D$55*100 -> 1.3364594
A9: Umdoni | B9: =Data!L546 -> 172 | C9: =Data!M546 -> 28579 | D9: =Data!N546 -> 98912 | E9: =D9*1000 -> 98912000 | F9: =C9/B9 -> 166.15698 | G9: =E9/C9 -> 3461.0028 | H9: =B9/B$55*100 -> 1.3307544 | I9: =C9/C$55*100 -> 1.240218 | J9: =D9/D$55*100 -> 1.2775865
A10: Okhahlamba | B10: =Data!L490 -> 128 | C10: =Data!M490 -> 18903 | D10: =Data!N490 -> 73144 | E10: =D10*1000 -> 73144000 | F10: =C10/B10 -> 147.67969 | G10: =E10/C10 -> 3869.4387 | H10: =B10/B$55*100 -> 0.99032882 | I10: =C10/C$55*100 -> 0.82031703 | J10: =D10/D$55*100 -> 0.94475683
A11: Nkandla | B11: =Data!L434 -> 78 | C11: =Data!M434 -> 13013 | D11: =Data!N434 -> 28628 | E11: =D11*1000 -> 28628000 | F11: =C11/B11 -> 166.83333 | G11: =E11/C11 -> 2199.9539 | H11: =B11/B$55*100 -> 0.60348162 | I11: =C11/C$55*100 -> 0.56471383 | J11: =D11/D$55*100 -> 0.36977057
A12: Mandeni | B12: =Data!L283 -> 114 | C12: =Data!M283 -> 12600 | D12: =Data!N283 -> 36126 | E12: =D12*1000 -> 36126000 | F12: =C12/B12 -> 110.52632 | G12: =E12/C12 -> 2867.1429 | H12: =B12/B$55*100 -> 0.88201161 | I12: =C12/C$55*100 -> 0.54679123 | J12: =D12/D$55*100 -> 0.4666177
A13: uMhlathuze | B13: =Data!L574 -> 104 | C13: =Data!M574 -> 12580 | D13: =Data!N574 -> 28579 | E13: =D13*1000 -> 28579000 | F13: =C13/B13 -> 120.96154 | G13: =E13/C13 -> 2271.7806 | H13: =B13/B$55*100 -> 0.80464217 | I13: =C13/C$55*100 -> 0.5459233 | J13: =D13/D$55*100 -> 0.36913767
A14: Umlalazi | B14: =Data!L588 -> 127 | C14: =Data!M588 -> 18416 | D14: =Data!N588 -> 73903 | E14: =D14*1000 -> 73903000 | F14: =C14/B14 -> 145.00787 | G14: =E14/C14 -> 4012.9778 | H14: =B14/B$55*100 -> 0.98259188 | I14: =C14/C$55*100 -> 0.79918311 | J14: =D14/D$55*100 -> 0.95456038
A15: Endumeni | B15: =Data!L101 -> 62 | C15: =Data!M101 -> 11548 | D15: =Data!N101 -> 29459 | E15: =D15*1000 -> 29459000 | F15: =C15/B15 -> 186.25806 | G15: =E15/C15 -> 2551.0045 | H15: =B15/B$55*100 -> 0.47969052 | I15: =C15/C$55*100 -> 0.5011385 | J15: =D15/D$55*100 -> 0.3805041
A16: Mthonjaneni | B16: =Data!L378 -> 57 | C16: =Data!M378 -> 6300 | D16: =Data!N378 -> 18063 | E16: =D16*1000 -> 18063000 | F16: =C16/B16 -> 110.52632 | G16: =E16/C16 -> 2867.1429 | H16: =B16/B$55*100 -> 0.4410058 | I16: =C16/C$55*100 -> 0.27339561 | J16: =D16/D$55*100 -> 0.23330885
A17: Ndwedwe | B17: =Data!L406 -> 57 | C17: =Data!M406 -> 6300 | D17: =Data!N406 -> 18063 | E17: =D17*1000 -> 18063000 | F17: =C17/B17 -> 110.52632 | G17: =E17/C17 -> 2867.1429 | H17: =B17/B$55*100 -> 0.4410058 | I17: =C17/C$55*100 -> 0.27339561 | J17: =D17/D$55*100 -> 0.23330885
A18: AbaQulusi | B18: =Data!L17 -> 38 | C18: =Data!M17 -> 5715 | D18: =Data!N17 -> 9812 | E18: =D18*1000 -> 9812000 | F18: =C18/B18 -> 150.39474 | G18: =E18/C18 -> 1716.8854 | H18: =B18/B$55*100 -> 0.29400387 | I18: =C18/C$55*100 -> 0.24800888 | J18: =D18/D$55*100 -> 0.12673567
A19: Mkhambathini | B19: =Data!L322 -> 41 | C19: =Data!M322 -> 7827 | D19: =Data!N322 -> 29080 | E19: =D19*1000 -> 29080000 | F19: =C19/B19 -> 190.90244 | G19: =E19/C19 -> 3715.3443 | H19: =B19/B$55*100 -> 0.3172147 | I19: =C19/C$55*100 -> 0.3396615 | J19: =D19/D$55*100 -> 0.37560878
A20: Umtshezi | B20: =Data!L630 -> 72 | C20: =Data!M630 -> 7469 | D20: =Data!N630 -> 26474 | E20: =D20*1000 -> 26474000 | F20: =C20/B20 -> 103.73611 | G20: =E20/C20 -> 3544.5173 | H20: =B20/B$55*100 -> 0.55705996 | I20: =C20/C$55*100 -> 0.32412569 | J20: =D20/D$55*100 -> 0.34194866
A21: Ezinqoleni | B21: =Data!L129 -> 0 | C21: =Data!M129 -> 0 | D21: =Data!N129 -> 0 | E21: =D21*1000 -> 0 | F21: =C21/B21 -> #DIV/0! | G21: =E21/C21 -> #DIV/0! | H21: =B21/B$55*100 -> 0 | I21: =C21/C$55*100 -> 0 | J21: =D21/D$55*100 -> 0
A22: Umuziwabantu | B22: =Data!L644 -> 28 | C22: =Data!M644 -> 2459 | D22: =Data!N644 -> 3082 | E22: =D22*1000 -> 3082000 | F22: =C22/B22 -> 87.821429 | G22: =E22/C22 -> 1253.355 | H22: =B22/B$55*100 -> 0.21663443 | I22: =C22/C$55*100 -> 0.10671108 | J22: =D22/D$55*100 -> 0.039808331
A23: Emnambithi | B23: =Data!L87 -> 31 | C23: =Data!M87 -> 4336 | D23: =Data!N87 -> 17460 | E23: =D23*1000 -> 17460000 | F23: =C23/B23 -> 139.87097 | G23: =E23/C23 -> 4026.7528 | H23: =B23/B$55*100 -> 0.23984526 | I23: =C23/C$55*100 -> 0.18816562 | J23: =D23/D$55*100 -> 0.22552027
A24: Nongoma | B24: =Data!L448 -> 23 | C24: =Data!M448 -> 2736 | D24: =Data!N448 -> 4515 | E24: =D24*1000 -> 4515000 | F24: =C24/B24 -> 118.95652 | G24: =E24/C24 -> 1650.2193 | H24: =B24/B$55*100 -> 0.17794971 | I24: =C24/C$55*100 -> 0.11873181 | J24: =D24/D$55*100 -> 0.058317526
A25: Edumbe | B25: =Data!L59 -> 24 | C25: =Data!M59 -> 2095 | D25: =Data!N59 -> 6319 | E25: =D25*1000 -> 6319000 | F25: =C25/B25 -> 87.291667 | G25: =E25/C25 -> 3016.2291 | H25: =B25/B$55*100 -> 0.18568665 | I25: =C25/C$55*100 -> 0.09091489 | J25: =D25/D$55*100 -> 0.081618703
A26: Greater Kokstad | B26: =Data!L143 -> 42 | C26: =Data!M143 -> 2623 | D26: =Data!N143 -> 4242 | E26: =D26*1000 -> 4242000 | F26: =C26/B26 -> 62.452381 | G26: =E26/C26 -> 1617.2322 | H26: =B26/B$55*100 -> 0.32495164 | I26: =C26/C$55*100 -> 0.11382805 | J26: =D26/D$55*100 -> 0.05479135
A27: Umzimkhulu | B27: =Data!L672 -> 4 | C27: =Data!M672 -> 480 | D27: =Data!N672 -> 941 | E27: =D27*1000 -> 941000 | F27: =C27/B27 -> 120 | G27: =E27/C27 -> 1960.4167 | H27: =B27/B$55*100 -> 0.030947776 | I27: =C27/C$55*100 -> 0.020830142 | J27: =D27/D$55*100 -> 0.012154328
A28: Umvoti | B28: =Data!L658 -> 3 | C28: =Data!M658 -> 360 | D28: =Data!N658 -> 1200 | E28: =D28*1000 -> 1200000 | F28: =C28/B28 -> 120 | G28: =E28/C28 -> 3333.3333 | H28: =B28/B$55*100 -> 0.023210832 | I28: =C28/C$55*100 -> 0.015622606 | J28: =D28/D$55*100 -> 0.015499675
A29: Umshwathi | B29: =Data!L616 -> 4 | C29: =Data!M616 -> 332 | D29: =Data!N616 -> 704 | E29: =D29*1000 -> 704000 | F29: =C29/B29 -> 83 | G29: =E29/C29 -> 2120.4819 | H29: =B29/B$55*100 -> 0.030947776 | I29: =C29/C$55*100 -> 0.014407515 | J29: =D29/D$55*100 -> 0.0090931425
A30: KwaSani | B30: =Data!L255 -> 2 | C30: =Data!M255 -> 300 | D30: =Data!N255 -> 1350 | E30: =D30*1000 -> 1350000 | F30: =C30/B30 -> 150 | G30: =E30/C30 -> 4500 | H30: =B30/B$55*100 -> 0.015473888 | I30: =C30/C$55*100 -> 0.013018839 | J30: =D30/D$55*100 -> 0.017437134
A31: Mtubatuba | B31: =Data!L392 -> 7 | C31: =Data!M392 -> 1203 | D31: =Data!N392 -> 3818 | E31: =D31*1000 -> 3818000 | F31: =C31/B31 -> 171.85714 | G31: =E31/C31 -> 3173.7323 | H31: =B31/B$55*100 -> 0.054158607 | I31: =C31/C$55*100 -> 0.052205543 | J31: =D31/D$55*100 -> 0.049314798
A32: Big 5 False Bay | B32: =Data!L31 -> 0 | C32: =Data!M31 -> 0 | D32: =Data!N31 -> 0 | E32: =D32*1000 -> 0 | F32: =C32/B32 -> #DIV/0! | G32: =E32/C32 -> #DIV/0! | H32: =B32/B$55*100 -> 0 | I32: =C32/C$55*100 -> 0 | J32: =D32/D$55*100 -> 0
A33: Dannhauser | B33: =Data!L45 -> 0 | C33: =Data!M45 -> 0 | D33: =Data!N45 -> 0 | E33: =D33*1000 -> 0 | F33: =C33/B33 -> #DIV/0! | G33: =E33/C33 -> #DIV/0! | H33: =B33/B$55*100 -> 0 | I33: =C33/C$55*100 -> 0 | J33: =D33/D$55*100 -> 0
A34: Emadlangeni | B34: =Data!L73 -> 0 | C34: =Data!M73 -> 0 | D34: =Data!N73 -> 0 | E34: =D34*1000 -> 0 | F34: =C34/B34 -> #DIV/0! | G34: =E34/C34 -> #DIV/0! | H34: =B34/B$55*100 -> 0 | I34: =C34/C$55*100 -> 0 | J34: =D34/D$55*100 -> 0
A35: Hlabisa | B35: =Data!L171 -> 0 | C35: =Data!M171 -> 0 | D35: =Data!N171 -> 0 | E35: =D35*1000 -> 0 | F35: =C35/B35 -> #DIV/0! | G35: =E35/C35 -> #DIV/0! | H35: =B35/B$55*100 -> 0 | I35: =C35/C$55*100 -> 0 | J35: =D35/D$55*100 -> 0
A36: Imbabazane | B36: =Data!L185 -> 0 | C36: =Data!M185 -> 0 | D36: =Data!N185 -> 0 | E36: =D36*1000 -> 0 | F36: =C36/B36 -> #DIV/0! | G36: =E36/C36 -> #DIV/0! | H36: =B36/B$55*100 -> 0 | I36: =C36/C$55*100 -> 0 | J36: =D36/D$55*100 -> 0
A37: Impendle | B37: =Data!L199 -> 0 | C37: =Data!M199 -> 0 | D37: =Data!N199 -> 0 | E37: =D37*1000 -> 0 | F37: =C37/B37 -> #DIV/0! | G37: =E37/C37 -> #DIV/0! | H37: =B37/B$55*100 -> 0 | I37: =C37/C$55*100 -> 0 | J37: =D37/D$55*100 -> 0
A38: Indaka | B38: =Data!L213 -> 0 | C38: =Data!M213 -> 0 | D38: =Data!N213 -> 0 | E38: =D38*1000 -> 0 | F38: =C38/B38 -> #DIV/0! | G38: =E38/C38 -> #DIV/0! | H38: =B38/B$55*100 -> 0 | I38: =C38/C$55*100 -> 0 | J38: =D38/D$55*100 -> 0
A39: Ingwe | B39: =Data!L227 -> 0 | C39: =Data!M227 -> 0 | D39: =Data!N227 -> 0 | E39: =D39*1000 -> 0 | F39: =C39/B39 -> #DIV/0! | G39: =E39/C39 -> #DIV/0! | H39: =B39/B$55*100 -> 0 | I39: =C39/C$55*100 -> 0 | J39: =D39/D$55*100 -> 0
A40: Jozini | B40: =Data!L241 -> 33 | C40: =Data!M241 -> 4371 | D40: =Data!N241 -> 10610 | E40: =D40*1000 -> 10610000 | F40: =C40/B40 -> 132.45455 | G40: =E40/C40 -> 2427.3622 | H40: =B40/B$55*100 -> 0.25531915 | I40: =C40/C$55*100 -> 0.18968448 | J40: =D40/D$55*100 -> 0.13704296
A41: Maphumulo | B41: =Data!L294 -> 0 | C41: =Data!M294 -> 0 | D41: =Data!N294 -> 0 | E41: =D41*1000 -> 0 | F41: =C41/B41 -> #DIV/0! | G41: =E41/C41 -> #DIV/0! | H41: =B41/B$55*100 -> 0 | I41: =C41/C$55*100 -> 0 | J41: =D41/D$55*100 -> 0
A42: Mbonambi | B42: =Data!L308 -> 0 | C42: =Data!M308 -> 0 | D42: =Data!N308 -> 0 | E42: =D42*1000 -> 0 | F42: =C42/B42 -> #DIV/0! | G42: =E42/C42 -> #DIV/0! | H42: =B42/B$55*100 -> 0 | I42: =C42/C$55*100 -> 0 | J42: =D42/D$55*100 -> 0
A43: Mpofana | B43: =Data!L336 -> 0 | C43: =Data!M336 -> 0 | D43: =Data!N336 -> 0 | E43: =D43*1000 -> 0 | F43: =C43/B43 -> #DIV/0! | G43: =E43/C43 -> #DIV/0! | H43: =B43/B$55*100 -> 0 | I43: =C43/C$55*100 -> 0 | J43: =D43/D$55*100 -> 0
A44: Msinga | B44: =Data!L350 -> 0 | C44: =Data!M350 -> 0 | D44: =Data!N350 -> 0 | E44: =D44*1000 -> 0 | F44: =C44/B44 -> #DIV/0! | G44: =E44/C44 -> #DIV/0! | H44: =B44/B$55*100 -> 0 | I44: =C44/C$55*100 -> 0 | J44: =D44/D$55*100 -> 0
A45: Nquthu | B45: =Data!L462 -> 0 | C45: =Data!M462 -> 0 | D45: =Data!N462 -> 0 | E45: =D45*1000 -> 0 | F45: =C45/B45 -> #DIV/0! | G45: =E45/C45 -> #DIV/0! | H45: =B45/B$55*100 -> 0 | I45: =C45/C$55*100 -> 0 | J45: =D45/D$55*100 -> 0
A46: Ntambanana | B46: =Data!L476 -> 0 | C46: =Data!M476 -> 0 | D46: =Data!N476 -> 0 | E46: =D46*1000 -> 0 | F46: =C46/B46 -> #DIV/0! | G46: =E46/C46 -> #DIV/0! | H46: =B46/B$55*100 -> 0 | I46: =C46/C$55*100 -> 0 | J46: =D46/D$55*100 -> 0
A47: Richmond | B47: =Data!L504 -> 0 | C47: =Data!M504 -> 0 | D47: =Data!N504 -> 0 | E47: =D47*1000 -> 0 | F47: =C47/B47 -> #DIV/0! | G47: =E47/C47 -> #DIV/0! | H47: =B47/B$55*100 -> 0 | I47: =C47/C$55*100 -> 0 | J47: =D47/D$55*100 -> 0
A48: Ubuhlebezwe | B48: =Data!L518 -> 0 | C48: =Data!M518 -> 0 | D48: =Data!N518 -> 0 | E48: =D48*1000 -> 0 | F48: =C48/B48 -> #DIV/0! | G48: =E48/C48 -> #DIV/0! | H48: =B48/B$55*100 -> 0 | I48: =C48/C$55*100 -> 0 | J48: =D48/D$55*100 -> 0
A49: Ulundi | B49: =Data!L532 -> 0 | C49: =Data!M532 -> 0 | D49: =Data!N532 -> 0 | E49: =D49*1000 -> 0 | F49: =C49/B49 -> #DIV/0! | G49: =E49/C49 -> #DIV/0! | H49: =B49/B$55*100 -> 0 | I49: =C49/C$55*100 -> 0 | J49: =D49/D$55*100 -> 0
A50: Umhlabuyalingana | B50: =Data!L560 -> 0 | C50: =Data!M560 -> 0 | D50: =Data!N560 -> 0 | E50: =D50*1000 -> 0 | F50: =C50/B50 -> #DIV/0! | G50: =E50/C50 -> #DIV/0! | H50: =B50/B$55*100 -> 0 | I50: =C50/C$55*100 -> 0 | J50: =D50/D$55*100 -> 0
A51: Umzumbe | B51: =Data!L686 -> 0 | C51: =Data!M686 -> 0 | D51: =Data!N686 -> 0 | E51: =D51*1000 -> 0 | F51: =C51/B51 -> #DIV/0! | G51: =E51/C51 -> #DIV/0! | H51: =B51/B$55*100 -> 0 | I51: =C51/C$55*100 -> 0 | J51: =D51/D$55*100 -> 0
A52: Uphongolo | B52: =Data!L700 -> 0 | C52: =Data!M700 -> 0 | D52: =Data!N700 -> 0 | E52: =D52*1000 -> 0 | F52: =C52/B52 -> #DIV/0! | G52: =E52/C52 -> #DIV/0! | H52: =B52/B$55*100 -> 0 | I52: =C52/C$55*100 -> 0 | J52: =D52/D$55*100 -> 0
A53: Valamehlo | B53: =Data!L714 -> 0 | C53: =Data!M714 -> 0 | D53: =Data!N714 -> 0 | E53: =D53*1000 -> 0 | F53: =C53/B53 -> #DIV/0! | G53: =E53/C53 -> #DIV/0! | H53: =B53/B$55*100 -> 0 | I53: =C53/C$55*100 -> 0 | J53: =D53/D$55*100 -> 0
A55: Total | B55: =SUM(B3:B53) -> 12925 | C55: =SUM(C3:C53) -> 2304353 | D55: =SUM(D3:D53) -> 7742098 | E55: =SUM(E3:E53) -> 7742098000

Sheet Other
A1: Other residential buildings
B2: Number of Building Plans Completed | C2: Square Meters Completed | D2: Total Rand Value | E2: Total Rand Value | F2: Square Meters per Building Plan | G2: Cost per Square Meter | H2: Building Plans As a % of Total | I2: Square Meters As a % of Total | J2: Rand Value As a % of Total
A3: Ethekwini | B3: =Data!O115 -> 171 | C3: =Data!P115 -> 261610 | D3: =Data!Q115 -> 1872552 | E3: =D3*1000 -> 1872552000 | F3: =C3/B3 -> 1529.883 | G3: =E3/C3 -> 7157.7998 | H3: =B3/B$55*100 -> 32.20339 | I3: =C3/C$55*100 -> 67.823283 | J3: =D3/D$55*100 -> 83.327081
A4: KwaDukuza | B4: =Data!O269 -> 68 | C4: =Data!P269 -> 26546 | D4: =Data!Q269 -> 88325 | E4: =D4*1000 -> 88325000 | F4: =C4/B4 -> 390.38235 | G4: =E4/C4 -> 3327.2433 | H4: =B4/B$55*100 -> 12.806026 | I4: =C4/C$55*100 -> 6.8821408 | J4: =D4/D$55*100 -> 3.9303926
A5: Msunduzi | B5: =Data!O364 -> 4 | C5: =Data!P364 -> 17986 | D5: =Data!Q364 -> 80220 | E5: =D5*1000 -> 80220000 | F5: =C5/B5 -> 4496.5 | G5: =E5/C5 -> 4460.1357 | H5: =B5/B$55*100 -> 0.75329567 | I5: =C5/C$55*100 -> 4.6629317 | J5: =D5/D$55*100 -> 3.5697265
A6: New Castle | B6: =Data!O420 -> 4 | C6: =Data!P420 -> 12137 | D6: =Data!Q420 -> 26131 | E6: =D6*1000 -> 26131000 | F6: =C6/B6 -> 3034.25 | G6: =E6/C6 -> 2153.0032 | H6: =B6/B$55*100 -> 0.75329567 | I6: =C6/C$55*100 -> 3.1465585 | J6: =D6/D$55*100 -> 1.1628088
A7: AbaQulusi | B7: =Data!O17 -> 54 | C7: =Data!P17 -> 8216 | D7: =Data!Q17 -> 8216 | E7: =D7*1000 -> 8216000 | F7: =C7/B7 -> 152.14815 | G7: =E7/C7 -> 1000 | H7: =B7/B$55*100 -> 10.169492 | I7: =C7/C$55*100 -> 2.130026 | J7: =D7/D$55*100 -> 0.36560549
A8: Umdoni | B8: =Data!O546 -> 34 | C8: =Data!P546 -> 7949 | D8: =Data!Q546 -> 15495 | E8: =D8*1000 -> 15495000 | F8: =C8/B8 -> 233.79412 | G8: =E8/C8 -> 1949.3018 | H8: =B8/B$55*100 -> 6.4030132 | I8: =C8/C$55*100 -> 2.0608053 | J8: =D8/D$55*100 -> 0.68951523
A9: Nquthu | B9: =Data!O462 -> 5 | C9: =Data!P462 -> 5982 | D9: =Data!Q462 -> 20560 | E9: =D9*1000 -> 20560000 | F9: =C9/B9 -> 1196.4 | G9: =E9/C9 -> 3436.9776 | H9: =B9/B$55*100 -> 0.94161959 | I9: =C9/C$55*100 -> 1.5508539 | J9: =D9/D$55*100 -> 0.91490372
A10: Big 5 False Bay | B10: =Data!O31 -> 11 | C10: =Data!P31 -> 4671 | D10: =Data!Q31 -> 10929 | E10: =D10*1000 -> 10929000 | F10: =C10/B10 -> 424.63636 | G10: =E10/C10 -> 2339.7559 | H10: =B10/B$55*100 -> 2.0715631 | I10: =C10/C$55*100 -> 1.2109726 | J10: =D10/D$55*100 -> 0.48633185
A11: Umlalazi | B11: =Data!O588 -> 20 | C11: =Data!P588 -> 3720 | D11: =Data!Q588 -> 12960 | E11: =D11*1000 -> 12960000 | F11: =C11/B11 -> 186 | G11: =E11/C11 -> 3483.871 | H11: =B11/B$55*100 -> 3.7664783 | I11: =C11/C$55*100 -> 0.96442266 | J11: =D11/D$55*100 -> 0.57670974
A12: KwaSani | B12: =Data!O255 -> 86 | C12: =Data!P255 -> 13853 | D12: =Data!Q255 -> 59632 | E12: =D12*1000 -> 59632000 | F12: =C12/B12 -> 161.0814 | G12: =E12/C12 -> 4304.6272 | H12: =B12/B$55*100 -> 16.195857 | I12: =C12/C$55*100 -> 3.5914374 | J12: =D12/D$55*100 -> 2.6535768
A13: Umzimkhulu | B13: =Data!O672 -> 3 | C13: =Data!P672 -> 3010 | D13: =Data!Q672 -> 6727 | E13: =D13*1000 -> 6727000 | F13: =C13/B13 -> 1003.3333 | G13: =E13/C13 -> 2234.8837 | H13: =B13/B$55*100 -> 0.56497175 | I13: =C13/C$55*100 -> 0.78035274 | J13: =D13/D$55*100 -> 0.29934617
A14: Mtubatuba | B14: =Data!O392 -> 1 | C14: =Data!P392 -> 2890 | D14: =Data!Q392 -> 3468 | E14: =D14*1000 -> 3468000 | F14: =C14/B14 -> 2890 | G14: =E14/C14 -> 1200 | H14: =B14/B$55*100 -> 0.18832392 | I14: =C14/C$55*100 -> 0.74924233 | J14: =D14/D$55*100 -> 0.15432325
A15: Okhahlamba | B15: =Data!O490 -> 19 | C15: =Data!P490 -> 2491 | D15: =Data!Q490 -> 5899 | E15: =D15*1000 -> 5899000 | F15: =C15/B15 -> 131.10526 | G15: =E15/C15 -> 2368.1253 | H15: =B15/B$55*100 -> 3.5781544 | I15: =C15/C$55*100 -> 0.64580022 | J15: =D15/D$55*100 -> 0.26250083
A16: Umngeni | B16: =Data!O602 -> 4 | C16: =Data!P602 -> 2327 | D16: =Data!Q602 -> 9450 | E16: =D16*1000 -> 9450000 | F16: =C16/B16 -> 581.75 | G16: =E16/C16 -> 4061.0228 | H16: =B16/B$55*100 -> 0.75329567 | I16: =C16/C$55*100 -> 0.60328267 | J16: =D16/D$55*100 -> 0.42051752
A17: Mandeni | B17: =Data!O283 -> 3 | C17: =Data!P283 -> 2014 | D17: =Data!Q283 -> 4833 | E17: =D17*1000 -> 4833000 | F17: =C17/B17 -> 671.33333 | G17: =E17/C17 -> 2399.7021 | H17: =B17/B$55*100 -> 0.56497175 | I17: =C17/C$55*100 -> 0.52213635 | J17: =D17/D$55*100 -> 0.21506467
A18: Emnambithi | B18: =Data!O87 -> 9 | C18: =Data!P87 -> 1338 | D18: =Data!Q87 -> 2564 | E18: =D18*1000 -> 2564000 | F18: =C18/B18 -> 148.66667 | G18: =E18/C18 -> 1916.293 | H18: =B18/B$55*100 -> 1.6949153 | I18: =C18/C$55*100 -> 0.34688105 | J18: =D18/D$55*100 -> 0.11409597
A19: uMhlathuze | B19: =Data!O574 -> 1 | C19: =Data!P574 -> 1226 | D19: =Data!Q574 -> 1594 | E19: =D19*1000 -> 1594000 | F19: =C19/B19 -> 1226 | G19: =E19/C19 -> 1300.1631 | H19: =B19/B$55*100 -> 0.18832392 | I19: =C19/C$55*100 -> 0.31784467 | J19: =D19/D$55*100 -> 0.070931738
A20: Ingwe | B20: =Data!O227 -> 1 | C20: =Data!P227 -> 1132 | D20: =Data!Q227 -> 3500 | E20: =D20*1000 -> 3500000 | F20: =C20/B20 -> 1132 | G20: =E20/C20 -> 3091.8728 | H20: =B20/B$55*100 -> 0.18832392 | I20: =C20/C$55*100 -> 0.29347485 | J20: =D20/D$55*100 -> 0.15574723
A21: Impendle | B21: =Data!O199 -> 4 | C21: =Data!P199 -> 1000 | D21: =Data!Q199 -> 680 | E21: =D21*1000 -> 680000 | F21: =C21/B21 -> 250 | G21: =E21/C21 -> 680 | H21: =B21/B$55*100 -> 0.75329567 | I21: =C21/C$55*100 -> 0.2592534 | J21: =D21/D$55*100 -> 0.030259462
A22: Endumeni | B22: =Data!O101 -> 6 | C22: =Data!P101 -> 985 | D22: =Data!Q101 -> 1905 | E22: =D22*1000 -> 1905000 | F22: =C22/B22 -> 164.16667 | G22: =E22/C22 -> 1934.0102 | H22: =B22/B$55*100 -> 1.1299435 | I22: =C22/C$55*100 -> 0.2553646 | J22: =D22/D$55*100 -> 0.084770992
A23: Greater Kokstad | B23: =Data!O143 -> 3 | C23: =Data!P143 -> 763 | D23: =Data!Q143 -> 1210 | E23: =D23*1000 -> 1210000 | F23: =C23/B23 -> 254.33333 | G23: =E23/C23 -> 1585.8453 | H23: =B23/B$55*100 -> 0.56497175 | I23: =C23/C$55*100 -> 0.19781035 | J23: =D23/D$55*100 -> 0.053844042
A24: Umshwathi | B24: =Data!O616 -> 4 | C24: =Data!P616 -> 931 | D24: =Data!Q616 -> 2546 | E24: =D24*1000 -> 2546000 | F24: =C24/B24 -> 232.75 | G24: =E24/C24 -> 2734.6939 | H24: =B24/B$55*100 -> 0.75329567 | I24: =C24/C$55*100 -> 0.24136492 | J24: =D24/D$55*100 -> 0.11329498
A25: Nkandla | B25: =Data!O434 -> 3 | C25: =Data!P434 -> 1100 | D25: =Data!Q434 -> 4150 | E25: =D25*1000 -> 4150000 | F25: =C25/B25 -> 366.66667 | G25: =E25/C25 -> 3772.7273 | H25: =B25/B$55*100 -> 0.56497175 | I25: =C25/C$55*100 -> 0.28517874 | J25: =D25/D$55*100 -> 0.18467171
A26: Ulundi | B26: =Data!O532 -> 1 | C26: =Data!P532 -> 426 | D26: =Data!Q532 -> 639 | E26: =D26*1000 -> 639000 | F26: =C26/B26 -> 426 | G26: =E26/C26 -> 1500 | H26: =B26/B$55*100 -> 0.18832392 | I26: =C26/C$55*100 -> 0.11044195 | J26: =D26/D$55*100 -> 0.028434994
A27: Uphongolo | B27: =Data!O700 -> 1 | C27: =Data!P700 -> 327 | D27: =Data!Q700 -> 817 | E27: =D27*1000 -> 817000 | F27: =C27/B27 -> 327 | G27: =E27/C27 -> 2498.4709 | H27: =B27/B$55*100 -> 0.18832392 | I27: =C27/C$55*100 -> 0.084775862 | J27: =D27/D$55*100 -> 0.036355853
A28: Edumbe | B28: =Data!O59 -> 3 | C28: =Data!P59 -> 246 | D28: =Data!Q59 -> 443 | E28: =D28*1000 -> 443000 | F28: =C28/B28 -> 82 | G28: =E28/C28 -> 1800.813 | H28: =B28/B$55*100 -> 0.56497175 | I28: =C28/C$55*100 -> 0.063776337 | J28: =D28/D$55*100 -> 0.019713149
A29: Hibiscus Coast | B29: =Data!O157 -> 3 | C29: =Data!P157 -> 240 | D29: =Data!Q157 -> 460 | E29: =D29*1000 -> 460000 | F29: =C29/B29 -> 80 | G29: =E29/C29 -> 1916.6667 | H29: =B29/B$55*100 -> 0.56497175 | I29: =C29/C$55*100 -> 0.062220816 | J29: =D29/D$55*100 -> 0.020469636
A30: Ezinqoleni | B30: =Data!O129 -> 1 | C30: =Data!P129 -> 216 | D30: =Data!Q129 -> 389 | E30: =D30*1000 -> 389000 | F30: =C30/B30 -> 216 | G30: =E30/C30 -> 1800.9259 | H30: =B30/B$55*100 -> 0.18832392 | I30: =C30/C$55*100 -> 0.055998735 | J30: =D30/D$55*100 -> 0.017310192
A31: Nongoma | B31: =Data!O448 -> 1 | C31: =Data!P448 -> 200 | D31: =Data!Q448 -> 650 | E31: =D31*1000 -> 650000 | F31: =C31/B31 -> 200 | G31: =E31/C31 -> 3250 | H31: =B31/B$55*100 -> 0.18832392 | I31: =C31/C$55*100 -> 0.05185068 | J31: =D31/D$55*100 -> 0.028924485
A32: Mthonjaneni | B32: =Data!O378 -> 3 | C32: =Data!P378 -> 191 | D32: =Data!Q378 -> 287 | E32: =D32*1000 -> 287000 | F32: =C32/B32 -> 63.666667 | G32: =E32/C32 -> 1502.6178 | H32: =B32/B$55*100 -> 0.56497175 | I32: =C32/C$55*100 -> 0.0495174 | J32: =D32/D$55*100 -> 0.012771273
A33: Mpofana | B33: =Data!O336 -> 0 | C33: =Data!P336 -> 0 | D33: =Data!Q336 -> 0 | E33: =D33*1000 -> 0 | F33: =C33/B33 -> #DIV/0! | G33: =E33/C33 -> #DIV/0! | H33: =B33/B$55*100 -> 0 | I33: =C33/C$55*100 -> 0 | J33: =D33/D$55*100 -> 0
A34: Umtshezi | B34: =Data!O630 -> 0 | C34: =Data!P630 -> 0 | D34: =Data!Q630 -> 0 | E34: =D34*1000 -> 0 | F34: =C34/B34 -> #DIV/0! | G34: =E34/C34 -> #DIV/0! | H34: =B34/B$55*100 -> 0 | I34: =C34/C$55*100 -> 0 | J34: =D34/D$55*100 -> 0
A35: Umuziwabantu | B35: =Data!O644 -> 0 | C35: =Data!P644 -> 0 | D35: =Data!Q644 -> 0 | E35: =D35*1000 -> 0 | F35: =C35/B35 -> #DIV/0! | G35: =E35/C35 -> #DIV/0! | H35: =B35/B$55*100 -> 0 | I35: =C35/C$55*100 -> 0 | J35: =D35/D$55*100 -> 0
A36: Indaka | B36: =Data!O213 -> 0 | C36: =Data!P213 -> 0 | D36: =Data!Q213 -> 0 | E36: =D36*1000 -> 0 | F36: =C36/B36 -> #DIV/0! | G36: =E36/C36 -> #DIV/0! | H36: =B36/B$55*100 -> 0 | I36: =C36/C$55*100 -> 0 | J36: =D36/D$55*100 -> 0
A37: Dannhauser | B37: =Data!O45 -> 0 | C37: =Data!P45 -> 0 | D37: =Data!Q45 -> 0 | E37: =D37*1000 -> 0 | F37: =C37/B37 -> #DIV/0! | G37: =E37/C37 -> #DIV/0! | H37: =B37/B$55*100 -> 0 | I37: =C37/C$55*100 -> 0 | J37: =D37/D$55*100 -> 0
A38: Emadlangeni | B38: =Data!O73 -> 0 | C38: =Data!P73 -> 0 | D38: =Data!Q73 -> 0 | E38: =D38*1000 -> 0 | F38: =C38/B38 -> #DIV/0! | G38: =E38/C38 -> #DIV/0! | H38: =B38/B$55*100 -> 0 | I38: =C38/C$55*100 -> 0 | J38: =D38/D$55*100 -> 0
A39: Hlabisa | B39: =Data!O171 -> 0 | C39: =Data!P171 -> 0 | D39: =Data!Q171 -> 0 | E39: =D39*1000 -> 0 | F39: =C39/B39 -> #DIV/0! | G39: =E39/C39 -> #DIV/0! | H39: =B39/B$55*100 -> 0 | I39: =C39/C$55*100 -> 0 | J39: =D39/D$55*100 -> 0
A40: Imbabazane | B40: =Data!O185 -> 0 | C40: =Data!P185 -> 0 | D40: =Data!Q185 -> 0 | E40: =D40*1000 -> 0 | F40: =C40/B40 -> #DIV/0! | G40: =E40/C40 -> #DIV/0! | H40: =B40/B$55*100 -> 0 | I40: =C40/C$55*100 -> 0 | J40: =D40/D$55*100 -> 0
A41: Jozini | B41: =Data!O241 -> 0 | C41: =Data!P241 -> 0 | D41: =Data!Q241 -> 0 | E41: =D41*1000 -> 0 | F41: =C41/B41 -> #DIV/0! | G41: =E41/C41 -> #DIV/0! | H41: =B41/B$55*100 -> 0 | I41: =C41/C$55*100 -> 0 | J41: =D41/D$55*100 -> 0
A42: Maphumulo | B42: =Data!O294 -> 0 | C42: =Data!P294 -> 0 | D42: =Data!Q294 -> 0 | E42: =D42*1000 -> 0 | F42: =C42/B42 -> #DIV/0! | G42: =E42/C42 -> #DIV/0! | H42: =B42/B$55*100 -> 0 | I42: =C42/C$55*100 -> 0 | J42: =D42/D$55*100 -> 0
A43: Mbonambi | B43: =Data!O308 -> 0 | C43: =Data!P308 -> 0 | D43: =Data!Q308 -> 0 | E43: =D43*1000 -> 0 | F43: =C43/B43 -> #DIV/0! | G43: =E43/C43 -> #DIV/0! | H43: =B43/B$55*100 -> 0 | I43: =C43/C$55*100 -> 0 | J43: =D43/D$55*100 -> 0
A44: Mkhambathini | B44: =Data!O322 -> 0 | C44: =Data!P322 -> 0 | D44: =Data!Q322 -> 0 | E44: =D44*1000 -> 0 | F44: =C44/B44 -> #DIV/0! | G44: =E44/C44 -> #DIV/0! | H44: =B44/B$55*100 -> 0 | I44: =C44/C$55*100 -> 0 | J44: =D44/D$55*100 -> 0
A45: Msinga | B45: =Data!O350 -> 0 | C45: =Data!P350 -> 0 | D45: =Data!Q350 -> 0 | E45: =D45*1000 -> 0 | F45: =C45/B45 -> #DIV/0! | G45: =E45/C45 -> #DIV/0! | H45: =B45/B$55*100 -> 0 | I45: =C45/C$55*100 -> 0 | J45: =D45/D$55*100 -> 0
A46: Ndwedwe | B46: =Data!O406 -> 0 | C46: =Data!P406 -> 0 | D46: =Data!Q406 -> 0 | E46: =D46*1000 -> 0 | F46: =C46/B46 -> #DIV/0! | G46: =E46/C46 -> #DIV/0! | H46: =B46/B$55*100 -> 0 | I46: =C46/C$55*100 -> 0 | J46: =D46/D$55*100 -> 0
A47: Ntambanana | B47: =Data!O476 -> 0 | C47: =Data!P476 -> 0 | D47: =Data!Q476 -> 0 | E47: =D47*1000 -> 0 | F47: =C47/B47 -> #DIV/0! | G47: =E47/C47 -> #DIV/0! | H47: =B47/B$55*100 -> 0 | I47: =C47/C$55*100 -> 0 | J47: =D47/D$55*100 -> 0
A48: Richmond | B48: =Data!O504 -> 0 | C48: =Data!P504 -> 0 | D48: =Data!Q504 -> 0 | E48: =D48*1000 -> 0 | F48: =C48/B48 -> #DIV/0! | G48: =E48/C48 -> #DIV/0! | H48: =B48/B$55*100 -> 0 | I48: =C48/C$55*100 -> 0 | J48: =D48/D$55*100 -> 0
A49: Ubuhlebezwe | B49: =Data!O518 -> 0 | C49: =Data!P518 -> 0 | D49: =Data!Q518 -> 0 | E49: =D49*1000 -> 0 | F49: =C49/B49 -> #DIV/0! | G49: =E49/C49 -> #DIV/0! | H49: =B49/B$55*100 -> 0 | I49: =C49/C$55*100 -> 0 | J49: =D49/D$55*100 -> 0
A50: Umhlabuyalingana | B50: =Data!O560 -> 0 | C50: =Data!P560 -> 0 | D50: =Data!Q560 -> 0 | E50: =D50*1000 -> 0 | F50: =C50/B50 -> #DIV/0! | G50: =E50/C50 -> #DIV/0! | H50: =B50/B$55*100 -> 0 | I50: =C50/C$55*100 -> 0 | J50: =D50/D$55*100 -> 0
A51: Umvoti | B51: =Data!O658 -> 0 | C51: =Data!P658 -> 0 | D51: =Data!Q658 -> 0 | E51: =D51*1000 -> 0 | F51: =C51/B51 -> #DIV/0! | G51: =E51/C51 -> #DIV/0! | H51: =B51/B$55*100 -> 0 | I51: =C51/C$55*100 -> 0 | J51: =D51/D$55*100 -> 0
A52: Umzumbe | B52: =Data!O686 -> 0 | C52: =Data!P686 -> 0 | D52: =Data!Q686 -> 0 | E52: =D52*1000 -> 0 | F52: =C52/B52 -> #DIV/0! | G52: =E52/C52 -> #DIV/0! | H52: =B52/B$55*100 -> 0 | I52: =C52/C$55*100 -> 0 | J52: =D52/D$55*100 -> 0
A53: Valamehlo | B53: =Data!O714 -> 0 | C53: =Data!P714 -> 0 | D53: =Data!Q714 -> 0 | E53: =D53*1000 -> 0 | F53: =C53/B53 -> #DIV/0! | G53: =E53/C53 -> #DIV/0! | H53: =B53/B$55*100 -> 0 | I53: =C53/C$55*100 -> 0 | J53: =D53/D$55*100 -> 0
A55: Total | B55: =SUM(B3:B53) -> 531 | C55: =SUM(C3:C53) -> 385723 | D55: =SUM(D3:D53) -> 2247231 | E55: =SUM(E3:E53) -> 2247231000
A57: Other residential buildings
A58: Other residential buildings include institutions for the disabled, boarding houses, hostels and tourism accommodation e.g. hotels, motels, guesthouses, holiday chalets, bed-and-breakfast accommodation and casinos.

Sheet Schools, ETC
A1: Schools, nursery schools, crèches, hospitals
B2: Number of Building Plans Completed | C2: Square Meters Completed | D2: Total Rand Value | E2: Total Rand Value | F2: Square Meters per Building Plan | G2: Cost per Square Meter | H2: Building Plans As a % of Total | I2: Square Meters As a % of Total | J2: Rand Value As a % of Total
A3: Ethekwini | B3: =Data!R115 -> 82 | C3: =Data!S115 -> 83634 | D3: =Data!T115 -> 296210 | E3: =D3*1000 -> 296210000 | F3: =C3/B3 -> 1019.9268 | G3: =E3/C3 -> 3541.7414 | H3: =B3/B$55*100 -> 46.067416 | I3: =C3/C$55*100 -> 62.838295 | J3: =D3/D$55*100 -> 71.635344
A4: Msunduzi | B4: =Data!R364 -> 8 | C4: =Data!S364 -> 5652 | D4: =Data!T364 -> 6964 | E4: =D4*1000 -> 6964000 | F4: =C4/B4 -> 706.5 | G4: =E4/C4 -> 1232.1302 | H4: =B4/B$55*100 -> 4.494382 | I4: =C4/C$55*100 -> 4.2466227 | J4: =D4/D$55*100 -> 1.6841718
A5: Endumeni | B5: =Data!R101 -> 8 | C5: =Data!S101 -> 5106 | D5: =Data!T101 -> 8198 | E5: =D5*1000 -> 8198000 | F5: =C5/B5 -> 638.25 | G5: =E5/C5 -> 1605.5621 | H5: =B5/B$55*100 -> 4.494382 | I5: =C5/C$55*100 -> 3.8363863 | J5: =D5/D$55*100 -> 1.9826021
A6: Okhahlamba | B6: =Data!R490 -> 9 | C6: =Data!S490 -> 4804 | D6: =Data!T490 -> 9212 | E6: =D6*1000 -> 9212000 | F6: =C6/B6 -> 533.77778 | G6: =E6/C6 -> 1917.5687 | H6: =B6/B$55*100 -> 5.0561798 | I6: =C6/C$55*100 -> 3.609479 | J6: =D6/D$55*100 -> 2.2278275
A7: Umngeni | B7: =Data!R602 -> 4 | C7: =Data!S602 -> 4310 | D7: =Data!T602 -> 16900 | E7: =D7*1000 -> 16900000 | F7: =C7/B7 -> 1077.5 | G7: =E7/C7 -> 3921.1137 | H7: =B7/B$55*100 -> 2.247191 | I7: =C7/C$55*100 -> 3.2383128 | J7: =D7/D$55*100 -> 4.0870913
A8: Emnambithi | B8: =Data!R87 -> 5 | C8: =Data!S87 -> 3408 | D8: =Data!T87 -> 7515 | E8: =D8*1000 -> 7515000 | F8: =C8/B8 -> 681.6 | G8: =E8/C8 -> 2205.1056 | H8: =B8/B$55*100 -> 2.8089888 | I8: =C8/C$55*100 -> 2.5605963 | J8: =D8/D$55*100 -> 1.8174255
A9: Ulundi | B9: =Data!R532 -> 5 | C9: =Data!S532 -> 2470 | D9: =Data!T532 -> 4762 | E9: =D9*1000 -> 4762000 | F9: =C9/B9 -> 494 | G9: =E9/C9 -> 1927.9352 | H9: =B9/B$55*100 -> 2.8089888 | I9: =C9/C$55*100 -> 1.8558312 | J9: =D9/D$55*100 -> 1.1516408
A10: New Castle | B10: =Data!R420 -> 7 | C10: =Data!S420 -> 3319 | D10: =Data!T420 -> 8255 | E10: =D10*1000 -> 8255000 | F10: =C10/B10 -> 474.14286 | G10: =E10/C10 -> 2487.1949 | H10: =B10/B$55*100 -> 3.9325843 | I10: =C10/C$55*100 -> 2.4937262 | J10: =D10/D$55*100 -> 1.9963869
A11: Umtshezi | B11: =Data!R630 -> 4 | C11: =Data!S630 -> 1235 | D11: =Data!T630 -> 2211 | E11: =D11*1000 -> 2211000 | F11: =C11/B11 -> 308.75 | G11: =E11/C11 -> 1790.2834 | H11: =B11/B$55*100 -> 2.247191 | I11: =C11/C$55*100 -> 0.92791561 | J11: =D11/D$55*100 -> 0.53470763
A12: Greater Kokstad | B12: =Data!R143 -> 3 | C12: =Data!S143 -> 1054 | D12: =Data!T143 -> 2370 | E12: =D12*1000 -> 2370000 | F12: =C12/B12 -> 351.33333 | G12: =E12/C12 -> 2248.5769 | H12: =B12/B$55*100 -> 1.6853933 | I12: =C12/C$55*100 -> 0.7919215 | J12: =D12/D$55*100 -> 0.57316014
A13: Umlalazi | B13: =Data!R588 -> 3 | C13: =Data!S588 -> 816 | D13: =Data!T588 -> 2100 | E13: =D13*1000 -> 2100000 | F13: =C13/B13 -> 272 | G13: =E13/C13 -> 2573.5294 | H13: =B13/B$55*100 -> 1.6853933 | I13: =C13/C$55*100 -> 0.61310052 | J13: =D13/D$55*100 -> 0.50786342
A14: Umzumbe | B14: =Data!R686 -> 8 | C14: =Data!S686 -> 820 | D14: =Data!T686 -> 2205 | E14: =D14*1000 -> 2205000 | F14: =C14/B14 -> 102.5 | G14: =E14/C14 -> 2689.0244 | H14: =B14/B$55*100 -> 4.494382 | I14: =C14/C$55*100 -> 0.61610591 | J14: =D14/D$55*100 -> 0.53325659
A15: KwaDukuza | B15: =Data!R269 -> 2 | C15: =Data!S269 -> 11068 | D15: =Data!T269 -> 32990 | E15: =D15*1000 -> 32990000 | F15: =C15/B15 -> 5534 | G15: =E15/C15 -> 2980.665 | H15: =B15/B$55*100 -> 1.1235955 | I15: =C15/C$55*100 -> 8.3159271 | J15: =D15/D$55*100 -> 7.9782925
A16: Nquthu | B16: =Data!R462 -> 1 | C16: =Data!S462 -> 614 | D16: =Data!T462 -> 1300 | E16: =D16*1000 -> 1300000 | F16: =C16/B16 -> 614 | G16: =E16/C16 -> 2117.2638 | H16: =B16/B$55*100 -> 0.56179775 | I16: =C16/C$55*100 -> 0.46132808 | J16: =D16/D$55*100 -> 0.31439164
A17: KwaSani | B17: =Data!R255 -> 2 | C17: =Data!S255 -> 600 | D17: =Data!T255 -> 1500 | E17: =D17*1000 -> 1500000 | F17: =C17/B17 -> 300 | G17: =E17/C17 -> 2500 | H17: =B17/B$55*100 -> 1.1235955 | I17: =C17/C$55*100 -> 0.4508092 | J17: =D17/D$55*100 -> 0.36275958
A18: Umuziwabantu | B18: =Data!R644 -> 1 | C18: =Data!S644 -> 421 | D18: =Data!T644 -> 150 | E18: =D18*1000 -> 150000 | F18: =C18/B18 -> 421 | G18: =E18/C18 -> 356.29454 | H18: =B18/B$55*100 -> 0.56179775 | I18: =C18/C$55*100 -> 0.31631779 | J18: =D18/D$55*100 -> 0.036275958
A19: Mtubatuba | B19: =Data!R392 -> 1 | C19: =Data!S392 -> 420 | D19: =Data!T392 -> 800 | E19: =D19*1000 -> 800000 | F19: =C19/B19 -> 420 | G19: =E19/C19 -> 1904.7619 | H19: =B19/B$55*100 -> 0.56179775 | I19: =C19/C$55*100 -> 0.31556644 | J19: =D19/D$55*100 -> 0.19347178
A20: Umzimkhulu | B20: =Data!R672 -> 1 | C20: =Data!S672 -> 370 | D20: =Data!T672 -> 1800 | E20: =D20*1000 -> 1800000 | F20: =C20/B20 -> 370 | G20: =E20/C20 -> 4864.8649 | H20: =B20/B$55*100 -> 0.56179775 | I20: =C20/C$55*100 -> 0.27799901 | J20: =D20/D$55*100 -> 0.4353115
A21: Hibiscus Coast | B21: =Data!R157 -> 4 | C21: =Data!S157 -> 789 | D21: =Data!T157 -> 2618 | E21: =D21*1000 -> 2618000 | F21: =C21/B21 -> 197.25 | G21: =E21/C21 -> 3318.1242 | H21: =B21/B$55*100 -> 2.247191 | I21: =C21/C$55*100 -> 0.5928141 | J21: =D21/D$55*100 -> 0.6331364
A22: Richmond | B22: =Data!R504 -> 1 | C22: =Data!S504 -> 330 | D22: =Data!T504 -> 1089 | E22: =D22*1000 -> 1089000 | F22: =C22/B22 -> 330 | G22: =E22/C22 -> 3300 | H22: =B22/B$55*100 -> 0.56179775 | I22: =C22/C$55*100 -> 0.24794506 | J22: =D22/D$55*100 -> 0.26336346
A23: Mpofana | B23: =Data!R336 -> 2 | C23: =Data!S336 -> 225 | D23: =Data!T336 -> 300 | E23: =D23*1000 -> 300000 | F23: =C23/B23 -> 112.5 | G23: =E23/C23 -> 1333.3333 | H23: =B23/B$55*100 -> 1.1235955 | I23: =C23/C$55*100 -> 0.16905345 | J23: =D23/D$55*100 -> 0.072551917
A24: Umdoni | B24: =Data!R546 -> 2 | C24: =Data!S546 -> 186 | D24: =Data!T546 -> 370 | E24: =D24*1000 -> 370000 | F24: =C24/B24 -> 93 | G24: =E24/C24 -> 1989.2473 | H24: =B24/B$55*100 -> 1.1235955 | I24: =C24/C$55*100 -> 0.13975085 | J24: =D24/D$55*100 -> 0.089480698
A25: Umshwathi | B25: =Data!R616 -> 1 | C25: =Data!S616 -> 185 | D25: =Data!T616 -> 450 | E25: =D25*1000 -> 450000 | F25: =C25/B25 -> 185 | G25: =E25/C25 -> 2432.4324 | H25: =B25/B$55*100 -> 0.56179775 | I25: =C25/C$55*100 -> 0.1389995 | J25: =D25/D$55*100 -> 0.10882788
A26: Umvoti | B26: =Data!R658 -> 1 | C26: =Data!S658 -> 162 | D26: =Data!T658 -> 150 | E26: =D26*1000 -> 150000 | F26: =C26/B26 -> 162 | G26: =E26/C26 -> 925.92593 | H26: =B26/B$55*100 -> 0.56179775 | I26: =C26/C$55*100 -> 0.12171848 | J26: =D26/D$55*100 -> 0.036275958
A27: Valamehlo | B27: =Data!R714 -> 0 | C27: =Data!S714 -> 0 | D27: =Data!T714 -> 0 | E27: =D27*1000 -> 0 | F27: =C27/B27 -> #DIV/0! | G27: =E27/C27 -> #DIV/0! | H27: =B27/B$55*100 -> 0 | I27: =C27/C$55*100 -> 0 | J27: =D27/D$55*100 -> 0
A28: Uphongolo | B28: =Data!R700 -> 0 | C28: =Data!S700 -> 0 | D28: =Data!T700 -> 0 | E28: =D28*1000 -> 0 | F28: =C28/B28 -> #DIV/0! | G28: =E28/C28 -> #DIV/0! | H28: =B28/B$55*100 -> 0 | I28: =C28/C$55*100 -> 0 | J28: =D28/D$55*100 -> 0
A29: uMhlathuze | B29: =Data!R574 -> 0 | C29: =Data!S574 -> 0 | D29: =Data!T574 -> 0 | E29: =D29*1000 -> 0 | F29: =C29/B29 -> #DIV/0! | G29: =E29/C29 -> #DIV/0! | H29: =B29/B$55*100 -> 0 | I29: =C29/C$55*100 -> 0 | J29: =D29/D$55*100 -> 0
A30: Umhlabuyalingana | B30: =Data!R560 -> 0 | C30: =Data!S560 -> 0 | D30: =Data!T560 -> 0 | E30: =D30*1000 -> 0 | F30: =C30/B30 -> #DIV/0! | G30: =E30/C30 -> #DIV/0! | H30: =B30/B$55*100 -> 0 | I30: =C30/C$55*100 -> 0 | J30: =D30/D$55*100 -> 0
A31: Ubuhlebezwe | B31: =Data!R518 -> 0 | C31: =Data!S518 -> 0 | D31: =Data!T518 -> 0 | E31: =D31*1000 -> 0 | F31: =C31/B31 -> #DIV/0! | G31: =E31/C31 -> #DIV/0! | H31: =B31/B$55*100 -> 0 | I31: =C31/C$55*100 -> 0 | J31: =D31/D$55*100 -> 0
A32: Ntambanana | B32: =Data!R476 -> 0 | C32: =Data!S476 -> 0 | D32: =Data!T476 -> 0 | E32: =D32*1000 -> 0 | F32: =C32/B32 -> #DIV/0! | G32: =E32/C32 -> #DIV/0! | H32: =B32/B$55*100 -> 0 | I32: =C32/C$55*100 -> 0 | J32: =D32/D$55*100 -> 0
A33: Nongoma | B33: =Data!R448 -> 9 | C33: =Data!S448 -> 656 | D33: =Data!T448 -> 1800 | E33: =D33*1000 -> 1800000 | F33: =C33/B33 -> 72.888889 | G33: =E33/C33 -> 2743.9024 | H33: =B33/B$55*100 -> 5.0561798 | I33: =C33/C$55*100 -> 0.49288473 | J33: =D33/D$55*100 -> 0.4353115
A34: Nkandla | B34: =Data!R434 -> 0 | C34: =Data!S434 -> 0 | D34: =Data!T434 -> 0 | E34: =D34*1000 -> 0 | F34: =C34/B34 -> #DIV/0! | G34: =E34/C34 -> #DIV/0! | H34: =B34/B$55*100 -> 0 | I34: =C34/C$55*100 -> 0 | J34: =D34/D$55*100 -> 0
A35: Ndwedwe | B35: =Data!R406 -> 0 | C35: =Data!S406 -> 0 | D35: =Data!T406 -> 0 | E35: =D35*1000 -> 0 | F35: =C35/B35 -> #DIV/0! | G35: =E35/C35 -> #DIV/0! | H35: =B35/B$55*100 -> 0 | I35: =C35/C$55*100 -> 0 | J35: =D35/D$55*100 -> 0
A36: Mthonjaneni | B36: =Data!R378 -> 0 | C36: =Data!S378 -> 0 | D36: =Data!T378 -> 0 | E36: =D36*1000 -> 0 | F36: =C36/B36 -> #DIV/0! | G36: =E36/C36 -> #DIV/0! | H36: =B36/B$55*100 -> 0 | I36: =C36/C$55*100 -> 0 | J36: =D36/D$55*100 -> 0
A37: Msinga | B37: =Data!R350 -> 0 | C37: =Data!S350 -> 0 | D37: =Data!T350 -> 0 | E37: =D37*1000 -> 0 | F37: =C37/B37 -> #DIV/0! | G37: =E37/C37 -> #DIV/0! | H37: =B37/B$55*100 -> 0 | I37: =C37/C$55*100 -> 0 | J37: =D37/D$55*100 -> 0
A38: Mkhambathini | B38: =Data!R322 -> 0 | C38: =Data!S322 -> 0 | D38: =Data!T322 -> 0 | E38: =D38*1000 -> 0 | F38: =C38/B38 -> #DIV/0! | G38: =E38/C38 -> #DIV/0! | H38: =B38/B$55*100 -> 0 | I38: =C38/C$55*100 -> 0 | J38: =D38/D$55*100 -> 0
A39: Mbonambi | B39: =Data!R308 -> 0 | C39: =Data!S308 -> 0 | D39: =Data!T308 -> 0 | E39: =D39*1000 -> 0 | F39: =C39/B39 -> #DIV/0! | G39: =E39/C39 -> #DIV/0! | H39: =B39/B$55*100 -> 0 | I39: =C39/C$55*100 -> 0 | J39: =D39/D$55*100 -> 0
A40: Maphumulo | B40: =Data!R294 -> 0 | C40: =Data!S294 -> 0 | D40: =Data!T294 -> 0 | E40: =D40*1000 -> 0 | F40: =C40/B40 -> #DIV/0! | G40: =E40/C40 -> #DIV/0! | H40: =B40/B$55*100 -> 0 | I40: =C40/C$55*100 -> 0 | J40: =D40/D$55*100 -> 0
A41: Mandeni | B41: =Data!R283 -> 0 | C41: =Data!S283 -> 0 | D41: =Data!T283 -> 0 | E41: =D41*1000 -> 0 | F41: =C41/B41 -> #DIV/0! | G41: =E41/C41 -> #DIV/0! | H41: =B41/B$55*100 -> 0 | I41: =C41/C$55*100 -> 0 | J41: =D41/D$55*100 -> 0
A42: Jozini | B42: =Data!R241 -> 0 | C42: =Data!S241 -> 0 | D42: =Data!T241 -> 0 | E42: =D42*1000 -> 0 | F42: =C42/B42 -> #DIV/0! | G42: =E42/C42 -> #DIV/0! | H42: =B42/B$55*100 -> 0 | I42: =C42/C$55*100 -> 0 | J42: =D42/D$55*100 -> 0
A43: Ingwe | B43: =Data!R227 -> 0 | C43: =Data!S227 -> 0 | D43: =Data!T227 -> 0 | E43: =D43*1000 -> 0 | F43: =C43/B43 -> #DIV/0! | G43: =E43/C43 -> #DIV/0! | H43: =B43/B$55*100 -> 0 | I43: =C43/C$55*100 -> 0 | J43: =D43/D$55*100 -> 0
A44: Indaka | B44: =Data!R213 -> 3 | C44: =Data!S213 -> 210 | D44: =Data!T213 -> 588 | E44: =D44*1000 -> 588000 | F44: =C44/B44 -> 70 | G44: =E44/C44 -> 2800 | H44: =B44/B$55*100 -> 1.6853933 | I44: =C44/C$55*100 -> 0.15778322 | J44: =D44/D$55*100 -> 0.14220176
A45: Impendle | B45: =Data!R199 -> 0 | C45: =Data!S199 -> 0 | D45: =Data!T199 -> 0 | E45: =D45*1000 -> 0 | F45: =C45/B45 -> #DIV/0! | G45: =E45/C45 -> #DIV/0! | H45: =B45/B$55*100 -> 0 | I45: =C45/C$55*100 -> 0 | J45: =D45/D$55*100 -> 0
A46: Imbabazane | B46: =Data!R185 -> 0 | C46: =Data!S185 -> 0 | D46: =Data!T185 -> 0 | E46: =D46*1000 -> 0 | F46: =C46/B46 -> #DIV/0! | G46: =E46/C46 -> #DIV/0! | H46: =B46/B$55*100 -> 0 | I46: =C46/C$55*100 -> 0 | J46: =D46/D$55*100 -> 0
A47: Hlabisa | B47: =Data!R171 -> 0 | C47: =Data!S171 -> 0 | D47: =Data!T171 -> 0 | E47: =D47*1000 -> 0 | F47: =C47/B47 -> #DIV/0! | G47: =E47/C47 -> #DIV/0! | H47: =B47/B$55*100 -> 0 | I47: =C47/C$55*100 -> 0 | J47: =D47/D$55*100 -> 0
A48: Ezinqoleni | B48: =Data!R129 -> 0 | C48: =Data!S129 -> 0 | D48: =Data!T129 -> 0 | E48: =D48*1000 -> 0 | F48: =C48/B48 -> #DIV/0! | G48: =E48/C48 -> #DIV/0! | H48: =B48/B$55*100 -> 0 | I48: =C48/C$55*100 -> 0 | J48: =D48/D$55*100 -> 0
A49: Emadlangeni | B49: =Data!R73 -> 0 | C49: =Data!S73 -> 0 | D49: =Data!T73 -> 0 | E49: =D49*1000 -> 0 | F49: =C49/B49 -> #DIV/0! | G49: =E49/C49 -> #DIV/0! | H49: =B49/B$55*100 -> 0 | I49: =C49/C$55*100 -> 0 | J49: =D49/D$55*100 -> 0
A50: Edumbe | B50: =Data!R59 -> 0 | C50: =Data!S59 -> 0 | D50: =Data!T59 -> 0 | E50: =D50*1000 -> 0 | F50: =C50/B50 -> #DIV/0! | G50: =E50/C50 -> #DIV/0! | H50: =B50/B$55*100 -> 0 | I50: =C50/C$55*100 -> 0 | J50: =D50/D$55*100 -> 0
A51: Dannhauser | B51: =Data!R45 -> 1 | C51: =Data!S45 -> 230 | D51: =Data!T45 -> 690 | E51: =D51*1000 -> 690000 | F51: =C51/B51 -> 230 | G51: =E51/C51 -> 3000 | H51: =B51/B$55*100 -> 0.56179775 | I51: =C51/C$55*100 -> 0.17281019 | J51: =D51/D$55*100 -> 0.16686941
A52: Big 5 False Bay | B52: =Data!R31 -> 0 | C52: =Data!S31 -> 0 | D52: =Data!T31 -> 0 | E52: =D52*1000 -> 0 | F52: =C52/B52 -> #DIV/0! | G52: =E52/C52 -> #DIV/0! | H52: =B52/B$55*100 -> 0 | I52: =C52/C$55*100 -> 0 | J52: =D52/D$55*100 -> 0
A53: AbaQulusi | B53: =Data!R17 -> 0 | C53: =Data!S17 -> 0 | D53: =Data!T17 -> 0 | E53: =D53*1000 -> 0 | F53: =C53/B53 -> #DIV/0! | G53: =E53/C53 -> #DIV/0! | H53: =B53/B$55*100 -> 0 | I53: =C53/C$55*100 -> 0 | J53: =D53/D$55*100 -> 0
A55: Total | B55: =SUM(B3:B53) -> 178 | C55: =SUM(C3:C53) -> 133094 | D55: =SUM(D3:D53) -> 413497 | E55: =SUM(E3:E53) -> 413497000

Sheet Churches, ETC
A1: Churches, Sport and Recreaction
B2: Number of Building Plans Completed | C2: Square Meters Completed | D2: Total Rand Value | E2: Total Rand Value | F2: Square Meters per Building Plan | G2: Cost per Square Meter | H2: Building Plans As a % of Total | I2: Square Meters As a % of Total | J2: Rand Value As a % of Total
A3: Ethekwini | B3: =Data!U115 -> 194 | C3: =Data!V115 -> 160543 | D3: =Data!W115 -> 385341 | E3: =D3*1000 -> 385341000 | F3: =C3/B3 -> 827.54124 | G3: =E3/C3 -> 2400.2355 | H3: =B3/B$55*100 -> 58.433735 | I3: =C3/C$55*100 -> 78.470216 | J3: =D3/D$55*100 -> 76.104865
A4: New Castle | B4: =Data!U420 -> 19 | C4: =Data!V420 -> 7152 | D4: =Data!W420 -> 12786 | E4: =D4*1000 -> 12786000 | F4: =C4/B4 -> 376.42105 | G4: =E4/C4 -> 1787.7517 | H4: =B4/B$55*100 -> 5.7228916 | I4: =C4/C$55*100 -> 3.4957549 | J4: =D4/D$55*100 -> 2.5252356
A5: Emnambithi | B5: =Data!U87 -> 12 | C5: =Data!V87 -> 4311 | D5: =Data!W87 -> 6706 | E5: =D5*1000 -> 6706000 | F5: =C5/B5 -> 359.25 | G5: =E5/C5 -> 1555.5556 | H5: =B5/B$55*100 -> 3.6144578 | I5: =C5/C$55*100 -> 2.1071308 | J5: =D5/D$55*100 -> 1.3244353
A6: Hibiscus Coast | B6: =Data!U157 -> 12 | C6: =Data!V157 -> 5407 | D6: =Data!W157 -> 18333 | E6: =D6*1000 -> 18333000 | F6: =C6/B6 -> 450.58333 | G6: =E6/C6 -> 3390.6048 | H6: =B6/B$55*100 -> 3.6144578 | I6: =C6/C$55*100 -> 2.6428338 | J6: =D6/D$55*100 -> 3.6207683
A7: Umtshezi | B7: =Data!U630 -> 12 | C7: =Data!V630 -> 3652 | D7: =Data!W630 -> 9631 | E7: =D7*1000 -> 9631000 | F7: =C7/B7 -> 304.33333 | G7: =E7/C7 -> 2637.1851 | H7: =B7/B$55*100 -> 3.6144578 | I7: =C7/C$55*100 -> 1.7850248 | J7: =D7/D$55*100 -> 1.9021229
A8: Msunduzi | B8: =Data!U364 -> 16 | C8: =Data!V364 -> 3070 | D8: =Data!W364 -> 10334 | E8: =D8*1000 -> 10334000 | F8: =C8/B8 -> 191.875 | G8: =E8/C8 -> 3366.1238 | H8: =B8/B$55*100 -> 4.8192771 | I8: =C8/C$55*100 -> 1.5005548 | J8: =D8/D$55*100 -> 2.0409655
A9: KwaDukuza | B9: =Data!U269 -> 11 | C9: =Data!V269 -> 4390 | D9: =Data!W269 -> 17117 | E9: =D9*1000 -> 17117000 | F9: =C9/B9 -> 399.09091 | G9: =E9/C9 -> 3899.0888 | H9: =B9/B$55*100 -> 3.313253 | I9: =C9/C$55*100 -> 2.1457444 | J9: =D9/D$55*100 -> 3.3806083
A10: Umlalazi | B10: =Data!U588 -> 8 | C10: =Data!V588 -> 2517 | D10: =Data!W588 -> 8937 | E10: =D10*1000 -> 8937000 | F10: =C10/B10 -> 314.625 | G10: =E10/C10 -> 3550.6555 | H10: =B10/B$55*100 -> 2.4096386 | I10: =C10/C$55*100 -> 1.2302594 | J10: =D10/D$55*100 -> 1.7650579
A11: Ingwe | B11: =Data!U227 -> 4 | C11: =Data!V227 -> 1400 | D11: =Data!W227 -> 2310 | E11: =D11*1000 -> 2310000 | F11: =C11/B11 -> 350 | G11: =E11/C11 -> 1650 | H11: =B11/B$55*100 -> 1.2048193 | I11: =C11/C$55*100 -> 0.68429208 | J11: =D11/D$55*100 -> 0.4562251
A12: Mpofana | B12: =Data!U336 -> 4 | C12: =Data!V336 -> 2596 | D12: =Data!W336 -> 9580 | E12: =D12*1000 -> 9580000 | F12: =C12/B12 -> 649 | G12: =E12/C12 -> 3690.2928 | H12: =B12/B$55*100 -> 1.2048193 | I12: =C12/C$55*100 -> 1.268873 | J12: =D12/D$55*100 -> 1.8920504
A13: Endumeni | B13: =Data!U101 -> 6 | C13: =Data!V101 -> 1228 | D13: =Data!W101 -> 3275 | E13: =D13*1000 -> 3275000 | F13: =C13/B13 -> 204.66667 | G13: =E13/C13 -> 2666.9381 | H13: =B13/B$55*100 -> 1.8072289 | I13: =C13/C$55*100 -> 0.60022191 | J13: =D13/D$55*100 -> 0.64681265
A14: Umngeni | B14: =Data!U602 -> 3 | C14: =Data!V602 -> 1560 | D14: =Data!W602 -> 3699 | E14: =D14*1000 -> 3699000 | F14: =C14/B14 -> 520 | G14: =E14/C14 -> 2371.1538 | H14: =B14/B$55*100 -> 0.90361446 | I14: =C14/C$55*100 -> 0.76249688 | J14: =D14/D$55*100 -> 0.73055266
A15: Nongoma | B15: =Data!U448 -> 5 | C15: =Data!V448 -> 1216 | D15: =Data!W448 -> 3060 | E15: =D15*1000 -> 3060000 | F15: =C15/B15 -> 243.2 | G15: =E15/C15 -> 2516.4474 | H15: =B15/B$55*100 -> 1.5060241 | I15: =C15/C$55*100 -> 0.59435655 | J15: =D15/D$55*100 -> 0.60435014
A16: Umzimkhulu | B16: =Data!U672 -> 2 | C16: =Data!V672 -> 747 | D16: =Data!W672 -> 2130 | E16: =D16*1000 -> 2130000 | F16: =C16/B16 -> 373.5 | G16: =E16/C16 -> 2851.4056 | H16: =B16/B$55*100 -> 0.60240964 | I16: =C16/C$55*100 -> 0.3651187 | J16: =D16/D$55*100 -> 0.42067509
A17: Umdoni | B17: =Data!U546 -> 5 | C17: =Data!V546 -> 1281 | D17: =Data!W546 -> 3700 | E17: =D17*1000 -> 3700000 | F17: =C17/B17 -> 256.2 | G17: =E17/C17 -> 2888.3685 | H17: =B17/B$55*100 -> 1.5060241 | I17: =C17/C$55*100 -> 0.62612725 | J17: =D17/D$55*100 -> 0.73075016
A18: Greater Kokstad | B18: =Data!U143 -> 4 | C18: =Data!V143 -> 583 | D18: =Data!W143 -> 1293 | E18: =D18*1000 -> 1293000 | F18: =C18/B18 -> 145.75 | G18: =E18/C18 -> 2217.8388 | H18: =B18/B$55*100 -> 1.2048193 | I18: =C18/C$55*100 -> 0.28495877 | J18: =D18/D$55*100 -> 0.25536756
A19: uMhlathuze | B19: =Data!U574 -> 1 | C19: =Data!V574 -> 354 | D19: =Data!W574 -> 1158 | E19: =D19*1000 -> 1158000 | F19: =C19/B19 -> 354 | G19: =E19/C19 -> 3271.1864 | H19: =B19/B$55*100 -> 0.30120482 | I19: =C19/C$55*100 -> 0.17302814 | J19: =D19/D$55*100 -> 0.22870505
A20: Jozini | B20: =Data!U241 -> 1 | C20: =Data!V241 -> 255 | D20: =Data!W241 -> 510 | E20: =D20*1000 -> 510000 | F20: =C20/B20 -> 255 | G20: =E20/C20 -> 2000 | H20: =B20/B$55*100 -> 0.30120482 | I20: =C20/C$55*100 -> 0.12463891 | J20: =D20/D$55*100 -> 0.10072502
A21: Umshwathi | B21: =Data!U616 -> 2 | C21: =Data!V616 -> 288 | D21: =Data!W616 -> 800 | E21: =D21*1000 -> 800000 | F21: =C21/B21 -> 144 | G21: =E21/C21 -> 2777.7778 | H21: =B21/B$55*100 -> 0.60240964 | I21: =C21/C$55*100 -> 0.14076866 | J21: =D21/D$55*100 -> 0.15800004
A22: AbaQulusi | B22: =Data!U17 -> 2 | C22: =Data!V17 -> 751 | D22: =Data!W17 -> 1540 | E22: =D22*1000 -> 1540000 | F22: =C22/B22 -> 375.5 | G22: =E22/C22 -> 2050.5992 | H22: =B22/B$55*100 -> 0.60240964 | I22: =C22/C$55*100 -> 0.36707382 | J22: =D22/D$55*100 -> 0.30415007
A23: Nquthu | B23: =Data!U462 -> 2 | C23: =Data!V462 -> 125 | D23: =Data!W462 -> 237 | E23: =D23*1000 -> 237000 | F23: =C23/B23 -> 62.5 | G23: =E23/C23 -> 1896 | H23: =B23/B$55*100 -> 0.60240964 | I23: =C23/C$55*100 -> 0.061097507 | J23: =D23/D$55*100 -> 0.046807511
A24: Okhahlamba | B24: =Data!U490 -> 1 | C24: =Data!V490 -> 73 | D24: =Data!W490 -> 183 | E24: =D24*1000 -> 183000 | F24: =C24/B24 -> 73 | G24: =E24/C24 -> 2506.8493 | H24: =B24/B$55*100 -> 0.30120482 | I24: =C24/C$55*100 -> 0.035680944 | J24: =D24/D$55*100 -> 0.036142508
A25: Big 5 False Bay | B25: =Data!U31 -> 0 | C25: =Data!V31 -> 0 | D25: =Data!W31 -> 0 | E25: =D25*1000 -> 0 | F25: =C25/B25 -> #DIV/0! | G25: =E25/C25 -> #DIV/0! | H25: =B25/B$55*100 -> 0 | I25: =C25/C$55*100 -> 0 | J25: =D25/D$55*100 -> 0
A26: Dannhauser | B26: =Data!U45 -> 0 | C26: =Data!V45 -> 0 | D26: =Data!W45 -> 0 | E26: =D26*1000 -> 0 | F26: =C26/B26 -> #DIV/0! | G26: =E26/C26 -> #DIV/0! | H26: =B26/B$55*100 -> 0 | I26: =C26/C$55*100 -> 0 | J26: =D26/D$55*100 -> 0
A27: Edumbe | B27: =Data!U59 -> 2 | C27: =Data!V59 -> 184 | D27: =Data!W59 -> 589 | E27: =D27*1000 -> 589000 | F27: =C27/B27 -> 92 | G27: =E27/C27 -> 3201.087 | H27: =B27/B$55*100 -> 0.60240964 | I27: =C27/C$55*100 -> 0.08993553 | J27: =D27/D$55*100 -> 0.11632753
A28: Emadlangeni | B28: =Data!U73 -> 0 | C28: =Data!V73 -> 0 | D28: =Data!W73 -> 0 | E28: =D28*1000 -> 0 | F28: =C28/B28 -> #DIV/0! | G28: =E28/C28 -> #DIV/0! | H28: =B28/B$55*100 -> 0 | I28: =C28/C$55*100 -> 0 | J28: =D28/D$55*100 -> 0
A29: Ezinqoleni | B29: =Data!U129 -> 0 | C29: =Data!V129 -> 0 | D29: =Data!W129 -> 0 | E29: =D29*1000 -> 0 | F29: =C29/B29 -> #DIV/0! | G29: =E29/C29 -> #DIV/0! | H29: =B29/B$55*100 -> 0 | I29: =C29/C$55*100 -> 0 | J29: =D29/D$55*100 -> 0
A30: Hlabisa | B30: =Data!U171 -> 0 | C30: =Data!V171 -> 0 | D30: =Data!W171 -> 0 | E30: =D30*1000 -> 0 | F30: =C30/B30 -> #DIV/0! | G30: =E30/C30 -> #DIV/0! | H30: =B30/B$55*100 -> 0 | I30: =C30/C$55*100 -> 0 | J30: =D30/D$55*100 -> 0
A31: Imbabazane | B31: =Data!U185 -> 0 | C31: =Data!V185 -> 0 | D31: =Data!W185 -> 0 | E31: =D31*1000 -> 0 | F31: =C31/B31 -> #DIV/0! | G31: =E31/C31 -> #DIV/0! | H31: =B31/B$55*100 -> 0 | I31: =C31/C$55*100 -> 0 | J31: =D31/D$55*100 -> 0
A32: Impendle | B32: =Data!U199 -> 0 | C32: =Data!V199 -> 0 | D32: =Data!W199 -> 0 | E32: =D32*1000 -> 0 | F32: =C32/B32 -> #DIV/0! | G32: =E32/C32 -> #DIV/0! | H32: =B32/B$55*100 -> 0 | I32: =C32/C$55*100 -> 0 | J32: =D32/D$55*100 -> 0
A33: Indaka | B33: =Data!U213 -> 0 | C33: =Data!V213 -> 0 | D33: =Data!W213 -> 0 | E33: =D33*1000 -> 0 | F33: =C33/B33 -> #DIV/0! | G33: =E33/C33 -> #DIV/0! | H33: =B33/B$55*100 -> 0 | I33: =C33/C$55*100 -> 0 | J33: =D33/D$55*100 -> 0
A34: KwaSani | B34: =Data!U255 -> 0 | C34: =Data!V255 -> 0 | D34: =Data!W255 -> 0 | E34: =D34*1000 -> 0 | F34: =C34/B34 -> #DIV/0! | G34: =E34/C34 -> #DIV/0! | H34: =B34/B$55*100 -> 0 | I34: =C34/C$55*100 -> 0 | J34: =D34/D$55*100 -> 0
A35: Mandeni | B35: =Data!U283 -> 1 | C35: =Data!V283 -> 140 | D35: =Data!W283 -> 392 | E35: =D35*1000 -> 392000 | F35: =C35/B35 -> 140 | G35: =E35/C35 -> 2800 | H35: =B35/B$55*100 -> 0.30120482 | I35: =C35/C$55*100 -> 0.068429208 | J35: =D35/D$55*100 -> 0.077420017
A36: Maphumulo | B36: =Data!U294 -> 0 | C36: =Data!V294 -> 0 | D36: =Data!W294 -> 0 | E36: =D36*1000 -> 0 | F36: =C36/B36 -> #DIV/0! | G36: =E36/C36 -> #DIV/0! | H36: =B36/B$55*100 -> 0 | I36: =C36/C$55*100 -> 0 | J36: =D36/D$55*100 -> 0
A37: Mbonambi | B37: =Data!U308 -> 0 | C37: =Data!V308 -> 0 | D37: =Data!W308 -> 0 | E37: =D37*1000 -> 0 | F37: =C37/B37 -> #DIV/0! | G37: =E37/C37 -> #DIV/0! | H37: =B37/B$55*100 -> 0 | I37: =C37/C$55*100 -> 0 | J37: =D37/D$55*100 -> 0
A38: Mkhambathini | B38: =Data!U322 -> 0 | C38: =Data!V322 -> 0 | D38: =Data!W322 -> 0 | E38: =D38*1000 -> 0 | F38: =C38/B38 -> #DIV/0! | G38: =E38/C38 -> #DIV/0! | H38: =B38/B$55*100 -> 0 | I38: =C38/C$55*100 -> 0 | J38: =D38/D$55*100 -> 0
A39: Msinga | B39: =Data!U350 -> 0 | C39: =Data!V350 -> 0 | D39: =Data!W350 -> 0 | E39: =D39*1000 -> 0 | F39: =C39/B39 -> #DIV/0! | G39: =E39/C39 -> #DIV/0! | H39: =B39/B$55*100 -> 0 | I39: =C39/C$55*100 -> 0 | J39: =D39/D$55*100 -> 0
A40: Mthonjaneni | B40: =Data!U378 -> 0 | C40: =Data!V378 -> 0 | D40: =Data!W378 -> 0 | E40: =D40*1000 -> 0 | F40: =C40/B40 -> #DIV/0! | G40: =E40/C40 -> #DIV/0! | H40: =B40/B$55*100 -> 0 | I40: =C40/C$55*100 -> 0 | J40: =D40/D$55*100 -> 0
A41: Mtubatuba | B41: =Data!U392 -> 3 | C41: =Data!V392 -> 768 | D41: =Data!W392 -> 2688 | E41: =D41*1000 -> 2688000 | F41: =C41/B41 -> 256 | G41: =E41/C41 -> 3500 | H41: =B41/B$55*100 -> 0.90361446 | I41: =C41/C$55*100 -> 0.37538308 | J41: =D41/D$55*100 -> 0.53088012
A42: Ndwedwe | B42: =Data!U406 -> 0 | C42: =Data!V406 -> 0 | D42: =Data!W406 -> 0 | E42: =D42*1000 -> 0 | F42: =C42/B42 -> #DIV/0! | G42: =E42/C42 -> #DIV/0! | H42: =B42/B$55*100 -> 0 | I42: =C42/C$55*100 -> 0 | J42: =D42/D$55*100 -> 0
A43: Nkandla | B43: =Data!U434 -> 0 | C43: =Data!V434 -> 0 | D43: =Data!W434 -> 0 | E43: =D43*1000 -> 0 | F43: =C43/B43 -> #DIV/0! | G43: =E43/C43 -> #DIV/0! | H43: =B43/B$55*100 -> 0 | I43: =C43/C$55*100 -> 0 | J43: =D43/D$55*100 -> 0
A44: Ntambanana | B44: =Data!U476 -> 0 | C44: =Data!V476 -> 0 | D44: =Data!W476 -> 0 | E44: =D44*1000 -> 0 | F44: =C44/B44 -> #DIV/0! | G44: =E44/C44 -> #DIV/0! | H44: =B44/B$55*100 -> 0 | I44: =C44/C$55*100 -> 0 | J44: =D44/D$55*100 -> 0
A45: Richmond | B45: =Data!U504 -> 0 | C45: =Data!V504 -> 0 | D45: =Data!W504 -> 0 | E45: =D45*1000 -> 0 | F45: =C45/B45 -> #DIV/0! | G45: =E45/C45 -> #DIV/0! | H45: =B45/B$55*100 -> 0 | I45: =C45/C$55*100 -> 0 | J45: =D45/D$55*100 -> 0
A46: Ubuhlebezwe | B46: =Data!U518 -> 0 | C46: =Data!V518 -> 0 | D46: =Data!W518 -> 0 | E46: =D46*1000 -> 0 | F46: =C46/B46 -> #DIV/0! | G46: =E46/C46 -> #DIV/0! | H46: =B46/B$55*100 -> 0 | I46: =C46/C$55*100 -> 0 | J46: =D46/D$55*100 -> 0
A47: Ulundi | B47: =Data!U532 -> 0 | C47: =Data!V532 -> 0 | D47: =Data!W532 -> 0 | E47: =D47*1000 -> 0 | F47: =C47/B47 -> #DIV/0! | G47: =E47/C47 -> #DIV/0! | H47: =B47/B$55*100 -> 0 | I47: =C47/C$55*100 -> 0 | J47: =D47/D$55*100 -> 0
A48: Umhlabuyalingana | B48: =Data!U560 -> 0 | C48: =Data!V560 -> 0 | D48: =Data!W560 -> 0 | E48: =D48*1000 -> 0 | F48: =C48/B48 -> #DIV/0! | G48: =E48/C48 -> #DIV/0! | H48: =B48/B$55*100 -> 0 | I48: =C48/C$55*100 -> 0 | J48: =D48/D$55*100 -> 0
A49: Umuziwabantu | B49: =Data!U644 -> 0 | C49: =Data!V644 -> 0 | D49: =Data!W644 -> 0 | E49: =D49*1000 -> 0 | F49: =C49/B49 -> #DIV/0! | G49: =E49/C49 -> #DIV/0! | H49: =B49/B$55*100 -> 0 | I49: =C49/C$55*100 -> 0 | J49: =D49/D$55*100 -> 0
A50: Umvoti | B50: =Data!U658 -> 0 | C50: =Data!V658 -> 0 | D50: =Data!W658 -> 0 | E50: =D50*1000 -> 0 | F50: =C50/B50 -> #DIV/0! | G50: =E50/C50 -> #DIV/0! | H50: =B50/B$55*100 -> 0 | I50: =C50/C$55*100 -> 0 | J50: =D50/D$55*100 -> 0
A51: Umzumbe | B51: =Data!U686 -> 0 | C51: =Data!V686 -> 0 | D51: =Data!W686 -> 0 | E51: =D51*1000 -> 0 | F51: =C51/B51 -> #DIV/0! | G51: =E51/C51 -> #DIV/0! | H51: =B51/B$55*100 -> 0 | I51: =C51/C$55*100 -> 0 | J51: =D51/D$55*100 -> 0
A52: Uphongolo | B52: =Data!U700 -> 0 | C52: =Data!V700 -> 0 | D52: =Data!W700 -> 0 | E52: =D52*1000 -> 0 | F52: =C52/B52 -> #DIV/0! | G52: =E52/C52 -> #DIV/0! | H52: =B52/B$55*100 -> 0 | I52: =C52/C$55*100 -> 0 | J52: =D52/D$55*100 -> 0
A53: Valamehlo | B53: =Data!U714 -> 0 | C53: =Data!V714 -> 0 | D53: =Data!W714 -> 0 | E53: =D53*1000 -> 0 | F53: =C53/B53 -> #DIV/0! | G53: =E53/C53 -> #DIV/0! | H53: =B53/B$55*100 -> 0 | I53: =C53/C$55*100 -> 0 | J53: =D53/D$55*100 -> 0
A55: Total | B55: =SUM(B3:B53) -> 332 | C55: =SUM(C3:C53) -> 204591 | D55: =SUM(D3:D53) -> 506329 | E55: =SUM(E3:E53) -> 506329000

Sheet Office, Banking
A1: Office & Banking Space
B2: Number of Building Plans Completed | C2: Square Meters Completed | D2: Total Rand Value | E2: Total Rand Value | F2: Square Meters per Building Plan | G2: Cost per Square Meter | H2: Building Plans As a % of Total | I2: Square Meters As a % of Total | J2: Rand Value As a % of Total
A3: Ethekwini | B3: =Data!X115 -> 410 | C3: =Data!Y115 -> 836142 | D3: =Data!Z115 -> 2883880 | E3: =D3*1000 -> 2883880000 | F3: =C3/B3 -> 2039.3707 | G3: =E3/C3 -> 3449.0314 | H3: =B3/B$55*100 -> 72.927784 | I3: =C3/C$55*100 -> 83.688013 | J3: =D3/D$55*100 -> 86.815218
A4: Msunduzi | B4: =Data!X364 -> 22 | C4: =Data!Y364 -> 32836 | D4: =Data!Z364 -> 45926 | E4: =D4*1000 -> 45926000 | F4: =C4/B4 -> 1492.5455 | G4: =E4/C4 -> 1398.6478 | H4: =B4/B$55*100 -> 3.9131982 | I4: =C4/C$55*100 -> 3.2864987 | J4: =D4/D$55*100 -> 1.3825387
A5: KwaDukuza | B5: =Data!X269 -> 20 | C5: =Data!Y269 -> 37737 | D5: =Data!Z269 -> 133685 | E5: =D5*1000 -> 133685000 | F5: =C5/B5 -> 1886.85 | G5: =E5/C5 -> 3542.5445 | H5: =B5/B$55*100 -> 3.5574529 | I5: =C5/C$55*100 -> 3.7770313 | J5: =D5/D$55*100 -> 4.024402
A6: New Castle | B6: =Data!X420 -> 12 | C6: =Data!Y420 -> 13177 | D6: =Data!Z420 -> 30406 | E6: =D6*1000 -> 30406000 | F6: =C6/B6 -> 1098.0833 | G6: =E6/C6 -> 2307.5055 | H6: =B6/B$55*100 -> 2.1344717 | I6: =C6/C$55*100 -> 1.3188632 | J6: =D6/D$55*100 -> 0.91533057
A7: Emnambithi | B7: =Data!X87 -> 8 | C7: =Data!Y87 -> 12215 | D7: =Data!Z87 -> 37904 | E7: =D7*1000 -> 37904000 | F7: =C7/B7 -> 1526.875 | G7: =E7/C7 -> 3103.07 | H7: =B7/B$55*100 -> 1.4229811 | I7: =C7/C$55*100 -> 1.2225783 | J7: =D7/D$55*100 -> 1.1410475
A8: Hibiscus Coast | B8: =Data!X157 -> 14 | C8: =Data!Y157 -> 14248 | D8: =Data!Z157 -> 57601 | E8: =D8*1000 -> 57601000 | F8: =C8/B8 -> 1017.7143 | G8: =E8/C8 -> 4042.7428 | H8: =B8/B$55*100 -> 2.490217 | I8: =C8/C$55*100 -> 1.4260578 | J8: =D8/D$55*100 -> 1.7339984
A9: Jozini | B9: =Data!X241 -> 4 | C9: =Data!Y241 -> 7663 | D9: =Data!Z241 -> 17098 | E9: =D9*1000 -> 17098000 | F9: =C9/B9 -> 1915.75 | G9: =E9/C9 -> 2231.241 | H9: =B9/B$55*100 -> 0.71149057 | I9: =C9/C$55*100 -> 0.76697647 | J9: =D9/D$55*100 -> 0.51471164
A10: uMhlathuze | B10: =Data!X574 -> 3 | C10: =Data!Y574 -> 4286 | D10: =Data!Z574 -> 9382 | E10: =D10*1000 -> 9382000 | F10: =C10/B10 -> 1428.6667 | G10: =E10/C10 -> 2188.9874 | H10: =B10/B$55*100 -> 0.53361793 | I10: =C10/C$55*100 -> 0.42897836 | J10: =D10/D$55*100 -> 0.28243213
A11: Hlabisa | B11: =Data!X171 -> 1 | C11: =Data!Y171 -> 3894 | D11: =Data!Z171 -> 1200 | E11: =D11*1000 -> 1200000 | F11: =C11/B11 -> 3894 | G11: =E11/C11 -> 308.16641 | H11: =B11/B$55*100 -> 0.17787264 | I11: =C11/C$55*100 -> 0.38974375 | J11: =D11/D$55*100 -> 0.03612434
A12: Umtshezi | B12: =Data!X630 -> 7 | C12: =Data!Y630 -> 4552 | D12: =Data!Z630 -> 19580 | E12: =D12*1000 -> 19580000 | F12: =C12/B12 -> 650.28571 | G12: =E12/C12 -> 4301.406 | H12: =B12/B$55*100 -> 1.2451085 | I12: =C12/C$55*100 -> 0.45560184 | J12: =D12/D$55*100 -> 0.58942881
A13: Umngeni | B13: =Data!X602 -> 7 | C13: =Data!Y602 -> 10598 | D13: =Data!Z602 -> 39421 | E13: =D13*1000 -> 39421000 | F13: =C13/B13 -> 1514 | G13: =E13/C13 -> 3719.6641 | H13: =B13/B$55*100 -> 1.2451085 | I13: =C13/C$55*100 -> 1.0607356 | J13: =D13/D$55*100 -> 1.1867147
A14: Umdoni | B14: =Data!X546 -> 8 | C14: =Data!Y546 -> 2600 | D14: =Data!Z546 -> 4632 | E14: =D14*1000 -> 4632000 | F14: =C14/B14 -> 325 | G14: =E14/C14 -> 1781.5385 | H14: =B14/B$55*100 -> 1.4229811 | I14: =C14/C$55*100 -> 0.26022952 | J14: =D14/D$55*100 -> 0.13943995
A15: Msinga | B15: =Data!X350 -> 1 | C15: =Data!Y350 -> 2051 | D15: =Data!Z350 -> 3500 | E15: =D15*1000 -> 3500000 | F15: =C15/B15 -> 2051 | G15: =E15/C15 -> 1706.4846 | H15: =B15/B$55*100 -> 0.17787264 | I15: =C15/C$55*100 -> 0.20528106 | J15: =D15/D$55*100 -> 0.10536266
A16: Nquthu | B16: =Data!X462 -> 4 | C16: =Data!Y462 -> 2015 | D16: =Data!Z462 -> 4471 | E16: =D16*1000 -> 4471000 | F16: =C16/B16 -> 503.75 | G16: =E16/C16 -> 2218.8586 | H16: =B16/B$55*100 -> 0.71149057 | I16: =C16/C$55*100 -> 0.20167788 | J16: =D16/D$55*100 -> 0.13459327
A17: Ubuhlebezwe | B17: =Data!X518 -> 7 | C17: =Data!Y518 -> 2701 | D17: =Data!Z518 -> 7104 | E17: =D17*1000 -> 7104000 | F17: =C17/B17 -> 385.85714 | G17: =E17/C17 -> 2630.137 | H17: =B17/B$55*100 -> 1.2451085 | I17: =C17/C$55*100 -> 0.27033844 | J17: =D17/D$55*100 -> 0.21385609
A18: Okhahlamba | B18: =Data!X490 -> 2 | C18: =Data!Y490 -> 1250 | D18: =Data!Z490 -> 2438 | E18: =D18*1000 -> 2438000 | F18: =C18/B18 -> 625 | G18: =E18/C18 -> 1950.4 | H18: =B18/B$55*100 -> 0.35574529 | I18: =C18/C$55*100 -> 0.12511035 | J18: =D18/D$55*100 -> 0.073392617
A19: Indaka | B19: =Data!X213 -> 1 | C19: =Data!Y213 -> 1230 | D19: =Data!Z213 -> 2300 | E19: =D19*1000 -> 2300000 | F19: =C19/B19 -> 1230 | G19: =E19/C19 -> 1869.9187 | H19: =B19/B$55*100 -> 0.17787264 | I19: =C19/C$55*100 -> 0.12310858 | J19: =D19/D$55*100 -> 0.069238318
A20: Valamehlo | B20: =Data!X714 -> 1 | C20: =Data!Y714 -> 1223 | D20: =Data!Z714 -> 1062 | E20: =D20*1000 -> 1062000 | F20: =C20/B20 -> 1223 | G20: =E20/C20 -> 868.3565 | H20: =B20/B$55*100 -> 0.17787264 | I20: =C20/C$55*100 -> 0.12240796 | J20: =D20/D$55*100 -> 0.031970041
A21: Umlalazi | B21: =Data!X588 -> 3 | C21: =Data!Y588 -> 1012 | D21: =Data!Z588 -> 1100 | E21: =D21*1000 -> 1100000 | F21: =C21/B21 -> 337.33333 | G21: =E21/C21 -> 1086.9565 | H21: =B21/B$55*100 -> 0.53361793 | I21: =C21/C$55*100 -> 0.10128934 | J21: =D21/D$55*100 -> 0.033113978
A22: Umhlabuyalingana | B22: =Data!X560 -> 2 | C22: =Data!Y560 -> 741 | D22: =Data!Z560 -> 1482 | E22: =D22*1000 -> 1482000 | F22: =C22/B22 -> 370.5 | G22: =E22/C22 -> 2000 | H22: =B22/B$55*100 -> 0.35574529 | I22: =C22/C$55*100 -> 0.074165414 | J22: =D22/D$55*100 -> 0.04461356
A23: AbaQulusi | B23: =Data!X17 -> 2 | C23: =Data!Y17 -> 1626 | D23: =Data!Z17 -> 3200 | E23: =D23*1000 -> 3200000 | F23: =C23/B23 -> 813 | G23: =E23/C23 -> 1968.0197 | H23: =B23/B$55*100 -> 0.35574529 | I23: =C23/C$55*100 -> 0.16274354 | J23: =D23/D$55*100 -> 0.096331573
A24: Umzimkhulu | B24: =Data!X672 -> 3 | C24: =Data!Y672 -> 666 | D24: =Data!Z672 -> 2079 | E24: =D24*1000 -> 2079000 | F24: =C24/B24 -> 222 | G24: =E24/C24 -> 3121.6216 | H24: =B24/B$55*100 -> 0.53361793 | I24: =C24/C$55*100 -> 0.066658793 | J24: =D24/D$55*100 -> 0.062585419
A25: Big 5 False Bay | B25: =Data!X31 -> 4 | C25: =Data!Y31 -> 625 | D25: =Data!Z31 -> 1535 | E25: =D25*1000 -> 1535000 | F25: =C25/B25 -> 156.25 | G25: =E25/C25 -> 2456 | H25: =B25/B$55*100 -> 0.71149057 | I25: =C25/C$55*100 -> 0.062555174 | J25: =D25/D$55*100 -> 0.046209052
A26: Endumeni | B26: =Data!X101 -> 1 | C26: =Data!Y101 -> 565 | D26: =Data!Z101 -> 1243 | E26: =D26*1000 -> 1243000 | F26: =C26/B26 -> 565 | G26: =E26/C26 -> 2200 | H26: =B26/B$55*100 -> 0.17787264 | I26: =C26/C$55*100 -> 0.056549877 | J26: =D26/D$55*100 -> 0.037418795
A27: Greater Kokstad | B27: =Data!X143 -> 3 | C27: =Data!Y143 -> 547 | D27: =Data!Z143 -> 1351 | E27: =D27*1000 -> 1351000 | F27: =C27/B27 -> 182.33333 | G27: =E27/C27 -> 2469.8355 | H27: =B27/B$55*100 -> 0.53361793 | I27: =C27/C$55*100 -> 0.054748288 | J27: =D27/D$55*100 -> 0.040669986
A28: Richmond | B28: =Data!X504 -> 1.2 | C28: =Data!Y504 -> 400 | D28: =Data!Z504 -> 1200 | E28: =D28*1000 -> 1200000 | F28: =C28/B28 -> 333.33333 | G28: =E28/C28 -> 3000 | H28: =B28/B$55*100 -> 0.21344717 | I28: =C28/C$55*100 -> 0.040035311 | J28: =D28/D$55*100 -> 0.03612434
A29: Umvoti | B29: =Data!X658 -> 4 | C29: =Data!Y658 -> 495 | D29: =Data!Z658 -> 860 | E29: =D29*1000 -> 860000 | F29: =C29/B29 -> 123.75 | G29: =E29/C29 -> 1737.3737 | H29: =B29/B$55*100 -> 0.71149057 | I29: =C29/C$55*100 -> 0.049543698 | J29: =D29/D$55*100 -> 0.02588911
A30: Uphongolo | B30: =Data!X700 -> 3 | C30: =Data!Y700 -> 298 | D30: =Data!Z700 -> 782 | E30: =D30*1000 -> 782000 | F30: =C30/B30 -> 99.333333 | G30: =E30/C30 -> 2624.1611 | H30: =B30/B$55*100 -> 0.53361793 | I30: =C30/C$55*100 -> 0.029826307 | J30: =D30/D$55*100 -> 0.023541028
A31: Umshwathi | B31: =Data!X616 -> 1 | C31: =Data!Y616 -> 100 | D31: =Data!Z616 -> 200 | E31: =D31*1000 -> 200000 | F31: =C31/B31 -> 100 | G31: =E31/C31 -> 2000 | H31: =B31/B$55*100 -> 0.17787264 | I31: =C31/C$55*100 -> 0.010008828 | J31: =D31/D$55*100 -> 0.0060207233
A32: Ulundi | B32: =Data!X532 -> 2 | C32: =Data!Y532 -> 486 | D32: =Data!Z532 -> 1251 | E32: =D32*1000 -> 1251000 | F32: =C32/B32 -> 243 | G32: =E32/C32 -> 2574.0741 | H32: =B32/B$55*100 -> 0.35574529 | I32: =C32/C$55*100 -> 0.048642903 | J32: =D32/D$55*100 -> 0.037659624
A33: Edumbe | B33: =Data!X59 -> 0 | C33: =Data!Y59 -> 0 | D33: =Data!Z59 -> 0 | E33: =D33*1000 -> 0 | F33: =C33/B33 -> #DIV/0! | G33: =E33/C33 -> #DIV/0! | H33: =B33/B$55*100 -> 0 | I33: =C33/C$55*100 -> 0 | J33: =D33/D$55*100 -> 0
A34: Dannhauser | B34: =Data!X45 -> 0 | C34: =Data!Y45 -> 0 | D34: =Data!Z45 -> 0 | E34: =D34*1000 -> 0 | F34: =C34/B34 -> #DIV/0! | G34: =E34/C34 -> #DIV/0! | H34: =B34/B$55*100 -> 0 | I34: =C34/C$55*100 -> 0 | J34: =D34/D$55*100 -> 0
A35: Emadlangeni | B35: =Data!X73 -> 0 | C35: =Data!Y73 -> 0 | D35: =Data!Z73 -> 0 | E35: =D35*1000 -> 0 | F35: =C35/B35 -> #DIV/0! | G35: =E35/C35 -> #DIV/0! | H35: =B35/B$55*100 -> 0 | I35: =C35/C$55*100 -> 0 | J35: =D35/D$55*100 -> 0
A36: Ezinqoleni | B36: =Data!X129 -> 0 | C36: =Data!Y129 -> 0 | D36: =Data!Z129 -> 0 | E36: =D36*1000 -> 0 | F36: =C36/B36 -> #DIV/0! | G36: =E36/C36 -> #DIV/0! | H36: =B36/B$55*100 -> 0 | I36: =C36/C$55*100 -> 0 | J36: =D36/D$55*100 -> 0
A37: Imbabazane | B37: =Data!X185 -> 0 | C37: =Data!Y185 -> 0 | D37: =Data!Z185 -> 0 | E37: =D37*1000 -> 0 | F37: =C37/B37 -> #DIV/0! | G37: =E37/C37 -> #DIV/0! | H37: =B37/B$55*100 -> 0 | I37: =C37/C$55*100 -> 0 | J37: =D37/D$55*100 -> 0
A38: Impendle | B38: =Data!X199 -> 0 | C38: =Data!Y199 -> 0 | D38: =Data!Z199 -> 0 | E38: =D38*1000 -> 0 | F38: =C38/B38 -> #DIV/0! | G38: =E38/C38 -> #DIV/0! | H38: =B38/B$55*100 -> 0 | I38: =C38/C$55*100 -> 0 | J38: =D38/D$55*100 -> 0
A39: Ingwe | B39: =Data!X227 -> 0 | C39: =Data!Y227 -> 0 | D39: =Data!Z227 -> 0 | E39: =D39*1000 -> 0 | F39: =C39/B39 -> #DIV/0! | G39: =E39/C39 -> #DIV/0! | H39: =B39/B$55*100 -> 0 | I39: =C39/C$55*100 -> 0 | J39: =D39/D$55*100 -> 0
A40: KwaSani | B40: =Data!X255 -> 0 | C40: =Data!Y255 -> 0 | D40: =Data!Z255 -> 0 | E40: =D40*1000 -> 0 | F40: =C40/B40 -> #DIV/0! | G40: =E40/C40 -> #DIV/0! | H40: =B40/B$55*100 -> 0 | I40: =C40/C$55*100 -> 0 | J40: =D40/D$55*100 -> 0
A41: Mandeni | B41: =Data!X283 -> 0 | C41: =Data!Y283 -> 0 | D41: =Data!Z283 -> 0 | E41: =D41*1000 -> 0 | F41: =C41/B41 -> #DIV/0! | G41: =E41/C41 -> #DIV/0! | H41: =B41/B$55*100 -> 0 | I41: =C41/C$55*100 -> 0 | J41: =D41/D$55*100 -> 0
A42: Maphumulo | B42: =Data!X294 -> 0 | C42: =Data!Y294 -> 0 | D42: =Data!Z294 -> 0 | E42: =D42*1000 -> 0 | F42: =C42/B42 -> #DIV/0! | G42: =E42/C42 -> #DIV/0! | H42: =B42/B$55*100 -> 0 | I42: =C42/C$55*100 -> 0 | J42: =D42/D$55*100 -> 0
A43: Mbonambi | B43: =Data!X308 -> 0 | C43: =Data!Y308 -> 0 | D43: =Data!Z308 -> 0 | E43: =D43*1000 -> 0 | F43: =C43/B43 -> #DIV/0! | G43: =E43/C43 -> #DIV/0! | H43: =B43/B$55*100 -> 0 | I43: =C43/C$55*100 -> 0 | J43: =D43/D$55*100 -> 0
A44: Mkhambathini | B44: =Data!X322 -> 0 | C44: =Data!Y322 -> 0 | D44: =Data!Z322 -> 0 | E44: =D44*1000 -> 0 | F44: =C44/B44 -> #DIV/0! | G44: =E44/C44 -> #DIV/0! | H44: =B44/B$55*100 -> 0 | I44: =C44/C$55*100 -> 0 | J44: =D44/D$55*100 -> 0
A45: Mpofana | B45: =Data!X336 -> 0 | C45: =Data!Y336 -> 0 | D45: =Data!Z336 -> 0 | E45: =D45*1000 -> 0 | F45: =C45/B45 -> #DIV/0! | G45: =E45/C45 -> #DIV/0! | H45: =B45/B$55*100 -> 0 | I45: =C45/C$55*100 -> 0 | J45: =D45/D$55*100 -> 0
A46: Mthonjaneni | B46: =Data!X378 -> 0 | C46: =Data!Y378 -> 0 | D46: =Data!Z378 -> 0 | E46: =D46*1000 -> 0 | F46: =C46/B46 -> #DIV/0! | G46: =E46/C46 -> #DIV/0! | H46: =B46/B$55*100 -> 0 | I46: =C46/C$55*100 -> 0 | J46: =D46/D$55*100 -> 0
A47: Mtubatuba | B47: =Data!X392 -> 1 | C47: =Data!Y392 -> 1139 | D47: =Data!Z392 -> 3987 | E47: =D47*1000 -> 3987000 | F47: =C47/B47 -> 1139 | G47: =E47/C47 -> 3500.439 | H47: =B47/B$55*100 -> 0.17787264 | I47: =C47/C$55*100 -> 0.11400055 | J47: =D47/D$55*100 -> 0.12002312
A48: Ndwedwe | B48: =Data!X406 -> 0 | C48: =Data!Y406 -> 0 | D48: =Data!Z406 -> 0 | E48: =D48*1000 -> 0 | F48: =C48/B48 -> #DIV/0! | G48: =E48/C48 -> #DIV/0! | H48: =B48/B$55*100 -> 0 | I48: =C48/C$55*100 -> 0 | J48: =D48/D$55*100 -> 0
A49: Nkandla | B49: =Data!X434 -> 0 | C49: =Data!Y434 -> 0 | D49: =Data!Z434 -> 0 | E49: =D49*1000 -> 0 | F49: =C49/B49 -> #DIV/0! | G49: =E49/C49 -> #DIV/0! | H49: =B49/B$55*100 -> 0 | I49: =C49/C$55*100 -> 0 | J49: =D49/D$55*100 -> 0
A50: Nongoma | B50: =Data!X448 -> 0 | C50: =Data!Y448 -> 0 | D50: =Data!Z448 -> 0 | E50: =D50*1000 -> 0 | F50: =C50/B50 -> #DIV/0! | G50: =E50/C50 -> #DIV/0! | H50: =B50/B$55*100 -> 0 | I50: =C50/C$55*100 -> 0 | J50: =D50/D$55*100 -> 0
A51: Ntambanana | B51: =Data!X476 -> 0 | C51: =Data!Y476 -> 0 | D51: =Data!Z476 -> 0 | E51: =D51*1000 -> 0 | F51: =C51/B51 -> #DIV/0! | G51: =E51/C51 -> #DIV/0! | H51: =B51/B$55*100 -> 0 | I51: =C51/C$55*100 -> 0 | J51: =D51/D$55*100 -> 0
A52: Umuziwabantu | B52: =Data!X644 -> 0 | C52: =Data!Y644 -> 0 | D52: =Data!Z644 -> 0 | E52: =D52*1000 -> 0 | F52: =C52/B52 -> #DIV/0! | G52: =E52/C52 -> #DIV/0! | H52: =B52/B$55*100 -> 0 | I52: =C52/C$55*100 -> 0 | J52: =D52/D$55*100 -> 0
A53: Umzumbe | B53: =Data!X686 -> 0 | C53: =Data!Y686 -> 0 | D53: =Data!Z686 -> 0 | E53: =D53*1000 -> 0 | F53: =C53/B53 -> #DIV/0! | G53: =E53/C53 -> #DIV/0! | H53: =B53/B$55*100 -> 0 | I53: =C53/C$55*100 -> 0 | J53: =D53/D$55*100 -> 0
A55: Total | B55: =SUM(B3:B53) -> 562.2 | C55: =SUM(C3:C53) -> 999118 | D55: =SUM(D3:D53) -> 3321860 | E55: =SUM(E3:E53) -> 3321860000

Sheet Retail
A1: Shopping Space
B2: Number of Building Plans Completed | C2: Square Meters Completed | D2: Total Rand Value | E2: Total Rand Value | F2: Square Meters per Building Plan | G2: Cost per Square Meter | H2: Building Plans As a % of Total | I2: Square Meters As a % of Total | J2: Rand Value As a % of Total
A3: Ethekwini | B3: =Data!AA115 -> 313 | C3: =Data!AB115 -> 2016285 | D3: =Data!AC115 -> 4415208 | E3: =D3*1000 -> 4415208000 | F3: =C3/B3 -> 6441.8051 | G3: =E3/C3 -> 2189.7738 | H3: =B3/B$55*100 -> 30.229863 | I3: =C3/C$55*100 -> 73.709714 | J3: =D3/D$55*100 -> 65.074655 | K3: Ethekwini
A4: Msunduzi | B4: =Data!AA364 -> 364 | C4: =Data!AB364 -> 98941 | D4: =Data!AC364 -> 500047 | E4: =D4*1000 -> 500047000 | F4: =C4/B4 -> 271.81593 | G4: =E4/C4 -> 5053.9918 | H4: =B4/B$55*100 -> 35.155495 | I4: =C4/C$55*100 -> 3.6170049 | J4: =D4/D$55*100 -> 7.3700687 | K4: Msunduzi
A5: Nongoma | B5: =Data!AA448 -> 6 | C5: =Data!AB448 -> 113737 | D5: =Data!AC448 -> 485000 | E5: =D5*1000 -> 485000000 | F5: =C5/B5 -> 18956.167 | G5: =E5/C5 -> 4264.2236 | H5: =B5/B$55*100 -> 0.57948619 | I5: =C5/C$55*100 -> 4.1579051 | J5: =D5/D$55*100 -> 7.1482947 | K5: Nongoma
A6: Hibiscus Coast | B6: =Data!AA157 -> 25 | C6: =Data!AB157 -> 71391 | D6: =Data!AC157 -> 217846 | E6: =D6*1000 -> 217846000 | F6: =C6/B6 -> 2855.64 | G6: =E6/C6 -> 3051.4491 | H6: =B6/B$55*100 -> 2.4145258 | I6: =C6/C$55*100 -> 2.6098544 | J6: =D6/D$55*100 -> 3.2107782 | K6: Hibiscus Coast
A7: KwaDukuza | B7: =Data!AA269 -> 23 | C7: =Data!AB269 -> 76243 | D7: =Data!AC269 -> 253712 | E7: =D7*1000 -> 253712000 | F7: =C7/B7 -> 3314.913 | G7: =E7/C7 -> 3327.676 | H7: =B7/B$55*100 -> 2.2213637 | I7: =C7/C$55*100 -> 2.7872298 | J7: =D7/D$55*100 -> 3.7393982 | K7: KwaDukuza
A8: New Castle | B8: =Data!AA420 -> 30 | C8: =Data!AB420 -> 54196 | D8: =Data!AC420 -> 103219 | E8: =D8*1000 -> 103219000 | F8: =C8/B8 -> 1806.5333 | G8: =E8/C8 -> 1904.5502 | H8: =B8/B$55*100 -> 2.8974309 | I8: =C8/C$55*100 -> 1.9812535 | J8: =D8/D$55*100 -> 1.5213192 | K8: New Castle
A9: Umvoti | B9: =Data!AA658 -> 6 | C9: =Data!AB658 -> 32659 | D9: =Data!AC658 -> 16152 | E9: =D9*1000 -> 16152000 | F9: =C9/B9 -> 5443.1667 | G9: =E9/C9 -> 494.56505 | H9: =B9/B$55*100 -> 0.57948619 | I9: =C9/C$55*100 -> 1.1939213 | J9: =D9/D$55*100 -> 0.23806032 | K9: Umvoti
A10: Nquthu | B10: =Data!AA462 -> 8 | C10: =Data!AB462 -> 31054 | D10: =Data!AC462 -> 110512 | E10: =D10*1000 -> 110512000 | F10: =C10/B10 -> 3881.75 | G10: =E10/C10 -> 3558.7042 | H10: =B10/B$55*100 -> 0.77264825 | I10: =C10/C$55*100 -> 1.135247 | J10: =D10/D$55*100 -> 1.628809 | K10: Nquthu
A11: Umtshezi | B11: =Data!AA630 -> 25 | C11: =Data!AB630 -> 26135 | D11: =Data!AC630 -> 29415 | E11: =D11*1000 -> 29415000 | F11: =C11/B11 -> 1045.4 | G11: =E11/C11 -> 1125.5022 | H11: =B11/B$55*100 -> 2.4145258 | I11: =C11/C$55*100 -> 0.95542216 | J11: =D11/D$55*100 -> 0.43354039 | K11: Umtshezi
A12: Richmond | B12: =Data!AA504 -> 16.4 | C12: =Data!AB504 -> 23858 | D12: =Data!AC504 -> 66054 | E12: =D12*1000 -> 66054000 | F12: =C12/B12 -> 1454.7561 | G12: =E12/C12 -> 2768.6311 | H12: =B12/B$55*100 -> 1.5839289 | I12: =C12/C$55*100 -> 0.87218144 | J12: =D12/D$55*100 -> 0.97355352 | K12: Richmond
A13: Ulundi | B13: =Data!AA532 -> 4 | C13: =Data!AB532 -> 20739 | D13: =Data!AC532 -> 112242 | E13: =D13*1000 -> 112242000 | F13: =C13/B13 -> 5184.75 | G13: =E13/C13 -> 5412.1221 | H13: =B13/B$55*100 -> 0.38632413 | I13: =C13/C$55*100 -> 0.75815956 | J13: =D13/D$55*100 -> 1.654307 | K13: Ulundi
A14: Umngeni | B14: =Data!AA602 -> 16 | C14: =Data!AB602 -> 23609 | D14: =Data!AC602 -> 64362 | E14: =D14*1000 -> 64362000 | F14: =C14/B14 -> 1475.5625 | G14: =E14/C14 -> 2726.1638 | H14: =B14/B$55*100 -> 1.5452965 | I14: =C14/C$55*100 -> 0.8630787 | J14: =D14/D$55*100 -> 0.94861555 | K14: Umngeni
A15: Big 5 False Bay | B15: =Data!AA31 -> 10 | C15: =Data!AB31 -> 10576 | D15: =Data!AC31 -> 27897 | E15: =D15*1000 -> 27897000 | F15: =C15/B15 -> 1057.6 | G15: =E15/C15 -> 2637.7648 | H15: =B15/B$55*100 -> 0.96581031 | I15: =C15/C$55*100 -> 0.38662884 | J15: =D15/D$55*100 -> 0.41116696 | K15: Big 5 False Bay
A16: Mtubatuba | B16: =Data!AA392 -> 6 | C16: =Data!AB392 -> 14050 | D16: =Data!AC392 -> 41305 | E16: =D16*1000 -> 41305000 | F16: =C16/B16 -> 2341.6667 | G16: =E16/C16 -> 2939.8577 | H16: =B16/B$55*100 -> 0.57948619 | I16: =C16/C$55*100 -> 0.51362852 | J16: =D16/D$55*100 -> 0.60878415 | K16: Mtubatuba
A17: Edumbe | B17: =Data!AA59 -> 14 | C17: =Data!AB59 -> 10796 | D17: =Data!AC59 -> 23517 | E17: =D17*1000 -> 23517000 | F17: =C17/B17 -> 771.14286 | G17: =E17/C17 -> 2178.3068 | H17: =B17/B$55*100 -> 1.3521344 | I17: =C17/C$55*100 -> 0.39467142 | J17: =D17/D$55*100 -> 0.34661123 | K17: Edumbe
A18: KwaSani | B18: =Data!AA255 -> 28 | C18: =Data!AB255 -> 15230 | D18: =Data!AC255 -> 58982 | E18: =D18*1000 -> 58982000 | F18: =C18/B18 -> 543.92857 | G18: =E18/C18 -> 3872.7511 | H18: =B18/B$55*100 -> 2.7042689 | I18: =C18/C$55*100 -> 0.556766 | J18: =D18/D$55*100 -> 0.86932107 | K18: KwaSani
A19: Okhahlamba | B19: =Data!AA490 -> 11 | C19: =Data!AB490 -> 14067 | D19: =Data!AC490 -> 45255 | E19: =D19*1000 -> 45255000 | F19: =C19/B19 -> 1278.8182 | G19: =E19/C19 -> 3217.1039 | H19: =B19/B$55*100 -> 1.0623913 | I19: =C19/C$55*100 -> 0.51424999 | J19: =D19/D$55*100 -> 0.66700222 | K19: Okhahlamba
A20: Ubuhlebezwe | B20: =Data!AA518 -> 12 | C20: =Data!AB518 -> 9985 | D20: =Data!AC518 -> 27337 | E20: =D20*1000 -> 27337000 | F20: =C20/B20 -> 832.08333 | G20: =E20/C20 -> 2737.8067 | H20: =B20/B$55*100 -> 1.1589724 | I20: =C20/C$55*100 -> 0.36502354 | J20: =D20/D$55*100 -> 0.40291326 | K20: Ubuhlebezwe
A21: AbaQulusi | B21: =Data!AA17 -> 10 | C21: =Data!AB17 -> 8569 | D21: =Data!AC17 -> 22940 | E21: =D21*1000 -> 22940000 | F21: =C21/B21 -> 856.9 | G21: =E21/C21 -> 2677.0918 | H21: =B21/B$55*100 -> 0.96581031 | I21: =C21/C$55*100 -> 0.31325856 | J21: =D21/D$55*100 -> 0.33810697 | K21: AbaQulusi
A22: Nkandla | B22: =Data!AA434 -> 2 | C22: =Data!AB434 -> 5784 | D22: =Data!AC434 -> 14460 | E22: =D22*1000 -> 14460000 | F22: =C22/B22 -> 2892 | G22: =E22/C22 -> 2500 | H22: =B22/B$55*100 -> 0.19316206 | I22: =C22/C$55*100 -> 0.21144679 | J22: =D22/D$55*100 -> 0.21312235 | K22: Nkandla
A23: Umdoni | B23: =Data!AA546 -> 11 | C23: =Data!AB546 -> 7556 | D23: =Data!AC546 -> 17358 | E23: =D23*1000 -> 17358000 | F23: =C23/B23 -> 686.90909 | G23: =E23/C23 -> 2297.2472 | H23: =B23/B$55*100 -> 1.0623913 | I23: =C23/C$55*100 -> 0.27622613 | J23: =D23/D$55*100 -> 0.25583526 | K23: Umdoni
A24: Hlabisa | B24: =Data!AA171 -> 4 | C24: =Data!AB171 -> 5160 | D24: =Data!AC171 -> 15613 | E24: =D24*1000 -> 15613000 | F24: =C24/B24 -> 1290 | G24: =E24/C24 -> 3025.7752 | H24: =B24/B$55*100 -> 0.38632413 | I24: =C24/C$55*100 -> 0.1886351 | J24: =D24/D$55*100 -> 0.23011613 | K24: Hlabisa
A25: Emnambithi | B25: =Data!AA87 -> 12 | C25: =Data!AB87 -> 5489 | D25: =Data!AC87 -> 14283 | E25: =D25*1000 -> 14283000 | F25: =C25/B25 -> 457.41667 | G25: =E25/C25 -> 2602.1133 | H25: =B25/B$55*100 -> 1.1589724 | I25: =C25/C$55*100 -> 0.20066242 | J25: =D25/D$55*100 -> 0.21051359 | K25: Emnambithi
A26: uMhlathuze | B26: =Data!AA574 -> 2 | C26: =Data!AB574 -> 4176 | D26: =Data!AC574 -> 8039 | E26: =D26*1000 -> 8039000 | F26: =C26/B26 -> 2088 | G26: =E26/C26 -> 1925.0479 | H26: =B26/B$55*100 -> 0.19316206 | I26: =C26/C$55*100 -> 0.15266283 | J26: =D26/D$55*100 -> 0.11848483 | K26: uMhlathuze
A27: Mthonjaneni | B27: =Data!AA378 -> 5 | C27: =Data!AB378 -> 3910 | D27: =Data!AC378 -> 7969 | E27: =D27*1000 -> 7969000 | F27: =C27/B27 -> 782 | G27: =E27/C27 -> 2038.1074 | H27: =B27/B$55*100 -> 0.48290516 | I27: =C27/C$55*100 -> 0.14293861 | J27: =D27/D$55*100 -> 0.11745311 | K27: Mthonjaneni
A28: Jozini | B28: =Data!AA241 -> 18 | C28: =Data!AB241 -> 5541 | D28: =Data!AC241 -> 16727 | E28: =D28*1000 -> 16727000 | F28: =C28/B28 -> 307.83333 | G28: =E28/C28 -> 3018.7692 | H28: =B28/B$55*100 -> 1.7384586 | I28: =C28/C$55*100 -> 0.20256339 | J28: =D28/D$55*100 -> 0.2465351 | K28: Jozini
A29: Imbabazane | B29: =Data!AA185 -> 1 | C29: =Data!AB185 -> 3597 | D29: =Data!AC185 -> 9424 | E29: =D29*1000 -> 9424000 | F29: =C29/B29 -> 3597 | G29: =E29/C29 -> 2619.9611 | H29: =B29/B$55*100 -> 0.096581031 | I29: =C29/C$55*100 -> 0.13149621 | J29: =D29/D$55*100 -> 0.138898 | K29: Imbabazane
A30: Umlalazi | B30: =Data!AA588 -> 13 | C30: =Data!AB588 -> 3478 | D30: =Data!AC588 -> 12308 | E30: =D30*1000 -> 12308000 | F30: =C30/B30 -> 267.53846 | G30: =E30/C30 -> 3538.8154 | H30: =B30/B$55*100 -> 1.2555534 | I30: =C30/C$55*100 -> 0.12714591 | J30: =D30/D$55*100 -> 0.18140456 | K30: Umlalazi
A31: Umzimkhulu | B31: =Data!AA672 -> 4 | C31: =Data!AB672 -> 3518 | D31: =Data!AC672 -> 14528 | E31: =D31*1000 -> 14528000 | F31: =C31/B31 -> 879.5 | G31: =E31/C31 -> 4129.6191 | H31: =B31/B$55*100 -> 0.38632413 | I31: =C31/C$55*100 -> 0.12860819 | J31: =D31/D$55*100 -> 0.21412459 | K31: Umzimkhulu
A32: Endumeni | B32: =Data!AA101 -> 5 | C32: =Data!AB101 -> 1659 | D32: =Data!AC101 -> 4411 | E32: =D32*1000 -> 4411000 | F32: =C32/B32 -> 331.8 | G32: =E32/C32 -> 2658.8306 | H32: =B32/B$55*100 -> 0.48290516 | I32: =C32/C$55*100 -> 0.060648378 | J32: =D32/D$55*100 -> 0.065012635 | K32: Endumeni
A33: Emadlangeni | B33: =Data!AA73 -> 6 | C33: =Data!AB73 -> 2011 | D33: =Data!AC73 -> 4409 | E33: =D33*1000 -> 4409000 | F33: =C33/B33 -> 335.16667 | G33: =E33/C33 -> 2192.4416 | H33: =B33/B$55*100 -> 0.57948619 | I33: =C33/C$55*100 -> 0.073516509 | J33: =D33/D$55*100 -> 0.064983157 | K33: Emadlangeni
A34: Dannhauser | B34: =Data!AA45 -> 2 | C34: =Data!AB45 -> 1199 | D34: =Data!AC45 -> 1895 | E34: =D34*1000 -> 1895000 | F34: =C34/B34 -> 599.5 | G34: =E34/C34 -> 1580.4837 | H34: =B34/B$55*100 -> 0.19316206 | I34: =C34/C$55*100 -> 0.043832071 | J34: =D34/D$55*100 -> 0.027929935 | K34: Dannhauser
A35: Mpofana | B35: =Data!AA336 -> 7 | C35: =Data!AB336 -> 3673 | D35: =Data!AC336 -> 8768 | E35: =D35*1000 -> 8768000 | F35: =C35/B35 -> 524.71429 | G35: =E35/C35 -> 2387.1495 | H35: =B35/B$55*100 -> 0.67606722 | I35: =C35/C$55*100 -> 0.13427456 | J35: =D35/D$55*100 -> 0.12922938 | K35: Mpofana
A36: Umshwathi | B36: =Data!AA616 -> 10 | C36: =Data!AB616 -> 3909 | D36: =Data!AC616 -> 7818 | E36: =D36*1000 -> 7818000 | F36: =C36/B36 -> 390.9 | G36: =E36/C36 -> 2000 | H36: =B36/B$55*100 -> 0.96581031 | I36: =C36/C$55*100 -> 0.14290206 | J36: =D36/D$55*100 -> 0.11522756 | K36: Umshwathi
A37: Uphongolo | B37: =Data!AA700 -> 1 | C37: =Data!AB700 -> 790 | D37: =Data!AC700 -> 2380 | E37: =D37*1000 -> 2380000 | F37: =C37/B37 -> 790 | G37: =E37/C37 -> 3012.6582 | H37: =B37/B$55*100 -> 0.096581031 | I37: =C37/C$55*100 -> 0.02888018 | J37: =D37/D$55*100 -> 0.03507823 | K37: Uphongolo
A38: Umhlabuyalingana | B38: =Data!AA560 -> 1 | C38: =Data!AB560 -> 637 | D38: =Data!AC560 -> 670 | E38: =D38*1000 -> 670000 | F38: =C38/B38 -> 637 | G38: =E38/C38 -> 1051.8053 | H38: =B38/B$55*100 -> 0.096581031 | I38: =C38/C$55*100 -> 0.02328693 | J38: =D38/D$55*100 -> 0.0098749638 | K38: Umhlabuyalingana
A39: Mbonambi | B39: =Data!AA308 -> 2 | C39: =Data!AB308 -> 382 | D39: =Data!AC308 -> 953 | E39: =D39*1000 -> 953000 | F39: =C39/B39 -> 191 | G39: =E39/C39 -> 2494.7644 | H39: =B39/B$55*100 -> 0.19316206 | I39: =C39/C$55*100 -> 0.013964847 | J39: =D39/D$55*100 -> 0.014046031 | K39: Mbonambi
A40: Ingwe | B40: =Data!AA227 -> 1 | C40: =Data!AB227 -> 251 | D40: =Data!AC227 -> 140 | E40: =D40*1000 -> 140000 | F40: =C40/B40 -> 251 | G40: =E40/C40 -> 557.76892 | H40: =B40/B$55*100 -> 0.096581031 | I40: =C40/C$55*100 -> 0.0091758547 | J40: =D40/D$55*100 -> 0.0020634253 | K40: Ingwe
A41: Ndwedwe | B41: =Data!AA406 -> 0 | C41: =Data!AB406 -> 0 | D41: =Data!AC406 -> 0 | E41: =D41*1000 -> 0 | F41: =C41/B41 -> #DIV/0! | G41: =E41/C41 -> #DIV/0! | H41: =B41/B$55*100 -> 0 | I41: =C41/C$55*100 -> 0 | J41: =D41/D$55*100 -> 0 | K41: Ndwedwe
A42: Ezinqoleni | B42: =Data!AA129 -> 0 | C42: =Data!AB129 -> 0 | D42: =Data!AC129 -> 0 | E42: =D42*1000 -> 0 | F42: =C42/B42 -> #DIV/0! | G42: =E42/C42 -> #DIV/0! | H42: =B42/B$55*100 -> 0 | I42: =C42/C$55*100 -> 0 | J42: =D42/D$55*100 -> 0 | K42: Ezinqoleni
A43: Greater Kokstad | B43: =Data!AA143 -> 0 | C43: =Data!AB143 -> 0 | D43: =Data!AC143 -> 0 | E43: =D43*1000 -> 0 | F43: =C43/B43 -> #DIV/0! | G43: =E43/C43 -> #DIV/0! | H43: =B43/B$55*100 -> 0 | I43: =C43/C$55*100 -> 0 | J43: =D43/D$55*100 -> 0 | K43: Greater Kokstad
A44: Impendle | B44: =Data!AA199 -> 0 | C44: =Data!AB199 -> 0 | D44: =Data!AC199 -> 0 | E44: =D44*1000 -> 0 | F44: =C44/B44 -> #DIV/0! | G44: =E44/C44 -> #DIV/0! | H44: =B44/B$55*100 -> 0 | I44: =C44/C$55*100 -> 0 | J44: =D44/D$55*100 -> 0 | K44: Impendle
A45: Indaka | B45: =Data!AA213 -> 0 | C45: =Data!AB213 -> 0 | D45: =Data!AC213 -> 0 | E45: =D45*1000 -> 0 | F45: =C45/B45 -> #DIV/0! | G45: =E45/C45 -> #DIV/0! | H45: =B45/B$55*100 -> 0 | I45: =C45/C$55*100 -> 0 | J45: =D45/D$55*100 -> 0 | K45: Indaka
A46: Mandeni | B46: =Data!AA283 -> 1 | C46: =Data!AB283 -> 600 | D46: =Data!AC283 -> 1680 | E46: =D46*1000 -> 1680000 | F46: =C46/B46 -> 600 | G46: =E46/C46 -> 2800 | H46: =B46/B$55*100 -> 0.096581031 | I46: =C46/C$55*100 -> 0.021934314 | J46: =D46/D$55*100 -> 0.024761103 | K46: Mandeni
A47: Maphumulo | B47: =Data!AA294 -> 0 | C47: =Data!AB294 -> 0 | D47: =Data!AC294 -> 0 | E47: =D47*1000 -> 0 | F47: =C47/B47 -> #DIV/0! | G47: =E47/C47 -> #DIV/0! | H47: =B47/B$55*100 -> 0 | I47: =C47/C$55*100 -> 0 | J47: =D47/D$55*100 -> 0 | K47: Maphumulo
A48: Mkhambathini | B48: =Data!AA322 -> 0 | C48: =Data!AB322 -> 0 | D48: =Data!AC322 -> 0 | E48: =D48*1000 -> 0 | F48: =C48/B48 -> #DIV/0! | G48: =E48/C48 -> #DIV/0! | H48: =B48/B$55*100 -> 0 | I48: =C48/C$55*100 -> 0 | J48: =D48/D$55*100 -> 0 | K48: Mkhambathini
A49: Msinga | B49: =Data!AA350 -> 0 | C49: =Data!AB350 -> 0 | D49: =Data!AC350 -> 0 | E49: =D49*1000 -> 0 | F49: =C49/B49 -> #DIV/0! | G49: =E49/C49 -> #DIV/0! | H49: =B49/B$55*100 -> 0 | I49: =C49/C$55*100 -> 0 | J49: =D49/D$55*100 -> 0 | K49: Msinga
A50: Ntambanana | B50: =Data!AA476 -> 0 | C50: =Data!AB476 -> 0 | D50: =Data!AC476 -> 0 | E50: =D50*1000 -> 0 | F50: =C50/B50 -> #DIV/0! | G50: =E50/C50 -> #DIV/0! | H50: =B50/B$55*100 -> 0 | I50: =C50/C$55*100 -> 0 | J50: =D50/D$55*100 -> 0 | K50: Ntambanana
A51: Umuziwabantu | B51: =Data!AA644 -> 0 | C51: =Data!AB644 -> 0 | D51: =Data!AC644 -> 0 | E51: =D51*1000 -> 0 | F51: =C51/B51 -> #DIV/0! | G51: =E51/C51 -> #DIV/0! | H51: =B51/B$55*100 -> 0 | I51: =C51/C$55*100 -> 0 | J51: =D51/D$55*100 -> 0 | K51: Umuziwabantu
A52: Umzumbe | B52: =Data!AA686 -> 0 | C52: =Data!AB686 -> 0 | D52: =Data!AC686 -> 0 | E52: =D52*1000 -> 0 | F52: =C52/B52 -> #DIV/0! | G52: =E52/C52 -> #DIV/0! | H52: =B52/B$55*100 -> 0 | I52: =C52/C$55*100 -> 0 | J52: =D52/D$55*100 -> 0 | K52: Umzumbe
A53: Valamehlo | B53: =Data!AA714 -> 0 | C53: =Data!AB714 -> 0 | D53: =Data!AC714 -> 0 | E53: =D53*1000 -> 0 | F53: =C53/B53 -> #DIV/0! | G53: =E53/C53 -> #DIV/0! | H53: =B53/B$55*100 -> 0 | I53: =C53/C$55*100 -> 0 | J53: =D53/D$55*100 -> 0 | K53: Valamehlo
A55: Total | B55: =SUM(B3:B53) -> 1035.4 | C55: =SUM(C3:C53) -> 2735440 | D55: =SUM(D3:D53) -> 6784835 | E55: =SUM(E3:E53) -> 6784835000

Sheet Industrial, ETC
A1: Industrial & Warehouse Space
B2: Number of Building Plans Completed | C2: Square Meters Completed | D2: Total Rand Value | E2: Total Rand Value | F2: Square Meters per Building Plan | G2: Cost per Square Meter | H2: Building Plans As a % of Total | I2: Square Meters As a % of Total | J2: Rand Value As a % of Total
A3: Ethekwini | B3: =Data!AD115 -> 620 | C3: =Data!AE115 -> 1610069 | D3: =Data!AF115 -> 4005167 | E3: =D3*1000 -> 4005167000 | F3: =C3/B3 -> 2596.8855 | G3: =E3/C3 -> 2487.5748 | H3: =B3/B$55*100 -> 50.570962 | I3: =C3/C$55*100 -> 70.437908 | J3: =D3/D$55*100 -> 69.775407
A4: Ezinqoleni | B4: =Data!AD129 -> 51 | C4: =Data!AE129 -> 153205 | D4: =Data!AF129 -> 368914 | E4: =D4*1000 -> 368914000 | F4: =C4/B4 -> 3004.0196 | G4: =E4/C4 -> 2407.9762 | H4: =B4/B$55*100 -> 4.1598695 | I4: =C4/C$55*100 -> 6.7024703 | J4: =D4/D$55*100 -> 6.4269791
A5: Greater Kokstad | B5: =Data!AD143 -> 29 | C5: =Data!AE143 -> 85020 | D5: =Data!AF143 -> 223431 | E5: =D5*1000 -> 223431000 | F5: =C5/B5 -> 2931.7241 | G5: =E5/C5 -> 2627.9817 | H5: =B5/B$55*100 -> 2.365416 | I5: =C5/C$55*100 -> 3.7194871 | J5: =D5/D$55*100 -> 3.8924692
A6: New Castle | B6: =Data!AD420 -> 49 | C6: =Data!AE420 -> 56753 | D6: =Data!AF420 -> 72273 | E6: =D6*1000 -> 72273000 | F6: =C6/B6 -> 1158.2245 | G6: =E6/C6 -> 1273.4657 | H6: =B6/B$55*100 -> 3.9967374 | I6: =C6/C$55*100 -> 2.4828517 | J6: =D6/D$55*100 -> 1.2590931
A7: Msunduzi | B7: =Data!AD364 -> 45 | C7: =Data!AE364 -> 127713 | D7: =Data!AF364 -> 352952 | E7: =D7*1000 -> 352952000 | F7: =C7/B7 -> 2838.0667 | G7: =E7/C7 -> 2763.6341 | H7: =B7/B$55*100 -> 3.6704731 | I7: =C7/C$55*100 -> 5.5872367 | J7: =D7/D$55*100 -> 6.1488996
A8: uMhlathuze | B8: =Data!AD574 -> 12 | C8: =Data!AE574 -> 22192 | D8: =Data!AF574 -> 36567 | E8: =D8*1000 -> 36567000 | F8: =C8/B8 -> 1849.3333 | G8: =E8/C8 -> 1647.7559 | H8: =B8/B$55*100 -> 0.97879282 | I8: =C8/C$55*100 -> 0.97086402 | J8: =D8/D$55*100 -> 0.63704643
A9: Umtshezi | B9: =Data!AD630 -> 57 | C9: =Data!AE630 -> 28429 | D9: =Data!AF630 -> 65092 | E9: =D9*1000 -> 65092000 | F9: =C9/B9 -> 498.75439 | G9: =E9/C9 -> 2289.6338 | H9: =B9/B$55*100 -> 4.6492659 | I9: =C9/C$55*100 -> 1.2437227 | J9: =D9/D$55*100 -> 1.1339904
A10: KwaDukuza | B10: =Data!AD269 -> 55 | C10: =Data!AE269 -> 76441 | D10: =Data!AF269 -> 309605 | E10: =D10*1000 -> 309605000 | F10: =C10/B10 -> 1389.8364 | G10: =E10/C10 -> 4050.2479 | H10: =B10/B$55*100 -> 4.4861338 | I10: =C10/C$55*100 -> 3.3441698 | J10: =D10/D$55*100 -> 5.3937364
A11: Emnambithi | B11: =Data!AD87 -> 17 | C11: =Data!AE87 -> 18793 | D11: =Data!AF87 -> 38014 | E11: =D11*1000 -> 38014000 | F11: =C11/B11 -> 1105.4706 | G11: =E11/C11 -> 2022.7744 | H11: =B11/B$55*100 -> 1.3866232 | I11: =C11/C$55*100 -> 0.82216328 | J11: =D11/D$55*100 -> 0.66225512
A12: Okhahlamba | B12: =Data!AD490 -> 132 | C12: =Data!AE490 -> 13634 | D12: =Data!AF490 -> 33267 | E12: =D12*1000 -> 33267000 | F12: =C12/B12 -> 103.28788 | G12: =E12/C12 -> 2440.0029 | H12: =B12/B$55*100 -> 10.766721 | I12: =C12/C$55*100 -> 0.59646539 | J12: =D12/D$55*100 -> 0.57955598
A13: Umngeni | B13: =Data!AD602 -> 12 | C13: =Data!AE602 -> 9059 | D13: =Data!AF602 -> 24687 | E13: =D13*1000 -> 24687000 | F13: =C13/B13 -> 754.91667 | G13: =E13/C13 -> 2725.1352 | H13: =B13/B$55*100 -> 0.97879282 | I13: =C13/C$55*100 -> 0.39631656 | J13: =D13/D$55*100 -> 0.43008081
A14: Hibiscus Coast | B14: =Data!AD157 -> 21 | C14: =Data!AE157 -> 16573 | D14: =Data!AF157 -> 54327 | E14: =D14*1000 -> 54327000 | F14: =C14/B14 -> 789.19048 | G14: =E14/C14 -> 3278.0426 | H14: =B14/B$55*100 -> 1.7128874 | I14: =C14/C$55*100 -> 0.72504188 | J14: =D14/D$55*100 -> 0.94644956
A15: Umdoni | B15: =Data!AD546 -> 16 | C15: =Data!AE546 -> 11294 | D15: =Data!AF546 -> 38850 | E15: =D15*1000 -> 38850000 | F15: =C15/B15 -> 705.875 | G15: =E15/C15 -> 3439.8796 | H15: =B15/B$55*100 -> 1.3050571 | I15: =C15/C$55*100 -> 0.49409419 | J15: =D15/D$55*100 -> 0.67681936
A16: Endumeni | B16: =Data!AD101 -> 16 | C16: =Data!AE101 -> 5708 | D16: =Data!AF101 -> 12603 | E16: =D16*1000 -> 12603000 | F16: =C16/B16 -> 356.75 | G16: =E16/C16 -> 2207.9537 | H16: =B16/B$55*100 -> 1.3050571 | I16: =C16/C$55*100 -> 0.24971574 | J16: =D16/D$55*100 -> 0.21956125
A17: AbaQulusi | B17: =Data!AD17 -> 9 | C17: =Data!AE17 -> 5017 | D17: =Data!AF17 -> 5766 | E17: =D17*1000 -> 5766000 | F17: =C17/B17 -> 557.44444 | G17: =E17/C17 -> 1149.2924 | H17: =B17/B$55*100 -> 0.73409462 | I17: =C17/C$55*100 -> 0.21948562 | J17: =D17/D$55*100 -> 0.10045149
A18: Ulundi | B18: =Data!AD532 -> 4 | C18: =Data!AE532 -> 3606 | D18: =Data!AF532 -> 16226 | E18: =D18*1000 -> 16226000 | F18: =C18/B18 -> 901.5 | G18: =E18/C18 -> 4499.7227 | H18: =B18/B$55*100 -> 0.32626427 | I18: =C18/C$55*100 -> 0.15775665 | J18: =D18/D$55*100 -> 0.28267879
A19: Msinga | B19: =Data!AD350 -> 6 | C19: =Data!AE350 -> 3597 | D19: =Data!AF350 -> 3747 | E19: =D19*1000 -> 3747000 | F19: =C19/B19 -> 599.5 | G19: =E19/C19 -> 1041.7014 | H19: =B19/B$55*100 -> 0.48939641 | I19: =C19/C$55*100 -> 0.15736292 | J19: =D19/D$55*100 -> 0.06527779
A20: Umlalazi | B20: =Data!AD588 -> 12 | C20: =Data!AE588 -> 4893 | D20: =Data!AF588 -> 15116 | E20: =D20*1000 -> 15116000 | F20: =C20/B20 -> 407.75 | G20: =E20/C20 -> 3089.3113 | H20: =B20/B$55*100 -> 0.97879282 | I20: =C20/C$55*100 -> 0.21406082 | J20: =D20/D$55*100 -> 0.26334109
A21: Umzimkhulu | B21: =Data!AD672 -> 2 | C21: =Data!AE672 -> 3298 | D21: =Data!AF672 -> 11540 | E21: =D21*1000 -> 11540000 | F21: =C21/B21 -> 1649 | G21: =E21/C21 -> 3499.0904 | H21: =B21/B$55*100 -> 0.16313214 | I21: =C21/C$55*100 -> 0.14428215 | J21: =D21/D$55*100 -> 0.20104235
A22: Umshwathi | B22: =Data!AD616 -> 9 | C22: =Data!AE616 -> 3931 | D22: =Data!AF616 -> 9569 | E22: =D22*1000 -> 9569000 | F22: =C22/B22 -> 436.77778 | G22: =E22/C22 -> 2434.2407 | H22: =B22/B$55*100 -> 0.73409462 | I22: =C22/C$55*100 -> 0.17197488 | J22: =D22/D$55*100 -> 0.16670488
A23: Uphongolo | B23: =Data!AD700 -> 5 | C23: =Data!AE700 -> 5798 | D23: =Data!AF700 -> 2935 | E23: =D23*1000 -> 2935000 | F23: =C23/B23 -> 1159.6 | G23: =E23/C23 -> 506.20904 | H23: =B23/B$55*100 -> 0.40783034 | I23: =C23/C$55*100 -> 0.2536531 | J23: =D23/D$55*100 -> 0.051131656
A24: Big 5 False Bay | B24: =Data!AD31 -> 8 | C24: =Data!AE31 -> 1614 | D24: =Data!AF31 -> 4002 | E24: =D24*1000 -> 4002000 | F24: =C24/B24 -> 201.75 | G24: =E24/C24 -> 2479.5539 | H24: =B24/B$55*100 -> 0.65252855 | I24: =C24/C$55*100 -> 0.070609883 | J24: =D24/D$55*100 -> 0.069720234
A25: Mandeni | B25: =Data!AD283 -> 3 | C25: =Data!AE283 -> 2133 | D25: =Data!AF283 -> 5963 | E25: =D25*1000 -> 5963000 | F25: =C25/B25 -> 711 | G25: =E25/C25 -> 2795.5931 | H25: =B25/B$55*100 -> 0.24469821 | I25: =C25/C$55*100 -> 0.093315292 | J25: =D25/D$55*100 -> 0.1038835
A26: Dannhauser | B26: =Data!AD45 -> 3 | C26: =Data!AE45 -> 1924 | D26: =Data!AF45 -> 5772 | E26: =D26*1000 -> 5772000 | F26: =C26/B26 -> 641.33333 | G26: =E26/C26 -> 3000 | H26: =B26/B$55*100 -> 0.24469821 | I26: =C26/C$55*100 -> 0.08417188 | J26: =D26/D$55*100 -> 0.10055602
A27: Richmond | B27: =Data!AD504 -> 3 | C27: =Data!AE504 -> 1506 | D27: =Data!AF504 -> 3278 | E27: =D27*1000 -> 3278000 | F27: =C27/B27 -> 502 | G27: =E27/C27 -> 2176.6268 | H27: =B27/B$55*100 -> 0.24469821 | I27: =C27/C$55*100 -> 0.065885058 | J27: =D27/D$55*100 -> 0.057107178
A28: Ubuhlebezwe | B28: =Data!AD518 -> 4 | C28: =Data!AE518 -> 1458 | D28: =Data!AF518 -> 2478 | E28: =D28*1000 -> 2478000 | F28: =C28/B28 -> 364.5 | G28: =E28/C28 -> 1699.5885 | H28: =B28/B$55*100 -> 0.32626427 | I28: =C28/C$55*100 -> 0.063785136 | J28: =D28/D$55*100 -> 0.0431701
A29: Umvoti | B29: =Data!AD658 -> 3 | C29: =Data!AE658 -> 1728 | D29: =Data!AF658 -> 1650 | E29: =D29*1000 -> 1650000 | F29: =C29/B29 -> 576 | G29: =E29/C29 -> 954.86111 | H29: =B29/B$55*100 -> 0.24469821 | I29: =C29/C$55*100 -> 0.075597198 | J29: =D29/D$55*100 -> 0.028745224
A30: Mpofana | B30: =Data!AD336 -> 3 | C30: =Data!AE336 -> 2102 | D30: =Data!AF336 -> 3709 | E30: =D30*1000 -> 3709000 | F30: =C30/B30 -> 700.66667 | G30: =E30/C30 -> 1764.51 | H30: =B30/B$55*100 -> 0.24469821 | I30: =C30/C$55*100 -> 0.091959092 | J30: =D30/D$55*100 -> 0.064615779
A31: Mthonjaneni | B31: =Data!AD378 -> 2 | C31: =Data!AE378 -> 1054 | D31: =Data!AF378 -> 1716 | E31: =D31*1000 -> 1716000 | F31: =C31/B31 -> 527 | G31: =E31/C31 -> 1628.0835 | H31: =B31/B$55*100 -> 0.16313214 | I31: =C31/C$55*100 -> 0.046110791 | J31: =D31/D$55*100 -> 0.029895033
A32: Nongoma | B32: =Data!AD448 -> 2 | C32: =Data!AE448 -> 848 | D32: =Data!AF448 -> 1430 | E32: =D32*1000 -> 1430000 | F32: =C32/B32 -> 424 | G32: =E32/C32 -> 1686.3208 | H32: =B32/B$55*100 -> 0.16313214 | I32: =C32/C$55*100 -> 0.037098625 | J32: =D32/D$55*100 -> 0.024912527
A33: KwaSani | B33: =Data!AD255 -> 3 | C33: =Data!AE255 -> 843 | D33: =Data!AF255 -> 1645 | E33: =D33*1000 -> 1645000 | F33: =C33/B33 -> 281 | G33: =E33/C33 -> 1951.3642 | H33: =B33/B$55*100 -> 0.24469821 | I33: =C33/C$55*100 -> 0.036879883 | J33: =D33/D$55*100 -> 0.028658117
A34: Nquthu | B34: =Data!AD462 -> 2 | C34: =Data!AE462 -> 595 | D34: =Data!AF462 -> 759 | E34: =D34*1000 -> 759000 | F34: =C34/B34 -> 297.5 | G34: =E34/C34 -> 1275.6303 | H34: =B34/B$55*100 -> 0.16313214 | I34: =C34/C$55*100 -> 0.026030285 | J34: =D34/D$55*100 -> 0.013222803
A35: Edumbe | B35: =Data!AD59 -> 2 | C35: =Data!AE59 -> 832 | D35: =Data!AF59 -> 2016 | E35: =D35*1000 -> 2016000 | F35: =C35/B35 -> 416 | G35: =E35/C35 -> 2423.0769 | H35: =B35/B$55*100 -> 0.16313214 | I35: =C35/C$55*100 -> 0.036398651 | J35: =D35/D$55*100 -> 0.035121437
A36: Mbonambi | B36: =Data!AD308 -> 1 | C36: =Data!AE308 -> 380 | D36: =Data!AF308 -> 420 | E36: =D36*1000 -> 420000 | F36: =C36/B36 -> 380 | G36: =E36/C36 -> 1105.2632 | H36: =B36/B$55*100 -> 0.081566069 | I36: =C36/C$55*100 -> 0.016624384 | J36: =D36/D$55*100 -> 0.0073169661
A37: Hlabisa | B37: =Data!AD171 -> 1 | C37: =Data!AE171 -> 195 | D37: =Data!AF171 -> 75 | E37: =D37*1000 -> 75000 | F37: =C37/B37 -> 195 | G37: =E37/C37 -> 384.61538 | H37: =B37/B$55*100 -> 0.081566069 | I37: =C37/C$55*100 -> 0.0085309338 | J37: =D37/D$55*100 -> 0.0013066011
A38: Jozini | B38: =Data!AD241 -> 4 | C38: =Data!AE241 -> 414 | D38: =Data!AF241 -> 855 | E38: =D38*1000 -> 855000 | F38: =C38/B38 -> 103.5 | G38: =E38/C38 -> 2065.2174 | H38: =B38/B$55*100 -> 0.32626427 | I38: =C38/C$55*100 -> 0.018111829 | J38: =D38/D$55*100 -> 0.014895252
A39: Indaka | B39: =Data!AD213 -> 1 | C39: =Data!AE213 -> 60 | D39: =Data!AF213 -> 90 | E39: =D39*1000 -> 90000 | F39: =C39/B39 -> 60 | G39: =E39/C39 -> 1500 | H39: =B39/B$55*100 -> 0.081566069 | I39: =C39/C$55*100 -> 0.0026249027 | J39: =D39/D$55*100 -> 0.0015679213
A40: Emadlangeni | B40: =Data!AD73 -> 0 | C40: =Data!AE73 -> 0 | D40: =Data!AF73 -> 0 | E40: =D40*1000 -> 0 | F40: =C40/B40 -> #DIV/0! | G40: =E40/C40 -> #DIV/0! | H40: =B40/B$55*100 -> 0 | I40: =C40/C$55*100 -> 0 | J40: =D40/D$55*100 -> 0
A41: Imbabazane | B41: =Data!AD185 -> 0 | C41: =Data!AE185 -> 0 | D41: =Data!AF185 -> 0 | E41: =D41*1000 -> 0 | F41: =C41/B41 -> #DIV/0! | G41: =E41/C41 -> #DIV/0! | H41: =B41/B$55*100 -> 0 | I41: =C41/C$55*100 -> 0 | J41: =D41/D$55*100 -> 0
A42: Impendle | B42: =Data!AD199 -> 0 | C42: =Data!AE199 -> 0 | D42: =Data!AF199 -> 0 | E42: =D42*1000 -> 0 | F42: =C42/B42 -> #DIV/0! | G42: =E42/C42 -> #DIV/0! | H42: =B42/B$55*100 -> 0 | I42: =C42/C$55*100 -> 0 | J42: =D42/D$55*100 -> 0
A43: Ingwe | B43: =Data!AD227 -> 0 | C43: =Data!AE227 -> 0 | D43: =Data!AF227 -> 0 | E43: =D43*1000 -> 0 | F43: =C43/B43 -> #DIV/0! | G43: =E43/C43 -> #DIV/0! | H43: =B43/B$55*100 -> 0 | I43: =C43/C$55*100 -> 0 | J43: =D43/D$55*100 -> 0
A44: Maphumulo | B44: =Data!AD294 -> 0 | C44: =Data!AE294 -> 0 | D44: =Data!AF294 -> 0 | E44: =D44*1000 -> 0 | F44: =C44/B44 -> #DIV/0! | G44: =E44/C44 -> #DIV/0! | H44: =B44/B$55*100 -> 0 | I44: =C44/C$55*100 -> 0 | J44: =D44/D$55*100 -> 0
A45: Mkhambathini | B45: =Data!AD322 -> 0 | C45: =Data!AE322 -> 1810 | D45: =Data!AF322 -> 0 | E45: =D45*1000 -> 0 | F45: =C45/B45 -> #DIV/0! | G45: =E45/C45 -> 0 | H45: =B45/B$55*100 -> 0 | I45: =C45/C$55*100 -> 0.079184565 | J45: =D45/D$55*100 -> 0
A46: Mtubatuba | B46: =Data!AD392 -> 0 | C46: =Data!AE392 -> 0 | D46: =Data!AF392 -> 0 | E46: =D46*1000 -> 0 | F46: =C46/B46 -> #DIV/0! | G46: =E46/C46 -> #DIV/0! | H46: =B46/B$55*100 -> 0 | I46: =C46/C$55*100 -> 0 | J46: =D46/D$55*100 -> 0
A47: Ndwedwe | B47: =Data!AD406 -> 0 | C47: =Data!AE406 -> 0 | D47: =Data!AF406 -> 0 | E47: =D47*1000 -> 0 | F47: =C47/B47 -> #DIV/0! | G47: =E47/C47 -> #DIV/0! | H47: =B47/B$55*100 -> 0 | I47: =C47/C$55*100 -> 0 | J47: =D47/D$55*100 -> 0
A48: Nkandla | B48: =Data!AD434 -> 1 | C48: =Data!AE434 -> 1000 | D48: =Data!AF434 -> 2850 | E48: =D48*1000 -> 2850000 | F48: =C48/B48 -> 1000 | G48: =E48/C48 -> 2850 | H48: =B48/B$55*100 -> 0.081566069 | I48: =C48/C$55*100 -> 0.043748379 | J48: =D48/D$55*100 -> 0.049650841
A49: Ntambanana | B49: =Data!AD476 -> 0 | C49: =Data!AE476 -> 0 | D49: =Data!AF476 -> 0 | E49: =D49*1000 -> 0 | F49: =C49/B49 -> #DIV/0! | G49: =E49/C49 -> #DIV/0! | H49: =B49/B$55*100 -> 0 | I49: =C49/C$55*100 -> 0 | J49: =D49/D$55*100 -> 0
A50: Umhlabuyalingana | B50: =Data!AD560 -> 0 | C50: =Data!AE560 -> 0 | D50: =Data!AF560 -> 0 | E50: =D50*1000 -> 0 | F50: =C50/B50 -> #DIV/0! | G50: =E50/C50 -> #DIV/0! | H50: =B50/B$55*100 -> 0 | I50: =C50/C$55*100 -> 0 | J50: =D50/D$55*100 -> 0
A51: Umuziwabantu | B51: =Data!AD644 -> 1 | C51: =Data!AE644 -> 280 | D51: =Data!AF644 -> 728 | E51: =D51*1000 -> 728000 | F51: =C51/B51 -> 280 | G51: =E51/C51 -> 2600 | H51: =B51/B$55*100 -> 0.081566069 | I51: =C51/C$55*100 -> 0.012249546 | J51: =D51/D$55*100 -> 0.012682741
A52: Umzumbe | B52: =Data!AD686 -> 0 | C52: =Data!AE686 -> 0 | D52: =Data!AF686 -> 0 | E52: =D52*1000 -> 0 | F52: =C52/B52 -> #DIV/0! | G52: =E52/C52 -> #DIV/0! | H52: =B52/B$55*100 -> 0 | I52: =C52/C$55*100 -> 0 | J52: =D52/D$55*100 -> 0
A53: Valamehlo | B53: =Data!AD714 -> 0 | C53: =Data!AE714 -> 0 | D53: =Data!AF714 -> 0 | E53: =D53*1000 -> 0 | F53: =C53/B53 -> #DIV/0! | G53: =E53/C53 -> #DIV/0! | H53: =B53/B$55*100 -> 0 | I53: =C53/C$55*100 -> 0 | J53: =D53/D$55*100 -> 0
A55: Total | B55: =SUM(B3:B53) -> 1226 | C55: =SUM(C3:C53) -> 2285799 | D55: =SUM(D3:D53) -> 5740084 | E55: =SUM(E3:E53) -> 5740084000

Sheet Total Space
A1: Total Space Expansion
C2: Total Space | D2: As a % of Total
A4: AbaQulusi | C4: =SUM(F4:O4) -> 146124 | D4: =C4/$C$56*100 -> 0.81998252 | F4: =Data!D17 -> 95782 | G4: =Data!G17 -> 20448 | H4: =Data!J17 -> 0 | I4: =Data!M17 -> 5715 | J4: =Data!P17 -> 8216 | K4: =Data!S17 -> 0 | L4: =Data!V17 -> 751 | M4: =Data!Y17 -> 1626 | N4: =Data!AB17 -> 8569 | O4: =Data!AE17 -> 5017
A5: Big 5 False Bay | C5: =SUM(F5:O5) -> 287766 | D5: =C5/$C$56*100 -> 1.6148141 | F5: =Data!D31 -> 263780 | G5: =Data!G31 -> 6500 | H5: =Data!J31 -> 0 | I5: =Data!M31 -> 0 | J5: =Data!P31 -> 4671 | K5: =Data!S31 -> 0 | L5: =Data!V31 -> 0 | M5: =Data!Y31 -> 625 | N5: =Data!AB31 -> 10576 | O5: =Data!AE31 -> 1614
A6: Dannhauser | C6: =SUM(F6:O6) -> 36506 | D6: =C6/$C$56*100 -> 0.20485534 | F6: =Data!D45 -> 32748 | G6: =Data!G45 -> 405 | H6: =Data!J45 -> 0 | I6: =Data!M45 -> 0 | J6: =Data!P45 -> 0 | K6: =Data!S45 -> 230 | L6: =Data!V45 -> 0 | M6: =Data!Y45 -> 0 | N6: =Data!AB45 -> 1199 | O6: =Data!AE45 -> 1924
A7: Edumbe | C7: =SUM(F7:O7) -> 28416 | D7: =C7/$C$56*100 -> 0.15945788 | F7: =Data!D59 -> 6404 | G7: =Data!G59 -> 7153 | H7: =Data!J59 -> 706 | I7: =Data!M59 -> 2095 | J7: =Data!P59 -> 246 | K7: =Data!S59 -> 0 | L7: =Data!V59 -> 184 | M7: =Data!Y59 -> 0 | N7: =Data!AB59 -> 10796 | O7: =Data!AE59 -> 832
A8: Emadlangeni | C8: =SUM(F8:O8) -> 17252 | D8: =C8/$C$56*100 -> 0.096810507 | F8: =Data!D73 -> 4078 | G8: =Data!G73 -> 11163 | H8: =Data!J73 -> 0 | I8: =Data!M73 -> 0 | J8: =Data!P73 -> 0 | K8: =Data!S73 -> 0 | L8: =Data!V73 -> 0 | M8: =Data!Y73 -> 0 | N8: =Data!AB73 -> 2011 | O8: =Data!AE73 -> 0
A9: Emnambithi | C9: =SUM(F9:O9) -> 143738 | D9: =C9/$C$56*100 -> 0.80659336 | F9: =Data!D87 -> 41846 | G9: =Data!G87 -> 48853 | H9: =Data!J87 -> 3149 | I9: =Data!M87 -> 4336 | J9: =Data!P87 -> 1338 | K9: =Data!S87 -> 3408 | L9: =Data!V87 -> 4311 | M9: =Data!Y87 -> 12215 | N9: =Data!AB87 -> 5489 | O9: =Data!AE87 -> 18793
A10: Endumeni | C10: =SUM(F10:O10) -> 183109 | D10: =C10/$C$56*100 -> 1.0275258 | F10: =Data!D101 -> 94658 | G10: =Data!G101 -> 58160 | H10: =Data!J101 -> 3492 | I10: =Data!M101 -> 11548 | J10: =Data!P101 -> 985 | K10: =Data!S101 -> 5106 | L10: =Data!V101 -> 1228 | M10: =Data!Y101 -> 565 | N10: =Data!AB101 -> 1659 | O10: =Data!AE101 -> 5708
A11: Ethekwini | C11: =SUM(F11:O11) -> 9663189 | D11: =C11/$C$56*100 -> 54.225494 | F11: =Data!D115 -> 668858 | G11: =Data!G115 -> 2091744 | H11: =Data!J115 -> 666777 | I11: =Data!M115 -> 1267527 | J11: =Data!P115 -> 261610 | K11: =Data!S115 -> 83634 | L11: =Data!V115 -> 160543 | M11: =Data!Y115 -> 836142 | N11: =Data!AB115 -> 2016285 | O11: =Data!AE115 -> 1610069
A12: Ezinqoleni | C12: =SUM(F12:O12) -> 200021 | D12: =C12/$C$56*100 -> 1.1224284 | F12: =Data!D129 -> 46600 | G12: =Data!G129 -> 0 | H12: =Data!J129 -> 0 | I12: =Data!M129 -> 0 | J12: =Data!P129 -> 216 | K12: =Data!S129 -> 0 | L12: =Data!V129 -> 0 | M12: =Data!Y129 -> 0 | N12: =Data!AB129 -> 0 | O12: =Data!AE129 -> 153205
A13: Greater Kokstad | C13: =SUM(F13:O13) -> 121766 | D13: =C13/$C$56*100 -> 0.68329632 | F13: =Data!D143 -> 21765 | G13: =Data!G143 -> 9411 | H13: =Data!J143 -> 0 | I13: =Data!M143 -> 2623 | J13: =Data!P143 -> 763 | K13: =Data!S143 -> 1054 | L13: =Data!V143 -> 583 | M13: =Data!Y143 -> 547 | N13: =Data!AB143 -> 0 | O13: =Data!AE143 -> 85020
A14: Hibiscus Coast | C14: =SUM(F14:O14) -> 803052 | D14: =C14/$C$56*100 -> 4.5063686 | F14: =Data!D157 -> 9301 | G14: =Data!G157 -> 303752 | H14: =Data!J157 -> 40326 | I14: =Data!M157 -> 341025 | J14: =Data!P157 -> 240 | K14: =Data!S157 -> 789 | L14: =Data!V157 -> 5407 | M14: =Data!Y157 -> 14248 | N14: =Data!AB157 -> 71391 | O14: =Data!AE157 -> 16573
A15: Hlabisa | C15: =SUM(F15:O15) -> 44883 | D15: =C15/$C$56*100 -> 0.25186332 | F15: =Data!D171 -> 35634 | G15: =Data!G171 -> 0 | H15: =Data!J171 -> 0 | I15: =Data!M171 -> 0 | J15: =Data!P171 -> 0 | K15: =Data!S171 -> 0 | L15: =Data!V171 -> 0 | M15: =Data!Y171 -> 3894 | N15: =Data!AB171 -> 5160 | O15: =Data!AE171 -> 195
A16: Imbabazane | C16: =SUM(F16:O16) -> 65507 | D16: =C16/$C$56*100 -> 0.36759598 | F16: =Data!D185 -> 61910 | G16: =Data!G185 -> 0 | H16: =Data!J185 -> 0 | I16: =Data!M185 -> 0 | J16: =Data!P185 -> 0 | K16: =Data!S185 -> 0 | L16: =Data!V185 -> 0 | M16: =Data!Y185 -> 0 | N16: =Data!AB185 -> 3597 | O16: =Data!AE185 -> 0
A17: Impendle | C17: =SUM(F17:O17) -> 39000 | D17: =C17/$C$56*100 -> 0.21885055 | F17: =Data!D199 -> 38000 | G17: =Data!G199 -> 0 | H17: =Data!J199 -> 0 | I17: =Data!M199 -> 0 | J17: =Data!P199 -> 1000 | K17: =Data!S199 -> 0 | L17: =Data!V199 -> 0 | M17: =Data!Y199 -> 0 | N17: =Data!AB199 -> 0 | O17: =Data!AE199 -> 0
A18: Indaka | C18: =SUM(F18:O18) -> 10500 | D18: =C18/$C$56*100 -> 0.058921303 | F18: =Data!D213 -> 9000 | G18: =Data!G213 -> 0 | H18: =Data!J213 -> 0 | I18: =Data!M213 -> 0 | J18: =Data!P213 -> 0 | K18: =Data!S213 -> 210 | L18: =Data!V213 -> 0 | M18: =Data!Y213 -> 1230 | N18: =Data!AB213 -> 0 | O18: =Data!AE213 -> 60
A19: Ingwe | C19: =SUM(F19:O19) -> 36614 | D19: =C19/$C$56*100 -> 0.20546139 | F19: =Data!D227 -> 33367 | G19: =Data!G227 -> 464 | H19: =Data!J227 -> 0 | I19: =Data!M227 -> 0 | J19: =Data!P227 -> 1132 | K19: =Data!S227 -> 0 | L19: =Data!V227 -> 1400 | M19: =Data!Y227 -> 0 | N19: =Data!AB227 -> 251 | O19: =Data!AE227 -> 0
A20: Jozini | C20: =SUM(F20:O20) -> 110135 | D20: =C20/$C$56*100 -> 0.61802835 | F20: =Data!D241 -> 85083 | G20: =Data!G241 -> 6808 | H20: =Data!J241 -> 0 | I20: =Data!M241 -> 4371 | J20: =Data!P241 -> 0 | K20: =Data!S241 -> 0 | L20: =Data!V241 -> 255 | M20: =Data!Y241 -> 7663 | N20: =Data!AB241 -> 5541 | O20: =Data!AE241 -> 414
A21: KwaDukuza | C21: =SUM(F21:O21) -> 1243480 | D21: =C21/$C$56*100 -> 6.9778535 | F21: =Data!D269 -> 23955 | G21: =Data!G269 -> 459598 | H21: =Data!J269 -> 291510 | I21: =Data!M269 -> 235992 | J21: =Data!P269 -> 26546 | K21: =Data!S269 -> 11068 | L21: =Data!V269 -> 4390 | M21: =Data!Y269 -> 37737 | N21: =Data!AB269 -> 76243 | O21: =Data!AE269 -> 76441
A22: KwaSani | C22: =SUM(F22:O22) -> 238579 | D22: =C22/$C$56*100 -> 1.3387986 | F22: =Data!D255 -> 41316 | G22: =Data!G255 -> 166437 | H22: =Data!J255 -> 0 | I22: =Data!M255 -> 300 | J22: =Data!P255 -> 13853 | K22: =Data!S255 -> 600 | L22: =Data!V255 -> 0 | M22: =Data!Y255 -> 0 | N22: =Data!AB255 -> 15230 | O22: =Data!AE255 -> 843
A23: Mandeni | C23: =SUM(F23:O23) -> 170959 | D23: =C23/$C$56*100 -> 0.95934543 | F23: =Data!D283 -> 127642 | G23: =Data!G283 -> 17110 | H23: =Data!J283 -> 8720 | I23: =Data!M283 -> 12600 | J23: =Data!P283 -> 2014 | K23: =Data!S283 -> 0 | L23: =Data!V283 -> 140 | M23: =Data!Y283 -> 0 | N23: =Data!AB283 -> 600 | O23: =Data!AE283 -> 2133
A24: Maphumulo | C24: =SUM(F24:O24) -> 0 | D24: =C24/$C$56*100 -> 0 | F24: =Data!D294 -> 0 | G24: =Data!G294 -> 0 | H24: =Data!J294 -> 0 | I24: =Data!M294 -> 0 | J24: =Data!P294 -> 0 | K24: =Data!S294 -> 0 | L24: =Data!V294 -> 0 | M24: =Data!Y294 -> 0 | N24: =Data!AB294 -> 0 | O24: =Data!AE294 -> 0
A25: Mbonambi | C25: =SUM(F25:O25) -> 16889 | D25: =C25/$C$56*100 -> 0.094773513 | F25: =Data!D308 -> 15008 | G25: =Data!G308 -> 1119 | H25: =Data!J308 -> 0 | I25: =Data!M308 -> 0 | J25: =Data!P308 -> 0 | K25: =Data!S308 -> 0 | L25: =Data!V308 -> 0 | M25: =Data!Y308 -> 0 | N25: =Data!AB308 -> 382 | O25: =Data!AE308 -> 380
A26: Mkhambathini | C26: =SUM(F26:O26) -> 19872 | D26: =C26/$C$56*100 -> 0.11151277 | F26: =Data!D322 -> 3499 | G26: =Data!G322 -> 6736 | H26: =Data!J322 -> 0 | I26: =Data!M322 -> 7827 | J26: =Data!P322 -> 0 | K26: =Data!S322 -> 0 | L26: =Data!V322 -> 0 | M26: =Data!Y322 -> 0 | N26: =Data!AB322 -> 0 | O26: =Data!AE322 -> 1810
A27: Mpofana | C27: =SUM(F27:O27) -> 40807 | D27: =C27/$C$56*100 -> 0.22899063 | F27: =Data!D336 -> 6359 | G27: =Data!G336 -> 25852 | H27: =Data!J336 -> 0 | I27: =Data!M336 -> 0 | J27: =Data!P336 -> 0 | K27: =Data!S336 -> 225 | L27: =Data!V336 -> 2596 | M27: =Data!Y336 -> 0 | N27: =Data!AB336 -> 3673 | O27: =Data!AE336 -> 2102
A28: Msinga | C28: =SUM(F28:O28) -> 5648 | D28: =C28/$C$56*100 -> 0.03169405 | F28: =Data!D350 -> 0 | G28: =Data!G350 -> 0 | H28: =Data!J350 -> 0 | I28: =Data!M350 -> 0 | J28: =Data!P350 -> 0 | K28: =Data!S350 -> 0 | L28: =Data!V350 -> 0 | M28: =Data!Y350 -> 2051 | N28: =Data!AB350 -> 0 | O28: =Data!AE350 -> 3597
A29: Msunduzi | C29: =SUM(F29:O29) -> 885161 | D29: =C29/$C$56*100 -> 4.9671276 | F29: =Data!D364 -> 445031 | G29: =Data!G364 -> 79745 | H29: =Data!J364 -> 30400 | I29: =Data!M364 -> 43787 | J29: =Data!P364 -> 17986 | K29: =Data!S364 -> 5652 | L29: =Data!V364 -> 3070 | M29: =Data!Y364 -> 32836 | N29: =Data!AB364 -> 98941 | O29: =Data!AE364 -> 127713
A30: Mthonjaneni | C30: =SUM(F30:O30) -> 17172 | D30: =C30/$C$56*100 -> 0.096361583 | F30: =Data!D378 -> 1045 | G30: =Data!G378 -> 4672 | H30: =Data!J378 -> 0 | I30: =Data!M378 -> 6300 | J30: =Data!P378 -> 191 | K30: =Data!S378 -> 0 | L30: =Data!V378 -> 0 | M30: =Data!Y378 -> 0 | N30: =Data!AB378 -> 3910 | O30: =Data!AE378 -> 1054
A31: Mtubatuba | C31: =SUM(F31:O31) -> 99973 | D31: =C31/$C$56*100 -> 0.56100376 | F31: =Data!D392 -> 40251 | G31: =Data!G392 -> 28592 | H31: =Data!J392 -> 10660 | I31: =Data!M392 -> 1203 | J31: =Data!P392 -> 2890 | K31: =Data!S392 -> 420 | L31: =Data!V392 -> 768 | M31: =Data!Y392 -> 1139 | N31: =Data!AB392 -> 14050 | O31: =Data!AE392 -> 0
A32: Ndwedwe | C32: =SUM(F32:O32) -> 65940 | D32: =C32/$C$56*100 -> 0.37002578 | F32: =Data!D406 -> 59640 | G32: =Data!G406 -> 0 | H32: =Data!J406 -> 0 | I32: =Data!M406 -> 6300 | J32: =Data!P406 -> 0 | K32: =Data!S406 -> 0 | L32: =Data!V406 -> 0 | M32: =Data!Y406 -> 0 | N32: =Data!AB406 -> 0 | O32: =Data!AE406 -> 0
A33: New Castle | C33: =SUM(F33:O33) -> 345057 | D33: =C33/$C$56*100 -> 1.9363055 | F33: =Data!D420 -> 22872 | G33: =Data!G420 -> 97268 | H33: =Data!J420 -> 19765 | I33: =Data!M420 -> 58418 | J33: =Data!P420 -> 12137 | K33: =Data!S420 -> 3319 | L33: =Data!V420 -> 7152 | M33: =Data!Y420 -> 13177 | N33: =Data!AB420 -> 54196 | O33: =Data!AE420 -> 56753
A34: Nkandla | C34: =SUM(F34:O34) -> 23475 | D34: =C34/$C$56*100 -> 0.1317312 | F34: =Data!D434 -> 1195 | G34: =Data!G434 -> 1383 | H34: =Data!J434 -> 0 | I34: =Data!M434 -> 13013 | J34: =Data!P434 -> 1100 | K34: =Data!S434 -> 0 | L34: =Data!V434 -> 0 | M34: =Data!Y434 -> 0 | N34: =Data!AB434 -> 5784 | O34: =Data!AE434 -> 1000
A35: Nongoma | C35: =SUM(F35:O35) -> 149460 | D35: =C35/$C$56*100 -> 0.83870266 | F35: =Data!D448 -> 28500 | G35: =Data!G448 -> 665 | H35: =Data!J448 -> 902 | I35: =Data!M448 -> 2736 | J35: =Data!P448 -> 200 | K35: =Data!S448 -> 656 | L35: =Data!V448 -> 1216 | M35: =Data!Y448 -> 0 | N35: =Data!AB448 -> 113737 | O35: =Data!AE448 -> 848
A36: Nquthu | C36: =SUM(F36:O36) -> 125977 | D36: =C36/$C$56*100 -> 0.70692657 | F36: =Data!D462 -> 73864 | G36: =Data!G462 -> 11728 | H36: =Data!J462 -> 0 | I36: =Data!M462 -> 0 | J36: =Data!P462 -> 5982 | K36: =Data!S462 -> 614 | L36: =Data!V462 -> 125 | M36: =Data!Y462 -> 2015 | N36: =Data!AB462 -> 31054 | O36: =Data!AE462 -> 595
A37: Ntambanana | C37: =SUM(F37:O37) -> 36680 | D37: =C37/$C$56*100 -> 0.20583175 | F37: =Data!D476 -> 36680 | G37: =Data!G476 -> 0 | H37: =Data!J476 -> 0 | I37: =Data!M476 -> 0 | J37: =Data!P476 -> 0 | K37: =Data!S476 -> 0 | L37: =Data!V476 -> 0 | M37: =Data!Y476 -> 0 | N37: =Data!AB476 -> 0 | O37: =Data!AE476 -> 0
A38: Okhahlamba | C38: =SUM(F38:O38) -> 259917 | D38: =C38/$C$56*100 -> 1.4585379 | F38: =Data!D490 -> 176236 | G38: =Data!G490 -> 23240 | H38: =Data!J490 -> 5219 | I38: =Data!M490 -> 18903 | J38: =Data!P490 -> 2491 | K38: =Data!S490 -> 4804 | L38: =Data!V490 -> 73 | M38: =Data!Y490 -> 1250 | N38: =Data!AB490 -> 14067 | O38: =Data!AE490 -> 13634
A39: Richmond | C39: =SUM(F39:O39) -> 138306.8 | D39: =C39/$C$56*100 -> 0.77611589 | F39: =Data!D504 -> 109880.8 | G39: =Data!G504 -> 2332 | H39: =Data!J504 -> 0 | I39: =Data!M504 -> 0 | J39: =Data!P504 -> 0 | K39: =Data!S504 -> 330 | L39: =Data!V504 -> 0 | M39: =Data!Y504 -> 400 | N39: =Data!AB504 -> 23858 | O39: =Data!AE504 -> 1506
A40: Ubuhlebezwe | C40: =SUM(F40:O40) -> 29267 | D40: =C40/$C$56*100 -> 0.16423331 | F40: =Data!D518 -> 11883 | G40: =Data!G518 -> 3240 | H40: =Data!J518 -> 0 | I40: =Data!M518 -> 0 | J40: =Data!P518 -> 0 | K40: =Data!S518 -> 0 | L40: =Data!V518 -> 0 | M40: =Data!Y518 -> 2701 | N40: =Data!AB518 -> 9985 | O40: =Data!AE518 -> 1458
A41: Ulundi | C41: =SUM(F41:O41) -> 126385 | D41: =C41/$C$56*100 -> 0.70921609 | F41: =Data!D532 -> 88645 | G41: =Data!G532 -> 10013 | H41: =Data!J532 -> 0 | I41: =Data!M532 -> 0 | J41: =Data!P532 -> 426 | K41: =Data!S532 -> 2470 | L41: =Data!V532 -> 0 | M41: =Data!Y532 -> 486 | N41: =Data!AB532 -> 20739 | O41: =Data!AE532 -> 3606
A42: Umdoni | C42: =SUM(F42:O42) -> 172029 | D42: =C42/$C$56*100 -> 0.9653498 | F42: =Data!D546 -> 27936 | G42: =Data!G546 -> 69765 | H42: =Data!J546 -> 14883 | I42: =Data!M546 -> 28579 | J42: =Data!P546 -> 7949 | K42: =Data!S546 -> 186 | L42: =Data!V546 -> 1281 | M42: =Data!Y546 -> 2600 | N42: =Data!AB546 -> 7556 | O42: =Data!AE546 -> 11294
A43: Umhlabuyalingana | C43: =SUM(F43:O43) -> 185398 | D43: =C43/$C$56*100 -> 1.0403706 | F43: =Data!D560 -> 184020 | G43: =Data!G560 -> 0 | H43: =Data!J560 -> 0 | I43: =Data!M560 -> 0 | J43: =Data!P560 -> 0 | K43: =Data!S560 -> 0 | L43: =Data!V560 -> 0 | M43: =Data!Y560 -> 741 | N43: =Data!AB560 -> 637 | O43: =Data!AE560 -> 0
A44: uMhlathuze | C44: =SUM(F44:O44) -> 162723 | D44: =C44/$C$56*100 -> 0.91312869 | F44: =Data!D574 -> 10615 | G44: =Data!G574 -> 93780 | H44: =Data!J574 -> 13514 | I44: =Data!M574 -> 12580 | J44: =Data!P574 -> 1226 | K44: =Data!S574 -> 0 | L44: =Data!V574 -> 354 | M44: =Data!Y574 -> 4286 | N44: =Data!AB574 -> 4176 | O44: =Data!AE574 -> 22192
A45: Umlalazi | C45: =SUM(F45:O45) -> 162005 | D45: =C45/$C$56*100 -> 0.90909959 | F45: =Data!D588 -> 43791 | G45: =Data!G588 -> 79844 | H45: =Data!J588 -> 3518 | I45: =Data!M588 -> 18416 | J45: =Data!P588 -> 3720 | K45: =Data!S588 -> 816 | L45: =Data!V588 -> 2517 | M45: =Data!Y588 -> 1012 | N45: =Data!AB588 -> 3478 | O45: =Data!AE588 -> 4893
A46: Umngeni | C46: =SUM(F46:O46) -> 419344 | D46: =C46/$C$56*100 -> 2.3531709 | F46: =Data!D602 -> 4529 | G46: =Data!G602 -> 165487 | H46: =Data!J602 -> 10806 | I46: =Data!M602 -> 187059 | J46: =Data!P602 -> 2327 | K46: =Data!S602 -> 4310 | L46: =Data!V602 -> 1560 | M46: =Data!Y602 -> 10598 | N46: =Data!AB602 -> 23609 | O46: =Data!AE602 -> 9059
A47: Umshwathi | C47: =SUM(F47:O47) -> 34268 | D47: =C47/$C$56*100 -> 0.19229669 | F47: =Data!D616 -> 653 | G47: =Data!G616 -> 23939 | H47: =Data!J616 -> 0 | I47: =Data!M616 -> 332 | J47: =Data!P616 -> 931 | K47: =Data!S616 -> 185 | L47: =Data!V616 -> 288 | M47: =Data!Y616 -> 100 | N47: =Data!AB616 -> 3909 | O47: =Data!AE616 -> 3931
A48: Umtshezi | C48: =SUM(F48:O48) -> 174141 | D48: =C48/$C$56*100 -> 0.9772014 | F48: =Data!D630 -> 64575 | G48: =Data!G630 -> 35990 | H48: =Data!J630 -> 2104 | I48: =Data!M630 -> 7469 | J48: =Data!P630 -> 0 | K48: =Data!S630 -> 1235 | L48: =Data!V630 -> 3652 | M48: =Data!Y630 -> 4552 | N48: =Data!AB630 -> 26135 | O48: =Data!AE630 -> 28429
A49: Umuziwabantu | C49: =SUM(F49:O49) -> 135447 | D49: =C49/$C$56*100 -> 0.76006798 | F49: =Data!D644 -> 118747 | G49: =Data!G644 -> 13540 | H49: =Data!J644 -> 0 | I49: =Data!M644 -> 2459 | J49: =Data!P644 -> 0 | K49: =Data!S644 -> 421 | L49: =Data!V644 -> 0 | M49: =Data!Y644 -> 0 | N49: =Data!AB644 -> 0 | O49: =Data!AE644 -> 280
A50: Umvoti | C50: =SUM(F50:O50) -> 41006 | D50: =C50/$C$56*100 -> 0.23010733 | F50: =Data!D658 -> 115 | G50: =Data!G658 -> 5127 | H50: =Data!J658 -> 360 | I50: =Data!M658 -> 360 | J50: =Data!P658 -> 0 | K50: =Data!S658 -> 162 | L50: =Data!V658 -> 0 | M50: =Data!Y658 -> 495 | N50: =Data!AB658 -> 32659 | O50: =Data!AE658 -> 1728
A51: Umzimkhulu | C51: =SUM(F51:O51) -> 80500 | D51: =C51/$C$56*100 -> 0.45172999 | F51: =Data!D672 -> 65593 | G51: =Data!G672 -> 1738 | H51: =Data!J672 -> 1080 | I51: =Data!M672 -> 480 | J51: =Data!P672 -> 3010 | K51: =Data!S672 -> 370 | L51: =Data!V672 -> 747 | M51: =Data!Y672 -> 666 | N51: =Data!AB672 -> 3518 | O51: =Data!AE672 -> 3298
A52: Umzumbe | C52: =SUM(F52:O52) -> 83830 | D52: =C52/$C$56*100 -> 0.47041646 | F52: =Data!D686 -> 80280 | G52: =Data!G686 -> 2730 | H52: =Data!J686 -> 0 | I52: =Data!M686 -> 0 | J52: =Data!P686 -> 0 | K52: =Data!S686 -> 820 | L52: =Data!V686 -> 0 | M52: =Data!Y686 -> 0 | N52: =Data!AB686 -> 0 | O52: =Data!AE686 -> 0
A53: Uphongolo | C53: =SUM(F53:O53) -> 33133 | D53: =C53/$C$56*100 -> 0.18592757 | F53: =Data!D700 -> 13015 | G53: =Data!G700 -> 12217 | H53: =Data!J700 -> 688 | I53: =Data!M700 -> 0 | J53: =Data!P700 -> 327 | K53: =Data!S700 -> 0 | L53: =Data!V700 -> 0 | M53: =Data!Y700 -> 298 | N53: =Data!AB700 -> 790 | O53: =Data!AE700 -> 5798
A54: Valamehlo | C54: =SUM(F54:O54) -> 159973 | D54: =C54/$C$56*100 -> 0.89769692 | F54: =Data!D714 -> 158750 | G54: =Data!G714 -> 0 | H54: =Data!J714 -> 0 | I54: =Data!M714 -> 0 | J54: =Data!P714 -> 0 | K54: =Data!S714 -> 0 | L54: =Data!V714 -> 0 | M54: =Data!Y714 -> 1223 | N54: =Data!AB714 -> 0 | O54: =Data!AE714 -> 0
A56: Total Provincial Space Expasion | C56: =SUM(C4:C55) -> 17820380 | D56: =SUM(D4:D55) -> 100 | F56: =SUM(F4:F55) -> 3634934.8 | G56: =SUM(G4:G55) -> 4008748 | H56: =SUM(H4:H55) -> 1128579 | I56: =SUM(I4:I55) -> 2304353 | J56: =SUM(J4:J55) -> 385723 | K56: =SUM(K4:K55) -> 133094 | L56: =SUM(L4:L55) -> 204591 | M56: =SUM(M4:M55) -> 999118 | ... O56: =SUM(O4:O55) -> 2285799

Sheet Rank
A1: Rank Structure and Correlation Rank
B3: Total Space | C3: Rank | D3: Dwellings less than 80m² | E3: Dwellings equal and more than 80m² | F3: Flats | G3: Townhouses | H3: Other residential buildings | I3: Schools, nursery schools, crèches, hospitals | J3: Churches, Sport and Recreaction | K3: Office & Banking Space | L3: Shopping Space | M3: Industrial & Warehouse Space | N3: Median Rank
A4: AbaQulusi | B4: 146124 | C4: 1 | D4: 13 | E4: 18 | F4: 22 | G4: 16 | H4: 5 | I4: 51 | J4: 20 | K4: 21 | L4: 19 | M4: 15 | N4: =MEDIAN(D4:M4) -> 18.5
A5: Big 5 False Bay | B5: 287766 | C5: 2 | D5: 4 | E5: 25 | F5: 24 | G5: 30 | H5: 8 | I5: 50 | J5: 23 | K5: 23 | L5: 13 | M5: 22 | N5: =MEDIAN(D5:M5) -> 23
A6: Dannhauser | B6: 36506 | C6: 3 | D6: 20 | E6: 39 | F6: 25 | G6: 31 | H6: 35 | I6: 49 | J6: 24 | K6: 32 | L6: 32 | M6: 24 | N6: =MEDIAN(D6:M6) -> 31.5
A7: Edumbe | B7: 28416 | C7: 4 | D7: 37 | E7: 26 | F7: 18 | G7: 23 | H7: 26 | I7: 48 | J7: 25 | K7: 31 | L7: 15 | M7: 33 | N7: =MEDIAN(D7:M7) -> 26
A8: Emadlangeni | B8: 17252 | C8: 5 | D8: 38 | E8: 22 | F8: 26 | G8: 32 | H8: 36 | I8: 47 | J8: 26 | K8: 33 | L8: 31 | M8: 38 | N8: =MEDIAN(D8:M8) -> 32.5
A9: Emnambithi | B9: 144338 | C9: 6 | D9: 17 | E9: 12 | F9: 15 | G9: 21 | H9: 16 | I9: 6 | J9: 3 | K9: 5 | L9: 23 | M9: 9 | N9: =MEDIAN(D9:M9) -> 13.5
A10: Endumeni | B10: 183103 | C10: 7 | D10: 7 | E10: 11 | F10: 12 | G10: 13 | H10: 20 | I10: 3 | J10: 11 | K10: 24 | L10: 30 | M10: 14 | N10: =MEDIAN(D10:M10) -> 12.5
A11: Ethekwini | B11: 9511051 | C11: 8 | D11: 1 | E11: 1 | F11: 1 | G11: 1 | H11: 1 | I11: 1 | J11: 1 | K11: 1 | L11: 1 | M11: 1 | N11: =MEDIAN(D11:M11) -> 1
A12: Ezinqoleni | B12: 203513 | C12: 9 | D12: 15 | E12: 41 | F12: 27 | G12: 19 | H12: 28 | I12: 46 | J12: 27 | K12: 34 | L12: 40 | M12: 2 | N12: =MEDIAN(D12:M12) -> 27.5
A13: Greater Kokstad | B13: 120351 | C13: 10 | D13: 28 | E13: 24 | F13: 28 | G13: 24 | H13: 21 | I13: 10 | J13: 16 | K13: 25 | L13: 41 | M13: 3 | N13: =MEDIAN(D13:M13) -> 24
A14: Hibiscus Coast | B14: 813397 | C14: 11 | D14: 36 | E14: 3 | F14: 3 | G14: 2 | H14: 27 | I14: 19 | J14: 4 | K14: 6 | L14: 4 | M14: 12 | N14: =MEDIAN(D14:M14) -> 5
A15: Hlabisa | B15: 44883 | C15: 12 | D15: 18 | E15: 42 | F15: 29 | G15: 33 | H15: 37 | I15: 45 | J15: 28 | K15: 9 | L15: 22 | M15: 35 | N15: =MEDIAN(D15:M15) -> 31
... A54: Valamehlo | B54: 159973 | C54: 51 | D54: 5 | E54: 51 | F54: 51 | G54: 51 | H54: 51 | I54: 25 | J54: 51 | K54: 18 | L54: 51 | M54: 51 | N54: =MEDIAN(D54:M54) -> 51
A57: Correlation Matrix | D57: Dwellings less than 80m² | E57: Dwellings equal and more than 80m² | F57: Flats | G57: Townhouses | H57: Other residential buildings | I57: Schools, nursery schools, crèches, hospitals | J57: Churches, Sport and Recreaction | K57: Office & Banking Space | L57: Shopping Space | M57: Industrial & Warehouse Space
A58: n | B58: 51
A60: Dwellings less than 80m² | D60: =CORREL($D$4:$D$54,D4:D54) -> 1 | E60: =CORREL($D$4:$D$54,E4:E54) -> 0.26524887 | F60: =CORREL($D$4:$D$54,F4:F54) -> 0.17085973 | G60: =CORREL($D$4:$D$54,G4:G54) -> 0.027149321 | H60: =CORREL($D$4:$D$54,H4:H54) -> 0.32651584 | I60: =CORREL($D$4:$D$54,I4:I54) -> 0.30687783 | J60: =CORREL($D$4:$D$54,J4:J54) -> 0.24144796 | K60: =CORREL($D$4:$D$54,K4:K54) -> 0.4199095 | ... M60: =CORREL($D$4:$D$54,M4:M54) -> 0.26859729
A61: Dwellings equal and more than 80m² | D61: =CORREL($E$4:$E$54,D4:D54) -> 0.26524887 | E61: =CORREL($E$4:$E$54,E4:E54) -> 1 | F61: =CORREL($E$4:$E$54,F4:F54) -> 0.72769231 | G61: =CORREL($E$4:$E$54,G4:G54) -> 0.65140271 | H61: =CORREL($E$4:$E$54,H4:H54) -> 0.70479638 | I61: =CORREL($E$4:$E$54,I4:I54) -> 0.58977376 | J61: =CORREL($E$4:$E$54,J4:J54) -> 0.61266968 | K61: =CORREL($E$4:$E$54,K4:K54) -> 0.43909502 | ... M61: =CORREL($E$4:$E$54,M4:M54) -> 0.63067873
A62: Flats | D62: =CORREL($F$4:$F$54,D4:D54) -> 0.17085973 | E62: =CORREL($F$4:$F$54,E4:E54) -> 0.72769231 | F62: =CORREL($F$4:$F$54,F4:F54) -> 1 | G62: =CORREL($F$4:$F$54,G4:G54) -> 0.76208145 | H62: =CORREL($F$4:$F$54,H4:H54) -> 0.6839819 | I62: =CORREL($F$4:$F$54,I4:I54) -> 0.32597285 | J62: =CORREL($F$4:$F$54,J4:J54) -> 0.68226244 | K62: =CORREL($F$4:$F$54,K4:K54) -> 0.46660633 | ... M62: =CORREL($F$4:$F$54,M4:M54) -> 0.65484163
A63: Townhouses | D63: =CORREL($G$4:$G$54,D4:D54) -> 0.027149321 | E63: =CORREL($G$4:$G$54,E4:E54) -> 0.65140271 | F63: =CORREL($G$4:$G$54,F4:F54) -> 0.76208145 | G63: =CORREL($G$4:$G$54,G4:G54) -> 1 | H63: =CORREL($G$4:$G$54,H4:H54) -> 0.61321267 | I63: =CORREL($G$4:$G$54,I4:I54) -> 0.30443439 | J63: =CORREL($G$4:$G$54,J4:J54) -> 0.60552036 | K63: =CORREL($G$4:$G$54,K4:K54) -> 0.30597285 | ... M63: =CORREL($G$4:$G$54,M4:M54) -> 0.55954751
A64: Other residential buildings | D64: =CORREL($H$4:$H$54,D4:D54) -> 0.32651584 | E64: =CORREL($H$4:$H$54,E4:E54) -> 0.70479638 | F64: =CORREL($H$4:$H$54,F4:F54) -> 0.6839819 | G64: =CORREL($H$4:$H$54,G4:G54) -> 0.61321267 | H64: =CORREL($H$4:$H$54,H4:H54) -> 1 | I64: =CORREL($H$4:$H$54,I4:I54) -> 0.35954751 | J64: =CORREL($H$4:$H$54,J4:J54) -> 0.6599095 | K64: =CORREL($H$4:$H$54,K4:K54) -> 0.3840724 | ... M64: =CORREL($H$4:$H$54,M4:M54) -> 0.59701357
A65: Schools, nursery schools, crèches, hospitals | D65: =CORREL($I$4:$I$54,D4:D54) -> 0.30687783 | E65: =CORREL($I$4:$I$54,E4:E54) -> 0.58977376 | F65: =CORREL($I$4:$I$54,F4:F54) -> 0.32597285 | G65: =CORREL($I$4:$I$54,G4:G54) -> 0.30443439 | H65: =CORREL($I$4:$I$54,H4:H54) -> 0.35954751 | I65: =CORREL($I$4:$I$54,I4:I54) -> 1 | J65: =CORREL($I$4:$I$54,J4:J54) -> 0.30968326 | K65: =CORREL($I$4:$I$54,K4:K54) -> 0.34579186 | ... M65: =CORREL($I$4:$I$54,M4:M54) -> 0.43520362
A66: Churches, Sport and Recreaction | D66: =CORREL($J$4:$J$54,D4:D54) -> 0.24144796 | E66: =CORREL($J$4:$J$54,E4:E54) -> 0.61266968 | F66: =CORREL($J$4:$J$54,F4:F54) -> 0.68226244 | G66: =CORREL($J$4:$J$54,G4:G54) -> 0.60552036 | H66: =CORREL($J$4:$J$54,H4:H54) -> 0.6599095 | I66: =CORREL($J$4:$J$54,I4:I54) -> 0.30968326 | J66: =CORREL($J$4:$J$54,J4:J54) -> 1 | K66: =CORREL($J$4:$J$54,K4:K54) -> 0.55502262 | ... M66: =CORREL($J$4:$J$54,M4:M54) -> 0.66126697
A67: Office & Banking Space | D67: =CORREL($K$4:$K$54,D4:D54) -> 0.4199095 | E67: =CORREL($K$4:$K$54,E4:E54) -> 0.43909502 | F67: =CORREL($K$4:$K$54,F4:F54) -> 0.46660633 | G67: =CORREL($K$4:$K$54,G4:G54) -> 0.30597285 | H67: =CORREL($K$4:$K$54,H4:H54) -> 0.3840724 | I67: =CORREL($K$4:$K$54,I4:I54) -> 0.34579186 | J67: =CORREL($K$4:$K$54,J4:J54) -> 0.55502262 | K67: =CORREL($K$4:$K$54,K4:K54) -> 1 | ... M67: =CORREL($K$4:$K$54,M4:M54) -> 0.65375566
A68: Shopping Space | D68: =CORREL($L$4:$L$54,D4:D54) -> 0.24497738 | E68: =CORREL($L$4:$L$54,E4:E54) -> 0.56552036 | F68: =CORREL($L$4:$L$54,F4:F54) -> 0.48588235 | G68: =CORREL($L$4:$L$54,G4:G54) -> 0.43285068 | H68: =CORREL($L$4:$L$54,H4:H54) -> 0.49945701 | I68: =CORREL($L$4:$L$54,I4:I54) -> 0.3721267 | J68: =CORREL($L$4:$L$54,J4:J54) -> 0.46633484 | K68: =CORREL($L$4:$L$54,K4:K54) -> 0.49158371 | ... M68: =CORREL($L$4:$L$54,M4:M54) -> 0.50832579
A69: Industrial & Warehouse Space | D69: =CORREL($M$4:$M$54,D4:D54) -> 0.26859729 | E69: =CORREL($M$4:$M$54,E4:E54) -> 0.63067873 | F69: =CORREL($M$4:$M$54,F4:F54) -> 0.65484163 | G69: =CORREL($M$4:$M$54,G4:G54) -> 0.55954751 | H69: =CORREL($M$4:$M$54,H4:H54) -> 0.59701357 | I69: =CORREL($M$4:$M$54,I4:I54) -> 0.43520362 | J69: =CORREL($M$4:$M$54,J4:J54) -> 0.66126697 | K69: =CORREL($M$4:$M$54,K4:K54) -> 0.65375566 | ... M69: =CORREL($M$4:$M$54,M4:M54) -> 1

Sheet Urban-Rural
A1: Total Space Expansion | C1: Dwellings less than 80m² | D1: Dwellings equal and more than 80m² | E1: Flats | F1: Townhouses | G1: Other residential buildings | H1: Schools, nursery schools, crèches, hospitals | I1: Churches, Sport and Recreation | J1: Office & Banking Space | K1: Shopping Space | L1: Industrial & Warehouse Space
C2: Total Space | D2: Total Space | E2: Total Space | F2: Total Space | G2: Total Space | H2: Total Space | I2: Total Space | J2: Total Space | K2: Total Space | L2: Total Space
