Workbook

Sheet Introduction
B1: Annual COMP and COMP-R
B3: Quarterly COMP and COMP-R
B5: Year-on-Year Growth Rates per Sector
B7: Annualised Quarterly Rates per Sector
B9: Yearly Provincial Contribution Rates per Sector
B11: Yearly Provincial Sector as a % of National Sector COMP
B13: Ethekwini Municipal Area COMP
B15: Msunduzi Municipal Area COMP
B17: Mthlatuze Municipal Area COMP
D18: Model Assumptions
B19: Hibiscus Coast Municipal COMP
D20: Stable structural relationship between SA and KZN economy
B21: Newcastle Municipal COMP
D22: Stable relationship between GDP and Fuel Consumption
B23: Comparitive Growth Rates
D24: Fuel Consumption per R1 GDP are location insensitive
B25: Comparitive Contribution Rates

Sheet Annual
A1: Annual Compensation of Employees
A3: SA – Annual Compensation of Employees
A4: Rand million
A5: National Industry | B5: 1995 | C5: 1996 | D5: 1997 | E5: 1998 | F5: 1999 | G5: 2000 | H5: 2001 | I5: 2002 | J5: 2003 | K5: 2004 | L5: 2005 | M5: 2006 | N5: 2007 | O5: 2008 | P5: 2009 | Q5: 2010 | R5: 2011 | S5: 2012
A6: Primary Industries | B6: =SUM(B7:B8) -> 24858.206 | C6: =SUM(C7:C8) -> 26877.022 | D6: =SUM(D7:D8) -> 29465.541 | E6: =SUM(E7:E8) -> 31810 | F6: =SUM(F7:F8) -> 34832 | G6: =SUM(G7:G8) -> 37667 | H6: =SUM(H7:H8) -> 41260 | I6: =SUM(I7:I8) -> 49055.8 | ... S6: =SUM(S7:S8) -> 122519
A7: Agriculture, forestry and fishing | B7: 6406.3391 | C7: 6908.022 | D7: 7405.0411 | E7: 8314 | F7: 8812 | G7: 9409 | H7: 9978 | I7: 14601.4 | J7: 13455 | K7: 12912 | L7: 12143 | M7: 12840 | N7: 14651.4 | O7: 16540 | P7: 17979 | Q7: 18719 | R7: 19787 | S7: 21357
A8: Mining and quarrying | B8: 18451.867 | C8: 19969 | D8: 22060.5 | E8: 23496 | F8: 26020 | G8: 28258 | H8: 31282 | I8: 34454.4 | J8: 35193 | K8: 37905 | L8: 40877 | M8: 48331 | N8: 57015.222 | O8: 68438 | P8: 73519 | Q8: 82610.392 | R8: 90843 | S8: 101162
A9: Secondary Industries | B9: =SUM(B10:B12) -> 72336.02 | C9: =SUM(C10:C12) -> 77478.271 | D9: =SUM(D10:D12) -> 82480.308 | E9: =SUM(E10:E12) -> 91282 | F9: =SUM(F10:F12) -> 95955 | G9: =SUM(G10:G12) -> 103957 | H9: =SUM(H10:H12) -> 109992 | I9: =SUM(I10:I12) -> 123047 | ... S9: =SUM(S10:S12) -> 313274
A10: Manufacturing | B10: 56484.078 | C10: 59965.5 | D10: 63532.405 | E10: 72150 | F10: 75682 | G10: 82994 | H10: 88728 | I10: 99442 | J10: 105207 | K10: 112552 | L10: 120743 | M10: 133628 | N10: 152608.33 | O10: 173833 | P10: 183596.13 | Q10: 202337 | R10: 217098 | S10: 236607
A11: Electricity, gas and water | B11: 4943.4 | C11: 6098.4722 | D11: 6663 | E11: 6724 | F11: 7760 | G11: 8166 | H11: 8208 | I11: 9866 | J11: 10724 | K11: 11201 | L11: 12291 | M11: 13659 | N11: 15185.697 | O11: 17740 | P11: 19718 | Q11: 21644.484 | R11: 23875 | S11: 26817
A12: Construction | B12: 10908.542 | C12: 11414.299 | D12: 12284.902 | E12: 12408 | F12: 12513 | G12: 12797 | H12: 13056 | I12: 13739 | J12: 15388 | K12: 17040 | L12: 19455 | M12: 21884 | N12: 29830.835 | O12: 34840 | P12: 39279 | Q12: 41486 | R12: 44907 | S12: 49850
A13: Tertiary industries | B13: =SUM(B14:B18) -> 177482.17 | C13: =SUM(C14:C18) -> 203764.53 | D13: =SUM(D14:D18) -> 228132.04 | E13: =SUM(E14:E18) -> 249450 | F13: =SUM(F14:F18) -> 273630 | G13: =SUM(G14:G18) -> 300677.8 | H13: =SUM(H14:H18) -> 323744 | I13: =SUM(I14:I18) -> 356760 | ... S13: =SUM(S14:S18) -> 1011636
A14: Wholesale & retail trade; hotels & restaurants | B14: 35342.547 | C14: 38416.847 | D14: 42131.9 | E14: 46056 | F14: 54460 | G14: 61514.8 | H14: 62013 | I14: 66958 | J14: 74129 | K14: 82791 | L14: 90849 | M14: 100805 | N14: 108685.9 | O14: 120774 | P14: 128668 | Q14: 143468 | R14: 159677 | S14: 170621
A15: Transport , storage and communication | B15: 22275.21 | C15: 25294.556 | D15: 27535.766 | E15: 29722 | F15: 31092 | G15: 33626 | H15: 36234 | I15: 37650 | J15: 41779 | K15: 46041 | L15: 50515 | M15: 54060 | N15: 57978.6 | O15: 61386 | P15: 64378 | Q15: 71361.39 | R15: 79490 | S15: 85401
A16: Finance, real estate and business services | B16: 28136.195 | C16: 31675.423 | D16: 36688.812 | E16: 42385 | F16: 47558 | G16: 53287 | H16: 62490 | I16: 72894 | J16: 83620 | K16: 96945 | L16: 112934 | M16: 128669 | N16: 149792 | O16: 167630.36 | P16: 171329.36 | Q16: 193200.38 | R16: 213975 | S16: 233748
A17: Personal services | B17: 19707.217 | C17: 22086.205 | D17: 25359.563 | E17: 27760 | F17: 31122 | G17: 35803 | H17: 39303 | I17: 43254 | J17: 48454 | K17: 53280 | L17: 57446 | M17: 63687 | N17: 71411.2 | O17: 78117 | P17: 84522 | Q17: 91380.92 | R17: 99443 | S17: 105715
A18: General government services | B18: 72021 | C18: 86291.5 | D18: 96416 | E18: 103527 | F18: 109398 | G18: 116447 | H18: 123704 | I18: 136004 | J18: 151039 | K18: 166287 | L18: 181765 | M18: 199990 | N18: 225220 | O18: 252574 | P18: 298652 | Q18: 345350 | R18: 381220 | S18: 416151
A19: Annual Gross Operating Surplus | B19: =B13+B9+B6 -> 274676.39 | C19: =C13+C9+C6 -> 308119.82 | D19: =D13+D9+D6 -> 340077.89 | E19: =E13+E9+E6 -> 372542 | F19: =F13+F9+F6 -> 404417 | G19: =G13+G9+G6 -> 442301.8 | H19: =H13+H9+H6 -> 474996 | I19: =I13+I9+I6 -> 528862.8 | ... S19: =S13+S9+S6 -> 1447429
A20: 0 | B20: 0 | C20: 0 | D20: 0 | E20: 0 | F20: 0 | G20: 0 | H20: 0 | I20: 0 | J20: 0 | K20: 0 | L20: 0 | M20: 0 | N20: 0 | O20: 0 | P20: 0 | Q20: 0 | R20: 0 | S20: 0
A21: SA - Annual Compensation of Employees | B21: =B19+B20 -> 274676.39 | C21: =C19+C20 -> 308119.82 | D21: =D19+D20 -> 340077.89 | E21: =E19+E20 -> 372542 | F21: =F19+F20 -> 404417 | G21: =G19+G20 -> 442301.8 | H21: =H19+H20 -> 474996 | I21: =I19+I20 -> 528862.8 | ... S21: =S19+S20 -> 1447429
A23: KZN – Annual Compensation of Employees
A24: Rand million
A25: Provincial Industry | B25: 1995 | C25: 1996 | D25: 1997 | E25: 1998 | F25: 1999 | G25: 2000 | H25: 2001 | I25: 2002 | J25: 2003 | K25: 2004 | L25: 2005 | M25: 2006 | N25: 2007 | O25: 2008 | P25: 2009 | Q25: 2010 | R25: 2011 | S25: 2012
A26: Primary Industries | B26: =B27+B28 -> 2806.1705 | C26: =C27+C28 -> 3248.3085 | D26: =D27+D28 -> 3487.2264 | E26: =E27+E28 -> 3977.3489 | F26: =F27+F28 -> 3641.5367 | G26: =G27+G28 -> 3866.5423 | H26: =H27+H28 -> 4174.3883 | I26: =I27+I28 -> 5402.0397 | ... S26: =S27+S28 -> 9772.0422
A27: Agriculture, forestry and fishing | B27: =B7*B46/100 -> 2000.0517 | C27: =C7*C46/100 -> 2023.3346 | D27: =D7*D46/100 -> 2141.8734 | E27: =E7*E46/100 -> 2562.3992 | F27: =F7*F46/100 -> 2490.0767 | G27: =G7*G46/100 -> 2634.7558 | H27: =H7*H46/100 -> 2879.1817 | I27: =I7*I46/100 -> 4140.2316 | ... S27: =S7*S46/100 -> 6312.7775
A28: Mining and quarrying | B28: =B8*B47/100 -> 806.11877 | C28: =C8*C47/100 -> 1224.9739 | D28: =D8*D47/100 -> 1345.353 | E28: =E8*E47/100 -> 1414.9497 | F28: =F8*F47/100 -> 1151.4601 | G28: =G8*G47/100 -> 1231.7865 | H28: =H8*H47/100 -> 1295.2066 | I28: =I8*I47/100 -> 1261.8081 | ... S28: =S8*S47/100 -> 3459.2648
A29: Secondary Industries | B29: =B30+B31+B32 -> 14644.458 | C29: =C30+C31+C32 -> 15635.116 | D29: =D30+D31+D32 -> 16669.04 | E29: =E30+E31+E32 -> 18348.953 | F29: =F30+F31+F32 -> 19359.576 | G29: =G30+G31+G32 -> 21106.706 | H29: =H30+H31+H32 -> 22957.594 | I29: =I30+I31+I32 -> 25050.342 | ... S29: =S30+S31+S32 -> 62075.286
A30: Manufacturing | B30: =B10*B49/100 -> 11818.751 | C30: =C10*C49/100 -> 12590.264 | D30: =D10*D49/100 -> 13332.8 | E30: =E10*E49/100 -> 15103.319 | F30: =F10*F49/100 -> 16000.669 | G30: =G10*G49/100 -> 17626.098 | H30: =H10*H49/100 -> 18802.995 | I30: =I10*I49/100 -> 21039.776 | ... S30: =S10*S49/100 -> 50376.547
A31: Electricity, gas and water | B31: =B11*B50/100 -> 859.87598 | C31: =C11*C50/100 -> 1063.418 | D31: =D11*D50/100 -> 1156.7486 | E31: =E11*E50/100 -> 1169.6863 | F31: =F11*F50/100 -> 1357.486 | G31: =G11*G50/100 -> 1466.8562 | H31: =H11*H50/100 -> 1528.6693 | I31: =I11*I50/100 -> 1947.5946 | ... S31: =S11*S50/100 -> 4397.3237
A32: Construction | B32: =B12*B51/100 -> 1965.8312 | C32: =C12*C51/100 -> 1981.4331 | D32: =D12*D51/100 -> 2179.4921 | E32: =E12*E51/100 -> 2075.9475 | F32: =F12*F51/100 -> 2001.4214 | G32: =G12*G51/100 -> 2013.7519 | H32: =H12*H51/100 -> 2625.9303 | I32: =I12*I51/100 -> 2062.9711 | ... S32: =S12*S51/100 -> 7301.4151
A33: Tertiary industries | B33: =SUM(B34:B38) -> 27918.865 | C33: =SUM(C34:C38) -> 31990.906 | D33: =SUM(D34:D38) -> 35181.924 | E33: =SUM(E34:E38) -> 38735.212 | F33: =SUM(F34:F38) -> 41970.95 | G33: =SUM(G34:G38) -> 46004.349 | H33: =SUM(H34:H38) -> 50048.851 | I33: =SUM(I34:I38) -> 54796.644 | ... S33: =SUM(S34:S38) -> 155855.7
A34: Wholesale & retail trade; hotels & restaurants | B34: =B14*B53/100 -> 5733.1401 | C34: =C14*C53/100 -> 6144.5253 | D34: =D14*D53/100 -> 6749.0754 | E34: =E14*E53/100 -> 7347.1539 | F34: =F14*F53/100 -> 8651.7587 | G34: =G14*G53/100 -> 9785.5556 | H34: =H14*H53/100 -> 10437.135 | I34: =I14*I53/100 -> 11285.883 | ... S34: =S14*S53/100 -> 29933.084
A35: Transport , storage and communication | B35: =B15*B54/100 -> 5189.8823 | C35: =C15*C54/100 -> 5802.6627 | D35: =D15*D54/100 -> 6197.0366 | E35: =E15*E54/100 -> 6627.4704 | F35: =F15*F54/100 -> 6824.3168 | G35: =G15*G54/100 -> 7254.7274 | H35: =H15*H54/100 -> 7700.3057 | I35: =I15*I54/100 -> 8027.2979 | ... S35: =S15*S54/100 -> 18751.474
A36: Finance, real estate and business services | B36: =B16*B55/100 -> 3928.8454 | C36: =C16*C55/100 -> 4425.5397 | D36: =D16*D55/100 -> 5103.1576 | E36: =E16*E55/100 -> 5902.6504 | F36: =F16*F55/100 -> 6684.2255 | G36: =G16*G55/100 -> 7345.2093 | H36: =H16*H55/100 -> 8417.2804 | I36: =I16*I55/100 -> 9705.8227 | ... S36: =S16*S55/100 -> 32687.167
A37: Personal services | B37: =B17*B56/100 -> 3230.6293 | C37: =C17*C56/100 -> 3618.5451 | D37: =D17*D56/100 -> 4151.9625 | E37: =E17*E56/100 -> 4545.3665 | F37: =F17*F56/100 -> 5087.3496 | G37: =G17*G56/100 -> 5846.3461 | H37: =H17*H56/100 -> 6423.0845 | I37: =I17*I56/100 -> 7065.1682 | ... S37: =S17*S56/100 -> 17409.358
A38: General government services | B38: =B18*B57/100 -> 9836.368 | C38: =C18*C57/100 -> 11999.633 | D38: =D18*D57/100 -> 12980.692 | E38: =E18*E57/100 -> 14312.57 | F38: =F18*F57/100 -> 14723.299 | G38: =G18*G57/100 -> 15772.51 | H38: =H18*H57/100 -> 17071.045 | I38: =I18*I57/100 -> 18712.473 | ... S38: =S18*S57/100 -> 57074.614
A39: =A21 -> SA - Annual Compensation of Employees | B39: =B33+B29+B26 -> 45369.493 | C39: =C33+C29+C26 -> 50874.33 | D39: =D33+D29+D26 -> 55338.191 | E39: =E33+E29+E26 -> 61061.513 | F39: =F33+F29+F26 -> 64972.063 | G39: =G33+G29+G26 -> 70977.597 | H39: =H33+H29+H26 -> 77180.833 | I39: =I33+I29+I26 -> 85249.026 | ... S39: =S33+S29+S26 -> 227703.02
A40: Taxes less subsidies on products | B40: 0 | C40: 0 | D40: 0 | E40: 0 | F40: 0 | G40: 0 | H40: 0 | I40: 0 | J40: 0 | K40: 0 | L40: 0 | M40: 0 | N40: 0 | O40: 0 | P40: 1 | Q40: 2 | R40: 3 | S40: 4
A41: KZN - Annual Compensation of Employees | B41: =B40+B39 -> 45369.493 | C41: =C40+C39 -> 50874.33 | D41: =D40+D39 -> 55338.191 | E41: =E40+E39 -> 61061.513 | F41: =F40+F39 -> 64972.063 | G41: =G40+G39 -> 70977.597 | H41: =H40+H39 -> 77180.833 | I41: =I40+I39 -> 85249.026 | ... S41: =S40+S39 -> 227707.02
A43: Structure Relationship
...

Sheet Quarterly
A1: Quarterly Compensation of Employees
A3: =Annual!A3 -> SA – Annual Compensation of Employees
A4: Rand million
A5: National Industry | B5: 1995q1 | C5: 1995q2 | D5: 1995q3 | E5: 1995q4 | F5: 1996q1 | G5: 1996q2 | H5: 1996q3 | I5: 1996q4 | J5: 1997q1 | K5: 1997q2 | L5: 1997q3 | M5: 1997q4 | N5: 1998q1 | O5: 1998q2 | P5: 1998q3 | Q5: 1998q4 | R5: 1999q1 | S5: 1999q2 | T5: 1999q3 | U5: 1999q4 | V5: 2000q1 | W5: 2000q2 | X5: 2000q3 | Y5: 2000q4 | Z5: 2001q1 | AA5: 2001q2 | AB5: 2001q3 | AC5: 2001q4 | AD5: 2002q1 | AE5: 2002q2 | AF5: 2002q3 | AG5: 2002q4 | AH5: 2003q1 | AI5: 2003q2 | AJ5: 2003q3 | AK5: 2003q4 | AL5: 2004q1 | AM5: 2004q2 | AN5: 2004q3 | AO5: 2004q4 | AP5: 2005q1 | AQ5: 2005q2 | AR5: 2005q3 | AS5: 2005q4 | AT5: 2006q1 | AU5: 2006q2 | AV5: 2006q3 | AW5: 2006q4 | AX5: 2007q1 | AY5: 2007q2 | AZ5: 2007q3 | BA5: 2007q4 | BB5: 2008q1 | BC5: 2008q2 | BD5: 2008q3 | BE5: 2008q4 | BF5: 2009q1 | BG5: 2009q2 | BH5: 2009q3 | BI5: 2009q4 | BJ5: 2010q1 | BK5: 2010q2 | BL5: 2010q3 | BM5: 2010q4 | BN5: 2011q1 | BO5: 2011q2 | BP5: 2011q3 | BQ5: 2011q4 | BR5: 2012q1 | BS5: 2012q2 | BT5: 2012q3 | BU5: 2012q4 | BV5: 2013q1 | BW5: 2013q2
A6: Primary Industries | B6: =SUM(B7:B8) -> 5864.34 | C6: =SUM(C7:C8) -> 6059.67 | D6: =SUM(D7:D8) -> 6372.14 | E6: =SUM(E7:E8) -> 6562.06 | F6: =SUM(F7:F8) -> 6552 | G6: =SUM(G7:G8) -> 6577.89 | H6: =SUM(H7:H8) -> 6792.1 | I6: =SUM(I7:I8) -> 6955.03 | ... BW6: =SUM(BW7:BW8) -> 33063.273
A7: Agriculture, forestry and fishing | B7: 1550.47 | C7: 1667.47 | D7: 1660.34 | E7: 1528.06 | F7: 1672 | G7: 1797.89 | H7: 1790.1 | I7: 1648.03 | J7: 1791.72 | K7: 1927.6 | L7: 1919.88 | M7: 1765.84 | N7: 2011.8 | O7: 2165 | P7: 2155.2 | Q7: 1982 | R7: 2185.25 | S7: 2330.25 | T7: 2247.25 | U7: 2049.25 | V7: 2286.98 | W7: 2486 | X7: 2425.9 | Y7: 2210.12 | Z7: 2465.75 | AA7: 2644.75 | AB7: 2549.75 | AC7: 2317.75 | AD7: 3332 | AE7: 3884 | AF7: 3907 | AG7: 3479 | AH7: 3206 | AI7: 3559 | AJ7: 3527 | AK7: 3163 | AL7: 3172 | AM7: 3383 | AN7: 3353 | AO7: 3004 | AP7: 2946 | AQ7: 3167 | AR7: 3196.15 | AS7: 2833.85 | AT7: 3103 | AU7: 3329 | AV7: 3361 | AW7: 3047 | AX7: 3559.1 | AY7: 3782.1 | AZ7: 3830.1 | BA7: 3480.1 | BB7: 4156.209 | BC7: 4212.284 | BD7: 4225.873 | BE7: 3945.634 | BF7: 4622.845 | BG7: 4654.371 | BH7: 4569.566 | BI7: 4132.218 | BJ7: 4792 | BK7: 4864 | BL7: 4746 | BM7: 4317 | BN7: 4986 | BO7: 5184 | BP7: 5036 | BQ7: 4581 | BR7: 5348 | BS7: 5554 | BT7: 5459 | BU7: 4996 | BV7: 5775.84 | BW7: 6066.2731
A8: Mining and quarrying | B8: 4313.87 | C8: 4392.2 | D8: 4711.8 | E8: 5034 | F8: 4880 | G8: 4780 | H8: 5002 | I8: 5307 | J8: 5364.13 | K8: 5254.12 | L8: 5553.12 | M8: 5889.13 | N8: 5786 | O8: 5636 | P8: 5814 | Q8: 6260 | R8: 6155 | S8: 6335.1 | T8: 6690.9 | U8: 6839 | V8: 6852.75 | W8: 6838.7 | X8: 7096.8 | Y8: 7469.75 | Z8: 7498 | AA8: 7506 | AB8: 7885 | AC8: 8393 | AD8: 8198 | AE8: 8198 | AF8: 8796 | AG8: 9263 | AH8: 8798.25 | AI8: 8392.25 | AJ8: 8821.25 | AK8: 9181.25 | AL8: 9221.75 | AM8: 9268.75 | AN8: 9499.75 | AO8: 9914.75 | AP8: 9629.25 | AQ8: 9673.25 | AR8: 10516.25 | AS8: 11058.25 | AT8: 11309 | AU8: 11404 | AV8: 12338 | AW8: 13280 | AX8: 13262.1 | AY8: 13548.12 | AZ8: 14510 | BA8: 15695 | BB8: 15969.998 | BC8: 16454.028 | BD8: 17474.729 | BE8: 18539.245 | BF8: 17831.739 | BG8: 17728.665 | BH8: 18708.182 | BI8: 19250.414 | BJ8: 19558 | BK8: 19879 | BL8: 21603 | BM8: 21570 | BN8: 21358 | BO8: 21869 | BP8: 22885 | BQ8: 24731 | BR8: 24026 | BS8: 24826 | BT8: 25166 | BU8: 27144 | BV8: 26045 | BW8: 26997
A9: Secondary Industries | B9: =SUM(B10:B12) -> 16808.942 | C9: =SUM(C10:C12) -> 17055.442 | D9: =SUM(D10:D12) -> 18019.91 | E9: =SUM(E10:E12) -> 20451.729 | F9: =SUM(F10:F12) -> 18344.707 | G9: =SUM(G10:G12) -> 18410.171 | H9: =SUM(H10:H12) -> 19442.51 | I9: =SUM(I10:I12) -> 21280.881 | ... BW9: =SUM(BW10:BW12) -> 82086
A10: Manufacturing | B10: 13123.4 | C10: 13157.4 | D10: 14055.28 | E10: 16148 | F10: 14274.4 | G10: 14142.1 | H10: 15031 | I10: 16518 | J10: 14915.6 | K10: 15179.6 | L10: 15851.6 | M10: 17585.61 | N10: 16835 | O10: 17275 | P10: 17880 | Q10: 20160 | R10: 17773 | S10: 18164 | T10: 18639 | U10: 21106 | V10: 19335 | W10: 20035 | X10: 20602 | Y10: 23022 | Z10: 20900.4 | AA10: 21377.4 | AB10: 21871.2 | AC10: 24579 | AD10: 23064.6 | AE10: 24112.6 | AF10: 24736.8 | AG10: 27528 | AH10: 24878 | AI10: 25499 | AJ10: 25867 | AK10: 28963 | AL10: 26414 | AM10: 27410 | AN10: 27778 | AO10: 30950 | AP10: 28501.6 | AQ10: 29143.6 | AR10: 29601.8 | AS10: 33496 | AT10: 30806 | AU10: 32254 | AV10: 32764 | AW10: 37804 | AX10: 34882.1 | AY10: 36598.1 | AZ10: 37576.1 | BA10: 43552.03 | BB10: 39685.5 | BC10: 41692.5 | BD10: 43151.5 | BE10: 49306.5 | BF10: 42108.82 | BG10: 43001.62 | BH10: 45921.689 | BI10: 52564 | BJ10: 46601 | BK10: 48029 | BL10: 49599 | BM10: 58108 | BN10: 50679 | BO10: 51581 | BP10: 52803 | BQ10: 62035 | BR10: 54987 | BS10: 56132 | BT10: 57756 | BU10: 67732 | BV10: 59967 | BW10: 61432
A11: Electricity, gas and water | B11: 1085.7 | C11: 1222.7 | D11: 1285 | E11: 1350 | F11: 1343.6 | G11: 1498.9 | H11: 1581.37 | I11: 1674.6 | J11: 1476.6 | K11: 1650.8 | L11: 1720 | M11: 1815.6 | N11: 1470.4 | O11: 1646.4 | P11: 1734.1 | Q11: 1873.1 | R11: 1768.4 | S11: 1832.8 | T11: 1889.4 | U11: 2269.4 | V11: 1862 | W11: 1948 | X11: 2062 | Y11: 2294 | Z11: 1920 | AA11: 1974.4 | AB11: 2053.4 | AC11: 2260.2 | AD11: 2234.4 | AE11: 2437.3 | AF11: 2446.3 | AG11: 2748 | AH11: 2496 | AI11: 2634 | AJ11: 2614 | AK11: 2980 | AL11: 2514.6 | AM11: 2793.4 | AN11: 2707 | AO11: 3186 | AP11: 2763.6 | AQ11: 3067.6 | AR11: 2969.8 | AS11: 3490 | AT11: 3075 | AU11: 3439 | AV11: 3326 | AW11: 3819 | AX11: 3345.9 | AY11: 3761.9 | AZ11: 3742.9 | BA11: 4335 | BB11: 3855.292 | BC11: 4391.175 | BD11: 4444.547 | BE11: 5048.986 | BF11: 4268.894 | BG11: 4656.43 | BH11: 5061.239 | BI11: 5731.437 | BJ11: 4717 | BK11: 5188 | BL11: 5481 | BM11: 6258 | BN11: 5266 | BO11: 5675 | BP11: 5963 | BQ11: 6971 | BR11: 5864 | BS11: 6398 | BT11: 6740 | BU11: 7815 | BV11: 6516 | BW11: 7113
A12: Construction | B12: 2599.8419 | C12: 2675.3415 | D12: 2679.6296 | E12: 2953.729 | F12: 2726.707 | G12: 2769.1708 | H12: 2830.1401 | I12: 3088.2807 | J12: 2868.7148 | K12: 2996.5827 | L12: 3055.2421 | M12: 3364.3625 | N12: 2907.656 | O12: 3040.535 | P12: 3091.178 | Q12: 3368.631 | R12: 3036.347 | S12: 3046.222 | T12: 3060.162 | U12: 3370.269 | V12: 3063.541 | W12: 3072.307 | X12: 3175.846 | Y12: 3485.306 | Z12: 3129.838 | AA12: 3130.657 | AB12: 3234.156 | AC12: 3561.349 | AD12: 3189 | AE12: 3257 | AF12: 3429 | AG12: 3864 | AH12: 3517 | AI12: 3658 | AJ12: 3882 | AK12: 4331 | AL12: 3846 | AM12: 4060 | AN12: 4316 | AO12: 4818 | AP12: 4158 | AQ12: 4714 | AR12: 4983 | AS12: 5600 | AT12: 4747 | AU12: 5320 | AV12: 5605 | AW12: 6212 | AX12: 6067.9 | AY12: 7326.93 | AZ12: 7732 | BA12: 8704 | BB12: 6993 | BC12: 8584 | BD12: 9233 | BE12: 10030 | BF12: 8088 | BG12: 9565 | BH12: 10110 | BI12: 11516 | BJ12: 8684 | BK12: 10374 | BL12: 10624 | BM12: 11804 | BN12: 9320 | BO12: 10852 | BP12: 11872 | BQ12: 12863 | BR12: 10242 | BS12: 12281 | BT12: 13156 | BU12: 14171 | BV12: 11251 | BW12: 13541
A13: Tertiary industries | B13: =SUM(B14:B18) -> 42036.21 | C13: =SUM(C14:C18) -> 43659.243 | D13: =SUM(D14:D18) -> 44758.342 | E13: =SUM(E14:E18) -> 47028.533 | F13: =SUM(F14:F18) -> 47531.872 | G13: =SUM(G14:G18) -> 50443.552 | H13: =SUM(H14:H18) -> 51581.083 | I13: =SUM(I14:I18) -> 54208.493 | ... BW13: =SUM(BW14:BW18) -> 268094.74
A14: Wholesale & retail trade; hotels & restaurants | B14: 7998.1375 | C14: 8433.21 | D14: 8756.3 | E14: 10154.9 | F14: 9156.7 | G14: 9136.75 | H14: 9415 | I14: 10708.4 | J14: 9770.725 | K14: 9999.725 | L14: 10399.725 | M14: 11961.725 | N14: 10405 | O14: 10446 | P14: 11373 | Q14: 13832 | R14: 11925 | S14: 13086 | T14: 13619 | U14: 15830 | V14: 13812.8 | W14: 14940 | X14: 15241 | Y14: 17521 | Z14: 14533.25 | AA14: 14973.25 | AB14: 15198.25 | AC14: 17308.25 | AD14: 15237 | AE14: 15960 | AF14: 16520 | AG14: 19241 | AH14: 16746.75 | AI14: 17681.75 | AJ14: 18344.75 | AK14: 21355.75 | AL14: 18308 | AM14: 19661 | AN14: 20333 | AO14: 24489 | AP14: 20140 | AQ14: 21266 | AR14: 22908 | AS14: 26535 | AT14: 22738 | AU14: 24019 | AV14: 24930 | AW14: 29118 | AX14: 24173.9 | AY14: 25762 | AZ14: 27187 | BA14: 31563 | BB14: 26880.514 | BC14: 29228.962 | BD14: 30092.274 | BE14: 34572.25 | BF14: 28864.446 | BG14: 30573.538 | BH14: 32661.365 | BI14: 36568.651 | BJ14: 31710 | BK14: 34169 | BL14: 36071 | BM14: 41518 | BN14: 35957 | BO14: 38161 | BP14: 39955 | BQ14: 45604 | BR14: 38916 | BS14: 41095 | BT14: 42641 | BU14: 47969 | BV14: 41613 | BW14: 43716
A15: Transport , storage and communication | B15: 5046 | C15: 5525 | D15: 5678.21 | E15: 6026 | F15: 5870 | G15: 6275.96 | H15: 6388 | I15: 6760.6 | J15: 6599.57 | K15: 6755.6 | L15: 6898.6 | M15: 7282 | N15: 6984.6 | O15: 7412.6 | P15: 7466.8 | Q15: 7858 | R15: 7309 | S15: 7696 | T15: 7854 | U15: 8233 | V15: 7907 | W15: 8367 | X15: 8484 | Y15: 8868 | Z15: 8598 | AA15: 8979 | AB15: 9047 | AC15: 9610 | AD15: 8763 | AE15: 9279 | AF15: 9428 | AG15: 10180 | AH15: 9705.4 | AI15: 10361.4 | AJ15: 10442.2 | AK15: 11270 | AL15: 10066 | AM15: 10662 | AN15: 11731 | AO15: 13582 | AP15: 11103 | AQ15: 12581 | AR15: 13147 | AS15: 13684 | AT15: 12372 | AU15: 13218 | AV15: 13737 | AW15: 14733 | AX15: 13348.9 | AY15: 14128.9 | AZ15: 14737.9 | BA15: 15762.9 | BB15: 14215.5 | BC15: 15003.5 | BD15: 15746.5 | BE15: 16420.5 | BF15: 14654.081 | BG15: 15607.583 | BH15: 16594.965 | BI15: 17521.371 | BJ15: 16365 | BK15: 17297 | BL15: 18251 | BM15: 19448 | BN15: 17699 | BO15: 19688 | BP15: 20321 | BQ15: 21782 | BR15: 18996 | BS15: 21070 | BT15: 21788 | BU15: 23547 | BV15: 20498 | BW15: 22561
A16: Finance, real estate and business services | B16: 6660.35 | C16: 6923 | D16: 7160 | E16: 7393 | F16: 7206.88 | G16: 7843 | H16: 8075 | I16: 8551 | J16: 8418.33 | K16: 9160.3 | L16: 9246 | M16: 9864 | N16: 9983 | O16: 10571 | P16: 10829 | Q16: 11002 | R16: 11404 | S16: 11851 | T16: 12041 | U16: 12262 | V16: 12584 | W16: 13160 | X16: 13541 | Y16: 14002 | Z16: 14487 | AA16: 15231 | AB16: 16207 | AC16: 16565 | AD16: 16923 | AE16: 18248 | AF16: 18782 | AG16: 18941 | AH16: 19187 | AI16: 20419 | AJ16: 21756 | AK16: 22258 | AL16: 22315 | AM16: 23390 | AN16: 25212 | AO16: 26028 | AP16: 25127 | AQ16: 27407 | AR16: 29607 | AS16: 30793 | AT16: 29497 | AU16: 31737 | AV16: 33340 | AW16: 34095 | AX16: 34215 | AY16: 36703 | AZ16: 38499 | BA16: 40375 | BB16: 39440 | BC16: 40535.5 | BD16: 44342.4 | BE16: 43312 | BF16: 40550.9 | BG16: 41306.9 | BH16: 45090.9 | BI16: 44380 | BJ16: 45900 | BK16: 47514 | BL16: 50009 | BM16: 49777 | BN16: 51080 | BO16: 52517 | BP16: 55551 | BQ16: 54827 | BR16: 56822 | BS16: 58856 | BT16: 59600 | BU16: 58470 | BV16: 60185 | BW16: 61464.5
A17: Personal services | B17: 4674.7225 | C17: 4850.0325 | D17: 5056.8325 | E17: 5125.6325 | F17: 5225.5425 | G17: 5440.0925 | H17: 5665.0825 | I17: 5755.4925 | J17: 6041.94 | K17: 6255.625 | L17: 6486.245 | M17: 6575.755 | N17: 6637.3 | O17: 6801.05 | P17: 7116.35 | Q17: 7205.3 | R17: 7467.4 | S17: 7630.5 | T17: 7971.5 | U17: 8052.6 | V17: 8561.4 | W17: 8911.04 | X17: 9161.24 | Y17: 9169.32 | Z17: 9749.36 | AA17: 9844 | AB17: 9908.64 | AC17: 9801 | AD17: 10646 | AE17: 10836 | AF17: 10899 | AG17: 10873 | AH17: 11761 | AI17: 12057 | AJ17: 12179 | AK17: 12457 | AL17: 13355 | AM17: 13148 | AN17: 13150 | AO17: 13627 | AP17: 14279 | AQ17: 14257 | AR17: 14372 | AS17: 14538 | AT17: 15669.4 | AU17: 15838.4 | AV17: 15963.2 | AW17: 16216 | AX17: 17490.1 | AY17: 17770.1 | AZ17: 17856 | BA17: 18295 | BB17: 19295.7 | BC17: 19376.7 | BD17: 19593.8 | BE17: 19850.8 | BF17: 20808.8 | BG17: 20943.8 | BH17: 21375.4 | BI17: 21394 | BJ17: 22458 | BK17: 22623 | BL17: 23063 | BM17: 23237 | BN17: 24497 | BO17: 24547 | BP17: 25272 | BQ17: 25127 | BR17: 26180 | BS17: 26162 | BT17: 26787 | BU17: 26586 | BV17: 27807 | BW17: 27587.241
A18: General government services | B18: 17657 | C18: 17928 | D18: 18107 | E18: 18329 | F18: 20072.75 | G18: 21747.75 | H18: 22038 | I18: 22433 | J18: 23530 | K18: 23752 | L18: 24339 | M18: 24795 | N18: 25552 | O18: 25813 | P18: 25937 | Q18: 26225 | R18: 27049 | S18: 27309 | T18: 27386 | U18: 27654 | V18: 28826 | W18: 28856 | X18: 29204 | Y18: 29561 | Z18: 30819 | AA18: 30683 | AB18: 30874 | AC18: 31328 | AD18: 33408 | AE18: 33706 | AF18: 35155 | AG18: 33735 | AH18: 37038 | AI18: 37686 | AJ18: 38056 | AK18: 38259 | AL18: 41826 | AM18: 41298 | AN18: 40446 | AO18: 42717 | AP18: 44347 | AQ18: 44448 | AR18: 45521 | AS18: 47449 | AT18: 48786 | AU18: 45791 | AV18: 51787 | AW18: 53626 | AX18: 53116 | AY18: 53645 | AZ18: 57582 | BA18: 60877 | BB18: 59085 | BC18: 60477 | BD18: 65298 | BE18: 67714 | BF18: 69344 | BG18: 70642 | BH18: 72672 | BI18: 85994 | BJ18: 83656 | BK18: 81100 | BL18: 87460 | BM18: 93134 | BN18: 90958 | BO18: 94666 | BP18: 98975 | BQ18: 96621 | BR18: 99655 | BS18: 100401 | BT18: 106839 | BU18: 109256 | BV18: 106692 | BW18: 112766
A19: All industries at basic prices | B19: =B13+B9+B6 -> 64709.492 | C19: =C13+C9+C6 -> 66774.354 | D19: =D13+D9+D6 -> 69150.392 | E19: =E13+E9+E6 -> 74042.321 | F19: =F13+F9+F6 -> 72428.58 | G19: =G13+G9+G6 -> 75431.613 | H19: =H13+H9+H6 -> 77815.693 | I19: =I13+I9+I6 -> 82444.403 | ... BW19: =BW13+BW9+BW6 -> 383244.01
A21: SA - Annual Compensation of Employees | B21: =B19+B20 -> 64709.492 | C21: =C19+C20 -> 66774.354 | D21: =D19+D20 -> 69150.392 | E21: =E19+E20 -> 74042.321 | F21: =F19+F20 -> 72428.58 | G21: =G19+G20 -> 75431.613 | H21: =H19+H20 -> 77815.693 | I21: =I19+I20 -> 82444.403 | ... BW21: =BW19+BW20 -> 383244.01
A23: =Annual!A23 -> KZN – Annual Compensation of Employees
A24: Rand million
A25: Provincial Industry | B25: =B5 -> 1995q1 | C25: =C5 -> 1995q2 | D25: =D5 -> 1995q3 | E25: =E5 -> 1995q4 | F25: =F5 -> 1996q1 | G25: =G5 -> 1996q2 | H25: =H5 -> 1996q3 | I25: =I5 -> 1996q4 | ... BW25: =BW5 -> 2013q2
A26: Primary Industries | B26: =SUM(B27:B28) -> 672.51781 | C26: =SUM(C27:C28) -> 712.46713 | D26: =SUM(D27:D28) -> 724.20373 | E26: =SUM(E27:E28) -> 696.98223 | F26: =SUM(F27:F28) -> 789.08037 | G26: =SUM(G27:G28) -> 819.81872 | H26: =SUM(H27:H28) -> 831.15537 | I26: =SUM(I27:I28) -> 808.25344 | ... BW26: =SUM(BW27:BW28) -> 2720.5103
A27: Agriculture, forestry and fishing | B27: =B7*Annual!$B46/100 -> 484.05495 | C27: =C7*Annual!$B46/100 -> 520.58222 | D27: =D7*Annual!$B46/100 -> 518.35624 | E27: =E7*Annual!$B46/100 -> 477.05858 | F27: =F7*Annual!$C46/100 -> 489.72274 | G27: =G7*Annual!$C46/100 -> 526.59547 | H27: =H7*Annual!$C46/100 -> 524.3138 | I27: =I7*Annual!$C46/100 -> 482.70202 | J27: =J7*Annual!$D46/100 -> 518.2466 | K27: =K7*Annual!$D46/100 -> 557.54926 | L27: =L7*Annual!$D46/100 -> 555.31628 | M27: =M7*Annual!$D46/100 -> 510.76093 | N27: =N7*Annual!$E46/100 -> 620.04266 | O27: =O7*Annual!$E46/100 -> 667.25935 | P27: =P7*Annual!$E46/100 -> 664.23896 | Q27: =Q7*Annual!$E46/100 -> 610.85821 | R27: =R7*Annual!$F46/100 -> 617.50341 | S27: =S7*Annual!$F46/100 -> 658.47721 | T27: =T7*Annual!$F46/100 -> 635.02324 | U27: =U7*Annual!$F46/100 -> 579.07281 | V27: =V7*Annual!$G46/100 -> 640.41172 | W27: =W7*Annual!$G46/100 -> 696.14231 | X27: =X7*Annual!$G46/100 -> 679.31281 | Y27: =Y7*Annual!$G46/100 -> 618.889 | Z27: =Z7*Annual!H46/100 -> 711.49953 | AA27: =AA7*Annual!H46/100 -> 763.15052 | AB27: =AB7*Annual!H46/100 -> 735.73798 | AC27: =AC7*Annual!H46/100 -> 668.79369 | AD27: =AD7*Annual!$I46/100 -> 944.78966 | AE27: =AE7*Annual!$I46/100 -> 1101.3094 | AF27: =AF7*Annual!$I46/100 -> 1107.8311 | AG27: =AG7*Annual!$I46/100 -> 986.47156 | AH27: =AH7*Annual!$J46/100 -> 949.69314 | AI27: =AI7*Annual!$J46/100 -> 1054.2601 | AJ27: =AJ7*Annual!$J46/100 -> 1044.7809 | AK27: =AK7*Annual!$J46/100 -> 936.95552 | AL27: =AL7*Annual!$K46/100 -> 934.42338 | AM27: =AM7*Annual!$K46/100 -> 996.5808 | AN27: =AN7*Annual!$K46/100 -> 987.74325 | AO27: =AO7*Annual!$K46/100 -> 884.93311 | AP27: =AP7*Annual!$L46/100 -> 794.86041 | AQ27: =AQ7*Annual!$L46/100 -> 854.48843 | AR27: =AR7*Annual!$L46/100 -> 862.35339 | AS27: =AS7*Annual!$L46/100 -> 764.60121 | AT27: =AT7*Annual!$M46/100 -> 890.28826 | AU27: =AU7*Annual!$M46/100 -> 955.13039 | AV27: =AV7*Annual!$M46/100 -> 964.31158 | AW27: =AW7*Annual!$M46/100 -> 874.22118 | AX27: =AX7*Annual!$N46/100 -> 1035.2925 | AY27: =AY7*Annual!$N46/100 -> 1100.1601 | AZ27: =AZ7*Annual!$N46/100 -> 1114.1226 | BA27: =BA7*Annual!$N46/100 -> 1012.3125 | BB27: =BB7*Annual!$O46/100 -> 1192.8273 | BC27: =BC7*Annual!$O46/100 -> 1208.9208 | BD27: =BD7*Annual!$O46/100 -> 1212.8208 | BE27: =BE7*Annual!$O46/100 -> 1132.3925 | BF27: =BF7*Annual!P46/100 -> 1309.9983 | BG27: =BG7*Annual!P46/100 -> 1318.932 | BH27: =BH7*Annual!P46/100 -> 1294.9004 | BI27: =BI7*Annual!P46/100 -> 1170.9669 | BJ27: =BJ7*Annual!Q46/100 -> 1384.7933 | BK27: =BK7*Annual!Q46/100 -> 1405.5998 | BL27: =BL7*Annual!Q46/100 -> 1371.5002 | BM27: =BM7*Annual!Q46/100 -> 1247.5276 | BN27: =BN7*Annual!$R46/100 -> 1457.3174 | BO27: =BO7*Annual!$R46/100 -> 1515.1893 | BP27: =BP7*Annual!$R46/100 -> 1471.9315 | BQ27: =BQ7*Annual!$R46/100 -> 1338.9433 | BR27: =BR7*Annual!$S46/100 -> 1580.7807 | BS27: =BS7*Annual!$S46/100 -> 1641.6709 | BT27: =BT7*Annual!$S46/100 -> 1613.5905 | BU27: =BU7*Annual!$S46/100 -> 1476.7353 | BV27: =BV7*Annual!$T46/100 -> 1726.313 | BW27: =BW7*Annual!$T46/100 -> 1813.1192
A28: Mining and quarrying | B28: =B8*Annual!$B47/100 -> 188.46286 | C28: =C8*Annual!$B47/100 -> 191.88491 | D28: =D8*Annual!$B47/100 -> 205.84749 | E28: =E8*Annual!$B47/100 -> 219.92365 | F28: =F8*Annual!$C47/100 -> 299.35763 | G28: =G8*Annual!$C47/100 -> 293.22325 | H28: =H8*Annual!$C47/100 -> 306.84157 | I28: =I8*Annual!$C47/100 -> 325.55142 | J28: =J8*Annual!$D47/100 -> 327.12987 | K28: =K8*Annual!$D47/100 -> 320.42094 | L28: =L8*Annual!$D47/100 -> 338.65536 | M28: =M8*Annual!$D47/100 -> 359.14683 | N28: =N8*Annual!$E47/100 -> 348.438 | O28: =O8*Annual!$E47/100 -> 339.40486 | P28: =P8*Annual!$E47/100 -> 350.12418 | Q28: =Q8*Annual!$E47/100 -> 376.98269 | R28: =R8*Annual!$F47/100 -> 272.37651 | S28: =S8*Annual!$F47/100 -> 280.34645 | T28: =T8*Annual!$F47/100 -> 296.09163 | U28: =U8*Annual!$F47/100 -> 302.64548 | V28: =V8*Annual!$G47/100 -> 298.71628 | W28: =W8*Annual!$G47/100 -> 298.10383 | X28: =X8*Annual!$G47/100 -> 309.35459 | Y28: =Y8*Annual!$G47/100 -> 325.61175 | Z28: =Z8*Annual!H47/100 -> 310.44879 | AA28: =AA8*Annual!H47/100 -> 310.78002 | AB28: =AB8*Annual!H47/100 -> 326.47222 | AC28: =AC8*Annual!H47/100 -> 347.50556 | AD28: =AD8*Annual!$I47/100 -> 300.23168 | AE28: =AE8*Annual!$I47/100 -> 300.23168 | AF28: =AF8*Annual!$I47/100 -> 322.13197 | AG28: =AG8*Annual!$I47/100 -> 339.2347 | AH28: =AH8*Annual!$J47/100 -> 329.92896 | AI28: =AI8*Annual!$J47/100 -> 314.70421 | AJ28: =AJ8*Annual!$J47/100 -> 330.79144 | AK28: =AK8*Annual!$J47/100 -> 344.29122 | AL28: =AL8*Annual!$K47/100 -> 347.49004 | AM28: =AM8*Annual!$K47/100 -> 349.26108 | AN28: =AN8*Annual!$K47/100 -> 357.96552 | AO28: =AO8*Annual!$K47/100 -> 373.60337 | AP28: =AP8*Annual!$L47/100 -> 336.68523 | AQ28: =AQ8*Annual!$L47/100 -> 338.22368 | AR28: =AR8*Annual!$L47/100 -> 367.69905 | AS28: =AS8*Annual!$L47/100 -> 386.64999 | AT28: =AT8*Annual!$M47/100 -> 384.47848 | AU28: =AU8*Annual!$M47/100 -> 387.70825 | AV28: =AV8*Annual!$M47/100 -> 419.46198 | AW28: =AW8*Annual!$M47/100 -> 451.48768 | AX28: =AX8*Annual!$N47/100 -> 462.24191 | AY28: =AY8*Annual!$N47/100 -> 472.21095 | AZ28: =AZ8*Annual!$N47/100 -> 505.73666 | BA28: =BA8*Annual!$N47/100 -> 547.03906 | BB28: =BB8*Annual!$O47/100 -> 551.33055 | BC28: =BC8*Annual!$O47/100 -> 568.04067 | BD28: =BD8*Annual!$O47/100 -> 603.27822 | BE28: =BE8*Annual!$O47/100 -> 640.02839 | BF28: =BF8*Annual!P47/100 -> 609.03505 | BG28: =BG8*Annual!P47/100 -> 605.5146 | BH28: =BH8*Annual!P47/100 -> 638.96957 | BI28: =BI8*Annual!P47/100 -> 657.48926 | BJ28: =BJ8*Annual!Q47/100 -> 691.65437 | BK28: =BK8*Annual!Q47/100 -> 703.0063 | BL28: =BL8*Annual!Q47/100 -> 763.9743 | BM28: =BM8*Annual!Q47/100 -> 762.80728 | BN28: =BN8*Annual!$S47/100 -> 730.34318 | BO28: =BO8*Annual!$S47/100 -> 747.81698 | BP28: =BP8*Annual!$S47/100 -> 782.5594 | BQ28: =BQ8*Annual!$S47/100 -> 845.68393 | BR28: =BR8*Annual!$S47/100 -> 821.57624 | BS28: =BS8*Annual!$S47/100 -> 848.93248 | BT28: =BT8*Annual!$S47/100 -> 860.55888 | BU28: =BU8*Annual!$S47/100 -> 928.19718 | BV28: =BV8*Annual!$T47/100 -> 875.39363 | BW28: =BW8*Annual!$T47/100 -> 907.39112
A29: Secondary Industries | B29: =SUM(B30:B32) -> 3403.3148 | C29: =SUM(C30:C32) -> 3447.8652 | D29: =SUM(D30:D32) -> 3647.3474 | E29: =SUM(E30:E32) -> 4145.9308 | F29: =SUM(F30:F32) -> 3704.6557 | G29: =SUM(G30:G32) -> 3711.33 | H29: =SUM(H30:H32) -> 3922.9265 | I29: =SUM(I30:I32) -> 4296.2029 | ... BW29: =SUM(BW30:BW32) -> 16224.963
A30: Manufacturing | B30: =B10*Annual!$B49/100 -> 2745.9454 | C30: =C10*Annual!$B49/100 -> 2753.0595 | D30: =D10*Annual!$B49/100 -> 2940.9323 | E30: =E10*Annual!$B49/100 -> 3378.8138 | F30: =F10*Annual!$C49/100 -> 2997.0311 | G30: =G10*Annual!$C49/100 -> 2969.2536 | H30: =H10*Annual!$C49/100 -> 3155.8857 | I30: =I10*Annual!$C49/100 -> 3468.094 | J30: =J10*Annual!$D49/100 -> 3130.1618 | K30: =K10*Annual!$D49/100 -> 3185.5643 | L30: =L10*Annual!$D49/100 -> 3326.5891 | M30: =M10*Annual!$D49/100 -> 3690.4854 | N30: =N10*Annual!$E49/100 -> 3524.1078 | O30: =O10*Annual!$E49/100 -> 3616.214 | P30: =P10*Annual!$E49/100 -> 3742.86 | Q30: =Q10*Annual!$E49/100 -> 4220.1374 | R30: =R10*Annual!$F49/100 -> 3757.5631 | S30: =S10*Annual!$F49/100 -> 3840.2282 | T30: =T10*Annual!$F49/100 -> 3940.6526 | U30: =U10*Annual!$F49/100 -> 4462.2251 | V30: =V10*Annual!$G49/100 -> 4106.3282 | W30: =W10*Annual!$G49/100 -> 4254.9928 | X30: =X10*Annual!$G49/100 -> 4375.4111 | Y30: =Y10*Annual!$G49/100 -> 4889.3658 | Z30: =Z10*Annual!H49/100 -> 4429.1555 | AA30: =AA10*Annual!H49/100 -> 4530.24 | AB30: =AB10*Annual!H49/100 -> 4634.8848 | AC30: =AC10*Annual!H49/100 -> 5208.7143 | AD30: =AD10*Annual!$I49/100 -> 4879.9704 | AE30: =AE10*Annual!$I49/100 -> 5101.7045 | AF30: =AF10*Annual!$I49/100 -> 5233.7717 | AG30: =AG10*Annual!$I49/100 -> 5824.3293 | AH30: =AH10*Annual!$J49/100 -> 5295.0793 | AI30: =AI10*Annual!$J49/100 -> 5427.254 | AJ30: =AJ10*Annual!$J49/100 -> 5505.5798 | AK30: =AK10*Annual!$J49/100 -> 6164.5382 | AL30: =AL10*Annual!$K49/100 -> 5611.5818 | AM30: =AM10*Annual!$K49/100 -> 5823.1792 | AN30: =AN10*Annual!$K49/100 -> 5901.3598 | AO30: =AO10*Annual!$K49/100 -> 6575.2425 | AP30: =AP10*Annual!$L49/100 -> 6053.0697 | AQ30: =AQ10*Annual!$L49/100 -> 6189.4154 | AR30: =AR10*Annual!$L49/100 -> 6286.7263 | AS30: =AS10*Annual!$L49/100 -> 7113.7628 | AT30: =AT10*Annual!$M49/100 -> 6517.7592 | AU30: =AU10*Annual!$M49/100 -> 6824.1189 | AV30: =AV10*Annual!$M49/100 -> 6932.0218 | AW30: =AW10*Annual!$M49/100 -> 7998.3565 | AX30: =AX10*Annual!$N49/100 -> 7384.0181 | AY30: =AY10*Annual!$N49/100 -> 7747.2696 | AZ30: =AZ10*Annual!$N49/100 -> 7954.2975 | BA30: =BA10*Annual!$N49/100 -> 9219.3124 | BB30: =BB10*Annual!$O49/100 -> 8394.8074 | BC30: =BC10*Annual!$O49/100 -> 8819.3548 | BD30: =BD10*Annual!$O49/100 -> 9127.982 | BE30: =BE10*Annual!$O49/100 -> 10429.97 | BF30: =BF10*Annual!P49/100 -> 8924.4931 | BG30: =BG10*Annual!P49/100 -> 9113.7121 | BH30: =BH10*Annual!P49/100 -> 9732.588 | BI30: =BI10*Annual!P49/100 -> 11140.351 | BJ30: =BJ10*Annual!Q49/100 -> 9925.7754 | BK30: =BK10*Annual!Q49/100 -> 10229.932 | BL30: =BL10*Annual!Q49/100 -> 10564.334 | BM30: =BM10*Annual!Q49/100 -> 12376.708 | BN30: =BN10*Annual!$R49/100 -> 10792.276 | BO30: =BO10*Annual!$R49/100 -> 10984.36 | BP30: =BP10*Annual!$R49/100 -> 11244.59 | BQ30: =BQ10*Annual!$R49/100 -> 13210.577 | BR30: =BR10*Annual!$S49/100 -> 11707.41 | BS30: =BS10*Annual!$S49/100 -> 11951.195 | BT30: =BT10*Annual!$S49/100 -> 12296.964 | BU30: =BU10*Annual!$S49/100 -> 14420.978 | BV30: =BV10*Annual!$T49/100 -> 12765.238 | BW30: =BW10*Annual!$T49/100 -> 13077.094
A31: Electricity, gas and water | B31: =B11*Annual!$B50/100 -> 188.85127 | C31: =C11*Annual!$B50/100 -> 212.68163 | D31: =D11*Annual!$B50/100 -> 223.51835 | E31: =E11*Annual!$B50/100 -> 234.82473 | F31: =F11*Annual!$C50/100 -> 234.28956 | G31: =G11*Annual!$C50/100 -> 261.36992 | H31: =H11*Annual!$C50/100 -> 275.75058 | I31: =I11*Annual!$C50/100 -> 292.00752 | J31: =J11*Annual!$D50/100 -> 256.34924 | K31: =K11*Annual!$D50/100 -> 286.59171 | L31: =L11*Annual!$D50/100 -> 298.60537 | M31: =M11*Annual!$D50/100 -> 315.20227 | N31: =N11*Annual!$E50/100 -> 255.78625 | O31: =O11*Annual!$E50/100 -> 286.40267 | P31: =P11*Annual!$E50/100 -> 301.65869 | Q31: =Q11*Annual!$E50/100 -> 325.8387 | R31: =R11*Annual!$F50/100 -> 309.35287 | S31: =S11*Annual!$F50/100 -> 320.61861 | T31: =T11*Annual!$F50/100 -> 330.51986 | U31: =U11*Annual!$F50/100 -> 396.99469 | V31: =V11*Annual!$G50/100 -> 334.47051 | W31: =W11*Annual!$G50/100 -> 349.91867 | X31: =X11*Annual!$G50/100 -> 370.39645 | Y31: =Y11*Annual!$G50/100 -> 412.07054 | Z31: =Z11*Annual!H50/100 -> 357.58345 | AA31: =AA11*Annual!H50/100 -> 367.71498 | AB31: =AB11*Annual!H50/100 -> 382.42805 | AC31: =AC11*Annual!H50/100 -> 420.94277 | AD31: =AD11*Annual!$I50/100 -> 441.08101 | AE31: =AE11*Annual!$I50/100 -> 481.13442 | AF31: =AF11*Annual!$I50/100 -> 482.91107 | AG31: =AG11*Annual!$I50/100 -> 542.46806 | AH31: =AH11*Annual!$J50/100 -> 423.51406 | AI31: =AI11*Annual!$J50/100 -> 446.92951 | AJ31: =AJ11*Annual!$J50/100 -> 443.53596 | AK31: =AK11*Annual!$J50/100 -> 505.63779 | AL31: =AL11*Annual!$K50/100 -> 428.8013 | AM31: =AM11*Annual!$K50/100 -> 476.34358 | AN31: =AN11*Annual!$K50/100 -> 461.61025 | AO31: =AO11*Annual!$K50/100 -> 543.29156 | AP31: =AP11*Annual!$L50/100 -> 476.47298 | AQ31: =AQ11*Annual!$L50/100 -> 528.88569 | AR31: =AR11*Annual!$L50/100 -> 512.02397 | AS31: =AS11*Annual!$L50/100 -> 601.71178 | AT31: =AT11*Annual!$M50/100 -> 529.55804 | AU31: =AU11*Annual!$M50/100 -> 592.24393 | AV31: =AV11*Annual!$M50/100 -> 572.78375 | AW31: =AW11*Annual!$M50/100 -> 657.68525 | AX31: =AX11*Annual!$N50/100 -> 575.93301 | AY31: =AY11*Annual!$N50/100 -> 647.5395 | AZ31: =AZ11*Annual!$N50/100 -> 644.26901 | BA31: =BA11*Annual!$N50/100 -> 746.18775 | BB31: =BB11*Annual!$O50/100 -> 657.36917 | BC31: =BC11*Annual!$O50/100 -> 748.74305 | BD31: =BD11*Annual!$O50/100 -> 757.84355 | BE31: =BE11*Annual!$O50/100 -> 860.90697 | BF31: =BF11*Annual!P50/100 -> 709.42326 | BG31: =BG11*Annual!P50/100 -> 773.82567 | BH31: =BH11*Annual!P50/100 -> 841.09858 | BI31: =BI11*Annual!P50/100 -> 952.47498 | BJ31: =BJ11*Annual!Q50/100 -> 778.36003 | BK31: =BK11*Annual!Q50/100 -> 856.08053 | BL31: =BL11*Annual!Q50/100 -> 904.42895 | BM31: =BM11*Annual!Q50/100 -> 1032.643 | BN31: =BN11*Annual!$S50/100 -> 863.49356 | BO31: =BO11*Annual!$S50/100 -> 930.55942 | BP31: =BP11*Annual!$S50/100 -> 977.78429 | BQ31: =BQ11*Annual!$S50/100 -> 1143.0713 | BR31: =BR11*Annual!$S50/100 -> 961.55074 | BS31: =BS11*Annual!$S50/100 -> 1049.1135 | BT31: =BT11*Annual!$S50/100 -> 1105.193 | BU31: =BU11*Annual!$S50/100 -> 1281.4664 | BV31: =BV11*Annual!$T50/100 -> 1065.0859 | BW31: =BW11*Annual!$T50/100 -> 1162.6697
A32: Construction | B32: =B12*Annual!$B51/100 -> 468.51819 | C32: =C12*Annual!$B51/100 -> 482.124 | D32: =D12*Annual!$B51/100 -> 482.89675 | E32: =E12*Annual!$B51/100 -> 532.29227 | F32: =F12*Annual!$C51/100 -> 473.33505 | G32: =G12*Annual!$C51/100 -> 480.70642 | H32: =H12*Annual!$C51/100 -> 491.29022 | I32: =I12*Annual!$C51/100 -> 536.10142 | J32: =J12*Annual!$D51/100 -> 508.94516 | K32: =K12*Annual!$D51/100 -> 531.63048 | L32: =L12*Annual!$D51/100 -> 542.03737 | M32: =M12*Annual!$D51/100 -> 596.87913 | N32: =N12*Annual!$E51/100 -> 486.47172 | O32: =O12*Annual!$E51/100 -> 508.70333 | P32: =P12*Annual!$E51/100 -> 517.17627 | Q32: =Q12*Annual!$E51/100 -> 563.59615 | R32: =R12*Annual!$F51/100 -> 485.6557 | S32: =S12*Annual!$F51/100 -> 487.23518 | T32: =T12*Annual!$F51/100 -> 489.46485 | U32: =U12*Annual!$F51/100 -> 539.06565 | V32: =V12*Annual!$G51/100 -> 482.08265 | W32: =W12*Annual!$G51/100 -> 483.46207 | X32: =X12*Annual!$G51/100 -> 499.7551 | Y32: =Y12*Annual!$G51/100 -> 548.45211 | Z32: =Z12*Annual!H51/100 -> 629.49882 | AA32: =AA12*Annual!H51/100 -> 629.66354 | AB32: =AB12*Annual!H51/100 -> 650.48011 | AC32: =AC12*Annual!H51/100 -> 716.28787 | AD32: =AD12*Annual!$I51/100 -> 478.84234 | AE32: =AE12*Annual!$I51/100 -> 489.05284 | AF32: =AF12*Annual!$I51/100 -> 514.87939 | AG32: =AG12*Annual!$I51/100 -> 580.19655 | AH32: =AH12*Annual!$J51/100 -> 513.68724 | AI32: =AI12*Annual!$J51/100 -> 534.28147 | AJ32: =AJ12*Annual!$J51/100 -> 566.99854 | AK32: =AK12*Annual!$J51/100 -> 632.57874 | AL32: =AL12*Annual!$K51/100 -> 563.16665 | AM32: =AM12*Annual!$K51/100 -> 594.50249 | AN32: =AN12*Annual!$K51/100 -> 631.98837 | AO32: =AO12*Annual!$K51/100 -> 705.49582 | AP32: =AP12*Annual!$L51/100 -> 617.75259 | AQ32: =AQ12*Annual!$L51/100 -> 700.35731 | AR32: =AR12*Annual!$L51/100 -> 740.32254 | AS32: =AS12*Annual!$L51/100 -> 831.99001 | AT32: =AT12*Annual!$M51/100 -> 687.13372 | AU32: =AU12*Annual!$M51/100 -> 770.07613 | AV32: =AV12*Annual!$M51/100 -> 811.3302 | AW32: =AW12*Annual!$M51/100 -> 899.19415 | AX32: =AX12*Annual!$N51/100 -> 873.91133 | AY32: =AY12*Annual!$N51/100 -> 1055.2394 | AZ32: =AZ12*Annual!$N51/100 -> 1113.5784 | BA32: =BA12*Annual!$N51/100 -> 1253.5678 | BB32: =BB12*Annual!$O51/100 -> 1007.4381 | BC32: =BC12*Annual!$O51/100 -> 1236.6436 | BD32: =BD12*Annual!$O51/100 -> 1330.141 | BE32: =BE12*Annual!$O51/100 -> 1444.9598 | BF32: =BF12*Annual!P51/100 -> 1171.9215 | BG32: =BG12*Annual!P51/100 -> 1385.9334 | BH32: =BH12*Annual!P51/100 -> 1464.9019 | BI32: =BI12*Annual!P51/100 -> 1668.6261 | BJ32: =BJ12*Annual!Q51/100 -> 1269.5133 | BK32: =BK12*Annual!Q51/100 -> 1516.5742 | BL32: =BL12*Annual!Q51/100 -> 1553.1217 | BM32: =BM12*Annual!Q51/100 -> 1725.6258 | BN32: =BN12*Annual!$S51/100 -> 1365.079 | BO32: =BO12*Annual!$S51/100 -> 1589.4675 | BP32: =BP12*Annual!$S51/100 -> 1738.8646 | BQ32: =BQ12*Annual!$S51/100 -> 1884.0141 | BR32: =BR12*Annual!$S51/100 -> 1500.1222 | BS32: =BS12*Annual!$S51/100 -> 1798.7699 | BT32: =BT12*Annual!$S51/100 -> 1926.9291 | BU32: =BU12*Annual!$S51/100 -> 2075.5938 | BV32: =BV12*Annual!$T51/100 -> 1649.4708 | BW32: =BW12*Annual!$T51/100 -> 1985.1999
A33: Tertiary industries | B33: =SUM(B34:B38) -> 6580.984 | C33: =SUM(C34:C38) -> 6865.5883 | D33: =SUM(D34:D38) -> 7045.1371 | E33: =SUM(E34:E38) -> 7427.178 | F33: =SUM(F34:F38) -> 7465.506 | G33: =SUM(G34:G38) -> 7912.3951 | H33: =SUM(H34:H38) -> 8092.2394 | I33: =SUM(I34:I38) -> 8520.8315 | ... BW33: =SUM(BW34:BW38) -> 41283.015
A34: Wholesale & retail trade; hotels & restaurants | B34: =B14*Annual!$B53/100 -> 1297.4289 | C34: =C14*Annual!$B53/100 -> 1368.0048 | D34: =D14*Annual!$B53/100 -> 1420.4153 | E34: =E14*Annual!$B53/100 -> 1647.2912 | F34: =F14*Annual!$C53/100 -> 1464.5547 | G34: =G14*Annual!$C53/100 -> 1461.3639 | H34: =H14*Annual!$C53/100 -> 1505.8681 | I34: =I14*Annual!$C53/100 -> 1712.7391 | J34: =J14*Annual!$D53/100 -> 1565.1646 | K34: =K14*Annual!$D53/100 -> 1601.848 | L34: =L14*Annual!$D53/100 -> 1665.9236 | M34: =M14*Annual!$D53/100 -> 1916.1392 | N34: =N14*Annual!$E53/100 -> 1659.8736 | O34: =O14*Annual!$E53/100 -> 1666.4141 | P34: =P14*Annual!$E53/100 -> 1814.2952 | Q34: =Q14*Annual!$E53/100 -> 2206.571 | R34: =R14*Annual!$F53/100 -> 1894.4587 | S34: =S14*Annual!$F53/100 -> 2078.9004 | T34: =T14*Annual!$F53/100 -> 2163.5751 | U34: =U14*Annual!$F53/100 -> 2514.8245 | V34: =V14*Annual!$G53/100 -> 2197.2911 | W34: =W14*Annual!$G53/100 -> 2376.6021 | X34: =X14*Annual!$G53/100 -> 2424.4841 | Y34: =Y14*Annual!$G53/100 -> 2787.1784 | Z34: =Z14*Annual!H53/100 -> 2446.0274 | AA34: =AA14*Annual!H53/100 -> 2520.0819 | AB34: =AB14*Annual!H53/100 -> 2557.9506 | AC34: =AC14*Annual!H53/100 -> 2913.0754 | AD34: =AD14*Annual!$I53/100 -> 2568.2219 | AE34: =AE14*Annual!$I53/100 -> 2690.0847 | AF34: =AF14*Annual!$I53/100 -> 2784.4737 | AG34: =AG14*Annual!$I53/100 -> 3243.1028 | AH34: =AH14*Annual!$J53/100 -> 2844.7638 | AI34: =AI14*Annual!$J53/100 -> 3003.5919 | AJ34: =AJ14*Annual!$J53/100 -> 3116.2154 | AK34: =AK14*Annual!$J53/100 -> 3627.6928 | AL34: =AL14*Annual!$K53/100 -> 3111.1219 | AM34: =AM14*Annual!$K53/100 -> 3341.0404 | AN34: =AN14*Annual!$K53/100 -> 3455.235 | AO34: =AO14*Annual!$K53/100 -> 4161.4739 | AP34: =AP14*Annual!$L53/100 -> 3403.9305 | AQ34: =AQ14*Annual!$L53/100 -> 3594.2397 | AR34: =AR14*Annual!$L53/100 -> 3871.7597 | AS34: =AS14*Annual!$L53/100 -> 4484.7714 | AT34: =AT14*Annual!$M53/100 -> 3859.0663 | AU34: =AU14*Annual!$M53/100 -> 4076.4761 | AV34: =AV14*Annual!$M53/100 -> 4231.09 | AW34: =AW14*Annual!$M53/100 -> 4941.8724 | AX34: =AX14*Annual!$N53/100 -> 4113.784 | AY34: =AY14*Annual!$N53/100 -> 4384.0383 | AZ34: =AZ14*Annual!$N53/100 -> 4626.5371 | BA34: =BA14*Annual!$N53/100 -> 5371.2212 | BB34: =BB14*Annual!$O53/100 -> 4577.7283 | BC34: =BC14*Annual!$O53/100 -> 4977.667 | BD34: =BD14*Annual!$O53/100 -> 5124.6883 | BE34: =BE14*Annual!$O53/100 -> 5887.6243 | BF34: =BF14*Annual!P53/100 -> 4979.395 | BG34: =BG14*Annual!P53/100 -> 5274.2298 | BH34: =BH14*Annual!P53/100 -> 5634.4001 | BI34: =BI14*Annual!P53/100 -> 6308.4445 | BJ34: =BJ14*Annual!Q53/100 -> 5489.2725 | BK34: =BK14*Annual!Q53/100 -> 5914.9465 | BL34: =BL14*Annual!Q53/100 -> 6244.199 | BM34: =BM14*Annual!Q53/100 -> 7187.1213 | BN34: =BN14*Annual!$R53/100 -> 6266.3104 | BO34: =BO14*Annual!$R53/100 -> 6650.4066 | BP34: =BP14*Annual!$R53/100 -> 6963.0512 | BQ34: =BQ14*Annual!$R53/100 -> 7947.5156 | BR34: =BR14*Annual!$S53/100 -> 6827.2716 | BS34: =BS14*Annual!$S53/100 -> 7209.5469 | BT34: =BT14*Annual!$S53/100 -> 7480.7711 | BU34: =BU14*Annual!$S53/100 -> 8415.4947 | BV34: =BV14*Annual!$T53/100 -> 7348.8509 | BW34: =BW14*Annual!$T53/100 -> 7720.2405
A35: Transport , storage and communication | B35: =B15*Annual!$B54/100 -> 1175.6633 | C35: =C15*Annual!$B54/100 -> 1287.2651 | D35: =D15*Annual!$B54/100 -> 1322.9614 | E35: =E15*Annual!$B54/100 -> 1403.9927 | F35: =F15*Annual!$C54/100 -> 1346.5992 | G35: =G15*Annual!$C54/100 -> 1439.7279 | H35: =H15*Annual!$C54/100 -> 1465.4303 | I35: =I15*Annual!$C54/100 -> 1550.9061 | J35: =J15*Annual!$D54/100 -> 1485.2602 | K35: =K15*Annual!$D54/100 -> 1520.3754 | L35: =L15*Annual!$D54/100 -> 1552.5581 | M35: =M15*Annual!$D54/100 -> 1638.8438 | N35: =N15*Annual!$E54/100 -> 1557.4399 | O35: =O15*Annual!$E54/100 -> 1652.8762 | P35: =P15*Annual!$E54/100 -> 1664.9619 | Q35: =Q15*Annual!$E54/100 -> 1752.1924 | R35: =R15*Annual!$F54/100 -> 1604.2368 | S35: =S15*Annual!$F54/100 -> 1689.1786 | T35: =T15*Annual!$F54/100 -> 1723.8577 | U35: =U15*Annual!$F54/100 -> 1807.0436 | V35: =V15*Annual!$G54/100 -> 1705.9159 | W35: =W15*Annual!$G54/100 -> 1805.1598 | X35: =X15*Annual!$G54/100 -> 1830.4023 | Y35: =Y15*Annual!$G54/100 -> 1913.2493 | Z35: =Z15*Annual!H54/100 -> 1827.2128 | AA35: =AA15*Annual!H54/100 -> 1908.1814 | AB35: =AB15*Annual!H54/100 -> 1922.6325 | AC35: =AC15*Annual!H54/100 -> 2042.279 | AD35: =AD15*Annual!$I54/100 -> 1868.3456 | AE35: =AE15*Annual!$I54/100 -> 1978.3611 | AF35: =AF15*Annual!$I54/100 -> 2010.1292 | AG35: =AG15*Annual!$I54/100 -> 2170.462 | AH35: =AH15*Annual!$J54/100 -> 2081.7884 | AI35: =AI15*Annual!$J54/100 -> 2222.4991 | AJ35: =AJ15*Annual!$J54/100 -> 2239.8305 | AK35: =AK15*Annual!$J54/100 -> 2417.3919 | AL35: =AL15*Annual!$K54/100 -> 2150.7298 | AM35: =AM15*Annual!$K54/100 -> 2278.0729 | AN35: =AN15*Annual!$K54/100 -> 2506.4784 | AO35: =AO15*Annual!$K54/100 -> 2901.9682 | AP35: =AP15*Annual!$L54/100 -> 2386.2953 | AQ35: =AQ15*Annual!$L54/100 -> 2703.9522 | AR35: =AR15*Annual!$L54/100 -> 2825.5988 | AS35: =AS15*Annual!$L54/100 -> 2941.0127 | AT35: =AT15*Annual!$M54/100 -> 2661.167 | AU35: =AU15*Annual!$M54/100 -> 2843.1381 | AV35: =AV15*Annual!$M54/100 -> 2954.7729 | AW35: =AW15*Annual!$M54/100 -> 3169.0085 | AX35: =AX15*Annual!$N54/100 -> 2885.5216 | AY35: =AY15*Annual!$N54/100 -> 3054.1278 | AZ35: =AZ15*Annual!$N54/100 -> 3185.7703 | BA35: =BA15*Annual!$N54/100 -> 3407.3361 | BB35: =BB15*Annual!$O54/100 -> 3078.7763 | BC35: =BC15*Annual!$O54/100 -> 3249.4405 | BD35: =BD15*Annual!$O54/100 -> 3410.3585 | BE35: =BE15*Annual!$O54/100 -> 3556.3327 | BF35: =BF15*Annual!P54/100 -> 3195.2533 | BG35: =BG15*Annual!P54/100 -> 3403.16 | BH35: =BH15*Annual!P54/100 -> 3618.454 | BI35: =BI15*Annual!P54/100 -> 3820.4524 | BJ35: =BJ15*Annual!Q54/100 -> 3591.1965 | BK35: =BK15*Annual!Q54/100 -> 3795.7181 | BL35: =BL15*Annual!Q54/100 -> 4005.0674 | BM35: =BM15*Annual!Q54/100 -> 4267.7415 | BN35: =BN15*Annual!$S54/100 -> 3886.1645 | BO35: =BO15*Annual!$S54/100 -> 4322.8886 | BP35: =BP15*Annual!$S54/100 -> 4461.8763 | BQ35: =BQ15*Annual!$S54/100 -> 4782.6676 | BR35: =BR15*Annual!$S54/100 -> 4170.9464 | BS35: =BS15*Annual!$S54/100 -> 4626.334 | BT35: =BT15*Annual!$S54/100 -> 4783.985 | BU35: =BU15*Annual!$S54/100 -> 5170.2082 | BV35: =BV15*Annual!$T54/100 -> 4502.0314 | BW35: =BW15*Annual!$T54/100 -> 4955.1337
A36: Finance, real estate and business services | B36: =B16*Annual!$B55/100 -> 930.02929 | C36: =C16*Annual!$B55/100 -> 966.70487 | D36: =D16*Annual!$B55/100 -> 999.79877 | E36: =E16*Annual!$B55/100 -> 1032.3341 | F36: =F16*Annual!$C55/100 -> 1006.911 | G36: =G16*Annual!$C55/100 -> 1095.7867 | H36: =H16*Annual!$C55/100 -> 1128.2007 | I36: =I16*Annual!$C55/100 -> 1194.7051 | J36: =J16*Annual!$D55/100 -> 1170.9309 | K36: =K16*Annual!$D55/100 -> 1274.1338 | L36: =L16*Annual!$D55/100 -> 1286.054 | M36: =M16*Annual!$D55/100 -> 1372.0135 | N36: =N16*Annual!$E55/100 -> 1390.2597 | O36: =O16*Annual!$E55/100 -> 1472.1462 | P36: =P16*Annual!$E55/100 -> 1508.076 | Q36: =Q16*Annual!$E55/100 -> 1532.1685 | R36: =R16*Annual!$F55/100 -> 1602.8199 | S36: =S16*Annual!$F55/100 -> 1665.6452 | T36: =T16*Annual!$F55/100 -> 1692.3495 | U36: =U16*Annual!$F55/100 -> 1723.4109 | V36: =V16*Annual!$G55/100 -> 1734.6091 | W36: =W16*Annual!$G55/100 -> 1814.0063 | X36: =X16*Annual!$G55/100 -> 1866.5243 | Y36: =Y16*Annual!$G55/100 -> 1930.0696 | Z36: =Z16*Annual!H55/100 -> 1951.3705 | AA36: =AA16*Annual!H55/100 -> 2051.5858 | AB36: =AB16*Annual!H55/100 -> 2183.0511 | AC36: =AC16*Annual!H55/100 -> 2231.273 | AD36: =AD16*Annual!$I55/100 -> 2253.2943 | AE36: =AE16*Annual!$I55/100 -> 2429.7178 | AF36: =AF16*Annual!$I55/100 -> 2500.8198 | AG36: =AG16*Annual!$I55/100 -> 2521.9907 | AH36: =AH16*Annual!$J55/100 -> 2574.0126 | AI36: =AI16*Annual!$J55/100 -> 2739.2903 | AJ36: =AJ16*Annual!$J55/100 -> 2918.6542 | AK36: =AK16*Annual!$J55/100 -> 2985.9995 | AL36: =AL16*Annual!$K55/100 -> 2998.4154 | AM36: =AM16*Annual!$K55/100 -> 3142.8607 | AN36: =AN16*Annual!$K55/100 -> 3387.6787 | AO36: =AO16*Annual!$K55/100 -> 3497.3227 | AP36: =AP16*Annual!$L55/100 -> 3531.6947 | AQ36: =AQ16*Annual!$L55/100 -> 3852.1573 | AR36: =AR16*Annual!$L55/100 -> 4161.3756 | AS36: =AS16*Annual!$L55/100 -> 4328.0724 | AT36: =AT16*Annual!$M55/100 -> 4072.2078 | AU36: =AU16*Annual!$M55/100 -> 4381.451 | AV36: =AV16*Annual!$M55/100 -> 4602.7531 | AW36: =AW16*Annual!$M55/100 -> 4706.9846 | AX36: =AX16*Annual!$N55/100 -> 4718.7372 | AY36: =AY16*Annual!$N55/100 -> 5061.8679 | AZ36: =AZ16*Annual!$N55/100 -> 5309.562 | BA36: =BA16*Annual!$N55/100 -> 5568.2892 | BB36: =BB16*Annual!$O55/100 -> 5440.3566 | BC36: =BC16*Annual!$O55/100 -> 5591.47 | BD36: =BD16*Annual!$O55/100 -> 6116.594 | BE36: =BE16*Annual!$O55/100 -> 5974.4606 | BF36: =BF16*Annual!P55/100 -> 5628.0733 | BG36: =BG16*Annual!P55/100 -> 5732.9988 | BH36: =BH16*Annual!P55/100 -> 6258.1814 | BI36: =BI16*Annual!P55/100 -> 6159.5154 | BJ36: =BJ16*Annual!Q55/100 -> 6386.8772 | BK36: =BK16*Annual!Q55/100 -> 6611.4615 | BL36: =BL16*Annual!Q55/100 -> 6958.6349 | BM36: =BM16*Annual!Q55/100 -> 6926.3527 | BN36: =BN16*Annual!$S55/100 -> 7142.9936 | BO36: =BO16*Annual!$S55/100 -> 7343.9427 | BP36: =BP16*Annual!$S55/100 -> 7768.2153 | BQ36: =BQ16*Annual!$S55/100 -> 7666.9716 | BR36: =BR16*Annual!$S55/100 -> 7945.9511 | BS36: =BS16*Annual!$S55/100 -> 8230.3843 | BT36: =BT16*Annual!$S55/100 -> 8334.4248 | BU36: =BU16*Annual!$S55/100 -> 8176.4063 | BV36: =BV16*Annual!$T55/100 -> 8437.0455 | BW36: =BW16*Annual!$T55/100 -> 8616.4125
A37: Personal services | B37: =B17*Annual!$B56/100 -> 766.33323 | C37: =C17*Annual!$B56/100 -> 795.07202 | D37: =D17*Annual!$B56/100 -> 828.97301 | E37: =E17*Annual!$B56/100 -> 840.25148 | F37: =F17*Annual!$C56/100 -> 856.13899 | G37: =G17*Annual!$C56/100 -> 891.29029 | H37: =H17*Annual!$C56/100 -> 928.15206 | I37: =I17*Annual!$C56/100 -> 942.96459 | J37: =J17*Annual!$D56/100 -> 989.20899 | K37: =K17*Annual!$D56/100 -> 1024.1943 | L37: =L17*Annual!$D56/100 -> 1061.9523 | M37: =M17*Annual!$D56/100 -> 1076.6072 | N37: =N17*Annual!$E56/100 -> 1086.7781 | O37: =O17*Annual!$E56/100 -> 1113.5902 | P37: =P17*Annual!$E56/100 -> 1165.2168 | Q37: =Q17*Annual!$E56/100 -> 1179.7813 | R37: =R17*Annual!$F56/100 -> 1220.6566 | S37: =S17*Annual!$F56/100 -> 1247.3177 | T37: =T17*Annual!$F56/100 -> 1303.0592 | U37: =U17*Annual!$F56/100 -> 1316.3161 | V37: =V17*Annual!$G56/100 -> 1398.0088 | W37: =W17*Annual!$G56/100 -> 1455.1022 | X37: =X17*Annual!$G56/100 -> 1495.9579 | Y37: =Y17*Annual!$G56/100 -> 1497.2773 | Z37: =Z17*Annual!H56/100 -> 1593.2871 | AA37: =AA17*Annual!H56/100 -> 1608.7536 | AB37: =AB17*Annual!H56/100 -> 1619.3174 | AC37: =AC17*Annual!H56/100 -> 1601.7264 | AD37: =AD17*Annual!$I56/100 -> 1738.9324 | AE37: =AE17*Annual!$I56/100 -> 1769.9672 | AF37: =AF17*Annual!$I56/100 -> 1780.2577 | AG37: =AG17*Annual!$I56/100 -> 1776.0109 | AH37: =AH17*Annual!$J56/100 -> 1921.3034 | AI37: =AI17*Annual!$J56/100 -> 1969.6586 | AJ37: =AJ17*Annual!$J56/100 -> 1989.5888 | AK37: =AK17*Annual!$J56/100 -> 2035.0035 | AL37: =AL17*Annual!$K56/100 -> 2182.1648 | AM37: =AM17*Annual!$K56/100 -> 2148.3416 | AN37: =AN17*Annual!$K56/100 -> 2148.6684 | AO37: =AO17*Annual!$K56/100 -> 2226.6087 | AP37: =AP17*Annual!$L56/100 -> 2323.7041 | AQ37: =AQ17*Annual!$L56/100 -> 2320.1239 | AR37: =AR17*Annual!$L56/100 -> 2338.8386 | AS37: =AS17*Annual!$L56/100 -> 2365.8527 | AT37: =AT17*Annual!$M56/100 -> 2552.0192 | AU37: =AU17*Annual!$M56/100 -> 2579.5437 | AV37: =AV17*Annual!$M56/100 -> 2599.8694 | AW37: =AW17*Annual!$M56/100 -> 2641.042 | AX37: =AX17*Annual!$N56/100 -> 2847.1632 | AY37: =AY17*Annual!$N56/100 -> 2892.7436 | AZ37: =AZ17*Annual!$N56/100 -> 2906.7271 | BA37: =BA17*Annual!$N56/100 -> 2978.1906 | BB37: =BB17*Annual!$O56/100 -> 3136.327 | BC37: =BC17*Annual!$O56/100 -> 3149.4928 | BD37: =BD17*Annual!$O56/100 -> 3184.7803 | BE37: =BE17*Annual!$O56/100 -> 3226.5531 | BF37: =BF17*Annual!P56/100 -> 3410.6419 | BG37: =BG17*Annual!P56/100 -> 3432.7689 | BH37: =BH17*Annual!P56/100 -> 3503.5098 | BI37: =BI17*Annual!P56/100 -> 3506.5584 | BJ37: =BJ17*Annual!Q56/100 -> 3689.4599 | BK37: =BK17*Annual!Q56/100 -> 3716.5666 | BL37: =BL17*Annual!Q56/100 -> 3788.8509 | BM37: =BM17*Annual!Q56/100 -> 3817.4361 | BN37: =BN17*Annual!$R56/100 -> 4029.3236 | BO37: =BO17*Annual!$R56/100 -> 4037.5477 | BP37: =BP17*Annual!$R56/100 -> 4156.7974 | BQ37: =BQ17*Annual!$R56/100 -> 4132.9475 | BR37: =BR17*Annual!$S56/100 -> 4311.3747 | BS37: =BS17*Annual!$S56/100 -> 4308.4105 | BT37: =BT17*Annual!$S56/100 -> 4411.3367 | BU37: =BU17*Annual!$S56/100 -> 4378.2356 | BV37: =BV17*Annual!$T56/100 -> 4584.8646 | BW37: =BW17*Annual!$T56/100 -> 4548.6304
A38: General government services | B38: =B18*Annual!$B57/100 -> 2411.5293 | C38: =C18*Annual!$B57/100 -> 2448.5415 | D38: =D18*Annual!$B57/100 -> 2472.9886 | E38: =E18*Annual!$B57/100 -> 2503.3086 | F38: =F18*Annual!$C57/100 -> 2791.302 | G38: =G18*Annual!$C57/100 -> 3024.2263 | H38: =H18*Annual!$C57/100 -> 3064.5882 | I38: =I18*Annual!$C57/100 -> 3119.5166 | J38: =J18*Annual!$D57/100 -> 3167.8942 | K38: =K18*Annual!$D57/100 -> 3197.7825 | L38: =L18*Annual!$D57/100 -> 3276.8116 | M38: =M18*Annual!$D57/100 -> 3338.2038 | N38: =N18*Annual!$E57/100 -> 3532.5547 | O38: =O18*Annual!$E57/100 -> 3568.6379 | P38: =P18*Annual!$E57/100 -> 3585.7808 | Q38: =Q18*Annual!$E57/100 -> 3625.5967 | R38: =R18*Annual!$F57/100 -> 3640.3821 | S38: =S18*Annual!$F57/100 -> 3675.3741 | T38: =T18*Annual!$F57/100 -> 3685.7371 | U38: =U18*Annual!$F57/100 -> 3721.8058 | V38: =V18*Annual!$G57/100 -> 3904.4233 | W38: =W18*Annual!$G57/100 -> 3908.4867 | X38: =X18*Annual!$G57/100 -> 3955.6226 | Y38: =Y18*Annual!$G57/100 -> 4003.9776 | Z38: =Z18*Annual!H57/100 -> 4252.9952 | AA38: =AA18*Annual!H57/100 -> 4234.2274 | AB38: =AB18*Annual!H57/100 -> 4260.5852 | AC38: =AC18*Annual!H57/100 -> 4323.2368 | AD38: =AD18*Annual!$I57/100 -> 4596.5287 | AE38: =AE18*Annual!$I57/100 -> 4637.5298 | AF38: =AF18*Annual!$I57/100 -> 4836.8943 | AG38: =AG18*Annual!$I57/100 -> 4641.5198 | AH38: =AH18*Annual!$J57/100 -> 5067.7181 | AI38: =AI18*Annual!$J57/100 -> 5156.3805 | AJ38: =AJ18*Annual!$J57/100 -> 5207.0057 | AK38: =AK18*Annual!$J57/100 -> 5234.7812 | AL38: =AL18*Annual!$K57/100 -> 5691.1666 | AM38: =AM18*Annual!$K57/100 -> 5619.3228 | AN38: =AN18*Annual!$K57/100 -> 5503.3932 | AO38: =AO18*Annual!$K57/100 -> 5812.4029 | AP38: =AP18*Annual!$L57/100 -> 6045.5252 | AQ38: =AQ18*Annual!$L57/100 -> 6059.2938 | AR38: =AR18*Annual!$L57/100 -> 6205.5686 | AS38: =AS18*Annual!$L57/100 -> 6468.3998 | AT38: =AT18*Annual!$M57/100 -> 6645.3738 | AU38: =AU18*Annual!$M57/100 -> 6237.4105 | AV38: =AV18*Annual!$M57/100 -> 7054.1543 | AW38: =AW18*Annual!$M57/100 -> 7304.6533 | AX38: =AX18*Annual!$N57/100 -> 7248.4548 | AY38: =AY18*Annual!$N57/100 -> 7320.6446 | AZ38: =AZ18*Annual!$N57/100 -> 7857.9058 | BA38: =BA18*Annual!$N57/100 -> 8307.5568 | BB38: =BB18*Annual!$O57/100 -> 8092.8608 | BC38: =BC18*Annual!$O57/100 -> 8283.5228 | BD38: =BD18*Annual!$O57/100 -> 8943.8542 | BE38: =BE18*Annual!$O57/100 -> 9274.7732 | BF38: =BF18*Annual!P57/100 -> 9520.0327 | BG38: =BG18*Annual!P57/100 -> 9698.2313 | BH38: =BH18*Annual!P57/100 -> 9976.924 | BI38: =BI18*Annual!P57/100 -> 11805.862 | BJ38: =BJ18*Annual!Q57/100 -> 11507.631 | BK38: =BK18*Annual!Q57/100 -> 11156.03 | BL38: =BL18*Annual!Q57/100 -> 12030.905 | BM38: =BM18*Annual!Q57/100 -> 12811.414 | BN38: =BN18*Annual!$S57/100 -> 12474.781 | BO38: =BO18*Annual!$S57/100 -> 12983.329 | BP38: =BP18*Annual!$S57/100 -> 13574.303 | BQ38: =BQ18*Annual!$S57/100 -> 13251.455 | BR38: =BR18*Annual!$S57/100 -> 13667.565 | BS38: =BS18*Annual!$S57/100 -> 13769.878 | BT38: =BT18*Annual!$S57/100 -> 14652.842 | BU38: =BU18*Annual!$S57/100 -> 14984.33 | BV38: =BV18*Annual!$T57/100 -> 14610.802 | BW38: =BW18*Annual!$T57/100 -> 15442.598
A39: =A21 -> SA - Annual Compensation of Employees | B39: =B33+B29+B26 -> 10656.817 | C39: =C33+C29+C26 -> 11025.921 | D39: =D33+D29+D26 -> 11416.688 | E39: =E33+E29+E26 -> 12270.091 | F39: =F33+F29+F26 -> 11959.242 | G39: =G33+G29+G26 -> 12443.544 | H39: =H33+H29+H26 -> 12846.321 | I39: =I33+I29+I26 -> 13625.288 | ... BW39: =BW33+BW29+BW26 -> 60228.489
A41: KZN - Annual Compensation of Employees | B41: =B39+B40 -> 10656.817 | C41: =C39+C40 -> 11025.921 | D41: =D39+D40 -> 11416.688 | E41: =E39+E40 -> 12270.091 | F41: =F39+F40 -> 11959.242 | G41: =G39+G40 -> 12443.544 | H41: =H39+H40 -> 12846.321 | I41: =I39+I40 -> 13625.288 | ... BW41: =BW39+BW40 -> 60228.489
A43: =A3 -> SA – Annual Compensation of Employees
A44: Quarterly Change
A45: National Industry | B45: =B25 -> 1995q1 | C45: =C25 -> 1995q2 | D45: =D25 -> 1995q3 | E45: =E25 -> 1995q4 | F45: =F25 -> 1996q1 | G45: =G25 -> 1996q2 | H45: =H25 -> 1996q3 | I45: =I25 -> 1996q4 | ... BW45: =BW25 -> 2013q2
...

Sheet Growth Rates Annual
A1: Year-on-Year Growth Rates per Sector
B2: Primary Industries | C2: Agriculture, forestry and fishing | D2: Mining and quarrying | E2: Secondary Industries | F2: Manufacturing | G2: Electricity, gas and water | H2: Construction | I2: Tertiary industries | J2: Wholesale & retail trade; hotels & restaurants | K2: Transport , storage and communication | L2: Finance, real estate and business services | M2: Personal services | N2: General government services | O2: All industries at basic prices | P2: Taxes less subsidies on products | Q2: Annual Compensation of Employees
A3: 1996 | B3: 15.755921 | C3: 1.1641151 | D3: 51.959476 | E3: 6.7647282 | F3: 6.5278801 | G3: 23.671088 | H3: 0.79365398 | I3: 14.585266 | J3: 7.1755661 | K3: 11.807211 | L3: 12.642246 | M3: 12.007437 | N3: 21.992519 | O3: 12.133344 | P3: #DIV/0! | Q3: 12.133344
A4: =A3+1 -> 1997 | B4: 7.3551488 | C4: 5.8585851 | D4: 9.8270784 | E4: 6.6128379 | F4: 5.8976935 | G4: 8.776475 | H4: 9.9957461 | I4: 9.9747668 | J4: 9.8388407 | K4: 6.7964294 | L4: 15.311532 | M4: 14.741211 | N4: 8.1757419 | O4: 8.7742896 | P4: #DIV/0! | Q4: 8.7742896
A5: =A4+1 -> 1998 | B5: 14.054794 | C5: 19.633549 | D5: 5.17312 | E5: 10.078041 | F5: 13.279429 | G5: 1.1184558 | H5: -4.7508619 | I5: 10.099753 | J5: 8.861636 | K5: 6.9458018 | L5: 15.666631 | M5: 9.4751352 | N5: 10.260455 | O5: 10.342446 | P5: #DIV/0! | Q5: 10.342446
A6: =A5+1 -> 1999 | B6: -8.4431153 | C6: -2.8224526 | D6: -18.621838 | E6: 5.5077988 | F6: 5.9414078 | G6: 16.055562 | H6: -3.5899795 | I6: 8.3534797 | J6: 17.7566 | K6: 2.970158 | L6: 13.241087 | M6: 11.923858 | N6: 2.8697069 | O6: 6.4042784 | P6: #DIV/0! | Q6: 6.4042784
