Workbook

Sheet Cover Page 
D6: National Government Financial Position
D7: KZN Population Estimates | L7: SUMMARY PAGE
D8: Manufacturing
D9: Retail and Trade
D10: Monetary Indicators | L10: Click on the Variable Links to view Data and Statistics
D11: Trade Statistics
D12: Labour Force Characteristics by Province (KZN) | L12: Clink on to view cover page
D13: Credit extended to the domestic private sector
D14: Credit extended to the domestic private sector - Year-on-Year Change
D15: Credit extended to the domestic private sector - Month-on-Month Change
D16: Economic Surveys
D17: Civil Cases Recorded and Summonses Issued for Debt
D18: KZN - Consumer Price Index Reclassified (Base 2008 = 100)
D19: Electricity generated and available for distribution - Gigawatt-hours
D20: Cementitious Sales
D21: House prices
D22: Building Plans Approved - Residential (KZN)
D23: Building Plans Approved - Commercial and Industrial (KZN)

Sheet Summary page
A1: SUMMARY PAGE
A4: Provincial Population Size by Age Cohort
A28: National Industrial Production - Year-on-Year %
A55: National Retail Sales - Year-on-Year %
A84: Inflation and Interest Rates - %
A111: Provincial Unemployment
B113: Population of working age (15–64 years) | C113: Labour Force | D113: Employed | E113: Unemployed | F113: Not Economically Active | G113: Discourage Work Seekers
A114: Q1 2008 | B114: 6250000 | C114: =SUM(D114:E114) -> 3315000 | D114: 2562000 | E114: 753000 | F114: =B114-D114-E114 -> 2935000 | G114: 183000
A115: Q2 2008 | B115: 6273000 | C115: =SUM(D115:E115) -> 3359000 | D115: 2614000 | E115: 745000 | F115: =B115-D115-E115 -> 2914000 | G115: 167000
A116: Q3 2008 | B116: 6295000 | C116: =SUM(D116:E116) -> 3312000 | D116: 2583000 | E116: 729000 | F116: =B116-D116-E116 -> 2983000 | G116: 186000
A117: Q4 2008 | B117: 6318000 | C117: 3321000 | D117: 2631000 | E117: 690000 | F117: =B117-D117-E117 -> 2997000 | G117: 224000
A118: Q1 2009 | B118: 6340000 | C118: 3248000 | D118: 2514000 | E118: 733000 | F118: =B118-D118-E118 -> 3093000 | G118: 271000
A119: Q2 2009 | B119: 6362000 | C119: 3043000 | D119: 2457000 | E119: 586000 | F119: 3319000 | G119: 448000
A141: National Credit Extended to the Private Sector - Year-on-Year %
A168: Civil Cases for Debt - Year-on-Year %
A197: Electricity Distribution - Year-on-Year %
A227: Expansion of Economic Space in the Province
A286: Provincial Inflation per Item
A327: National Business Confidence - Index
A360: =Inflation!A79 -> 40210
A362: (R'000) | C362: 2009/10. | I362: 2008/09.
C363: Budget estimate | D363: April | E363: May | F363: June | G363: July | H363: Year To Date | I363: Preliminary outcome | J363: =H363 -> Year To Date
A365: Revenue | C365: 642990150 | D365: 24300741 | E365: 32435284 | F365: 65574859 | G365: 34978288 | H365: =SUM(D365:G365) -> 157289172 | I365: 608347998 | J365: 174111002
A367: Expenditure | C367: =C369+C371+C378 -> 738562766 | D367: =D369+D371+D378 -> 61667077 | E367: =E369+E371+E378 -> 52349208 | F367: =F369+F371+F378 -> 66052175 | G367: =G369+G371+G378 -> 66614468 | H367: =H369+H371+H378 -> 246682928 | I367: =I369+I371+I378 -> 635636199 | J367: 193080773
B369: Appropriation by vote | C369: 429643150 | D369: 38846083 | E369: 30230480 | F369: 37791888 | G369: 42630424 | H369: =SUM(D369:G369) -> 149498875 | I369: 368088226 | J369: 110706537
B371: Direct charges against National Revenue Fund | C371: =SUM(C373:C376) -> 302919616 | D371: =SUM(D373:D376) -> 22820994 | E371: =SUM(E373:E376) -> 22118728 | F371: =SUM(F373:F376) -> 28260287 | G371: =SUM(G373:G376) -> 23984044 | H371: =SUM(D371:G371) -> 97184053 | I371: =SUM(I373:I376) -> 267547973 | J371: 82374236
B373: State Debt Costs | C373: 55268000 | D373: 1893082 | E373: 1668775 | F373: 8766455 | G373: 3081896 | H373: =SUM(D373:G373) -> 15410208 | I373: 54393684 | J373: 13142097
B374: Provincial Equitable Share | C374: 231050881 | D374: 20101427 | E374: 19639326 | F374: 18715121 | G374: 20101427 | H374: =SUM(D374:G374) -> 78557301 | I374: 204009924 | J374: 66459003
B375: General Fuel Levy sharing with Metros | C375: 6800104
B376: Other | C376: 9800631 | D376: 826485 | E376: 810627 | F376: 778711 | G376: 800721 | H376: =SUM(D376:G376) -> 3216544 | I376: 9144365 | J376: 2773136
B378: Contingency Reserve | C378: 6000000
A380: Budget Deficit/Surplus | C380: =C365-C367 -> -95572616 | D380: =D365-D367 -> -37366336 | E380: =E365-E367 -> -19913924 | F380: =F365-F367 -> -477316 | G380: =G365-G367 -> -31636180 | H380: =SUM(D380:G380) -> -89393756 | I380: =I365-I367 -> -27288201 | J380: =J365-J367 -> -18969771
B382: Extraordinary Receipts | C382: 6100000 | D382: 85 | E382: 269470 | F382: 3941127 | G382: 650164 | H382: =SUM(D382:G382) -> 4860846 | I382: 8203424 | J382: 1705201
B384: Extraordinary Payments | C384: 900000 | F384: 20270 | G384: 48999 | H384: =SUM(D384:G384) -> 69269 | I384: 4284094 | J384: 152689
A386: Net Borrowing Requirement | C386: =C365-C367+C382-C384 -> -90372616 | D386: =D365-D367+D382-D384 -> -37366251 | E386: =E365-E367+E382-E384 -> -19644454 | F386: =F365-F367+F382-F384 -> 3443541 | G386: =G365-G367+G382-G384 -> -31035015 | H386: =SUM(D386:G386) -> -84602179 | I386: =I365-I367+I382-I384 -> -23368871 | J386: =J365-J367+J382-J384 -> -17417259
A389: Financing of the Net Borrowing Requirement
A391: Domestic Short Term Loans (net) | C391: 15400000 | D391: 7336278 | E391: 10011803 | F391: 8812057 | G391: 1229482 | H391: =SUM(D391:G391) -> 27389620 | I391: 12225111 | J391: 7258154
A393: Domestic Long Terms Loans (net) | C393: 61521800 | D393: 9014812 | E393: 7916315 | F393: 7343895 | G393: 10721849 | H393: =SUM(D393:G393) -> 34996871 | I393: 23059005 | J393: 8851530
A395: Foreign Loans (net) | C395: 3836800 | D395: -796355 | E395: 6849714 | F395: -80222 | G395: -407091 | H395: =SUM(D395:G395) -> 5566046 | I395: -3954404 | J395: -4464573
A397: Change in cash and other balances ( - increase) | C397: 9614016 | D397: 21811516 | E397: -5133378 | F397: -19519271 | G397: 19490775 | H397: =SUM(D397:G397) -> 16649642 | I397: -7960841 | J397: 5772148
...

Sheet KZN Population
B1: Medium mid-year population estimates by year | C1: Year-on-Year | D1: Change in Year-on-Year | G1: Age Cohort | H1: 2002 | I1: 2013 | J1: Cumulative Change
A3: 2001 | B3: 9557165 | G3: 0-4 | H3: 1145046.9 | I3: 1171913.1 | J3: =(I3-H3)/H3*100 -> 2.3462953
A4: 2002 | B4: 9659485 | C4: =(B4-B3)/B3*100 -> 1.0706104 | D4: 0 | G4: 5-9. | H4: 1170285.4 | I4: 1139041.9 | J4: =(I4-H4)/H4*100 -> -2.6697326
A5: 2003 | B5: 9752211 | C5: =(B5-B4)/B4*100 -> 0.95994766 | D5: =C5-C4 -> -0.11066272 | G5: 10-14. | H5: 1089100.8 | I5: 1108408.2 | J5: =(I5-H5)/H5*100 -> 1.7727773
A6: 2004 | B6: 9835710 | C6: =(B6-B5)/B5*100 -> 0.85620584 | D6: =C6-C5 -> -0.10374182 | G6: 15-19 | H6: 1021634.9 | I6: 1110449.9 | J6: =(I6-H6)/H6*100 -> 8.6934229
A7: 2005 | B7: 9910636 | C7: =(B7-B6)/B6*100 -> 0.7617752 | D7: =C7-C6 -> -0.094430634 | G7: 20-24 | H7: 918057.56 | I7: 1025367.1 | J7: =(I7-H7)/H7*100 -> 11.688758
A8: 2006 | B8: 9974344 | C8: =(B8-B7)/B7*100 -> 0.64282454 | D8: =C8-C7 -> -0.11895067 | G8: 25-29 | H8: 827720.64 | I8: 925927.13 | J8: =(I8-H8)/H8*100 -> 11.864691
A9: 2007 | B9: 10045594 | C9: =(B9-B8)/B8*100 -> 0.71433269 | D9: =C9-C8 -> 0.071508155 | G9: 30-34 | H9: 645983.31 | I9: 814076.99 | J9: =(I9-H9)/H9*100 -> 26.021365
A10: 2008 | B10: 10105436 | C10: =(B10-B9)/B9*100 -> 0.59570395 | D10: =C10-C9 -> -0.11862874 | G10: 35-39 | H10: 528731.73 | I10: 682196.64 | J10: =(I10-H10)/H10*100 -> 29.0251
A11: 2009 | B11: 10449300 | C11: =(B11-B10)/B10*100 -> 3.4027626 | D11: =C11-C10 -> 2.8070587 | G11: 40-44 | H11: 463125.91 | I11: 551103.98 | J11: =(I11-H11)/H11*100 -> 18.996577
A12: 2010 | B12: 10645400 | C12: =(B12-B11)/B11*100 -> 1.8766807 | D12: =C12-C11 -> -1.5260819 | G12: 45-49 | H12: 376947.15 | I12: 434380.19 | J12: =(I12-H12)/H12*100 -> 15.236364
A13: 2011 | B13: 10819130 | C13: =(B13-B12)/B12*100 -> 1.6319725 | D13: =C13-C12 -> -0.24470824 | G13: 50-54 | H13: 324416.96 | I13: 393177.85 | J13: =(I13-H13)/H13*100 -> 21.19522
A14: 2012 | B14: 10267300 | C14: =(B14-B13)/B13*100 -> -5.1005025 | D14: =C14-C13 -> -6.732475 | G14: 55-59 | H14: 254803.46 | I14: 318384.17 | J14: =(I14-H14)/H14*100 -> 24.952844
A15: 2013 | B15: 10456900 | C15: =(B15-B14)/B14*100 -> 1.8466393 | D15: =C15-C14 -> 6.9471419 | G15: 60-64 | H15: 197194.72 | I15: 259125.66 | J15: =(I15-H15)/H15*100 -> 31.405981
G16: 65-69 | H16: 154317.97 | I16: 215189.16 | J16: =(I16-H16)/H16*100 -> 39.445306
A17: Average | B17: =AVERAGE(B3:B15) -> 10113739 | C17: =AVERAGE(C4:C15) -> 0.77157941 | D17: =AVERAGE(D5:D15) -> 0.070548087 | G17: 70-74 | H17: 106574.13 | I17: 146969.88 | J17: =(I17-H17)/H17*100 -> 37.903893
A18: Median | B18: =MEDIAN(B3:B15) -> 10045594 | C18: =MEDIAN(C4:C15) -> 0.90807675 | D18: =MEDIAN(D5:D15) -> -0.11066272 | G18: 75-79 | H18: 62354.825 | I18: 93736.487 | J18: =(I18-H18)/H18*100 -> 50.327561
A19: St Dev | B19: =STDEV(B3:B15) -> 389839.7 | C19: =STDEV(C4:C15) -> 2.0159522 | D19: =STDEV(D5:D15) -> 3.2228543 | G19: 80+ | H19: 39794.95 | I19: 67459.101 | J19: =(I19-H19)/H19*100 -> 69.516737
A20: Range | B20: =MAX(B3:B15)-MIN(B3:B12) -> 1261965 | C20: =MAX(C4:C15)-MIN(C4:C12) -> 2.8070587 | D20: =MAX(D5:D15)-MIN(D5:D12) -> 8.4732238

Sheet National Government
B1: NATIONAL REVENUE, EXPENDITURE AND BORROWING - YTD
B3: (R'000) | D3: 2009/10. | S3: 2008/09.
D4: Budget Estimate | E4: Revised Estimate | F4: April | G4: May | H4: June | I4: July | J4: Aug | K4: Sep | L4: Oct | M4: Nov | N4: Dec | O4: Jan | P4: Feb | Q4: Mar | R4: Year To Date | S4: Prelimanary outcome | T4: =R4 -> Year To Date
V5: Decrease in Revenue | W5: =(R6-T6)/T6*100 -> -4.7240538
B6: Revenue | D6: 642990150 | E6: 570935394 | F6: 24300741 | G6: 32435284 | H6: 65574859 | I6: 34978288 | J6: 45333126 | K6: 58825063 | L6: 35718501 | M6: 40151274 | N6: 74163382 | O6: 39764075 | P6: 58568534 | Q6: 70210452 | R6: =SUM(F6:Q6) -> 580023579 | S6: 608347998 | T6: 608782806 | V6: Cumulative Revenue | W6: =R6/12*12 -> 580023579
V7: Cumulative Revenue Shortage | W7: =D6-W6 -> 62966571
B8: Expenditure | D8: =D10+D12+D19 -> 738562766 | E8: =E10+E12+E19 -> 752522894 | F8: =F10+F12+F19 -> 61667077 | G8: =G10+G12+G19 -> 52349208 | H8: =H10+H12+H19 -> 66052175 | I8: =I10+I12+I19 -> 66614468 | J8: =J10+J12+J19 -> 53886090 | K8: =K10+K12+K19 -> 67381632 | ... Q8: =Q10+Q12+Q19 -> 81136433 | R8: =SUM(F8:Q8) -> 746828443 | S8: =S10+S12+S19 -> 635636199 | T8: =T10+T12+T19 -> 635796335
V9: Change in Total Expenditure | W9: =(R8-T8)/T8*100 -> 17.463471
C10: Appropraition by vote | D10: 429643150 | E10: 438881102 | F10: 38846083 | G10: 30230480 | H10: 37791888 | I10: 42630424 | J10: 31198699 | K10: 37395695 | L10: 33365721 | M10: 37712077 | N10: 37322945 | O10: 26944233 | P10: 32946403 | Q10: 46642729 | R10: =SUM(F10:Q10) -> 433027377 | S10: 368088226 | T10: 368241460
C12: Direct charges against National Revenue Fund | D12: =SUM(D14:D17) -> 302919616 | E12: =SUM(E14:E17) -> 316641792 | F12: =SUM(F14:F17) -> 22820994 | G12: =SUM(G14:G17) -> 22118728 | H12: =SUM(H14:H17) -> 28260287 | I12: =SUM(I14:I17) -> 23984044 | J12: =SUM(J14:J17) -> 22687391 | K12: =SUM(K14:K17) -> 29985937 | ... Q12: =SUM(Q14:Q17) -> 34493704 | R12: =SUM(F12:Q12) -> 313801066 | S12: =SUM(S14:S17) -> 267547973 | T12: =SUM(T14:T17) -> 267554875 | V12: Change in Equitable Share | W12: =(R15-T15)/T15*100 -> 17.663934
C14: State Debt Costs | D14: 55268000 | E14: 59994954 | F14: 1893082 | G14: 1668775 | H14: 8766455 | I14: 3081896 | J14: 3188956 | K14: 9625403 | L14: 1282096 | M14: 1452993 | N14: 9499552 | O14: 3261558 | P14: 2405148 | Q14: 10861645 | R14: =SUM(F14:Q14) -> 56987559 | S14: 54393684 | T14: 54393684 | V14: Cumulative Equitable Share | W14: =R15/12*12 -> 240046103
C15: Provincial Equitable Share | D15: 231050881 | E15: 240046103 | F15: 20101427 | G15: 19639326 | H15: 18715121 | I15: 20101427 | J15: 18715121 | K15: 19408275 | L15: 22370377 | M15: 22139326 | N15: 17927219 | O15: 21731685 | P15: 19251824 | Q15: 19944975 | R15: =SUM(F15:Q15) -> 240046103 | S15: 204009924 | T15: 204009924 | V15: Cumulative Equitable Shortage | W15: =W14-D15 -> 8995222
C16: General Fuel Levy sharing with Metros | D16: 6800104 | E16: 6800104 | K16: 153731 | M16: 1526390 | N16: 2266701 | Q16: 2853282 | R16: =SUM(F16:Q16) -> 6800104
C17: Other | D17: 9800631 | E17: 9800631 | F17: 826485 | G17: 810627 | H17: 778711 | I17: 800721 | J17: 783314 | K17: 798528 | L17: 839912 | M17: 826182 | N17: 855858 | O17: 891227 | P17: 921933 | Q17: 833802 | R17: =SUM(F17:Q17) -> 9967300 | S17: 9144365 | T17: 9151267
C19: Contingency Reserve | D19: 6000000 | E19: -3000000
B21: Budget Deficit/Surplus | D21: =D6-D8 -> -95572616 | E21: =E6-E8 -> -181587500 | F21: =F6-F8 -> -37366336 | G21: =G6-G8 -> -19913924 | H21: =H6-H8 -> -477316 | I21: =I6-I8 -> -31636180 | J21: =J6-J8 -> -8552964 | K21: =K6-K8 -> -8556569 | ... Q21: =Q6-Q8 -> -10925981 | R21: =SUM(F21:Q21) -> -166804864 | S21: =S6-S8 -> -27288201 | T21: =T6-T8 -> -27013529
C23: Extraordinary Receipts | D23: 6100000 | E23: 6297000 | F23: 85 | G23: 269470 | H23: 3941127 | I23: 650164 | J23: 151953 | K23: 419035 | L23: 150335 | M23: 100663 | N23: 278308 | O23: 143 | P23: 283333 | Q23: 190032 | R23: =SUM(F23:Q23) -> 6434648 | S23: 8203424 | T23: 8203424
C25: Extraordinary Payments | D25: -900000 | E25: -553000 | H25: -20270 | I25: -48999 | J25: -15127 | K25: -28839 | L25: -368071 | M25: -85773 | N25: -79902 | O25: -13534 | P25: -422 | Q25: -10276 | R25: =SUM(F25:Q25) -> -671213 | S25: -4284094 | T25: 4284094
V26: Increase in Defecit | W26: =(R27+T27)/T27*100 -> 797.32416
B27: Net Borrowing Requirement | D27: =D21+D23+D25 -> -90372616 | E27: =E21+E23+E25 -> -175843500 | F27: =F21+F23+F25 -> -37366251 | G27: =G21+G23+G25 -> -19644454 | H27: =H21+H23+H25 -> 3443541 | I27: =I21+I23+I25 -> -31035015 | J27: =J21+J23+J25 -> -8416138 | K27: =K21+K23+K25 -> -8166373 | ... Q27: =Q21+Q23+Q25 -> -10746225 | R27: =SUM(F27:Q27) -> -161041429 | S27: =S21+S23+S25 -> -23368871 | T27: =T6-T8+T23-T25 -> -23094199 | V27: YTD as a % of Total Budgeted | W27: =R27/D27*100 -> 178.19715
V28: Cumulative Borrowing | W28: =R27/12*-12 -> 161041429
V29: Cumulative Borrowing Shortage | W29: =W28+D27 -> 70668813
B30: Financing of the Net Borrowing Requirement
B32: Domestic Short Term Loans (net) | D32: 15400000 | E32: 49700000 | F32: 7336278 | G32: 10011803 | H32: 8812057 | I32: 1229482 | J32: 4533046 | K32: 11395449 | L32: 905258 | M32: 2015884 | N32: 827286 | O32: 3115342 | P32: -3409987 | Q32: 2998413 | R32: =SUM(F32:Q32) -> 49770311 | S32: 12225111 | T32: 12225111 | V32: YTD as a % of Total Budgeted | W32: =R32/D32*100 -> 323.18384
B34: Domestic Long Terms Loans (net) | D34: 61521800 | E34: 115828654 | F34: 9014812 | G34: 7916315 | H34: 7343895 | I34: 10721849 | J34: -1953249 | K34: 13597924 | L34: 14059800 | M34: 13031838 | N34: 9478928 | O34: 9227746 | P34: 12774616 | Q34: 13641251 | R34: =SUM(F34:Q34) -> 118855725 | S34: 23059005 | T34: 23059005 | V34: YTD as a % of Total Budgeted | W34: =R34/D34*100 -> 193.19286
B36: Foreign Loans (net) | D36: 3836800 | E36: 11456835 | F36: -796355 | G36: 6849714 | H36: -80222 | I36: -407091 | J36: -47071 | K36: 3802418 | L36: -736000 | M36: -197729 | N36: 551706 | O36: -445379 | P36: -38885 | Q36: 14802463 | R36: =SUM(F36:Q36) -> 23257569 | S36: -3954404 | T36: -3954404 | V36: YTD as a % of Total Budgeted | W36: =R36/D36*100 -> 606.171
B38: Change in cash and other balances ( - increase) | D38: 9614016 | E38: -1141989 | F38: 21811516 | G38: -5133378 | H38: -19519271 | I38: 19490775 | J38: 5883412 | K38: -20629418 | L38: 8128283 | M38: 8640811 | N38: -17347433 | O38: 1180310 | P38: -12651881 | Q38: -20695902 | R38: =SUM(F38:Q38) -> -30842176 | S38: -7960841 | T38: -8235513 | V38: YTD as a % of Total Budgeted | W38: =R38/D38*100 -> -320.80429
B40: Total Financing (net) | D40: =SUM(D32:D38) -> 90372616 | E40: =SUM(E32:E38) -> 175843500 | F40: =SUM(F32:F38) -> 37366251 | G40: =SUM(G32:G38) -> 19644454 | H40: =SUM(H32:H38) -> -3443541 | I40: =SUM(I32:I38) -> 31035015 | J40: =SUM(J32:J38) -> 8416138 | K40: =SUM(K32:K38) -> 8166373 | ... T40: =SUM(T32:T38) -> 23094199 | V40: YTD as a % of Total Budgeted | W40: =R40/D40*100 -> 178.19715
B42: =D3 -> 2009/10.
B43: SA GDP | C43: 1.7888699e+12
B44: Constant 2005 prices
B45: Deficit as a % of GDP
C46: =R40*1000/C43*100 -> 9.0024113
B48: (R'000) | D48: 2010/11. | S48: =D3 -> 2009/10.
D49: Budget Estimate | E49: Revised Estimate | F49: April | G49: May | H49: June | I49: July | J49: Aug | K49: Sep | L49: Oct | M49: Nov | N49: Dec | O49: Jan | P49: Feb | Q49: Mar | R49: Year To Date | S49: Prelimanary outcome | T49: =R49 -> Year To Date
V50: Increase in Revenue | W50: =(R51-T51)/T51*100 -> 15.406494
B51: Revenue | D51: 643239001 | E51: 673559175 | F51: 37006775 | G51: 38526421 | H51: 74652497 | I51: 43188235 | J51: 54060349 | K51: 56450912 | L51: 41014307 | M51: 43562059 | N51: 83242116 | O51: 47934349 | P51: 64550108 | Q51: 84807072 | R51: =SUM(F51:Q51) -> 668995200 | S51: 580023579 | T51: 579685922 | V51: Cumulative Revenue | W51: =R51/12*12 -> 668995200
V52: Cumulative Revenue Shortage | W52: =D51-W51 -> -25756199
B53: Expenditure | D53: =D55+D57+D64 -> 818142943 | E53: =E55+E57+E64 -> 815678638 | F53: =F55+F57+F64 -> 62148799 | G53: =G55+G57+G64 -> 59384116 | H53: =H55+H57+H64 -> 65726819 | I53: =I55+I57+I64 -> 74868153 | J53: =J55+J57+J64 -> 63470501 | K53: =K55+K57+K64 -> 68875340 | ... Q53: =Q55+Q57+Q64 -> 89684288 | R53: =SUM(F53:Q53) -> 805619000 | S53: =S55+S57 -> 746831441 | T53: =T55+T57 -> 747273579
V54: Change in Total Expenditure | W54: =(R53-T53)/T53*100 -> 7.8077725
...

Sheet Manufacturing
A1: Manufacturing
B3: Indices of Physical Volume Production | C3: Value of IP Sales
B4: 2005=100 | C4: Seasonally adjus, R1000
A6: 35796 | B6: 76.9 | C6: 40276088
A7: 35827 | B7: 87.3 | C7: 39494290
A8: 35855 | B8: 88.4 | C8: 39779879
A9: 35886 | B9: 82.7 | C9: 40837325
A10: 35916 | B10: 87.1 | C10: 39204839
A11: 35947 | B11: 89.6 | C11: 40226963
A12: 35977 | B12: 89.8 | C12: 41053694
A13: 36008 | B13: 85.9 | C13: 39012908
A14: 36039 | B14: 91.9 | C14: 41059985
A15: 36069 | B15: 95.7 | C15: 40422982
A16: 36100 | B16: 94.5 | C16: 39850547
A17: 36130 | B17: 72.7 | C17: 40663405
... A191: 41438 | B191: 104.9 | C191: 133933876
A193: Average 1998 | B193: =AVERAGE(B6:B17) -> 86.875 | C193: =AVERAGE(C6:C17) -> 40156909
A194: Average 1999 | B194: =AVERAGE(B18:B29) -> 86.433333 | C194: =AVERAGE(C18:C29) -> 42624745
A195: Average 2000 | B195: =AVERAGE(B30:B41) -> 89.566667 | C195: =AVERAGE(C30:C41) -> 48139255
A196: Average 2001 | B196: =AVERAGE(B42:B53) -> 91.466667 | C196: =AVERAGE(C42:C53) -> 54007773
A197: Average 2002 | B197: =AVERAGE(B54:B65) -> 95.341667 | C197: =AVERAGE(C54:C65) -> 65951376
A198: Average 2003 | B198: =AVERAGE(B66:B77) -> 93.408333 | C198: =AVERAGE(C66:C77) -> 65168852
A199: Average 2004 | B199: =AVERAGE(B78:B89) -> 97.116667 | C199: =AVERAGE(C78:C89) -> 70637872
A200: Average 2005 | B200: =AVERAGE(B90:B101) -> 99.983333 | C200: =AVERAGE(C90:C101) -> 75071374
A201: Average 2006 | B201: =AVERAGE(B102:B113) -> 104.80833 | C201: =AVERAGE(C102:C113) -> 84741793
A202: Average 2007 | B202: =AVERAGE(B115:B125) -> 110.91818 | C202: =AVERAGE(C115:C125) -> 98005032
A203: Average 2008 | B203: =AVERAGE(B126:B137) -> 110.58333 | C203: =AVERAGE(C126:C137) -> 1.1515017e+08
A204: Average 2009 | B204: =AVERAGE(B138:B149) -> 96.275 | C204: =AVERAGE(C138:C149) -> 99394151
A205: Average 2010 | B205: =AVERAGE(B150:B161) -> 100.9 | C205: =AVERAGE(C150:C161) -> 1.0729072e+08
A206: Average 2011 | B206: =AVERAGE(B162:B173) -> 103.45833 | C206: =AVERAGE(C162:C173) -> 1.1722058e+08
A207: Average 2012 | B207: =AVERAGE(B174:B185) -> 105.575 | C207: =AVERAGE(C174:C185) -> 1.2718635e+08
A208: Average 2013 | B208: =AVERAGE(B186:B191) -> 102.45 | C208: =AVERAGE(C186:C191) -> 1.3459406e+08
A210: Year-on-Year 1999 | B210: =(B194-B193)/B193*100 -> -0.50839329 | C210: =(C194/C193-1)*100 -> 6.1454836
A211: Year-on-Year 2000 | B211: =(B195-B194)/B194*100 -> 3.6251446 | C211: =(C195/C194-1)*100 -> 12.937344
A212: Year-on-Year 2001 | B212: =(B196-B195)/B195*100 -> 2.1213249 | C212: =(C196/C195-1)*100 -> 12.190712
A213: Year-on-Year 2002 | B213: =(B197-B196)/B196*100 -> 4.236516 | C213: =(C197/C196-1)*100 -> 22.114601
A214: Year-on-Year 2003 | B214: =(B198-B197)/B197*100 -> -2.0277948 | C214: =(C198/C197-1)*100 -> -1.1865168
A215: Year-on-Year 2004 | B215: =(B199-B198)/B198*100 -> 3.9700241 | C215: =(C199/C198-1)*100 -> 8.3920767
A216: Year-on-Year 2005 | B216: =(B200-B199)/B199*100 -> 2.9517762 | C216: =(C200/C199-1)*100 -> 6.2763811
A217: Year-on-Year 2006 | B217: =(B201-B200)/B200*100 -> 4.8258043 | C217: =(C201/C200-1)*100 -> 12.881633
...

Sheet Retail
A1: RETAIL AND TRADE (SA)
B3: Retail Sales | C3: Motor Trade Sales | D3: Wholesale Trade Sales
A4: (at constant prices) | B4: R million | C4: Seasonally adjus, R million | D4: Seasonally adjus, R million
A6: 35796 | B6: 17027 | C6: 7973 | D6: 26051
A7: 35827 | B7: 15707 | C7: 7862 | D7: 26099
A8: 35855 | B8: 17393 | C8: 7890 | D8: 26606
A9: 35886 | B9: 16979 | C9: 8289 | D9: 26537
A10: 35916 | B10: 17358 | C10: 7727 | D10: 25951
A11: 35947 | B11: 16469 | C11: 7671 | D11: 26449
A12: 35977 | B12: 16675 | C12: 8335 | D12: 27102
A13: 36008 | B13: 16318 | C13: 7536 | D13: 26222
A14: 36039 | B14: 16501 | C14: 7411 | D14: 26632
A15: 36069 | B15: 17236 | C15: 7761 | D15: 26370
A16: 36100 | B16: 17810 | C16: 7771 | D16: 25781
A17: 36130 | B17: 23633 | C17: 7935 | D17: 25786
... A164: 40603 | B164: 41770 | C164: 35326 | D164: 48330
A165: 40634 | B165: 43205 | C165: 34583 | D165: 47643 | E165: 31675 | F165: 33115
A166: 40664 | B166: 41196 | C166: 34611 | D166: 48122
A167: 40695 | B167: 41729 | C167: 35900 | D167: 49560
A168: 40725 | B168: 42876 | C168: 34802 | D168: 47655
A169: 40756 | B169: 42514 | C169: 36268 | D169: 49928
A170: 40787 | B170: 43718 | C170: 38576 | D170: 50723
A171: 40817 | B171: 45484 | C171: 36293 | D171: 49372
A172: 40848 | B172: 47209 | C172: 37801 | D172: 50376
A173: 40878 | B173: 63743 | C173: 36478 | D173: 50754
A174: 40909 | B174: 42424 | C174: 38168 | D174: 52059
A175: 40940 | B175: 41994 | C175: 38784 | D175: 53183
A176: 40969 | B176: 44490 | C176: 38204 | D176: 51570
A177: 41000 | B177: 43712 | C177: 39197 | D177: 52622
... A191: 41438 | B191: 57093 | C191: 42180 | D191: 58015
A193: Average 1998 | B193: =AVERAGE(B6:B17) -> 17425.5 | C193: =AVERAGE(C6:C17) -> 7846.75 | D193: =AVERAGE(D6:D17) -> 26298.833
A194: Average 1999 | B194: =AVERAGE(B18:B29) -> 17237.583 | C194: =AVERAGE(C18:C29) -> 8154.5833 | D194: =AVERAGE(D18:D29) -> 27085.75
A195: Average 2000 | B195: =AVERAGE(B30:B41) -> 17300.667 | C195: =AVERAGE(C30:C41) -> 10719.5 | D195: =AVERAGE(D30:D41) -> 30049.667
A196: Average 2001 | B196: =AVERAGE(B42:B53) -> 17772.833 | C196: =AVERAGE(C42:C53) -> 12432.167 | D196: =AVERAGE(D42:D53) -> 31074.75
A197: Average 2002 | B197: =AVERAGE(B54:B65) -> 27842.333 | C197: =AVERAGE(C54:C65) -> 14848.5 | D197: =AVERAGE(D54:D65) -> 31871.167
A198: Average 2003 | B198: =AVERAGE(B66:B77) -> 29220 | C198: =AVERAGE(C66:C77) -> 16683.667 | D198: =AVERAGE(D66:D77) -> 34191.083
A199: Average 2004 | B199: =AVERAGE(B78:B89) -> 32489.5 | C199: =AVERAGE(C78:C89) -> 19690.083 | D199: =AVERAGE(D78:D89) -> 38525.167
A200: Average 2005 | B200: =AVERAGE(B90:B101) -> 35149.25 | C200: =AVERAGE(C90:C101) -> 22862.083 | D200: =AVERAGE(D90:D101) -> 39687.417
A201: Average 2006 | B201: =AVERAGE(B102:B113) -> 39339.083 | C201: =AVERAGE(C102:C113) -> 26248.75 | D201: =AVERAGE(D102:D113) -> 42240.167
A202: Average 2007 | B202: =AVERAGE(B115:B125) -> 42275.091 | C202: =AVERAGE(C115:C125) -> 28723.818 | D202: =AVERAGE(D115:D125) -> 44669.182
...

Sheet Monetary
A1: MONETARY INDICATORS
B3: CPI | C3: Long Term Interest Rates | D3: Real Interest Rates | E3: Rand Dollar Exchange Rate
B4: Year-on-Year | C4: R157 Yields | E4: per 1USD
A6: 35796 | B6: 5.7 | C6: 13.6 | D6: =C6-B6 -> 7.9 | E6: 4.9409
A7: 35827 | B7: 5.3 | C7: 13.52 | D7: =C7-B7 -> 8.22 | E7: 4.939
A8: 35855 | B8: 5.4 | C8: 13.31 | D8: =C8-B8 -> 7.91 | E8: 5.0365
A9: 35886 | B9: 5 | C9: 13.09 | D9: =C9-B9 -> 8.09 | E9: 5.056
A10: 35916 | B10: 5.1 | C10: 15.574 | D10: =C10-B10 -> 10.474 | E10: 5.157
A11: 35947 | B11: 5.2 | C11: 15.235 | D11: =C11-B11 -> 10.035 | E11: 5.8902
A12: 35977 | B12: 6.6 | C12: 15.5 | D12: =C12-B12 -> 8.9 | E12: 6.145
A13: 36008 | B13: 7.6 | C13: 19.53 | D13: =C13-B13 -> 11.93 | E13: 6.416
A14: 36039 | B14: 9 | C14: 17.29 | D14: =C14-B14 -> 8.29 | E14: 5.8752
A15: 36069 | B15: 9 | C15: 15.51 | D15: =C15-B15 -> 6.51 | E15: 5.6452
A16: 36100 | B16: 9.3 | C16: 16.02 | D16: =C16-B16 -> 6.72 | E16: 5.6952
A17: 36130 | B17: 9 | C17: 15.885 | D17: =C17-B17 -> 6.885 | E17: 5.865
... A192: 41456 | B192: 6.3 | C192: 6.14 | D192: =C192-B192 -> -0.16 | E192: 9.85
A194: Average 1998 | B194: =AVERAGE(B6:B17) -> 6.85 | C194: =AVERAGE(C6:C17) -> 15.338667 | D194: =AVERAGE(D6:D17) -> 8.4886667 | E194: =AVERAGE(E6:E17) -> 5.5551
A195: Average 1999 | B195: =AVERAGE(B18:B29) -> 5.2583333 | C195: =AVERAGE(C18:C29) -> 14.825417 | D195: =AVERAGE(D18:D29) -> 9.5670833 | E195: =AVERAGE(E18:E29) -> 6.1224667
A196: Average 2000 | B196: =AVERAGE(B30:B41) -> 5.325 | C196: =AVERAGE(C30:C41) -> 13.722083 | D196: =AVERAGE(D30:D41) -> 8.3970833 | E196: =AVERAGE(E30:E41) -> 6.9959
A197: Average 2001 | B197: =AVERAGE(B42:B53) -> 5.725 | C197: =AVERAGE(C42:C53) -> 11.30625 | D197: =AVERAGE(D42:D53) -> 5.58125 | E197: =AVERAGE(E42:E53) -> 8.7372417
A198: Average 2002 | B198: =AVERAGE(B54:B65) -> 9.15 | C198: =AVERAGE(C54:C65) -> 11.548333 | D198: =AVERAGE(D54:D65) -> 2.3983333 | E198: =AVERAGE(E54:E65) -> 10.360967
A199: Average 2003 | B199: =AVERAGE(B66:B77) -> 5.9666667 | C199: =AVERAGE(C66:C77) -> 9.5420833 | D199: =AVERAGE(D66:D77) -> 3.5754167 | E199: =AVERAGE(E66:E77) -> 7.403725
A200: Average 2004 | B200: =AVERAGE(B78:B89) -> 1.3916667 | C200: =AVERAGE(C78:C89) -> 9.5 | D200: =AVERAGE(D78:D89) -> 8.1083333 | E200: =AVERAGE(E78:E89) -> 6.3881583
A201: Average 2005 | B201: =AVERAGE(B90:B101) -> 3.4 | C201: =AVERAGE(C90:C101) -> 8.0225 | D201: =AVERAGE(D90:D101) -> 4.6225 | E201: =AVERAGE(E90:E101) -> 6.367425
A202: Average 2006 | B202: =AVERAGE(B102:B113) -> 4.4333333 | C202: =AVERAGE(C102:C113) -> 8.0008333 | D202: =AVERAGE(D102:D113) -> 3.5675 | E202: =AVERAGE(E102:E113) -> 6.8117583
A203: Average 2007 | B203: =AVERAGE(B115:B125) -> 6.9 | C203: =AVERAGE(C115:C125) -> 8.19 | D203: =AVERAGE(D115:D125) -> 1.29 | E203: =AVERAGE(E115:E125) -> 7.0046091
A204: Average 2008 | B204: =AVERAGE(B126:B137) -> 11.483333 | C204: =AVERAGE(C126:C137) -> 9.0925 | D204: =AVERAGE(D126:D137) -> -2.3908333 | E204: =AVERAGE(E126:E137) -> 7.238725
A205: Average 2009 | B205: =AVERAGE(B138:B149) -> 7.4083333 | C205: =AVERAGE(C138:C149) -> 8.2158333 | D205: =AVERAGE(D138:D149) -> 0.8075 | E205: =AVERAGE(E138:E149) -> 6.5155667
A206: Average 2010 | B206: =AVERAGE(B150:B161) -> 4.525 | C206: =AVERAGE(C150:C161) -> 7.6895833 | D206: =AVERAGE(D150:D161) -> 3.1645833 | E206: =AVERAGE(E150:E161) -> 6.7169167
A207: Average 2011 | B207: =AVERAGE(B162:B173) -> 4.7583333 | C207: =AVERAGE(C162:C173) -> 7.2570833 | D207: =AVERAGE(D162:D173) -> 2.49875 | E207: =AVERAGE(E162:E173) -> 7.3033333
A208: Average 2012 | B208: =AVERAGE(B174:B185) -> 5.7 | C208: =AVERAGE(C174:C185) -> 5.935 | D208: =AVERAGE(D174:D185) -> 0.235 | E208: =AVERAGE(E174:E185) -> 8.20655
A209: Average 2013 | B209: =AVERAGE(B186:B192) -> 5.7857143 | C209: =AVERAGE(C186:C192) -> 5.65 | D209: =AVERAGE(D186:D192) -> -0.13571429 | E209: =AVERAGE(E186:E192) -> 9.5571429
A211: Year-on-Year 1999 | B211: =(B195-B194)/B194*100 -> -23.23601 | C211: =(C195-C194)/C194*100 -> -3.3461187 | D211: =(D195-D194)/D194*100 -> 12.704194 | E211: =(E195-E194)/E194*100 -> 10.213438
A212: Year-on-Year 2000 | B212: =(B196-B195)/B195*100 -> 1.2678288 | C212: =(C196-C195)/C195*100 -> -7.4421742 | D212: =(D196-D195)/D195*100 -> -12.229433 | E212: =(E196-E195)/E195*100 -> 14.266037
A213: Year-on-Year 2001 | B213: =(B197-B196)/B196*100 -> 7.5117371 | C213: =(C197-C196)/C196*100 -> -17.605441 | D213: =(D197-D196)/D196*100 -> -33.533469 | E213: =(E197-E196)/E196*100 -> 24.890888
A214: Year-on-Year 2002 | B214: =(B198-B197)/B197*100 -> 59.825328 | C214: =(C198-C197)/C197*100 -> 2.1411461 | D214: =(D198-D197)/D197*100 -> -57.028742 | E214: =(E198-E197)/E197*100 -> 18.583954
A215: Year-on-Year 2003 | B215: =(B199-B198)/B198*100 -> -34.790528 | C215: =(C199-C198)/C198*100 -> -17.372637 | D215: =(D199-D198)/D198*100 -> 49.079222 | E215: =(E199-E198)/E198*100 -> -28.542141
A216: Year-on-Year 2004 | B216: =(B200-B199)/B199*100 -> -76.675978 | C216: =(C200-C199)/C199*100 -> -0.44102878 | D216: =(D200-D199)/D199*100 -> 126.7801 | E216: =(E200-E199)/E199*100 -> -13.716969
A217: Year-on-Year 2005 | B217: =(B201-B200)/B200*100 -> 144.31138 | C217: =(C201-C200)/C200*100 -> -15.552632 | D217: =(D201-D200)/D200*100 -> -42.99075 | E217: =(E201-E200)/E200*100 -> -0.32455885
A218: Year-on-Year 2006 | B218: =(B202-B201)/B201*100 -> 30.392157 | C218: =(C202-C201)/C201*100 -> -0.27007375 | D218: =(D202-D201)/D201*100 -> -22.823148 | E218: =(E202-E201)/E201*100 -> 6.9782264
...

Sheet Trade
A1: `YEAR ON YEAR TRADE BALANCE IN RANDS MILLION 2004-2013
C4: 2004 | E4: Trade balance | F4: 2005 | H4: Trade balance | I4: 2006 | K4: Trade balance | M4: Trade Balance
B5: MONTH | C5: Imports | D5: Exports | F5: Imports | G5: Exports | I5: Imports | J5: Exports | M5: 2004 | N5: =SUM(E6:E17) -> -10209.38
B6: JANUARY | C6: 19640.28 | D6: 19390.78 | E6: =D6-C6 -> -249.5 | F6: 23818.28 | G6: 21670.26 | H6: =G6-F6 -> -2148.02 | I6: 29281.04 | J6: 21543.37 | K6: =J6-I6 -> -7737.67 | M6: =M5+1 -> 2005 | N6: =SUM(H6:H17) -> -19420.5
B7: FEBRUARY | C7: 20225.74 | D7: 22722.98 | E7: =D7-C7 -> 2497.24 | F7: 23681.58 | G7: 23202.23 | H7: =G7-F7 -> -479.35 | I7: 30398.37 | J7: 26482.51 | K7: =J7-I7 -> -3915.86 | M7: =M6+1 -> 2006 | N7: =SUM(K6:K17) -> -66780.87
B8: MARCH | C8: 23716.87 | D8: 25917.95 | E8: =D8-C8 -> 2201.08 | F8: 27747.51 | G8: 26099.84 | H8: =G8-F8 -> -1647.67 | I8: 32750.44 | J8: 29928.69 | K8: =J8-I8 -> -2821.75 | M8: =M7+1 -> 2007 | N8: =SUM(E22:E33) -> -71003.89
B9: APRIL | C9: 25892.69 | D9: 22533.6 | E9: =D9-C9 -> -3359.09 | F9: 28039.3 | G9: 28139.9 | H9: =G9-F9 -> 100.6 | I9: 28930.8 | J9: 26497.31 | K9: =J9-I9 -> -2433.49 | M9: =M8+1 -> 2008 | N9: =SUM(H22:H33) -> -83519.22
B10: MAY | C10: 24708.5 | D10: 24804.95 | E10: =D10-C10 -> 96.45 | F10: 31253.96 | G10: 28166.37 | H10: =G10-F10 -> -3087.59 | I10: 37645.17 | J10: 30670.76 | K10: =J10-I10 -> -6974.41 | M10: =M9+1 -> 2009 | N10: =SUM(K22:K33) -> -18251.537
B11: JUNE | C11: 28205.21 | D11: 25731.79 | E11: =D11-C11 -> -2473.42 | F11: 29432.83 | G11: 30654.5 | H11: =G11-F11 -> 1221.67 | I11: 39725.02 | J11: 35489 | K11: =J11-I11 -> -4236.02 | M11: =M10+1 -> 2010 | N11: =SUM(E38:E49) -> 11364.847
B12: JULY | C12: 25518.77 | D12: 24906.73 | E12: =D12-C12 -> -612.04 | F12: 29387.37 | G12: 28027.02 | H12: =G12-F12 -> -1360.35 | I12: 42596.36 | J12: 34791.77 | K12: =J12-I12 -> -7804.59 | M12: =M11+1 -> 2011 | N12: =SUM(H38:H49) -> -20962.114
B13: AUGUST | C13: 24703.73 | D13: 21377.11 | E13: =D13-C13 -> -3326.62 | F13: 31979.01 | G13: 28632.27 | H13: =G13-F13 -> -3346.74 | I13: 41215.34 | J13: 35863.74 | K13: =J13-I13 -> -5351.6 | M13: =M12+1 -> 2012 | N13: =SUM(K38:K49) -> -115523.24
B14: SEPTEMBER | C14: 28169.12 | D14: 27279.63 | E14: =D14-C14 -> -889.49 | F14: 33023.9 | G14: 29270.84 | H14: =G14-F14 -> -3753.06 | I14: 37767 | J14: 37454.22 | K14: =J14-I14 -> -312.78
B15: OCTOBER | C15: 29574.35 | D15: 23704 | E15: =D15-C15 -> -5870.35 | F15: 31545.09 | G15: 25960.68 | H15: =G15-F15 -> -5584.41 | I15: 52699.89 | J15: 39710.59 | K15: =J15-I15 -> -12989.3
B16: NOVEMBER | C16: 28434.31 | D16: 27518.13 | E16: =D16-C16 -> -916.18 | F16: 33561 | G16: 30406.86 | H16: =G16-F16 -> -3154.14 | I16: 52903.65 | J16: 40331.52 | K16: =J16-I16 -> -12572.13
B17: DECEMBER | C17: 25825.73 | D17: 28518.27 | E17: =D17-C17 -> 2692.54 | F17: 25741.04 | G17: 29559.6 | H17: =G17-F17 -> 3818.56 | I17: 36147.75 | J17: 36516.48 | K17: =J17-I17 -> 368.73
C20: 2007 | E20: Trade balance | F20: 2008 | H20: Trade balance | I20: 2009 | K20: Trade balance
C21: Imports | D21: Exports | F21: Imports | G21: Exports | I21: Imports | J21: Exports
B22: JANUARY | C22: 42393.78 | D22: 30456.49 | E22: =D22-C22 -> -11937.29 | F22: 49574.31 | G22: 39346.64 | H22: =G22-F22 -> -10227.67 | I22: 53698.62 | J22: 36232.29 | K22: =J22-I22 -> -17466.33
B23: FEBRUARY | C23: 40095.14 | D23: 37428.19 | E23: =D23-C23 -> -2666.95 | F23: 52766.11 | G23: 46881.63 | H23: =G23-F23 -> -5884.48 | I23: 44632.44 | J23: 44037.55 | K23: =J23-I23 -> -594.89
B24: MARCH | C24: 45258.4 | D24: 42514.43 | E24: =D24-C24 -> -2743.97 | F24: 56181.04 | G24: 51092.69 | H24: =G24-F24 -> -5088.35 | I24: 52478.2 | J24: 51906.59 | K24: =J24-I24 -> -571.61
B25: APRIL | C25: 43717.72 | D25: 38043.53 | E25: =D25-C25 -> -5674.19 | F25: 66168.99 | G25: 55841.25 | H25: =G25-F25 -> -10327.74 | I25: 42112.41 | J25: 40483.43 | K25: =J25-I25 -> -1628.98
B26: MAY | C26: 46227.6 | D26: 43556.49 | E26: =D26-C26 -> -2671.11 | F26: 57900.04 | G26: 56683.72 | H26: =G26-F26 -> -1216.32 | I26: 39437 | J26: 41456 | K26: =J26-I26 -> 2019
B27: JUNE | C27: 47655.23 | D27: 42341.59 | E27: =D27-C27 -> -5313.64 | F27: 60343.81 | G27: 60110.82 | H27: =G27-F27 -> -232.99 | I27: 39817 | J27: 42986.13 | K27: =J27-I27 -> 3169.13
B28: JULY | C28: 51521.67 | D28: 42088.6 | E28: =D28-C28 -> -9433.07 | F28: 75599.59 | G28: 61255.89 | H28: =G28-F28 -> -14343.7 | I28: 44015.13 | J28: 44461.89 | K28: =J28-I28 -> 446.76
B29: AUGUST | C29: 51590.31 | D29: 42355.25 | E29: =D29-C29 -> -9235.06 | F29: 65514.46 | G29: 60210.17 | H29: =G29-F29 -> -5304.29 | I29: 42361.865 | J29: 40380.625 | K29: =J29-I29 -> -1981.2402
B30: SEPTEMBER | C30: 44152.97 | D30: 39764.35 | E30: =D30-C30 -> -4388.62 | F30: 68179.04 | G30: 61001.24 | H30: =G30-F30 -> -7177.8 | I30: 41664.309 | J30: 45535.407 | K30: =J30-I30 -> 3871.0989
B31: OCTOBER | C31: 56264.78 | D31: 41350.59 | E31: =D31-C31 -> -14914.19 | F31: 75445.25 | G31: 65624.08 | H31: =G31-F31 -> -9821.17 | I31: 50797.616 | J31: 44088.885 | K31: =J31-I31 -> -6708.7301
B32: NOVEMBER | C32: 48989.28 | D32: 48224.4 | E32: =D32-C32 -> -764.88 | F32: 65944.26 | G32: 53776 | H32: =G32-F32 -> -12168.26 | I32: 48330.425 | J32: 45855.858 | K32: =J32-I32 -> -2474.567
B33: DECEMBER | C33: 43834.42 | D33: 42573.5 | E33: =D33-C33 -> -1260.92 | F33: 50176.82 | G33: 48450.37 | H33: =G33-F33 -> -1726.45 | I33: 41692.849 | J33: 45361.67 | K33: =J33-I33 -> 3668.8211
C36: 2010 | E36: Trade balance | F36: 2011 | H36: Trade balance | I36: 2012 | K36: Trade balance
C37: Imports | D37: Exports | F37: Imports | G37: Exports | I37: Imports | J37: Exports
B38: JANUARY | C38: 39966.558 | D38: 36635.517 | E38: =D38-C38 -> -3331.0413 | F38: 49681.591 | G38: 44755.25 | H38: =G38-F38 -> -4926.3412 | I38: 67506.49 | J38: 54003.27 | K38: =J38-I38 -> -13503.22
B39: FEBRUARY | C39: 45947.344 | D39: 40257.281 | E39: =D39-C39 -> -5690.0625 | F39: 52584.55 | G39: 52234.64 | H39: =G39-F39 -> -349.91 | I39: 63740.78 | J39: 56254.83 | K39: =J39-I39 -> -7485.95
B40: MARCH | C40: 51075.05 | D40: 51532.804 | E40: =D40-C40 -> 457.75405 | F40: 59272.536 | G40: 60243.141 | H40: =G40-F40 -> 970.60514 | I40: 66819.86 | J40: 61313.39 | K40: =J40-I40 -> -5506.47
B41: APRIL | C41: 46056.187 | D41: 44167.037 | E41: =D41-C41 -> -1889.1503 | F41: 54112.61 | G41: 51666.262 | H41: =G41-F41 -> -2446.3481 | I41: 62027.81 | J41: 52153.92 | K41: =J41-I41 -> -9873.89
B42: MAY | C42: 47478.66 | D42: 47176.642 | E42: =D42-C42 -> -302.0181 | F42: 57346.02 | G42: 56315.82 | H42: =G42-F42 -> -1030.2 | I42: 71719.17 | J42: 62791.12 | K42: =J42-I42 -> -8928.05
B43: JUNE | C43: 49933.203 | D43: 55561.827 | E43: =D43-C43 -> 5628.6245 | F43: 55684.72 | G43: 60553.83 | H43: =G43-F43 -> 4869.11 | I43: 67423.92 | J43: 61697.06 | K43: =J43-I43 -> -5726.86
B44: JULY | C44: 53992.198 | D44: 56010.23 | E44: =D44-C44 -> 2018.0321 | F44: 60406.11 | G44: 56503.96 | H44: =G44-F44 -> -3902.15 | I44: 70179.6 | J44: 63507.98 | K44: =J44-I44 -> -6671.62
B45: AUGUST | C45: 53187.036 | D45: 48523.381 | E45: =D45-C45 -> -4663.6547 | F45: 64735.39 | G45: 60997.64 | H45: =G45-F45 -> -3737.75 | I45: 73622.07 | J45: 61416.85 | K45: =J45-I45 -> -12205.22
B46: SEPTEMBER | C46: 49543.031 | D46: 53160.461 | E46: =D46-C46 -> 3617.43 | F46: 65254.85 | G46: 67768.43 | H46: =G46-F46 -> 2513.58 | I46: 70496.9 | J46: 56701.435 | K46: =J46-I46 -> -13795.465
...

Sheet Employment
A1: LABOUR FORCE CHARACTERISTICS BY PROVINCE (KZN)
A2: . | B2: Population of working age (15–64 years) | C2: Labour Force | D2: Employed | E2: Unemployed | F2: Not Economically Active | G2: Discourage Work Seekers
A3: Q1 2008 | B3: 6250000 | C3: =SUM(D3:E3) -> 3315000 | D3: 2562000 | E3: 753000 | F3: =B3-D3-E3 -> 2935000 | G3: 183000
A4: Q2 2008 | B4: 6273000 | C4: =SUM(D4:E4) -> 3359000 | D4: 2614000 | E4: 745000 | F4: =B4-D4-E4 -> 2914000 | G4: 167000
A5: Q3 2008 | B5: 6295000 | C5: =SUM(D5:E5) -> 3312000 | D5: 2583000 | E5: 729000 | F5: =B5-D5-E5 -> 2983000 | G5: 186000
A6: Q4 2008 | B6: 6318000 | C6: 3321000 | D6: 2631000 | E6: 690000 | F6: =B6-D6-E6 -> 2997000 | G6: 224000
A7: Q1 2009 | B7: 6340000 | C7: 3248000 | D7: 2514000 | E7: 733000 | F7: =B7-D7-E7 -> 3093000 | G7: 271000
A8: Q2 2009 | B8: 6362000 | C8: 3043000 | D8: 2457000 | E8: 586000 | F8: =B8-D8-E8 -> 3319000 | G8: 448000
A9: Q3 2009 | B9: 6384000 | C9: 3105000 | D9: 2526000 | E9: 579000 | F9: =B9-D9-E9 -> 3279000 | G9: 495000
A10: Q4 2009 | B10: 6405000 | C10: 3068000 | D10: 2476000 | E10: 592000 | F10: =B10-D10-E10 -> 3337000 | G10: 467000
A11: Q1 2010 | B11: 6426000 | C11: 3084000 | D11: 2488000 | E11: 596000 | F11: =B11-D11-E11 -> 3342000 | G11: 503000
A12: Q2 2010 | B12: 6439000 | C12: 3081000 | D12: 2436000 | E12: 645000 | F12: =B12-D12-E12 -> 3358000 | G12: 504000
A13: Q3 2010 | B13: 6664000 | C13: 2990000 | D13: 2401000 | E13: 588000 | F13: =B13-D13-E13 -> 3675000 | G13: 563000
A14: Q4 2010 | B14: 6692000 | C14: 3040000 | D14: 2439000 | E14: 601000 | F14: =B14-D14-E14 -> 3652000 | G14: 540000
A15: Q1 2011 | B15: 6720000 | C15: 3049000 | D15: 2429000 | E15: 620000 | F15: =B15-D15-E15 -> 3671000 | G15: 592000
A16: Q2 2011 | B16: 6748000 | C16: 3137000 | D16: 2500000 | E16: 638000 | F16: =B16-D16-E16 -> 3610000 | G16: 604000
A17: Q3 2011 | B17: 6776000 | C17: 3103000 | D17: 2510000 | E17: 593000 | F17: =B17-D17-E17 -> 3673000 | G17: 549000
... A19: Q1 2012 | B19: 6828000 | C19: 3168000 | D19: 2519000 | E19: 649000 | F19: =B19-D19-E19 -> 3660000 | G19: 579000
A20: Q2 2012 | B20: 6855000 | C20: 3143000 | D20: 2520000 | E20: 623000 | F20: 3712000 | G20: 585000
A21: Q3 2012 | B21: 6881000 | C21: 3218000 | D21: 2533000 | E21: 685000 | F21: 3663000 | G21: 570000
A22: Q4 2012 | B22: 6905000 | C22: 3215000 | D22: 2493000 | E22: 722000 | F22: 3690000 | G22: 589000
A23: Q1 2013 | B23: 6930000 | C23: 3192000 | D23: 2520000 | E23: 672000 | F23: 3738000 | G23: 574000
A24: Q2 2013 | B24: 6955000 | C24: 3277000 | D24: 2533000 | E24: 744000 | F24: 3678000 | G24: 607000
A26: Quarterly % Change Q2 2008 | B26: =(B4-B3)/B3*100 -> 0.368 | C26: =(C4-C3)/C3*100 -> 1.3273002 | D26: =(D4-D3)/D3*100 -> 2.0296643 | E26: =(E4-E3)/E3*100 -> -1.062417 | F26: =(F4-F3)/F3*100 -> -0.71550256 | G26: =(G4-G3)/G3*100 -> -8.7431694
A27: Quarterly % Change Q3 2008 | B27: =(B5-B4)/B4*100 -> 0.35070939 | C27: =(C5-C4)/C4*100 -> -1.399226 | D27: =(D5-D4)/D4*100 -> -1.185922 | E27: =(E5-E4)/E4*100 -> -2.147651 | F27: =(F5-F4)/F4*100 -> 2.3678792 | G27: =(G5-G4)/G4*100 -> 11.377246
A28: Quarterly % Change Q4 2008 | B28: =(B6-B5)/B5*100 -> 0.36536934 | C28: =(C6-C5)/C5*100 -> 0.27173913 | D28: =(D6-D5)/D5*100 -> 1.8583043 | E28: =(E6-E5)/E5*100 -> -5.3497942 | F28: =(F6-F5)/F5*100 -> 0.46932618 | G28: =(G6-G5)/G5*100 -> 20.430108
A29: Quarterly % Change Q1 2009 | B29: =(B7-B6)/B6*100 -> 0.34821146 | C29: =(C7-C6)/C6*100 -> -2.1981331 | D29: =(D7-D6)/D6*100 -> -4.4469783 | E29: =(E7-E6)/E6*100 -> 6.2318841 | F29: =(F7-F6)/F6*100 -> 3.2032032 | G29: =(G7-G6)/G6*100 -> 20.982143
A30: Quarterly % Change Q2 2009 | B30: =(B8-B7)/B7*100 -> 0.34700315 | C30: =(C8-C7)/C7*100 -> -6.3115764 | D30: =(D8-D7)/D7*100 -> -2.2673031 | E30: =(E8-E7)/E7*100 -> -20.05457 | F30: =(F8-F7)/F7*100 -> 7.3068219 | G30: =(G8-G7)/G7*100 -> 65.313653
A31: Quarterly % Change Q3 2009 | B31: =(B9-B8)/B8*100 -> 0.34580321 | C31: =(C9-C8)/C8*100 -> 2.037463 | D31: =(D9-D8)/D8*100 -> 2.8083028 | E31: =(E9-E8)/E8*100 -> -1.1945392 | F31: =(F9-F8)/F8*100 -> -1.2051823 | G31: =(G9-G8)/G8*100 -> 10.491071
A32: Quarterly % Change Q4 2009 | B32: =(B10-B9)/B9*100 -> 0.32894737 | C32: =(C10-C9)/C9*100 -> -1.1916264 | D32: =(D10-D9)/D9*100 -> -1.9794141 | E32: =(E10-E9)/E9*100 -> 2.2452504 | F32: =(F10-F9)/F9*100 -> 1.768832 | G32: =(G10-G9)/G9*100 -> -5.6565657
A33: Quarterly % Change Q1 2010 | B33: =(B11-B10)/B10*100 -> 0.32786885 | C33: =(C11-C10)/C10*100 -> 0.52151239 | D33: =(D11-D10)/D10*100 -> 0.48465267 | E33: =(E11-E10)/E10*100 -> 0.67567568 | F33: =(F11-F10)/F10*100 -> 0.14983518 | G33: =(G11-G10)/G10*100 -> 7.7087794
A34: Quarterly % Change Q2 2010 | B34: =(B12-B11)/B11*100 -> 0.20230314 | C34: =(C12-C11)/C11*100 -> -0.097276265 | D34: =(D12-D11)/D11*100 -> -2.0900322 | E34: =(E12-E11)/E11*100 -> 8.2214765 | F34: =(F12-F11)/F11*100 -> 0.47875524 | G34: =(G12-G11)/G11*100 -> 0.19880716
A35: Quarterly % Change Q3 2010 | B35: =(B13-B12)/B12*100 -> 3.4943314 | C35: =(C13-C12)/C12*100 -> -2.9535865 | D35: =(D13-D12)/D12*100 -> -1.4367816 | E35: =(E13-E12)/E12*100 -> -8.8372093 | F35: =(F13-F12)/F12*100 -> 9.4401429 | G35: =(G13-G12)/G12*100 -> 11.706349
A36: Quarterly % Change Q4 2010 | B36: =(B14-B13)/B13*100 -> 0.42016807 | C36: =(C14-C13)/C13*100 -> 1.6722408 | D36: =(D14-D13)/D13*100 -> 1.5826739 | E36: =(E14-E13)/E13*100 -> 2.2108844 | F36: =(F14-F13)/F13*100 -> -0.62585034 | G36: =(G14-G13)/G13*100 -> -4.0852575
A37: Quarterly % Change Q1 2011 | B37: =(B15-B14)/B14*100 -> 0.41841004 | C37: =(C15-C14)/C14*100 -> 0.29605263 | D37: =(D15-D14)/D14*100 -> -0.4100041 | E37: =(E15-E14)/E14*100 -> 3.1613977 | F37: =(F15-F14)/F14*100 -> 0.52026287 | G37: =(G15-G14)/G14*100 -> 9.6296296
... A46: Quarterly % Change Q2 2013 | B46: =(B24-B23)/B23*100 -> 0.36075036 | C46: =(C24-C23)/C23*100 -> 2.6629073 | D46: =(D24-D23)/D23*100 -> 0.51587302 | E46: =(E24-E23)/E23*100 -> 10.714286 | F46: =(F24-F23)/F23*100 -> -1.6051364 | G46: =(G24-G23)/G23*100 -> 5.7491289
A48: Q1 2009 Year-on-Year % | B48: =(B7-B3)/B3*100 -> 1.44 | C48: =(C7-C3)/C3*100 -> -2.0211161 | D48: =(D7-D3)/D3*100 -> -1.8735363 | E48: =(E7-E3)/E3*100 -> -2.6560425 | F48: =(F7-F3)/F3*100 -> 5.3833049 | G48: =(G7-G3)/G3*100 -> 48.087432
A49: Q2 2009 Year-on-Year % | B49: =(B8-B4)/B4*100 -> 1.4187789 | C49: =(C8-C4)/C4*100 -> -9.4075618 | D49: =(D8-D4)/D4*100 -> -6.0061209 | E49: =(E8-E4)/E4*100 -> -21.342282 | F49: =(F8-F4)/F4*100 -> 13.898421 | G49: =(G8-G4)/G4*100 -> 168.26347
A50: Q3 2009 Year-on-Year % | B50: =(B9-B5)/B5*100 -> 1.4138205 | C50: =(C9-C5)/C5*100 -> -6.25 | D50: =(D9-D5)/D5*100 -> -2.2067364 | E50: =(E9-E5)/E5*100 -> -20.576132 | F50: =(F9-F5)/F5*100 -> 9.9228964 | G50: =(G9-G5)/G5*100 -> 166.12903
A51: Q4 2009 Year-on-Year % | B51: =(B10-B6)/B6*100 -> 1.377018 | C51: =(C10-C6)/C6*100 -> -7.6181873 | D51: =(D10-D6)/D6*100 -> -5.8912961 | E51: =(E10-E6)/E6*100 -> -14.202899 | F51: =(F10-F6)/F6*100 -> 11.344678 | G51: =(G10-G6)/G6*100 -> 108.48214
...

Sheet PSCE
A1: SA | B1: Credit extended to the domestic private sector - R millions
B4: Investments | C4: Bills discounted | D4: Total loans and advances | E4: Instalment sales credit | F4: Leasing finance | G4: Mortgage advances | H4: Other loans and advances
A5: 32874 | B5: 4504 | C5: 9002 | D5: =E5+F5+G5+H5 -> 134728 | E5: 15499 | F5: 9161 | G5: 52126 | H5: 57942
A6: 32905 | B6: 2915 | C6: 9348 | D6: =E6+F6+G6+H6 -> 136214 | E6: 15710 | F6: 9308 | G6: 52915 | H6: 58281
A7: 32933 | B7: 2517 | C7: 8932 | D7: =E7+F7+G7+H7 -> 137551 | E7: 15855 | F7: 9548 | G7: 53481 | H7: 58667
A8: 32964 | B8: 2777 | C8: 9367 | D8: =E8+F8+G8+H8 -> 138847 | E8: 15936 | F8: 9645 | G8: 53980 | H8: 59286
A9: 32994 | B9: 2796 | C9: 9731 | D9: =E9+F9+G9+H9 -> 140240 | E9: 16189 | F9: 9828 | G9: 54644 | H9: 59579
A10: 33025 | B10: 3088 | C10: 9849 | D10: =E10+F10+G10+H10 -> 142392 | E10: 16601 | F10: 9851 | G10: 55319 | H10: 60621
A11: 33055 | B11: 3476 | C11: 10381 | D11: =E11+F11+G11+H11 -> 143387 | E11: 16703 | F11: 10061 | G11: 56091 | H11: 60532
A12: 33086 | B12: 3674 | C12: 10548 | D12: =E12+F12+G12+H12 -> 144999 | E12: 16966 | F12: 10219 | G12: 56903 | H12: 60911
A13: 33117 | B13: 2979 | C13: 9980 | D13: =E13+F13+G13+H13 -> 145571 | E13: 17336 | F13: 10422 | G13: 57479 | H13: 60334
A14: 33147 | B14: 3114 | C14: 9410 | D14: =E14+F14+G14+H14 -> 147119 | E14: 17445 | F14: 10674 | G14: 58078 | H14: 60922
A15: 33178 | B15: 4691 | C15: 9086 | D15: =E15+F15+G15+H15 -> 149748 | E15: 17651 | F15: 10802 | G15: 58770 | H15: 62525
A16: 33208 | B16: 4857 | C16: 10236 | D16: =E16+F16+G16+H16 -> 153247 | E16: 18054 | F16: 10976 | G16: 59506 | H16: 64711
... A233: 39814 | B233: 106306 | C233: 5585 | D233: =E233+F233+G233+H233 -> 1881285 | E233: 204605 | F233: 46340 | G233: 967627 | H233: 662713
A234: 39845 | B234: 109953 | C234: 6190 | D234: 1881957 | E234: 204173 | F234: 45265 | G234: 974904 | H234: 657615
A235: 39873 | B235: 120222 | C235: 6320 | D235: =E235+F235+G235+H235 -> 1881612 | E235: 203817 | F235: 44474 | G235: 981192 | H235: 652129
A236: 39904 | B236: 124730 | C236: 5447 | D236: =E236+F236+G236+H236 -> 1878861 | E236: 203074 | F236: 43337 | G236: 982059 | H236: 650391
A237: 39934 | B237: 126593 | C237: 4282 | D237: =E237+F237+G237+H237 -> 1850167 | E237: 202485 | F237: 42418 | G237: 982229 | H237: 623035
A238: 39965 | B238: 122118 | C238: 5023 | D238: 1859581 | E238: 201887 | F238: 41195 | G238: 983387 | H238: 633112
A239: 39995 | B239: 116876 | C239: 4951 | D239: 1865152 | E239: 201233 | F239: 40264 | G239: 982819 | H239: 640835
A240: 40026 | B240: 117719 | C240: 4637 | D240: 1861800 | E240: 200360 | F240: 39352 | G240: 985225 | H240: 636862
A241: 40057 | B241: 113451 | C241: 4944 | D241: 1860769 | E241: 200375 | F241: 38368 | G241: 993696 | H241: 628330
A242: 40087 | B242: 109637 | C242: 4378 | D242: 1861142 | E242: 200736 | F242: 37444 | G242: 996619 | H242: 626334
A243: 40118 | B243: 113282 | C243: 4669 | D243: 1861389 | E243: 200963 | F243: 36300 | G243: 999352 | H243: 624774
A244: 40148 | B244: 113033 | C244: 4059 | D244: 1861277 | E244: 201490 | F244: 35403 | G244: 1001946 | H244: 622438
A245: 40179 | B245: 108111 | C245: 4399 | D245: 1866644 | E245: 201662 | F245: 34374 | G245: 1005530 | H245: 625078
A246: 40210 | B246: 109918 | C246: 4204 | D246: 1875897 | E246: 202285 | F246: 33752 | G246: 1012749 | H246: 627111
A247: 40238 | B247: 114651 | C247: 3932 | D247: 1875507 | E247: 203061 | F247: 32999 | G247: 1016617 | H247: 622831
A248: 40269 | B248: 112827 | C248: 4778 | D248: 1873274 | E248: 203575 | F248: 32113 | G248: 1017851 | H248: 619734
A249: 40299 | B249: 115666 | C249: 5097 | D249: =E249+F249+G249+H249 -> 1880871 | E249: 204882 | F249: 31420 | G249: 1021373 | H249: 623196
A250: 40330 | B250: 116973 | C250: 5236 | D250: 1888631 | E250: 206001 | F250: 30658 | G250: 1023395 | H250: 628576
A251: 40360 | B251: 123754 | C251: 5104 | D251: 1903532 | E251: 207012 | F251: 30933 | G251: 1028514 | H251: 637073
A252: 40391 | B252: 127688 | C252: 5212 | D252: =E252+F252+G252+H252 -> 1917768 | E252: 207927 | F252: 30329 | G252: 1039813 | H252: 639699
A253: 40422 | B253: 123692 | C253: 5266 | D253: 1936914 | E253: 209187 | F253: 29704 | G253: 1041775 | H253: 656246
A254: 40452 | B254: 133272 | C254: 5846 | D254: 1935498 | E254: 210980 | F254: 29103 | G254: 1043530 | H254: 651866
A255: 40483 | B255: 122087 | C255: 5005 | D255: 1943218 | E255: 212231 | F255: 28621 | G255: 1046835 | H255: 655532
A256: 40513 | B256: 140270 | C256: 2929 | D256: 1941730 | E256: 213646 | F256: 28150 | G256: 1042107 | H256: 657827
A257: 40544 | B257: 118246 | C257: 5722 | D257: 1955015 | E257: 215096 | F257: 27531 | G257: 1043875 | H257: 668513
A258: 40575 | B258: 121956 | C258: 5174 | D258: 1971557 | E258: 216899 | F258: 27051 | G258: 1047603 | H258: 680003
...

Sheet PSCE Yearly
A1: SA | B1: Credit extended to the domestic private sector - Year-on-Year Change
B4: =PSCE!B4 -> Investments | C4: =PSCE!C4 -> Bills discounted | D4: =PSCE!D4 -> Total loans and advances | E4: =PSCE!E4 -> Instalment sales credit | F4: =PSCE!F4 -> Leasing finance | G4: =PSCE!G4 -> Mortgage advances | H4: =PSCE!H4 -> Other loans and advances
A5: 33239 | B5: =(PSCE!B17-PSCE!B5)/PSCE!B5*100 -> -26.531972 | C5: =(PSCE!C17-PSCE!C5)/PSCE!C5*100 -> 5.221062 | D5: =(PSCE!D17-PSCE!D5)/PSCE!D5*100 -> 14.607209 | E5: =(PSCE!E17-PSCE!E5)/PSCE!E5*100 -> 15.601007 | F5: =(PSCE!F17-PSCE!F5)/PSCE!F5*100 -> 19.64851 | G5: =(PSCE!G17-PSCE!G5)/PSCE!G5*100 -> 15.865403 | H5: =(PSCE!H17-PSCE!H5)/PSCE!H5*100 -> 12.412412
A6: 33270 | B6: =(PSCE!B18-PSCE!B6)/PSCE!B6*100 -> 63.018868 | C6: =(PSCE!C18-PSCE!C6)/PSCE!C6*100 -> 20.539153 | D6: =(PSCE!D18-PSCE!D6)/PSCE!D6*100 -> 17.634017 | E6: =(PSCE!E18-PSCE!E6)/PSCE!E6*100 -> 13.914704 | F6: =(PSCE!F18-PSCE!F6)/PSCE!F6*100 -> 17.436614 | G6: =(PSCE!G18-PSCE!G6)/PSCE!G6*100 -> 15.625059 | H6: =(PSCE!H18-PSCE!H6)/PSCE!H6*100 -> 20.492099
A7: 33298 | B7: =(PSCE!B19-PSCE!B7)/PSCE!B7*100 -> 135.75685 | C7: =(PSCE!C19-PSCE!C7)/PSCE!C7*100 -> 18.159427 | D7: =(PSCE!D19-PSCE!D7)/PSCE!D7*100 -> 16.795952 | E7: =(PSCE!E19-PSCE!E7)/PSCE!E7*100 -> 13.33964 | F7: =(PSCE!F19-PSCE!F7)/PSCE!F7*100 -> 16.726016 | G7: =(PSCE!G19-PSCE!G7)/PSCE!G7*100 -> 15.915933 | H7: =(PSCE!H19-PSCE!H7)/PSCE!H7*100 -> 18.543645
A8: 33329 | B8: =(PSCE!B20-PSCE!B8)/PSCE!B8*100 -> 53.366943 | C8: =(PSCE!C20-PSCE!C8)/PSCE!C8*100 -> 9.1918437 | D8: =(PSCE!D20-PSCE!D8)/PSCE!D8*100 -> 16.043559 | E8: =(PSCE!E20-PSCE!E8)/PSCE!E8*100 -> 12.951807 | F8: =(PSCE!F20-PSCE!F8)/PSCE!F8*100 -> 17.128046 | G8: =(PSCE!G20-PSCE!G8)/PSCE!G8*100 -> 16.908114 | H8: =(PSCE!H20-PSCE!H8)/PSCE!H8*100 -> 15.911008
A9: 33359 | B9: =(PSCE!B21-PSCE!B9)/PSCE!B9*100 -> 71.781116 | C9: =(PSCE!C21-PSCE!C9)/PSCE!C9*100 -> -0.13359367 | D9: =(PSCE!D21-PSCE!D9)/PSCE!D9*100 -> 18.174558 | E9: =(PSCE!E21-PSCE!E9)/PSCE!E9*100 -> 11.43369 | F9: =(PSCE!F21-PSCE!F9)/PSCE!F9*100 -> 15.974766 | G9: =(PSCE!G21-PSCE!G9)/PSCE!G9*100 -> 16.962521 | H9: =(PSCE!H21-PSCE!H9)/PSCE!H9*100 -> 21.480723
A10: 33390 | B10: =(PSCE!B22-PSCE!B10)/PSCE!B10*100 -> 65.382124 | C10: =(PSCE!C22-PSCE!C10)/PSCE!C10*100 -> -12.051985 | D10: =(PSCE!D22-PSCE!D10)/PSCE!D10*100 -> 17.581044 | E10: =(PSCE!E22-PSCE!E10)/PSCE!E10*100 -> 10.258418 | F10: =(PSCE!F22-PSCE!F10)/PSCE!F10*100 -> 17.00335 | G10: =(PSCE!G22-PSCE!G10)/PSCE!G10*100 -> 17.01043 | H10: =(PSCE!H22-PSCE!H10)/PSCE!H10*100 -> 20.20092
A11: 33420 | B11: =(PSCE!B23-PSCE!B11)/PSCE!B11*100 -> 20.857307 | C11: =(PSCE!C23-PSCE!C11)/PSCE!C11*100 -> -12.879299 | D11: =(PSCE!D23-PSCE!D11)/PSCE!D11*100 -> 17.659202 | E11: =(PSCE!E23-PSCE!E11)/PSCE!E11*100 -> 11.494941 | F11: =(PSCE!F23-PSCE!F11)/PSCE!F11*100 -> 15.982507 | G11: =(PSCE!G23-PSCE!G11)/PSCE!G11*100 -> 17.081172 | H11: =(PSCE!H23-PSCE!H11)/PSCE!H11*100 -> 20.174453
A12: 33451 | B12: =(PSCE!B24-PSCE!B12)/PSCE!B12*100 -> 30.919978 | C12: =(PSCE!C24-PSCE!C12)/PSCE!C12*100 -> -11.651498 | D12: =(PSCE!D24-PSCE!D12)/PSCE!D12*100 -> 17.46081 | E12: =(PSCE!E24-PSCE!E12)/PSCE!E12*100 -> 9.807851 | F12: =(PSCE!F24-PSCE!F12)/PSCE!F12*100 -> 16.136608 | G12: =(PSCE!G24-PSCE!G12)/PSCE!G12*100 -> 17.090487 | H12: =(PSCE!H24-PSCE!H12)/PSCE!H12*100 -> 20.160562
A13: 33482 | B13: =(PSCE!B25-PSCE!B13)/PSCE!B13*100 -> 46.559248 | C13: =(PSCE!C25-PSCE!C13)/PSCE!C13*100 -> 10.851703 | D13: =(PSCE!D25-PSCE!D13)/PSCE!D13*100 -> 18.400643 | E13: =(PSCE!E25-PSCE!E13)/PSCE!E13*100 -> 7.2219659 | F13: =(PSCE!F25-PSCE!F13)/PSCE!F13*100 -> 18.71042 | G13: =(PSCE!G25-PSCE!G13)/PSCE!G13*100 -> 17.549018 | H13: =(PSCE!H25-PSCE!H13)/PSCE!H13*100 -> 22.370471
A14: 33512 | B14: =(PSCE!B26-PSCE!B14)/PSCE!B14*100 -> 20.809249 | C14: =(PSCE!C26-PSCE!C14)/PSCE!C14*100 -> 23.655685 | D14: =(PSCE!D26-PSCE!D14)/PSCE!D14*100 -> 18.606706 | E14: =(PSCE!E26-PSCE!E14)/PSCE!E14*100 -> 6.8386357 | F14: =(PSCE!F26-PSCE!F14)/PSCE!F14*100 -> 21.360315 | G14: =(PSCE!G26-PSCE!G14)/PSCE!G14*100 -> 17.889734 | H14: =(PSCE!H26-PSCE!H14)/PSCE!H14*100 -> 22.177538
A15: 33543 | B15: =(PSCE!B27-PSCE!B15)/PSCE!B15*100 -> -2.813899 | C15: =(PSCE!C27-PSCE!C15)/PSCE!C15*100 -> 41.415364 | D15: =(PSCE!D27-PSCE!D15)/PSCE!D15*100 -> 16.993883 | E15: =(PSCE!E27-PSCE!E15)/PSCE!E15*100 -> 9.5235397 | F15: =(PSCE!F27-PSCE!F15)/PSCE!F15*100 -> 20.486947 | G15: =(PSCE!G27-PSCE!G15)/PSCE!G15*100 -> 18.167432 | H15: =(PSCE!H27-PSCE!H15)/PSCE!H15*100 -> 17.396242
A16: 33573 | B16: =(PSCE!B28-PSCE!B16)/PSCE!B16*100 -> -38.912909 | C16: =(PSCE!C28-PSCE!C16)/PSCE!C16*100 -> 28.184838 | D16: =(PSCE!D28-PSCE!D16)/PSCE!D16*100 -> 15.228357 | E16: =(PSCE!E28-PSCE!E16)/PSCE!E16*100 -> 6.6744212 | F16: =(PSCE!F28-PSCE!F16)/PSCE!F16*100 -> 20.572157 | G16: =(PSCE!G28-PSCE!G16)/PSCE!G16*100 -> 18.030115 | H16: =(PSCE!H28-PSCE!H16)/PSCE!H16*100 -> 14.132064
... A275: 41456 | B275: =(PSCE!B287-PSCE!B275)/PSCE!B275*100 -> -11.024761 | C275: =(PSCE!C287-PSCE!C275)/PSCE!C275*100 -> 32.553011 | D275: =(PSCE!D287-PSCE!D275)/PSCE!D275*100 -> 8.6583557 | E275: =(PSCE!E287-PSCE!E275)/PSCE!E275*100 -> 16.214364 | F275: =(PSCE!F287-PSCE!F275)/PSCE!F275*100 -> -16.744369 | G275: =(PSCE!G287-PSCE!G275)/PSCE!G275*100 -> 1.7833113 | H275: =(PSCE!H287-PSCE!H275)/PSCE!H275*100 -> 15.939756
A277: Average 1991 | B277: =AVERAGE(B5:B16) -> 36.682742 | C277: =AVERAGE(C5:C16) -> 10.041892 | D277: =AVERAGE(D5:D16) -> 17.098828 | E277: =AVERAGE(E5:E16) -> 10.755052 | F277: =AVERAGE(F5:F16) -> 18.097188 | G277: =AVERAGE(G5:G16) -> 17.007952 | H277: =AVERAGE(H5:H16) -> 18.787678
A278: Average 1992 | B278: =AVERAGE(B17:B28) -> 12.20869 | C278: =AVERAGE(C17:C28) -> 17.295471 | D278: =AVERAGE(D17:D28) -> 9.6136335 | E278: =AVERAGE(E17:E28) -> 1.8334356 | F278: =AVERAGE(F17:F28) -> 19.26699 | G278: =AVERAGE(G17:G28) -> 17.288036 | H278: =AVERAGE(H17:H28) -> 3.0585895
A279: Average 1993 | B279: =AVERAGE(B29:B40) -> 48.776872 | C279: =AVERAGE(C29:C40) -> -25.925458 | D279: =AVERAGE(D29:D40) -> 9.7712557 | E279: =AVERAGE(E29:E40) -> 11.590147 | F279: =AVERAGE(F29:F40) -> 6.122194 | G279: =AVERAGE(G29:G40) -> 17.715442 | H279: =AVERAGE(H29:H40) -> 1.8771306
A280: Average 1994 | B280: =AVERAGE(B41:B52) -> 46.063497 | C280: =AVERAGE(C41:C52) -> -25.171897 | D280: =AVERAGE(D41:D52) -> 14.737452 | E280: =AVERAGE(E41:E52) -> 23.692025 | F280: =AVERAGE(F41:F52) -> 6.6909268 | G280: =AVERAGE(G41:G52) -> 16.886954 | H280: =AVERAGE(H41:H52) -> 11.257463
A281: Average 1995 | B281: =AVERAGE(B53:B64) -> 34.735953 | C281: =AVERAGE(C53:C64) -> 4.88015 | D281: =AVERAGE(D53:D64) -> 18.176482 | E281: =AVERAGE(E53:E64) -> 27.178108 | F281: =AVERAGE(F53:F64) -> 12.753719 | G281: =AVERAGE(G53:G64) -> 19.283371 | H281: =AVERAGE(H53:H64) -> 15.076743
A282: Average 1996 | B282: =AVERAGE(B65:B76) -> 13.672008 | C282: =AVERAGE(C65:C76) -> -6.8360463 | D282: =AVERAGE(D65:D76) -> 18.72902 | E282: =AVERAGE(E65:E76) -> 26.022789 | F282: =AVERAGE(F65:F76) -> 17.569338 | G282: =AVERAGE(G65:G76) -> 18.263516 | H282: =AVERAGE(H65:H76) -> 17.13045
A283: Average 1997 | B283: =AVERAGE(B77:B88) -> 8.8841116 | C283: =AVERAGE(C77:C88) -> -2.0848998 | D283: =AVERAGE(D77:D88) -> 16.321723 | E283: =AVERAGE(E77:E88) -> 14.500783 | F283: =AVERAGE(F77:F88) -> 7.1494905 | G283: =AVERAGE(G77:G88) -> 14.145015 | H283: =AVERAGE(H77:H88) -> 21.608224
A284: Average 1998 | B284: =AVERAGE(B89:B100) -> 20.857082 | C284: =AVERAGE(C89:C100) -> 16.054674 | D284: =AVERAGE(D89:D100) -> 15.607807 | E284: =AVERAGE(E89:E100) -> 7.8210235 | F284: =AVERAGE(F89:F100) -> -3.1845916 | G284: =AVERAGE(G89:G100) -> 11.109482 | H284: =AVERAGE(H89:H100) -> 26.928809
A285: Average 1999 | B285: =AVERAGE(B102:B112) -> 28.593548 | C285: =AVERAGE(C102:C112) -> -6.0666892 | D285: =AVERAGE(D102:D112) -> 10.142988 | E285: =AVERAGE(E102:E112) -> 1.1806688 | F285: =AVERAGE(F102:F112) -> -0.21004067 | G285: =AVERAGE(G102:G112) -> 5.2375958 | H285: =AVERAGE(H102:H112) -> 19.369662
A286: Average 2000 | B286: =AVERAGE(B113:B124) -> 34.045639 | C286: =AVERAGE(C113:C124) -> -13.895556 | D286: =AVERAGE(D113:D124) -> 8.5138925 | E286: =AVERAGE(E113:E124) -> 5.0027993 | F286: =AVERAGE(F113:F124) -> 5.0038132 | G286: =AVERAGE(G113:G124) -> 7.5643524 | H286: =AVERAGE(H113:H124) -> 10.807772
A287: Average 2001 | B287: =AVERAGE(B125:B135) -> 2.0880678 | C287: =AVERAGE(C125:C135) -> 56.493885 | D287: =AVERAGE(D125:D135) -> 9.7213824 | E287: =AVERAGE(E125:E135) -> 12.71687 | F287: =AVERAGE(F125:F135) -> 17.724716 | G287: =AVERAGE(G125:G135) -> 14.984106 | H287: =AVERAGE(H125:H135) -> 3.3898087
A288: Average 2002 | B288: =AVERAGE(B137:B148) -> 19.247166 | C288: =AVERAGE(C137:C148) -> 3.800048 | D288: =AVERAGE(D137:D148) -> 10.883518 | E288: =AVERAGE(E137:E148) -> 15.393544 | F288: =AVERAGE(F137:F148) -> 15.27411 | G288: =AVERAGE(G137:G148) -> 11.887515 | H288: =AVERAGE(H137:H148) -> 8.2524206
A289: Average 2003 | B289: =AVERAGE(B149:B160) -> 137.21447 | C289: =AVERAGE(C149:C160) -> -23.373049 | D289: =AVERAGE(D149:D160) -> 11.568576 | E289: =AVERAGE(E149:E160) -> 18.388382 | F289: =AVERAGE(F149:F160) -> 8.6933314 | G289: =AVERAGE(G149:G160) -> 12.668403 | H289: =AVERAGE(H149:H160) -> 8.9208326
A290: Average 2004 | B290: =AVERAGE(B161:B172) -> -26.350538 | C290: =AVERAGE(C161:C172) -> -9.6913754 | D290: =AVERAGE(D161:D172) -> 12.319083 | E290: =AVERAGE(E161:E172) -> 18.230595 | F290: =AVERAGE(F161:F172) -> 19.002479 | G290: =AVERAGE(G161:G172) -> 18.853835 | H290: =AVERAGE(H161:H172) -> 2.6205332
A291: Average 2005 | B291: =AVERAGE(B173:B184) -> 20.490644 | C291: =AVERAGE(C173:C184) -> -12.635332 | D291: =AVERAGE(D173:D184) -> 20.697646 | E291: =AVERAGE(E173:E184) -> 20.518656 | F291: =AVERAGE(F173:F184) -> 13.186373 | G291: =AVERAGE(G173:G184) -> 26.698939 | H291: =AVERAGE(H173:H184) -> 14.254367
A292: Average 2006 | B292: =AVERAGE(B185:B196) -> 22.753024 | C292: =AVERAGE(C185:C196) -> -6.8138407 | D292: =AVERAGE(D185:D196) -> 24.459163 | E292: =AVERAGE(E185:E196) -> 16.848019 | F292: =AVERAGE(F185:F196) -> 20.352957 | G292: =AVERAGE(G185:G196) -> 29.86255 | H292: =AVERAGE(H185:H196) -> 20.338024
A293: Average 2007 | B293: =AVERAGE(B197:B208) -> -2.6401395 | C293: =AVERAGE(C197:C208) -> 6.0329885 | D293: =AVERAGE(D197:D208) -> 25.833266 | E293: =AVERAGE(E197:E208) -> 14.907246 | F293: =AVERAGE(F197:F208) -> 13.02728 | G293: =AVERAGE(G197:G208) -> 26.982371 | H293: =AVERAGE(H197:H208) -> 29.762962
A294: Average 2008 | B294: =AVERAGE(B209:B220) -> 4.8305543 | C294: =AVERAGE(C209:C220) -> 12.425923 | D294: =AVERAGE(D209:D220) -> 19.851759 | E294: =AVERAGE(E209:E220) -> 21.992793 | F294: =AVERAGE(F209:F220) -> -15.238985 | G294: =AVERAGE(G209:G220) -> 19.233846 | H294: =AVERAGE(H209:H220) -> 24.333327
A295: Average 2009 | B295: =AVERAGE(B221:B232) -> 30.038606 | C295: =AVERAGE(C221:C225) -> 25.970672 | D295: =AVERAGE(D221:D225) -> 7.8158786 | E295: =AVERAGE(E221:E225) -> 8.2576339 | F295: =AVERAGE(F221:F225) -> -20.369403 | G295: =AVERAGE(G221:G225) -> 10.994821 | H295: =AVERAGE(H221:H225) -> 5.7404786
A296: Average 2010 | B296: =AVERAGE(B233:B244) -> 4.2876008 | C296: =AVERAGE(C233:C244) -> -3.7683991 | D296: =AVERAGE(D233:D244) -> 1.9474499 | E296: =AVERAGE(E233:E244) -> 2.3769827 | F296: =AVERAGE(F233:F244) -> -23.922149 | G296: =AVERAGE(G233:G244) -> 4.3002308 | H296: =AVERAGE(H233:H244) -> -0.10234097
A297: Average 2011 | B297: =AVERAGE(B246:B256) -> 3.8808411 | C297: =AVERAGE(C246:C256) -> -7.2397186 | D297: =AVERAGE(D246:D256) -> 5.8592314 | E297: =AVERAGE(E246:E256) -> 8.629814 | F297: =AVERAGE(F246:F256) -> -20.038811 | G297: =AVERAGE(G246:G256) -> 2.6627639 | H297: =AVERAGE(H246:H256) -> 11.356232
