Workbook

Sheet municipalities(2011)
A1: Key Statistics 2011
A2: Municipality | B2: Total population | C2: Young (0-14) % of total | D2: Working Age (15-64) % of total | E2: Elderly (65+) % of total | F2: Dependency ratio( % of total) | G2: Sex ratio | H2: Pop Growth rate 2001-2011 ( % of total) | I2: Population density | J2: Unemployment rate( % of total) | K2: Youth unemployment rate( % of total) | L2: No schooling aged 20+( % of total) | M2: Higher education aged 20+( % of total) | N2: Matric aged 20+( % of total) | O2: Number of households | P2: Average household size | Q2: Female headed households( % of total) | R2: Formal dwellings( % of total) | S2: Housing owned/paying off( % of total) | T2: Flush toilet connected to sewerage( % of total) | U2: Weekly refuse removal( % of total) | V2: Piped water inside dwelling( % of total) | W2: Electricity for lighting( % of total)
A3: Abaqulusi | B3: 211060 | C3: 36.7 | D3: 58.6 | E3: 4.7 | F3: 70.5 | G3: 90 | H3: 0.01 | I3: 50 | J3: 35.4 | K3: 45.1 | L3: 16.9 | M3: 6.6 | N3: 28.1 | O3: 43299 | P3: 4.6 | Q3: 50 | R3: 78.8 | S3: 66.6 | T3: 40.9 | U3: 41.5 | V3: 38.8 | W3: 72.1
A4: Dannhauser | B4: 102161 | C4: 38.2 | D4: 56.7 | E4: 5 | F4: 76.3 | G4: 90 | H4: -0.06 | I4: 67 | J4: 47.6 | K4: 58.2 | L4: 8.9 | M4: 3.7 | N4: 25.4 | O4: 20439 | P4: 4.9 | Q4: 50.7 | R4: 82.7 | S4: 45.7 | T4: 11.5 | U4: 11.5 | V4: 19.5 | W4: 80.7
A5: eDumbe | B5: 82053 | C5: 40 | D5: 55 | E5: 5 | F5: 81.7 | G5: 88.2 | H5: -0.02 | I5: 42 | J5: 37.7 | K5: 45.4 | L5: 18.3 | M5: 4 | N5: 22.1 | O5: 16138 | P5: 5 | Q5: 52.1 | R5: 74 | S5: 62.6 | T5: 5.5 | U5: 20.7 | V5: 13.8 | W5: 62.8
A6: Emadlangeni | B6: 34442 | C6: 35.9 | D6: 59.1 | E6: 5.1 | F6: 69.3 | G6: 103.1 | H6: 0.65 | I6: 10 | J6: 37.6 | K6: 46.4 | L6: 14.9 | M6: 5 | N6: 20.1 | O6: 6252 | P6: 5.2 | Q6: 38.8 | R6: 58.3 | S6: 41.8 | T6: 28.5 | U6: 24.2 | V6: 27 | W6: 48.5
A7: Emnambithi | B7: 237437 | C7: 33.3 | D7: 62.2 | E7: 4.5 | F7: 60.7 | G7: 88.7 | H7: 0.52 | I7: 80 | J7: 34 | K7: 43.4 | L7: 8.1 | M7: 9 | N7: 30.9 | O7: 58058 | P7: 4 | Q7: 49.4 | R7: 80.5 | S7: 49.7 | T7: 56.1 | U7: 58.1 | V7: 45.4 | W7: 82.1
A8: Endumen | B8: 64862 | C8: 31.4 | D8: 63.8 | E8: 4.8 | F8: 56.8 | G8: 95.2 | H8: 2.38 | I8: 40 | J8: 26.4 | K8: 36.2 | L8: 7 | M8: 10.7 | N8: 31.8 | O8: 16851 | P8: 3.7 | Q8: 42.3 | R8: 87.1 | S8: 55.8 | T8: 76.1 | U8: 76.7 | V8: 61.9 | W8: 79.1
A9: Ethekwini | B9: 3442361 | C9: 25.2 | D9: 70 | E9: 4.8 | F9: 42.8 | G9: 95.6 | H9: 1.08 | I9: 1502 | J9: 30.2 | K9: 39 | L9: 4.2 | M9: 12.3 | N9: 37.1 | O9: 956713 | P9: 3.4 | Q9: 40 | R9: 79 | S9: 54.5 | T9: 63.4 | U9: 86.1 | V9: 60.2 | W9: 89.9
A10: Ezingoleni | B10: 52540 | C10: 37.7 | D10: 56.7 | E10: 5.7 | F10: 76.4 | G10: 84.7 | H10: -0.42 | I10: 81 | J10: 41.6 | K10: 51.9 | L10: 14.2 | M10: 4.2 | N10: 16.6 | O10: 11472 | P10: 4.3 | Q10: 58.1 | R10: 64 | S10: 86 | T10: 3.3 | U10: 1.4 | V10: 6.8 | W10: 79.9
A11: Greater Kokstad | B11: 65981 | C11: 30.6 | D11: 66.7 | E11: 2.7 | F11: 49.9 | G11: 94.4 | H11: 1.55 | I11: 25 | J11: 28.9 | K11: 36.3 | L11: 4.1 | M11: 10.8 | N11: 28.3 | O11: 19140 | P11: 3.1 | Q11: 41.6 | R11: 83.6 | S11: 36.3 | T11: 60.1 | U11: 74 | V11: 36.1 | W11: 80.7
A12: Hibiscuss Coast | B12: 256135 | C12: 28.2 | D12: 64.6 | E12: 7.2 | F12: 54.9 | G12: 89.7 | H12: 1.62 | I12: 305 | J12: 28 | K12: 37.3 | L12: 7.6 | M12: 11.2 | N12: 28.7 | O12: 72175 | P12: 3.4 | Q12: 46.1 | R12: 83.3 | S12: 59 | T12: 29.6 | U12: 38.6 | V12: 40.5 | W12: 85.6
A13: Hlabisa | B13: 71925 | C13: 41.4 | D13: 53.8 | E13: 4.8 | F13: 85.8 | G13: 84.5 | H13: 0.38 | I13: 46 | J13: 52.6 | K13: 61.9 | L13: 21.9 | M13: 3.2 | N13: 26.6 | O13: 12586 | P13: 5.4 | Q13: 58.9 | R13: 65.7 | S13: 40.5 | T13: 4.1 | U13: 5.4 | V13: 12.5 | W13: 55.4
A14: Imbabazane | B14: 113073 | C14: 37.5 | D14: 57.9 | E14: 4.6 | F14: 72.7 | G14: 87.7 | H14: -0.65 | I14: 79 | J14: 48.6 | K14: 58.6 | L14: 15.5 | M14: 3.4 | N14: 26.1 | O14: 22365 | P14: 5 | Q14: 53.8 | R14: 58.5 | S14: 64.3 | T14: 1.1 | U14: 0.9 | V14: 3.9 | W14: 69.2
... A53: Vulamehlo | B53: 77403 | C53: 36.9 | D53: 56.9 | E53: 6.2 | F53: 75.7 | G53: 87.2 | H53: -0.69 | I53: 81 | J53: 52.6 | K53: 62.8 | L53: 24.2 | M53: 2.3 | N53: 20.8 | O53: 16135 | P53: 4.7 | Q53: 55.3 | R53: 30.5 | S53: 63.4 | T53: 2.8 | U53: 1.7 | V53: 5.6 | W53: 36.9
A55: Average | B55: =AVERAGE(B3:B53) -> 201319.67 | C55: =AVERAGE(C3:C53) -> 35.837255 | D55: =AVERAGE(D3:D53) -> 59.056863 | E55: =AVERAGE(E3:E53) -> 5.1058824 | F55: =AVERAGE(F3:F53) -> 70.535294 | G55: =AVERAGE(G3:G53) -> 88.729412 | H55: =AVERAGE(H3:H53) -> 0.39901961 | I55: =AVERAGE(I3:I53) -> 136.17647 | ... W55: =AVERAGE(W3:W53) -> 66.086275
A56: Median | B56: =MEDIAN(B3:B53) -> 106374 | C56: =MEDIAN(C3:C53) -> 37.2 | D56: =MEDIAN(D3:D53) -> 57.2 | E56: =MEDIAN(E3:E53) -> 5 | F56: =MEDIAN(F3:F53) -> 74.9 | G56: =MEDIAN(G3:G53) -> 88 | H56: =MEDIAN(H3:H53) -> 0.38 | I56: =MEDIAN(I3:I53) -> 69 | ... W56: =MEDIAN(W3:W53) -> 71.9
A57: St Dev | B57: =STDEV(B3:B53) -> 473783.83 | C57: =STDEV(C3:C53) -> 5.1608511 | D57: =STDEV(D3:D53) -> 5.1616375 | E57: =STDEV(E3:E53) -> 1.0068588 | F57: =STDEV(F3:F53) -> 14.308303 | G57: =STDEV(G3:G53) -> 5.6717297 | H57: =STDEV(H3:H53) -> 1.1794393 | I57: =STDEV(I3:I53) -> 246.42855 | ... W57: =STDEV(W3:W53) -> 18.821084
A58: Max | B58: =MAX(B3:B53) -> 3442361 | C58: =MAX(C3:C53) -> 43.7 | D58: =MAX(D3:D53) -> 70.3 | E58: =MAX(E3:E53) -> 8.3 | F58: =MAX(F3:F53) -> 96.8 | G58: =MAX(G3:G53) -> 107.7 | H58: =MAX(H3:H53) -> 3.25 | I58: =MAX(I3:I53) -> 1502 | ... W58: =MAX(W3:W53) -> 93.5
A59: Min | B59: =MIN(B3:B53) -> 12898 | C59: =MIN(C3:C53) -> 24.2 | D59: =MIN(D3:D53) -> 50.8 | E59: =MIN(E3:E53) -> 2.7 | F59: =MIN(F3:F53) -> 42.2 | G59: =MIN(G3:G53) -> 76.8 | H59: =MIN(H3:H53) -> -2.21 | I59: =MIN(I3:I53) -> 7 | ... W59: =MIN(W3:W53) -> 14.2
A60: Max-Min | B60: =B58-B59 -> 3429463 | C60: =C58-C59 -> 19.5 | D60: =D58-D59 -> 19.5 | E60: =E58-E59 -> 5.6 | F60: =F58-F59 -> 54.6 | G60: =G58-G59 -> 30.9 | H60: =H58-H59 -> 5.46 | I60: =I58-I59 -> 1495 | ... W60: =W58-W59 -> 79.3
A61: Norminv | B61: =NORMINV(0.5,B55,B57) -> 201319.67 | C61: =NORMINV(0.5,C55,C57) -> 35.837255 | D61: =NORMINV(0.5,D55,D57) -> 59.056863 | E61: =NORMINV(0.5,E55,E57) -> 5.1058824 | F61: =NORMINV(0.5,F55,F57) -> 70.535294 | G61: =NORMINV(0.5,G55,G57) -> 88.729412 | H61: =NORMINV(0.5,H55,H57) -> 0.39901961 | I61: =NORMINV(0.5,I55,I57) -> 136.17647 | ... W61: =NORMINV(0.5,W55,W57) -> 66.086275
A62: Kurt | B62: =KURT(B3:B53) -> 46.213101 | C62: =KURT(C3:C53) -> -0.3681006 | D62: =KURT(D3:D53) -> -0.69711058 | E62: =KURT(E3:E53) -> 2.0521359 | F62: =KURT(F3:F53) -> -0.87571433 | G62: =KURT(G3:G53) -> 1.9275121 | H62: =KURT(H3:H53) -> 0.25811923 | I62: =KURT(I3:I53) -> 21.208587 | ... W62: =KURT(W3:W53) -> 0.0639397
A63: Correlation | B63: =CORREL($B3:$B53,C3:C53) -> -0.32616677 | C63: =CORREL($B3:$B53,D3:D53) -> 0.3394194 | D63: =CORREL($B3:$B53,D3:D53) -> 0.3394194 | E63: =CORREL($B3:$B53,E3:E53) -> -0.069221345 | F63: =CORREL($B3:$B53,F3:F53) -> -0.31107584 | G63: =CORREL($B3:$B53,G3:G53) -> 0.15512709 | H63: =CORREL($B3:$B53,H3:H53) -> 0.11566447 | I63: =CORREL($B3:$B53,I3:I53) -> 0.87909942 | J63: =CORREL($B3:$B53,J3:J53) -> -0.10191097 | K63: =CORREL($B3:$B53,K3:K53) -> -0.080775272 | ... W63: =CORREL($B3:$B53,W3:W53) -> 0.22648182
A64: Skewness | B64: =SKEW(B3:B53) -> 6.666366 | C64: =SKEW(C3:C53) -> -0.73004851 | D64: =SKEW(D3:D53) -> 0.59025288 | E64: =SKEW(E3:E53) -> 0.86711398 | F64: =SKEW(F3:F53) -> -0.34793066 | G64: =SKEW(G3:G53) -> 0.81049951 | H64: =SKEW(H3:H53) -> 0.26220794 | I64: =SKEW(I3:I53) -> 4.3898617 | ... W64: =SKEW(W3:W53) -> -0.79845584
A65: Sum | B65: =COUNT(B3:B53) -> 51 | C65: =COUNT(C3:C53) -> 51 | D65: =COUNT(D3:D53) -> 51 | E65: =COUNT(E3:E53) -> 51 | F65: =COUNT(F3:F53) -> 51 | G65: =COUNT(G3:G53) -> 51 | H65: =COUNT(H3:H53) -> 51 | I65: =COUNT(I3:I53) -> 51 | ... W65: =COUNT(W3:W53) -> 51
A66: Var | B66: =VAR(B3:B53) -> 2.2447112e+11 | C66: =VAR(C3:C53) -> 26.634384 | D66: =VAR(D3:D53) -> 26.642502 | E66: =VAR(E3:E53) -> 1.0137647 | F66: =VAR(F3:F53) -> 204.72753 | G66: =VAR(G3:G53) -> 32.168518 | H66: =VAR(H3:H53) -> 1.391077 | I66: =VAR(I3:I53) -> 60727.028 | ... W66: =VAR(W3:W53) -> 354.23321

Sheet municipalities(2001)
A1: Key Statistics 2001
A2: Municipality | B2: Total population | C2: Young (0-14) % of total | D2: Working Age (15-64) % of total | E2: Elderly (65+) % of total | F2: Dependency ratio( % of total) | G2: Sex ratio | H2: Pop Growth rate 2001-2011 ( % of total) | I2: ='municipalities(2011)'!I2 -> Population density | J2: Unemployment rate( % of total) | K2: Youth unemployment rate( % of total) | L2: No schooling aged 20+( % of total) | M2: Higher education aged 20+( % of total) | N2: Matric aged 20+( % of total) | O2: Number of households | P2: Average household size | Q2: Female headed households( % of total) | R2: Formal dwellings( % of total) | S2: Housing owned/paying off( % of total) | T2: Flush toilet connected to sewerage( % of total) | U2: Weekly refuse removal( % of total) | V2: Piped water inside dwelling( % of total) | W2: Electricity for lighting( % of total)
A3: Abaqulusi | B3: 191019 | C3: 38 | D3: 58.6 | E3: 4.6 | F3: 73.9 | G3: 91.4 | H3: 2.58 | J3: 59.4 | K3: 69.2 | L3: 30.2 | M3: 6.2 | N3: 16.1 | O3: 35914 | P3: 5.1 | Q3: 49.5 | R3: 59.3 | S3: 52.8 | T3: 36.4 | U3: 35.8 | V3: 19.3 | W3: 43.7
A4: Dannhauser | B4: 102774 | C4: 40.5 | D4: 56.7 | E4: 4.7 | F4: 82.6 | G4: 89.9 | H4: 0.71 | J4: 67.4 | K4: 76.3 | L4: 22.9 | M4: 3.4 | N4: 15.1 | O4: 19320 | P4: 5.3 | Q4: 48.6 | R4: 66.7 | S4: 35.1 | T4: 10.9 | U4: 10.2 | V4: 8 | W4: 43.5
A5: eDumbe | B5: 82241 | C5: 41.7 | D5: 55 | E5: 4.8 | F5: 87 | G5: 89.7 | H5: 4.59 | J5: 57.5 | K5: 64.7 | L5: 37.7 | M5: 3 | N5: 10.5 | O5: 15107 | P5: 5.2 | Q5: 48.4 | R5: 61.7 | S5: 46.9 | T5: 5.2 | U5: 26.5 | V5: 4.7 | W5: 32.4
A6: Emadlangeni | B6: 32277 | C6: 35.2 | D6: 59.1 | E6: 4.9 | F6: 66.7 | G6: 131.3 | H6: 6 | J6: 39.3 | K6: 47.5 | L6: 29.6 | M6: 5 | N6: 29.6 | O6: 6252 | P6: 5.2 | Q6: 38.8 | R6: 58.3 | S6: 41.8 | T6: 28.5 | U6: 24.2 | V6: 27 | W6: 48.5
A7: Emnambithi | B7: 225459 | C7: 34.3 | D7: 62.2 | E7: 4.1 | F7: 62.4 | G7: 87.1 | H7: 4.64 | J7: 49.2 | K7: 58.8 | L7: 16 | M7: 6.7 | N7: 20.9 | O7: 50529 | P7: 4.3 | Q7: 47.5 | R7: 64.7 | S7: 51.6 | T7: 44.8 | U7: 52.9 | V7: 32.4 | W7: 67.8
A8: Endumen | B8: 51101 | C8: 31.9 | D8: 63.8 | E8: 4.4 | F8: 57 | G8: 96.5 | H8: 2.81 | J8: 46 | K8: 56.5 | L8: 15.5 | M8: 7.8 | N8: 22.2 | O8: 12278 | P8: 3.8 | Q8: 40.1 | R8: 81.7 | S8: 49.6 | T8: 74.8 | U8: 68.4 | V8: 36.9 | W8: 67.8
A9: Ethekwini | B9: 3090122 | C9: 27.7 | D9: 70 | E9: 4.2 | F9: 46.7 | G9: 92.5 | H9: 2.34 | J9: 43 | K9: 53.1 | L9: 10.1 | M9: 9.7 | N9: 27.1 | O9: 786746 | P9: 3.7 | Q9: 38.2 | R9: 72.8 | S9: 60.4 | T9: 61.3 | U9: 85.7 | V9: 51.2 | W9: 80.3
A10: Ezingoleni | B10: 54775 | C10: 40.1 | D10: 56.7 | E10: 5.4 | F10: 83.2 | G10: 81.3 | H10: 2.83 | J10: 61.5 | K10: 69.2 | L10: 34.8 | M10: 2.5 | N10: 8.1 | O10: 10746 | P10: 4.7 | Q10: 58.1 | R10: 64 | S10: 86 | T10: 3.3 | U10: 1.4 | V10: 6.8 | W10: 79.9
A11: Greater Kokstad | B11: 56528 | C11: 30.9 | D11: 66.7 | E11: 3 | F11: 51.4 | G11: 100.3 | H11: 9.74 | J11: 41.2 | K11: 50.1 | L11: 10.2 | M11: 7.7 | N11: 18 | O11: 19625 | P11: 2.7 | Q11: 43.9 | R11: 67.3 | S11: 28.2 | T11: 59.5 | U11: 60.7 | V11: 14.7 | W11: 49.9
A12: Hibiscuss Coast | B12: 217824 | C12: 31.9 | D12: 64.6 | E12: 6.6 | F12: 62.6 | G12: 86.4 | H12: 2.61 | J12: 41.8 | K12: 51.5 | L12: 20.5 | M12: 7.1 | N12: 18.8 | O12: 51404 | P12: 3.9 | Q12: 45.6 | R12: 77.4 | S12: 65.5 | T12: 30.8 | U12: 36.3 | V12: 30.5 | W12: 74.8
A13: Hlabisa | B13: 69269 | C13: 45.4 | D13: 53.8 | E13: 4.8 | F13: 100.7 | G13: 81.2 | H13: 0.97 | J13: 76.3 | K13: 84.4 | L13: 43.4 | M13: 2.9 | N13: 13.4 | O13: 10611 | P13: 6.3 | Q13: 58.5 | R13: 47.9 | S13: 44.2 | T13: 7.4 | U13: 2.8 | V13: 2.2 | W13: 28.7
A14: Imbabazane | B14: 120622 | C14: 40.7 | D14: 57.9 | E14: 4.6 | F14: 82.5 | G14: 82 | H14: 1.39 | J14: 73.1 | K14: 81.3 | L14: 32.4 | M14: 2.3 | N14: 26.1 | O14: 22365 | P14: 5 | Q14: 53.8 | R14: 58.5 | S14: 64.3 | T14: 1.1 | U14: 0.9 | V14: 3.9 | W14: 69.2
... A53: Vulamehlo | B53: 82961 | C53: 39.8 | D53: 56.9 | E53: 5.8 | F53: 83.7 | G53: 83.5 | H53: -3.66 | J53: 66 | K53: 74.6 | L53: 37 | M53: 2 | N53: 10.3 | O53: 15794 | P53: 4.9 | Q53: 59.4 | R53: 6 | S53: 3.9 | T53: 2.2 | U53: 1.7 | V53: 5.6 | W53: 36.9
A55: Average | B55: =AVERAGE(B3:B53) -> 187806.39 | C55: =AVERAGE(C3:C53) -> 38.441176 | D55: =AVERAGE(D3:D53) -> 59.062745 | E55: =AVERAGE(E3:E53) -> 4.9627451 | F55: =AVERAGE(F3:F53) -> 78.32549 | G55: =AVERAGE(G3:G53) -> 87.229412 | H55: =AVERAGE(H3:H53) -> 2.4143137 | J55: =AVERAGE(J3:J53) -> 56.44902 | K55: =AVERAGE(K3:K53) -> 64.572549 | L55: =AVERAGE(L3:L53) -> 30.813725 | M55: =AVERAGE(M3:M53) -> 4.7882353 | N55: =AVERAGE(N3:N53) -> 14.801961 | O55: =AVERAGE(O3:O53) -> 47453.553 | P55: =AVERAGE(P3:P53) -> 5.3 | Q55: =AVERAGE(Q3:Q53) -> 50.792157 | ... W55: =AVERAGE(W3:W53) -> 47.44902
A56: Median | B56: =MEDIAN(B3:B53) -> 113644 | C56: =MEDIAN(C3:C53) -> 40.1 | D56: =MEDIAN(D3:D53) -> 57.2 | E56: =MEDIAN(E3:E53) -> 4.9 | F56: =MEDIAN(F3:F53) -> 82 | G56: =MEDIAN(G3:G53) -> 86.5 | H56: =MEDIAN(H3:H53) -> 2.52 | J56: =MEDIAN(J3:J53) -> 57.5 | K56: =MEDIAN(K3:K53) -> 64.7 | L56: =MEDIAN(L3:L53) -> 30.2 | M56: =MEDIAN(M3:M53) -> 3.7 | N56: =MEDIAN(N3:N53) -> 13 | O56: =MEDIAN(O3:O53) -> 21421 | P56: =MEDIAN(P3:P53) -> 4.7 | Q56: =MEDIAN(Q3:Q53) -> 49.5 | ... W56: =MEDIAN(W3:W53) -> 45.6
A57: St Dev | B57: =STDEV(B3:B53) -> 424302.81 | C57: =STDEV(C3:C53) -> 5.4305129 | D57: =STDEV(D3:D53) -> 5.153832 | E57: =STDEV(E3:E53) -> 0.86324059 | F57: =STDEV(F3:F53) -> 17.33153 | G57: =STDEV(G3:G53) -> 9.3588737 | H57: =STDEV(H3:H53) -> 2.5292175 | J57: =STDEV(J3:J53) -> 14.044036 | K57: =STDEV(K3:K53) -> 13.734207 | L57: =STDEV(L3:L53) -> 14.662469 | M57: =STDEV(M3:M53) -> 2.6434558 | N57: =STDEV(N3:N53) -> 6.0762979 | O57: =STDEV(O3:O53) -> 117421.68 | P57: =STDEV(P3:P53) -> 5.1648814 | Q57: =STDEV(Q3:Q53) -> 8.5343739 | ... W57: =STDEV(W3:W53) -> 22.010892
A58: Max | B58: =MAX(B3:B53) -> 3090122 | C58: =MAX(C3:C53) -> 47 | D58: =MAX(D3:D53) -> 70.3 | E58: =MAX(E3:E53) -> 6.8 | F58: =MAX(F3:F53) -> 111.7 | G58: =MAX(G3:G53) -> 131.3 | H58: =MAX(H3:H53) -> 9.74 | J58: =MAX(J3:J53) -> 84.1 | K58: =MAX(K3:K53) -> 90.8 | L58: =MAX(L3:L53) -> 87.1 | M58: =MAX(M3:M53) -> 12.4 | N58: =MAX(N3:N53) -> 29.6 | O58: =MAX(O3:O53) -> 786746 | P58: =MAX(P3:P53) -> 41 | Q58: =MAX(Q3:Q53) -> 66.7 | ... W58: =MAX(W3:W53) -> 86.7
A59: Min | B59: =MIN(B3:B53) -> 11848 | C59: =MIN(C3:C53) -> 26.6 | D59: =MIN(D3:D53) -> 50.8 | E59: =MIN(E3:E53) -> 2.8 | F59: =MIN(F3:F53) -> 46.7 | G59: =MIN(G3:G53) -> 71.8 | H59: =MIN(H3:H53) -> -3.66 | J59: =MIN(J3:J53) -> 25.5 | K59: =MIN(K3:K53) -> 32.7 | L59: =MIN(L3:L53) -> 2.4 | M59: =MIN(M3:M53) -> 1.5 | N59: =MIN(N3:N53) -> 7.5 | O59: =MIN(O3:O53) -> 51.2 | P59: =MIN(P3:P53) -> 2.7 | Q59: =MIN(Q3:Q53) -> 34.6 | ... W59: =MIN(W3:W53) -> 6.5
A60: Max-Min | B60: =B58-B59 -> 3078274 | C60: =C58-C59 -> 20.4 | D60: =D58-D59 -> 19.5 | E60: =E58-E59 -> 4 | F60: =F58-F59 -> 65 | G60: =G58-G59 -> 59.5 | H60: =H58-H59 -> 13.4 | J60: =J58-J59 -> 58.6 | K60: =K58-K59 -> 58.1 | L60: =L58-L59 -> 84.7 | M60: =M58-M59 -> 10.9 | N60: =N58-N59 -> 22.1 | O60: =O58-O59 -> 786694.8 | P60: =P58-P59 -> 38.3 | Q60: =Q58-Q59 -> 32.1 | ... W60: =W58-W59 -> 80.2
A61: Norminv | B61: =NORMINV(0.5,B55,B57) -> 187806.39 | C61: =NORMINV(0.5,C55,C57) -> 38.441176 | D61: =NORMINV(0.5,D55,D57) -> 59.062745 | E61: =NORMINV(0.5,E55,E57) -> 4.9627451 | F61: =NORMINV(0.5,F55,F57) -> 78.32549 | G61: =NORMINV(0.5,G55,G57) -> 87.229412 | H61: =NORMINV(0.5,H55,H57) -> 2.4143137 | J61: =NORMINV(0.5,J55,J57) -> 56.44902 | K61: =NORMINV(0.5,K55,K57) -> 64.572549 | L61: =NORMINV(0.5,L55,L57) -> 30.813725 | M61: =NORMINV(0.5,M55,M57) -> 4.7882353 | N61: =NORMINV(0.5,N55,N57) -> 14.801961 | O61: =NORMINV(0.5,O55,O57) -> 47453.553 | P61: =NORMINV(0.5,P55,P57) -> 5.3 | Q61: =NORMINV(0.5,Q55,Q57) -> 50.792157 | ... W61: =NORMINV(0.5,W55,W57) -> 47.44902
A62: Kurt | B62: =KURT(B3:B53) -> 46.196199 | C62: =KURT(C3:C53) -> -0.80713962 | D62: =KURT(D3:D53) -> -0.69651306 | E62: =KURT(E3:E53) -> 0.46313972 | F62: =KURT(F3:F53) -> -1.0776538 | G62: =KURT(G3:G53) -> 8.9681229 | H62: =KURT(H3:H53) -> 1.1060445 | J62: =KURT(J3:J53) -> -0.85175155 | K62: =KURT(K3:K53) -> -0.88700753 | L62: =KURT(L3:L53) -> 3.1098192 | M62: =KURT(M3:M53) -> 0.46045941 | N62: =KURT(N3:N53) -> -0.55823385 | O62: =KURT(O3:O53) -> 33.407528 | P62: =KURT(P3:P53) -> 48.292316 | Q62: =KURT(Q3:Q53) -> -0.98037754 | ... W62: =KURT(W3:W53) -> -0.98732227
A63: Correlation | B63: =CORREL($B3:$B53,C3:C53) -> -0.29316375 | C63: =CORREL($B3:$B53,D3:D53) -> 0.31957737 | D63: =CORREL($B3:$B53,D3:D53) -> 0.31957737 | E63: =CORREL($B3:$B53,E3:E53) -> -0.15370362 | F63: =CORREL($B3:$B53,F3:F53) -> -0.27158104 | G63: =CORREL($B3:$B53,G3:G53) -> 0.032841568 | H63: =CORREL($B3:$B53,H3:H53) -> -0.017462144 | J63: =CORREL($B3:$B53,J3:J53) -> -0.11302853 | K63: =CORREL($B3:$B53,K3:K53) -> -0.08721372 | L63: =CORREL($B3:$B53,L3:L53) -> -0.23540936 | M63: =CORREL($B3:$B53,M3:M53) -> 0.3207753 | N63: =CORREL($B3:$B53,N3:N53) -> 0.34210749 | O63: =CORREL($B3:$B53,O3:O53) -> 0.92073982 | P63: =CORREL($B3:$B53,P3:P53) -> -0.036541872 | Q63: =CORREL($B3:$B53,Q3:Q53) -> -0.21056235 | ... W63: =CORREL($B3:$B53,W3:W53) -> 0.2580926
A64: Skewness | B64: =SKEW(B3:B53) -> 6.6625386 | C64: =SKEW(C3:C53) -> -0.4766252 | D64: =SKEW(D3:D53) -> 0.59553192 | E64: =SKEW(E3:E53) -> 0.11578093 | F64: =SKEW(F3:F53) -> -0.14011405 | G64: =SKEW(G3:G53) -> 2.2346141 | H64: =SKEW(H3:H53) -> 0.31319489 | J64: =SKEW(J3:J53) -> 0.061800284 | K64: =SKEW(K3:K53) -> -0.027885109 | L64: =SKEW(L3:L53) -> 0.8873579 | M64: =SKEW(M3:M53) -> 1.0848071 | N64: =SKEW(N3:N53) -> 0.77057485 | O64: =SKEW(O3:O53) -> 5.5844655 | P64: =SKEW(P3:P53) -> 6.8599322 | Q64: =SKEW(Q3:Q53) -> 0.030377255 | ... W64: =SKEW(W3:W53) -> 0.071061229
A65: Sum | B65: =COUNT(B3:B53) -> 51 | C65: =COUNT(C3:C53) -> 51 | D65: =COUNT(D3:D53) -> 51 | E65: =COUNT(E3:E53) -> 51 | F65: =COUNT(F3:F53) -> 51 | G65: =COUNT(G3:G53) -> 51 | H65: =COUNT(H3:H53) -> 51 | J65: =COUNT(J3:J53) -> 51 | K65: =COUNT(K3:K53) -> 51 | L65: =COUNT(L3:L53) -> 51 | M65: =COUNT(M3:M53) -> 51 | N65: =COUNT(N3:N53) -> 51 | O65: =COUNT(O3:O53) -> 51 | P65: =COUNT(P3:P53) -> 51 | Q65: =COUNT(Q3:Q53) -> 51 | ... W65: =COUNT(W3:W53) -> 51
A66: Var | B66: =VAR(B3:B53) -> 1.8003287e+11 | C66: =VAR(C3:C53) -> 29.490471 | D66: =VAR(D3:D53) -> 26.561984 | E66: =VAR(E3:E53) -> 0.74518431 | F66: =VAR(F3:F53) -> 300.38194 | G66: =VAR(G3:G53) -> 87.588518 | H66: =VAR(H3:H53) -> 6.396941 | J66: =VAR(J3:J53) -> 197.23495 | K66: =VAR(K3:K53) -> 188.62843 | L66: =VAR(L3:L53) -> 214.98801 | M66: =VAR(M3:M53) -> 6.9878588 | N66: =VAR(N3:N53) -> 36.921396 | O66: =VAR(O3:O53) -> 1.3787852e+10 | P66: =VAR(P3:P53) -> 26.676 | Q66: =VAR(Q3:Q53) -> 72.835537 | ... W66: =VAR(W3:W53) -> 484.47935

Sheet % change
A1: Key Statistics
A2: Municipality | B2: Total population | C2: Young (0-14) % of total | D2: Working Age (15-64) % of total | E2: Elderly (65+) % of total | F2: Dependency ratio( % of total) | G2: Sex ratio | H2: Pop Growth rate 2001-2011 ( % of total) | I2: ='municipalities(2011)'!I2 -> Population density | J2: Unemployment rate( % of total) | K2: Youth unemployment rate( % of total) | L2: No schooling aged 20+( % of total) | M2: Higher education aged 20+( % of total) | N2: Matric aged 20+( % of total) | O2: Number of households | P2: Average household size | Q2: Female headed households( % of total) | R2: Formal dwellings( % of total) | S2: Housing owned/paying off( % of total) | T2: Flush toilet connected to sewerage( % of total) | U2: Weekly refuse removal( % of total) | V2: Piped water inside dwelling( % of total) | W2: Electricity for lighting( % of total)
A3: Abaqulusi | B3: =('municipalities(2011)'!B3-'municipalities(2001)'!B3)/'municipalities(2001)'!B3*100/10 -> 1.0491626 | C3: =('municipalities(2011)'!C3-'municipalities(2001)'!C3)/'municipalities(2001)'!C3*100/10 -> -0.34210526 | D3: =('municipalities(2011)'!D3-'municipalities(2001)'!D3)/'municipalities(2001)'!D3*100/10 -> 0 | E3: =('municipalities(2011)'!E3-'municipalities(2001)'!E3)/'municipalities(2001)'!E3*100/10 -> 0.2173913 | F3: =('municipalities(2011)'!F3-'municipalities(2001)'!F3)/'municipalities(2001)'!F3*100/10 -> -0.46008119 | G3: =('municipalities(2011)'!G3-'municipalities(2001)'!G3)/'municipalities(2001)'!G3*100/10 -> -0.15317287 | H3: =('municipalities(2011)'!H3-'municipalities(2001)'!H3)/'municipalities(2001)'!H3*100/10 -> -9.9612403 | I3: =('municipalities(2011)'!I3-'municipalities(2001)'!I3)/'municipalities(2001)'!I3*100/10 -> #DIV/0! | ... W3: =('municipalities(2011)'!W3-'municipalities(2001)'!W3)/'municipalities(2001)'!W3*100/10 -> 6.4988558
A4: Dannhauser | B4: =('municipalities(2011)'!B4-'municipalities(2001)'!B4)/'municipalities(2001)'!B4*100/10 -> -0.059645436 | C4: =('municipalities(2011)'!C4-'municipalities(2001)'!C4)/'municipalities(2001)'!C4*100/10 -> -0.56790123 | D4: =('municipalities(2011)'!D4-'municipalities(2001)'!D4)/'municipalities(2001)'!D4*100/10 -> 0 | E4: =('municipalities(2011)'!E4-'municipalities(2001)'!E4)/'municipalities(2001)'!E4*100/10 -> 0.63829787 | F4: =('municipalities(2011)'!F4-'municipalities(2001)'!F4)/'municipalities(2001)'!F4*100/10 -> -0.76271186 | G4: =('municipalities(2011)'!G4-'municipalities(2001)'!G4)/'municipalities(2001)'!G4*100/10 -> 0.011123471 | H4: =('municipalities(2011)'!H4-'municipalities(2001)'!H4)/'municipalities(2001)'!H4*100/10 -> -10.84507 | I4: =('municipalities(2011)'!I4-'municipalities(2001)'!I4)/'municipalities(2001)'!I4*100/10 -> #DIV/0! | ... W4: =('municipalities(2011)'!W4-'municipalities(2001)'!W4)/'municipalities(2001)'!W4*100/10 -> 8.5517241
A5: eDumbe | B5: =('municipalities(2011)'!B5-'municipalities(2001)'!B5)/'municipalities(2001)'!B5*100/10 -> -0.022859644 | C5: =('municipalities(2011)'!C5-'municipalities(2001)'!C5)/'municipalities(2001)'!C5*100/10 -> -0.40767386 | D5: =('municipalities(2011)'!D5-'municipalities(2001)'!D5)/'municipalities(2001)'!D5*100/10 -> 0 | E5: =('municipalities(2011)'!E5-'municipalities(2001)'!E5)/'municipalities(2001)'!E5*100/10 -> 0.41666667 | F5: =('municipalities(2011)'!F5-'municipalities(2001)'!F5)/'municipalities(2001)'!F5*100/10 -> -0.6091954 | G5: =('municipalities(2011)'!G5-'municipalities(2001)'!G5)/'municipalities(2001)'!G5*100/10 -> -0.16722408 | H5: =('municipalities(2011)'!H5-'municipalities(2001)'!H5)/'municipalities(2001)'!H5*100/10 -> -10.043573 | I5: =('municipalities(2011)'!I5-'municipalities(2001)'!I5)/'municipalities(2001)'!I5*100/10 -> #DIV/0! | ... W5: =('municipalities(2011)'!W5-'municipalities(2001)'!W5)/'municipalities(2001)'!W5*100/10 -> 9.382716
A6: Emadlangeni | B6: =('municipalities(2011)'!B6-'municipalities(2001)'!B6)/'municipalities(2001)'!B6*100/10 -> 0.67075627 | C6: =('municipalities(2011)'!C6-'municipalities(2001)'!C6)/'municipalities(2001)'!C6*100/10 -> 0.19886364 | D6: =('municipalities(2011)'!D6-'municipalities(2001)'!D6)/'municipalities(2001)'!D6*100/10 -> 0 | E6: =('municipalities(2011)'!E6-'municipalities(2001)'!E6)/'municipalities(2001)'!E6*100/10 -> 0.40816327 | F6: =('municipalities(2011)'!F6-'municipalities(2001)'!F6)/'municipalities(2001)'!F6*100/10 -> 0.3898051 | G6: =('municipalities(2011)'!G6-'municipalities(2001)'!G6)/'municipalities(2001)'!G6*100/10 -> -2.1477532 | H6: =('municipalities(2011)'!H6-'municipalities(2001)'!H6)/'municipalities(2001)'!H6*100/10 -> -8.9166667 | I6: =('municipalities(2011)'!I6-'municipalities(2001)'!I6)/'municipalities(2001)'!I6*100/10 -> #DIV/0! | ... W6: =('municipalities(2011)'!W6-'municipalities(2001)'!W6)/'municipalities(2001)'!W6*100/10 -> 0
A7: Emnambithi | B7: =('municipalities(2011)'!B7-'municipalities(2001)'!B7)/'municipalities(2001)'!B7*100/10 -> 0.53127176 | C7: =('municipalities(2011)'!C7-'municipalities(2001)'!C7)/'municipalities(2001)'!C7*100/10 -> -0.29154519 | D7: =('municipalities(2011)'!D7-'municipalities(2001)'!D7)/'municipalities(2001)'!D7*100/10 -> 0 | E7: =('municipalities(2011)'!E7-'municipalities(2001)'!E7)/'municipalities(2001)'!E7*100/10 -> 0.97560976 | F7: =('municipalities(2011)'!F7-'municipalities(2001)'!F7)/'municipalities(2001)'!F7*100/10 -> -0.2724359 | G7: =('municipalities(2011)'!G7-'municipalities(2001)'!G7)/'municipalities(2001)'!G7*100/10 -> 0.1836969 | H7: =('municipalities(2011)'!H7-'municipalities(2001)'!H7)/'municipalities(2001)'!H7*100/10 -> -8.8793103 | I7: =('municipalities(2011)'!I7-'municipalities(2001)'!I7)/'municipalities(2001)'!I7*100/10 -> #DIV/0! | ... W7: =('municipalities(2011)'!W7-'municipalities(2001)'!W7)/'municipalities(2001)'!W7*100/10 -> 2.1091445
A8: Endumen | B8: =('municipalities(2011)'!B8-'municipalities(2001)'!B8)/'municipalities(2001)'!B8*100/10 -> 2.6929023 | C8: =('municipalities(2011)'!C8-'municipalities(2001)'!C8)/'municipalities(2001)'!C8*100/10 -> -0.15673981 | D8: =('municipalities(2011)'!D8-'municipalities(2001)'!D8)/'municipalities(2001)'!D8*100/10 -> 0 | E8: =('municipalities(2011)'!E8-'municipalities(2001)'!E8)/'municipalities(2001)'!E8*100/10 -> 0.90909091 | F8: =('municipalities(2011)'!F8-'municipalities(2001)'!F8)/'municipalities(2001)'!F8*100/10 -> -0.035087719 | G8: =('municipalities(2011)'!G8-'municipalities(2001)'!G8)/'municipalities(2001)'!G8*100/10 -> -0.13471503 | H8: =('municipalities(2011)'!H8-'municipalities(2001)'!H8)/'municipalities(2001)'!H8*100/10 -> -1.5302491 | I8: =('municipalities(2011)'!I8-'municipalities(2001)'!I8)/'municipalities(2001)'!I8*100/10 -> #DIV/0! | ... W8: =('municipalities(2011)'!W8-'municipalities(2001)'!W8)/'municipalities(2001)'!W8*100/10 -> 1.6666667
A9: Ethekwini | B9: =('municipalities(2011)'!B9-'municipalities(2001)'!B9)/'municipalities(2001)'!B9*100/10 -> 1.139887 | C9: =('municipalities(2011)'!C9-'municipalities(2001)'!C9)/'municipalities(2001)'!C9*100/10 -> -0.90252708 | D9: =('municipalities(2011)'!D9-'municipalities(2001)'!D9)/'municipalities(2001)'!D9*100/10 -> 0 | E9: =('municipalities(2011)'!E9-'municipalities(2001)'!E9)/'municipalities(2001)'!E9*100/10 -> 1.4285714 | F9: =('municipalities(2011)'!F9-'municipalities(2001)'!F9)/'municipalities(2001)'!F9*100/10 -> -0.83511777 | G9: =('municipalities(2011)'!G9-'municipalities(2001)'!G9)/'municipalities(2001)'!G9*100/10 -> 0.33513514 | H9: =('municipalities(2011)'!H9-'municipalities(2001)'!H9)/'municipalities(2001)'!H9*100/10 -> -5.3846154 | I9: =('municipalities(2011)'!I9-'municipalities(2001)'!I9)/'municipalities(2001)'!I9*100/10 -> #DIV/0! | ... W9: =('municipalities(2011)'!W9-'municipalities(2001)'!W9)/'municipalities(2001)'!W9*100/10 -> 1.1955168
A10: Ezingoleni | B10: =('municipalities(2011)'!B10-'municipalities(2001)'!B10)/'municipalities(2001)'!B10*100/10 -> -0.40803286 | C10: =('municipalities(2011)'!C10-'municipalities(2001)'!C10)/'municipalities(2001)'!C10*100/10 -> -0.59850374 | D10: =('municipalities(2011)'!D10-'municipalities(2001)'!D10)/'municipalities(2001)'!D10*100/10 -> 0 | E10: =('municipalities(2011)'!E10-'municipalities(2001)'!E10)/'municipalities(2001)'!E10*100/10 -> 0.55555556 | F10: =('municipalities(2011)'!F10-'municipalities(2001)'!F10)/'municipalities(2001)'!F10*100/10 -> -0.81730769 | G10: =('municipalities(2011)'!G10-'municipalities(2001)'!G10)/'municipalities(2001)'!G10*100/10 -> 0.41820418 | H10: =('municipalities(2011)'!H10-'municipalities(2001)'!H10)/'municipalities(2001)'!H10*100/10 -> -11.484099 | I10: =('municipalities(2011)'!I10-'municipalities(2001)'!I10)/'municipalities(2001)'!I10*100/10 -> #DIV/0! | ... W10: =('municipalities(2011)'!W10-'municipalities(2001)'!W10)/'municipalities(2001)'!W10*100/10 -> 0
A11: Greater Kokstad | B11: =('municipalities(2011)'!B11-'municipalities(2001)'!B11)/'municipalities(2001)'!B11*100/10 -> 1.6722686 | C11: =('municipalities(2011)'!C11-'municipalities(2001)'!C11)/'municipalities(2001)'!C11*100/10 -> -0.097087379 | D11: =('municipalities(2011)'!D11-'municipalities(2001)'!D11)/'municipalities(2001)'!D11*100/10 -> 0 | E11: =('municipalities(2011)'!E11-'municipalities(2001)'!E11)/'municipalities(2001)'!E11*100/10 -> -1 | F11: =('municipalities(2011)'!F11-'municipalities(2001)'!F11)/'municipalities(2001)'!F11*100/10 -> -0.29182879 | G11: =('municipalities(2011)'!G11-'municipalities(2001)'!G11)/'municipalities(2001)'!G11*100/10 -> -0.58823529 | H11: =('municipalities(2011)'!H11-'municipalities(2001)'!H11)/'municipalities(2001)'!H11*100/10 -> -8.4086242 | I11: =('municipalities(2011)'!I11-'municipalities(2001)'!I11)/'municipalities(2001)'!I11*100/10 -> #DIV/0! | ... W11: =('municipalities(2011)'!W11-'municipalities(2001)'!W11)/'municipalities(2001)'!W11*100/10 -> 6.1723447
A12: Hibiscuss Coast | B12: =('municipalities(2011)'!B12-'municipalities(2001)'!B12)/'municipalities(2001)'!B12*100/10 -> 1.7588053 | C12: =('municipalities(2011)'!C12-'municipalities(2001)'!C12)/'municipalities(2001)'!C12*100/10 -> -1.1598746 | D12: =('municipalities(2011)'!D12-'municipalities(2001)'!D12)/'municipalities(2001)'!D12*100/10 -> 0 | E12: =('municipalities(2011)'!E12-'municipalities(2001)'!E12)/'municipalities(2001)'!E12*100/10 -> 0.90909091 | F12: =('municipalities(2011)'!F12-'municipalities(2001)'!F12)/'municipalities(2001)'!F12*100/10 -> -1.2300319 | G12: =('municipalities(2011)'!G12-'municipalities(2001)'!G12)/'municipalities(2001)'!G12*100/10 -> 0.38194444 | H12: =('municipalities(2011)'!H12-'municipalities(2001)'!H12)/'municipalities(2001)'!H12*100/10 -> -3.7931034 | I12: =('municipalities(2011)'!I12-'municipalities(2001)'!I12)/'municipalities(2001)'!I12*100/10 -> #DIV/0! | ... W12: =('municipalities(2011)'!W12-'municipalities(2001)'!W12)/'municipalities(2001)'!W12*100/10 -> 1.4438503
A13: Hlabisa | B13: =('municipalities(2011)'!B13-'municipalities(2001)'!B13)/'municipalities(2001)'!B13*100/10 -> 0.3834327 | C13: =('municipalities(2011)'!C13-'municipalities(2001)'!C13)/'municipalities(2001)'!C13*100/10 -> -0.88105727 | D13: =('municipalities(2011)'!D13-'municipalities(2001)'!D13)/'municipalities(2001)'!D13*100/10 -> 0 | E13: =('municipalities(2011)'!E13-'municipalities(2001)'!E13)/'municipalities(2001)'!E13*100/10 -> 0 | F13: =('municipalities(2011)'!F13-'municipalities(2001)'!F13)/'municipalities(2001)'!F13*100/10 -> -1.4796425 | G13: =('municipalities(2011)'!G13-'municipalities(2001)'!G13)/'municipalities(2001)'!G13*100/10 -> 0.40640394 | H13: =('municipalities(2011)'!H13-'municipalities(2001)'!H13)/'municipalities(2001)'!H13*100/10 -> -6.0824742 | I13: =('municipalities(2011)'!I13-'municipalities(2001)'!I13)/'municipalities(2001)'!I13*100/10 -> #DIV/0! | ... W13: =('municipalities(2011)'!W13-'municipalities(2001)'!W13)/'municipalities(2001)'!W13*100/10 -> 9.3031359
A14: Imbabazane | B14: =('municipalities(2011)'!B14-'municipalities(2001)'!B14)/'municipalities(2001)'!B14*100/10 -> -0.6258394 | C14: =('municipalities(2011)'!C14-'municipalities(2001)'!C14)/'municipalities(2001)'!C14*100/10 -> -0.78624079 | D14: =('municipalities(2011)'!D14-'municipalities(2001)'!D14)/'municipalities(2001)'!D14*100/10 -> 0 | E14: =('municipalities(2011)'!E14-'municipalities(2001)'!E14)/'municipalities(2001)'!E14*100/10 -> 0 | F14: =('municipalities(2011)'!F14-'municipalities(2001)'!F14)/'municipalities(2001)'!F14*100/10 -> -1.1878788 | G14: =('municipalities(2011)'!G14-'municipalities(2001)'!G14)/'municipalities(2001)'!G14*100/10 -> 0.69512195 | H14: =('municipalities(2011)'!H14-'municipalities(2001)'!H14)/'municipalities(2001)'!H14*100/10 -> -14.676259 | I14: =('municipalities(2011)'!I14-'municipalities(2001)'!I14)/'municipalities(2001)'!I14*100/10 -> #DIV/0! | ... W14: =('municipalities(2011)'!W14-'municipalities(2001)'!W14)/'municipalities(2001)'!W14*100/10 -> 0
... A53: Vulamehlo | B53: =('municipalities(2011)'!B53-'municipalities(2001)'!B53)/'municipalities(2001)'!B53*100/10 -> -0.66995335 | C53: =('municipalities(2011)'!C53-'municipalities(2001)'!C53)/'municipalities(2001)'!C53*100/10 -> -0.72864322 | D53: =('municipalities(2011)'!D53-'municipalities(2001)'!D53)/'municipalities(2001)'!D53*100/10 -> 0 | E53: =('municipalities(2011)'!E53-'municipalities(2001)'!E53)/'municipalities(2001)'!E53*100/10 -> 0.68965517 | F53: =('municipalities(2011)'!F53-'municipalities(2001)'!F53)/'municipalities(2001)'!F53*100/10 -> -0.9557945 | G53: =('municipalities(2011)'!G53-'municipalities(2001)'!G53)/'municipalities(2001)'!G53*100/10 -> 0.44311377 | H53: =('municipalities(2011)'!H53-'municipalities(2001)'!H53)/'municipalities(2001)'!H53*100/10 -> -8.1147541 | I53: =('municipalities(2011)'!I53-'municipalities(2001)'!I53)/'municipalities(2001)'!I53*100/10 -> #DIV/0! | ... W53: =('municipalities(2011)'!W53-'municipalities(2001)'!W53)/'municipalities(2001)'!W53*100/10 -> 0
A55: Average | B55: =AVERAGE(B3:B53) -> 0.51947904 | C55: =AVERAGE(C3:C53) -> -0.67431198 | D55: =AVERAGE(D3:D53) -> -0.0011204482 | E55: =AVERAGE(E3:E53) -> 0.27694727 | F55: =AVERAGE(F3:F53) -> -0.94316777 | G55: =AVERAGE(G3:G53) -> 0.21858398 | H55: =AVERAGE(H3:H53) -> -7.9130154 | J55: =AVERAGE(J3:J53) -> -3.2683959 | K55: =AVERAGE(K3:K53) -> -2.770248 | L55: =AVERAGE(L3:L53) -> -1.0492404 | M55: =AVERAGE(M3:M53) -> 3.0967368 | N55: =AVERAGE(N3:N53) -> 8.3730049 | O55: =AVERAGE(O3:O53) -> 106.84363 | P55: =AVERAGE(P3:P53) -> -0.93340217 | Q55: =AVERAGE(Q3:Q53) -> 0.26004362 | ... W55: =AVERAGE(W3:W53) -> 6.4848879
A56: Median | B56: =MEDIAN(B3:B53) -> 0.40649764 | C56: =MEDIAN(C3:C53) -> -0.66202091 | D56: =MEDIAN(D3:D53) -> 0 | E56: =MEDIAN(E3:E53) -> 0.2 | F56: =MEDIAN(F3:F53) -> -0.83511777 | G56: =MEDIAN(G3:G53) -> 0.30612245 | H56: =MEDIAN(H3:H53) -> -8.362069 | J56: =MEDIAN(J3:J53) -> -3.1985731 | K56: =MEDIAN(K3:K53) -> -2.754491 | L56: =MEDIAN(L3:L53) -> -4.9375 | M56: =MEDIAN(M3:M53) -> 2.8571429 | N56: =MEDIAN(N3:N53) -> 9.4871795 | O56: =MEDIAN(O3:O53) -> 1.4900354 | P56: =MEDIAN(P3:P53) -> -0.85106383 | Q56: =MEDIAN(Q3:Q53) -> 0.17828201 | ... W56: =MEDIAN(W3:W53) -> 4.9885057
A57: St Dev | B57: =STDEV(B3:B53) -> 1.2704968 | C57: =STDEV(C3:C53) -> 0.42079897 | D57: =STDEV(D3:D53) -> 0.0080016005 | E57: =STDEV(E3:E53) -> 0.65123054 | F57: =STDEV(F3:F53) -> 0.57968677 | G57: =STDEV(G3:G53) -> 0.54243996 | H57: =STDEV(H3:H53) -> 12.119787 | J57: =STDEV(J3:J53) -> 0.79799683 | K57: =STDEV(K3:K53) -> 0.756393 | L57: =STDEV(L3:L53) -> 23.743017 | M57: =STDEV(M3:M53) -> 2.9726524 | N57: =STDEV(N3:N53) -> 4.5670332 | O57: =STDEV(O3:O53) -> 752.58041 | P57: =STDEV(P3:P53) -> 1.2976621 | Q57: =STDEV(Q3:Q53) -> 0.73975504 | ... W57: =STDEV(W3:W53) -> 8.9738097
A58: Max | B58: =MAX(B3:B53) -> 3.8387671 | C58: =MAX(C3:C53) -> 0.19886364 | D58: =MAX(D3:D53) -> 0 | E58: =MAX(E3:E53) -> 2.2058824 | F58: =MAX(F3:F53) -> 0.3898051 | G58: =MAX(G3:G53) -> 1.1340206 | H58: =MAX(H3:H53) -> 23.484848 | J58: =MAX(J3:J53) -> -0.43256997 | K58: =MAX(K3:K53) -> -0.23157895 | L58: =MAX(L3:L53) -> 161.66667 | M58: =MAX(M3:M53) -> 9.2 | N58: =MAX(N3:N53) -> 17.073171 | O58: =MAX(O3:O53) -> 5375.9375 | P58: =MAX(P3:P53) -> 1.4814815 | Q58: =MAX(Q3:Q53) -> 2.8708134 | ... W58: =MAX(W3:W53) -> 58.615385
A59: Min | B59: =MIN(B3:B53) -> -1.9826264 | C59: =MIN(C3:C53) -> -2.6219512 | D59: =MIN(D3:D53) -> -0.057142857 | E59: =MIN(E3:E53) -> -1 | F59: =MIN(F3:F53) -> -3.0477759 | G59: =MIN(G3:G53) -> -2.1477532 | H59: =MIN(H3:H53) -> -70.714286 | J59: =MIN(J3:J53) -> -4.5927602 | K59: =MIN(K3:K53) -> -4.1865079 | L59: =MIN(L3:L53) -> -7.7152698 | M59: =MIN(M3:M53) -> -5.7281553 | N59: =MIN(N3:N53) -> -3.2094595 | O59: =MIN(O3:O53) -> -8.8121945 | P59: =MIN(P3:P53) -> -8.8780488 | Q59: =MIN(Q3:Q53) -> -0.85621971 | ... W59: =MIN(W3:W53) -> 0
A60: Max-Min | B60: =B58-B59 -> 5.8213935 | C60: =C58-C59 -> 2.8208149 | D60: =D58-D59 -> 0.057142857 | E60: =E58-E59 -> 3.2058824 | F60: =F58-F59 -> 3.437581 | G60: =G58-G59 -> 3.2817739 | H60: =H58-H59 -> 94.199134 | J60: =J58-J59 -> 4.1601902 | K60: =K58-K59 -> 3.954929 | L60: =L58-L59 -> 169.38194 | M60: =M58-M59 -> 14.928155 | N60: =N58-N59 -> 20.28263 | O60: =O58-O59 -> 5384.7497 | P60: =P58-P59 -> 10.35953 | Q60: =Q58-Q59 -> 3.7270331 | ... W60: =W58-W59 -> 58.615385
A61: Norminv | B61: =NORMINV(0.5,B55,B57) -> 0.51947904 | C61: =NORMINV(0.5,C55,C57) -> -0.67431198 | D61: =NORMINV(0.5,D55,D57) -> -0.0011204482 | E61: =NORMINV(0.5,E55,E57) -> 0.27694727 | F61: =NORMINV(0.5,F55,F57) -> -0.94316777 | G61: =NORMINV(0.5,G55,G57) -> 0.21858398 | H61: =NORMINV(0.5,H55,H57) -> -7.9130154 | J61: =NORMINV(0.5,J55,J57) -> -3.2683959 | K61: =NORMINV(0.5,K55,K57) -> -2.770248 | L61: =NORMINV(0.5,L55,L57) -> -1.0492404 | M61: =NORMINV(0.5,M55,M57) -> 3.0967368 | N61: =NORMINV(0.5,N55,N57) -> 8.3730049 | O61: =NORMINV(0.5,O55,O57) -> 106.84363 | P61: =NORMINV(0.5,P55,P57) -> -0.93340217 | Q61: =NORMINV(0.5,Q55,Q57) -> 0.26004362 | ... W61: =NORMINV(0.5,W55,W57) -> 6.4848879
A62: Kurt | B62: =KURT(B3:B53) -> 0.44220519 | C62: =KURT(C3:C53) -> 8.2761178 | D62: =KURT(D3:D53) -> 51 | E62: =KURT(E3:E53) -> 0.60133681 | F62: =KURT(F3:F53) -> 2.2520147 | G62: =KURT(G3:G53) -> 6.7940118 | H62: =KURT(H3:H53) -> 15.063044 | J62: =KURT(J3:J53) -> 2.0348714 | K62: =KURT(K3:K53) -> 1.3176772 | L62: =KURT(L3:L53) -> 46.615152 | M62: =KURT(M3:M53) -> 1.0960583 | N62: =KURT(N3:N53) -> -0.092417822 | O62: =KURT(O3:O53) -> 50.999058 | P62: =KURT(P3:P53) -> 28.935624 | Q62: =KURT(Q3:Q53) -> 3.0720717 | ... W62: =KURT(W3:W53) -> 22.897085
A63: Correlation | B63: =CORREL($B3:$B53,C3:C53) -> 0.13216844 | C63: =CORREL($B3:$B53,D3:D53) -> 0.085685089 | D63: =CORREL($B3:$B53,D3:D53) -> 0.085685089 | E63: =CORREL($B3:$B53,E3:E53) -> 0.14936197 | F63: =CORREL($B3:$B53,F3:F53) -> 0.29460402 | G63: =CORREL($B3:$B53,G3:G53) -> -0.32866973 | H63: =CORREL($B3:$B53,H3:H53) -> 0.19576209 | J63: =CORREL($B3:$B53,J3:J53) -> 0.083884827 | K63: =CORREL($B3:$B53,K3:K53) -> -0.019814486 | L63: =CORREL($B3:$B53,L3:L53) -> -0.016138648 | M63: =CORREL($B3:$B53,M3:M53) -> -0.14130998 | N63: =CORREL($B3:$B53,N3:N53) -> -0.47314661 | O63: =CORREL($B3:$B53,O3:O53) -> -0.10423999 | P63: =CORREL($B3:$B53,P3:P53) -> 0.11214565 | Q63: =CORREL($B3:$B53,Q3:Q53) -> 0.20458685 | ... W63: =CORREL($B3:$B53,W3:W53) -> -0.33797765
A64: Skewness | B64: =SKEW(B3:B53) -> 0.53749688 | C64: =SKEW(C3:C53) -> -1.7102006 | D64: =SKEW(D3:D53) -> -7.1414284 | E64: =SKEW(E3:E53) -> 0.64465366 | F64: =SKEW(F3:F53) -> -0.63936754 | G64: =SKEW(G3:G53) -> -1.922991 | H64: =SKEW(H3:H53) -> -2.5405661 | J64: =SKEW(J3:J53) -> 0.81139758 | K64: =SKEW(K3:K53) -> 0.6549197 | L64: =SKEW(L3:L53) -> 6.7373087 | M64: =SKEW(M3:M53) -> -0.28614889 | N64: =SKEW(N3:N53) -> -0.30600953 | O64: =SKEW(O3:O53) -> 7.1413313 | P64: =SKEW(P3:P53) -> -4.6415506 | Q64: =SKEW(Q3:Q53) -> 1.3547657 | ... W64: =SKEW(W3:W53) -> 4.1825224
A65: Sum | B65: =COUNT(B3:B53) -> 51 | C65: =COUNT(C3:C53) -> 51 | D65: =COUNT(D3:D53) -> 51 | E65: =COUNT(E3:E53) -> 51 | F65: =COUNT(F3:F53) -> 51 | G65: =COUNT(G3:G53) -> 51 | H65: =COUNT(H3:H53) -> 51 | J65: =COUNT(J3:J53) -> 51 | K65: =COUNT(K3:K53) -> 51 | L65: =COUNT(L3:L53) -> 51 | M65: =COUNT(M3:M53) -> 51 | N65: =COUNT(N3:N53) -> 51 | O65: =COUNT(O3:O53) -> 51 | P65: =COUNT(P3:P53) -> 51 | Q65: =COUNT(Q3:Q53) -> 51 | ... W65: =COUNT(W3:W53) -> 51
A66: Var | B66: =VAR(B3:B53) -> 1.6141622 | C66: =VAR(C3:C53) -> 0.17707178 | D66: =VAR(D3:D53) -> 6.402561e-05 | E66: =VAR(E3:E53) -> 0.42410121 | F66: =VAR(F3:F53) -> 0.33603676 | G66: =VAR(G3:G53) -> 0.29424111 | H66: =VAR(H3:H53) -> 146.88924 | J66: =VAR(J3:J53) -> 0.63679894 | K66: =VAR(K3:K53) -> 0.57213038 | L66: =VAR(L3:L53) -> 563.73083 | M66: =VAR(M3:M53) -> 8.8366621 | N66: =VAR(N3:N53) -> 20.857792 | O66: =VAR(O3:O53) -> 566377.28 | P66: =VAR(P3:P53) -> 1.683927 | Q66: =VAR(Q3:Q53) -> 0.54723752 | ... W66: =VAR(W3:W53) -> 80.52926
