Workbook

Sheet Sum
M2: Ethekwini | N2: Dundee | O2: Estcourt | P2: Kokstad | Q2: Ladysmith | R2: Newcastle | S2: Pietermaritzburg | T2: Pinetown | U2: Port Shepstone | V2: Prospecton | W2: Richards Bay | X2: Richmond | Y2: Stanger | Z2: Ulundi | AA2: Verulam | AB2: Vryheid
L3: 2007 | M3: =AVERAGE('UIF Appl'!B5:J5) -> 1653.4444 | N3: =AVERAGE('UIF Appl'!B4:J4) -> 87.111111 | O3: =AVERAGE('UIF Appl'!B6:J6) -> 217.33333 | P3: =AVERAGE('UIF Appl'!B7:J7) -> 273.44444 | Q3: =AVERAGE('UIF Appl'!B8:J8) -> 297.88889 | R3: =AVERAGE('UIF Appl'!B9:J9) -> 507.55556 | S3: =AVERAGE('UIF Appl'!B10:J10) -> 1103.1111 | T3: =AVERAGE('UIF Appl'!B11:J11) -> 914.11111 | U3: =AVERAGE('UIF Appl'!B12:J12) -> 579 | V3: =AVERAGE('UIF Appl'!B13:J13) -> 1055.6667 | W3: =AVERAGE('UIF Appl'!B14:J14) -> 929.33333 | X3: =AVERAGE('UIF Appl'!B15:J15) -> 247.77778 | Y3: =AVERAGE('UIF Appl'!B16:J16) -> 634.11111 | Z3: =AVERAGE('UIF Appl'!B17:J17) -> 244.33333 | AA3: =AVERAGE('UIF Appl'!B18:J18) -> 736.88889 | AB3: =AVERAGE('UIF Appl'!B19:J19) -> 183.77778
L4: =L3+1 -> 2008 | M4: =AVERAGE('UIF Appl'!K5:V5) -> 2027.75 | N4: =AVERAGE('UIF Appl'!K4:V4) -> 66.166667 | O4: =AVERAGE('UIF Appl'!K6:V6) -> 185.83333 | P4: =AVERAGE('UIF Appl'!K7:V7) -> 233.66667 | Q4: =AVERAGE('UIF Appl'!K8:V8) -> 373.66667 | R4: =AVERAGE('UIF Appl'!K9:V9) -> 447.66667 | S4: =AVERAGE('UIF Appl'!K10:V10) -> 1154.9167 | T4: =AVERAGE('UIF Appl'!K11:V11) -> 1068.0833 | U4: =AVERAGE('UIF Appl'!K12:V12) -> 711.66667 | V4: =AVERAGE('UIF Appl'!K13:V13) -> 1312 | W4: =AVERAGE('UIF Appl'!K14:V14) -> 1057.0833 | X4: =AVERAGE('UIF Appl'!K15:U15) -> 324.45455 | Y4: =AVERAGE('UIF Appl'!K16:V16) -> 583.16667 | Z4: =AVERAGE('UIF Appl'!K17:V17) -> 215 | AA4: =AVERAGE('UIF Appl'!K18:V18) -> 729.91667 | AB4: =AVERAGE('UIF Appl'!K18:V18) -> 729.91667
L5: =L4+1 -> 2009 | M5: =AVERAGE('UIF Appl'!W5:AH5) -> 2897.1667 | N5: =AVERAGE('UIF Appl'!W4:AH4) -> 92.583333 | O5: =AVERAGE('UIF Appl'!W6:AH6) -> 207.58333 | P5: =AVERAGE('UIF Appl'!W7:AH7) -> 248.25 | Q5: =AVERAGE('UIF Appl'!W8:AH8) -> 423.66667 | R5: =AVERAGE('UIF Appl'!W9:AH9) -> 397.16667 | S5: =AVERAGE('UIF Appl'!W10:AH10) -> 1296.75 | T5: =AVERAGE('UIF Appl'!W11:AH11) -> 1664.4167 | U5: =AVERAGE('UIF Appl'!W12:AH12) -> 684 | V5: =AVERAGE('UIF Appl'!W13:AH13) -> 2332.6667 | W5: =AVERAGE('UIF Appl'!W14:AH14) -> 1328.0833 | X5: =AVERAGE('UIF Appl'!W15:AH15) -> 239.66667 | Y5: =AVERAGE('UIF Appl'!W16:AH16) -> 1066.8333 | Z5: =AVERAGE('UIF Appl'!W17:AH17) -> 228.66667 | AA5: =AVERAGE('UIF Appl'!W18:AH18) -> 1414.3333 | AB5: =AVERAGE('UIF Appl'!W18:AH18) -> 1414.3333
L6: =L5+1 -> 2010 | M6: =AVERAGE('UIF Appl'!AI5:AT5) -> 2245.5 | N6: =AVERAGE('UIF Appl'!AI4:AT4) -> 128.33333 | O6: =AVERAGE('UIF Appl'!AI6:AT6) -> 188.5 | P6: =AVERAGE('UIF Appl'!AI7:AT7) -> 153.58333 | Q6: =AVERAGE('UIF Appl'!AI8:AT8) -> 357.83333 | R6: =AVERAGE('UIF Appl'!AI9:AT9) -> 256 | S6: =AVERAGE('UIF Appl'!AI10:AT10) -> 1085.25 | T6: =AVERAGE('UIF Appl'!AI11:AT11) -> 1130.25 | U6: =AVERAGE('UIF Appl'!AI12:AT12) -> 639 | V6: =AVERAGE('UIF Appl'!AI13:AT13) -> 1349 | W6: =AVERAGE('UIF Appl'!AI14:AT14) -> 921.83333 | X6: =AVERAGE('UIF Appl'!AI15:AT15) -> 242.91667 | Y6: =AVERAGE('UIF Appl'!AI16:AT16) -> 507.33333 | Z6: =AVERAGE('UIF Appl'!AI17:AT17) -> 213.91667 | AA6: =AVERAGE('UIF Appl'!AI18:AT18) -> 876.08333 | AB6: =AVERAGE('UIF Appl'!AI18:AT18) -> 876.08333
L7: =L6+1 -> 2011 | M7: =AVERAGE('UIF Appl'!AU5:BF5) -> 1985.9167 | N7: =AVERAGE('UIF Appl'!AU4:BF4) -> 108.58333 | O7: =AVERAGE('UIF Appl'!AU6:BF6) -> 402.25 | P7: =AVERAGE('UIF Appl'!AU7:BF7) -> 145.75 | Q7: =AVERAGE('UIF Appl'!AU8:BF8) -> 351.25 | R7: =AVERAGE('UIF Appl'!AU9:BF9) -> 308.75 | S7: =AVERAGE('UIF Appl'!AU10:BF10) -> 1336.75 | T7: =AVERAGE('UIF Appl'!AU11:BF11) -> 967.16667 | U7: =AVERAGE('UIF Appl'!AU12:BF12) -> 551.33333 | V7: =AVERAGE('UIF Appl'!AU13:BF13) -> 998.83333 | W7: =AVERAGE('UIF Appl'!AU14:BF14) -> 808.5 | X7: =AVERAGE('UIF Appl'!AU15:BF15) -> 168.25 | Y7: =AVERAGE('UIF Appl'!AU16:BF16) -> 390.08333 | Z7: =AVERAGE('UIF Appl'!AU17:BF17) -> 222.41667 | AA7: =AVERAGE('UIF Appl'!AU18:BF18) -> 621.25 | AB7: =AVERAGE('UIF Appl'!AU18:BF18) -> 621.25
L8: =L7+1 -> 2012 | M8: =AVERAGE('UIF Appl'!BG5:BR5) -> 1925.5 | N8: =AVERAGE('UIF Appl'!BG4:BR4) -> 140.33333 | O8: =AVERAGE('UIF Appl'!BG6:BR6) -> 262.5 | P8: =AVERAGE('UIF Appl'!BG7:BR7) -> 162.08333 | Q8: =AVERAGE('UIF Appl'!BG8:BR8) -> 386.66667 | R8: =AVERAGE('UIF Appl'!BG9:BR9) -> 250 | S8: =AVERAGE('UIF Appl'!BG10:BR10) -> 1200.9167 | T8: =AVERAGE('UIF Appl'!BG11:BR11) -> 792.33333 | U8: =AVERAGE('UIF Appl'!BG12:BR12) -> 586.5 | V8: =AVERAGE('UIF Appl'!BG13:BR13) -> 770.91667 | W8: =AVERAGE('UIF Appl'!BG14:BR14) -> 775.08333 | X8: =AVERAGE('UIF Appl'!BG15:BR15) -> 125.58333 | Y8: =AVERAGE('UIF Appl'!BG16:BR16) -> 464.75 | Z8: =AVERAGE('UIF Appl'!BG17:BR17) -> 226.83333 | AA8: =AVERAGE('UIF Appl'!BG18:BR18) -> 551.83333 | AB8: =AVERAGE('UIF Appl'!BG18:BR18) -> 551.83333
L9: =L8+1 -> 2013 | M9: =AVERAGE('UIF Appl'!BS5:BX5) -> 2629 | N9: =AVERAGE('UIF Appl'!BS4:BX4) -> 224.16667 | O9: =AVERAGE('UIF Appl'!BS6:BX6) -> 307.5 | P9: =AVERAGE('UIF Appl'!BS7:BX7) -> 292.5 | Q9: =AVERAGE('UIF Appl'!BS8:BX8) -> 454.16667 | R9: =AVERAGE('UIF Appl'!BS9:BX9) -> 380.66667 | S9: =AVERAGE('UIF Appl'!BS10:BX10) -> 1442.3333 | T9: =AVERAGE('UIF Appl'!BS11:BX11) -> 1181.6667 | U9: =AVERAGE('UIF Appl'!BS12:BX12) -> 845.33333 | V9: =AVERAGE('UIF Appl'!BS13:BX13) -> 1039.1667 | W9: =AVERAGE('UIF Appl'!BS14:BX14) -> 934.16667 | X9: =AVERAGE('UIF Appl'!BS15:BX15) -> 210.16667 | Y9: =AVERAGE('UIF Appl'!BS16:BX16) -> 830.33333 | Z9: =AVERAGE('UIF Appl'!BS17:BX17) -> 297.66667 | AA9: =AVERAGE('UIF Appl'!BS18:BX18) -> 794.83333 | AB9: =AVERAGE('UIF Appl'!BS18:BX18) -> 794.83333

Sheet UIF Appl
A1: UNEMPLOYMENT INSURANCE APPLICATIONS : KWAZULU-NATAL PROVINCE
B2: Unemployment Insurance Applications Received - April 2007 - May 2010
A3: Labour Centre | B3: 39173 | C3: 39203 | D3: 39234 | E3: 39264 | F3: 39295 | G3: 39326 | H3: 39356 | I3: 39387 | J3: 39417 | K3: 39448 | L3: 39479 | M3: 39508 | N3: 39539 | O3: 39569 | P3: 39600 | Q3: 39630 | R3: 39661 | S3: 39692 | T3: 39722 | U3: 39753 | V3: 39783 | W3: 39814 | X3: 39845 | Y3: 39873 | Z3: 39904 | AA3: 39934 | AB3: 39965 | AC3: 39995 | AD3: 40026 | AE3: 40057 | AF3: 40087 | AG3: 40118 | AH3: 40148 | AI3: 40179 | AJ3: 40210 | AK3: 40238 | AL3: 40269 | AM3: 40299 | AN3: 40330 | AO3: 40360 | AP3: 40391 | AQ3: 40422 | AR3: 40452 | AS3: 40483 | AT3: 40513 | AU3: 40544 | AV3: 40575 | AW3: 40603 | AX3: 40644 | AY3: 40674 | AZ3: 40705 | BA3: 40735 | BB3: 40766 | BC3: 40797 | BD3: 40827 | BE3: 40858 | BF3: 40888 | BG3: 40920 | BH3: 40951 | BI3: 40980 | BJ3: 41011 | BK3: 41041 | BL3: 41072 | BM3: 41102 | BN3: 41133 | BO3: 41164 | BP3: 41194 | BQ3: 41225 | BR3: 41255 | BS3: 41287 | BT3: 41318 | BU3: 41346 | BV3: 41377 | BW3: 41407 | BX3: 41438 | BY3: 41833 | BZ3: 41864 | CA3: 41895 | CB3: 41925 | CC3: 41956 | CD3: 41986
A4: Dundee | B4: 83 | C4: 103 | D4: 25 | E4: 137 | F4: 129 | G4: 72 | H4: 106 | I4: 86 | J4: 43 | K4: 67 | L4: 75 | M4: 52 | N4: 68 | O4: 60 | P4: 86 | Q4: 92 | R4: 68 | S4: 54 | T4: 50 | U4: 65 | V4: 57 | W4: 73 | X4: 91 | Y4: 82 | Z4: 106 | AA4: 114 | AB4: 156 | AC4: 81 | AD4: 102 | AE4: 66 | AF4: 85 | AG4: 65 | AH4: 90 | AI4: 113 | AJ4: 111 | AK4: 115 | AL4: 168 | AM4: 167 | AN4: 249 | AO4: 146 | AP4: 65 | AQ4: 152 | AR4: 80 | AS4: 82 | AT4: 92 | AU4: 99 | AV4: 57 | AW4: 77 | AX4: 105 | AY4: 64 | AZ4: 96 | BA4: 106 | BB4: 123 | BC4: 146 | BD4: 186 | BE4: 144 | BF4: 100 | BG4: 159 | BH4: 98 | BI4: 131 | BJ4: 81 | BK4: 179 | BL4: 143 | BM4: 122 | BN4: 166 | BO4: 134 | BP4: 184 | BQ4: 148 | BR4: 139 | BS4: 175 | BT4: 224 | BU4: 254 | BV4: 234 | BW4: 254 | BX4: 204 | BY4: 198 | BZ4: 123 | CA4: 172 | CB4: 242 | CC4: 291 | CD4: 183
A5: Durban | B5: 1611 | C5: 1839 | D5: 778 | E5: 2097 | F5: 1833 | G5: 2121 | H5: 1421 | I5: 1619 | J5: 1562 | K5: 1036 | L5: 2401 | M5: 2221 | N5: 2102 | O5: 2231 | P5: 2673 | Q5: 1591 | R5: 2406 | S5: 2124 | T5: 1513 | U5: 2340 | V5: 1695 | W5: 2837 | X5: 3355 | Y5: 3283 | Z5: 2923 | AA5: 3012 | AB5: 2927 | AC5: 2647 | AD5: 2054 | AE5: 2123 | AF5: 3392 | AG5: 3324 | AH5: 2889 | AI5: 3319 | AJ5: 3503 | AK5: 2336 | AL5: 2047 | AM5: 2006 | AN5: 1735 | AO5: 2930 | AP5: 913 | AQ5: 2371 | AR5: 2586 | AS5: 1735 | AT5: 1465 | AU5: 1864 | AV5: 2062 | AW5: 2302 | AX5: 1724 | AY5: 1667 | AZ5: 2433 | BA5: 2334 | BB5: 2486 | BC5: 2557 | BD5: 1467 | BE5: 1587 | BF5: 1348 | BG5: 2666 | BH5: 2047 | BI5: 1645 | BJ5: 1168 | BK5: 1834 | BL5: 2008 | BM5: 2134 | BN5: 2659 | BO5: 1633 | BP5: 2042 | BQ5: 2128 | BR5: 1142 | BS5: 2667 | BT5: 2964 | BU5: 2586 | BV5: 2178 | BW5: 2823 | BX5: 2556 | BY5: 3577 | BZ5: 2877 | CA5: 2627 | CB5: 3191 | CC5: 2966 | CD5: 1942
A6: Estcourt | B6: 271 | C6: 105 | D6: 103 | E6: 168 | F6: 360 | G6: 210 | H6: 283 | I6: 225 | J6: 231 | K6: 206 | L6: 242 | M6: 133 | N6: 148 | O6: 138 | P6: 178 | Q6: 264 | R6: 185 | S6: 142 | T6: 265 | U6: 206 | V6: 123 | W6: 90 | X6: 261 | Y6: 217 | Z6: 181 | AA6: 223 | AB6: 219 | AC6: 237 | AD6: 197 | AE6: 307 | AF6: 178 | AG6: 238 | AH6: 143 | AI6: 147 | AJ6: 159 | AK6: 240 | AL6: 97 | AM6: 170 | AN6: 324 | AO6: 345 | AP6: 139 | AQ6: 146 | AR6: 211 | AS6: 179 | AT6: 105 | AU6: 183 | AV6: 262 | AW6: 182 | AX6: 133 | AY6: 109 | AZ6: 135 | BA6: 2730 | BB6: 274 | BC6: 275 | BD6: 249 | BE6: 125 | BF6: 170 | BG6: 217 | BH6: 203 | BI6: 202 | BJ6: 237 | BK6: 126 | BL6: 178 | BM6: 271 | BN6: 972 | BO6: 177 | BP6: 271 | BQ6: 183 | BR6: 113 | BS6: 292 | BT6: 192 | BU6: 263 | BV6: 378 | BW6: 356 | BX6: 364 | BY6: 314 | BZ6: 385 | CA6: 263 | CB6: 327 | CC6: 203 | CD6: 282
A7: Kokstad | B7: 288 | C7: 320 | D7: 102 | E7: 321 | F7: 259 | G7: 254 | H7: 233 | I7: 401 | J7: 283 | K7: 360 | L7: 276 | M7: 282 | N7: 253 | O7: 166 | P7: 204 | Q7: 192 | R7: 183 | S7: 217 | T7: 203 | U7: 189 | V7: 279 | W7: 385 | X7: 272 | Y7: 251 | Z7: 239 | AA7: 502 | AB7: 220 | AC7: 230 | AD7: 267 | AE7: 182 | AF7: 126 | AG7: 206 | AH7: 99 | AI7: 171 | AJ7: 129 | AK7: 131 | AL7: 135 | AM7: 91 | AN7: 172 | AO7: 192 | AP7: 139 | AQ7: 159 | AR7: 244 | AS7: 188 | AT7: 92 | AU7: 139 | AV7: 168 | AW7: 156 | AX7: 84 | AY7: 149 | AZ7: 145 | BA7: 122 | BB7: 142 | BC7: 224 | BD7: 184 | BE7: 132 | BF7: 104 | BG7: 160 | BH7: 216 | BI7: 140 | BJ7: 149 | BK7: 182 | BL7: 132 | BM7: 203 | BN7: 140 | BO7: 152 | BP7: 140 | BQ7: 159 | BR7: 172 | BS7: 312 | BT7: 234 | BU7: 249 | BV7: 401 | BW7: 274 | BX7: 285 | BY7: 302 | BZ7: 294 | CA7: 214 | CB7: 480 | CC7: 213 | CD7: 174
A8: Ladysmith | B8: 317 | C8: 253 | D8: 173 | E8: 314 | F8: 368 | G8: 357 | H8: 380 | I8: 256 | J8: 263 | K8: 238 | L8: 340 | M8: 487 | N8: 328 | O8: 291 | P8: 304 | Q8: 408 | R8: 603 | S8: 396 | T8: 530 | U8: 346 | V8: 213 | W8: 451 | X8: 769 | Y8: 588 | Z8: 377 | AA8: 434 | AB8: 294 | AC8: 383 | AD8: 384 | AE8: 297 | AF8: 457 | AG8: 414 | AH8: 236 | AI8: 480 | AJ8: 192 | AK8: 307 | AL8: 282 | AM8: 317 | AN8: 436 | AO8: 656 | AP8: 267 | AQ8: 360 | AR8: 451 | AS8: 219 | AT8: 327 | AU8: 130 | AV8: 461 | AW8: 378 | AX8: 243 | AY8: 283 | AZ8: 238 | BA8: 485 | BB8: 301 | BC8: 407 | BD8: 468 | BE8: 439 | BF8: 382 | BG8: 349 | BH8: 750 | BI8: 398 | BJ8: 318 | BK8: 400 | BL8: 378 | BM8: 334 | BN8: 366 | BO8: 374 | BP8: 463 | BQ8: 339 | BR8: 171 | BS8: 442 | BT8: 332 | BU8: 343 | BV8: 814 | BW8: 456 | BX8: 338 | BY8: 580 | BZ8: 423 | CA8: 383 | CB8: 483 | CC8: 417 | CD8: 287
A9: Newcastle | B9: 499 | C9: 784 | D9: 563 | E9: 483 | F9: 485 | G9: 503 | H9: 482 | I9: 394 | J9: 375 | K9: 431 | L9: 563 | M9: 305 | N9: 491 | O9: 333 | P9: 468 | Q9: 342 | R9: 343 | S9: 423 | T9: 448 | U9: 518 | V9: 707 | W9: 502 | X9: 622 | Y9: 608 | Z9: 616 | AA9: 592 | AB9: 488 | AC9: 299 | AD9: 195 | AE9: 287 | AF9: 258 | AG9: 136 | AH9: 163 | AI9: 318 | AJ9: 173 | AK9: 199 | AL9: 263 | AM9: 363 | AN9: 192 | AO9: 182 | AP9: 97 | AQ9: 547 | AR9: 277 | AS9: 294 | AT9: 167 | AU9: 338 | AV9: 253 | AW9: 215 | AX9: 248 | AY9: 282 | AZ9: 174 | BA9: 286 | BB9: 750 | BC9: 409 | BD9: 401 | BE9: 255 | BF9: 94 | BG9: 371 | BH9: 0 | BI9: 0 | BJ9: 129 | BK9: 293 | BL9: 285 | BM9: 575 | BN9: 111 | BO9: 373 | BP9: 303 | BQ9: 318 | BR9: 242 | BS9: 382 | BT9: 352 | BU9: 310 | BV9: 370 | BW9: 551 | BX9: 319 | BY9: 408 | BZ9: 413 | CA9: 453 | CB9: 504 | CC9: 461 | CD9: 238
A10: Pietermaritzburg | B10: 1284 | C10: 1021 | D10: 737 | E10: 1142 | F10: 938 | G10: 1369 | H10: 1296 | I10: 1125 | J10: 1016 | K10: 768 | L10: 1669 | M10: 1321 | N10: 1127 | O10: 1046 | P10: 1022 | Q10: 1116 | R10: 1287 | S10: 1168 | T10: 1187 | U10: 1176 | V10: 972 | W10: 889 | X10: 1018 | Y10: 1482 | Z10: 935 | AA10: 2385 | AB10: 1302 | AC10: 1635 | AD10: 1908 | AE10: 1218 | AF10: 970 | AG10: 1049 | AH10: 770 | AI10: 1070 | AJ10: 1357 | AK10: 1174 | AL10: 1080 | AM10: 1154 | AN10: 1018 | AO10: 1369 | AP10: 573 | AQ10: 1446 | AR10: 972 | AS10: 1084 | AT10: 726 | AU10: 1050 | AV10: 1038 | AW10: 1038 | AX10: 882 | AY10: 1059 | AZ10: 1045 | BA10: 3583 | BB10: 1504 | BC10: 1562 | BD10: 1201 | BE10: 1203 | BF10: 876 | BG10: 1283 | BH10: 1167 | BI10: 832 | BJ10: 1108 | BK10: 1131 | BL10: 1418 | BM10: 1199 | BN10: 1493 | BO10: 1678 | BP10: 1327 | BQ10: 547 | BR10: 1228 | BS10: 895 | BT10: 1601 | BU10: 2244 | BV10: 1642 | BW10: 1069 | BX10: 1203 | BY10: 1602 | BZ10: 1160 | CA10: 1744 | CB10: 1168 | CC10: 1258 | CD10: 1037
A11: Pinetown | B11: 1032 | C11: 800 | D11: 528 | E11: 1535 | F11: 990 | G11: 642 | H11: 1034 | I11: 924 | J11: 742 | K11: 542 | L11: 1386 | M11: 1045 | N11: 773 | O11: 933 | P11: 1237 | Q11: 1097 | R11: 1286 | S11: 1189 | T11: 1138 | U11: 1024 | V11: 1167 | W11: 1218 | X11: 2345 | Y11: 1844 | Z11: 1652 | AA11: 1836 | AB11: 1330 | AC11: 2307 | AD11: 1964 | AE11: 1117 | AF11: 1638 | AG11: 1595 | AH11: 1127 | AI11: 1200 | AJ11: 1442 | AK11: 1475 | AL11: 938 | AM11: 1316 | AN11: 1251 | AO11: 1154 | AP11: 340 | AQ11: 1212 | AR11: 1184 | AS11: 1038 | AT11: 1013 | AU11: 1031 | AV11: 1012 | AW11: 1239 | AX11: 980 | AY11: 841 | AZ11: 774 | BA11: 1136 | BB11: 1151 | BC11: 1158 | BD11: 939 | BE11: 774 | BF11: 571 | BG11: 880 | BH11: 821 | BI11: 735 | BJ11: 903 | BK11: 751 | BL11: 895 | BM11: 980 | BN11: 928 | BO11: 828 | BP11: 193 | BQ11: 988 | BR11: 606 | BS11: 1134 | BT11: 1170 | BU11: 1132 | BV11: 1267 | BW11: 1285 | BX11: 1102 | BY11: 1307 | BZ11: 1024 | CA11: 1193 | CB11: 1524 | CC11: 1321 | CD11: 999
A12: Port Shepstone | B12: 419 | C12: 520 | D12: 330 | E12: 400 | F12: 846 | G12: 394 | H12: 740 | I12: 780 | J12: 782 | K12: 425 | L12: 878 | M12: 923 | N12: 507 | O12: 906 | P12: 585 | Q12: 603 | R12: 837 | S12: 856 | T12: 403 | U12: 855 | V12: 762 | W12: 845 | X12: 1044 | Y12: 735 | Z12: 818 | AA12: 859 | AB12: 886 | AC12: 607 | AD12: 453 | AE12: 459 | AF12: 421 | AG12: 544 | AH12: 537 | AI12: 1017 | AJ12: 742 | AK12: 613 | AL12: 490 | AM12: 705 | AN12: 647 | AO12: 528 | AP12: 433 | AQ12: 534 | AR12: 699 | AS12: 863 | AT12: 397 | AU12: 599 | AV12: 611 | AW12: 909 | AX12: 530 | AY12: 481 | AZ12: 452 | BA12: 528 | BB12: 805 | BC12: 619 | BD12: 426 | BE12: 396 | BF12: 260 | BG12: 1079 | BH12: 579 | BI12: 724 | BJ12: 670 | BK12: 576 | BL12: 521 | BM12: 426 | BN12: 640 | BO12: 355 | BP12: 527 | BQ12: 717 | BR12: 224 | BS12: 1438 | BT12: 724 | BU12: 693 | BV12: 781 | BW12: 900 | BX12: 536 | BY12: 704 | BZ12: 648 | CA12: 606 | CB12: 707 | CC12: 867 | CD12: 731
A13: Prospecton | B13: 1147 | C13: 915 | D13: 533 | E13: 1012 | F13: 1235 | G13: 1669 | H13: 1013 | I13: 1033 | J13: 944 | K13: 534 | L13: 1389 | M13: 1389 | N13: 1018 | O13: 879 | P13: 1605 | Q13: 1288 | R13: 1704 | S13: 1416 | T13: 1313 | U13: 1495 | V13: 1714 | W13: 1806 | X13: 2829 | Y13: 2801 | Z13: 3731 | AA13: 4286 | AB13: 2768 | AC13: 2576 | AD13: 1619 | AE13: 1422 | AF13: 1330 | AG13: 1723 | AH13: 1101 | AI13: 1494 | AJ13: 1753 | AK13: 1925 | AL13: 1210 | AM13: 1577 | AN13: 1498 | AO13: 1362 | AP13: 510 | AQ13: 1558 | AR13: 1311 | AS13: 1169 | AT13: 821 | AU13: 1141 | AV13: 1517 | AW13: 1071 | AX13: 1103 | AY13: 895 | AZ13: 986 | BA13: 853 | BB13: 938 | BC13: 1037 | BD13: 928 | BE13: 789 | BF13: 728 | BG13: 1276 | BH13: 1049 | BI13: 690 | BJ13: 575 | BK13: 814 | BL13: 795 | BM13: 873 | BN13: 686 | BO13: 538 | BP13: 759 | BQ13: 743 | BR13: 453 | BS13: 1077 | BT13: 976 | BU13: 946 | BV13: 1111 | BW13: 1110 | BX13: 1015 | BY13: 1239 | BZ13: 1241 | CA13: 951 | CB13: 1123 | CC13: 861 | CD13: 596
A14: Richardsbay | B14: 1166 | C14: 1005 | D14: 648 | E14: 804 | F14: 861 | G14: 1307 | H14: 822 | I14: 933 | J14: 818 | K14: 601 | L14: 1415 | M14: 962 | N14: 631 | O14: 1075 | P14: 1524 | Q14: 1391 | R14: 1449 | S14: 1113 | T14: 1115 | U14: 712 | V14: 697 | W14: 1821 | X14: 2267 | Y14: 1706 | Z14: 980 | AA14: 923 | AB14: 1320 | AC14: 1055 | AD14: 1196 | AE14: 1207 | AF14: 1120 | AG14: 1297 | AH14: 1045 | AI14: 1347 | AJ14: 1138 | AK14: 1008 | AL14: 933 | AM14: 705 | AN14: 772 | AO14: 607 | AP14: 244 | AQ14: 1327 | AR14: 1029 | AS14: 1224 | AT14: 728 | AU14: 1134 | AV14: 812 | AW14: 845 | AX14: 674 | AY14: 601 | AZ14: 614 | BA14: 1031 | BB14: 935 | BC14: 796 | BD14: 705 | BE14: 896 | BF14: 659 | BG14: 1160 | BH14: 978 | BI14: 648 | BJ14: 677 | BK14: 777 | BL14: 772 | BM14: 733 | BN14: 556 | BO14: 663 | BP14: 962 | BQ14: 864 | BR14: 511 | BS14: 1260 | BT14: 905 | BU14: 677 | BV14: 1039 | BW14: 954 | BX14: 770 | BY14: 1152 | BZ14: 961 | CA14: 1490 | CB14: 1489 | CC14: 1466 | CD14: 755
... A19: Vryheid | B19: 149 | C19: 139 | D19: 174 | E19: 100 | F19: 278 | G19: 204 | H19: 169 | I19: 267 | J19: 174 | K19: 235 | L19: 287 | M19: 249 | N19: 233 | O19: 154 | P19: 264 | Q19: 225 | R19: 187 | S19: 323 | T19: 209 | U19: 184 | V19: 181 | W19: 299 | X19: 529 | Y19: 449 | Z19: 616 | AA19: 695 | AB19: 471 | AC19: 305 | AD19: 279 | AE19: 382 | AF19: 345 | AG19: 321 | AH19: 305 | AI19: 311 | AJ19: 243 | AK19: 334 | AL19: 155 | AM19: 265 | AN19: 156 | AO19: 289 | AP19: 93 | AQ19: 238 | AR19: 249 | AS19: 187 | AT19: 134 | AU19: 292 | AV19: 156 | AW19: 114 | AX19: 131 | AY19: 179 | AZ19: 190 | BA19: 182 | BB19: 183 | BC19: 168 | BD19: 184 | BE19: 119 | BF19: 72 | BG19: 239 | BH19: 116 | BI19: 142 | BJ19: 147 | BK19: 187 | BL19: 169 | BM19: 135 | BN19: 185 | BO19: 129 | BP19: 169 | BQ19: 169 | BR19: 70 | BS19: 222 | BT19: 184 | BU19: 157 | BV19: 358 | BW19: 245 | BX19: 264 | BY19: 232 | BZ19: 246 | CA19: 231 | CB19: 298 | CC19: 233 | CD19: 173
A20: Total | B20: =SUM(B4:B19) -> 10346 | C20: =SUM(C4:C19) -> 10208 | D20: =SUM(D4:D19) -> 5923 | E20: =SUM(E4:E19) -> 10079 | F20: =SUM(F4:F19) -> 11236 | G20: =SUM(G4:G19) -> 10748 | H20: =SUM(H4:H19) -> 9777 | I20: =SUM(I4:I19) -> 9314 | ... CD20: =SUM(CD4:CD19) -> 9035
A22: Dept of Labour DataBase | BF22: =SUM(BD20:BF20) -> 22830 | BI22: =SUM(BG20:BI20) -> 28398 | BL22: =SUM(BJ20:BL20) -> 25001 | BO22: =SUM(BM20:BO20) -> 28065 | BR22: =SUM(BP20:BR20) -> 23855 | BS22: =SUM(BS20:BU20) -> 36955
A23: June 2007 - Decrease in number of applications due to Public Service strike
B25: Total | C25: Total | D25: Total | E25: Total | F25: Total | G25: Total | H25: Total | I25: Total | J25: Total | K25: Total | L25: Total | M25: Total | N25: Total | O25: Total | P25: Total | Q25: Total | R25: Total | S25: Total | T25: Total | U25: Total | V25: Total | W25: Total | X25: Total | Y25: Total | Z25: Total | AA25: Total | AB25: Total | AC25: Total | AD25: Total | AE25: Total | AF25: Total | AG25: Total | AH25: Total | AI25: Total | AJ25: Total | AK25: Total | AL25: Total | AM25: Total | AN25: Total | AO25: Total | AP25: Total | AQ25: Total | AR25: Total | AS25: Total | AT25: Total | AU25: Total | AV25: Total | AW25: Total | AX25: Total | AY25: Total | AZ25: Total | BA25: Total | BB25: Total | BC25: Total | BD25: Total | BE25: Total | BF25: Total | BG25: Total | BH25: Total | BI25: Total | BJ25: Total | BK25: Total | BL25: Total | BM25: Total | BN25: Total | BO25: Total | BP25: Total | BQ25: Total | BR25: Total | BS25: Total | BT25: Total | BU25: Total | BV25: Total | BW25: Total | BX25: Total | BY25: Total | BZ25: Total | CA25: Total | CB25: Total | CC25: Total | CD25: Total
A26: Urban | B26: =SUM(B27:B31) -> 8020 | C26: =SUM(C27:C31) -> 7837 | D26: =SUM(D27:D31) -> 4575 | E26: =SUM(E27:E31) -> 8284 | F26: =SUM(F27:F31) -> 8202 | G26: =SUM(G27:G31) -> 8598 | H26: =SUM(H27:H31) -> 7557 | I26: =SUM(I27:I31) -> 7176 | ... CD26: =SUM(CD27:CD31) -> 6965
A27: Durban | B27: =B5+B11+B13+B18 -> 4652 | C27: =C5+C11+C13+C18 -> 4507 | D27: =D5+D11+D13+D18 -> 2297 | E27: =E5+E11+E13+E18 -> 5455 | F27: =F5+F11+F13+F18 -> 5072 | G27: =G5+G11+G13+G18 -> 5025 | H27: =H5+H11+H13+H18 -> 4217 | I27: =I5+I11+I13+I18 -> 3944 | ... CD27: =CD5+CD11+CD13+CD18 -> 4204
A28: Pietermaritzburg | B28: =B10 -> 1284 | C28: =C10 -> 1021 | D28: =D10 -> 737 | E28: =E10 -> 1142 | F28: =F10 -> 938 | G28: =G10 -> 1369 | H28: =H10 -> 1296 | I28: =I10 -> 1125 | ... CD28: =CD10 -> 1037
A29: Richards Bay | B29: =B14 -> 1166 | C29: =C14 -> 1005 | D29: =D14 -> 648 | E29: =E14 -> 804 | F29: =F14 -> 861 | G29: =G14 -> 1307 | H29: =H14 -> 822 | I29: =I14 -> 933 | ... CD29: =CD14 -> 755
A30: Port Shepstone | B30: =B12 -> 419 | C30: =C12 -> 520 | D30: =D12 -> 330 | E30: =E12 -> 400 | F30: =F12 -> 846 | G30: =G12 -> 394 | H30: =H12 -> 740 | I30: =I12 -> 780 | ... CD30: =CD12 -> 731
A31: New Castle | B31: =B9 -> 499 | C31: =C9 -> 784 | D31: =D9 -> 563 | E31: =E9 -> 483 | F31: =F9 -> 485 | G31: =G9 -> 503 | H31: =H9 -> 482 | I31: =I9 -> 394 | ... CD31: =CD9 -> 238
A33: As a % of KZN | B33: % | C33: % | D33: % | E33: % | F33: % | G33: % | H33: % | I33: % | J33: % | K33: % | L33: % | M33: % | N33: % | O33: % | P33: % | Q33: % | R33: % | S33: % | T33: % | U33: % | V33: % | W33: % | X33: % | Y33: % | Z33: % | AA33: % | AB33: % | AC33: % | AD33: % | AE33: % | AF33: % | AG33: % | AH33: % | AI33: % | AJ33: % | AK33: % | AL33: % | AM33: % | AN33: % | AO33: % | AP33: % | AQ33: % | AR33: % | AS33: % | AT33: % | AU33: % | AV33: % | AW33: % | AX33: % | AY33: % | AZ33: % | BA33: % | BB33: % | BC33: % | BD33: % | BE33: % | BF33: % | BG33: % | BH33: % | BI33: % | BJ33: % | BK33: % | BL33: % | BM33: % | BN33: % | BO33: % | BP33: % | BQ33: % | BR33: % | BS33: % | BT33: % | BU33: % | BV33: % | BW33: % | BX33: % | BY33: % | BZ33: % | CA33: % | CB33: % | CC33: % | CD33: %
A34: Urban | B34: =B26/B$20*100 -> 77.517881 | C34: =C26/C$20*100 -> 76.773119 | D34: =D26/D$20*100 -> 77.241263 | E34: =E26/E$20*100 -> 82.190694 | F34: =F26/F$20*100 -> 72.997508 | G34: =G26/G$20*100 -> 79.996278 | H34: =H26/H$20*100 -> 77.293648 | I34: =I26/I$20*100 -> 77.045308 | ... BU34: =BU26/BU$20*100 -> 78.355301 | BV34: =BV26/BV20*100 -> 72.822409 | BW34: =BW26/BW20*100 -> 76.655974 | BX34: =BX26/BX20*100 -> 76.484062 | BY34: =BY26/BY20*100 -> 78.5396 | BZ34: =BZ26/BZ20*100 -> 77.458912 | CA34: =CA26/CA20*100 -> 79.769162 | CB34: =CB26/CB20*100 -> 77.356952 | CC34: =CC26/CC20*100 -> 80.415719 | CD34: =CD26/CD20*100 -> 77.089098
A35: =A27 -> Durban | B35: =B27/B$20*100 -> 44.964237 | C35: =C27/C$20*100 -> 44.151646 | D35: =D27/D$20*100 -> 38.781023 | E35: =E27/E$20*100 -> 54.122433 | F35: =F27/F$20*100 -> 45.140619 | G35: =G27/G$20*100 -> 46.752884 | H35: =H27/H$20*100 -> 43.13184 | I35: =I27/I$20*100 -> 42.344857 | ... BU35: =BU27/BU$20*100 -> 45.82608 | BV35: =BV27/BV20*100 -> 42.670548 | BW35: =BW27/BW20*100 -> 48.797113 | BX35: =BX27/BX20*100 -> 49.494178 | BY35: =BY27/BY20*100 -> 50.754636 | BZ35: =BZ27/BZ20*100 -> 50.361918 | CA35: =CA27/CA20*100 -> 44.875234 | CB35: =CB27/CB20*100 -> 48.688111 | CC35: =CC27/CC20*100 -> 47.515427 | CD35: =CD27/CD20*100 -> 46.53016
A36: =A28 -> Pietermaritzburg | B36: =B28/B$20*100 -> 12.410593 | C36: =C28/C$20*100 -> 10.001959 | D36: =D28/D$20*100 -> 12.443019 | E36: =E28/E$20*100 -> 11.330489 | F36: =F28/F$20*100 -> 8.3481666 | G36: =G28/G$20*100 -> 12.737253 | H36: =H28/H$20*100 -> 13.2556 | I36: =I28/I$20*100 -> 12.078591 | ... BU36: =BU28/BU$20*100 -> 18.602338 | BV36: =BV28/BV20*100 -> 12.919978 | BW36: =BW28/BW20*100 -> 8.5725742 | BX36: =BX28/BX20*100 -> 11.481199 | BY36: =BY28/BY20*100 -> 11.513583 | BZ36: =BZ28/BZ20*100 -> 9.8782253 | CA36: =CA28/CA20*100 -> 14.175404 | CB36: =CB28/CB20*100 -> 8.6569819 | CC36: =CC28/CC20*100 -> 10.214355 | CD36: =CD28/CD20*100 -> 11.477587
A37: =A29 -> Richards Bay | B37: =B29/B$20*100 -> 11.270056 | C37: =C29/C$20*100 -> 9.8452194 | D37: =D29/D$20*100 -> 10.940402 | E37: =E29/E$20*100 -> 7.9769818 | F37: =F29/F$20*100 -> 7.6628693 | G37: =G29/G$20*100 -> 12.160402 | H37: =H29/H$20*100 -> 8.407487 | I37: =I29/I$20*100 -> 10.017178 | ... BU37: =BU29/BU$20*100 -> 5.6122026 | BV37: =BV29/BV20*100 -> 8.1753088 | BW37: =BW29/BW20*100 -> 7.6503609 | BX37: =BX29/BX20*100 -> 7.3487307 | BY37: =BY29/BY20*100 -> 8.2794308 | BZ37: =BZ29/BZ20*100 -> 8.1835987 | CA37: =CA29/CA20*100 -> 12.110867 | CB37: =CB29/CB20*100 -> 11.03617 | CC37: =CC29/CC20*100 -> 11.903215 | CD37: =CD29/CD20*100 -> 8.3563918
A38: =A30 -> Port Shepstone | B38: =B30/B$20*100 -> 4.0498743 | C38: =C30/C$20*100 -> 5.0940439 | D38: =D30/D$20*100 -> 5.5715009 | E38: =E30/E$20*100 -> 3.9686477 | F38: =F30/F$20*100 -> 7.5293699 | G38: =G30/G$20*100 -> 3.6657983 | H38: =H30/H$20*100 -> 7.5687839 | I38: =I30/I$20*100 -> 8.37449 | ... BU38: =BU30/BU$20*100 -> 5.7448396 | BV38: =BV30/BV20*100 -> 6.1452514 | BW38: =BW30/BW20*100 -> 7.2173216 | BX38: =BX30/BX20*100 -> 5.1154801 | BY38: =BY30/BY20*100 -> 5.0596521 | BZ38: =BZ30/BZ20*100 -> 5.518181 | CA38: =CA30/CA20*100 -> 4.9256279 | CB38: =CB30/CB20*100 -> 5.2401423 | CC38: =CC30/CC20*100 -> 7.0396233 | CD38: =CD30/CD20*100 -> 8.0907582
A39: =A31 -> New Castle | B39: =B31/B$20*100 -> 4.82312 | C39: =C31/C$20*100 -> 7.6802508 | D39: =D31/D$20*100 -> 9.5053183 | E39: =E31/E$20*100 -> 4.7921421 | F39: =F31/F$20*100 -> 4.3164827 | G39: =G31/G$20*100 -> 4.6799405 | H39: =H31/H$20*100 -> 4.9299376 | I39: =I31/I$20*100 -> 4.2301911 | ... BU39: =BU31/BU$20*100 -> 2.5698417 | BV39: =BV31/BV20*100 -> 2.9113227 | BW39: =BW31/BW20*100 -> 4.4186047 | BX39: =BX31/BX20*100 -> 3.0444741 | BY39: =BY31/BY20*100 -> 2.9322984 | BZ39: =BZ31/BZ20*100 -> 3.5169888 | CA39: =CA31/CA20*100 -> 3.6820288 | CB39: =CB31/CB20*100 -> 3.735547 | CC39: =CC31/CC20*100 -> 3.7430984 | CD39: =CD31/CD20*100 -> 2.6342003
B41: Total | C41: Total | D41: Total | E41: Total | F41: Total | G41: Total | H41: Total | I41: Total | J41: Total | K41: Total | L41: Total | M41: Total | N41: Total | O41: Total | P41: Total | Q41: Total | R41: Total | S41: Total | T41: Total | U41: Total | V41: Total | W41: Total | X41: Total | Y41: Total | Z41: Total | AA41: Total | AB41: Total | AC41: Total | AD41: Total | AE41: Total | AF41: Total | AG41: Total | AH41: Total | AI41: Total | AJ41: Total | AK41: Total | AL41: Total | AM41: Total | AN41: Total | AO41: Total | AP41: Total | AQ41: Total | AR41: Total | AS41: Total | AT41: Total | AU41: Total | AV41: Total | AW41: Total | AX41: Total | AY41: Total | AZ41: Total | BA41: Total | BB41: Total | BC41: Total | BD41: Total | BE41: Total | BF41: Total | BG41: Total | BH41: Total | BI41: Total | BJ41: Total | BK41: Total | BL41: Total | BM41: Total | BN41: Total | BO41: Total | BP41: Total | BQ41: Total | BR41: Total | BS41: Total | BT41: Total | BU41: Total | BV41: Total | BW41: Total | BX41: Total | BY41: Total | BZ41: Total | CA41: Total | CB41: Total | CC41: Total | CD41: Total
A42: Rural | B42: =B20-B26 -> 2326 | C42: =C20-C26 -> 2371 | D42: =D20-D26 -> 1348 | E42: =E20-E26 -> 1795 | F42: =F20-F26 -> 3034 | G42: =G20-G26 -> 2150 | H42: =H20-H26 -> 2220 | I42: =I20-I26 -> 2138 | ... CD42: =CD20-CD26 -> 2070
A44: As a % of KZN | B44: % | C44: % | D44: % | E44: % | F44: % | G44: % | H44: % | I44: % | J44: % | K44: % | L44: % | M44: % | N44: % | O44: % | P44: % | Q44: % | R44: % | S44: % | T44: % | U44: % | V44: % | W44: % | X44: % | Y44: % | Z44: % | AA44: % | AB44: % | AC44: % | AD44: % | AE44: % | AF44: % | AG44: % | AH44: % | AI44: % | AJ44: % | AK44: % | AL44: % | AM44: % | AN44: % | AO44: % | AP44: % | AQ44: % | AR44: % | AS44: % | AT44: % | AU44: % | AV44: % | AW44: % | AX44: % | AY44: % | AZ44: % | BA44: % | BB44: % | BC44: % | BD44: % | BE44: % | BF44: % | BG44: % | BH44: % | BI44: % | BJ44: % | BK44: % | BL44: % | BM44: % | BN44: % | BO44: % | BP44: % | BQ44: % | BR44: % | BS44: % | BT44: % | BU44: % | BV44: % | BW44: % | BX44: % | BY44: % | BZ44: % | CA44: % | CB44: % | CC44: % | CD44: %
A45: Rural | B45: =B42/B20*100 -> 22.482119 | C45: =C42/C20*100 -> 23.226881 | D45: =D42/D20*100 -> 22.758737 | E45: =E42/E20*100 -> 17.809306 | F45: =F42/F20*100 -> 27.002492 | G45: =G42/G20*100 -> 20.003722 | H45: =H42/H20*100 -> 22.706352 | I45: =I42/I20*100 -> 22.954692 | ... CD45: =CD42/CD20*100 -> 22.910902
A48: Statistics | B48: Average Cont | C48: St Dev | D48: Min | E48: Max | F48: Range | G48: Median
A50: Urban | B50: =AVERAGE(B34:CD34) -> 79.010869 | C50: =STDEV(B34:CD34) -> 2.857811 | D50: =MIN(B34:CD34) -> 70.406591 | E50: =MAX(B34:CD34) -> 84.518349 | F50: =E50-D50 -> 14.111757 | G50: =MEDIAN(B34:CD34) -> 79.184375
A51: Durban | B51: =AVERAGE(B35:CD35) -> 49.069405 | C51: =STDEV(B35:CD35) -> 5.2275225 | D51: =MIN(B35:CD35) -> 34.047826 | E51: =MAX(B35:CD35) -> 61.836501 | F51: =E51-D51 -> 27.788674 | G51: =MEDIAN(B35:CD35) -> 49.174312
A52: Pietermaritzburg | B52: =AVERAGE(B36:CD36) -> 11.498838 | C52: =STDEV(B36:CD36) -> 3.1452561 | D52: =MIN(B36:CD36) -> 5.2253362 | E52: =MAX(B36:CD36) -> 24.000268 | F52: =E52-D52 -> 18.774932 | G52: =MEDIAN(B36:CD36) -> 11.17643
A53: Richards Bay | B53: =AVERAGE(B37:CD37) -> 9.0404213 | C53: =STDEV(B37:CD37) -> 1.9565646 | D53: =MIN(B37:CD37) -> 4.6402896 | E53: =MAX(B37:CD37) -> 13.414987 | F53: =E53-D53 -> 8.7746974 | G53: =MEDIAN(B37:CD37) -> 8.9237426
A54: Port Shepstone | B54: =AVERAGE(B38:CD38) -> 6.0406314 | C54: =STDEV(B38:CD38) -> 1.6889534 | D54: =MIN(B38:CD38) -> 3.419126 | E54: =MAX(B38:CD38) -> 11.289943 | F54: =E54-D54 -> 7.8708167 | G54: =MEDIAN(B38:CD38) -> 5.8154113
A55: New Castle | B55: =AVERAGE(B39:CD39) -> 3.3615734 | C55: =STDEV(B39:CD39) -> 1.5855013 | D55: =MIN(B39:CD39) -> 0 | E55: =MAX(B39:CD39) -> 9.5053183 | F55: =E55-D55 -> 9.5053183 | G55: =MEDIAN(B39:CD39) -> 3.1926907
A57: Rural | B57: =AVERAGE(B45:CD45) -> 20.989131 | C57: =AVERAGE(B45:CD45) -> 20.989131 | D57: =AVERAGE(B45:CD45) -> 20.989131 | E57: =AVERAGE(B45:CD45) -> 20.989131 | F57: =AVERAGE(B45:BX45) -> 20.94332 | G57: =AVERAGE(B45:CD45) -> 20.989131

Sheet Stats
A1: Unemployment Insurance Applications Received
B2: Total Claims | C2: Urban Claims | D2: Rural Claims
A3: 39173 | B3: 10346 | C3: 8020 | D3: =B3-C3 -> 2326
A4: 39203 | B4: 10208 | C4: 7837 | D4: =B4-C4 -> 2371
A5: 39234 | B5: 5923 | C5: 4575 | D5: =B5-C5 -> 1348
A6: 39264 | B6: 10079 | C6: 8284 | D6: =B6-C6 -> 1795
A7: 39295 | B7: 11236 | C7: 8202 | D7: =B7-C7 -> 3034
A8: 39326 | B8: 10748 | C8: 8598 | D8: =B8-C8 -> 2150
A9: 39356 | B9: 9777 | C9: 7557 | D9: =B9-C9 -> 2220
A10: 39387 | B10: 9314 | C10: 7176 | D10: =B10-C10 -> 2138
A11: 39417 | B11: 9353 | C11: 7063 | D11: =B11-C11 -> 2290
A12: 39448 | B12: 6337 | C12: 4594 | D12: =B12-C12 -> 1743
A13: 39479 | B13: 12578 | C13: 10367 | D13: =B13-C13 -> 2211
A14: 39508 | B14: 11445 | C14: 9139 | D14: =B14-C14 -> 2306
... A83: 41621 | B83: 9035 | C83: 6965 | D83: =B83-C83 -> 2070
B84: =B2 -> Total Claims | C84: =C2 -> Urban Claims | D84: =D2 -> Rural Claims
A85: Average 2007 | B85: =AVERAGE(B3:B11) -> 9664.8889 | C85: =AVERAGE(C3:C11) -> 7479.1111 | D85: =AVERAGE(D3:D11) -> 2185.7778
A86: Average 2008 | B86: =AVERAGE(B12:B23) -> 10723.917 | C86: =AVERAGE(C12:C23) -> 8509.0833 | D86: =AVERAGE(D12:D23) -> 2214.8333
A87: Average 2009 | B87: =AVERAGE(B24:B35) -> 14938.167 | C87: =AVERAGE(C24:C35) -> 12014.583 | D87: =AVERAGE(D24:D35) -> 2923.5833
A88: Average 2010 | B88: =AVERAGE(B36:B47) -> 10516.5 | C88: =AVERAGE(C36:C47) -> 8502.9167 | D88: =AVERAGE(D36:D47) -> 2013.5833
A89: Average 2011 | B89: =AVERAGE(B48:B59) -> 9531.25 | C89: =AVERAGE(C48:C59) -> 7578.5 | D89: =AVERAGE(D48:D59) -> 1952.75
A90: Average 2012 | B90: =AVERAGE(B60:B71) -> 8776.5833 | C90: =AVERAGE(C60:C71) -> 6853.0833 | D90: =AVERAGE(D60:D71) -> 1923.5
A91: Average 2013 | B91: =AVERAGE(B72:B83) -> 12117.917 | C91: =AVERAGE(C72:C83) -> 9385.5833 | D91: =AVERAGE(D72:D83) -> 2732.3333
A93: Year-on-Year 2008 | B93: =(B86-B85)/B85*100 -> 10.957475 | C93: =(C86-C85)/C85*100 -> 13.771319 | D93: =(D86-D85)/D85*100 -> 1.3293005
A94: Year-on-Year 2009 | B94: =(B87-B86)/B86*100 -> 39.297676 | C94: =(C87-C86)/C86*100 -> 41.197152 | D94: =(D87-D86)/D86*100 -> 32.000151
A95: Year-on-Year 2010 | B95: =(B88-B87)/B87*100 -> -29.599795 | C95: =(C88-C87)/C87*100 -> -29.228368 | D95: =(D88-D87)/D87*100 -> -31.126186
A96: Year-on-Year 2011 | B96: =(B89-B88)/B88*100 -> -9.3686112 | C96: =(C89-C88)/C88*100 -> -10.87176 | D96: =(D89-D88)/D88*100 -> -3.021148
A97: Year-on-Year 2012 | B97: =(B90-B89)/B89*100 -> -7.9178142 | C97: =(C90-C89)/C89*100 -> -9.5720349 | D97: =(D90-D89)/D89*100 -> -1.4978876
A98: Year-on-Year 2013 | B98: =(B91-B90)/B90*100 -> 38.071003 | C98: =(C91-C90)/C90*100 -> 36.954169 | D98: =(D91-D90)/D90*100 -> 42.050082

Sheet Stats1
A1: Unemployment Insurance Applications Received
B2: Urban Claims as a % of Total Claims | C2: Rural Claims as a % of Total Claims
A3: 39173 | B3: =Stats!C3/Stats!B3*100 -> 77.517881 | C3: =Stats!D3/Stats!B3*100 -> 22.482119
A4: 39203 | B4: =Stats!C4/Stats!B4*100 -> 76.773119 | C4: =Stats!D4/Stats!B4*100 -> 23.226881
A5: 39234 | B5: =Stats!C5/Stats!B5*100 -> 77.241263 | C5: =Stats!D5/Stats!B5*100 -> 22.758737
A6: 39264 | B6: =Stats!C6/Stats!B6*100 -> 82.190694 | C6: =Stats!D6/Stats!B6*100 -> 17.809306
A7: 39295 | B7: =Stats!C7/Stats!B7*100 -> 72.997508 | C7: =Stats!D7/Stats!B7*100 -> 27.002492
A8: 39326 | B8: =Stats!C8/Stats!B8*100 -> 79.996278 | C8: =Stats!D8/Stats!B8*100 -> 20.003722
A9: 39356 | B9: =Stats!C9/Stats!B9*100 -> 77.293648 | C9: =Stats!D9/Stats!B9*100 -> 22.706352
A10: 39387 | B10: =Stats!C10/Stats!B10*100 -> 77.045308 | C10: =Stats!D10/Stats!B10*100 -> 22.954692
A11: 39417 | B11: =Stats!C11/Stats!B11*100 -> 75.515877 | C11: =Stats!D11/Stats!B11*100 -> 24.484123
A12: 39448 | B12: =Stats!C12/Stats!B12*100 -> 72.494871 | C12: =Stats!D12/Stats!B12*100 -> 27.505129
A13: 39479 | B13: =Stats!C13/Stats!B13*100 -> 82.421689 | C13: =Stats!D13/Stats!B13*100 -> 17.578311
A14: 39508 | B14: =Stats!C14/Stats!B14*100 -> 79.851464 | C14: =Stats!D14/Stats!B14*100 -> 20.148536
... A83: 41609 | B83: =Stats!C83/Stats!B83*100 -> 77.089098 | C83: =Stats!D83/Stats!B83*100 -> 22.910902
B85: =B2 -> Urban Claims as a % of Total Claims | C85: =C2 -> Rural Claims as a % of Total Claims
A86: Average 2007 | B86: =AVERAGE(B3:B11) -> 77.396842 | C86: =AVERAGE(C3:C11) -> 22.603158
A87: Average 2008 | B87: =AVERAGE(B12:B23) -> 79.02284 | C87: =AVERAGE(C12:C23) -> 20.97716
A88: Average 2009 | B88: =AVERAGE(B24:B35) -> 80.332456 | C88: =AVERAGE(C24:C35) -> 19.667544
A89: Average 2010 | B89: =AVERAGE(B36:B47) -> 80.523046 | C89: =AVERAGE(C36:C47) -> 19.476954
A90: Average 2011 | B90: =AVERAGE(B48:B59) -> 79.936526 | C90: =AVERAGE(C48:C59) -> 20.063474
A91: Average 2012 | B91: =AVERAGE(B60:B71) -> 78.02007 | C91: =AVERAGE(C60:C71) -> 21.97993
A92: Average 2013 | B92: =AVERAGE(B72:B83) -> 77.4408 | C92: =AVERAGE(C72:C83) -> 22.5592
A94: Year-on-Year 2008 | B94: =(B87-B86)/B86*100 -> 2.100858 | C94: =(C87-C86)/C86*100 -> -7.193675
A95: Year-on-Year 2009 | B95: =(B88-B87)/B87*100 -> 1.6572626 | C95: =(C88-C87)/C87*100 -> -6.2430563
A96: Year-on-Year 2010 | B96: =(B89-B88)/B88*100 -> 0.23725185 | C96: =(C89-C88)/C88*100 -> -0.96905964
A97: Year-on-Year 2011 | B97: =(B90-B89)/B89*100 -> -0.72838719 | C97: =(C90-C89)/C89*100 -> 3.0113515
A98: Year-on-Year 2012 | B98: =(B91-B90)/B90*100 -> -2.3974721 | C98: =(C91-C90)/C90*100 -> 9.5519648
A99: Year-on-Year 2013 | B99: =(B92-B91)/B91*100 -> -0.74246313 | C99: =(C92-C91)/C91*100 -> 2.6354509
