Workbook

Sheet Introduction
B1: Annual COMP and COMP-R
B3: Quarterly COMP and COMP-R
B5: Year-on-Year Growth Rates per Sector
B7: Annualised Quarterly Rates per Sector
B9: Yearly Provincial Contribution Rates per Sector
B11: Yearly Provincial Sector as a % of National Sector COMP
B13: Ethekwini Municipal Area COMP
B15: Msunduzi Municipal Area COMP
B17: Mthlatuze Municipal Area COMP
D18: Model Assumptions
B19: Hibiscus Coast Municipal COMP
D20: Stable structural relationship between SA and KZN economy
B21: Newcastle Municipal COMP
D22: Stable relationship between GDP and Fuel Consumption
B23: Comparitive Growth Rates
D24: Fuel Consumption per R1 GDP are location insensitive
B25: Comparitive Contribution Rates

Sheet Annual
A1: Annual Compensation of Employees
A3: SA – Annual Compensation of Employees
A4: Rand million
A5: National Industry | B5: 1995 | C5: 1996 | D5: 1997 | E5: 1998 | F5: 1999 | G5: 2000 | H5: 2001 | I5: 2002 | J5: 2003 | K5: 2004 | L5: 2005 | M5: 2006 | N5: 2007 | O5: 2008 | P5: 2009 | Q5: 2010 | R5: 2011 | S5: 2012 | T5: 2013
A6: Primary Industries | B6: =SUM(B7:B8) -> 24858.206 | C6: =SUM(C7:C8) -> 26877.022 | D6: =SUM(D7:D8) -> 29465.541 | E6: =SUM(E7:E8) -> 31810 | F6: =SUM(F7:F8) -> 34832 | G6: =SUM(G7:G8) -> 37667 | H6: =SUM(H7:H8) -> 41260 | I6: =SUM(I7:I8) -> 49055.8 | ... T6: =SUM(T7:T8) -> 135146.48
A7: Agriculture, forestry and fishing | B7: 6406.3391 | C7: 6908.022 | D7: 7405.0411 | E7: 8314 | F7: 8812 | G7: 9409 | H7: 9978 | I7: 14601.4 | J7: 13455 | K7: 12912 | L7: 12143 | M7: 12840 | N7: 14651.4 | O7: 16540 | P7: 17979 | Q7: 18719 | R7: 19967.18 | S7: 21492.18 | T7: 23321.109
A8: Mining and quarrying | B8: 18451.867 | C8: 19969 | D8: 22060.5 | E8: 23496 | F8: 26020 | G8: 28258 | H8: 31282 | I8: 34454.4 | J8: 35193 | K8: 37905 | L8: 40877 | M8: 48331 | N8: 57015.222 | O8: 68438 | P8: 73519 | Q8: 82610.392 | R8: 92913.861 | S8: 102554.6 | T8: 111825.37
A9: Secondary Industries | B9: =SUM(B10:B12) -> 72336.02 | C9: =SUM(C10:C12) -> 77478.271 | D9: =SUM(D10:D12) -> 82480.308 | E9: =SUM(E10:E12) -> 91282 | F9: =SUM(F10:F12) -> 95955 | G9: =SUM(G10:G12) -> 103957 | H9: =SUM(H10:H12) -> 109992 | I9: =SUM(I10:I12) -> 123047 | ... T9: =SUM(T10:T12) -> 338926.93
A10: Manufacturing | B10: 56484.078 | C10: 59965.5 | D10: 63532.405 | E10: 72150 | F10: 75682 | G10: 82994 | H10: 88728 | I10: 99442 | J10: 105207 | K10: 112552 | L10: 120743 | M10: 133628 | N10: 152608.33 | O10: 173833 | P10: 183596.13 | Q10: 202337 | R10: 217510 | S10: 236663 | T10: 257764.59
A11: Electricity, gas and water | B11: 4943.4 | C11: 6098.4722 | D11: 6663 | E11: 6724 | F11: 7760 | G11: 8166 | H11: 8208 | I11: 9866 | J11: 10724 | K11: 11201 | L11: 12291 | M11: 13659 | N11: 15185.697 | O11: 17740 | P11: 19718 | Q11: 21643.676 | R11: 23857.275 | S11: 26543.16 | T11: 28971.342
A12: Construction | B12: 10908.542 | C12: 11414.299 | D12: 12284.902 | E12: 12408 | F12: 12513 | G12: 12797 | H12: 13056 | I12: 13739 | J12: 15388 | K12: 17040 | L12: 19455 | M12: 21884 | N12: 29830.835 | O12: 34840 | P12: 39279 | Q12: 41486 | R12: 44893 | S12: 48998 | T12: 52191
A13: Tertiary industries | B13: =SUM(B14:B18) -> 177482.17 | C13: =SUM(C14:C18) -> 203764.53 | D13: =SUM(D14:D18) -> 228132.04 | E13: =SUM(E14:E18) -> 249450 | F13: =SUM(F14:F18) -> 273630 | G13: =SUM(G14:G18) -> 300677.8 | H13: =SUM(H14:H18) -> 323744 | I13: =SUM(I14:I18) -> 356760 | ... T13: =SUM(T14:T18) -> 1102709.1
A14: Wholesale & retail trade; hotels & restaurants | B14: 35342.547 | C14: 38416.847 | D14: 42131.9 | E14: 46056 | F14: 54460 | G14: 61514.8 | H14: 62013 | I14: 66958 | J14: 74129 | K14: 82791 | L14: 90849 | M14: 100805 | N14: 108685.9 | O14: 120774 | P14: 128668 | Q14: 143468.3 | R14: 161582.33 | S14: 174733.72 | T14: 186603.08
A15: Transport , storage and communication | B15: 22275.21 | C15: 25294.556 | D15: 27535.766 | E15: 29722 | F15: 31092 | G15: 33626 | H15: 36234 | I15: 37650 | J15: 41779 | K15: 46041 | L15: 50515 | M15: 54060 | N15: 57978.6 | O15: 61386 | P15: 64378 | Q15: 73045.39 | R15: 81240.3 | S15: 87534 | T15: 93721
A16: Finance, real estate and business services | B16: 28136.195 | C16: 31675.423 | D16: 36688.812 | E16: 42385 | F16: 47558 | G16: 53287 | H16: 62490 | I16: 72894 | J16: 83620 | K16: 96945 | L16: 112934 | M16: 128669 | N16: 149792 | O16: 167630.36 | P16: 171329.36 | Q16: 193223.78 | R16: 214206.36 | S16: 234282.36 | T16: 249703
A17: Personal services | B17: 19707.217 | C17: 22086.205 | D17: 25359.563 | E17: 27760 | F17: 31122 | G17: 35803 | H17: 39303 | I17: 43254 | J17: 48454 | K17: 53280 | L17: 57446 | M17: 63687 | N17: 71411.2 | O17: 78117 | P17: 84522 | Q17: 91380.91 | R17: 99443 | S17: 106917 | T17: 113653
A18: General government services | B18: 72021 | C18: 86291.5 | D18: 96416 | E18: 103527 | F18: 109398 | G18: 116447 | H18: 123704 | I18: 136004 | J18: 151039 | K18: 166287 | L18: 181765 | M18: 199990 | N18: 225220 | O18: 252574 | P18: 300326 | Q18: 345096 | R18: 378982 | S18: 411884 | T18: 459029
A19: Annual Gross Operating Surplus | B19: =B13+B9+B6 -> 274676.39 | C19: =C13+C9+C6 -> 308119.82 | D19: =D13+D9+D6 -> 340077.89 | E19: =E13+E9+E6 -> 372542 | F19: =F13+F9+F6 -> 404417 | G19: =G13+G9+G6 -> 442301.8 | H19: =H13+H9+H6 -> 474996 | I19: =I13+I9+I6 -> 528862.8 | ... T19: =T13+T9+T6 -> 1576782.5
A20: 0 | B20: 0 | C20: 0 | D20: 0 | E20: 0 | F20: 0 | G20: 0 | H20: 0 | I20: 0 | J20: 0 | K20: 0 | L20: 0 | M20: 0 | N20: 0 | O20: 0 | P20: 0 | Q20: 0 | R20: 0 | S20: 0 | T20: 0
A21: SA - Annual Compensation of Employees | B21: =B19+B20 -> 274676.39 | C21: =C19+C20 -> 308119.82 | D21: =D19+D20 -> 340077.89 | E21: =E19+E20 -> 372542 | F21: =F19+F20 -> 404417 | G21: =G19+G20 -> 442301.8 | H21: =H19+H20 -> 474996 | I21: =I19+I20 -> 528862.8 | ... T21: =T19+T20 -> 1576782.5
A23: KZN – Annual Compensation of Employees
A24: Rand million
A25: Provincial Industry | B25: 1995 | C25: 1996 | D25: 1997 | E25: 1998 | F25: 1999 | G25: 2000 | H25: 2001 | I25: 2002 | J25: 2003 | K25: 2004 | L25: 2005 | M25: 2006 | N25: 2007 | O25: 2008 | P25: 2009 | Q25: 2010 | R25: 2011 | S25: 2012 | T25: 2013
A26: Primary Industries | B26: =B27+B28 -> 2806.1705 | C26: =C27+C28 -> 3248.3085 | D26: =D27+D28 -> 3487.2264 | E26: =E27+E28 -> 3977.3489 | F26: =F27+F28 -> 3641.5367 | G26: =G27+G28 -> 3866.5423 | H26: =H27+H28 -> 4174.3883 | I26: =I27+I28 -> 5402.0397 | ... T26: =T27+T28 -> 11491.96
A27: Agriculture, forestry and fishing | B27: =B7*B46/100 -> 2000.0517 | C27: =C7*C46/100 -> 2023.3346 | D27: =D7*D46/100 -> 2141.8734 | E27: =E7*E46/100 -> 2562.3992 | F27: =F7*F46/100 -> 2490.0767 | G27: =G7*G46/100 -> 2634.7558 | H27: =H7*H46/100 -> 2879.1817 | I27: =I7*I46/100 -> 4140.2316 | ... T27: =T7*T46/100 -> 7131.506
A28: Mining and quarrying | B28: =B8*B47/100 -> 806.11877 | C28: =C8*C47/100 -> 1224.9739 | D28: =D8*D47/100 -> 1345.353 | E28: =E8*E47/100 -> 1414.9497 | F28: =F8*F47/100 -> 1151.4601 | G28: =G8*G47/100 -> 1231.7865 | H28: =H8*H47/100 -> 1295.2066 | I28: =I8*I47/100 -> 1261.8081 | ... T28: =T8*T47/100 -> 4360.4538
A29: Secondary Industries | B29: =B30+B31+B32 -> 14644.458 | C29: =C30+C31+C32 -> 15635.116 | D29: =D30+D31+D32 -> 16669.04 | E29: =E30+E31+E32 -> 18348.953 | F29: =F30+F31+F32 -> 19359.576 | G29: =G30+G31+G32 -> 21106.706 | H29: =H30+H31+H32 -> 22957.594 | I29: =I30+I31+I32 -> 25050.342 | ... T29: =T30+T31+T32 -> 68230.242
A30: Manufacturing | B30: =B10*B49/100 -> 11818.751 | C30: =C10*C49/100 -> 12590.264 | D30: =D10*D49/100 -> 13332.8 | E30: =E10*E49/100 -> 15103.319 | F30: =F10*F49/100 -> 16000.669 | G30: =G10*G49/100 -> 17626.098 | H30: =H10*H49/100 -> 18802.995 | I30: =I10*I49/100 -> 21039.776 | ... T30: =T10*T49/100 -> 55719.214
A31: Electricity, gas and water | B31: =B11*B50/100 -> 859.87598 | C31: =C11*C50/100 -> 1063.418 | D31: =D11*D50/100 -> 1156.7486 | E31: =E11*E50/100 -> 1169.6863 | F31: =F11*F50/100 -> 1357.486 | G31: =G11*G50/100 -> 1466.8562 | H31: =H11*H50/100 -> 1528.6693 | I31: =I11*I50/100 -> 1947.5946 | ... T31: =T11*T50/100 -> 4678.6892
A32: Construction | B32: =B12*B51/100 -> 1965.8312 | C32: =C12*C51/100 -> 1981.4331 | D32: =D12*D51/100 -> 2179.4921 | E32: =E12*E51/100 -> 2075.9475 | F32: =F12*F51/100 -> 2001.4214 | G32: =G12*G51/100 -> 2013.7519 | H32: =H12*H51/100 -> 2625.9303 | I32: =I12*I51/100 -> 2062.9711 | ... T32: =T12*T51/100 -> 7832.3392
A33: Tertiary industries | B33: =SUM(B34:B38) -> 27918.865 | C33: =SUM(C34:C38) -> 31990.906 | D33: =SUM(D34:D38) -> 35181.924 | E33: =SUM(E34:E38) -> 38735.212 | F33: =SUM(F34:F38) -> 41970.95 | G33: =SUM(G34:G38) -> 46004.349 | H33: =SUM(H34:H38) -> 50048.851 | I33: =SUM(I34:I38) -> 54796.644 | ... T33: =SUM(T34:T38) -> 170929.15
A34: Wholesale & retail trade; hotels & restaurants | B34: =B14*B53/100 -> 5733.1401 | C34: =C14*C53/100 -> 6144.5253 | D34: =D14*D53/100 -> 6749.0754 | E34: =E14*E53/100 -> 7347.1539 | F34: =F14*F53/100 -> 8651.7587 | G34: =G14*G53/100 -> 9785.5556 | H34: =H14*H53/100 -> 10437.135 | I34: =I14*I53/100 -> 11285.883 | ... T34: =T14*T53/100 -> 32637.878
A35: Transport , storage and communication | B35: =B15*B54/100 -> 5189.8823 | C35: =C15*C54/100 -> 5802.6627 | D35: =D15*D54/100 -> 6197.0366 | E35: =E15*E54/100 -> 6627.4704 | F35: =F15*F54/100 -> 6824.3168 | G35: =G15*G54/100 -> 7254.7274 | H35: =H15*H54/100 -> 7700.3057 | I35: =I15*I54/100 -> 8027.2979 | ... T35: =T15*T54/100 -> 20959.673
A36: Finance, real estate and business services | B36: =B16*B55/100 -> 3928.8454 | C36: =C16*C55/100 -> 4425.5397 | D36: =D16*D55/100 -> 5103.1576 | E36: =E16*E55/100 -> 5902.6504 | F36: =F16*F55/100 -> 6684.2255 | G36: =G16*G55/100 -> 7345.2093 | H36: =H16*H55/100 -> 8417.2804 | I36: =I16*I55/100 -> 9705.8227 | ... T36: =T16*T55/100 -> 35013.25
A37: Personal services | B37: =B17*B56/100 -> 3230.6293 | C37: =C17*C56/100 -> 3618.5451 | D37: =D17*D56/100 -> 4151.9625 | E37: =E17*E56/100 -> 4545.3665 | F37: =F17*F56/100 -> 5087.3496 | G37: =G17*G56/100 -> 5846.3461 | H37: =H17*H56/100 -> 6423.0845 | I37: =I17*I56/100 -> 7065.1682 | ... T37: =T17*T56/100 -> 18800.384
A38: General government services | B38: =B18*B57/100 -> 9836.368 | C38: =C18*C57/100 -> 11999.633 | D38: =D18*D57/100 -> 12980.692 | E38: =E18*E57/100 -> 14312.57 | F38: =F18*F57/100 -> 14723.299 | G38: =G18*G57/100 -> 15772.51 | H38: =H18*H57/100 -> 17071.045 | I38: =I18*I57/100 -> 18712.473 | ... T38: =T18*T57/100 -> 63517.966
A39: =A21 -> SA - Annual Compensation of Employees | B39: =B33+B29+B26 -> 45369.493 | C39: =C33+C29+C26 -> 50874.33 | D39: =D33+D29+D26 -> 55338.191 | E39: =E33+E29+E26 -> 61061.513 | F39: =F33+F29+F26 -> 64972.063 | G39: =G33+G29+G26 -> 70977.597 | H39: =H33+H29+H26 -> 77180.833 | I39: =I33+I29+I26 -> 85249.026 | ... T39: =T33+T29+T26 -> 250651.35
A40: Taxes less subsidies on products | B40: 0 | C40: 0 | D40: 0 | E40: 0 | F40: 0 | G40: 0 | H40: 0 | I40: 0 | J40: 0 | K40: 0 | L40: 0 | M40: 0 | N40: 0 | O40: 0 | P40: 1 | Q40: 2 | R40: 3 | S40: 4 | T40: 4
A41: KZN - Annual Compensation of Employees | B41: =B40+B39 -> 45369.493 | C41: =C40+C39 -> 50874.33 | D41: =D40+D39 -> 55338.191 | E41: =E40+E39 -> 61061.513 | F41: =F40+F39 -> 64972.063 | G41: =G40+G39 -> 70977.597 | H41: =H40+H39 -> 77180.833 | I41: =I40+I39 -> 85249.026 | ... T41: =T40+T39 -> 250655.35
A43: Structure Relationship
A44: National - Provincial Structure | B44: 1995 | C44: 1996 | D44: 1997 | E44: 1998 | F44: 1999 | G44: 2000 | H44: 2001 | I44: 2002 | J44: 2003 | K44: 2004 | L44: 2005 | M44: 2006 | N44: 2007 | O44: 2008 | P44: 2009 | Q44: 2010 | R44: 2011 | S44: 2012 | T44: 2013 | U44: 2013
A45: Primary Industries | B45: =B26/B6*100 -> 11.288709 | C45: =C26/C6*100 -> 12.08582 | D45: =D26/D6*100 -> 11.834931 | E45: =E26/E6*100 -> 12.503455 | F45: =F26/F6*100 -> 10.454573 | G45: =G26/G6*100 -> 10.265066 | H45: =H26/H6*100 -> 10.117277 | I45: =I26/I6*100 -> 11.012031 | ... S45: =S26/S6*100 -> 8.3248019 | T45: =R45+($R45-$Q45) -> 8.2209914 | U45: =T45+($T45-$R45) -> 8.2206971 | V45: =U45 -> 8.2206971 | W45: =V45 -> 8.2206971 | X45: =W45 -> 8.2206971 | Y45: =X45 -> 8.2206971
A46: Agriculture, forestry and fishing | B46: 31.219885 | C46: 29.289638 | D46: 28.924531 | E46: 30.820293 | F46: 28.257792 | G46: 28.002507 | H46: 28.855299 | I46: 28.355032 | J46: 29.622369 | K46: 29.458493 | L46: 26.981005 | M46: 28.69121 | N46: 29.088604 | O46: 28.699888 | P46: 28.337491 | Q46: 28.898023 | R46: =Q46+(Q46-P46) -> 29.458554 | S46: =R46+(R46-Q46) -> 30.019086 | T46: =S46+(S46-R46) -> 30.579618 | U46: =T46+($T46-$R46) -> 31.700681 | V46: =U46 -> 31.700681 | W46: =V46 -> 31.700681 | X46: =W46 -> 31.700681 | Y46: =X46 -> 31.700681
A47: Mining and quarrying | B47: 4.3687653 | C47: 6.1343776 | D47: 6.0984701 | E47: 6.0220877 | F47: 4.4252885 | G47: 4.3590716 | H47: 4.1404213 | I47: 3.6622552 | J47: 3.7499384 | K47: 3.7681573 | L47: 3.4964845 | M47: 3.3997567 | N47: 3.4854353 | O47: 3.4522894 | P47: 3.4154551 | Q47: 3.5364269 | R47: =Q47+(Q47-P47) -> 3.6573986 | S47: =R47+(R47-Q47) -> 3.7783704 | T47: =S47+(S47-R47) -> 3.8993421 | U47: =T47+($T47-$R47) -> 4.1412856 | V47: =U47 -> 4.1412856 | W47: =V47 -> 4.1412856 | X47: =W47 -> 4.1412856 | Y47: =X47 -> 4.1412856
A48: Secondary Industries | B48: =B29/B9*100 -> 20.245042 | C48: =C29/C9*100 -> 20.180001 | D48: =D29/D9*100 -> 20.209721 | E48: =E29/E9*100 -> 20.101392 | F48: =F29/F9*100 -> 20.175683 | G48: =G29/G9*100 -> 20.303304 | H48: =H29/H9*100 -> 20.872058 | I48: =I29/I9*100 -> 20.358352 | ... S48: =S29/S9*100 -> 20.023868 | T48: =R48+($R48-$Q48) -> 20.021074 | U48: =T48+($T48-$R48) -> 20.099471 | V48: =U48 -> 20.099471 | W48: =V48 -> 20.099471 | X48: =W48 -> 20.099471 | Y48: =X48 -> 20.099471
A49: Manufacturing | B49: 20.924039 | C49: 20.995847 | D49: 20.985825 | E49: 20.933221 | F49: 21.141974 | G49: 21.237798 | H49: 21.191726 | I49: 21.157837 | J49: 21.284184 | K49: 21.244725 | L49: 21.237649 | M49: 21.157434 | N49: 21.168502 | O49: 21.153337 | P49: 21.193881 | Q49: 21.29949 | R49: =Q49+(Q49-P49) -> 21.405099 | S49: =R49+(R49-Q49) -> 21.510709 | T49: =S49+(S49-R49) -> 21.616318 | U49: =T49+($T49-$R49) -> 21.827537 | V49: =U49 -> 21.827537 | W49: =V49 -> 21.827537 | X49: =W49 -> 21.827537 | Y49: =X49 -> 21.827537
A50: Electricity, gas and water | B50: 17.394424 | C50: 17.437449 | D50: 17.360777 | E50: 17.395692 | F50: 17.493377 | G50: 17.962971 | H50: 18.624138 | I50: 19.740468 | J50: 16.967711 | K50: 17.052466 | L50: 17.241025 | M50: 17.2214 | N50: 17.213097 | O50: 17.051087 | P50: 16.618432 | Q50: 16.501167 | R50: =Q50+(Q50-P50) -> 16.383901 | S50: =R50+(R50-Q50) -> 16.266635 | T50: =S50+(S50-R50) -> 16.14937 | U50: =T50+($T50-$R50) -> 15.914839 | V50: =U50 -> 15.914839 | W50: =V50 -> 15.914839 | X50: =W50 -> 15.914839 | Y50: =X50 -> 15.914839
A51: Construction | B51: 18.021026 | C51: 17.359219 | D51: 17.741225 | E51: 16.730718 | F51: 15.994737 | G51: 15.736125 | H51: 20.112824 | I51: 15.015439 | J51: 14.605836 | K51: 14.642919 | L51: 14.856965 | M51: 14.475115 | N51: 14.402204 | O51: 14.406379 | P51: 14.489633 | Q51: 14.618992 | R51: =Q51+(Q51-P51) -> 14.748351 | S51: =R51+(R51-Q51) -> 14.87771 | T51: =S51+(S51-R51) -> 15.007069 | U51: =T51+($T51-$R51) -> 15.265787 | V51: =U51 -> 15.265787 | W51: =V51 -> 15.265787 | X51: =W51 -> 15.265787 | Y51: =X51 -> 15.265787
A52: Tertiary industries | B52: =B33/B13*100 -> 15.730518 | C52: =C33/C13*100 -> 15.699938 | D52: =D33/D13*100 -> 15.421737 | E52: =E33/E13*100 -> 15.528247 | F52: =F33/F13*100 -> 15.338577 | G52: =G33/G13*100 -> 15.300215 | H52: =H33/H13*100 -> 15.459391 | I52: =I33/I13*100 -> 15.359526 | ... S52: =S33/S13*100 -> 15.482921 | T52: =R52+($R52-$Q52) -> 15.504227 | U52: =T52+($T52-$R52) -> 15.561191 | V52: =U52 -> 15.561191 | W52: =V52 -> 15.561191 | X52: =W52 -> 15.561191 | Y52: =X52 -> 15.561191
A53: Wholesale & retail trade; hotels & restaurants | B53: 16.221638 | C53: 15.994351 | D53: 16.01892 | E53: 15.952653 | F53: 15.886446 | G53: 15.907644 | H53: 16.83056 | I53: 16.855168 | J53: 16.98696 | K53: 16.993237 | L53: 16.901343 | M53: 16.971881 | N53: 17.017461 | O53: 17.029914 | P53: 17.250963 | Q53: 17.310856 | R53: =Q53+(Q53-P53) -> 17.370749 | S53: =R53+(R53-Q53) -> 17.430642 | T53: =S53+(S53-R53) -> 17.490535 | U53: =T53+($T53-$R53) -> 17.610322 | V53: =U53 -> 17.610322 | W53: =V53 -> 17.610322 | X53: =W53 -> 17.610322 | Y53: =X53 -> 17.610322
A54: Transport , storage and communication | B54: 23.298916 | C54: 22.940362 | D54: 22.505408 | E54: 22.298198 | F54: 21.948787 | G54: 21.574756 | H54: 21.251603 | I54: 21.320844 | J54: 21.449795 | K54: 21.366281 | L54: 21.492347 | M54: 21.509594 | N54: 21.616175 | O54: 21.657883 | P54: 21.804529 | Q54: 21.944372 | R54: =Q54+(Q54-P54) -> 22.084216 | S54: =R54+(R54-Q54) -> 22.224059 | T54: =S54+(S54-R54) -> 22.363902 | U54: =T54+($T54-$R54) -> 22.643589 | V54: =U54 -> 22.643589 | W54: =V54 -> 22.643589 | X54: =W54 -> 22.643589 | Y54: =X54 -> 22.643589
A55: Finance, real estate and business services | B55: 13.96367 | C55: 13.971525 | D55: 13.909302 | E55: 13.926272 | F55: 14.054892 | G55: 13.784243 | H55: 13.469804 | I55: 13.314982 | J55: 13.415399 | K55: 13.436771 | L55: 14.055377 | M55: 13.805498 | N55: 13.791428 | O55: 13.794008 | P55: 13.879034 | Q55: 13.914765 | R55: =Q55+(Q55-P55) -> 13.950496 | S55: =R55+(R55-Q55) -> 13.986227 | T55: =S55+(S55-R55) -> 14.021958 | U55: =T55+($T55-$R55) -> 14.09342 | V55: =U55 -> 14.09342 | W55: =V55 -> 14.09342 | X55: =W55 -> 14.09342 | Y55: =X55 -> 14.09342
A56: Personal services | B56: 16.393128 | C56: 16.383734 | D56: 16.372374 | E56: 16.373799 | F56: 16.346474 | G56: 16.329207 | H56: 16.342479 | I56: 16.334138 | J56: 16.336224 | K56: 16.339684 | L56: 16.273577 | M56: 16.286643 | N56: 16.278713 | O56: 16.25402 | P56: 16.390382 | Q56: 16.428266 | R56: =Q56+(Q56-P56) -> 16.466149 | S56: =R56+(R56-Q56) -> 16.504033 | T56: =S56+(S56-R56) -> 16.541916 | U56: =T56+($T56-$R56) -> 16.617683 | V56: =U56 -> 16.617683 | W56: =V56 -> 16.617683 | X56: =W56 -> 16.617683 | Y56: =X56 -> 16.617683
A57: General government services | B57: 13.657639 | C57: 13.905927 | D57: 13.463214 | E57: 13.824964 | F57: 13.458472 | G57: 13.544797 | H57: 13.799913 | I57: 13.758766 | J57: 13.682483 | K57: 13.606768 | L57: 13.632321 | M57: 13.621477 | N57: 13.646462 | O57: 13.69698 | P57: 13.728704 | Q57: 13.755894 | R57: =Q57+(Q57-P57) -> 13.783083 | S57: =R57+(R57-Q57) -> 13.810273 | T57: =S57+(S57-R57) -> 13.837463 | U57: =T57+($T57-$R57) -> 13.891842 | V57: =U57 -> 13.891842 | W57: =V57 -> 13.891842 | X57: =W57 -> 13.891842 | Y57: =X57 -> 13.891842
A58: All industries at basic prices | B58: =B39/B19*100 -> 16.517434 | C58: =C39/C19*100 -> 16.511216 | D58: =D39/D19*100 -> 16.272211 | E58: =E39/E19*100 -> 16.390505 | F58: =F39/F19*100 -> 16.065611 | G58: =G39/G19*100 -> 16.047323 | H58: =H39/H19*100 -> 16.248733 | I58: =I39/I19*100 -> 16.119308 | ... T58: =T39/T19*100 -> 15.896381 | U58: =T58+($T58-$R58) -> 15.992447 | V58: =U58 -> 15.992447 | W58: =V58 -> 15.992447 | X58: =W58 -> 15.992447 | Y58: =X58 -> 15.992447
A59: Taxes less subsidies on products | B59: =B40/B20*100 -> #DIV/0! | C59: =C40/C20*100 -> #DIV/0! | D59: =D40/D20*100 -> #DIV/0! | E59: =E40/E20*100 -> #DIV/0! | F59: =F40/F20*100 -> #DIV/0! | G59: =G40/G20*100 -> #DIV/0! | H59: =H40/H20*100 -> #DIV/0! | I59: =I40/I20*100 -> #DIV/0! | ... T59: =T40/T20*100 -> #DIV/0! | U59: =T59+($T59-$R59) -> #DIV/0! | V59: =U59 -> #DIV/0! | W59: =V59 -> #DIV/0! | X59: =W59 -> #DIV/0! | Y59: =X59 -> #DIV/0!
A60: =A41 -> KZN - Annual Compensation of Employees | B60: =B41/B21*100 -> 16.517434 | C60: =C41/C21*100 -> 16.511216 | D60: =D41/D21*100 -> 16.272211 | E60: =E41/E21*100 -> 16.390505 | F60: =F41/F21*100 -> 16.065611 | G60: =G41/G21*100 -> 16.047323 | H60: =H41/H21*100 -> 16.248733 | I60: =I41/I21*100 -> 16.119308 | ... T60: =T41/T21*100 -> 15.896635 | U60: =T60+($T60-$R60) -> 15.992729 | V60: =U60 -> 15.992729 | W60: =V60 -> 15.992729 | X60: =W60 -> 15.992729 | Y60: =X60 -> 15.992729
A62: SA – Annual Compensation of Employees
A63: PA Change
A64: National Industry | C64: 1996 | D64: 1997 | E64: 1998 | F64: 1999 | G64: 2000 | H64: 2001 | I64: 2002 | J64: 2003 | K64: 2004 | L64: 2005 | M64: 2006 | N64: 2007 | O64: 2008 | P64: 2009 | Q64: 2010 | R64: 2011 | S64: 2012 | T64: 2013
A65: Primary Industries | C65: =(C6-B6)/B6*100 -> 8.1213257 | D65: =(D6-C6)/C6*100 -> 9.6309744 | E65: =(E6-D6)/D6*100 -> 7.9566123 | F65: =(F6-E6)/E6*100 -> 9.5001572 | G65: =(G6-F6)/F6*100 -> 8.1390675 | H65: =(H6-G6)/G6*100 -> 9.5388536 | I65: =(I6-H6)/H6*100 -> 18.894329 | J65: =(J6-I6)/I6*100 -> -0.83129824 | ... T65: =(T6-S6)/S6*100 -> 8.9479977
A66: Agriculture, forestry and fishing | C66: =(C7-B7)/B7*100 -> 7.831039 | D66: =(D7-C7)/C7*100 -> 7.1948107 | E66: =(E7-D7)/D7*100 -> 12.274866 | F66: =(F7-E7)/E7*100 -> 5.9898966 | G66: =(G7-F7)/F7*100 -> 6.7748525 | H66: =(H7-G7)/G7*100 -> 6.0474014 | I66: =(I7-H7)/H7*100 -> 46.335939 | J66: =(J7-I7)/I7*100 -> -7.8513019 | ... T66: =(T7-S7)/S7*100 -> 8.5097417
A67: Mining and quarrying | C67: =(C8-B8)/B8*100 -> 8.2221109 | D67: =(D8-C8)/C8*100 -> 10.473734 | E67: =(E8-D8)/D8*100 -> 6.5071055 | F67: =(F8-E8)/E8*100 -> 10.742254 | G67: =(G8-F8)/F8*100 -> 8.6010761 | H67: =(H8-G8)/G8*100 -> 10.701394 | I67: =(I8-H8)/H8*100 -> 10.141295 | J67: =(J8-I8)/I8*100 -> 2.143703 | ... T67: =(T8-S8)/S8*100 -> 9.0398422
A68: Secondary Industries | C68: =(C9-B9)/B9*100 -> 7.1088387 | D68: =(D9-C9)/C9*100 -> 6.4560511 | E68: =(E9-D9)/D9*100 -> 10.671265 | F68: =(F9-E9)/E9*100 -> 5.1193006 | G68: =(G9-F9)/F9*100 -> 8.3393257 | H68: =(H9-G9)/G9*100 -> 5.8052849 | I68: =(I9-H9)/H9*100 -> 11.869045 | J68: =(J9-I9)/I9*100 -> 6.7226344 | ... T68: =(T9-S9)/S9*100 -> 8.55939
A69: Manufacturing | C69: =(C10-B10)/B10*100 -> 6.1635459 | D69: =(D10-C10)/C10*100 -> 5.9482628 | E69: =(E10-D10)/D10*100 -> 13.564093 | F69: =(F10-E10)/E10*100 -> 4.8953569 | G69: =(G10-F10)/F10*100 -> 9.6614783 | H69: =(H10-G10)/G10*100 -> 6.9089332 | I69: =(I10-H10)/H10*100 -> 12.075106 | J69: =(J10-I10)/I10*100 -> 5.7973492 | ... T69: =(T10-S10)/S10*100 -> 8.9163025
A70: Electricity, gas and water | C70: =(C11-B11)/B11*100 -> 23.365947 | D70: =(D11-C11)/C11*100 -> 9.2568717 | E70: =(E11-D11)/D11*100 -> 0.91550353 | F70: =(F11-E11)/E11*100 -> 15.407496 | G70: =(G11-F11)/F11*100 -> 5.2319588 | H70: =(H11-G11)/G11*100 -> 0.5143277 | I70: =(I11-H11)/H11*100 -> 20.199805 | J70: =(J11-I11)/I11*100 -> 8.6965335 | ... T70: =(T11-S11)/S11*100 -> 9.1480537
A71: Construction | C71: =(C12-B12)/B12*100 -> 4.6363361 | D71: =(D12-C12)/C12*100 -> 7.6273062 | E71: =(E12-D12)/D12*100 -> 1.0020257 | F71: =(F12-E12)/E12*100 -> 0.84622824 | G71: =(G12-F12)/F12*100 -> 2.2696396 | H71: =(H12-G12)/G12*100 -> 2.0239119 | I71: =(I12-H12)/H12*100 -> 5.2313113 | J71: =(J12-I12)/I12*100 -> 12.002329 | ... T71: =(T12-S12)/S12*100 -> 6.5165925
A72: Tertiary industries | C72: =(C13-B13)/B13*100 -> 14.808452 | D72: =(D13-C13)/C13*100 -> 11.958661 | E72: =(E13-D13)/D13*100 -> 9.3445701 | F72: =(F13-E13)/E13*100 -> 9.6933253 | G72: =(G13-F13)/F13*100 -> 9.884808 | H72: =(H13-G13)/G13*100 -> 7.6714011 | I72: =(I13-H13)/H13*100 -> 10.198181 | J72: =(J13-I13)/I13*100 -> 11.845779 | ... T72: =(T13-S13)/S13*100 -> 8.6037239
A73: Wholesale & retail trade; hotels & restaurants | C73: =(C14-B14)/B14*100 -> 8.6985826 | D73: =(D14-C14)/C14*100 -> 9.6703734 | E73: =(E14-D14)/D14*100 -> 9.3138459 | F73: =(F14-E14)/E14*100 -> 18.247351 | G73: =(G14-F14)/F14*100 -> 12.954095 | H73: =(H14-G14)/G14*100 -> 0.8098864 | I73: =(I14-H14)/H14*100 -> 7.9741345 | J73: =(J14-I14)/I14*100 -> 10.709699 | ... T73: =(T14-S14)/S14*100 -> 6.7928297
A74: Transport , storage and communication | C74: =(C15-B15)/B15*100 -> 13.554737 | D74: =(D15-C15)/C15*100 -> 8.8604439 | E74: =(E15-D15)/D15*100 -> 7.9396165 | F74: =(F15-E15)/E15*100 -> 4.6093803 | G74: =(G15-F15)/F15*100 -> 8.1500064 | H74: =(H15-G15)/G15*100 -> 7.7559032 | I74: =(I15-H15)/H15*100 -> 3.9079318 | J74: =(J15-I15)/I15*100 -> 10.966799 | ... T74: =(T15-S15)/S15*100 -> 7.0681107
A75: Finance, real estate and business services | C75: =(C16-B16)/B16*100 -> 12.578916 | D75: =(D16-C16)/C16*100 -> 15.827379 | E75: =(E16-D16)/D16*100 -> 15.52568 | F75: =(F16-E16)/E16*100 -> 12.204789 | G75: =(G16-F16)/F16*100 -> 12.046343 | H75: =(H16-G16)/G16*100 -> 17.270629 | I75: =(I16-H16)/H16*100 -> 16.649064 | J75: =(J16-I16)/I16*100 -> 14.714517 | ... T75: =(T16-S16)/S16*100 -> 6.5820746
A76: Personal services | C76: =(C17-B17)/B17*100 -> 12.071656 | D76: =(D17-C17)/C17*100 -> 14.820829 | E76: =(E17-D17)/D17*100 -> 9.4656066 | F76: =(F17-E17)/E17*100 -> 12.110951 | G76: =(G17-F17)/F17*100 -> 15.040807 | H76: =(H17-G17)/G17*100 -> 9.7757171 | I76: =(I17-H17)/H17*100 -> 10.052668 | J76: =(J17-I17)/I17*100 -> 12.02201 | ... T76: =(T17-S17)/S17*100 -> 6.3002142
... A79: Taxes less subsidies on products | C79: =(C20-B20)/B20*100 -> #DIV/0! | D79: =(D20-C20)/C20*100 -> #DIV/0! | E79: =(E20-D20)/D20*100 -> #DIV/0! | F79: =(F20-E20)/E20*100 -> #DIV/0! | G79: =(G20-F20)/F20*100 -> #DIV/0! | H79: =(H20-G20)/G20*100 -> #DIV/0! | I79: =(I20-H20)/H20*100 -> #DIV/0! | J79: =(J20-I20)/I20*100 -> #DIV/0! | ... T79: =(T20-S20)/S20*100 -> #DIV/0!
A80: =A21 -> SA - Annual Compensation of Employees | C80: =(C21-B21)/B21*100 -> 12.175575 | D80: =(D21-C21)/C21*100 -> 10.37196 | E80: =(E21-D21)/D21*100 -> 9.5460807 | F80: =(F21-E21)/E21*100 -> 8.5560823 | G80: =(G21-F21)/F21*100 -> 9.3677565 | H80: =(H21-G21)/G21*100 -> 7.3918306 | I80: =(I21-H21)/H21*100 -> 11.340474 | J80: =(J21-I21)/I21*100 -> 9.4779213 | ... T80: =(T21-S21)/S21*100 -> 8.6236087
A82: KZN – Annual Compensation of Employees
A83: PA Change
A84: Provincial Industry | C84: 1996 | D84: 1997 | E84: 1998 | F84: 1999 | G84: 2000 | H84: 2001 | I84: 2002 | J84: 2003 | K84: 2004 | L84: 2005 | M84: 2006 | N84: 2007 | O84: 2008 | P84: 2009 | Q84: 2010 | R84: 2011 | S84: 2012 | T84: 2013
A85: Primary Industries | C85: =(C26-B26)/B26*100 -> 15.755921 | D85: =(D26-C26)/C26*100 -> 7.3551488 | E85: =(E26-D26)/D26*100 -> 14.054794 | F85: =(F26-E26)/E26*100 -> -8.4431153 | G85: =(G26-F26)/F26*100 -> 6.1788627 | H85: =(H26-G26)/G26*100 -> 7.9617911 | I85: =(I26-H26)/H26*100 -> 29.409132 | J85: =(J26-I26)/I26*100 -> -1.7888458 | ... T85: =(T26-S26)/S26*100 -> 11.284506
A86: Agriculture, forestry and fishing | C86: =(C27-B27)/B27*100 -> 1.1641151 | D86: =(D27-C27)/C27*100 -> 5.8585851 | E86: =(E27-D27)/D27*100 -> 19.633549 | F86: =(F27-E27)/E27*100 -> -2.8224526 | G86: =(G27-F27)/F27*100 -> 5.8102298 | H86: =(H27-G27)/G27*100 -> 9.2769843 | I86: =(I27-H27)/H27*100 -> 43.798899 | J86: =(J27-I27)/I27*100 -> -3.7326879 | ... T86: =(T27-S27)/S27*100 -> 10.535891
A87: Mining and quarrying | C87: =(C28-B28)/B28*100 -> 51.959476 | D87: =(D28-C28)/C28*100 -> 9.8270784 | E87: =(E28-D28)/D28*100 -> 5.17312 | F87: =(F28-E28)/E28*100 -> -18.621838 | G87: =(G28-F28)/F28*100 -> 6.9760457 | H87: =(H28-G28)/G28*100 -> 5.1486308 | I87: =(I28-H28)/H28*100 -> -2.5786255 | J87: =(J28-I28)/I28*100 -> 4.5892691 | ... T87: =(T28-S28)/S28*100 -> 12.530961
A88: Secondary Industries | C88: =(C29-B29)/B29*100 -> 6.7647282 | D88: =(D29-C29)/C29*100 -> 6.6128379 | E88: =(E29-D29)/D29*100 -> 10.078041 | F88: =(F29-E29)/E29*100 -> 5.5077988 | G88: =(G29-F29)/F29*100 -> 9.0246263 | H88: =(H29-G29)/G29*100 -> 8.7691956 | I88: =(I29-H29)/H29*100 -> 9.1157088 | J88: =(J29-I29)/I29*100 -> 5.6257637 | ... T88: =(T29-S29)/S29*100 -> 9.1415856
A89: Manufacturing | C89: =(C30-B30)/B30*100 -> 6.5278801 | D89: =(D30-C30)/C30*100 -> 5.8976935 | E89: =(E30-D30)/D30*100 -> 13.279429 | F89: =(F30-E30)/E30*100 -> 5.9414078 | G89: =(G30-F30)/F30*100 -> 10.158505 | H89: =(H30-G30)/G30*100 -> 6.677013 | I89: =(I30-H30)/H30*100 -> 11.895878 | J89: =(J30-I30)/I30*100 -> 6.429134 | ... T89: =(T30-S30)/S30*100 -> 9.4510399
A90: Electricity, gas and water | C90: =(C31-B31)/B31*100 -> 23.671088 | D90: =(D31-C31)/C31*100 -> 8.776475 | E90: =(E31-D31)/D31*100 -> 1.1184558 | F90: =(F31-E31)/E31*100 -> 16.055562 | G90: =(G31-F31)/F31*100 -> 8.0568161 | H90: =(H31-G31)/G31*100 -> 4.213984 | I90: =(I31-H31)/H31*100 -> 27.404574 | J90: =(J31-I31)/I31*100 -> -6.5710412 | ... T90: =(T31-S31)/S31*100 -> 8.3612092
A91: Construction | C91: =(C32-B32)/B32*100 -> 0.79365398 | D91: =(D32-C32)/C32*100 -> 9.9957461 | E91: =(E32-D32)/D32*100 -> -4.7508619 | F91: =(F32-E32)/E32*100 -> -3.5899795 | G91: =(G32-F32)/F32*100 -> 0.61608997 | H91: =(H32-G32)/G32*100 -> 30.399891 | I91: =(I32-H32)/H32*100 -> -21.438467 | J91: =(J32-I32)/I32*100 -> 8.9470408 | ... T91: =(T32-S32)/S32*100 -> 7.4427346
A92: Tertiary industries | C92: =(C33-B33)/B33*100 -> 14.585266 | D92: =(D33-C33)/C33*100 -> 9.9747668 | E92: =(E33-D33)/D33*100 -> 10.099753 | F92: =(F33-E33)/E33*100 -> 8.3534797 | G92: =(G33-F33)/F33*100 -> 9.609978 | H92: =(H33-G33)/G33*100 -> 8.7915644 | I92: =(I33-H33)/H33*100 -> 9.4863196 | J92: =(J33-I33)/I33*100 -> 11.965195 | ... T92: =(T33-S33)/S33*100 -> 8.7294055
A93: Wholesale & retail trade; hotels & restaurants | C93: =(C34-B34)/B34*100 -> 7.1755661 | D93: =(D34-C34)/C34*100 -> 9.8388407 | E93: =(E34-D34)/D34*100 -> 8.861636 | F93: =(F34-E34)/E34*100 -> 17.7566 | G93: =(G34-F34)/F34*100 -> 13.104815 | H93: =(H34-G34)/G34*100 -> 6.6585866 | I93: =(I34-H34)/H34*100 -> 8.1319991 | J93: =(J34-I34)/I34*100 -> 11.575353 | ... T93: =(T34-S34)/S34*100 -> 7.1597782
A94: Transport , storage and communication | C94: =(C35-B35)/B35*100 -> 11.807211 | D94: =(D35-C35)/C35*100 -> 6.7964294 | E94: =(E35-D35)/D35*100 -> 6.9458018 | F94: =(F35-E35)/E35*100 -> 2.970158 | G94: =(G35-F35)/F35*100 -> 6.3070142 | H94: =(H35-G35)/G35*100 -> 6.1419033 | I94: =(I35-H35)/H35*100 -> 4.2464827 | J94: =(J35-I35)/I35*100 -> 11.637938 | ... T94: =(T35-S35)/S35*100 -> 7.7418291
A95: Finance, real estate and business services | C95: =(C36-B36)/B36*100 -> 12.642246 | D95: =(D36-C36)/C36*100 -> 15.311532 | E95: =(E36-D36)/D36*100 -> 15.666631 | F95: =(F36-E36)/E36*100 -> 13.241087 | G95: =(G36-F36)/F36*100 -> 9.8887114 | H95: =(H36-G36)/G36*100 -> 14.595515 | I95: =(I36-H36)/H36*100 -> 15.308296 | J95: =(J36-I36)/I36*100 -> 15.579658 | ... T95: =(T36-S36)/S36*100 -> 6.854363
A96: Personal services | C96: =(C37-B37)/B37*100 -> 12.007437 | D96: =(D37-C37)/C37*100 -> 14.741211 | E96: =(E37-D37)/D37*100 -> 9.4751352 | F96: =(F37-E37)/E37*100 -> 11.923858 | G96: =(G37-F37)/F37*100 -> 14.919292 | H96: =(H37-G37)/G37*100 -> 9.8649377 | I96: =(I37-H37)/H37*100 -> 9.9965013 | J96: =(J37-I37)/I37*100 -> 12.036316 | ... T96: =(T37-S37)/S37*100 -> 6.5442161
... A99: Taxes less subsidies on products | C99: =(C40-B40)/B40*100 -> #DIV/0! | D99: =(D40-C40)/C40*100 -> #DIV/0! | E99: =(E40-D40)/D40*100 -> #DIV/0! | F99: =(F40-E40)/E40*100 -> #DIV/0! | G99: =(G40-F40)/F40*100 -> #DIV/0! | H99: =(H40-G40)/G40*100 -> #DIV/0! | I99: =(I40-H40)/H40*100 -> #DIV/0! | J99: =(J40-I40)/I40*100 -> #DIV/0! | ... T99: =(T40-S40)/S40*100 -> 0
A100: =A60 -> KZN - Annual Compensation of Employees | C100: =(C41-B41)/B41*100 -> 12.133344 | D100: =(D41-C41)/C41*100 -> 8.7742896 | E100: =(E41-D41)/D41*100 -> 10.342446 | F100: =(F41-E41)/E41*100 -> 6.4042784 | G100: =G98 -> 9.2432559 | H100: =(H41-G41)/G41*100 -> 8.7397102 | I100: =(I41-H41)/H41*100 -> 10.453622 | J100: =(J41-I41)/I41*100 -> 9.2307969 | K100: =(K41-J41)/J41*100 -> 9.3374245 | L100: =(L41-K41)/K41*100 -> 9.5834378 | M100: =(M41-L41)/L41*100 -> 10.453671 | N100: =(N41-M41)/M41*100 -> 13.208284 | O100: =(O41-N41)/N41*100 -> 11.965033 | ... T100: =(T41-S41)/S41*100 -> 8.9559555
A134: Primary Industries | B134: =B26/B$39*100 -> 6.1851484 | C134: =C26/C$39*100 -> 6.3849656 | D134: =D26/D$39*100 -> 6.3016632 | E134: =E26/E$39*100 -> 6.5136756 | F134: =F26/F$39*100 -> 5.6047732 | G134: =G26/G$39*100 -> 5.4475531 | H134: =H26/H$39*100 -> 5.4085816 | I134: =I26/I$39*100 -> 6.3367759 | ... P134: =P26/P$39*100 -> 4.4587349
A135: Agriculture, forestry and fishing | B135: =B27/B$39*100 -> 4.4083625 | C135: =C27/C$39*100 -> 3.9771229 | D135: =D27/D$39*100 -> 3.8705158 | E135: =E27/E$39*100 -> 4.1964226 | F135: =F27/F$39*100 -> 3.8325344 | G135: =G27/G$39*100 -> 3.712095 | H135: =H27/H$39*100 -> 3.7304362 | I135: =I27/I$39*100 -> 4.8566322 | ... P135: =P27/P$39*100 -> 2.9867119
A136: Mining and quarrying | B136: =B28/B$39*100 -> 1.7767859 | C136: =C28/C$39*100 -> 2.4078427 | D136: =D28/D$39*100 -> 2.4311474 | E136: =E28/E$39*100 -> 2.317253 | F136: =F28/F$39*100 -> 1.7722388 | G136: =G28/G$39*100 -> 1.7354581 | H136: =H28/H$39*100 -> 1.6781454 | I136: =I28/I$39*100 -> 1.4801437 | ... P136: =P28/P$39*100 -> 1.472023
A137: Secondary Industries | B137: =B29/B$39*100 -> 32.278204 | C137: =C29/C$39*100 -> 30.732819 | D137: =D29/D$39*100 -> 30.122127 | E137: =E29/E$39*100 -> 30.049948 | F137: =F29/F$39*100 -> 29.796771 | G137: =G29/G$39*100 -> 29.737138 | H137: =H29/H$39*100 -> 29.745201 | I137: =I29/I$39*100 -> 29.384901 | ... P137: =P29/P$39*100 -> 28.068206
A138: Manufacturing | B138: =B30/B$39*100 -> 26.049995 | C138: =C30/C$39*100 -> 24.747774 | D138: =D30/D$39*100 -> 24.093306 | E138: =E30/E$39*100 -> 24.734597 | F138: =F30/F$39*100 -> 24.626999 | G138: =G30/G$39*100 -> 24.833326 | H138: =H30/H$39*100 -> 24.362259 | I138: =I30/I$39*100 -> 24.680371 | ... P138: =P30/P$39*100 -> 22.810795
A139: Electricity, gas and water | B139: =B31/B$39*100 -> 1.8952735 | C139: =C31/C$39*100 -> 2.090284 | D139: =D31/D$39*100 -> 2.090326 | E139: =E31/E$39*100 -> 1.9155868 | F139: =F31/F$39*100 -> 2.089338 | G139: =G31/G$39*100 -> 2.0666467 | H139: =H31/H$39*100 -> 1.9806333 | I139: =I31/I$39*100 -> 2.2845945 | ... P139: =P31/P$39*100 -> 1.9209644
A140: Construction | B140: =B32/B$39*100 -> 4.3329362 | C140: =C32/C$39*100 -> 3.8947601 | D140: =D32/D$39*100 -> 3.9384954 | E140: =E32/E$39*100 -> 3.3997642 | F140: =F32/F$39*100 -> 3.0804338 | G140: =G32/G$39*100 -> 2.8371656 | H140: =H32/H$39*100 -> 3.4023089 | I140: =I32/I$39*100 -> 2.4199351 | ... P140: =P32/P$39*100 -> 3.3364469
A141: Tertiary industries | B141: =B33/B$39*100 -> 61.536647 | C141: =C33/C$39*100 -> 62.882216 | D141: =D33/D$39*100 -> 63.576209 | E141: =E33/E$39*100 -> 63.436376 | F141: =F33/F$39*100 -> 64.598456 | G141: =G33/G$39*100 -> 64.815309 | H141: =H33/H$39*100 -> 64.846217 | I141: =I33/I$39*100 -> 64.278323 | ... P141: =P33/P$39*100 -> 67.473059
A142: Wholesale & retail trade; hotels & restaurants | B142: =B34/B$39*100 -> 12.636553 | C142: =C34/C$39*100 -> 12.07785 | D142: =D34/D$39*100 -> 12.196054 | E142: =E34/E$39*100 -> 12.032381 | F142: =F34/F$39*100 -> 13.316121 | G142: =G34/G$39*100 -> 13.786823 | H142: =H34/H$39*100 -> 13.522963 | I142: =I34/I$39*100 -> 13.238724 | ... P142: =P34/P$39*100 -> 13.012187
...

Sheet Quarterly
A1: Quarterly Compensation of Employees
A3: =Annual!A3 -> SA – Annual Compensation of Employees
A4: Rand million
A5: National Industry | B5: 1995q1 | C5: 1995q2 | D5: 1995q3 | E5: 1995q4 | F5: 1996q1 | G5: 1996q2 | H5: 1996q3 | I5: 1996q4 | J5: 1997q1 | K5: 1997q2 | L5: 1997q3 | M5: 1997q4 | N5: 1998q1 | O5: 1998q2 | P5: 1998q3 | Q5: 1998q4 | R5: 1999q1 | S5: 1999q2 | T5: 1999q3 | U5: 1999q4 | V5: 2000q1 | W5: 2000q2 | X5: 2000q3 | Y5: 2000q4 | Z5: 2001q1 | AA5: 2001q2 | AB5: 2001q3 | AC5: 2001q4 | AD5: 2002q1 | AE5: 2002q2 | AF5: 2002q3 | AG5: 2002q4 | AH5: 2003q1 | AI5: 2003q2 | AJ5: 2003q3 | AK5: 2003q4 | AL5: 2004q1 | AM5: 2004q2 | AN5: 2004q3 | AO5: 2004q4 | AP5: 2005q1 | AQ5: 2005q2 | AR5: 2005q3 | AS5: 2005q4 | AT5: 2006q1 | AU5: 2006q2 | AV5: 2006q3 | AW5: 2006q4 | AX5: 2007q1 | AY5: 2007q2 | AZ5: 2007q3 | BA5: 2007q4 | BB5: 2008q1 | BC5: 2008q2 | BD5: 2008q3 | BE5: 2008q4 | BF5: 2009q1 | BG5: 2009q2 | BH5: 2009q3 | BI5: 2009q4 | BJ5: 2010q1 | BK5: 2010q2 | BL5: 2010q3 | BM5: 2010q4 | BN5: 2011q1 | BO5: 2011q2 | BP5: 2011q3 | BQ5: 2011q4 | BR5: 2012q1 | BS5: 2012q2 | BT5: 2012q3 | BU5: 2012q4 | BV5: 2013q1 | BW5: 2013q2 | BX5: 2013q3 | BY5: 2013q4
A6: Primary Industries | B6: =SUM(B7:B8) -> 5864.34 | C6: =SUM(C7:C8) -> 6059.67 | D6: =SUM(D7:D8) -> 6372.14 | E6: =SUM(E7:E8) -> 6562.06 | F6: =SUM(F7:F8) -> 6552 | G6: =SUM(G7:G8) -> 6577.89 | H6: =SUM(H7:H8) -> 6792.1 | I6: =SUM(I7:I8) -> 6955.03 | ... BY6: =SUM(BY7:BY8) -> 35168
A7: Agriculture, forestry and fishing | B7: 1550.47 | C7: 1667.47 | D7: 1660.34 | E7: 1528.06 | F7: 1672 | G7: 1797.89 | H7: 1790.1 | I7: 1648.03 | J7: 1791.72 | K7: 1927.6 | L7: 1919.88 | M7: 1765.84 | N7: 2011.8 | O7: 2165 | P7: 2155.2 | Q7: 1982 | R7: 2185.25 | S7: 2330.25 | T7: 2247.25 | U7: 2049.25 | V7: 2286.98 | W7: 2486 | X7: 2425.9 | Y7: 2210.12 | Z7: 2465.75 | AA7: 2644.75 | AB7: 2549.75 | AC7: 2317.75 | AD7: 3332 | AE7: 3884 | AF7: 3907 | AG7: 3479 | AH7: 3206 | AI7: 3559 | AJ7: 3527 | AK7: 3163 | AL7: 3172 | AM7: 3383 | AN7: 3353 | AO7: 3004 | AP7: 2946 | AQ7: 3167 | AR7: 3196.15 | AS7: 2833.85 | AT7: 3103 | AU7: 3329 | AV7: 3361 | AW7: 3047 | AX7: 3559.1 | AY7: 3782.1 | AZ7: 3830.1 | BA7: 3480.1 | BB7: 4156.209 | BC7: 4212.284 | BD7: 4225.873 | BE7: 3945.634 | BF7: 4622.845 | BG7: 4654.371 | BH7: 4569.566 | BI7: 4132.218 | BJ7: 4784.146 | BK7: 4857.567 | BL7: 4747.171 | BM7: 4330.116 | BN7: 5020.61 | BO7: 5232.681 | BP7: 5088.011 | BQ7: 4625.877 | BR7: 5390.403 | BS7: 5590.261 | BT7: 5489.649 | BU7: 5021.867 | BV7: 5805.744 | BW7: 6097.681 | BX7: 5967.684 | BY7: 5450
A8: Mining and quarrying | B8: 4313.87 | C8: 4392.2 | D8: 4711.8 | E8: 5034 | F8: 4880 | G8: 4780 | H8: 5002 | I8: 5307 | J8: 5364.13 | K8: 5254.12 | L8: 5553.12 | M8: 5889.13 | N8: 5786 | O8: 5636 | P8: 5814 | Q8: 6260 | R8: 6155 | S8: 6335.1 | T8: 6690.9 | U8: 6839 | V8: 6852.75 | W8: 6838.7 | X8: 7096.8 | Y8: 7469.75 | Z8: 7498 | AA8: 7506 | AB8: 7885 | AC8: 8393 | AD8: 8198 | AE8: 8198 | AF8: 8796 | AG8: 9263 | AH8: 8798.25 | AI8: 8392.25 | AJ8: 8821.25 | AK8: 9181.25 | AL8: 9221.75 | AM8: 9268.75 | AN8: 9499.75 | AO8: 9914.75 | AP8: 9629.25 | AQ8: 9673.25 | AR8: 10516.25 | AS8: 11058.25 | AT8: 11309 | AU8: 11404 | AV8: 12338 | AW8: 13280 | AX8: 13262.1 | AY8: 13548.12 | AZ8: 14510 | BA8: 15695 | BB8: 15969.998 | BC8: 16454.028 | BD8: 17474.729 | BE8: 18539.245 | BF8: 17831.739 | BG8: 17728.665 | BH8: 18708.182 | BI8: 19250.414 | BJ8: 19558.2 | BK8: 19879.19 | BL8: 21603 | BM8: 21570 | BN8: 21719.449 | BO8: 22378.512 | BP8: 23477.712 | BQ8: 25338.186 | BR8: 24480.985 | BS8: 25189.87 | BT8: 25461.703 | BU8: 27422.042 | BV8: 26761.782 | BW8: 27643.531 | BX8: 27702.059 | BY8: 29718
A9: Secondary Industries | B9: =SUM(B10:B12) -> 16808.942 | C9: =SUM(C10:C12) -> 17055.442 | D9: =SUM(D10:D12) -> 18019.91 | E9: =SUM(E10:E12) -> 20451.729 | F9: =SUM(F10:F12) -> 18344.707 | G9: =SUM(G10:G12) -> 18410.171 | H9: =SUM(H10:H12) -> 19442.51 | I9: =SUM(I10:I12) -> 21280.881 | ... BY9: =SUM(BY10:BY12) -> 96210
A10: Manufacturing | B10: 13123.4 | C10: 13157.4 | D10: 14055.28 | E10: 16148 | F10: 14274.4 | G10: 14142.1 | H10: 15031 | I10: 16518 | J10: 14915.6 | K10: 15179.6 | L10: 15851.6 | M10: 17585.61 | N10: 16835 | O10: 17275 | P10: 17880 | Q10: 20160 | R10: 17773 | S10: 18164 | T10: 18639 | U10: 21106 | V10: 19335 | W10: 20035 | X10: 20602 | Y10: 23022 | Z10: 20900.4 | AA10: 21377.4 | AB10: 21871.2 | AC10: 24579 | AD10: 23064.6 | AE10: 24112.6 | AF10: 24736.8 | AG10: 27528 | AH10: 24878 | AI10: 25499 | AJ10: 25867 | AK10: 28963 | AL10: 26414 | AM10: 27410 | AN10: 27778 | AO10: 30950 | AP10: 28501.6 | AQ10: 29143.6 | AR10: 29601.8 | AS10: 33496 | AT10: 30806 | AU10: 32254 | AV10: 32764 | AW10: 37804 | AX10: 34882.1 | AY10: 36598.1 | AZ10: 37576.1 | BA10: 43552.03 | BB10: 39685 | BC10: 41691 | BD10: 43151 | BE10: 49306 | BF10: 42108.82 | BG10: 43001.62 | BH10: 45921.689 | BI10: 52564 | BJ10: 46583.662 | BK10: 48013.01 | BL10: 49598.199 | BM10: 58142.129 | BN10: 50756.372 | BO10: 51686.979 | BP10: 52917.251 | BQ10: 62149.399 | BR10: 55043.131 | BS10: 56153.827 | BT10: 57753.24 | BU10: 67712.801 | BV10: 59950.002 | BW10: 61414.587 | BX10: 63090 | BY10: 73310
A11: Electricity, gas and water | B11: 1085.7 | C11: 1222.7 | D11: 1285 | E11: 1350 | F11: 1343.6 | G11: 1498.9 | H11: 1581.37 | I11: 1674.6 | J11: 1476.6 | K11: 1650.8 | L11: 1720 | M11: 1815.6 | N11: 1470.4 | O11: 1646.4 | P11: 1734.1 | Q11: 1873.1 | R11: 1768.4 | S11: 1832.8 | T11: 1889.4 | U11: 2269.4 | V11: 1862 | W11: 1948 | X11: 2062 | Y11: 2294 | Z11: 1920 | AA11: 1974.4 | AB11: 2053.4 | AC11: 2260.2 | AD11: 2234.4 | AE11: 2437.3 | AF11: 2446.3 | AG11: 2748 | AH11: 2496 | AI11: 2634 | AJ11: 2614 | AK11: 2980 | AL11: 2514.6 | AM11: 2793.4 | AN11: 2707 | AO11: 3186 | AP11: 2763.6 | AQ11: 3067.6 | AR11: 2969.8 | AS11: 3490 | AT11: 3075 | AU11: 3439 | AV11: 3326 | AW11: 3819 | AX11: 3345.9 | AY11: 3761.9 | AZ11: 3742.9 | BA11: 4335 | BB11: 3855.292 | BC11: 4391.175 | BD11: 4444.547 | BE11: 5048.986 | BF11: 4268.894 | BG11: 4656.43 | BH11: 5061.239 | BI11: 5731.437 | BJ11: 4715.889 | BK11: 5186.856 | BL11: 5480.813 | BM11: 6260.122 | BN11: 5270.862 | BO11: 5678.347 | BP11: 5958.641 | BQ11: 6949.43 | BR11: 5824.882 | BS11: 6337.441 | BT11: 6663.121 | BU11: 7717.715 | BV11: 6434.886 | BW11: 7024.456 | BX11: 7069 | BY11: 8443
A12: Construction | B12: 2599.8419 | C12: 2675.3415 | D12: 2679.6296 | E12: 2953.729 | F12: 2726.707 | G12: 2769.1708 | H12: 2830.1401 | I12: 3088.2807 | J12: 2868.7148 | K12: 2996.5827 | L12: 3055.2421 | M12: 3364.3625 | N12: 2907.656 | O12: 3040.535 | P12: 3091.178 | Q12: 3368.631 | R12: 3036.347 | S12: 3046.222 | T12: 3060.162 | U12: 3370.269 | V12: 3063.541 | W12: 3072.307 | X12: 3175.846 | Y12: 3485.306 | Z12: 3129.838 | AA12: 3130.657 | AB12: 3234.156 | AC12: 3561.349 | AD12: 3189 | AE12: 3257 | AF12: 3429 | AG12: 3864 | AH12: 3517 | AI12: 3658 | AJ12: 3882 | AK12: 4331 | AL12: 3846 | AM12: 4060 | AN12: 4316 | AO12: 4818 | AP12: 4158 | AQ12: 4714 | AR12: 4983 | AS12: 5600 | AT12: 4747 | AU12: 5320 | AV12: 5605 | AW12: 6212 | AX12: 6067.9 | AY12: 7326.93 | AZ12: 7732 | BA12: 8704 | BB12: 6993 | BC12: 8584 | BD12: 9233 | BE12: 10030 | BF12: 8088 | BG12: 9565 | BH12: 10110 | BI12: 11516 | BJ12: 8684 | BK12: 10374 | BL12: 10624 | BM12: 11804 | BN12: 9494 | BO12: 10985 | BP12: 11816 | BQ12: 12598 | BR12: 10323 | BS12: 12296 | BT12: 12716 | BU12: 13663 | BV12: 11196 | BW12: 13104 | BX12: 13434 | BY12: 14457
A13: Tertiary industries | B13: =SUM(B14:B18) -> 42036.21 | C13: =SUM(C14:C18) -> 43659.243 | D13: =SUM(D14:D18) -> 44758.342 | E13: =SUM(E14:E18) -> 47028.533 | F13: =SUM(F14:F18) -> 47531.872 | G13: =SUM(G14:G18) -> 50443.552 | H13: =SUM(H14:H18) -> 51581.083 | I13: =SUM(I14:I18) -> 54208.493 | ... BY13: =SUM(BY14:BY18) -> 291144
A14: Wholesale & retail trade; hotels & restaurants | B14: 7998.1375 | C14: 8433.21 | D14: 8756.3 | E14: 10154.9 | F14: 9156.7 | G14: 9136.75 | H14: 9415 | I14: 10708.4 | J14: 9770.725 | K14: 9999.725 | L14: 10399.725 | M14: 11961.725 | N14: 10405 | O14: 10446 | P14: 11373 | Q14: 13832 | R14: 11925 | S14: 13086 | T14: 13619 | U14: 15830 | V14: 13812.8 | W14: 14940 | X14: 15241 | Y14: 17521 | Z14: 14533.25 | AA14: 14973.25 | AB14: 15198.25 | AC14: 17308.25 | AD14: 15237 | AE14: 15960 | AF14: 16520 | AG14: 19241 | AH14: 16746.75 | AI14: 17681.75 | AJ14: 18344.75 | AK14: 21355.75 | AL14: 18308 | AM14: 19661 | AN14: 20333 | AO14: 24489 | AP14: 20140 | AQ14: 21266 | AR14: 22908 | AS14: 26535 | AT14: 22738 | AU14: 24019 | AV14: 24930 | AW14: 29118 | AX14: 24173.9 | AY14: 25762 | AZ14: 27187 | BA14: 31563 | BB14: 26880.514 | BC14: 29228.962 | BD14: 30092.274 | BE14: 34572.25 | BF14: 28864.446 | BG14: 30573.538 | BH14: 32661.365 | BI14: 36568.651 | BJ14: 31713.627 | BK14: 34173.479 | BL14: 36067.501 | BM14: 41513.693 | BN14: 36174.521 | BO14: 38533.457 | BP14: 40491.796 | BQ14: 46382.556 | BR14: 39720.218 | BS14: 42058.248 | BT14: 43721.872 | BU14: 49233.373 | BV14: 42709.83 | BW14: 44868.249 | BX14: 46443 | BY14: 52582
A15: Transport , storage and communication | B15: 5046 | C15: 5525 | D15: 5678.21 | E15: 6026 | F15: 5870 | G15: 6275.96 | H15: 6388 | I15: 6760.6 | J15: 6599.57 | K15: 6755.6 | L15: 6898.6 | M15: 7282 | N15: 6984.6 | O15: 7412.6 | P15: 7466.8 | Q15: 7858 | R15: 7309 | S15: 7696 | T15: 7854 | U15: 8233 | V15: 7907 | W15: 8367 | X15: 8484 | Y15: 8868 | Z15: 8598 | AA15: 8979 | AB15: 9047 | AC15: 9610 | AD15: 8763 | AE15: 9279 | AF15: 9428 | AG15: 10180 | AH15: 9705.4 | AI15: 10361.4 | AJ15: 10442.2 | AK15: 11270 | AL15: 10066 | AM15: 10662 | AN15: 11731 | AO15: 13582 | AP15: 11103 | AQ15: 12581 | AR15: 13147 | AS15: 13684 | AT15: 12372 | AU15: 13218 | AV15: 13737 | AW15: 14733 | AX15: 13348.9 | AY15: 14128.9 | AZ15: 14737.9 | BA15: 15762.9 | BB15: 14215.5 | BC15: 15003.5 | BD15: 15746.5 | BE15: 16420.5 | BF15: 14654.081 | BG15: 15607.583 | BH15: 16594.965 | BI15: 17521.371 | BJ15: 16738.616 | BK15: 17670.424 | BL15: 18721.185 | BM15: 19915.165 | BN15: 18133.202 | BO15: 20118.728 | BP15: 20759.365 | BQ15: 22229.006 | BR15: 19481.501 | BS15: 21583.974 | BT15: 22341.518 | BU15: 24127.007 | BV15: 21085 | BW15: 23157 | BX15: 23766 | BY15: 25713
A16: Finance, real estate and business services | B16: 6660.35 | C16: 6923 | D16: 7160 | E16: 7393 | F16: 7206.88 | G16: 7843 | H16: 8075 | I16: 8551 | J16: 8418.33 | K16: 9160.3 | L16: 9246 | M16: 9864 | N16: 9983 | O16: 10571 | P16: 10829 | Q16: 11002 | R16: 11404 | S16: 11851 | T16: 12041 | U16: 12262 | V16: 12584 | W16: 13160 | X16: 13541 | Y16: 14002 | Z16: 14487 | AA16: 15231 | AB16: 16207 | AC16: 16565 | AD16: 16923 | AE16: 18248 | AF16: 18782 | AG16: 18941 | AH16: 19187 | AI16: 20419 | AJ16: 21756 | AK16: 22258 | AL16: 22315 | AM16: 23390 | AN16: 25212 | AO16: 26028 | AP16: 25127 | AQ16: 27407 | AR16: 29607 | AS16: 30793 | AT16: 29497 | AU16: 31737 | AV16: 33340 | AW16: 34095 | AX16: 34215 | AY16: 36703 | AZ16: 38499 | BA16: 40375 | BB16: 39440.2 | BC16: 40535.8 | BD16: 44342.4 | BE16: 43312.04 | BF16: 40551.06 | BG16: 41307.1 | BH16: 45091.1 | BI16: 44380.1 | BJ16: 45912.8 | BK16: 47516.98 | BL16: 50012 | BM16: 49782 | BN16: 51220.2 | BO16: 52723.16 | BP16: 55446 | BQ16: 54817 | BR16: 57471.1 | BS16: 58750.1 | BT16: 58926.1 | BU16: 59135.06 | BV16: 59650 | BW16: 62052 | BX16: 63151 | BY16: 64850
A17: Personal services | B17: 4674.7225 | C17: 4850.0325 | D17: 5056.8325 | E17: 5125.6325 | F17: 5225.5425 | G17: 5440.0925 | H17: 5665.0825 | I17: 5755.4925 | J17: 6041.94 | K17: 6255.625 | L17: 6486.245 | M17: 6575.755 | N17: 6637.3 | O17: 6801.05 | P17: 7116.35 | Q17: 7205.3 | R17: 7467.4 | S17: 7630.5 | T17: 7971.5 | U17: 8052.6 | V17: 8561.4 | W17: 8911.04 | X17: 9161.24 | Y17: 9169.32 | Z17: 9749.36 | AA17: 9844 | AB17: 9908.64 | AC17: 9801 | AD17: 10646 | AE17: 10836 | AF17: 10899 | AG17: 10873 | AH17: 11761 | AI17: 12057 | AJ17: 12179 | AK17: 12457 | AL17: 13355 | AM17: 13148 | AN17: 13150 | AO17: 13627 | AP17: 14279 | AQ17: 14257 | AR17: 14372 | AS17: 14538 | AT17: 15669.4 | AU17: 15838.4 | AV17: 15963.2 | AW17: 16216 | AX17: 17490.1 | AY17: 17770.1 | AZ17: 17856 | BA17: 18295 | BB17: 19295.7 | BC17: 19376.7 | BD17: 19593.8 | BE17: 19850.8 | BF17: 20808.8 | BG17: 20943.8 | BH17: 21375.4 | BI17: 21394 | BJ17: 22468.245 | BK17: 22631.64 | BL17: 23062.758 | BM17: 23218.268 | BN17: 24510.111 | BO17: 24557.925 | BP17: 25273.057 | BQ17: 25101.907 | BR17: 26512.169 | BS17: 26451.139 | BT17: 27104.931 | BU17: 26848.761 | BV17: 28232 | BW17: 28106 | BX17: 28638 | BY17: 28677
A18: General government services | B18: 17657 | C18: 17928 | D18: 18107 | E18: 18329 | F18: 20072.75 | G18: 21747.75 | H18: 22038 | I18: 22433 | J18: 23530 | K18: 23752 | L18: 24339 | M18: 24795 | N18: 25552 | O18: 25813 | P18: 25937 | Q18: 26225 | R18: 27049 | S18: 27309 | T18: 27386 | U18: 27654 | V18: 28826 | W18: 28856 | X18: 29204 | Y18: 29561 | Z18: 30819 | AA18: 30683 | AB18: 30874 | AC18: 31328 | AD18: 33408 | AE18: 33706 | AF18: 35155 | AG18: 33735 | AH18: 37038 | AI18: 37686 | AJ18: 38056 | AK18: 38259 | AL18: 41826 | AM18: 41298 | AN18: 40446 | AO18: 42717 | AP18: 44347 | AQ18: 44448 | AR18: 45521 | AS18: 47449 | AT18: 48786 | AU18: 45791 | AV18: 51787 | AW18: 53626 | AX18: 53116 | AY18: 53645 | AZ18: 57582 | BA18: 60877 | BB18: 59085 | BC18: 60477 | BD18: 65298 | BE18: 67714 | BF18: 69344 | BG18: 71200 | BH18: 73230 | BI18: 86552 | BJ18: 84082 | BK18: 81445 | BL18: 87013 | BM18: 92556 | BN18: 91760 | BO18: 93636 | BP18: 97576 | BQ18: 96010 | BR18: 98270 | BS18: 100131 | BT18: 104836 | BU18: 108647 | BV18: 106658 | BW18: 115704 | BX18: 117345 | BY18: 119322
A19: All industries at basic prices | B19: =B13+B9+B6 -> 64709.492 | C19: =C13+C9+C6 -> 66774.354 | D19: =D13+D9+D6 -> 69150.392 | E19: =E13+E9+E6 -> 74042.321 | F19: =F13+F9+F6 -> 72428.58 | G19: =G13+G9+G6 -> 75431.613 | H19: =H13+H9+H6 -> 77815.693 | I19: =I13+I9+I6 -> 82444.403 | ... BY19: =BY13+BY9+BY6 -> 422522
A21: SA - Annual Compensation of Employees | B21: =B19+B20 -> 64709.492 | C21: =C19+C20 -> 66774.354 | D21: =D19+D20 -> 69150.392 | E21: =E19+E20 -> 74042.321 | F21: =F19+F20 -> 72428.58 | G21: =G19+G20 -> 75431.613 | H21: =H19+H20 -> 77815.693 | I21: =I19+I20 -> 82444.403 | ... BY21: =BY19+BY20 -> 422522
A23: =Annual!A23 -> KZN – Annual Compensation of Employees
A24: Rand million
A25: Provincial Industry | B25: =B5 -> 1995q1 | C25: =C5 -> 1995q2 | D25: =D5 -> 1995q3 | E25: =E5 -> 1995q4 | F25: =F5 -> 1996q1 | G25: =G5 -> 1996q2 | H25: =H5 -> 1996q3 | I25: =I5 -> 1996q4 | ... BY25: =BY5 -> 2013q4
A26: Primary Industries | B26: =SUM(B27:B28) -> 672.51781 | C26: =SUM(C27:C28) -> 712.46713 | D26: =SUM(D27:D28) -> 724.20373 | E26: =SUM(E27:E28) -> 696.98223 | F26: =SUM(F27:F28) -> 789.08037 | G26: =SUM(G27:G28) -> 819.81872 | H26: =SUM(H27:H28) -> 831.15537 | I26: =SUM(I27:I28) -> 808.25344 | ... BY26: =SUM(BY27:BY28) -> 2825.3956
A27: Agriculture, forestry and fishing | B27: =B7*Annual!$B46/100 -> 484.05495 | C27: =C7*Annual!$B46/100 -> 520.58222 | D27: =D7*Annual!$B46/100 -> 518.35624 | E27: =E7*Annual!$B46/100 -> 477.05858 | F27: =F7*Annual!$C46/100 -> 489.72274 | G27: =G7*Annual!$C46/100 -> 526.59547 | H27: =H7*Annual!$C46/100 -> 524.3138 | I27: =I7*Annual!$C46/100 -> 482.70202 | J27: =J7*Annual!$D46/100 -> 518.2466 | K27: =K7*Annual!$D46/100 -> 557.54926 | L27: =L7*Annual!$D46/100 -> 555.31628 | M27: =M7*Annual!$D46/100 -> 510.76093 | N27: =N7*Annual!$E46/100 -> 620.04266 | O27: =O7*Annual!$E46/100 -> 667.25935 | P27: =P7*Annual!$E46/100 -> 664.23896 | Q27: =Q7*Annual!$E46/100 -> 610.85821 | R27: =R7*Annual!$F46/100 -> 617.50341 | S27: =S7*Annual!$F46/100 -> 658.47721 | T27: =T7*Annual!$F46/100 -> 635.02324 | U27: =U7*Annual!$F46/100 -> 579.07281 | V27: =V7*Annual!$G46/100 -> 640.41172 | W27: =W7*Annual!$G46/100 -> 696.14231 | X27: =X7*Annual!$G46/100 -> 679.31281 | Y27: =Y7*Annual!$G46/100 -> 618.889 | Z27: =Z7*Annual!H46/100 -> 711.49953 | AA27: =AA7*Annual!H46/100 -> 763.15052 | AB27: =AB7*Annual!H46/100 -> 735.73798 | AC27: =AC7*Annual!H46/100 -> 668.79369 | AD27: =AD7*Annual!$I46/100 -> 944.78966 | AE27: =AE7*Annual!$I46/100 -> 1101.3094 | AF27: =AF7*Annual!$I46/100 -> 1107.8311 | AG27: =AG7*Annual!$I46/100 -> 986.47156 | AH27: =AH7*Annual!$J46/100 -> 949.69314 | AI27: =AI7*Annual!$J46/100 -> 1054.2601 | AJ27: =AJ7*Annual!$J46/100 -> 1044.7809 | AK27: =AK7*Annual!$J46/100 -> 936.95552 | AL27: =AL7*Annual!$K46/100 -> 934.42338 | AM27: =AM7*Annual!$K46/100 -> 996.5808 | AN27: =AN7*Annual!$K46/100 -> 987.74325 | AO27: =AO7*Annual!$K46/100 -> 884.93311 | AP27: =AP7*Annual!$L46/100 -> 794.86041 | AQ27: =AQ7*Annual!$L46/100 -> 854.48843 | AR27: =AR7*Annual!$L46/100 -> 862.35339 | AS27: =AS7*Annual!$L46/100 -> 764.60121 | AT27: =AT7*Annual!$M46/100 -> 890.28826 | AU27: =AU7*Annual!$M46/100 -> 955.13039 | AV27: =AV7*Annual!$M46/100 -> 964.31158 | AW27: =AW7*Annual!$M46/100 -> 874.22118 | AX27: =AX7*Annual!$N46/100 -> 1035.2925 | AY27: =AY7*Annual!$N46/100 -> 1100.1601 | AZ27: =AZ7*Annual!$N46/100 -> 1114.1226 | BA27: =BA7*Annual!$N46/100 -> 1012.3125 | BB27: =BB7*Annual!$O46/100 -> 1192.8273 | BC27: =BC7*Annual!$O46/100 -> 1208.9208 | BD27: =BD7*Annual!$O46/100 -> 1212.8208 | BE27: =BE7*Annual!$O46/100 -> 1132.3925 | BF27: =BF7*Annual!P46/100 -> 1309.9983 | BG27: =BG7*Annual!P46/100 -> 1318.932 | BH27: =BH7*Annual!P46/100 -> 1294.9004 | BI27: =BI7*Annual!P46/100 -> 1170.9669 | BJ27: =BJ7*Annual!Q46/100 -> 1382.5236 | BK27: =BK7*Annual!Q46/100 -> 1403.7408 | BL27: =BL7*Annual!Q46/100 -> 1371.8386 | BM27: =BM7*Annual!Q46/100 -> 1251.3179 | BN27: =BN7*Annual!$R46/100 -> 1478.9991 | BO27: =BO7*Annual!$R46/100 -> 1541.4722 | BP27: =BP7*Annual!$R46/100 -> 1498.8545 | BQ27: =BQ7*Annual!$R46/100 -> 1362.7165 | BR27: =BR7*Annual!$S46/100 -> 1618.1497 | BS27: =BS7*Annual!$S46/100 -> 1678.1453 | BT27: =BT7*Annual!$S46/100 -> 1647.9425 | BU27: =BU7*Annual!$S46/100 -> 1507.5186 | BV27: =BV7*Annual!$T46/100 -> 1775.3743 | BW27: =BW7*Annual!$T46/100 -> 1864.6475 | BX27: =BX7*Annual!$T46/100 -> 1824.895 | BY27: =BY7*Annual!$T46/100 -> 1666.5892
A28: Mining and quarrying | B28: =B8*Annual!$B47/100 -> 188.46286 | C28: =C8*Annual!$B47/100 -> 191.88491 | D28: =D8*Annual!$B47/100 -> 205.84749 | E28: =E8*Annual!$B47/100 -> 219.92365 | F28: =F8*Annual!$C47/100 -> 299.35763 | G28: =G8*Annual!$C47/100 -> 293.22325 | H28: =H8*Annual!$C47/100 -> 306.84157 | I28: =I8*Annual!$C47/100 -> 325.55142 | J28: =J8*Annual!$D47/100 -> 327.12987 | K28: =K8*Annual!$D47/100 -> 320.42094 | L28: =L8*Annual!$D47/100 -> 338.65536 | M28: =M8*Annual!$D47/100 -> 359.14683 | N28: =N8*Annual!$E47/100 -> 348.438 | O28: =O8*Annual!$E47/100 -> 339.40486 | P28: =P8*Annual!$E47/100 -> 350.12418 | Q28: =Q8*Annual!$E47/100 -> 376.98269 | R28: =R8*Annual!$F47/100 -> 272.37651 | S28: =S8*Annual!$F47/100 -> 280.34645 | T28: =T8*Annual!$F47/100 -> 296.09163 | U28: =U8*Annual!$F47/100 -> 302.64548 | V28: =V8*Annual!$G47/100 -> 298.71628 | W28: =W8*Annual!$G47/100 -> 298.10383 | X28: =X8*Annual!$G47/100 -> 309.35459 | Y28: =Y8*Annual!$G47/100 -> 325.61175 | Z28: =Z8*Annual!H47/100 -> 310.44879 | AA28: =AA8*Annual!H47/100 -> 310.78002 | AB28: =AB8*Annual!H47/100 -> 326.47222 | AC28: =AC8*Annual!H47/100 -> 347.50556 | AD28: =AD8*Annual!$I47/100 -> 300.23168 | AE28: =AE8*Annual!$I47/100 -> 300.23168 | AF28: =AF8*Annual!$I47/100 -> 322.13197 | AG28: =AG8*Annual!$I47/100 -> 339.2347 | AH28: =AH8*Annual!$J47/100 -> 329.92896 | AI28: =AI8*Annual!$J47/100 -> 314.70421 | AJ28: =AJ8*Annual!$J47/100 -> 330.79144 | AK28: =AK8*Annual!$J47/100 -> 344.29122 | AL28: =AL8*Annual!$K47/100 -> 347.49004 | AM28: =AM8*Annual!$K47/100 -> 349.26108 | AN28: =AN8*Annual!$K47/100 -> 357.96552 | AO28: =AO8*Annual!$K47/100 -> 373.60337 | AP28: =AP8*Annual!$L47/100 -> 336.68523 | AQ28: =AQ8*Annual!$L47/100 -> 338.22368 | AR28: =AR8*Annual!$L47/100 -> 367.69905 | AS28: =AS8*Annual!$L47/100 -> 386.64999 | AT28: =AT8*Annual!$M47/100 -> 384.47848 | AU28: =AU8*Annual!$M47/100 -> 387.70825 | AV28: =AV8*Annual!$M47/100 -> 419.46198 | AW28: =AW8*Annual!$M47/100 -> 451.48768 | AX28: =AX8*Annual!$N47/100 -> 462.24191 | AY28: =AY8*Annual!$N47/100 -> 472.21095 | AZ28: =AZ8*Annual!$N47/100 -> 505.73666 | BA28: =BA8*Annual!$N47/100 -> 547.03906 | BB28: =BB8*Annual!$O47/100 -> 551.33055 | BC28: =BC8*Annual!$O47/100 -> 568.04067 | BD28: =BD8*Annual!$O47/100 -> 603.27822 | BE28: =BE8*Annual!$O47/100 -> 640.02839 | BF28: =BF8*Annual!P47/100 -> 609.03505 | BG28: =BG8*Annual!P47/100 -> 605.5146 | BH28: =BH8*Annual!P47/100 -> 638.96957 | BI28: =BI8*Annual!P47/100 -> 657.48926 | BJ28: =BJ8*Annual!Q47/100 -> 691.66144 | BK28: =BK8*Annual!Q47/100 -> 703.01302 | BL28: =BL8*Annual!Q47/100 -> 763.9743 | BM28: =BM8*Annual!Q47/100 -> 762.80728 | BN28: =BN8*Annual!$T47/100 -> 846.91562 | BO28: =BO8*Annual!$T47/100 -> 872.61474 | BP28: =BP8*Annual!$T47/100 -> 915.47631 | BQ28: =BQ8*Annual!$T47/100 -> 988.02255 | BR28: =BR8*Annual!$S47/100 -> 924.98228 | BS28: =BS8*Annual!$S47/100 -> 951.76658 | BT28: =BT8*Annual!$S47/100 -> 962.03744 | BU28: =BU8*Annual!$S47/100 -> 1036.1063 | BV28: =BV8*Annual!$T47/100 -> 1043.5334 | BW28: =BW8*Annual!$T47/100 -> 1077.9158 | BX28: =BX8*Annual!$T47/100 -> 1080.198 | BY28: =BY8*Annual!$T47/100 -> 1158.8065
A29: Secondary Industries | B29: =SUM(B30:B32) -> 3403.3148 | C29: =SUM(C30:C32) -> 3447.8652 | D29: =SUM(D30:D32) -> 3647.3474 | E29: =SUM(E30:E32) -> 4145.9308 | F29: =SUM(F30:F32) -> 3704.6557 | G29: =SUM(G30:G32) -> 3711.33 | H29: =SUM(H30:H32) -> 3922.9265 | I29: =SUM(I30:I32) -> 4296.2029 | ... BY29: =SUM(BY30:BY32) -> 19379.986
A30: Manufacturing | B30: =B10*Annual!$B49/100 -> 2745.9454 | C30: =C10*Annual!$B49/100 -> 2753.0595 | D30: =D10*Annual!$B49/100 -> 2940.9323 | E30: =E10*Annual!$B49/100 -> 3378.8138 | F30: =F10*Annual!$C49/100 -> 2997.0311 | G30: =G10*Annual!$C49/100 -> 2969.2536 | H30: =H10*Annual!$C49/100 -> 3155.8857 | I30: =I10*Annual!$C49/100 -> 3468.094 | J30: =J10*Annual!$D49/100 -> 3130.1618 | K30: =K10*Annual!$D49/100 -> 3185.5643 | L30: =L10*Annual!$D49/100 -> 3326.5891 | M30: =M10*Annual!$D49/100 -> 3690.4854 | N30: =N10*Annual!$E49/100 -> 3524.1078 | O30: =O10*Annual!$E49/100 -> 3616.214 | P30: =P10*Annual!$E49/100 -> 3742.86 | Q30: =Q10*Annual!$E49/100 -> 4220.1374 | R30: =R10*Annual!$F49/100 -> 3757.5631 | S30: =S10*Annual!$F49/100 -> 3840.2282 | T30: =T10*Annual!$F49/100 -> 3940.6526 | U30: =U10*Annual!$F49/100 -> 4462.2251 | V30: =V10*Annual!$G49/100 -> 4106.3282 | W30: =W10*Annual!$G49/100 -> 4254.9928 | X30: =X10*Annual!$G49/100 -> 4375.4111 | Y30: =Y10*Annual!$G49/100 -> 4889.3658 | Z30: =Z10*Annual!H49/100 -> 4429.1555 | AA30: =AA10*Annual!H49/100 -> 4530.24 | AB30: =AB10*Annual!H49/100 -> 4634.8848 | AC30: =AC10*Annual!H49/100 -> 5208.7143 | AD30: =AD10*Annual!$I49/100 -> 4879.9704 | AE30: =AE10*Annual!$I49/100 -> 5101.7045 | AF30: =AF10*Annual!$I49/100 -> 5233.7717 | AG30: =AG10*Annual!$I49/100 -> 5824.3293 | AH30: =AH10*Annual!$J49/100 -> 5295.0793 | AI30: =AI10*Annual!$J49/100 -> 5427.254 | AJ30: =AJ10*Annual!$J49/100 -> 5505.5798 | AK30: =AK10*Annual!$J49/100 -> 6164.5382 | AL30: =AL10*Annual!$K49/100 -> 5611.5818 | AM30: =AM10*Annual!$K49/100 -> 5823.1792 | AN30: =AN10*Annual!$K49/100 -> 5901.3598 | AO30: =AO10*Annual!$K49/100 -> 6575.2425 | AP30: =AP10*Annual!$L49/100 -> 6053.0697 | AQ30: =AQ10*Annual!$L49/100 -> 6189.4154 | AR30: =AR10*Annual!$L49/100 -> 6286.7263 | AS30: =AS10*Annual!$L49/100 -> 7113.7628 | AT30: =AT10*Annual!$M49/100 -> 6517.7592 | AU30: =AU10*Annual!$M49/100 -> 6824.1189 | AV30: =AV10*Annual!$M49/100 -> 6932.0218 | AW30: =AW10*Annual!$M49/100 -> 7998.3565 | AX30: =AX10*Annual!$N49/100 -> 7384.0181 | AY30: =AY10*Annual!$N49/100 -> 7747.2696 | AZ30: =AZ10*Annual!$N49/100 -> 7954.2975 | BA30: =BA10*Annual!$N49/100 -> 9219.3124 | BB30: =BB10*Annual!$O49/100 -> 8394.7016 | BC30: =BC10*Annual!$O49/100 -> 8819.0375 | BD30: =BD10*Annual!$O49/100 -> 9127.8763 | BE30: =BE10*Annual!$O49/100 -> 10429.864 | BF30: =BF10*Annual!P49/100 -> 8924.4931 | BG30: =BG10*Annual!P49/100 -> 9113.7121 | BH30: =BH10*Annual!P49/100 -> 9732.588 | BI30: =BI10*Annual!P49/100 -> 11140.351 | BJ30: =BJ10*Annual!Q49/100 -> 9922.0825 | BK30: =BK10*Annual!Q49/100 -> 10226.526 | BL30: =BL10*Annual!Q49/100 -> 10564.163 | BM30: =BM10*Annual!Q49/100 -> 12383.977 | BN30: =BN10*Annual!$R49/100 -> 10864.452 | BO30: =BO10*Annual!$R49/100 -> 11063.649 | BP30: =BP10*Annual!$R49/100 -> 11326.99 | BQ30: =BQ10*Annual!$R49/100 -> 13303.141 | BR30: =BR10*Annual!$S49/100 -> 11840.168 | BS30: =BS10*Annual!$S49/100 -> 12079.086 | BT30: =BT10*Annual!$S49/100 -> 12423.131 | BU30: =BU10*Annual!$S49/100 -> 14565.503 | BV30: =BV10*Annual!$T49/100 -> 12958.983 | BW30: =BW10*Annual!$T49/100 -> 13275.573 | BX30: =BX10*Annual!$T49/100 -> 13637.735 | BY30: =BY10*Annual!$T49/100 -> 15846.923
A31: Electricity, gas and water | B31: =B11*Annual!$B50/100 -> 188.85127 | C31: =C11*Annual!$B50/100 -> 212.68163 | D31: =D11*Annual!$B50/100 -> 223.51835 | E31: =E11*Annual!$B50/100 -> 234.82473 | F31: =F11*Annual!$C50/100 -> 234.28956 | G31: =G11*Annual!$C50/100 -> 261.36992 | H31: =H11*Annual!$C50/100 -> 275.75058 | I31: =I11*Annual!$C50/100 -> 292.00752 | J31: =J11*Annual!$D50/100 -> 256.34924 | K31: =K11*Annual!$D50/100 -> 286.59171 | L31: =L11*Annual!$D50/100 -> 298.60537 | M31: =M11*Annual!$D50/100 -> 315.20227 | N31: =N11*Annual!$E50/100 -> 255.78625 | O31: =O11*Annual!$E50/100 -> 286.40267 | P31: =P11*Annual!$E50/100 -> 301.65869 | Q31: =Q11*Annual!$E50/100 -> 325.8387 | R31: =R11*Annual!$F50/100 -> 309.35287 | S31: =S11*Annual!$F50/100 -> 320.61861 | T31: =T11*Annual!$F50/100 -> 330.51986 | U31: =U11*Annual!$F50/100 -> 396.99469 | V31: =V11*Annual!$G50/100 -> 334.47051 | W31: =W11*Annual!$G50/100 -> 349.91867 | X31: =X11*Annual!$G50/100 -> 370.39645 | Y31: =Y11*Annual!$G50/100 -> 412.07054 | Z31: =Z11*Annual!H50/100 -> 357.58345 | AA31: =AA11*Annual!H50/100 -> 367.71498 | AB31: =AB11*Annual!H50/100 -> 382.42805 | AC31: =AC11*Annual!H50/100 -> 420.94277 | AD31: =AD11*Annual!$I50/100 -> 441.08101 | AE31: =AE11*Annual!$I50/100 -> 481.13442 | AF31: =AF11*Annual!$I50/100 -> 482.91107 | AG31: =AG11*Annual!$I50/100 -> 542.46806 | AH31: =AH11*Annual!$J50/100 -> 423.51406 | AI31: =AI11*Annual!$J50/100 -> 446.92951 | AJ31: =AJ11*Annual!$J50/100 -> 443.53596 | AK31: =AK11*Annual!$J50/100 -> 505.63779 | AL31: =AL11*Annual!$K50/100 -> 428.8013 | AM31: =AM11*Annual!$K50/100 -> 476.34358 | AN31: =AN11*Annual!$K50/100 -> 461.61025 | AO31: =AO11*Annual!$K50/100 -> 543.29156 | AP31: =AP11*Annual!$L50/100 -> 476.47298 | AQ31: =AQ11*Annual!$L50/100 -> 528.88569 | AR31: =AR11*Annual!$L50/100 -> 512.02397 | AS31: =AS11*Annual!$L50/100 -> 601.71178 | AT31: =AT11*Annual!$M50/100 -> 529.55804 | AU31: =AU11*Annual!$M50/100 -> 592.24393 | AV31: =AV11*Annual!$M50/100 -> 572.78375 | AW31: =AW11*Annual!$M50/100 -> 657.68525 | AX31: =AX11*Annual!$N50/100 -> 575.93301 | AY31: =AY11*Annual!$N50/100 -> 647.5395 | AZ31: =AZ11*Annual!$N50/100 -> 644.26901 | BA31: =BA11*Annual!$N50/100 -> 746.18775 | BB31: =BB11*Annual!$O50/100 -> 657.36917 | BC31: =BC11*Annual!$O50/100 -> 748.74305 | BD31: =BD11*Annual!$O50/100 -> 757.84355 | BE31: =BE11*Annual!$O50/100 -> 860.90697 | BF31: =BF11*Annual!P50/100 -> 709.42326 | BG31: =BG11*Annual!P50/100 -> 773.82567 | BH31: =BH11*Annual!P50/100 -> 841.09858 | BI31: =BI11*Annual!P50/100 -> 952.47498 | BJ31: =BJ11*Annual!Q50/100 -> 778.1767 | BK31: =BK11*Annual!Q50/100 -> 855.89175 | BL31: =BL11*Annual!Q50/100 -> 904.39809 | BM31: =BM11*Annual!Q50/100 -> 1032.9932 | BN31: =BN11*Annual!$T50/100 -> 851.211 | BO31: =BO11*Annual!$T50/100 -> 917.01726 | BP31: =BP11*Annual!$T50/100 -> 962.28297 | BQ31: =BQ11*Annual!$T50/100 -> 1122.2892 | BR31: =BR11*Annual!$S50/100 -> 947.51232 | BS31: =BS11*Annual!$S50/100 -> 1030.8884 | BT31: =BT11*Annual!$S50/100 -> 1083.8656 | BU31: =BU11*Annual!$S50/100 -> 1255.4126 | BV31: =BV11*Annual!$T50/100 -> 1039.1935 | BW31: =BW11*Annual!$T50/100 -> 1134.4054 | BX31: =BX11*Annual!$T50/100 -> 1141.599 | BY31: =BY11*Annual!$T50/100 -> 1363.4913
A32: Construction | B32: =B12*Annual!$B51/100 -> 468.51819 | C32: =C12*Annual!$B51/100 -> 482.124 | D32: =D12*Annual!$B51/100 -> 482.89675 | E32: =E12*Annual!$B51/100 -> 532.29227 | F32: =F12*Annual!$C51/100 -> 473.33505 | G32: =G12*Annual!$C51/100 -> 480.70642 | H32: =H12*Annual!$C51/100 -> 491.29022 | I32: =I12*Annual!$C51/100 -> 536.10142 | J32: =J12*Annual!$D51/100 -> 508.94516 | K32: =K12*Annual!$D51/100 -> 531.63048 | L32: =L12*Annual!$D51/100 -> 542.03737 | M32: =M12*Annual!$D51/100 -> 596.87913 | N32: =N12*Annual!$E51/100 -> 486.47172 | O32: =O12*Annual!$E51/100 -> 508.70333 | P32: =P12*Annual!$E51/100 -> 517.17627 | Q32: =Q12*Annual!$E51/100 -> 563.59615 | R32: =R12*Annual!$F51/100 -> 485.6557 | S32: =S12*Annual!$F51/100 -> 487.23518 | T32: =T12*Annual!$F51/100 -> 489.46485 | U32: =U12*Annual!$F51/100 -> 539.06565 | V32: =V12*Annual!$G51/100 -> 482.08265 | W32: =W12*Annual!$G51/100 -> 483.46207 | X32: =X12*Annual!$G51/100 -> 499.7551 | Y32: =Y12*Annual!$G51/100 -> 548.45211 | Z32: =Z12*Annual!H51/100 -> 629.49882 | AA32: =AA12*Annual!H51/100 -> 629.66354 | AB32: =AB12*Annual!H51/100 -> 650.48011 | AC32: =AC12*Annual!H51/100 -> 716.28787 | AD32: =AD12*Annual!$I51/100 -> 478.84234 | AE32: =AE12*Annual!$I51/100 -> 489.05284 | AF32: =AF12*Annual!$I51/100 -> 514.87939 | AG32: =AG12*Annual!$I51/100 -> 580.19655 | AH32: =AH12*Annual!$J51/100 -> 513.68724 | AI32: =AI12*Annual!$J51/100 -> 534.28147 | AJ32: =AJ12*Annual!$J51/100 -> 566.99854 | AK32: =AK12*Annual!$J51/100 -> 632.57874 | AL32: =AL12*Annual!$K51/100 -> 563.16665 | AM32: =AM12*Annual!$K51/100 -> 594.50249 | AN32: =AN12*Annual!$K51/100 -> 631.98837 | AO32: =AO12*Annual!$K51/100 -> 705.49582 | AP32: =AP12*Annual!$L51/100 -> 617.75259 | AQ32: =AQ12*Annual!$L51/100 -> 700.35731 | AR32: =AR12*Annual!$L51/100 -> 740.32254 | AS32: =AS12*Annual!$L51/100 -> 831.99001 | AT32: =AT12*Annual!$M51/100 -> 687.13372 | AU32: =AU12*Annual!$M51/100 -> 770.07613 | AV32: =AV12*Annual!$M51/100 -> 811.3302 | AW32: =AW12*Annual!$M51/100 -> 899.19415 | AX32: =AX12*Annual!$N51/100 -> 873.91133 | AY32: =AY12*Annual!$N51/100 -> 1055.2394 | AZ32: =AZ12*Annual!$N51/100 -> 1113.5784 | BA32: =BA12*Annual!$N51/100 -> 1253.5678 | BB32: =BB12*Annual!$O51/100 -> 1007.4381 | BC32: =BC12*Annual!$O51/100 -> 1236.6436 | BD32: =BD12*Annual!$O51/100 -> 1330.141 | BE32: =BE12*Annual!$O51/100 -> 1444.9598 | BF32: =BF12*Annual!P51/100 -> 1171.9215 | BG32: =BG12*Annual!P51/100 -> 1385.9334 | BH32: =BH12*Annual!P51/100 -> 1464.9019 | BI32: =BI12*Annual!P51/100 -> 1668.6261 | BJ32: =BJ12*Annual!Q51/100 -> 1269.5133 | BK32: =BK12*Annual!Q51/100 -> 1516.5742 | BL32: =BL12*Annual!Q51/100 -> 1553.1217 | BM32: =BM12*Annual!Q51/100 -> 1725.6258 | BN32: =BN12*Annual!$T51/100 -> 1424.7711 | BO32: =BO12*Annual!$T51/100 -> 1648.5265 | BP32: =BP12*Annual!$T51/100 -> 1773.2352 | BQ32: =BQ12*Annual!$T51/100 -> 1890.5905 | BR32: =BR12*Annual!$S51/100 -> 1535.826 | BS32: =BS12*Annual!$S51/100 -> 1829.3632 | BT32: =BT12*Annual!$S51/100 -> 1891.8496 | BU32: =BU12*Annual!$S51/100 -> 2032.7415 | BV32: =BV12*Annual!$T51/100 -> 1680.1914 | BW32: =BW12*Annual!$T51/100 -> 1966.5263 | BX32: =BX12*Annual!$T51/100 -> 2016.0496 | BY32: =BY12*Annual!$T51/100 -> 2169.5719
A33: Tertiary industries | B33: =SUM(B34:B38) -> 6580.984 | C33: =SUM(C34:C38) -> 6865.5883 | D33: =SUM(D34:D38) -> 7045.1371 | E33: =SUM(E34:E38) -> 7427.178 | F33: =SUM(F34:F38) -> 7465.506 | G33: =SUM(G34:G38) -> 7912.3951 | H33: =SUM(H34:H38) -> 8092.2394 | I33: =SUM(I34:I38) -> 8520.8315 | ... BY33: =SUM(BY34:BY38) -> 45295.406
A34: Wholesale & retail trade; hotels & restaurants | B34: =B14*Annual!$B53/100 -> 1297.4289 | C34: =C14*Annual!$B53/100 -> 1368.0048 | D34: =D14*Annual!$B53/100 -> 1420.4153 | E34: =E14*Annual!$B53/100 -> 1647.2912 | F34: =F14*Annual!$C53/100 -> 1464.5547 | G34: =G14*Annual!$C53/100 -> 1461.3639 | H34: =H14*Annual!$C53/100 -> 1505.8681 | I34: =I14*Annual!$C53/100 -> 1712.7391 | J34: =J14*Annual!$D53/100 -> 1565.1646 | K34: =K14*Annual!$D53/100 -> 1601.848 | L34: =L14*Annual!$D53/100 -> 1665.9236 | M34: =M14*Annual!$D53/100 -> 1916.1392 | N34: =N14*Annual!$E53/100 -> 1659.8736 | O34: =O14*Annual!$E53/100 -> 1666.4141 | P34: =P14*Annual!$E53/100 -> 1814.2952 | Q34: =Q14*Annual!$E53/100 -> 2206.571 | R34: =R14*Annual!$F53/100 -> 1894.4587 | S34: =S14*Annual!$F53/100 -> 2078.9004 | T34: =T14*Annual!$F53/100 -> 2163.5751 | U34: =U14*Annual!$F53/100 -> 2514.8245 | V34: =V14*Annual!$G53/100 -> 2197.2911 | W34: =W14*Annual!$G53/100 -> 2376.6021 | X34: =X14*Annual!$G53/100 -> 2424.4841 | Y34: =Y14*Annual!$G53/100 -> 2787.1784 | Z34: =Z14*Annual!H53/100 -> 2446.0274 | AA34: =AA14*Annual!H53/100 -> 2520.0819 | AB34: =AB14*Annual!H53/100 -> 2557.9506 | AC34: =AC14*Annual!H53/100 -> 2913.0754 | AD34: =AD14*Annual!$I53/100 -> 2568.2219 | AE34: =AE14*Annual!$I53/100 -> 2690.0847 | AF34: =AF14*Annual!$I53/100 -> 2784.4737 | AG34: =AG14*Annual!$I53/100 -> 3243.1028 | AH34: =AH14*Annual!$J53/100 -> 2844.7638 | AI34: =AI14*Annual!$J53/100 -> 3003.5919 | AJ34: =AJ14*Annual!$J53/100 -> 3116.2154 | AK34: =AK14*Annual!$J53/100 -> 3627.6928 | AL34: =AL14*Annual!$K53/100 -> 3111.1219 | AM34: =AM14*Annual!$K53/100 -> 3341.0404 | AN34: =AN14*Annual!$K53/100 -> 3455.235 | AO34: =AO14*Annual!$K53/100 -> 4161.4739 | AP34: =AP14*Annual!$L53/100 -> 3403.9305 | AQ34: =AQ14*Annual!$L53/100 -> 3594.2397 | AR34: =AR14*Annual!$L53/100 -> 3871.7597 | AS34: =AS14*Annual!$L53/100 -> 4484.7714 | AT34: =AT14*Annual!$M53/100 -> 3859.0663 | AU34: =AU14*Annual!$M53/100 -> 4076.4761 | AV34: =AV14*Annual!$M53/100 -> 4231.09 | AW34: =AW14*Annual!$M53/100 -> 4941.8724 | AX34: =AX14*Annual!$N53/100 -> 4113.784 | AY34: =AY14*Annual!$N53/100 -> 4384.0383 | AZ34: =AZ14*Annual!$N53/100 -> 4626.5371 | BA34: =BA14*Annual!$N53/100 -> 5371.2212 | BB34: =BB14*Annual!$O53/100 -> 4577.7283 | BC34: =BC14*Annual!$O53/100 -> 4977.667 | BD34: =BD14*Annual!$O53/100 -> 5124.6883 | BE34: =BE14*Annual!$O53/100 -> 5887.6243 | BF34: =BF14*Annual!P53/100 -> 4979.395 | BG34: =BG14*Annual!P53/100 -> 5274.2298 | BH34: =BH14*Annual!P53/100 -> 5634.4001 | BI34: =BI14*Annual!P53/100 -> 6308.4445 | BJ34: =BJ14*Annual!Q53/100 -> 5489.9004 | BK34: =BK14*Annual!Q53/100 -> 5915.7218 | BL34: =BL14*Annual!Q53/100 -> 6243.5932 | BM34: =BM14*Annual!Q53/100 -> 7186.3757 | BN34: =BN14*Annual!$R53/100 -> 6283.7853 | BO34: =BO14*Annual!$R53/100 -> 6693.5502 | BP34: =BP14*Annual!$R53/100 -> 7033.7284 | BQ34: =BQ14*Annual!$R53/100 -> 8056.9975 | BR34: =BR14*Annual!$S53/100 -> 6923.4891 | BS34: =BS14*Annual!$S53/100 -> 7331.0228 | BT34: =BT14*Annual!$S53/100 -> 7621.0031 | BU34: =BU14*Annual!$S53/100 -> 8581.6932 | BV34: =BV14*Annual!$T53/100 -> 7470.1779 | BW34: =BW14*Annual!$T53/100 -> 7847.697 | BX34: =BX14*Annual!$T53/100 -> 8123.1294 | BY34: =BY14*Annual!$T53/100 -> 9196.8733
A35: Transport , storage and communication | B35: =B15*Annual!$B54/100 -> 1175.6633 | C35: =C15*Annual!$B54/100 -> 1287.2651 | D35: =D15*Annual!$B54/100 -> 1322.9614 | E35: =E15*Annual!$B54/100 -> 1403.9927 | F35: =F15*Annual!$C54/100 -> 1346.5992 | G35: =G15*Annual!$C54/100 -> 1439.7279 | H35: =H15*Annual!$C54/100 -> 1465.4303 | I35: =I15*Annual!$C54/100 -> 1550.9061 | J35: =J15*Annual!$D54/100 -> 1485.2602 | K35: =K15*Annual!$D54/100 -> 1520.3754 | L35: =L15*Annual!$D54/100 -> 1552.5581 | M35: =M15*Annual!$D54/100 -> 1638.8438 | N35: =N15*Annual!$E54/100 -> 1557.4399 | O35: =O15*Annual!$E54/100 -> 1652.8762 | P35: =P15*Annual!$E54/100 -> 1664.9619 | Q35: =Q15*Annual!$E54/100 -> 1752.1924 | R35: =R15*Annual!$F54/100 -> 1604.2368 | S35: =S15*Annual!$F54/100 -> 1689.1786 | T35: =T15*Annual!$F54/100 -> 1723.8577 | U35: =U15*Annual!$F54/100 -> 1807.0436 | V35: =V15*Annual!$G54/100 -> 1705.9159 | W35: =W15*Annual!$G54/100 -> 1805.1598 | X35: =X15*Annual!$G54/100 -> 1830.4023 | Y35: =Y15*Annual!$G54/100 -> 1913.2493 | Z35: =Z15*Annual!H54/100 -> 1827.2128 | AA35: =AA15*Annual!H54/100 -> 1908.1814 | AB35: =AB15*Annual!H54/100 -> 1922.6325 | AC35: =AC15*Annual!H54/100 -> 2042.279 | AD35: =AD15*Annual!$I54/100 -> 1868.3456 | AE35: =AE15*Annual!$I54/100 -> 1978.3611 | AF35: =AF15*Annual!$I54/100 -> 2010.1292 | AG35: =AG15*Annual!$I54/100 -> 2170.462 | AH35: =AH15*Annual!$J54/100 -> 2081.7884 | AI35: =AI15*Annual!$J54/100 -> 2222.4991 | AJ35: =AJ15*Annual!$J54/100 -> 2239.8305 | AK35: =AK15*Annual!$J54/100 -> 2417.3919 | AL35: =AL15*Annual!$K54/100 -> 2150.7298 | AM35: =AM15*Annual!$K54/100 -> 2278.0729 | AN35: =AN15*Annual!$K54/100 -> 2506.4784 | AO35: =AO15*Annual!$K54/100 -> 2901.9682 | AP35: =AP15*Annual!$L54/100 -> 2386.2953 | AQ35: =AQ15*Annual!$L54/100 -> 2703.9522 | AR35: =AR15*Annual!$L54/100 -> 2825.5988 | AS35: =AS15*Annual!$L54/100 -> 2941.0127 | AT35: =AT15*Annual!$M54/100 -> 2661.167 | AU35: =AU15*Annual!$M54/100 -> 2843.1381 | AV35: =AV15*Annual!$M54/100 -> 2954.7729 | AW35: =AW15*Annual!$M54/100 -> 3169.0085 | AX35: =AX15*Annual!$N54/100 -> 2885.5216 | AY35: =AY15*Annual!$N54/100 -> 3054.1278 | AZ35: =AZ15*Annual!$N54/100 -> 3185.7703 | BA35: =BA15*Annual!$N54/100 -> 3407.3361 | BB35: =BB15*Annual!$O54/100 -> 3078.7763 | BC35: =BC15*Annual!$O54/100 -> 3249.4405 | BD35: =BD15*Annual!$O54/100 -> 3410.3585 | BE35: =BE15*Annual!$O54/100 -> 3556.3327 | BF35: =BF15*Annual!P54/100 -> 3195.2533 | BG35: =BG15*Annual!P54/100 -> 3403.16 | BH35: =BH15*Annual!P54/100 -> 3618.454 | BI35: =BI15*Annual!P54/100 -> 3820.4524 | BJ35: =BJ15*Annual!Q54/100 -> 3673.1842 | BK35: =BK15*Annual!Q54/100 -> 3877.6636 | BL35: =BL15*Annual!Q54/100 -> 4108.2465 | BM35: =BM15*Annual!Q54/100 -> 4370.2579 | BN35: =BN15*Annual!$T54/100 -> 4055.2916 | BO35: =BO15*Annual!$T54/100 -> 4499.3326 | BP35: =BP15*Annual!$T54/100 -> 4642.6041 | BQ35: =BQ15*Annual!$T54/100 -> 4971.2732 | BR35: =BR15*Annual!$S54/100 -> 4329.5803 | BS35: =BS15*Annual!$S54/100 -> 4796.8351 | BT35: =BT15*Annual!$S54/100 -> 4965.1921 | BU35: =BU15*Annual!$S54/100 -> 5362.0002 | BV35: =BV15*Annual!$T54/100 -> 4715.4288 | BW35: =BW15*Annual!$T54/100 -> 5178.8088 | BX35: =BX15*Annual!$T54/100 -> 5315.005 | BY35: =BY15*Annual!$T54/100 -> 5750.4302
A36: Finance, real estate and business services | B36: =B16*Annual!$B55/100 -> 930.02929 | C36: =C16*Annual!$B55/100 -> 966.70487 | D36: =D16*Annual!$B55/100 -> 999.79877 | E36: =E16*Annual!$B55/100 -> 1032.3341 | F36: =F16*Annual!$C55/100 -> 1006.911 | G36: =G16*Annual!$C55/100 -> 1095.7867 | H36: =H16*Annual!$C55/100 -> 1128.2007 | I36: =I16*Annual!$C55/100 -> 1194.7051 | J36: =J16*Annual!$D55/100 -> 1170.9309 | K36: =K16*Annual!$D55/100 -> 1274.1338 | L36: =L16*Annual!$D55/100 -> 1286.054 | M36: =M16*Annual!$D55/100 -> 1372.0135 | N36: =N16*Annual!$E55/100 -> 1390.2597 | O36: =O16*Annual!$E55/100 -> 1472.1462 | P36: =P16*Annual!$E55/100 -> 1508.076 | Q36: =Q16*Annual!$E55/100 -> 1532.1685 | R36: =R16*Annual!$F55/100 -> 1602.8199 | S36: =S16*Annual!$F55/100 -> 1665.6452 | T36: =T16*Annual!$F55/100 -> 1692.3495 | U36: =U16*Annual!$F55/100 -> 1723.4109 | V36: =V16*Annual!$G55/100 -> 1734.6091 | W36: =W16*Annual!$G55/100 -> 1814.0063 | X36: =X16*Annual!$G55/100 -> 1866.5243 | Y36: =Y16*Annual!$G55/100 -> 1930.0696 | Z36: =Z16*Annual!H55/100 -> 1951.3705 | AA36: =AA16*Annual!H55/100 -> 2051.5858 | AB36: =AB16*Annual!H55/100 -> 2183.0511 | AC36: =AC16*Annual!H55/100 -> 2231.273 | AD36: =AD16*Annual!$I55/100 -> 2253.2943 | AE36: =AE16*Annual!$I55/100 -> 2429.7178 | AF36: =AF16*Annual!$I55/100 -> 2500.8198 | AG36: =AG16*Annual!$I55/100 -> 2521.9907 | AH36: =AH16*Annual!$J55/100 -> 2574.0126 | AI36: =AI16*Annual!$J55/100 -> 2739.2903 | AJ36: =AJ16*Annual!$J55/100 -> 2918.6542 | AK36: =AK16*Annual!$J55/100 -> 2985.9995 | AL36: =AL16*Annual!$K55/100 -> 2998.4154 | AM36: =AM16*Annual!$K55/100 -> 3142.8607 | AN36: =AN16*Annual!$K55/100 -> 3387.6787 | AO36: =AO16*Annual!$K55/100 -> 3497.3227 | AP36: =AP16*Annual!$L55/100 -> 3531.6947 | AQ36: =AQ16*Annual!$L55/100 -> 3852.1573 | AR36: =AR16*Annual!$L55/100 -> 4161.3756 | AS36: =AS16*Annual!$L55/100 -> 4328.0724 | AT36: =AT16*Annual!$M55/100 -> 4072.2078 | AU36: =AU16*Annual!$M55/100 -> 4381.451 | AV36: =AV16*Annual!$M55/100 -> 4602.7531 | AW36: =AW16*Annual!$M55/100 -> 4706.9846 | AX36: =AX16*Annual!$N55/100 -> 4718.7372 | AY36: =AY16*Annual!$N55/100 -> 5061.8679 | AZ36: =AZ16*Annual!$N55/100 -> 5309.562 | BA36: =BA16*Annual!$N55/100 -> 5568.2892 | BB36: =BB16*Annual!$O55/100 -> 5440.3842 | BC36: =BC16*Annual!$O55/100 -> 5591.5113 | BD36: =BD16*Annual!$O55/100 -> 6116.594 | BE36: =BE16*Annual!$O55/100 -> 5974.4661 | BF36: =BF16*Annual!P55/100 -> 5628.0955 | BG36: =BG16*Annual!P55/100 -> 5733.0265 | BH36: =BH16*Annual!P55/100 -> 6258.2092 | BI36: =BI16*Annual!P55/100 -> 6159.5292 | BJ36: =BJ16*Annual!Q55/100 -> 6388.6583 | BK36: =BK16*Annual!Q55/100 -> 6611.8762 | BL36: =BL16*Annual!Q55/100 -> 6959.0524 | BM36: =BM16*Annual!Q55/100 -> 6927.0484 | BN36: =BN16*Annual!$T55/100 -> 7182.0751 | BO36: =BO16*Annual!$T55/100 -> 7392.8195 | BP36: =BP16*Annual!$T55/100 -> 7774.615 | BQ36: =BQ16*Annual!$T55/100 -> 7686.4169 | BR36: =BR16*Annual!$S55/100 -> 8038.0386 | BS36: =BS16*Annual!$S55/100 -> 8216.9225 | BT36: =BT16*Annual!$S55/100 -> 8241.5382 | BU36: =BU16*Annual!$S55/100 -> 8270.7639 | BV36: =BV16*Annual!$T55/100 -> 8364.0981 | BW36: =BW16*Annual!$T55/100 -> 8700.9055 | BX36: =BX16*Annual!$T55/100 -> 8855.0069 | BY36: =BY16*Annual!$T55/100 -> 9093.2399
A37: Personal services | B37: =B17*Annual!$B56/100 -> 766.33323 | C37: =C17*Annual!$B56/100 -> 795.07202 | D37: =D17*Annual!$B56/100 -> 828.97301 | E37: =E17*Annual!$B56/100 -> 840.25148 | F37: =F17*Annual!$C56/100 -> 856.13899 | G37: =G17*Annual!$C56/100 -> 891.29029 | H37: =H17*Annual!$C56/100 -> 928.15206 | I37: =I17*Annual!$C56/100 -> 942.96459 | J37: =J17*Annual!$D56/100 -> 989.20899 | K37: =K17*Annual!$D56/100 -> 1024.1943 | L37: =L17*Annual!$D56/100 -> 1061.9523 | M37: =M17*Annual!$D56/100 -> 1076.6072 | N37: =N17*Annual!$E56/100 -> 1086.7781 | O37: =O17*Annual!$E56/100 -> 1113.5902 | P37: =P17*Annual!$E56/100 -> 1165.2168 | Q37: =Q17*Annual!$E56/100 -> 1179.7813 | R37: =R17*Annual!$F56/100 -> 1220.6566 | S37: =S17*Annual!$F56/100 -> 1247.3177 | T37: =T17*Annual!$F56/100 -> 1303.0592 | U37: =U17*Annual!$F56/100 -> 1316.3161 | V37: =V17*Annual!$G56/100 -> 1398.0088 | W37: =W17*Annual!$G56/100 -> 1455.1022 | X37: =X17*Annual!$G56/100 -> 1495.9579 | Y37: =Y17*Annual!$G56/100 -> 1497.2773 | Z37: =Z17*Annual!H56/100 -> 1593.2871 | AA37: =AA17*Annual!H56/100 -> 1608.7536 | AB37: =AB17*Annual!H56/100 -> 1619.3174 | AC37: =AC17*Annual!H56/100 -> 1601.7264 | AD37: =AD17*Annual!$I56/100 -> 1738.9324 | AE37: =AE17*Annual!$I56/100 -> 1769.9672 | AF37: =AF17*Annual!$I56/100 -> 1780.2577 | AG37: =AG17*Annual!$I56/100 -> 1776.0109 | AH37: =AH17*Annual!$J56/100 -> 1921.3034 | AI37: =AI17*Annual!$J56/100 -> 1969.6586 | AJ37: =AJ17*Annual!$J56/100 -> 1989.5888 | AK37: =AK17*Annual!$J56/100 -> 2035.0035 | AL37: =AL17*Annual!$K56/100 -> 2182.1648 | AM37: =AM17*Annual!$K56/100 -> 2148.3416 | AN37: =AN17*Annual!$K56/100 -> 2148.6684 | AO37: =AO17*Annual!$K56/100 -> 2226.6087 | AP37: =AP17*Annual!$L56/100 -> 2323.7041 | AQ37: =AQ17*Annual!$L56/100 -> 2320.1239 | AR37: =AR17*Annual!$L56/100 -> 2338.8386 | AS37: =AS17*Annual!$L56/100 -> 2365.8527 | AT37: =AT17*Annual!$M56/100 -> 2552.0192 | AU37: =AU17*Annual!$M56/100 -> 2579.5437 | AV37: =AV17*Annual!$M56/100 -> 2599.8694 | AW37: =AW17*Annual!$M56/100 -> 2641.042 | AX37: =AX17*Annual!$N56/100 -> 2847.1632 | AY37: =AY17*Annual!$N56/100 -> 2892.7436 | AZ37: =AZ17*Annual!$N56/100 -> 2906.7271 | BA37: =BA17*Annual!$N56/100 -> 2978.1906 | BB37: =BB17*Annual!$O56/100 -> 3136.327 | BC37: =BC17*Annual!$O56/100 -> 3149.4928 | BD37: =BD17*Annual!$O56/100 -> 3184.7803 | BE37: =BE17*Annual!$O56/100 -> 3226.5531 | BF37: =BF17*Annual!P56/100 -> 3410.6419 | BG37: =BG17*Annual!P56/100 -> 3432.7689 | BH37: =BH17*Annual!P56/100 -> 3503.5098 | BI37: =BI17*Annual!P56/100 -> 3506.5584 | BJ37: =BJ17*Annual!Q56/100 -> 3691.143 | BK37: =BK17*Annual!Q56/100 -> 3717.986 | BL37: =BL17*Annual!Q56/100 -> 3788.8112 | BM37: =BM17*Annual!Q56/100 -> 3814.3588 | BN37: =BN17*Annual!$R56/100 -> 4035.8714 | BO37: =BO17*Annual!$R56/100 -> 4043.7446 | BP37: =BP17*Annual!$R56/100 -> 4161.4993 | BQ37: =BQ17*Annual!$R56/100 -> 4133.3175 | BR37: =BR17*Annual!$S56/100 -> 4375.577 | BS37: =BS17*Annual!$S56/100 -> 4365.5046 | BT37: =BT17*Annual!$S56/100 -> 4473.4067 | BU37: =BU17*Annual!$S56/100 -> 4431.1283 | BV37: =BV17*Annual!$T56/100 -> 4670.1137 | BW37: =BW17*Annual!$T56/100 -> 4649.2709 | BX37: =BX17*Annual!$T56/100 -> 4737.2739 | BY37: =BY17*Annual!$T56/100 -> 4743.7253
A38: General government services | B38: =B18*Annual!$B57/100 -> 2411.5293 | C38: =C18*Annual!$B57/100 -> 2448.5415 | D38: =D18*Annual!$B57/100 -> 2472.9886 | E38: =E18*Annual!$B57/100 -> 2503.3086 | F38: =F18*Annual!$C57/100 -> 2791.302 | G38: =G18*Annual!$C57/100 -> 3024.2263 | H38: =H18*Annual!$C57/100 -> 3064.5882 | I38: =I18*Annual!$C57/100 -> 3119.5166 | J38: =J18*Annual!$D57/100 -> 3167.8942 | K38: =K18*Annual!$D57/100 -> 3197.7825 | L38: =L18*Annual!$D57/100 -> 3276.8116 | M38: =M18*Annual!$D57/100 -> 3338.2038 | N38: =N18*Annual!$E57/100 -> 3532.5547 | O38: =O18*Annual!$E57/100 -> 3568.6379 | P38: =P18*Annual!$E57/100 -> 3585.7808 | Q38: =Q18*Annual!$E57/100 -> 3625.5967 | R38: =R18*Annual!$F57/100 -> 3640.3821 | S38: =S18*Annual!$F57/100 -> 3675.3741 | T38: =T18*Annual!$F57/100 -> 3685.7371 | U38: =U18*Annual!$F57/100 -> 3721.8058 | V38: =V18*Annual!$G57/100 -> 3904.4233 | W38: =W18*Annual!$G57/100 -> 3908.4867 | X38: =X18*Annual!$G57/100 -> 3955.6226 | Y38: =Y18*Annual!$G57/100 -> 4003.9776 | Z38: =Z18*Annual!H57/100 -> 4252.9952 | AA38: =AA18*Annual!H57/100 -> 4234.2274 | AB38: =AB18*Annual!H57/100 -> 4260.5852 | AC38: =AC18*Annual!H57/100 -> 4323.2368 | AD38: =AD18*Annual!$I57/100 -> 4596.5287 | AE38: =AE18*Annual!$I57/100 -> 4637.5298 | AF38: =AF18*Annual!$I57/100 -> 4836.8943 | AG38: =AG18*Annual!$I57/100 -> 4641.5198 | AH38: =AH18*Annual!$J57/100 -> 5067.7181 | AI38: =AI18*Annual!$J57/100 -> 5156.3805 | AJ38: =AJ18*Annual!$J57/100 -> 5207.0057 | AK38: =AK18*Annual!$J57/100 -> 5234.7812 | AL38: =AL18*Annual!$K57/100 -> 5691.1666 | AM38: =AM18*Annual!$K57/100 -> 5619.3228 | AN38: =AN18*Annual!$K57/100 -> 5503.3932 | AO38: =AO18*Annual!$K57/100 -> 5812.4029 | AP38: =AP18*Annual!$L57/100 -> 6045.5252 | AQ38: =AQ18*Annual!$L57/100 -> 6059.2938 | AR38: =AR18*Annual!$L57/100 -> 6205.5686 | AS38: =AS18*Annual!$L57/100 -> 6468.3998 | AT38: =AT18*Annual!$M57/100 -> 6645.3738 | AU38: =AU18*Annual!$M57/100 -> 6237.4105 | AV38: =AV18*Annual!$M57/100 -> 7054.1543 | AW38: =AW18*Annual!$M57/100 -> 7304.6533 | AX38: =AX18*Annual!$N57/100 -> 7248.4548 | AY38: =AY18*Annual!$N57/100 -> 7320.6446 | AZ38: =AZ18*Annual!$N57/100 -> 7857.9058 | BA38: =BA18*Annual!$N57/100 -> 8307.5568 | BB38: =BB18*Annual!$O57/100 -> 8092.8608 | BC38: =BC18*Annual!$O57/100 -> 8283.5228 | BD38: =BD18*Annual!$O57/100 -> 8943.8542 | BE38: =BE18*Annual!$O57/100 -> 9274.7732 | BF38: =BF18*Annual!P57/100 -> 9520.0327 | BG38: =BG18*Annual!P57/100 -> 9774.8375 | BH38: =BH18*Annual!P57/100 -> 10053.53 | BI38: =BI18*Annual!P57/100 -> 11882.468 | BJ38: =BJ18*Annual!Q57/100 -> 11566.231 | BK38: =BK18*Annual!Q57/100 -> 11203.488 | BL38: =BL18*Annual!Q57/100 -> 11969.416 | BM38: =BM18*Annual!Q57/100 -> 12731.905 | BN38: =BN18*Annual!$T57/100 -> 12697.256 | BO38: =BO18*Annual!$T57/100 -> 12956.847 | BP38: =BP18*Annual!$T57/100 -> 13502.043 | BQ38: =BQ18*Annual!$T57/100 -> 13285.348 | BR38: =BR18*Annual!$S57/100 -> 13571.355 | BS38: =BS18*Annual!$S57/100 -> 13828.364 | BT38: =BT18*Annual!$S57/100 -> 14478.138 | BU38: =BU18*Annual!$S57/100 -> 15004.447 | BV38: =BV18*Annual!$T57/100 -> 14758.761 | BW38: =BW18*Annual!$T57/100 -> 16010.498 | BX38: =BX18*Annual!$T57/100 -> 16237.571 | BY38: =BY18*Annual!$T57/100 -> 16511.137
A39: =A21 -> SA - Annual Compensation of Employees | B39: =B33+B29+B26 -> 10656.817 | C39: =C33+C29+C26 -> 11025.921 | D39: =D33+D29+D26 -> 11416.688 | E39: =E33+E29+E26 -> 12270.091 | F39: =F33+F29+F26 -> 11959.242 | G39: =G33+G29+G26 -> 12443.544 | H39: =H33+H29+H26 -> 12846.321 | I39: =I33+I29+I26 -> 13625.288 | ... BY39: =BY33+BY29+BY26 -> 67500.788
A41: KZN - Annual Compensation of Employees | B41: =B39+B40 -> 10656.817 | C41: =C39+C40 -> 11025.921 | D41: =D39+D40 -> 11416.688 | E41: =E39+E40 -> 12270.091 | F41: =F39+F40 -> 11959.242 | G41: =G39+G40 -> 12443.544 | H41: =H39+H40 -> 12846.321 | I41: =I39+I40 -> 13625.288 | ... BY41: =BY39+BY40 -> 67500.788
A43: =A3 -> SA – Annual Compensation of Employees
A44: Quarterly Change
A45: National Industry | B45: =B25 -> 1995q1 | C45: =C25 -> 1995q2 | D45: =D25 -> 1995q3 | E45: =E25 -> 1995q4 | F45: =F25 -> 1996q1 | G45: =G25 -> 1996q2 | H45: =H25 -> 1996q3 | I45: =I25 -> 1996q4 | ... BY45: =BY25 -> 2013q4
A46: Primary Industries | C46: =(C6-B6)/B6*100 -> 3.3308096 | D46: =(D6-C6)/C6*100 -> 5.1565514 | E46: =(E6-D6)/D6*100 -> 2.9804744 | F46: =(F6-E6)/E6*100 -> -0.15330552 | G46: =(G6-F6)/F6*100 -> 0.39514652 | H46: =(H6-G6)/G6*100 -> 3.2565154 | I46: =(I6-H6)/H6*100 -> 2.3988163 | J46: =(J6-I6)/I6*100 -> 2.8874067 | ... BY46: =(BY6-BX6)/BX6*100 -> 4.4498624
A47: Agriculture, forestry and fishing | C47: =(C7-B7)/B7*100 -> 7.5460989 | D47: =(D7-C7)/C7*100 -> -0.4275939 | E47: =(E7-D7)/D7*100 -> -7.9670429 | F47: =(F7-E7)/E7*100 -> 9.4197872 | G47: =(G7-F7)/F7*100 -> 7.5293062 | H47: =(H7-G7)/G7*100 -> -0.43328568 | I47: =(I7-H7)/H7*100 -> -7.9364281 | J47: =(J7-I7)/I7*100 -> 8.7188947 | ... BY47: =(BY7-BX7)/BX7*100 -> -8.6747891
A48: Mining and quarrying | C48: =(C8-B8)/B8*100 -> 1.815771 | D48: =(D8-C8)/C8*100 -> 7.2765357 | E48: =(E8-D8)/D8*100 -> 6.838151 | F48: =(F8-E8)/E8*100 -> -3.0591975 | G48: =(G8-F8)/F8*100 -> -2.0491803 | H48: =(H8-G8)/G8*100 -> 4.6443515 | I48: =(I8-H8)/H8*100 -> 6.097561 | J48: =(J8-I8)/I8*100 -> 1.0765027 | ... BY48: =(BY8-BX8)/BX8*100 -> 7.2772253
A49: Secondary Industries | C49: =(C9-B9)/B9*100 -> 1.4664795 | D49: =(D9-C9)/C9*100 -> 5.6548992 | E49: =(E9-D9)/D9*100 -> 13.495181 | F49: =(F9-E9)/E9*100 -> -10.302415 | G49: =(G9-F9)/F9*100 -> 0.35685348 | H49: =(H9-G9)/G9*100 -> 5.6074403 | I49: =(I9-H9)/H9*100 -> 9.4554182 | J49: =(J9-I9)/I9*100 -> -9.491928 | ... BY49: =(BY9-BX9)/BX9*100 -> 15.093369
A50: Manufacturing | C50: =(C10-B10)/B10*100 -> 0.2590792 | D50: =(D10-C10)/C10*100 -> 6.8241446 | E50: =(E10-D10)/D10*100 -> 14.889209 | F50: =(F10-E10)/E10*100 -> -11.602675 | G50: =(G10-F10)/F10*100 -> -0.92683405 | H50: =(H10-G10)/G10*100 -> 6.285488 | I50: =(I10-H10)/H10*100 -> 9.892888 | J50: =(J10-I10)/I10*100 -> -9.7009323 | ... BY50: =(BY10-BX10)/BX10*100 -> 16.199081
A51: Electricity, gas and water | C51: =(C11-B11)/B11*100 -> 12.618587 | D51: =(D11-C11)/C11*100 -> 5.0952809 | E51: =(E11-D11)/D11*100 -> 5.0583658 | F51: =(F11-E11)/E11*100 -> -0.47407407 | G51: =(G11-F11)/F11*100 -> 11.5585 | H51: =(H11-G11)/G11*100 -> 5.5020348 | I51: =(I11-H11)/H11*100 -> 5.895521 | J51: =(J11-I11)/I11*100 -> -11.823719 | ... BY51: =(BY11-BX11)/BX11*100 -> 19.436978
A52: Construction | C52: =(C12-B12)/B12*100 -> 2.9040105 | D52: =(D12-C12)/C12*100 -> 0.16027978 | E52: =(E12-D12)/D12*100 -> 10.229002 | F52: =(F12-E12)/E12*100 -> -7.6859428 | G52: =(G12-F12)/F12*100 -> 1.5573263 | H52: =(H12-G12)/G12*100 -> 2.2017181 | I52: =(I12-H12)/H12*100 -> 9.1211256 | J52: =(J12-I12)/I12*100 -> -7.1096477 | ... BY52: =(BY12-BX12)/BX12*100 -> 7.6150067
A53: Tertiary industries | C53: =(C13-B13)/B13*100 -> 3.8610343 | D53: =(D13-C13)/C13*100 -> 2.5174509 | E53: =(E13-D13)/D13*100 -> 5.0721047 | F53: =(F13-E13)/E13*100 -> 1.0702864 | G53: =(G13-F13)/F13*100 -> 6.1257423 | H53: =(H13-G13)/G13*100 -> 2.2550553 | I53: =(I13-H13)/H13*100 -> 5.0937473 | J53: =(J13-I13)/I13*100 -> 0.28053261 | ... BY53: =(BY13-BX13)/BX13*100 -> 4.2245555
A54: Wholesale & retail trade; hotels & restaurants | C54: =(C14-B14)/B14*100 -> 5.4396727 | D54: =(D14-C14)/C14*100 -> 3.8311627 | E54: =(E14-D14)/D14*100 -> 15.9725 | F54: =(F14-E14)/E14*100 -> -9.8297374 | G54: =(G14-F14)/F14*100 -> -0.21787325 | H54: =(H14-G14)/G14*100 -> 3.0453936 | I54: =(I14-H14)/H14*100 -> 13.737653 | J54: =(J14-I14)/I14*100 -> -8.7564435 | ... BY54: =(BY14-BX14)/BX14*100 -> 13.218354
A55: Transport , storage and communication | C55: =(C15-B15)/B15*100 -> 9.4926675 | D55: =(D15-C15)/C15*100 -> 2.7730317 | E55: =(E15-D15)/D15*100 -> 6.1249936 | F55: =(F15-E15)/E15*100 -> -2.5887819 | G55: =(G15-F15)/F15*100 -> 6.9158433 | H55: =(H15-G15)/G15*100 -> 1.7852249 | I55: =(I15-H15)/H15*100 -> 5.8328115 | J55: =(J15-I15)/I15*100 -> -2.3818892 | ... BY55: =(BY15-BX15)/BX15*100 -> 8.1923757
A56: Finance, real estate and business services | C56: =(C16-B16)/B16*100 -> 3.9434865 | D56: =(D16-C16)/C16*100 -> 3.4233714 | E56: =(E16-D16)/D16*100 -> 3.2541899 | F56: =(F16-E16)/E16*100 -> -2.5175166 | G56: =(G16-F16)/F16*100 -> 8.8265657 | H56: =(H16-G16)/G16*100 -> 2.9580518 | I56: =(I16-H16)/H16*100 -> 5.8947368 | J56: =(J16-I16)/I16*100 -> -1.5515144 | ... BY56: =(BY16-BX16)/BX16*100 -> 2.690377
A57: Personal services | C57: =(C17-B17)/B17*100 -> 3.7501691 | D57: =(D17-C17)/C17*100 -> 4.263889 | E57: =(E17-D17)/D17*100 -> 1.3605355 | F57: =(F17-E17)/E17*100 -> 1.9492229 | G57: =(G17-F17)/F17*100 -> 4.1057938 | H57: =(H17-G17)/G17*100 -> 4.1357753 | I57: =(I17-H17)/H17*100 -> 1.5959167 | J57: =(J17-I17)/I17*100 -> 4.9769416 | ... BY57: =(BY17-BX17)/BX17*100 -> 0.13618269
... A61: SA - Annual Compensation of Employees | C61: =(C21-B21)/B21*100 -> 3.1909726 | D61: =(D21-C21)/C21*100 -> 3.5583093 | E61: =(E21-D21)/D21*100 -> 7.0743335 | F61: =(F21-E21)/E21*100 -> -2.1794858 | G61: =(G21-F21)/F21*100 -> 4.1461999 | H61: =(H21-G21)/G21*100 -> 3.1605838 | I61: =(I21-H21)/H21*100 -> 5.9482997 | J61: =(J21-I21)/I21*100 -> -2.0220577 | ... BY61: =(BY21-BX21)/BX21*100 -> 6.5345139
A63: =A23 -> KZN – Annual Compensation of Employees
A64: Quarterly Change
A65: Provincial Industry | B65: =B45 -> 1995q1 | C65: =C45 -> 1995q2 | D65: =D45 -> 1995q3 | E65: =E45 -> 1995q4 | F65: =F45 -> 1996q1 | G65: =G45 -> 1996q2 | H65: =H45 -> 1996q3 | I65: =I45 -> 1996q4 | ... BY65: =BY45 -> 2013q4
A66: Primary Industries | C66: =(C26-B26)/B26*100 -> 5.9402619 | D66: =(D26-C26)/C26*100 -> 1.6473176 | E66: =(E26-D26)/D26*100 -> -3.7588183 | F66: =(F26-E26)/E26*100 -> 13.213844 | G66: =(G26-F26)/F26*100 -> 3.8954647 | H66: =(H26-G26)/G26*100 -> 1.3828247 | I66: =(I26-H26)/H26*100 -> -2.7554339 | J66: =(J26-I26)/I26*100 -> 4.5929943 | ... BY66: =(BY26-BX26)/BX26*100 -> -2.7433664
A67: Agriculture, forestry and fishing | C67: =(C27-B27)/B27*100 -> 7.5460989 | D67: =(D27-C27)/C27*100 -> -0.4275939 | E67: =(E27-D27)/D27*100 -> -7.9670429 | F67: =(F27-E27)/E27*100 -> 2.654635 | G67: =(G27-F27)/F27*100 -> 7.5293062 | H67: =(H27-G27)/G27*100 -> -0.43328568 | I67: =(I27-H27)/H27*100 -> -7.9364281 | J67: =(J27-I27)/I27*100 -> 7.3636708 | ... BY67: =(BY27-BX27)/BX27*100 -> -8.6747891
A68: Mining and quarrying | C68: =(C28-B28)/B28*100 -> 1.815771 | D68: =(D28-C28)/C28*100 -> 7.2765357 | E68: =(E28-D28)/D28*100 -> 6.838151 | F68: =(F28-E28)/E28*100 -> 36.11889 | G68: =(G28-F28)/F28*100 -> -2.0491803 | H68: =(H28-G28)/G28*100 -> 4.6443515 | I68: =(I28-H28)/H28*100 -> 6.097561 | J68: =(J28-I28)/I28*100 -> 0.48485334 | ... BY68: =(BY28-BX28)/BX28*100 -> 7.2772253
A69: Secondary Industries | C69: =(C29-B29)/B29*100 -> 1.3090282 | D69: =(D29-C29)/C29*100 -> 5.785674 | E69: =(E29-D29)/D29*100 -> 13.669755 | F69: =(F29-E29)/E29*100 -> -10.643571 | G69: =(G29-F29)/F29*100 -> 0.18015774 | H69: =(H29-G29)/G29*100 -> 5.7013671 | I69: =(I29-H29)/H29*100 -> 9.5152527 | J69: =(J29-I29)/I29*100 -> -9.3279285 | ... BY69: =(BY29-BX29)/BX29*100 -> 15.388766
A70: Manufacturing | C70: =(C30-B30)/B30*100 -> 0.2590792 | D70: =(D30-C30)/C30*100 -> 6.8241446 | E70: =(E30-D30)/D30*100 -> 14.889209 | F70: =(F30-E30)/E30*100 -> -11.299312 | G70: =(G30-F30)/F30*100 -> -0.92683405 | H70: =(H30-G30)/G30*100 -> 6.285488 | I70: =(I30-H30)/H30*100 -> 9.892888 | J70: =(J30-I30)/I30*100 -> -9.7440322 | ... BY70: =(BY30-BX30)/BX30*100 -> 16.199081
A71: Electricity, gas and water | C71: =(C31-B31)/B31*100 -> 12.618587 | D71: =(D31-C31)/C31*100 -> 5.0952809 | E71: =(E31-D31)/D31*100 -> 5.0583658 | F71: =(F31-E31)/E31*100 -> -0.22790044 | G71: =(G31-F31)/F31*100 -> 11.5585 | H71: =(H31-G31)/G31*100 -> 5.5020348 | I71: =(I31-H31)/H31*100 -> 5.895521 | J71: =(J31-I31)/I31*100 -> -12.211426 | ... BY71: =(BY31-BX31)/BX31*100 -> 19.436978
A72: Construction | C72: =(C32-B32)/B32*100 -> 2.9040105 | D72: =(D32-C32)/C32*100 -> 0.16027978 | E72: =(E32-D32)/D32*100 -> 10.229002 | F72: =(F32-E32)/E32*100 -> -11.0761 | G72: =(G32-F32)/F32*100 -> 1.5573263 | H72: =(H32-G32)/G32*100 -> 2.2017181 | I72: =(I32-H32)/H32*100 -> 9.1211256 | J72: =(J32-I32)/I32*100 -> -5.0655082 | ... BY72: =(BY32-BX32)/BX32*100 -> 7.6150067
A73: Tertiary industries | C73: =(C33-B33)/B33*100 -> 4.3246461 | D73: =(D33-C33)/C33*100 -> 2.6151993 | E73: =(E33-D33)/D33*100 -> 5.4227605 | F73: =(F33-E33)/E33*100 -> 0.5160505 | G73: =(G33-F33)/F33*100 -> 5.9860519 | H73: =(H33-G33)/G33*100 -> 2.2729441 | I73: =(I33-H33)/H33*100 -> 5.2963353 | J73: =(J33-I33)/I33*100 -> -1.6708769 | ... BY73: =(BY33-BX33)/BX33*100 -> 4.6857282
A74: Wholesale & retail trade; hotels & restaurants | C74: =(C34-B34)/B34*100 -> 5.4396727 | D74: =(D34-C34)/C34*100 -> 3.8311627 | E74: =(E34-D34)/D34*100 -> 15.9725 | F74: =(F34-E34)/E34*100 -> -11.093147 | G74: =(G34-F34)/F34*100 -> -0.21787325 | H74: =(H34-G34)/G34*100 -> 3.0453936 | I74: =(I34-H34)/H34*100 -> 13.737653 | J74: =(J34-I34)/I34*100 -> -8.6162822 | ... BY74: =(BY34-BX34)/BX34*100 -> 13.218354
A75: Transport , storage and communication | C75: =(C35-B35)/B35*100 -> 9.4926675 | D75: =(D35-C35)/C35*100 -> 2.7730317 | E75: =(E35-D35)/D35*100 -> 6.1249936 | F75: =(F35-E35)/E35*100 -> -4.0878713 | G75: =(G35-F35)/F35*100 -> 6.9158433 | H75: =(H35-G35)/G35*100 -> 1.7852249 | I75: =(I35-H35)/H35*100 -> 5.8328115 | J75: =(J35-I35)/I35*100 -> -4.2327469 | ... BY75: =(BY35-BX35)/BX35*100 -> 8.1923757
A76: Finance, real estate and business services | C76: =(C36-B36)/B36*100 -> 3.9434865 | D76: =(D36-C36)/C36*100 -> 3.4233714 | E76: =(E36-D36)/D36*100 -> 3.2541899 | F76: =(F36-E36)/E36*100 -> -2.4626789 | G76: =(G36-F36)/F36*100 -> 8.8265657 | H76: =(H36-G36)/G36*100 -> 2.9580518 | I76: =(I36-H36)/H36*100 -> 5.8947368 | J76: =(J36-I36)/I36*100 -> -1.9899633 | ... BY76: =(BY36-BX36)/BX36*100 -> 2.690377
A77: Personal services | C77: =(C37-B37)/B37*100 -> 3.7501691 | D77: =(D37-C37)/C37*100 -> 4.263889 | E77: =(E37-D37)/D37*100 -> 1.3605355 | F77: =(F37-E37)/E37*100 -> 1.8908043 | G77: =(G37-F37)/F37*100 -> 4.1057938 | H77: =(H37-G37)/G37*100 -> 4.1357753 | I77: =(I37-H37)/H37*100 -> 1.5959167 | J77: =(J37-I37)/I37*100 -> 4.9041499 | ... BY77: =(BY37-BX37)/BX37*100 -> 0.13618269
... A79: All industries at basic prices | C79: =(C39-B39)/B39*100 -> 3.4635478 | D79: =(D39-C39)/C39*100 -> 3.5440819 | E79: =(E39-D39)/D39*100 -> 7.4750474 | F79: =(F39-E39)/E39*100 -> -2.5333875 | G79: =(G39-F39)/F39*100 -> 4.0496014 | H79: =(H39-G39)/G39*100 -> 3.2368393 | I79: =(I39-H39)/H39*100 -> 6.0637325 | J79: =(J39-I39)/I39*100 -> -3.7136559 | ... BY79: =(BY39-BX39)/BX39*100 -> 7.1977702
A81: =A41 -> KZN - Annual Compensation of Employees | C81: =(C41-B41)/B41*100 -> 3.4635478 | D81: =(D41-C41)/C41*100 -> 3.5440819 | E81: =(E41-D41)/D41*100 -> 7.4750474 | F81: =(F41-E41)/E41*100 -> -2.5333875 | G81: =(G41-F41)/F41*100 -> 4.0496014 | H81: =(H41-G41)/G41*100 -> 3.2368393 | I81: =(I41-H41)/H41*100 -> 6.0637325 | J81: =(J41-I41)/I41*100 -> -3.7136559 | ... BY81: =(BY41-BX41)/BX41*100 -> 7.1977702
A83: =A43 -> SA – Annual Compensation of Employees
A84: Annual Change
A85: National Industry | B85: =B65 -> 1995q1 | C85: =C65 -> 1995q2 | D85: =D65 -> 1995q3 | E85: =E65 -> 1995q4 | F85: =F65 -> 1996q1 | G85: =G65 -> 1996q2 | H85: =H65 -> 1996q3 | I85: =I65 -> 1996q4 | ... BY85: =BY65 -> 2013q4
A86: Primary Industries | F86: =(F6-B6)/B6*100 -> 11.726128 | G86: =(G6-C6)/C6*100 -> 8.5519508 | H86: =(H6-D6)/D6*100 -> 6.5905646 | I86: =(I6-E6)/E6*100 -> 5.9885158 | J86: =(J6-F6)/F6*100 -> 9.2162698 | K86: =(K6-G6)/G6*100 -> 9.1796914 | L86: =(L6-H6)/H6*100 -> 10.024882 | M86: =(M6-I6)/I6*100 -> 10.063796 | ... BY86: =(BY6-BU6)/BU6*100 -> 8.3963095
A87: Agriculture, forestry and fishing | F87: =(F7-B7)/B7*100 -> 7.8382684 | G87: =(G7-C7)/C7*100 -> 7.8214301 | H87: =(H7-D7)/D7*100 -> 7.8152668 | I87: =(I7-E7)/E7*100 -> 7.8511315 | J87: =(J7-F7)/F7*100 -> 7.1602871 | K87: =(K7-G7)/G7*100 -> 7.2145682 | L87: =(L7-H7)/H7*100 -> 7.2498743 | M87: =(M7-I7)/I7*100 -> 7.1485349 | ... BY87: =(BY7-BU7)/BU7*100 -> 8.5253751
A88: Mining and quarrying | F88: =(F8-B8)/B8*100 -> 13.123483 | G88: =(G8-C8)/C8*100 -> 8.8292883 | H88: =(H8-D8)/D8*100 -> 6.1590051 | I88: =(I8-E8)/E8*100 -> 5.4231228 | J88: =(J8-F8)/F8*100 -> 9.9206967 | K88: =(K8-G8)/G8*100 -> 9.9188285 | L88: =(L8-H8)/H8*100 -> 11.017993 | M88: =(M8-I8)/I8*100 -> 10.969097 | ... BY88: =(BY8-BU8)/BU8*100 -> 8.3726733
A89: Secondary Industries | F89: =(F9-B9)/B9*100 -> 9.1365963 | G89: =(G9-C9)/C9*100 -> 7.9430908 | H89: =(H9-D9)/D9*100 -> 7.8946041 | I89: =(I9-E9)/E9*100 -> 4.0541891 | J89: =(J9-F9)/F9*100 -> 4.9943987 | K89: =(K9-G9)/G9*100 -> 7.6958109 | L89: =(L9-H9)/H9*100 -> 6.091456 | M89: =(M9-I9)/I9*100 -> 6.9766465 | ... BY89: =(BY9-BU9)/BU9*100 -> 7.9876565
A90: Manufacturing | F90: =(F10-B10)/B10*100 -> 8.770593 | G90: =(G10-C10)/C10*100 -> 7.4840014 | H90: =(H10-D10)/D10*100 -> 6.9420175 | I90: =(I10-E10)/E10*100 -> 2.2913054 | J90: =(J10-F10)/F10*100 -> 4.4919576 | K90: =(K10-G10)/G10*100 -> 7.3362513 | L90: =(L10-H10)/H10*100 -> 5.4593839 | M90: =(M10-I10)/I10*100 -> 6.4633127 | ... BY90: =(BY10-BU10)/BU10*100 -> 8.2660869
A91: Electricity, gas and water | F91: =(F11-B11)/B11*100 -> 23.75426 | G91: =(G11-C11)/C11*100 -> 22.589351 | H91: =(H11-D11)/D11*100 -> 23.063813 | I91: =(I11-E11)/E11*100 -> 24.044444 | J91: =(J11-F11)/F11*100 -> 9.8987794 | K91: =(K11-G11)/G11*100 -> 10.134098 | L91: =(L11-H11)/H11*100 -> 8.7664493 | M91: =(M11-I11)/I11*100 -> 8.4199212 | ... BY91: =(BY11-BU11)/BU11*100 -> 9.397665
A92: Construction | F92: =(F12-B12)/B12*100 -> 4.8797263 | G92: =(G12-C12)/C12*100 -> 3.5071863 | H92: =(H12-D12)/D12*100 -> 5.6168403 | I92: =(I12-E12)/E12*100 -> 4.5553189 | J92: =(J12-F12)/F12*100 -> 5.2080334 | K92: =(K12-G12)/G12*100 -> 8.2122751 | L92: =(L12-H12)/H12*100 -> 7.953739 | M92: =(M12-I12)/I12*100 -> 8.9396605 | ... BY92: =(BY12-BU12)/BU12*100 -> 5.8113152
A93: Tertiary industries | F93: =(F13-B13)/B13*100 -> 13.073639 | G93: =(G13-C13)/C13*100 -> 15.53923 | H93: =(H13-D13)/D13*100 -> 15.243505 | I93: =(I13-E13)/E13*100 -> 15.267242 | J93: =(J13-F13)/F13*100 -> 14.366555 | K93: =(K13-G13)/G13*100 -> 10.863029 | L93: =(L13-H13)/H13*100 -> 11.222113 | M93: =(M13-I13)/I13*100 -> 11.56643 | ... BY93: =(BY13-BU13)/BU13*100 -> 8.6393878
A94: Wholesale & retail trade; hotels & restaurants | F94: =(F14-B14)/B14*100 -> 14.485404 | G94: =(G14-C14)/C14*100 -> 8.3424935 | H94: =(H14-D14)/D14*100 -> 7.5225837 | I94: =(I14-E14)/E14*100 -> 5.4505707 | J94: =(J14-F14)/F14*100 -> 6.7057455 | K94: =(K14-G14)/G14*100 -> 9.4450981 | L94: =(L14-H14)/H14*100 -> 10.459108 | M94: =(M14-I14)/I14*100 -> 11.704129 | ... BY94: =(BY14-BU14)/BU14*100 -> 6.8015389
A95: Transport , storage and communication | F95: =(F15-B15)/B15*100 -> 16.329766 | G95: =(G15-C15)/C15*100 -> 13.592036 | H95: =(H15-D15)/D15*100 -> 12.500242 | I95: =(I15-E15)/E15*100 -> 12.190508 | J95: =(J15-F15)/F15*100 -> 12.42879 | K95: =(K15-G15)/G15*100 -> 7.6424961 | L95: =(L15-H15)/H15*100 -> 7.9931121 | M95: =(M15-I15)/I15*100 -> 7.7123332 | ... BY95: =(BY15-BU15)/BU15*100 -> 6.5735174
A96: Finance, real estate and business services | F96: =(F16-B16)/B16*100 -> 8.2057249 | G96: =(G16-C16)/C16*100 -> 13.289037 | H96: =(H16-D16)/D16*100 -> 12.77933 | I96: =(I16-E16)/E16*100 -> 15.663465 | J96: =(J16-F16)/F16*100 -> 16.809632 | K96: =(K16-G16)/G16*100 -> 16.795869 | L96: =(L16-H16)/H16*100 -> 14.501548 | M96: =(M16-I16)/I16*100 -> 15.354929 | ... BY96: =(BY16-BU16)/BU16*100 -> 9.6642161
A97: Personal services | F97: =(F17-B17)/B17*100 -> 11.782945 | G97: =(G17-C17)/C17*100 -> 12.166104 | H97: =(H17-D17)/D17*100 -> 12.028281 | I97: =(I17-E17)/E17*100 -> 12.288435 | J97: =(J17-F17)/F17*100 -> 15.62321 | K97: =(K17-G17)/G17*100 -> 14.991151 | L97: =(L17-H17)/H17*100 -> 14.495155 | M97: =(M17-I17)/I17*100 -> 14.251821 | ... BY97: =(BY17-BU17)/BU17*100 -> 6.809398
... A99: All industries at basic prices | F99: =(F19-B19)/B19*100 -> 11.928834 | G99: =(G19-C19)/C19*100 -> 12.964946 | H99: =(H19-D19)/D19*100 -> 12.531094 | I99: =(I19-E19)/E19*100 -> 11.347675 | J99: =(J19-F19)/F19*100 -> 11.526873 | K99: =(K19-G19)/G19*100 -> 9.9432308 | L99: =(L19-H19)/H19*100 -> 9.8357018 | M99: =(M19-I19)/I19*100 -> 10.254934 | ... BY99: =(BY19-BU19)/BU19*100 -> 8.4700769
A101: =A61 -> SA - Annual Compensation of Employees | F101: =(F21-B21)/B21*100 -> 11.928834 | G101: =(G21-C21)/C21*100 -> 12.964946 | H101: =(H21-D21)/D21*100 -> 12.531094 | I101: =(I21-E21)/E21*100 -> 11.347675 | J101: =(J21-F21)/F21*100 -> 11.526873 | K101: =(K21-G21)/G21*100 -> 9.9432308 | L101: =(L21-H21)/H21*100 -> 9.8357018 | M101: =(M21-I21)/I21*100 -> 10.254934 | ... BY101: =(BY21-BU21)/BU21*100 -> 8.4700769
A103: =A63 -> KZN – Annual Compensation of Employees
A104: Annual Change
A105: Provincial Industry | B105: =B85 -> 1995q1 | C105: =C85 -> 1995q2 | D105: =D85 -> 1995q3 | E105: =E85 -> 1995q4 | F105: =F85 -> 1996q1 | G105: =G85 -> 1996q2 | H105: =H85 -> 1996q3 | I105: =I85 -> 1996q4 | ... BY105: =BY85 -> 2013q4
A106: Primary Industries | F106: =(F26-B26)/B26*100 -> 17.332263 | G106: =(G26-C26)/C26*100 -> 15.067584 | H106: =(H26-D26)/D26*100 -> 14.768171 | I106: =(I26-E26)/E26*100 -> 15.964713 | J106: =(J26-F26)/F26*100 -> 7.1343937 | K106: =(K26-G26)/G26*100 -> 7.0932119 | L106: =(L26-H26)/H26*100 -> 7.5577055 | M106: =(M26-I26)/I26*100 -> 7.6280943 | ... BY106: =(BY26-BU26)/BU26*100 -> 11.077528
A107: Agriculture, forestry and fishing | F107: =(F27-B27)/B27*100 -> 1.1708976 | G107: =(G27-C27)/C27*100 -> 1.1551003 | H107: =(H27-D27)/D27*100 -> 1.1493181 | I107: =(I27-E27)/E27*100 -> 1.1829654 | J107: =(J27-F27)/F27*100 -> 5.8244918 | K107: =(K27-G27)/G27*100 -> 5.8780963 | L107: =(L27-H27)/H27*100 -> 5.9129623 | M107: =(M27-I27)/I27*100 -> 5.8128862 | ... BY107: =(BY27-BU27)/BU27*100 -> 10.551816
A108: Mining and quarrying | F108: =(F28-B28)/B28*100 -> 58.841711 | G108: =(G28-C28)/C28*100 -> 52.812041 | H108: =(H28-D28)/D28*100 -> 49.062578 | I108: =(I28-E28)/E28*100 -> 48.029293 | J108: =(J28-F28)/F28*100 -> 9.277278 | K108: =(K28-G28)/G28*100 -> 9.2754207 | L108: =(L28-H28)/H28*100 -> 10.368151 | M108: =(M28-I28)/I28*100 -> 10.319542 | ... BY108: =(BY28-BU28)/BU28*100 -> 11.842431
A109: Secondary Industries | F109: =(F29-B29)/B29*100 -> 8.8543365 | G109: =(G29-C29)/C29*100 -> 7.6413898 | H109: =(H29-D29)/D29*100 -> 7.555604 | I109: =(I29-E29)/E29*100 -> 3.6245672 | J109: =(J29-F29)/F29*100 -> 5.1502871 | K109: =(K29-G29)/G29*100 -> 7.8801011 | L109: =(L29-H29)/H29*100 -> 6.2276289 | M109: =(M29-I29)/I29*100 -> 7.1310391 | ... BY109: =(BY29-BU29)/BU29*100 -> 8.5491086
A110: Manufacturing | F110: =(F30-B30)/B30*100 -> 9.143874 | G110: =(G30-C30)/C30*100 -> 7.8528671 | H110: =(H30-D30)/D30*100 -> 7.3090232 | I110: =(I30-E30)/E30*100 -> 2.6423507 | J110: =(J30-F30)/F30*100 -> 4.4420834 | K110: =(K30-G30)/G30*100 -> 7.2850196 | L110: =(L30-H30)/H30*100 -> 5.409048 | M110: =(M30-I30)/I30*100 -> 6.4124976 | ... BY110: =(BY30-BU30)/BU30*100 -> 8.797632
A111: Electricity, gas and water | F111: =(F31-B31)/B31*100 -> 24.060361 | G111: =(G31-C31)/C31*100 -> 22.892572 | H111: =(H31-D31)/D31*100 -> 23.368207 | I111: =(I31-E31)/E31*100 -> 24.351264 | J111: =(J31-F31)/F31*100 -> 9.4155602 | K111: =(K31-G31)/G31*100 -> 9.6498444 | L111: =(L31-H31)/H31*100 -> 8.2882089 | M111: =(M31-I31)/I31*100 -> 7.9432044 | ... BY111: =(BY31-BU31)/BU31*100 -> 8.6090211
A112: Construction | F112: =(F32-B32)/B32*100 -> 1.0281059 | G112: =(G32-C32)/C32*100 -> -0.29402871 | H112: =(H32-D32)/D32*100 -> 1.73815 | I112: =(I32-E32)/E32*100 -> 0.71561206 | J112: =(J32-F32)/F32*100 -> 7.523235 | K112: =(K32-G32)/G32*100 -> 10.593588 | L112: =(L32-H32)/H32*100 -> 10.329362 | M112: =(M32-I32)/I32*100 -> 11.33698 | ... BY112: =(BY32-BU32)/BU32*100 -> 6.7313251
A113: Tertiary industries | F113: =(F33-B33)/B33*100 -> 13.440573 | G113: =(G33-C33)/C33*100 -> 15.247154 | H113: =(H33-D33)/D33*100 -> 14.862767 | I113: =(I33-E33)/E33*100 -> 14.725021 | J113: =(J33-F33)/F33*100 -> 12.228949 | K113: =(K33-G33)/G33*100 -> 8.9219363 | L113: =(L33-H33)/H33*100 -> 9.2812411 | M113: =(M33-I33)/I33*100 -> 9.6349287 | ... BY113: =(BY33-BU33)/BU33*100 -> 8.7523891
A114: Wholesale & retail trade; hotels & restaurants | F114: =(F34-B34)/B34*100 -> 12.881306 | G114: =(G34-C34)/C34*100 -> 6.8244663 | H114: =(H34-D34)/D34*100 -> 6.0160446 | I114: =(I34-E34)/E34*100 -> 3.9730633 | J114: =(J34-F34)/F34*100 -> 6.8696587 | K114: =(K34-G34)/G34*100 -> 9.6132193 | L114: =(L34-H34)/H34*100 -> 10.628787 | M114: =(M34-I34)/I34*100 -> 11.875721 | ... BY114: =(BY34-BU34)/BU34*100 -> 7.1685173
A115: Transport , storage and communication | F115: =(F35-B35)/B35*100 -> 14.539534 | G115: =(G35-C35)/C35*100 -> 11.843936 | H115: =(H35-D35)/D35*100 -> 10.768944 | I115: =(I35-E35)/E35*100 -> 10.463976 | J115: =(J35-F35)/F35*100 -> 10.297119 | K115: =(K35-G35)/G35*100 -> 5.6015742 | L115: =(L35-H35)/H35*100 -> 5.9455424 | M115: =(M35-I35)/I35*100 -> 5.6700871 | ... BY115: =(BY35-BU35)/BU35*100 -> 7.2441236
...

Sheet Growth Rates Annual
A1: Year-on-Year Growth Rates per Sector
B2: Primary Industries | C2: Agriculture, forestry and fishing | D2: Mining and quarrying | E2: Secondary Industries | F2: Manufacturing | G2: Electricity, gas and water | H2: Construction | I2: Tertiary industries | J2: Wholesale & retail trade; hotels & restaurants | K2: Transport , storage and communication | L2: Finance, real estate and business services | M2: Personal services | N2: General government services | O2: All industries at basic prices | P2: Taxes less subsidies on products | Q2: Annual Compensation of Employees
A3: 1996 | B3: 15.755921 | C3: 1.1641151 | D3: 51.959476 | E3: 6.7647282 | F3: 6.5278801 | G3: 23.671088 | H3: 0.79365398 | I3: 14.585266 | J3: 7.1755661 | K3: 11.807211 | L3: 12.642246 | M3: 12.007437 | N3: 21.992519 | O3: 12.133344 | P3: #DIV/0! | Q3: 12.133344
A4: =A3+1 -> 1997 | B4: 7.3551488 | C4: 5.8585851 | D4: 9.8270784 | E4: 6.6128379 | F4: 5.8976935 | G4: 8.776475 | H4: 9.9957461 | I4: 9.9747668 | J4: 9.8388407 | K4: 6.7964294 | L4: 15.311532 | M4: 14.741211 | N4: 8.1757419 | O4: 8.7742896 | P4: #DIV/0! | Q4: 8.7742896
A5: =A4+1 -> 1998 | B5: 14.054794 | C5: 19.633549 | D5: 5.17312 | E5: 10.078041 | F5: 13.279429 | G5: 1.1184558 | H5: -4.7508619 | I5: 10.099753 | J5: 8.861636 | K5: 6.9458018 | L5: 15.666631 | M5: 9.4751352 | N5: 10.260455 | O5: 10.342446 | P5: #DIV/0! | Q5: 10.342446
A6: =A5+1 -> 1999 | B6: -8.4431153 | C6: -2.8224526 | D6: -18.621838 | E6: 5.5077988 | F6: 5.9414078 | G6: 16.055562 | H6: -3.5899795 | I6: 8.3534797 | J6: 17.7566 | K6: 2.970158 | L6: 13.241087 | M6: 11.923858 | N6: 2.8697069 | O6: 6.4042784 | P6: #DIV/0! | Q6: 6.4042784
A7: =A6+1 -> 2000 | B7: 6.1788627 | C7: 5.8102298 | D7: 6.9760457 | E7: 9.0246263 | F7: 10.158505 | G7: 8.0568161 | H7: 0.61608997 | I7: 9.609978 | J7: 13.104815 | K7: 6.3070142 | L7: 9.8887114 | M7: 14.919292 | N7: 7.126196 | O7: 9.2432559 | P7: #DIV/0! | Q7: 9.2432559
A8: =A7+1 -> 2001 | B8: 7.9617911 | C8: 9.2769843 | D8: 5.1486308 | E8: 8.7691956 | F8: 6.677013 | G8: 4.213984 | H8: 30.399891 | I8: 8.7915644 | J8: 6.6585866 | K8: 6.1419033 | L8: 14.595515 | M8: 9.8649377 | N8: 8.2328962 | O8: 8.7397102 | P8: #DIV/0! | Q8: 8.7397102
A9: =A8+1 -> 2002 | B9: 29.409132 | C9: 43.798899 | D9: -2.5786255 | E9: 9.1157088 | F9: 11.895878 | G9: 27.404574 | H9: -21.438467 | I9: 9.4863196 | J9: 8.1319991 | K9: 4.2464827 | L9: 15.308296 | M9: 9.9965013 | N9: 9.6152759 | O9: 10.453622 | P9: #DIV/0! | Q9: 10.453622
A10: =A9+1 -> 2003 | B10: -1.7888458 | C10: -3.7326879 | D10: 4.5892691 | E10: 5.6257637 | F10: 6.429134 | G10: -6.5710412 | H10: 8.9470408 | I10: 11.965195 | J10: 11.575353 | K10: 11.637938 | L10: 15.579658 | M10: 12.036316 | N10: 10.439095 | O10: 9.2307969 | P10: #DIV/0! | Q10: 9.2307969
A11: =A10+1 -> 2004 | B11: -1.3835884 | C11: -4.566566 | D11: 8.2293609 | E11: 7.0180489 | F11: 6.783143 | G11: 4.9696914 | H11: 11.016786 | I11: 11.264776 | J11: 11.726306 | K11: 9.7722315 | L11: 16.119878 | M11: 9.983246 | N11: 9.486165 | O11: 9.3374245 | P11: #DIV/0! | Q11: 9.3374245
A12: =A11+1 -> 2005 | B12: -10.06191 | C12: -13.864916 | D12: 0.065667132 | E12: 8.2493332 | F12: 7.2417903 | G12: 10.94464 | H12: 15.841476 | I12: 11.642514 | J12: 9.1395398 | K12: 10.364785 | L12: 21.855994 | M12: 7.3828606 | N12: 9.5132801 | O12: 9.5834378 | P12: #DIV/0! | Q12: 9.5834378
A13: =A12+1 -> 2006 | B13: 13.208337 | C13: 12.442314 | D13: 14.9643 | E13: 10.243117 | F13: 10.253421 | G13: 11.003594 | H13: 9.5941597 | I13: 10.368275 | J13: 11.421932 | K13: 7.1035962 | L13: 11.907395 | M13: 10.953125 | N13: 9.9391645 | O13: 10.453671 | P13: #DIV/0! | Q13: 10.453671
A14: =A13+1 -> 2007 | B14: 17.308305 | C14: 15.687946 | D14: 20.941187 | E14: 16.047649 | F14: 14.263602 | G14: 11.123627 | H14: 35.626837 | I14: 11.807927 | J14: 8.1075228 | K14: 7.780036 | L14: 16.297898 | M14: 12.073785 | N14: 12.822196 | O14: 13.208284 | P14: #DIV/0! | Q14: 13.208284
A15: =A14+1 -> 2008 | B15: 13.770313 | C15: 11.381664 | D15: 18.893104 | E15: 14.281224 | F15: 13.826328 | G15: 15.72093 | H15: 16.825762 | I15: 10.879277 | J15: 11.203364 | K15: 6.0812817 | L15: 11.929681 | M15: 9.2244711 | N15: 12.560611 | O15: 11.965033 | P15: #DIV/0! | Q15: 11.965033
A16: =A15+1 -> 2009 | B16: 6.9787887 | C16: 7.3275519 | D16: 6.2780729 | E16: 6.8365266 | F16: 5.8188171 | G16: 8.3296252 | H16: 13.392627 | I16: 10.375439 | J16: 7.9190223 | K16: 5.584181 | L16: 2.8366444 | M16: 9.1069692 | N16: 19.181545 | O16: 9.0583764 | P16: #DIV/0! | Q16: 9.2061448
A17: 2010 | B17: 9.5331251 | C17: 6.1753849 | D17: 16.345928 | E17: 10.137342 | F17: 10.756827 | G17: 8.991533 | H17: 6.5617101 | I17: 13.152315 | J17: 11.889827 | K17: 14.190976 | L17: 13.069486 | M17: 8.3648288 | N17: 15.134707 | O17: 12.097707 | P17: 100 | Q17: 12.145211
A18: 2011 | B18: 11.39611 | C18: 8.7370112 | D18: 16.319744 | E18: 8.2584235 | F18: 8.0318877 | G18: 9.4441333 | H18: 9.1699472 | I18: 10.954908 | J18: 13.015476 | K18: 11.927685 | L18: 11.143882 | M18: 9.0734538 | N18: 10.036363 | O18: 9.7165083 | P18: 50 | Q18: 10.231231
A19: 2012 | B19: 11.275268 | C19: 9.6856393 | D19: 14.026779 | E19: 9.5070598 | F19: 9.3424015 | G19: 10.461819 | H19: 10.101275 | I19: 8.7915503 | J19: 8.5119791 | K19: 8.4293008 | L19: 9.652403 | M19: 7.7632235 | N19: 8.8960727 | Q19: 9.0949087
A20: 2013 | B20: 11.284506 | C20: 10.535891 | D20: 12.530961 | E20: 9.1415856 | F20: 9.4510399 | G20: 8.3612092 | H20: 7.4427346 | I20: 8.7294055 | J20: 7.1597782 | K20: 7.7418291 | L20: 6.854363 | M20: 6.5442161 | N20: 11.665598 | O20: 8.6805937 | P20: 33.333333 | Q20: 8.9559555
A21: Average Year on Year Growth Rate | B21: =AVERAGE(B3:B20) -> 8.5440524 | C21: =AVERAGE(C3:C20) -> 7.9182857 | D21: =AVERAGE(D3:D20) -> 10.614903 | E21: =AVERAGE(E3:E20) -> 8.9566116 | F21: =AVERAGE(F3:F20) -> 9.032011 | G21: =AVERAGE(G3:G20) -> 10.115373 | H21: =AVERAGE(H3:H20) -> 8.6970238 | I21: =AVERAGE(I3:I20) -> 10.601817 | ... Q21: =AVERAGE(Q3:Q20) -> 9.9723913

Sheet Growth Rates Annualised
A1: Annualised Quarterly Rates per Sector
B2: Primary Industries | C2: Agriculture, forestry and fishing | D2: Mining and quarrying | E2: Secondary Industries | F2: Manufacturing | G2: Electricity, gas and water | H2: Construction | I2: Tertiary industries | J2: Wholesale & retail trade; hotels & restaurants | K2: Transport , storage and communication | L2: Finance, real estate and business services | M2: Personal services | N2: General government services | O2: All industries at basic prices | P2: Taxes less subsidies on products | Q2: Annual Compensation of Employees
A3: 1996q1 | B3: 11.726128 | C3: 7.8382684 | D3: 13.123483 | E3: 9.1365963 | F3: 8.770593 | G3: 23.75426 | H3: 4.8797263 | I3: 13.073639 | J3: 14.485404 | K3: 16.329766 | L3: 8.2057249 | M3: 11.782945 | N3: 13.681543 | O3: 11.928834 | Q3: 11.928834
A4: 1996q2 | B4: 8.5519508 | C4: 7.8214301 | D4: 8.8292883 | E4: 7.9430908 | F4: 7.4840014 | G4: 22.589351 | H4: 3.5071863 | I4: 15.53923 | J4: 8.3424935 | K4: 13.592036 | L4: 13.289037 | M4: 12.166104 | N4: 21.306058 | O4: 12.964946 | Q4: 12.964946
A5: 1996q3 | B5: 6.5905646 | C5: 7.8152668 | D5: 6.1590051 | E5: 7.8946041 | F5: 6.9420175 | G5: 23.063813 | H5: 5.6168403 | I5: 15.243505 | J5: 7.5225837 | K5: 12.500242 | L5: 12.77933 | M5: 12.028281 | N5: 21.709836 | O5: 12.531094 | Q5: 12.531094
A6: 1996q4 | B6: 5.9885158 | C6: 7.8511315 | D6: 5.4231228 | E6: 4.0541891 | F6: 2.2913054 | G6: 24.044444 | H6: 4.5553189 | I6: 15.267242 | J6: 5.4505707 | K6: 12.190508 | L6: 15.663465 | M6: 12.288435 | N6: 22.390747 | O6: 11.347675 | Q6: 11.347675
A7: 1997q1 | B7: 9.2162698 | C7: 7.1602871 | D7: 9.9206967 | E7: 4.9943987 | F7: 4.4919576 | G7: 9.8987794 | H7: 5.2080334 | I7: 14.366555 | J7: 6.7057455 | K7: 12.42879 | L7: 16.809632 | M7: 15.62321 | N7: 17.223599 | O7: 11.526873 | Q7: 11.526873
A8: 1997q2 | B8: 9.1796914 | C8: 7.2145682 | D8: 9.9188285 | E8: 7.6958109 | F8: 7.3362513 | G8: 10.134098 | H8: 8.2122751 | I8: 10.863029 | J8: 9.4450981 | K8: 7.6424961 | L8: 16.795869 | M8: 14.991151 | N8: 9.2158959 | O8: 9.9432308 | Q8: 9.9432308
A9: 1997q3 | B9: 10.024882 | C9: 7.2498743 | D9: 11.017993 | E9: 6.091456 | F9: 5.4593839 | G9: 8.7664493 | H9: 7.953739 | I9: 11.222113 | J9: 10.459108 | K9: 7.9931121 | L9: 14.501548 | M9: 14.495155 | N9: 10.441056 | O9: 9.8357018 | Q9: 9.8357018
A10: 1997q4 | B10: 10.063796 | C10: 7.1485349 | D10: 10.969097 | E10: 6.9766465 | F10: 6.4633127 | G10: 8.4199212 | H10: 8.9396605 | I10: 11.56643 | J10: 11.704129 | K10: 7.7123332 | L10: 15.354929 | M10: 14.251821 | N10: 10.529131 | O10: 10.254934 | Q10: 10.254934
A11: 1998q1 | B11: 8.9709818 | C11: 12.283169 | D11: 7.8646491 | E11: 10.135246 | F11: 12.868406 | G11: -0.41988352 | H11: 1.3574424 | I11: 9.5682136 | J11: 6.4915858 | K11: 5.834168 | L11: 18.586465 | M11: 9.8537887 | N11: 8.5932852 | O11: 9.6505123 | Q11: 9.6505123
A12: 1998q2 | B12: 8.623004 | C12: 12.315833 | D12: 7.268201 | E12: 10.767913 | F12: 13.804053 | G12: -0.26653744 | H12: 1.466748 | I12: 9.1561202 | J12: 4.4628727 | K12: 9.725265 | L12: 15.400151 | M12: 8.7189529 | N12: 8.677164 | O12: 9.4952935 | Q12: 9.4952935
A13: 1998q3 | B13: 6.6399037 | C13: 12.257016 | D13: 4.6978996 | E13: 10.076365 | F13: 12.796185 | G13: 0.81976744 | H13: 1.1762063 | I13: 9.3299985 | J13: 9.3586609 | K13: 8.2364538 | L13: 17.120917 | M13: 9.7144804 | N13: 6.5655943 | O13: 9.2749157 | Q13: 9.2749157
A14: 1998q4 | B14: 7.6686127 | C14: 12.2412 | D14: 6.2975346 | E14: 11.579583 | F14: 14.639185 | G14: 3.1669971 | H14: 0.12687279 | I14: 9.3319475 | J14: 15.635496 | K14: 7.9099149 | L14: 11.536902 | M14: 9.5737296 | N14: 5.7672918 | O14: 9.7547897 | Q14: 9.7547897
... A71: 2013q1 | B71: 10.843942 | C71: 9.7163201 | D71: 12.816586 | E71: 9.4590123 | F71: 9.4493218 | G71: 9.6759923 | H71: 9.3998562 | I71: 7.3595147 | J71: 7.8961458 | K71: 8.9119152 | L71: 4.0564556 | M71: 6.73138 | N71: 8.7493514 | O71: 9.1636585 | Q71: 8.079111
A72: 2013q2 | B72: 11.88829 | C72: 11.113596 | D72: 13.254222 | E72: 9.6200138 | F72: 9.9054373 | G72: 10.041528 | H72: 7.49786 | I72: 9.9861583 | J72: 7.0477777 | K72: 7.9630366 | L72: 5.8900769 | M72: 6.5001951 | N72: 15.780125 | Q72: 9.9778258
A73: 2013q3 | B73: 11.307102 | C73: 10.737784 | D73: 12.282329 | E73: 9.0691029 | F73: 9.7769541 | G73: 5.3266154 | H73: 6.5650059 | I73: 8.7701633 | J73: 6.5887156 | K73: 7.0453039 | L73: 7.4436179 | M73: 5.8985754 | N73: 12.152341 | Q73: 8.964402
A74: 2013q4 | B74: 11.077528 | C74: 10.551816 | D74: 11.842431 | E74: 8.5491086 | F74: 8.797632 | G74: 8.6090211 | H74: 6.7313251 | I74: 8.7523891 | J74: 7.1685173 | K74: 7.2441236 | L74: 9.9443786 | M74: 7.0545688 | N74: 10.041621 | O74: 9.1636585 | Q74: 8.7892155
A75: Average Year on Year Growth Rate | B75: =AVERAGE(B3:B74) -> 9.8304703 | C75: =AVERAGE(C3:C74) -> 8.3404556 | D75: =AVERAGE(D3:D74) -> 11.541963 | E75: =AVERAGE(E3:E74) -> 9.0452162 | F75: =AVERAGE(F3:F74) -> 8.9764766 | G75: =AVERAGE(G3:G74) -> 10.084935 | H75: =AVERAGE(H3:H74) -> 9.5586828 | I75: =AVERAGE(I3:I74) -> 10.751051 | ... Q75: =AVERAGE(Q3:Q74) -> 10.227305

Sheet Prov Contributions
A1: Yearly Provincial Contribution Rates per Sector
B2: Primary Industries | C2: Agriculture, forestry and fishing | D2: Mining and quarrying | E2: Secondary Industries | F2: Manufacturing | G2: Electricity, gas and water | H2: Construction | I2: Tertiary industries | J2: Wholesale & retail trade; hotels & restaurants | K2: Transport , storage and communication | L2: Finance, real estate and business services | M2: Personal services | N2: General government services
A3: 1996 | B3: 6.3849656 | C3: 3.9771229 | D3: 2.4078427 | E3: 30.732819 | F3: 24.747774 | G3: 2.090284 | H3: 3.8947601 | I3: 62.882216 | J3: 12.07785 | K3: 11.405875 | L3: 8.6989641 | M3: 7.1127131 | N3: 23.586813
A4: =A3+1 -> 1997 | B4: 6.3016632 | C4: 3.8705158 | D4: 2.4311474 | E4: 30.122127 | F4: 24.093306 | G4: 2.090326 | H4: 3.9384954 | I4: 63.576209 | J4: 12.196054 | K4: 11.198481 | L4: 9.2217644 | M4: 7.502888 | N4: 23.457023
A5: =A4+1 -> 1998 | B5: 6.5136756 | C5: 4.1964226 | D5: 2.317253 | E5: 30.049948 | F5: 24.734597 | G5: 1.9155868 | H5: 3.3997642 | I5: 63.436376 | J5: 12.032381 | K5: 10.853761 | L5: 9.666728 | M5: 7.443914 | N5: 23.439593
A6: =A5+1 -> 1999 | B6: 5.6047732 | C6: 3.8325344 | D6: 1.7722388 | E6: 29.796771 | F6: 24.626999 | G6: 2.089338 | H6: 3.0804338 | I6: 64.598456 | J6: 13.316121 | K6: 10.503463 | L6: 10.287846 | M6: 7.830057 | N6: 22.660969
A7: =A6+1 -> 2000 | B7: 5.4475531 | C7: 3.712095 | D7: 1.7354581 | E7: 29.737138 | F7: 24.833326 | G7: 2.0666467 | H7: 2.8371656 | I7: 64.815309 | J7: 13.786823 | K7: 10.221151 | L7: 10.348631 | M7: 8.2368893 | N7: 22.221815
A8: =A7+1 -> 2001 | B8: 5.4085816 | C8: 3.7304362 | D8: 1.6781454 | E8: 29.745201 | F8: 24.362259 | G8: 1.9806333 | H8: 3.4023089 | I8: 64.846217 | J8: 13.522963 | K8: 9.9769664 | L8: 10.905921 | M8: 8.3221238 | N8: 22.118243
A9: =A8+1 -> 2002 | B9: 6.3367759 | C9: 4.8566322 | D9: 1.4801437 | E9: 29.384901 | F9: 24.680371 | G9: 2.2845945 | H9: 2.4199351 | I9: 64.278323 | J9: 13.238724 | K9: 9.4162928 | L9: 11.385259 | M9: 8.2876821 | N9: 21.950365
A10: =A9+1 -> 2003 | B10: 5.6974964 | C10: 4.2802482 | D10: 1.4172482 | E10: 28.415087 | F10: 24.047344 | G10: 1.9540944 | H10: 2.4136487 | I10: 65.887417 | J10: 13.522883 | K10: 9.6238015 | L10: 12.047009 | M10: 8.5005456 | N10: 22.193178
A11: =A10+1 -> 2004 | B11: 5.138832 | C11: 3.7359467 | D11: 1.4028853 | E11: 27.812317 | F11: 23.485563 | G11: 1.8760336 | H11: 2.450721 | I11: 67.048851 | J11: 13.81834 | K11: 9.6620729 | L11: 12.794313 | M11: 8.5507556 | N11: 22.223369
A12: =A11+1 -> 2005 | B12: 4.2175783 | C12: 2.9365394 | D12: 1.2810389 | E12: 27.473721 | F12: 22.983709 | G12: 1.899337 | H12: 2.5906756 | I12: 68.308701 | J12: 13.762365 | K12: 9.730965 | L12: 14.227184 | M12: 8.3790454 | N12: 22.209141
A13: =A12+1 -> 2006 | B13: 4.3227629 | C13: 2.9894098 | D13: 1.3333531 | E13: 27.421349 | F13: 22.94204 | G13: 1.9087933 | H13: 2.5705159 | I13: 68.255888 | J13: 13.883009 | K13: 9.4358235 | L13: 14.414433 | M13: 8.4169341 | N13: 22.105688
A14: =A13+1 -> 2007 | B14: 4.4793187 | C14: 3.0548884 | D14: 1.4244303 | E14: 28.109101 | F14: 23.155903 | G14: 1.8736441 | H14: 3.0795532 | I14: 67.41158 | J14: 13.25749 | K14: 8.9833832 | L14: 14.807823 | M14: 8.3325851 | N14: 22.030298
A15: =A14+1 -> 2008 | B15: 4.5515415 | C15: 3.0389716 | D15: 1.5125699 | E15: 28.690586 | F15: 23.540845 | G15: 1.936496 | H15: 3.2132456 | I15: 66.757872 | J15: 13.167303 | K15: 8.5113074 | L15: 14.803148 | M15: 8.1286289 | N15: 22.147485
... A17: =A16+1 -> 2010 | B17: 4.3548565 | C17: 2.8277037 | D17: 1.5271528 | E17: 27.565506 | F17: 22.52826 | G17: 1.8669333 | H17: 3.1703128 | I17: 68.078592 | J17: 12.982479 | K17: 8.3791334 | L17: 14.054635 | M17: 7.847482 | N17: 24.814862
A18: 2011 | B18: 4.4008769 | C18: 2.7893733 | D18: 1.6115036 | E18: 27.072166 | F18: 22.078774 | G18: 1.8536026 | H18: 3.1397897 | I18: 68.525534 | J18: 13.310393 | K18: 8.5080879 | L18: 14.171 | M18: 7.7650586 | N18: 24.770994
A19: 2012 | B19: 4.4888324 | C19: 2.8044773 | D19: 1.6843551 | E19: 27.174443 | F19: 22.128862 | G19: 1.8768274 | H19: 3.1687533 | I19: 68.334986 | J19: 13.239272 | K19: 8.4561785 | L19: 14.243416 | M19: 7.6702731 | N19: 24.725847
A20: 2013 | B20: 4.5847654 | C20: 2.8451441 | D20: 1.7396213 | E20: 27.22074 | F20: 22.229413 | G20: 1.8665826 | H20: 3.1247445 | I20: 68.192899 | J20: 13.021018 | K20: 8.361949 | L20: 13.968683 | M20: 7.5004917 | N20: 25.340758
A21: Average Yearly Contributions | B21: =AVERAGE(B3:B20) -> 5.1496421 | C21: =AVERAGE(C3:C20) -> 3.4702864 | D21: =AVERAGE(D3:D20) -> 1.6793557 | E21: =AVERAGE(E3:E20) -> 28.588442 | F21: =AVERAGE(F3:F20) -> 23.556111 | G21: =AVERAGE(G3:G20) -> 1.9639282 | H21: =AVERAGE(H3:H20) -> 3.0684028 | I21: =AVERAGE(I3:I20) -> 66.261561 | ... N21: =AVERAGE(N3:N20) -> 23.120388
I23: \

Sheet National Contributions
A1: Yearly Provincial Sector as a % of National Sector GOS
B2: Primary Industries | C2: Agriculture, forestry and fishing | D2: Mining and quarrying | E2: Secondary Industries | F2: Manufacturing | G2: Electricity, gas and water | H2: Construction | I2: Tertiary industries | J2: Wholesale & retail trade; hotels & restaurants | K2: Transport , storage and communication | L2: Finance, real estate and business services | M2: Personal services | N2: General government services
A3: 1995 | B3: 11.288709 | C3: 31.219885 | D3: 4.3687653 | E3: 20.245042 | F3: 20.924039 | G3: 17.394424 | H3: 18.021026 | I3: 15.730518 | J3: 16.221638 | K3: 23.298916 | L3: 13.96367 | M3: 16.393128 | N3: 13.657639
A4: =A3+1 -> 1996 | B4: 12.08582 | C4: 29.289638 | D4: 6.1343776 | E4: 20.180001 | F4: 20.995847 | G4: 17.437449 | H4: 17.359219 | I4: 15.699938 | J4: 15.994351 | K4: 22.940362 | L4: 13.971525 | M4: 16.383734 | N4: 13.905927
A5: =A4+1 -> 1997 | B5: 11.834931 | C5: 28.924531 | D5: 6.0984701 | E5: 20.209721 | F5: 20.985825 | G5: 17.360777 | H5: 17.741225 | I5: 15.421737 | J5: 16.01892 | K5: 22.505408 | L5: 13.909302 | M5: 16.372374 | N5: 13.463214
A6: =A5+1 -> 1998 | B6: 12.503455 | C6: 30.820293 | D6: 6.0220877 | E6: 20.101392 | F6: 20.933221 | G6: 17.395692 | H6: 16.730718 | I6: 15.528247 | J6: 15.952653 | K6: 22.298198 | L6: 13.926272 | M6: 16.373799 | N6: 13.824964
A7: =A6+1 -> 1999 | B7: 10.454573 | C7: 28.257792 | D7: 4.4252885 | E7: 20.175683 | F7: 21.141974 | G7: 17.493377 | H7: 15.994737 | I7: 15.338577 | J7: 15.886446 | K7: 21.948787 | L7: 14.054892 | M7: 16.346474 | N7: 13.458472
A8: =A7+1 -> 2000 | B8: 10.265066 | C8: 28.002507 | D8: 4.3590716 | E8: 20.303304 | F8: 21.237798 | G8: 17.962971 | H8: 15.736125 | I8: 15.300215 | J8: 15.907644 | K8: 21.574756 | L8: 13.784243 | M8: 16.329207 | N8: 13.544797
A9: =A8+1 -> 2001 | B9: 10.117277 | C9: 28.855299 | D9: 4.1404213 | E9: 20.872058 | F9: 21.191726 | G9: 18.624138 | H9: 20.112824 | I9: 15.459391 | J9: 16.83056 | K9: 21.251603 | L9: 13.469804 | M9: 16.342479 | N9: 13.799913
A10: =A9+1 -> 2002 | B10: 11.012031 | C10: 28.355032 | D10: 3.6622552 | E10: 20.358352 | F10: 21.157837 | G10: 19.740468 | H10: 15.015439 | I10: 15.359526 | J10: 16.855168 | K10: 21.320844 | L10: 13.314982 | M10: 16.334138 | N10: 13.758766
A11: =A10+1 -> 2003 | B11: 10.905701 | C11: 29.622369 | D11: 3.7499384 | E11: 20.149114 | F11: 21.284184 | G11: 16.967711 | H11: 14.605836 | I11: 15.375925 | J11: 16.98696 | K11: 21.449795 | L11: 13.415399 | M11: 16.336224 | N11: 13.682483
A12: =A11+1 -> 2004 | B12: 10.295768 | C12: 29.458493 | D12: 3.7681573 | E12: 20.112195 | F12: 21.244725 | G12: 17.052466 | H12: 14.642919 | I12: 15.32848 | J12: 16.993237 | K12: 21.366281 | L12: 13.436771 | M12: 16.339684 | N12: 13.606768
A13: =A12+1 -> 2005 | B13: 8.8750686 | C13: 26.981005 | D13: 3.4964845 | E13: 20.101444 | F13: 21.237649 | G13: 17.241025 | H13: 14.856965 | I13: 15.442913 | J13: 16.901343 | K13: 21.492347 | L13: 14.055377 | M13: 16.273577 | N13: 13.632321
A14: =A13+1 -> 2006 | B14: 8.7085184 | C14: 28.69121 | D14: 3.3997567 | E14: 19.975209 | F14: 21.157434 | G14: 17.2214 | H14: 14.475115 | I14: 15.371411 | J14: 16.971881 | K14: 21.509594 | L14: 13.805498 | M14: 16.286643 | N14: 13.621477
A15: =A14+1 -> 2007 | B15: 8.7197027 | C15: 29.088604 | D15: 3.4854353 | E15: 19.843214 | F15: 21.168502 | G15: 17.213097 | H15: 14.402204 | I15: 15.33976 | J15: 17.017461 | K15: 21.616175 | L15: 13.791428 | M15: 16.278713 | N15: 13.646462
... A18: =A17+1 -> 2010 | B18: 8.22158 | C18: 28.898023 | D18: 3.5364269 | E18: 19.86428 | F18: 21.29949 | G18: 16.501167 | H18: 14.618992 | I18: 15.390298 | J18: 17.310856 | K18: 21.944372 | L18: 13.914765 | M18: 16.428266 | N18: 13.755894
A19: 2011 | B19: 8.2212857 | C19: 29.458554 | D19: 3.6573986 | E19: 19.942677 | F19: 21.405099 | G19: 16.383901 | H19: 14.748351 | I19: 15.447262 | J19: 17.370749 | K19: 22.084216 | L19: 13.950496 | M19: 16.466149 | N19: 13.783083
A20: 2012 | B20: 8.3248019 | C20: 30.019086 | D20: 3.7783704 | E20: 20.023868 | F20: 21.510709 | G20: 16.266635 | H20: 14.87771 | I20: 15.482921 | J20: 17.430642 | K20: 22.224059 | L20: 13.986227 | M20: 16.504033 | N20: 13.810273
A21: 2013 | B21: 8.2209914 | C21: 30.579618 | D21: 3.8993421 | E21: 20.021074 | F21: 21.616318 | G21: 16.14937 | H21: 15.007069 | I21: 15.504227 | J21: 17.490535 | K21: 22.363902 | L21: 14.021958 | M21: 16.541916 | N21: 13.837463
A22: Average Yearly Contributions | B22: =AVERAGE(B3:B21) -> 9.8281191 | C22: =AVERAGE(C3:C21) -> 29.134701 | D22: =AVERAGE(D3:D21) -> 4.1499891 | E22: =AVERAGE(E3:E21) -> 20.105727 | F22: =AVERAGE(F3:F21) -> 21.202084 | G22: =AVERAGE(G3:G21) -> 17.267136 | H22: =AVERAGE(H3:H21) -> 15.67592 | I22: =AVERAGE(I3:I21) -> 15.431981 | ... N22: =AVERAGE(N3:N21) -> 13.695558

Sheet GDP Durban
D1: Ethekwini Municipal Area COMP
C2: SA GDP | D2: SA Quarterly COMP | E2: KZN Quarterly COMP | F2: SA Fuel Consumption | G2: KZN Fuel Consumption | H2: SA KZN GDP Ratio | I2: SA KZN Fuel Ratio | J2: SA Usage | K2: KZN Usage | L2: Durban Fuel Usage | M2: Durban Quarterly COMP | N2: Durban Quarterly Rate | O2: Durban Annual Rate
A3: 2001q1 | B3: 18509.079 | C3: 114100.6 | D3: =C3*1000000 -> 114100598000 | E3: =B3*1000000 -> 1.8509079e+10
A4: 2001q2 | B4: 18924.379 | C4: 116343.46 | D4: =C4*1000000 -> 116343457000 | E4: =B4*1000000 -> 1.8924379e+10
A5: 2001q3 | B5: 19273.54 | C5: 118828.4 | D5: =C5*1000000 -> 1.188284e+11 | E5: =B5*1000000 -> 1.927354e+10
A6: 2001q4 | B6: 20473.835 | C6: 125723.55 | D6: =C6*1000000 -> 125723549000 | E6: =B6*1000000 -> 2.0473835e+10
A7: 2002q1 | B7: 20070.238 | C7: 124995 | D7: =C7*1000000 -> 124995000000 | E7: =B7*1000000 -> 2.0070238e+10 | F7: 4118958622 | G7: 674878797 | H7: =E7/D7*100 -> 16.056833 | I7: =G7/F7*100 -> 16.384695 | J7: =D7/F7 -> 30.346263 | K7: =E7/G7 -> 29.739026 | M7: =E7*$L$26 -> 1.1486902e+10
A8: 2002q2 | B8: 20979.094 | C8: 129917.9 | D8: =C8*1000000 -> 129917900000 | E8: =B8*1000000 -> 2.0979094e+10 | F8: 4128329079 | G8: 697677279 | H8: =E8/D8*100 -> 16.147962 | I8: =G8/F8*100 -> 16.89975 | J8: =D8/F8 -> 31.469851 | K8: =E8/G8 -> 30.069911 | M8: =E8*$L$26 -> 1.2007072e+10 | N8: =(M8-M7)/M7*100 -> 4.5283754
A9: 2002q3 | B9: 21574.1 | C9: 134099.1 | D9: =C9*1000000 -> 134099100000 | E9: =B9*1000000 -> 2.15741e+10 | F9: 4479766142 | G9: 748604188 | H9: =E9/D9*100 -> 16.088177 | I9: =G9/F9*100 -> 16.710787 | J9: =D9/F9 -> 29.934397 | K9: =E9/G9 -> 28.819101 | M9: =E9*$L$26 -> 1.2347615e+10 | N9: =(M9-M8)/M8*100 -> 2.8361873
A10: 2002q4 | B10: 22625.786 | C10: 139852 | D10: =C10*1000000 -> 139852000000 | E10: =B10*1000000 -> 2.2625786e+10 | F10: 4393645140 | G10: 741841930 | H10: =E10/D10*100 -> 16.178379 | I10: =G10/F10*100 -> 16.88443 | J10: =D10/F10 -> 31.830518 | K10: =E10/G10 -> 30.499471 | M10: =E10*$L$26 -> 1.2949532e+10 | N10: =(M10-M9)/M9*100 -> 4.8747628
A11: 2003q1 | B11: 22001.489 | C11: 137333.4 | D11: =C11*1000000 -> 137333400000 | E11: =B11*1000000 -> 2.2001489e+10 | F11: 4.3245102e+09 | G11: 7.3345414e+08 | H11: =E11/D11*100 -> 16.020494 | I11: =G11/F11*100 -> 16.960398 | J11: =D11/F11 -> 31.756984 | K11: =E11/G11 -> 29.997089 | M11: =E11*$L$26 -> 1.2592225e+10 | N11: =(M11-M10)/M10*100 -> -2.7592295 | O11: =(M11-M7)/M7*100 -> 9.6224616 | R11: Yearly Growth Rate %
A12: 2003q2 | B12: 22868.85 | C12: 141947.4 | D12: =C12*1000000 -> 141947400000 | E12: =B12*1000000 -> 2.286885e+10 | F12: 4.3448327e+09 | G12: 7.3310499e+08 | H12: =E12/D12*100 -> 16.110792 | I12: =G12/F12*100 -> 16.873032 | J12: =D12/F12 -> 32.670395 | K12: =E12/G12 -> 31.194508 | M12: =E12*$L$26 -> 1.3088646e+10 | N12: =(M12-M11)/M11*100 -> 3.9422824 | O12: =(M12-M8)/M8*100 -> 9.0078059 | R12: 2001
A13: 2003q3 | B13: 23362.981 | C13: 145489.2 | D13: =C13*1000000 -> 145489200000 | E13: =B13*1000000 -> 2.3362981e+10 | F13: 4.469508e+09 | G13: 7.5596579e+08 | H13: =E13/D13*100 -> 16.058224 | I13: =G13/F13*100 -> 16.913848 | J13: =D13/F13 -> 32.551503 | K13: =E13/G13 -> 30.904813 | M13: =E13*$L$26 -> 1.3371455e+10 | N13: =(M13-M12)/M12*100 -> 2.1607193 | O13: =(M13-M9)/M9*100 -> 8.2918004 | R13: =R12+1 -> 2002 | S13: =SUM(M7:M10) -> 4.8791122e+10
A14: 2003q4 | B14: 24884.87 | C14: 154218 | D14: =C14*1000000 -> 154218000000 | E14: =B14*1000000 -> 2.488487e+10 | F14: 4.7924549e+09 | G14: 792421454 | H14: =E14/D14*100 -> 16.136165 | I14: =G14/F14*100 -> 16.534771 | J14: =D14/F14 -> 32.179333 | K14: =E14/G14 -> 31.40358 | M14: =E14*$L$26 -> 1.4242485e+10 | N14: =(M14-M13)/M13*100 -> 6.5141042 | O14: =(M14-M10)/M10*100 -> 9.9845549 | R14: =R13+1 -> 2003 | S14: =SUM(M11:M14) -> 5.3294811e+10 | T14: =(S14-S13)/S13*100 -> 9.2305508
A15: 2004q1 | B15: 24019.062 | C15: 151038.35 | D15: =C15*1000000 -> 151038350000 | E15: =B15*1000000 -> 2.4019062e+10 | F15: 4.4993406e+09 | G15: 7.3594163e+08 | H15: =E15/D15*100 -> 15.902624 | I15: =G15/F15*100 -> 16.356655 | J15: =D15/F15 -> 33.568997 | K15: =E15/G15 -> 32.637183 | M15: =E15*$L$26 -> 1.3746953e+10 | N15: =(M15-M14)/M14*100 -> -3.4792572 | O15: =(M15-M11)/M11*100 -> 9.1701647 | R15: =R14+1 -> 2004 | S15: =SUM(M15:M18) -> 5.8271174e+10 | T15: =(S15-S14)/S14*100 -> 9.3374245
A16: 2004q2 | B16: 24769.506 | C16: 155074.15 | D16: =C16*1000000 -> 155074150000 | E16: =B16*1000000 -> 2.4769506e+10 | F16: 4.5436772e+09 | G16: 7.6518177e+08 | H16: =E16/D16*100 -> 15.972685 | I16: =G16/F16*100 -> 16.840584 | J16: =D16/F16 -> 34.129658 | K16: =E16/G16 -> 32.370747 | M16: =E16*$L$26 -> 1.4176458e+10 | N16: =(M16-M15)/M15*100 -> 3.1243685 | O16: =(M16-M12)/M12*100 -> 8.3111129 | R16: =R15+1 -> 2005 | S16: =SUM(M19:M22) -> 6.3855555e+10 | T16: =(S16-S15)/S15*100 -> 9.5834378
A17: 2004q3 | B17: 25342.121 | C17: 158525.75 | D17: =C17*1000000 -> 158525750000 | E17: =B17*1000000 -> 2.5342121e+10 | F17: 4.7754909e+09 | G17: 7.9366597e+08 | H17: =E17/D17*100 -> 15.986123 | I17: =G17/F17*100 -> 16.619568 | J17: =D17/F17 -> 33.195697 | K17: =E17/G17 -> 31.930462 | M17: =E17*$L$26 -> 1.4504186e+10 | N17: =(M17-M16)/M16*100 -> 2.3117749 | O17: =(M17-M13)/M13*100 -> 8.4712626 | R17: =R16+1 -> 2006 | S17: =SUM(M23:M26) -> 7.0530805e+10 | T17: =(S17-S16)/S16*100 -> 10.453671
A18: 2004q4 | B18: 27682.343 | C18: 172315.75 | D18: =C18*1000000 -> 172315750000 | E18: =B18*1000000 -> 2.7682343e+10 | F18: 4.830257e+09 | G18: 826240651 | H18: =E18/D18*100 -> 16.064894 | I18: =G18/F18*100 -> 17.105521 | J18: =D18/F18 -> 35.67424 | K18: =E18/G18 -> 33.503971 | L18: =L31/G31 -> 0.58440942 | M18: =E18*$L$26 -> 1.5843577e+10 | N18: =(M18-M17)/M17*100 -> 9.2345152 | O18: =(M18-M14)/M14*100 -> 11.24166 | R18: =R17+1 -> 2007 | S18: =SUM(M27:M30) -> 7.9846713e+10 | T18: =(S18-S17)/S17*100 -> 13.208283
A19: 2005q1 | B19: 25969.991 | C19: 162994.45 | D19: =C19*1000000 -> 162994450000 | E19: =B19*1000000 -> 2.5969991e+10 | F19: 4690209425 | G19: 774740717 | H19: =E19/D19*100 -> 15.933052 | I19: =G19/F19*100 -> 16.518254 | J19: =D19/F19 -> 34.752062 | K19: =E19/G19 -> 33.52088 | L19: =L32/G32 -> 0.58543455 | M19: =E19*$L$26 -> 1.4863538e+10 | N19: =(M19-M18)/M18*100 -> -6.1857198 | O19: =(M19-M15)/M15*100 -> 8.1224199 | R19: =R18+1 -> 2008 | S19: =SUM(M31:M34) -> 9.028086e+10 | T19: =(S19-S18)/S18*100 -> 13.067722
A20: 2005q2 | B20: 27141.137 | C20: 169724.45 | D20: =C20*1000000 -> 169724450000 | E20: =B20*1000000 -> 2.7141137e+10 | F20: 4760343407 | G20: 805551748 | H20: =E20/D20*100 -> 15.991295 | I20: =G20/F20*100 -> 16.922135 | J20: =D20/F20 -> 35.653825 | K20: =E20/G20 -> 33.692606 | L20: =L33/G33 -> 0.58087082 | M20: =E20*$L$26 -> 1.5533826e+10 | N20: =(M20-M19)/M19*100 -> 4.5096154 | O20: =(M20-M16)/M16*100 -> 9.5748046 | R20: =R19+1 -> 2009 | S20: =SUM(M35:M38) -> 9.6002792e+10 | T20: =(S20-S19)/S19*100 -> 6.3379241
A21: 2005q3 | B21: 28172.267 | C21: 176822 | D21: =C21*1000000 -> 176822000000 | E21: =B21*1000000 -> 2.8172267e+10 | F21: 4824982237 | G21: 802738840 | H21: =E21/D21*100 -> 15.932557 | I21: =G21/F21*100 -> 16.637136 | J21: =D21/F21 -> 36.647182 | K21: =E21/G21 -> 35.095183 | L21: =L34/G34 -> 0.5631147 | M21: =E21*$L$26 -> 1.6123978e+10 | N21: =(M21-M20)/M20*100 -> 3.7991378 | O21: =(M21-M17)/M17*100 -> 11.167754 | R21: =R20+1 -> 2010 | S21: =SUM(M39:M42) -> 1.0923854e+11 | T21: =(S21-S20)/S20*100 -> 13.786841
A22: 2005q4 | B22: 30286.825 | C22: 189477.1 | D22: =C22*1000000 -> 189477100000 | E22: =B22*1000000 -> 3.0286825e+10 | F22: 5011501336 | G22: 832010091 | H22: =E22/D22*100 -> 15.984425 | I22: =G22/F22*100 -> 16.602013 | J22: =D22/F22 -> 37.80845 | K22: =E22/G22 -> 36.401992 | L22: =L35/G35 -> 0.56498434 | M22: =E22*$L$26 -> 1.7334214e+10 | N22: =(M22-M21)/M21*100 -> 7.5058151 | O22: =(M22-M18)/M18*100 -> 9.4084593 | R22: =R21+1 -> 2011 | S22: =SUM(M43:M46) -> 1.2083153e+11 | T22: =(S22-S21)/S21*100 -> 10.61254
A23: 2006q1 | B23: 28799.052 | C23: 182102.4 | D23: =C23*1000000 -> 182102400000 | E23: =B23*1000000 -> 2.8799052e+10 | F23: 4675546289 | G23: 750919883 | H23: =E23/D23*100 -> 15.814757 | I23: =G23/F23*100 -> 16.060581 | J23: =D23/F23 -> 38.947834 | K23: =E23/G23 -> 38.351697 | L23: =L36/G36 -> 0.56386607 | M23: =E23*$L$26 -> 1.6482709e+10 | N23: =(M23-M22)/M22*100 -> -4.9122778 | O23: =(M23-M19)/M19*100 -> 10.893578 | R23: =R22+1 -> 2012 | S23: =SUM(M47:M50) -> 1.3070874e+11 | T23: =(S23-S22)/S22*100 -> 8.1743701
A24: 2006q2 | B24: 29647.297 | C24: 186349.4 | D24: =C24*1000000 -> 186349400000 | E24: =B24*1000000 -> 2.9647297e+10 | F24: 4859349229 | G24: 811777848 | H24: =E24/D24*100 -> 15.909521 | I24: =G24/F24*100 -> 16.705485 | J24: =D24/F24 -> 38.348633 | K24: =E24/G24 -> 36.521441 | L24: =L37/G37 -> 0.56366596 | M24: =E24*$L$26 -> 1.6968189e+10 | N24: =(M24-M23)/M23*100 -> 2.9453927 | O24: =(M24-M20)/M20*100 -> 9.2338047 | R24: =R23+1 -> 2013 | S24: =SUM(M51:M54) -> 1.4286282e+11 | T24: =(S24-S23)/S23*100 -> 9.2985904
A25: 2006q3 | B25: 31142.549 | C25: 197151.2 | D25: =C25*1000000 -> 197151200000 | E25: =B25*1000000 -> 3.1142549e+10 | F25: 4906222423 | G25: 827883368 | H25: =E25/D25*100 -> 15.796277 | I25: =G25/F25*100 -> 16.874151 | J25: =D25/F25 -> 40.18391 | K25: =E25/G25 -> 37.617073 | M25: =E25*$L$26 -> 1.7823975e+10 | N25: =(M25-M24)/M24*100 -> 5.0434682 | O25: =(M25-M21)/M21*100 -> 10.543285
A26: 2006q4 | B26: 33644.505 | C26: 211950 | D26: =C26*1000000 -> 211950000000 | E26: =B26*1000000 -> 3.3644505e+10 | F26: 5280826192 | G26: 873224453 | H26: =E26/D26*100 -> 15.873794 | I26: =G26/F26*100 -> 16.535754 | J26: =D26/F26 -> 40.135765 | K26: =E26/G26 -> 38.529046 | L26: =AVERAGE(L18:L24) -> 0.57233512 | M26: =E26*$L$26 -> 1.9255932e+10 | N26: =(M26-M25)/M25*100 -> 8.0338847 | O26: =(M26-M22)/M22*100 -> 11.086275 | Q26: =M26/E26 -> 0.57233512
A27: 2007q1 | B27: 32145.058 | C27: 203461 | D27: =C27*1000000 -> 203461000000 | E27: =B27*1000000 -> 3.2145058e+10 | F27: 5154329343 | G27: 833477953 | H27: =E27/D27*100 -> 15.799125 | I27: =G27/F27*100 -> 16.170444 | J27: =D27/F27 -> 39.473807 | K27: =E27/G27 -> 38.567376 | M27: =E27*$L$26 -> 1.8397746e+10 | N27: =(M27-M26)/M26*100 -> -4.4567388 | O27: =(M27-M23)/M23*100 -> 11.618459 | Q27: =M27/E27 -> 0.57233512
A28: 2007q2 | B28: 33735.842 | C28: 213026.15 | D28: =C28*1000000 -> 213026150000 | E28: =B28*1000000 -> 3.3735842e+10 | F28: 5056692012 | G28: 821281896 | H28: =E28/D28*100 -> 15.836479 | I28: =G28/F28*100 -> 16.241485 | J28: =D28/F28 -> 42.127571 | K28: =E28/G28 -> 41.077055 | M28: =E28*$L$26 -> 1.9308207e+10 | N28: =(M28-M27)/M27*100 -> 4.9487672 | O28: =(M28-M24)/M24*100 -> 13.790616 | Q28: =M28/E28 -> 0.57233512
A29: 2007q3 | B29: 35218.507 | C29: 223253 | D29: =C29*1000000 -> 223253000000 | E29: =B29*1000000 -> 3.5218507e+10 | F29: 5400223668 | G29: 898105429 | H29: =E29/D29*100 -> 15.775155 | I29: =G29/F29*100 -> 16.630893 | J29: =D29/F29 -> 41.341436 | K29: =E29/G29 -> 39.214223 | M29: =E29*$L$26 -> 2.0156788e+10 | N29: =(M29-M28)/M28*100 -> 4.3949243 | O29: =(M29-M25)/M25*100 -> 13.088067 | Q29: =M29/E29 -> 0.57233512
A30: 2007q4 | B30: 38411.013 | C30: 242639.03 | D30: =C30*1000000 -> 242639030000 | E30: =B30*1000000 -> 3.8411013e+10 | F30: 5579296845 | G30: 902642355 | H30: =E30/D30*100 -> 15.830517 | I30: =G30/F30*100 -> 16.178425 | J30: =D30/F30 -> 43.489177 | K30: =E30/G30 -> 42.553967 | M30: =E30*$L$26 -> 2.1983972e+10 | N30: =(M30-M29)/M29*100 -> 9.064856 | O30: =(M30-M26)/M26*100 -> 14.16727 | Q30: =M30/E30 -> 0.57233512
A31: 2008q1 | B31: 36129.743 | C31: 229576.41 | D31: =C31*1000000 -> 229576413000 | E31: =B31*1000000 -> 3.6129743e+10 | F31: 5543646776 | G31: 903773016 | H31: =E31/D31*100 -> 15.737568 | I31: =G31/F31*100 -> 16.302861 | J31: =D31/F31 -> 41.412525 | K31: =E31/G31 -> 39.976568 | L31: 528173464 | M31: =L31*K31 -> 2.1114562e+10 | N31: =(M31-M30)/M30*100 -> -3.9547434 | O31: =(M31-M27)/M27*100 -> 14.767118 | Q31: =M31/E31 -> 0.58440942
A32: 2008q2 | B32: 37833.02 | C32: 239954.45 | D32: =C32*1000000 -> 239954449000 | E32: =B32*1000000 -> 3.783302e+10 | F32: 5265926862 | G32: 890535459 | H32: =E32/D32*100 -> 15.766751 | I32: =G32/F32*100 -> 16.911277 | J32: =D32/F32 -> 45.567372 | K32: =E32/G32 -> 42.483451 | L32: 521350226 | M32: =L32*K32 -> 2.2148757e+10 | N32: =(M32-M31)/M31*100 -> 4.8980159 | O32: =(M32-M28)/M28*100 -> 14.711619 | Q32: =M32/E32 -> 0.58543455
A33: 2008q3 | B33: 39812.235 | C33: 253602.12 | D33: =C33*1000000 -> 2.5360212e+11 | E33: =B33*1000000 -> 3.9812235e+10 | F33: 5202135900 | G33: 869534795 | H33: =E33/D33*100 -> 15.698699 | I33: =G33/F33*100 -> 16.714957 | J33: =D33/F33 -> 48.749615 | K33: =E33/G33 -> 45.785672 | L33: 505087388 | M33: =L33*K33 -> 2.3125766e+10 | N33: =(M33-M32)/M32*100 -> 4.4111214 | O33: =(M33-M29)/M29*100 -> 14.729417 | Q33: =M33/E33 -> 0.58087082
A34: 2008q4 | B34: 42427.901 | C34: 268739.46 | D34: =C34*1000000 -> 2.6873946e+11 | E34: =B34*1000000 -> 4.2427901e+10 | F34: 5460259824 | G34: 899511198 | H34: =E34/D34*100 -> 15.787746 | I34: =G34/F34*100 -> 16.47378 | J34: =D34/F34 -> 49.217338 | K34: =E34/G34 -> 47.16773 | L34: 506527974 | M34: =L34*K34 -> 2.3891775e+10 | N34: =(M34-M33)/M33*100 -> 3.312362 | O34: =(M34-M30)/M30*100 -> 8.6781523 | Q34: =M34/E34 -> 0.5631147
A35: 2009q1 | B35: 39458.29 | C35: 251142.68 | D35: =C35*1000000 -> 251142685000 | E35: =B35*1000000 -> 3.945829e+10 | F35: 5083035776 | G35: 823636857 | H35: =E35/D35*100 -> 15.711503 | I35: =G35/F35*100 -> 16.203641 | J35: =D35/F35 -> 49.408011 | K35: =E35/G35 -> 47.907387 | L35: 465341929 | M35: =L35*K35 -> 2.2293316e+10 | N35: =(M35-M34)/M34*100 -> -6.6904149 | O35: =(M35-M31)/M31*100 -> 5.5826562 | Q35: =M35/E35 -> 0.56498434
A36: 2009q2 | B36: 40815.94 | C36: 259238.11 | D36: =C36*1000000 -> 259238107000 | E36: =B36*1000000 -> 4.081594e+10 | F36: 4994646966 | G36: 831381344 | H36: =E36/D36*100 -> 15.744576 | I36: =G36/F36*100 -> 16.645448 | J36: =D36/F36 -> 51.903189 | K36: =E36/G36 -> 49.094126 | L36: 468787734 | M36: =L36*K36 -> 2.3014724e+10 | N36: =(M36-M35)/M35*100 -> 3.2359842 | O36: =(M36-M32)/M32*100 -> 3.9097768 | Q36: =M36/E36 -> 0.56386607
A37: 2009q3 | B37: 43040.562 | C37: 273323.51 | D37: =C37*1000000 -> 273323506000 | E37: =B37*1000000 -> 4.3040562e+10 | F37: 5002707417 | G37: 835393434 | H37: =E37/D37*100 -> 15.747113 | I37: =G37/F37*100 -> 16.698827 | J37: =D37/F37 -> 54.635117 | K37: =E37/G37 -> 51.521307 | L37: 470882842 | M37: =L37*K37 -> 2.4260499e+10 | N37: =(M37-M36)/M36*100 -> 5.4129497 | O37: =(M37-M33)/M33*100 -> 4.9067947 | Q37: =M37/E37 -> 0.56366596
A38: 2009q4 | B38: 47267.361 | C38: 299610.19 | D38: =C38*1000000 -> 299610191000 | E38: =B38*1000000 -> 4.7267361e+10 | F38: 5074816265 | G38: 901763015 | H38: =E38/D38*100 -> 15.776286 | I38: =G38/F38*100 -> 17.769373 | J38: =D38/F38 -> 59.038628 | K38: =E38/G38 -> 52.416611 | L38: 504310603 | M38: =L38*K38 -> 2.6434253e+10 | N38: =(M38-M37)/M37*100 -> 8.9600523 | O38: =(M38-M34)/M34*100 -> 10.641646 | Q38: =M38/E38 -> 0.5592496
A39: 2010q1 | B39: 44853.074 | C39: 285241.18 | D39: =C39*1000000 -> 285241185000 | E39: =B39*1000000 -> 4.4853074e+10 | H39: =E39/D39*100 -> 15.724614 | I39: =G39/F39*100 -> #DIV/0! | J39: =D39/F39 -> #DIV/0! | K39: =E39/G39 -> #DIV/0! | M39: =E39*Q39 -> 2.5741611e+10 | N39: =(M39-M38)/M38*100 -> -2.6202434 | O39: =(M39-M35)/M35*100 -> 15.467844 | Q39: =(Q27+Q31+Q35)/3 -> 0.57390963
A40: 2010q2 | B40: 46032.482 | C40: 291748.15 | D40: =C40*1000000 -> 2.9174815e+11 | E40: =B40*1000000 -> 4.6032482e+10 | H40: =E40/D40*100 -> 15.778157 | I40: =G40/F40*100 -> #DIV/0! | J40: =D40/F40 -> #DIV/0! | K40: =E40/G40 -> #DIV/0! | M40: =E40*Q40 -> 2.6417055e+10 | N40: =(M40-M39)/M39*100 -> 2.6239388 | O40: =(M40-M36)/M36*100 -> 14.783281 | Q40: =(Q28+Q32+Q36)/3 -> 0.57387858
A41: 2010q3 | B41: 48226.615 | C41: 306929.63 | D41: =C41*1000000 -> 306929627000 | E41: =B41*1000000 -> 4.8226615e+10 | H41: =E41/D41*100 -> 15.712597 | I41: =G41/F41*100 -> #DIV/0! | J41: =D41/F41 -> #DIV/0! | K41: =E41/G41 -> #DIV/0! | M41: =E41*Q41 -> 2.759964e+10 | N41: =(M41-M40)/M40*100 -> 4.4765969 | O41: =(M41-M37)/M37*100 -> 13.763694 | Q41: =(Q29+Q33+Q37)/3 -> 0.57229063
A42: 2010q4 | B42: 52186.667 | C42: 329091.49 | D42: =C42*1000000 -> 329091493000 | E42: =B42*1000000 -> 5.2186667e+10 | H42: =E42/D42*100 -> 15.857799 | I42: =G42/F42*100 -> #DIV/0! | J42: =D42/F42 -> #DIV/0! | K42: =E42/G42 -> #DIV/0! | M42: =E42*Q42 -> 2.9480238e+10 | N42: =(M42-M41)/M41*100 -> 6.813849 | O42: =(M42-M38)/M38*100 -> 11.522872 | Q42: =(Q30+Q34+Q38)/3 -> 0.56489981
A43: 2011q1 | B43: 49720.628 | C43: 314059.33 | D43: =C43*1000000 -> 314059327000 | E43: =B43*1000000 -> 4.9720628e+10 | H43: =E43/D43*100 -> 15.831604 | I43: =G43/F43*100 -> #DIV/0! | J43: =D43/F43 -> #DIV/0! | K43: =E43/G43 -> #DIV/0! | M43: =E43*Q43 -> 2.8561242e+10 | N43: =(M43-M42)/M42*100 -> -3.1173285 | O43: =(M43-M39)/M39*100 -> 10.953592 | Q43: =(Q31+Q35+Q39)/3 -> 0.57443446
A44: 2011q2 | B44: 51629.573 | C44: 325530.79 | D44: =C44*1000000 -> 325530789000 | E44: =B44*1000000 -> 5.1629573e+10 | H44: =E44/D44*100 -> 15.86012 | I44: =G44/F44*100 -> #DIV/0! | J44: =D44/F44 -> #DIV/0! | K44: =E44/G44 -> #DIV/0! | M44: =E44*Q44 -> 2.9655669e+10 | N44: =(M44-M43)/M43*100 -> 3.8318601 | O44: =(M44-M40)/M40*100 -> 12.259557 | Q44: =(Q32+Q36+Q40)/3 -> 0.57439307
A45: 2011q3 | B45: 53591.328 | C45: 338803.83 | D45: =C45*1000000 -> 338803833000 | E45: =B45*1000000 -> 5.3591328e+10 | H45: =E45/D45*100 -> 15.817805 | I45: =G45/F45*100 -> #DIV/0! | J45: =D45/F45 -> #DIV/0! | K45: =E45/G45 -> #DIV/0! | M45: =E45*Q45 -> 3.0669021e+10 | N45: =(M45-M44)/M44*100 -> 3.4170583 | O45: =(M45-M41)/M41*100 -> 11.121088 | Q45: =(Q33+Q37+Q41)/3 -> 0.5722758
A46: 2011q4 | B46: 56800.112 | C46: 356201.36 | D46: =C46*1000000 -> 3.5620136e+11 | E46: =B46*1000000 -> 5.6800112e+10 | H46: =E46/D46*100 -> 15.946068 | I46: =G46/F46*100 -> #DIV/0! | J46: =D46/F46 -> #DIV/0! | K46: =E46/G46 -> #DIV/0! | M46: =E46*Q46 -> 3.1945597e+10 | N46: =(M46-M45)/M45*100 -> 4.1624288 | O46: =(M46-M42)/M42*100 -> 8.36275 | Q46: =(Q34+Q38+Q42)/3 -> 0.56242137
A47: 2012q1 | B47: 54104.678 | C47: 342517.39 | D47: =C47*1000000 -> 3.4251739e+11 | E47: =B47*1000000 -> 5.4104678e+10 | H47: =E47/D47*100 -> 15.796184 | I47: =G47/F47*100 -> #DIV/0! | J47: =D47/F47 -> #DIV/0! | K47: =E47/G47 -> #DIV/0! | M47: =E47*Q47 -> 3.0899695e+10 | N47: =(M47-M46)/M46*100 -> -3.2740102 | O47: =(M47-M43)/M43*100 -> 8.1875024 | Q47: =(Q35+Q39+Q43)/3 -> 0.57110948
A48: 2012q2 | B48: 56107.899 | C48: 354541.86 | D48: =C48*1000000 -> 354541860000 | E48: =B48*1000000 -> 5.6107899e+10 | H48: =E48/D48*100 -> 15.825465 | I48: =G48/F48*100 -> #DIV/0! | J48: =D48/F48 -> #DIV/0! | K48: =E48/G48 -> #DIV/0! | M48: =E48*Q48 -> 3.2021484e+10 | N48: =(M48-M47)/M47*100 -> 3.6304209 | O48: =(M48-M44)/M44*100 -> 7.977613 | Q48: =(Q36+Q40+Q44)/3 -> 0.57071257
A49: 2012q3 | B49: 57788.104 | C49: 365014.13 | D49: =C49*1000000 -> 365014134000 | E49: =B49*1000000 -> 5.7788104e+10 | H49: =E49/D49*100 -> 15.831744 | I49: =G49/F49*100 -> #DIV/0! | J49: =D49/F49 -> #DIV/0! | K49: =E49/G49 -> #DIV/0! | M49: =E49*Q49 -> 3.2905171e+10 | N49: =(M49-M48)/M48*100 -> 2.7596695 | O49: =(M49-M45)/M45*100 -> 7.2912342 | Q49: =(Q37+Q41+Q45)/3 -> 0.5694108
A50: 2012q4 | B50: 62047.315 | C50: 389528.63 | D50: =C50*1000000 -> 389528626000 | E50: =B50*1000000 -> 6.2047315e+10 | H50: =E50/D50*100 -> 15.92882 | I50: =G50/F50*100 -> #DIV/0! | J50: =D50/F50 -> #DIV/0! | K50: =E50/G50 -> #DIV/0! | M50: =E50*Q50 -> 3.4882396e+10 | N50: =(M50-M49)/M49*100 -> 6.0088592 | O50: =(M50-M46)/M46*100 -> 9.1931273 | Q50: =(Q38+Q42+Q46)/3 -> 0.56219026
... A54: 2013q4 | B54: 67500.788 | C54: 422522 | D54: =C54*1000000 -> 422522000000 | E54: =B54*1000000 -> 6.7500788e+10 | H54: =E54/D54*100 -> 15.975686 | I54: =G54/F54*100 -> #DIV/0! | J54: =D54/F54 -> #DIV/0! | K54: =E54/G54 -> #DIV/0! | M54: =E54*Q54 -> 3.8014451e+10 | N54: =(M54-M53)/M53*100 -> 5.667598 | O54: =(M54-M50)/M50*100 -> 8.9788974 | Q54: =(Q42+Q46+Q50)/3 -> 0.56317048

Sheet GDP PMB
D1: Msunduzi Municipal Area COMP
C2: SA GDP | D2: SA Quarterly COMP | E2: KZN Quarterly COMP | F2: SA Fuel Consumption | G2: KZN Fuel Consumption | H2: KZN GDP Ratio | I2: KZN Fuel Ratio | J2: SA Usage | K2: KZN Usage | L2: PMB Fuel Usage | M2: Pietermaritzburg Quarterly COMP | N2: PMB Quarterly Rate | O2: PMB Annual Rate
A3: 2001g1 | B3: 37676.736 | C3: 228114.65 | D3: ='GDP Durban'!D3 -> 114100598000 | E3: ='GDP Durban'!E3 -> 1.8509079e+10
A4: 2001g2 | B4: 39785.999 | C4: 237077.62 | D4: ='GDP Durban'!D4 -> 116343457000 | E4: ='GDP Durban'!E4 -> 1.8924379e+10
A5: 2001g3 | B5: 40039.788 | C5: 239764.67 | D5: ='GDP Durban'!D5 -> 1.188284e+11 | E5: ='GDP Durban'!E5 -> 1.927354e+10
A6: 2001g4 | B6: 40074.592 | C6: 242416.26 | D6: ='GDP Durban'!D6 -> 125723549000 | E6: ='GDP Durban'!E6 -> 2.0473835e+10
A7: 2002g1 | B7: 38164.554 | C7: 234422.23 | D7: ='GDP Durban'!D7 -> 124995000000 | E7: ='GDP Durban'!E7 -> 2.0070238e+10 | F7: 4118958622 | G7: 674878797 | H7: =E7/D7*100 -> 16.056833 | I7: =G7/F7*100 -> 16.384695 | J7: =D7/F7 -> 30.346263 | K7: =E7/G7 -> 29.739026 | M7: =E7*$L$23 -> 1.6118985e+09
A8: 2002g2 | B8: 40899.51 | C8: 246692 | D8: ='GDP Durban'!D8 -> 129917900000 | E8: ='GDP Durban'!E8 -> 2.0979094e+10 | F8: 4128329079 | G8: 697677279 | H8: =E8/D8*100 -> 16.147962 | I8: =G8/F8*100 -> 16.89975 | J8: =D8/F8 -> 31.469851 | K8: =E8/G8 -> 30.069911 | M8: =E8*$L$23 -> 1.6848913e+09 | N8: =(M8-M7)/M7*100 -> 4.5283754
A9: 2002g3 | B9: 40843.516 | C9: 248774.74 | D9: ='GDP Durban'!D9 -> 134099100000 | E9: ='GDP Durban'!E9 -> 2.15741e+10 | F9: 4479766142 | G9: 748604188 | H9: =E9/D9*100 -> 16.088177 | I9: =G9/F9*100 -> 16.710787 | J9: =D9/F9 -> 29.934397 | K9: =E9/G9 -> 28.819101 | M9: =E9*$L$23 -> 1.732678e+09 | N9: =(M9-M8)/M8*100 -> 2.8361873
A10: 2002g4 | B10: 41049.653 | C10: 252232.95 | D10: ='GDP Durban'!D10 -> 139852000000 | E10: ='GDP Durban'!E10 -> 2.2625786e+10 | F10: 4393645140 | G10: 741841930 | H10: =E10/D10*100 -> 16.178379 | I10: =G10/F10*100 -> 16.88443 | J10: =D10/F10 -> 31.830518 | K10: =E10/G10 -> 30.499471 | M10: =E10*$L$23 -> 1.8171419e+09 | N10: =(M10-M9)/M9*100 -> 4.8747628
A11: ='GDP Durban'!A11 -> 2003q1 | B11: 39679.286 | C11: 242968.68 | D11: ='GDP Durban'!D11 -> 137333400000 | E11: ='GDP Durban'!E11 -> 2.2001489e+10 | F11: 4.3245102e+09 | G11: 7.3345414e+08 | H11: =E11/D11*100 -> 16.020494 | I11: =G11/F11*100 -> 16.960398 | J11: =D11/F11 -> 31.756984 | K11: =E11/G11 -> 29.997089 | M11: =E11*$L$23 -> 1.7670028e+09 | N11: =(M11-M10)/M10*100 -> -2.7592295 | O11: =(M11-M7)/M7*100 -> 9.6224616 | R11: Yearly Growth Rate %
A12: ='GDP Durban'!A12 -> 2003q2 | B12: 42428.908 | C12: 254647.49 | D12: ='GDP Durban'!D12 -> 141947400000 | E12: ='GDP Durban'!E12 -> 2.286885e+10 | F12: 4.3448327e+09 | G12: 7.3310499e+08 | H12: =E12/D12*100 -> 16.110792 | I12: =G12/F12*100 -> 16.873032 | J12: =D12/F12 -> 32.670395 | K12: =E12/G12 -> 31.194508 | M12: =E12*$L$23 -> 1.8366631e+09 | N12: =(M12-M11)/M11*100 -> 3.9422824 | O12: =(M12-M8)/M8*100 -> 9.0078059 | R12: 2001
A13: ='GDP Durban'!A13 -> 2003q3 | B13: 42149.481 | C13: 256275.03 | D13: ='GDP Durban'!D13 -> 145489200000 | E13: ='GDP Durban'!E13 -> 2.3362981e+10 | F13: 4.469508e+09 | G13: 7.5596579e+08 | H13: =E13/D13*100 -> 16.058224 | I13: =G13/F13*100 -> 16.913848 | J13: =D13/F13 -> 32.551503 | K13: =E13/G13 -> 30.904813 | M13: =E13*$L$23 -> 1.8763482e+09 | N13: =(M13-M12)/M12*100 -> 2.1607193 | O13: =(M13-M9)/M9*100 -> 8.2918004 | R13: =R12+1 -> 2002 | S13: =SUM(M7:M10) -> 6.8466098e+09
A14: ='GDP Durban'!A14 -> 2003q4 | B14: 42100.347 | C14: 258872.64 | D14: ='GDP Durban'!D14 -> 154218000000 | E14: ='GDP Durban'!E14 -> 2.488487e+10 | F14: 4.7924549e+09 | G14: 792421454 | H14: =E14/D14*100 -> 16.136165 | I14: =G14/F14*100 -> 16.534771 | J14: =D14/F14 -> 32.179333 | K14: =E14/G14 -> 31.40358 | L14: =L31/G31 -> 0.081954277 | M14: =E14*$L$23 -> 1.9985755e+09 | N14: =(M14-M13)/M13*100 -> 6.5141042 | O14: =(M14-M10)/M10*100 -> 9.9845549 | R14: =R13+1 -> 2003 | S14: =SUM(M11:M14) -> 7.4785895e+09 | T14: =(S14-S13)/S13*100 -> 9.2305508
A15: ='GDP Durban'!A15 -> 2004q1 | B15: 40825.253 | C15: 251444.38 | D15: ='GDP Durban'!D15 -> 151038350000 | E15: ='GDP Durban'!E15 -> 2.4019062e+10 | F15: 4.4993406e+09 | G15: 7.3594163e+08 | H15: =E15/D15*100 -> 15.902624 | I15: =G15/F15*100 -> 16.356655 | J15: =D15/F15 -> 33.568997 | K15: =E15/G15 -> 32.637183 | L15: =L32/G32 -> 0.075731592 | M15: =E15*$L$23 -> 1.9290399e+09 | N15: =(M15-M14)/M14*100 -> -3.4792572 | O15: =(M15-M11)/M11*100 -> 9.1701647 | R15: =R14+1 -> 2004 | S15: =SUM(M15:M18) -> 8.1768972e+09 | T15: =(S15-S14)/S14*100 -> 9.3374245
A16: ='GDP Durban'!A16 -> 2004q2 | B16: 43839.245 | C16: 264778.95 | D16: ='GDP Durban'!D16 -> 155074150000 | E16: ='GDP Durban'!E16 -> 2.4769506e+10 | F16: 4.5436772e+09 | G16: 7.6518177e+08 | H16: =E16/D16*100 -> 15.972685 | I16: =G16/F16*100 -> 16.840584 | J16: =D16/F16 -> 34.129658 | K16: =E16/G16 -> 32.370747 | L16: =L33/G33 -> 0.077303872 | M16: =E16*$L$23 -> 1.9893102e+09 | N16: =(M16-M15)/M15*100 -> 3.1243685 | O16: =(M16-M12)/M12*100 -> 8.3111129 | R16: =R15+1 -> 2005 | S16: =SUM(M19:M22) -> 8.9605251e+09 | T16: =(S16-S15)/S15*100 -> 9.5834378
A17: ='GDP Durban'!A17 -> 2004q3 | B17: 44543.657 | C17: 270547.83 | D17: ='GDP Durban'!D17 -> 158525750000 | E17: ='GDP Durban'!E17 -> 2.5342121e+10 | F17: 4.7754909e+09 | G17: 7.9366597e+08 | H17: =E17/D17*100 -> 15.986123 | I17: =G17/F17*100 -> 16.619568 | J17: =D17/F17 -> 33.195697 | K17: =E17/G17 -> 31.930462 | L17: =L34/G34 -> 0.08154082 | M17: =E17*$L$23 -> 2.0352986e+09 | N17: =(M17-M16)/M16*100 -> 2.3117749 | O17: =(M17-M13)/M13*100 -> 8.4712626 | R17: =R16+1 -> 2006 | S17: =SUM(M23:M26) -> 9.8972289e+09 | T17: =(S17-S16)/S16*100 -> 10.453671
A18: ='GDP Durban'!A18 -> 2004q4 | B18: 44924.846 | C18: 275256.89 | D18: ='GDP Durban'!D18 -> 172315750000 | E18: ='GDP Durban'!E18 -> 2.7682343e+10 | F18: 4.830257e+09 | G18: 826240651 | H18: =E18/D18*100 -> 16.064894 | I18: =G18/F18*100 -> 17.105521 | J18: =D18/F18 -> 35.67424 | K18: =E18/G18 -> 33.503971 | L18: =L35/G35 -> 0.080220365 | M18: =E18*$L$23 -> 2.2232485e+09 | N18: =(M18-M17)/M17*100 -> 9.2345152 | O18: =(M18-M14)/M14*100 -> 11.24166 | R18: =R17+1 -> 2007 | S18: =SUM(M27:M30) -> 1.1204483e+10 | T18: =(S18-S17)/S17*100 -> 13.208283
A19: ='GDP Durban'!A19 -> 2005q1 | B19: 43267.605 | C19: 265766.29 | D19: ='GDP Durban'!D19 -> 162994450000 | E19: ='GDP Durban'!E19 -> 2.5969991e+10 | F19: 4690209425 | G19: 774740717 | H19: =E19/D19*100 -> 15.933052 | I19: =G19/F19*100 -> 16.518254 | J19: =D19/F19 -> 34.752062 | K19: =E19/G19 -> 33.52088 | L19: =L36/G36 -> 0.083003445 | M19: =E19*$L$23 -> 2.0857246e+09 | N19: =(M19-M18)/M18*100 -> -6.1857198 | O19: =(M19-M15)/M15*100 -> 8.1224199 | R19: =R18+1 -> 2008 | S19: =SUM(M31:M34) -> 1.2363388e+10 | T19: =(S19-S18)/S18*100 -> 10.343224
A20: ='GDP Durban'!A20 -> 2005q2 | B20: 45920.175 | C20: 277268.9 | D20: ='GDP Durban'!D20 -> 169724450000 | E20: ='GDP Durban'!E20 -> 2.7141137e+10 | F20: 4760343407 | G20: 805551748 | H20: =E20/D20*100 -> 15.991295 | I20: =G20/F20*100 -> 16.922135 | J20: =D20/F20 -> 35.653825 | K20: =E20/G20 -> 33.692606 | L20: =L37/G37 -> 0.082435751 | M20: =E20*$L$23 -> 2.1797828e+09 | N20: =(M20-M19)/M19*100 -> 4.5096154 | O20: =(M20-M16)/M16*100 -> 9.5748046 | R20: =R19+1 -> 2009 | S20: =SUM(M35:M38) -> 1.4429985e+10 | T20: =(S20-S19)/S19*100 -> 16.71546
A21: ='GDP Durban'!A21 -> 2005q3 | B21: 47037.654 | C21: 283831.22 | D21: ='GDP Durban'!D21 -> 176822000000 | E21: ='GDP Durban'!E21 -> 2.8172267e+10 | F21: 4824982237 | G21: 802738840 | H21: =E21/D21*100 -> 15.932557 | I21: =G21/F21*100 -> 16.637136 | J21: =D21/F21 -> 36.647182 | K21: =E21/G21 -> 35.095183 | M21: =E21*$L$23 -> 2.2625957e+09 | N21: =(M21-M20)/M20*100 -> 3.7991378 | O21: =(M21-M17)/M17*100 -> 11.167754 | R21: =R20+1 -> 2010 | S21: =SUM(M39:M42) -> 1.5560996e+10 | T21: =(S21-S20)/S20*100 -> 7.8379258
A22: ='GDP Durban'!A22 -> 2005q4 | B22: 47137.581 | C22: 287892.13 | D22: ='GDP Durban'!D22 -> 189477100000 | E22: ='GDP Durban'!E22 -> 3.0286825e+10 | F22: 5011501336 | G22: 832010091 | H22: =E22/D22*100 -> 15.984425 | I22: =G22/F22*100 -> 16.602013 | J22: =D22/F22 -> 37.80845 | K22: =E22/G22 -> 36.401992 | M22: =E22*$L$23 -> 2.432422e+09 | N22: =(M22-M21)/M21*100 -> 7.5058151 | O22: =(M22-M18)/M18*100 -> 9.4084593 | R22: =R21+1 -> 2011 | S22: =SUM(M43:M46) -> 1.7290714e+10 | T22: =(S22-S21)/S21*100 -> 11.115728
A23: ='GDP Durban'!A23 -> 2006q1 | B23: 45515.077 | C23: 278720.46 | D23: ='GDP Durban'!D23 -> 182102400000 | E23: ='GDP Durban'!E23 -> 2.8799052e+10 | F23: 4675546289 | G23: 750919883 | H23: =E23/D23*100 -> 15.814757 | I23: =G23/F23*100 -> 16.060581 | J23: =D23/F23 -> 38.947834 | K23: =E23/G23 -> 38.351697 | L23: =AVERAGE(L14:L20) -> 0.080312875 | M23: =E23*$L$23 -> 2.3129346e+09 | N23: =(M23-M22)/M22*100 -> -4.9122778 | O23: =(M23-M19)/M19*100 -> 10.893578 | R23: =R22+1 -> 2012 | S23: =SUM(M47:M50) -> 1.898029e+10 | T23: =(S23-S22)/S22*100 -> 9.7715809
A24: ='GDP Durban'!A24 -> 2006q2 | B24: 48049.393 | C24: 290944.86 | D24: ='GDP Durban'!D24 -> 186349400000 | E24: ='GDP Durban'!E24 -> 2.9647297e+10 | F24: 4859349229 | G24: 811777848 | H24: =E24/D24*100 -> 15.909521 | I24: =G24/F24*100 -> 16.705485 | J24: =D24/F24 -> 38.348633 | K24: =E24/G24 -> 36.521441 | M24: =E24*$L$23 -> 2.3810596e+09 | N24: =(M24-M23)/M23*100 -> 2.9453927 | O24: =(M24-M20)/M20*100 -> 9.2338047 | R24: =R23+1 -> 2013 | S24: =SUM(M51:M54) -> 2.0510939e+10 | T24: =(S24-S23)/S23*100 -> 8.0644101
A25: ='GDP Durban'!A25 -> 2006q3 | B25: 49171.99 | C25: 297456.97 | D25: ='GDP Durban'!D25 -> 197151200000 | E25: ='GDP Durban'!E25 -> 3.1142549e+10 | F25: 4906222423 | G25: 827883368 | H25: =E25/D25*100 -> 15.796277 | I25: =G25/F25*100 -> 16.874151 | J25: =D25/F25 -> 40.18391 | K25: =E25/G25 -> 37.617073 | M25: =E25*$L$23 -> 2.5011476e+09 | N25: =(M25-M24)/M24*100 -> 5.0434682 | O25: =(M25-M21)/M21*100 -> 10.543285
A26: ='GDP Durban'!A26 -> 2006q4 | B26: 50201.911 | C26: 306956.06 | D26: ='GDP Durban'!D26 -> 211950000000 | E26: ='GDP Durban'!E26 -> 3.3644505e+10 | F26: 5280826192 | G26: 873224453 | H26: =E26/D26*100 -> 15.873794 | I26: =G26/F26*100 -> 16.535754 | J26: =D26/F26 -> 40.135765 | K26: =E26/G26 -> 38.529046 | M26: =E26*$L$23 -> 2.702087e+09 | N26: =(M26-M25)/M25*100 -> 8.0338847 | O26: =(M26-M22)/M22*100 -> 11.086275 | Q26: =M26/E26 -> 0.080312875
A27: ='GDP Durban'!A27 -> 2007q1 | B27: 48194.137 | C27: 294828.76 | D27: ='GDP Durban'!D27 -> 203461000000 | E27: ='GDP Durban'!E27 -> 3.2145058e+10 | F27: 5154329343 | G27: 833477953 | H27: =E27/D27*100 -> 15.799125 | I27: =G27/F27*100 -> 16.170444 | J27: =D27/F27 -> 39.473807 | K27: =E27/G27 -> 38.567376 | M27: =E27*$L$23 -> 2.581662e+09 | N27: =(M27-M26)/M26*100 -> -4.4567388 | O27: =(M27-M23)/M23*100 -> 11.618459 | Q27: =M27/E27 -> 0.080312875
A28: ='GDP Durban'!A28 -> 2007q2 | B28: 50488.786 | C28: 305341.24 | D28: ='GDP Durban'!D28 -> 213026150000 | E28: ='GDP Durban'!E28 -> 3.3735842e+10 | F28: 5056692012 | G28: 821281896 | H28: =E28/D28*100 -> 15.836479 | I28: =G28/F28*100 -> 16.241485 | J28: =D28/F28 -> 42.127571 | K28: =E28/G28 -> 41.077055 | M28: =E28*$L$23 -> 2.7094224e+09 | N28: =(M28-M27)/M27*100 -> 4.9487672 | O28: =(M28-M24)/M24*100 -> 13.790616 | Q28: =M28/E28 -> 0.080312875
A29: ='GDP Durban'!A29 -> 2007q3 | B29: 51623.877 | C29: 312536.95 | D29: ='GDP Durban'!D29 -> 223253000000 | E29: ='GDP Durban'!E29 -> 3.5218507e+10 | F29: 5400223668 | G29: 898105429 | H29: =E29/D29*100 -> 15.775155 | I29: =G29/F29*100 -> 16.630893 | J29: =D29/F29 -> 41.341436 | K29: =E29/G29 -> 39.214223 | M29: =E29*$L$23 -> 2.8284995e+09 | N29: =(M29-M28)/M28*100 -> 4.3949243 | O29: =(M29-M25)/M25*100 -> 13.088067 | Q29: =M29/E29 -> 0.080312875
A30: ='GDP Durban'!A30 -> 2007q4 | B30: 52621.553 | C30: 321222.87 | D30: ='GDP Durban'!D30 -> 242639030000 | E30: ='GDP Durban'!E30 -> 3.8411013e+10 | F30: 5579296845 | G30: 902642355 | H30: =E30/D30*100 -> 15.830517 | I30: =G30/F30*100 -> 16.178425 | J30: =D30/F30 -> 43.489177 | K30: =E30/G30 -> 42.553967 | M30: =E30*$L$23 -> 3.0848989e+09 | N30: =(M30-M29)/M29*100 -> 9.064856 | O30: =(M30-M26)/M26*100 -> 14.16727 | Q30: =M30/E30 -> 0.080312875
A31: ='GDP Durban'!A31 -> 2008q1 | B31: 50304.132 | C31: 306287.39 | D31: ='GDP Durban'!D31 -> 229576413000 | E31: ='GDP Durban'!E31 -> 3.6129743e+10 | F31: 5543646776 | G31: 903654581 | H31: =E31/D31*100 -> 15.737568 | I31: =G31/F31*100 -> 16.300724 | J31: =D31/F31 -> 41.412525 | K31: =E31/G31 -> 39.981807 | L31: 74058358 | M31: =L31*K31 -> 2.960987e+09 | N31: =(M31-M30)/M30*100 -> -4.0167248 | O31: =(M31-M27)/M27*100 -> 14.693055 | Q31: =M31/E31 -> 0.081954277
A32: ='GDP Durban'!A32 -> 2008q2 | B32: 52106.987 | C32: 319011.07 | D32: ='GDP Durban'!D32 -> 239954449000 | E32: ='GDP Durban'!E32 -> 3.783302e+10 | F32: 5265926862 | G32: 890416751 | H32: =E32/D32*100 -> 15.766751 | I32: =G32/F32*100 -> 16.909022 | J32: =D32/F32 -> 45.567372 | K32: =E32/G32 -> 42.489115 | L32: 67432678 | M32: =L32*K32 -> 2.8651548e+09 | N32: =(M32-M31)/M31*100 -> -3.2364944 | O32: =(M32-M28)/M28*100 -> 5.7478077 | Q32: =M32/E32 -> 0.075731592
A33: ='GDP Durban'!A33 -> 2008q3 | B33: 53105.277 | C33: 322043.51 | D33: ='GDP Durban'!D33 -> 2.5360212e+11 | E33: ='GDP Durban'!E33 -> 3.9812235e+10 | F33: 5202135900 | G33: 869415812 | H33: =E33/D33*100 -> 15.698699 | I33: =G33/F33*100 -> 16.71267 | J33: =D33/F33 -> 48.749615 | K33: =E33/G33 -> 45.791938 | L33: 67209209 | M33: =L33*K33 -> 3.0776399e+09 | N33: =(M33-M32)/M32*100 -> 7.4161827 | O33: =(M33-M29)/M29*100 -> 8.8082194 | Q33: =M33/E33 -> 0.077303872
A34: ='GDP Durban'!A34 -> 2008q4 | B34: 54606.741 | C34: 324375.43 | D34: ='GDP Durban'!D34 -> 2.6873946e+11 | E34: ='GDP Durban'!E34 -> 4.2427901e+10 | F34: 5460259824 | G34: 899391940 | H34: =E34/D34*100 -> 15.787746 | I34: =G34/F34*100 -> 16.471596 | J34: =D34/F34 -> 49.217338 | K34: =E34/G34 -> 47.173984 | L34: 73337156 | M34: =L34*K34 -> 3.4596058e+09 | N34: =(M34-M33)/M33*100 -> 12.411 | O34: =(M34-M30)/M30*100 -> 12.14649 | Q34: =M34/E34 -> 0.08154082
A35: ='GDP Durban'!A35 -> 2009q1 | B35: 49513.613 | C35: 302489.23 | D35: ='GDP Durban'!D35 -> 251142685000 | E35: ='GDP Durban'!E35 -> 3.945829e+10 | F35: 5206564996 | G35: 842784368 | H35: =E35/D35*100 -> 15.711503 | I35: =G35/F35*100 -> 16.186956 | J35: =D35/F35 -> 48.235773 | K35: =E35/G35 -> 46.818962 | L35: 67608470 | M35: =L35*K35 -> 3.1653584e+09 | N35: =(M35-M34)/M34*100 -> -8.5052301 | O35: =(M35-M31)/M31*100 -> 6.9021377 | Q35: =M35/E35 -> 0.080220365
A36: ='GDP Durban'!A36 -> 2009q2 | B36: 51361.106 | C36: 310058.43 | D36: ='GDP Durban'!D36 -> 259238107000 | E36: ='GDP Durban'!E36 -> 4.081594e+10 | F36: 4994646966 | G36: 831381344 | H36: =E36/D36*100 -> 15.744576 | I36: =G36/F36*100 -> 16.645448 | J36: =D36/F36 -> 51.903189 | K36: =E36/G36 -> 49.094126 | L36: 69007516 | M36: =L36*K36 -> 3.3878637e+09 | N36: =(M36-M35)/M35*100 -> 7.0293861 | O36: =(M36-M32)/M32*100 -> 18.243651 | Q36: =M36/E36 -> 0.083003445
A37: ='GDP Durban'!A37 -> 2009q3 | D37: ='GDP Durban'!D37 -> 273323506000 | E37: ='GDP Durban'!E37 -> 4.3040562e+10 | F37: 5002707417 | G37: 835393434 | H37: =E37/D37*100 -> 15.747113 | I37: =G37/F37*100 -> 16.698827 | J37: =D37/F37 -> 54.635117 | K37: =E37/G37 -> 51.521307 | L37: 68866285 | M37: =L37*K37 -> 3.548081e+09 | N37: =(M37-M36)/M36*100 -> 4.7291553 | O37: =(M37-M33)/M33*100 -> 15.285773 | Q37: =M37/E37 -> 0.082435751
A38: ='GDP Durban'!A38 -> 2009q4 | D38: ='GDP Durban'!D38 -> 299610191000 | E38: ='GDP Durban'!E38 -> 4.7267361e+10 | F38: 5074816265 | G38: 901763015 | H38: =E38/D38*100 -> 15.776286 | I38: =G38/F38*100 -> 17.769373 | J38: =D38/F38 -> 59.038628 | K38: =E38/G38 -> 52.416611 | L38: 82582248 | M38: =L38*K38 -> 4.3286816e+09 | N38: =(M38-M37)/M37*100 -> 22.000642 | O38: =(M38-M34)/M34*100 -> 25.120658 | Q38: =M38/E38 -> 0.091578659
A39: ='GDP Durban'!A39 -> 2010q1 | D39: ='GDP Durban'!D39 -> 285241185000 | E39: ='GDP Durban'!E39 -> 4.4853074e+10 | H39: =E39/D39*100 -> 15.724614 | M39: =E39*Q39 -> 3.6254369e+09 | N39: =(M39-M38)/M38*100 -> -16.246165 | O39: =(M39-M35)/M35*100 -> 14.534798 | Q39: =(Q27+Q31+Q35)/3 -> 0.080829172
A40: ='GDP Durban'!A40 -> 2010q2 | D40: ='GDP Durban'!D40 -> 2.9174815e+11 | E40: ='GDP Durban'!E40 -> 4.6032482e+10 | H40: =E40/D40*100 -> 15.778157 | M40: =E40*Q40 -> 3.6679895e+09 | N40: =(M40-M39)/M39*100 -> 1.1737253 | O40: =(M40-M36)/M36*100 -> 8.2685103 | Q40: =(Q28+Q32+Q36)/3 -> 0.079682637
A41: ='GDP Durban'!A41 -> 2010q3 | D41: ='GDP Durban'!D41 -> 306929627000 | E41: ='GDP Durban'!E41 -> 4.8226615e+10 | M41: =E41*Q41 -> 3.8589732e+09 | N41: =(M41-M40)/M40*100 -> 5.2067661 | O41: =(M41-M37)/M37*100 -> 8.7622621 | Q41: =(Q29+Q33+Q37)/3 -> 0.080017499
A42: ='GDP Durban'!A42 -> 2010q4 | D42: ='GDP Durban'!D42 -> 329091493000 | E42: ='GDP Durban'!E42 -> 5.2186667e+10 | M42: =E42*Q42 -> 4.4085966e+09 | N42: =(M42-M41)/M41*100 -> 14.242739 | O42: =(M42-M38)/M38*100 -> 1.8461749 | Q42: =(Q30+Q34+Q38)/3 -> 0.084477451
A43: ='GDP Durban'!A43 -> 2011q1 | D43: ='GDP Durban'!D43 -> 314059327000 | E43: ='GDP Durban'!E43 -> 4.9720628e+10 | M43: =E43*Q43 -> 4.0274341e+09 | N43: =(M43-M42)/M42*100 -> -8.6458929 | O43: =(M43-M39)/M39*100 -> 11.088242 | Q43: =(Q31+Q35+Q39)/3 -> 0.081001272
A44: ='GDP Durban'!A44 -> 2011q2 | D44: ='GDP Durban'!D44 -> 325530789000 | E44: ='GDP Durban'!E44 -> 5.1629573e+10 | M44: =E44*Q44 -> 4.1031343e+09 | N44: =(M44-M43)/M43*100 -> 1.8796133 | O44: =(M44-M40)/M40*100 -> 11.863304 | Q44: =(Q32+Q36+Q40)/3 -> 0.079472558
A45: ='GDP Durban'!A45 -> 2011q3 | D45: ='GDP Durban'!D45 -> 338803833000 | E45: ='GDP Durban'!E45 -> 5.3591328e+10 | M45: =E45*Q45 -> 4.2829676e+09 | N45: =(M45-M44)/M44*100 -> 4.3828274 | O45: =(M45-M41)/M41*100 -> 10.987234 | Q45: =(Q33+Q37+Q41)/3 -> 0.079919041
A46: ='GDP Durban'!A46 -> 2011q4 | D46: ='GDP Durban'!D46 -> 3.5620136e+11 | E46: ='GDP Durban'!E46 -> 5.6800112e+10 | M46: =E46*Q46 -> 4.8771782e+09 | N46: =(M46-M45)/M45*100 -> 13.873806 | O46: =(M46-M42)/M42*100 -> 10.628814 | Q46: =(Q34+Q38+Q42)/3 -> 0.085865643
A47: ='GDP Durban'!A47 -> 2012q1 | D47: ='GDP Durban'!D47 -> 3.4251739e+11 | E47: ='GDP Durban'!E47 -> 5.4104678e+10 | M47: =E47*Q47 -> 4.3653604e+09 | N47: =(M47-M46)/M46*100 -> -10.494138 | O47: =(M47-M43)/M43*100 -> 8.3906105 | Q47: =(Q35+Q39+Q43)/3 -> 0.080683603
A48: ='GDP Durban'!A48 -> 2012q2 | D48: ='GDP Durban'!D48 -> 354541860000 | E48: ='GDP Durban'!E48 -> 5.6107899e+10 | M48: =E48*Q48 -> 4.5290042e+09 | N48: =(M48-M47)/M47*100 -> 3.7486895 | O48: =(M48-M44)/M44*100 -> 10.379137 | Q48: =(Q36+Q40+Q44)/3 -> 0.080719547
A49: ='GDP Durban'!A49 -> 2012q3 | D49: ='GDP Durban'!D49 -> 365014134000 | E49: ='GDP Durban'!E49 -> 5.7788104e+10 | M49: =E49*Q49 -> 4.6687451e+09 | N49: =(M49-M48)/M48*100 -> 3.0854659 | O49: =(M49-M45)/M45*100 -> 9.0072481 | Q49: =(Q37+Q41+Q45)/3 -> 0.080790764
A50: ='GDP Durban'!A50 -> 2012q4 | D50: ='GDP Durban'!D50 -> 389528626000 | E50: ='GDP Durban'!E50 -> 6.2047315e+10 | M50: =E50*Q50 -> 5.4171806e+09 | N50: =(M50-M49)/M49*100 -> 16.030763 | O50: =(M50-M46)/M46*100 -> 11.072025 | Q50: =(Q38+Q42+Q46)/3 -> 0.087307251
A51: ='GDP Durban'!A51 -> 2013q1 | D51: ='GDP Durban'!D51 -> 368483244000 | E51: ='GDP Durban'!E51 -> 5.8475855e+10 | M51: =E51*Q51 -> 4.7270721e+09 | N51: =(M51-M50)/M50*100 -> -12.739255 | O51: =(M51-M47)/M47*100 -> 8.2859532 | Q51: =(Q39+Q43+Q47)/3 -> 0.080838016
A52: ='GDP Durban'!A52 -> 2013q2 | D52: ='GDP Durban'!D52 -> 389171504000 | E52: ='GDP Durban'!E52 -> 6.1706248e+10 | M52: =E52*Q52 -> 4.9339234e+09 | N52: =(M52-M51)/M51*100 -> 4.3758863 | O52: =(M52-M48)/M48*100 -> 8.9405794 | Q52: =(Q40+Q44+Q48)/3 -> 0.079958248
... A54: ='GDP Durban'!A54 -> 2013q4 | D54: ='GDP Durban'!D54 -> 422522000000 | E54: ='GDP Durban'!E54 -> 6.7500788e+10 | M54: =E54*Q54 -> 5.7972004e+09 | N54: =(M54-M53)/M53*100 -> 14.733735 | O54: =(M54-M50)/M50*100 -> 7.015086 | Q54: =(Q42+Q46+Q50)/3 -> 0.085883449

Sheet GDP RBay
D1: Mthlatuze Municipal Area COMP
C2: SA GDP | D2: SA Quarterly COMP | E2: KZN Quarterly COMP | F2: SA Fuel Consumption | G2: KZN Fuel Consumption | H2: KZN GDP Ratio | I2: KZN Fuel Ratio | J2: SA Usage | K2: KZN Usage | L2: RBay Fuel Usage | M2: Richards Bay Quarterly COMP | N2: RBay Quarterly Rate | O2: RBay Annual Rate
A3: 2001g1 | B3: 37676.736 | C3: 228114.65 | D3: ='GDP Durban'!D3 -> 114100598000 | E3: ='GDP Durban'!E3 -> 1.8509079e+10
A4: 2001g2 | B4: 39785.999 | C4: 237077.62 | D4: ='GDP Durban'!D4 -> 116343457000 | E4: ='GDP Durban'!E4 -> 1.8924379e+10
A5: 2001g3 | B5: 40039.788 | C5: 239764.67 | D5: ='GDP Durban'!D5 -> 1.188284e+11 | E5: ='GDP Durban'!E5 -> 1.927354e+10
A6: 2001g4 | B6: 40074.592 | C6: 242416.26 | D6: ='GDP Durban'!D6 -> 125723549000 | E6: ='GDP Durban'!E6 -> 2.0473835e+10
A7: 2002g1 | B7: 38164.554 | C7: 234422.23 | D7: ='GDP Durban'!D7 -> 124995000000 | E7: ='GDP Durban'!E7 -> 2.0070238e+10 | F7: 4118958622 | G7: 674878797 | H7: =E7/D7*100 -> 16.056833 | I7: =G7/F7*100 -> 16.384695 | J7: =D7/F7 -> 30.346263 | K7: =E7/G7 -> 29.739026 | M7: =E7*$L$26 -> 1.2437748e+09
A8: 2002g2 | B8: 40899.51 | C8: 246692 | D8: ='GDP Durban'!D8 -> 129917900000 | E8: ='GDP Durban'!E8 -> 2.0979094e+10 | F8: 4128329079 | G8: 697677279 | H8: =E8/D8*100 -> 16.147962 | I8: =G8/F8*100 -> 16.89975 | J8: =D8/F8 -> 31.469851 | K8: =E8/G8 -> 30.069911 | M8: =E8*$L$26 -> 1.3000976e+09 | N8: =(M8-M7)/M7*100 -> 4.5283754
A9: 2002g3 | B9: 40843.516 | C9: 248774.74 | D9: ='GDP Durban'!D9 -> 134099100000 | E9: ='GDP Durban'!E9 -> 2.15741e+10 | F9: 4479766142 | G9: 748604188 | H9: =E9/D9*100 -> 16.088177 | I9: =G9/F9*100 -> 16.710787 | J9: =D9/F9 -> 29.934397 | K9: =E9/G9 -> 28.819101 | M9: =E9*$L$26 -> 1.3369708e+09 | N9: =(M9-M8)/M8*100 -> 2.8361873
A10: 2002g4 | B10: 41049.653 | C10: 252232.95 | D10: ='GDP Durban'!D10 -> 139852000000 | E10: ='GDP Durban'!E10 -> 2.2625786e+10 | F10: 4393645140 | G10: 741841930 | H10: =E10/D10*100 -> 16.178379 | I10: =G10/F10*100 -> 16.88443 | J10: =D10/F10 -> 31.830518 | K10: =E10/G10 -> 30.499471 | M10: =E10*$L$26 -> 1.4021449e+09 | N10: =(M10-M9)/M9*100 -> 4.8747628
A11: ='GDP Durban'!A11 -> 2003q1 | B11: 39679.286 | C11: 242968.68 | D11: ='GDP Durban'!D11 -> 137333400000 | E11: ='GDP Durban'!E11 -> 2.2001489e+10 | F11: 4.3245102e+09 | G11: 7.3345414e+08 | H11: =E11/D11*100 -> 16.020494 | I11: =G11/F11*100 -> 16.960398 | J11: =D11/F11 -> 31.756984 | K11: =E11/G11 -> 29.997089 | M11: =E11*$L$26 -> 1.3634565e+09 | N11: =(M11-M10)/M10*100 -> -2.7592295 | O11: =(M11-M7)/M7*100 -> 9.6224616 | R11: Yearly Growth Rate %
A12: ='GDP Durban'!A12 -> 2003q2 | B12: 39679.286 | C12: 242968.68 | D12: ='GDP Durban'!D12 -> 141947400000 | E12: ='GDP Durban'!E12 -> 2.286885e+10 | F12: 4.3448327e+09 | G12: 7.3310499e+08 | H12: =E12/D12*100 -> 16.110792 | I12: =G12/F12*100 -> 16.873032 | J12: =D12/F12 -> 32.670395 | K12: =E12/G12 -> 31.194508 | M12: =E12*$L$26 -> 1.4172078e+09 | N12: =(M12-M11)/M11*100 -> 3.9422824 | O12: =(M12-M8)/M8*100 -> 9.0078059 | R12: 2001
A13: ='GDP Durban'!A13 -> 2003q3 | B13: 39679.286 | C13: 242968.68 | D13: ='GDP Durban'!D13 -> 145489200000 | E13: ='GDP Durban'!E13 -> 2.3362981e+10 | F13: 4.469508e+09 | G13: 7.5596579e+08 | H13: =E13/D13*100 -> 16.058224 | I13: =G13/F13*100 -> 16.913848 | J13: =D13/F13 -> 32.551503 | K13: =E13/G13 -> 30.904813 | M13: =E13*$L$26 -> 1.4478297e+09 | N13: =(M13-M12)/M12*100 -> 2.1607193 | O13: =(M13-M9)/M9*100 -> 8.2918004 | R13: =R12+1 -> 2002 | S13: =SUM(M7:M10) -> 5.282988e+09
A14: ='GDP Durban'!A14 -> 2003q4 | B14: 39679.286 | C14: 242968.68 | D14: ='GDP Durban'!D14 -> 154218000000 | E14: ='GDP Durban'!E14 -> 2.488487e+10 | F14: 4.7924549e+09 | G14: 792421454 | H14: =E14/D14*100 -> 16.136165 | I14: =G14/F14*100 -> 16.534771 | J14: =D14/F14 -> 32.179333 | K14: =E14/G14 -> 31.40358 | M14: =E14*$L$26 -> 1.5421429e+09 | N14: =(M14-M13)/M13*100 -> 6.5141042 | O14: =(M14-M10)/M10*100 -> 9.9845549 | R14: =R13+1 -> 2003 | S14: =SUM(M11:M14) -> 5.7706369e+09 | T14: =(S14-S13)/S13*100 -> 9.2305508
A15: ='GDP Durban'!A15 -> 2004q1 | B15: 39679.286 | C15: 242968.68 | D15: ='GDP Durban'!D15 -> 151038350000 | E15: ='GDP Durban'!E15 -> 2.4019062e+10 | F15: 4.4993406e+09 | G15: 7.3594163e+08 | H15: =E15/D15*100 -> 15.902624 | I15: =G15/F15*100 -> 16.356655 | J15: =D15/F15 -> 33.568997 | K15: =E15/G15 -> 32.637183 | M15: =E15*$L$26 -> 1.4884877e+09 | N15: =(M15-M14)/M14*100 -> -3.4792572 | O15: =(M15-M11)/M11*100 -> 9.1701647 | R15: =R14+1 -> 2004 | S15: =SUM(M15:M18) -> 6.3094658e+09 | T15: =(S15-S14)/S14*100 -> 9.3374245
A16: ='GDP Durban'!A16 -> 2004q2 | B16: 39679.286 | C16: 242968.68 | D16: ='GDP Durban'!D16 -> 155074150000 | E16: ='GDP Durban'!E16 -> 2.4769506e+10 | F16: 4.5436772e+09 | G16: 7.6518177e+08 | H16: =E16/D16*100 -> 15.972685 | I16: =G16/F16*100 -> 16.840584 | J16: =D16/F16 -> 34.129658 | K16: =E16/G16 -> 32.370747 | M16: =E16*$L$26 -> 1.5349936e+09 | N16: =(M16-M15)/M15*100 -> 3.1243685 | O16: =(M16-M12)/M12*100 -> 8.3111129 | R16: =R15+1 -> 2005 | S16: =SUM(M19:M22) -> 6.9141295e+09 | T16: =(S16-S15)/S15*100 -> 9.5834378
A17: ='GDP Durban'!A17 -> 2004q3 | B17: 39679.286 | C17: 242968.68 | D17: ='GDP Durban'!D17 -> 158525750000 | E17: ='GDP Durban'!E17 -> 2.5342121e+10 | F17: 4.7754909e+09 | G17: 7.9366597e+08 | H17: =E17/D17*100 -> 15.986123 | I17: =G17/F17*100 -> 16.619568 | J17: =D17/F17 -> 33.195697 | K17: =E17/G17 -> 31.930462 | M17: =E17*$L$26 -> 1.5704792e+09 | N17: =(M17-M16)/M16*100 -> 2.3117749 | O17: =(M17-M13)/M13*100 -> 8.4712626 | R17: =R16+1 -> 2006 | S17: =SUM(M23:M26) -> 7.6369099e+09 | T17: =(S17-S16)/S16*100 -> 10.453671
A18: ='GDP Durban'!A18 -> 2004q4 | B18: 39679.286 | C18: 242968.68 | D18: ='GDP Durban'!D18 -> 172315750000 | E18: ='GDP Durban'!E18 -> 2.7682343e+10 | F18: 4.830257e+09 | G18: 826240651 | H18: =E18/D18*100 -> 16.064894 | I18: =G18/F18*100 -> 17.105521 | J18: =D18/F18 -> 35.67424 | K18: =E18/G18 -> 33.503971 | M18: =E18*$L$26 -> 1.7155053e+09 | N18: =(M18-M17)/M17*100 -> 9.2345152 | O18: =(M18-M14)/M14*100 -> 11.24166 | R18: =R17+1 -> 2007 | S18: =SUM(M27:M30) -> 8.6456145e+09 | T18: =(S18-S17)/S17*100 -> 13.208283
A19: ='GDP Durban'!A19 -> 2005q1 | B19: 39679.286 | C19: 242968.68 | D19: ='GDP Durban'!D19 -> 162994450000 | E19: ='GDP Durban'!E19 -> 2.5969991e+10 | F19: 4690209425 | G19: 774740717 | H19: =E19/D19*100 -> 15.933052 | I19: =G19/F19*100 -> 16.518254 | J19: =D19/F19 -> 34.752062 | K19: =E19/G19 -> 33.52088 | L19: =M31/E31 -> 0.063044421 | M19: =E19*$L$26 -> 1.609389e+09 | N19: =(M19-M18)/M18*100 -> -6.1857198 | O19: =(M19-M15)/M15*100 -> 8.1224199 | R19: =R18+1 -> 2008 | S19: =SUM(M31:M34) -> 1.021921e+10 | T19: =(S19-S18)/S18*100 -> 18.201081
A20: ='GDP Durban'!A20 -> 2005q2 | B20: 39679.286 | C20: 242968.68 | D20: ='GDP Durban'!D20 -> 169724450000 | E20: ='GDP Durban'!E20 -> 2.7141137e+10 | F20: 4760343407 | G20: 805551748 | H20: =E20/D20*100 -> 15.991295 | I20: =G20/F20*100 -> 16.922135 | J20: =D20/F20 -> 35.653825 | K20: =E20/G20 -> 33.692606 | L20: =M32/E32 -> 0.068349777 | M20: =E20*$L$26 -> 1.6819662e+09 | N20: =(M20-M19)/M19*100 -> 4.5096154 | O20: =(M20-M16)/M16*100 -> 9.5748046 | R20: =R19+1 -> 2009 | S20: =SUM(M35:M38) -> 9.8682655e+09 | T20: =(S20-S19)/S19*100 -> -3.4341633
A21: ='GDP Durban'!A21 -> 2005q3 | B21: 39679.286 | C21: 242968.68 | D21: ='GDP Durban'!D21 -> 176822000000 | E21: ='GDP Durban'!E21 -> 2.8172267e+10 | F21: 4824982237 | G21: 802738840 | H21: =E21/D21*100 -> 15.932557 | I21: =G21/F21*100 -> 16.637136 | J21: =D21/F21 -> 36.647182 | K21: =E21/G21 -> 35.095183 | L21: =M33/E33 -> 0.067743762 | M21: =E21*$L$26 -> 1.7458664e+09 | N21: =(M21-M20)/M20*100 -> 3.7991378 | O21: =(M21-M17)/M17*100 -> 11.167754 | R21: =R20+1 -> 2010 | S21: =SUM(M39:M42) -> 1.181009e+10 | T21: =(S21-S20)/S20*100 -> 19.67746
A22: ='GDP Durban'!A22 -> 2005q4 | B22: 39679.286 | C22: 242968.68 | D22: ='GDP Durban'!D22 -> 189477100000 | E22: ='GDP Durban'!E22 -> 3.0286825e+10 | F22: 5011501336 | G22: 832010091 | H22: =E22/D22*100 -> 15.984425 | I22: =G22/F22*100 -> 16.602013 | J22: =D22/F22 -> 37.80845 | K22: =E22/G22 -> 36.401992 | L22: =M34/E34 -> 0.062659759 | M22: =E22*$L$26 -> 1.8769079e+09 | N22: =(M22-M21)/M21*100 -> 7.5058151 | O22: =(M22-M18)/M18*100 -> 9.4084593 | R22: =R21+1 -> 2011 | S22: =SUM(M43:M46) -> 1.3056809e+10 | T22: =(S22-S21)/S21*100 -> 10.556389
A23: ='GDP Durban'!A23 -> 2006q1 | B23: 39679.286 | C23: 242968.68 | D23: ='GDP Durban'!D23 -> 182102400000 | E23: ='GDP Durban'!E23 -> 2.8799052e+10 | F23: 4675546289 | G23: 750919883 | H23: =E23/D23*100 -> 15.814757 | I23: =G23/F23*100 -> 16.060581 | J23: =D23/F23 -> 38.947834 | K23: =E23/G23 -> 38.351697 | L23: =M35/E35 -> 0.05623937 | M23: =E23*$L$26 -> 1.784709e+09 | N23: =(M23-M22)/M22*100 -> -4.9122778 | O23: =(M23-M19)/M19*100 -> 10.893578 | R23: =R22+1 -> 2012 | S23: =SUM(M47:M50) -> 1.3896624e+10 | T23: =(S23-S22)/S22*100 -> 6.4320075
A24: ='GDP Durban'!A24 -> 2006q2 | B24: 39679.286 | C24: 242968.68 | D24: ='GDP Durban'!D24 -> 186349400000 | E24: ='GDP Durban'!E24 -> 2.9647297e+10 | F24: 4859349229 | G24: 811777848 | H24: =E24/D24*100 -> 15.909521 | I24: =G24/F24*100 -> 16.705485 | J24: =D24/F24 -> 38.348633 | K24: =E24/G24 -> 36.521441 | L24: =M36/E36 -> 0.056442926 | M24: =E24*$L$26 -> 1.8372757e+09 | N24: =(M24-M23)/M23*100 -> 2.9453927 | O24: =(M24-M20)/M20*100 -> 9.2338047 | R24: =R23+1 -> 2013 | S24: =SUM(M51:M54) -> 1.5357913e+10 | T24: =(S24-S23)/S23*100 -> 10.515432
A25: ='GDP Durban'!A25 -> 2006q3 | B25: 39679.286 | C25: 242968.68 | D25: ='GDP Durban'!D25 -> 197151200000 | E25: ='GDP Durban'!E25 -> 3.1142549e+10 | F25: 4906222423 | G25: 827883368 | H25: =E25/D25*100 -> 15.796277 | I25: =G25/F25*100 -> 16.874151 | J25: =D25/F25 -> 40.18391 | K25: =E25/G25 -> 37.617073 | L25: 0.059317703 | M25: =E25*$L$26 -> 1.9299381e+09 | N25: =(M25-M24)/M24*100 -> 5.0434682 | O25: =(M25-M21)/M21*100 -> 10.543285
A26: ='GDP Durban'!A26 -> 2006q4 | B26: 39679.286 | C26: 242968.68 | D26: ='GDP Durban'!D26 -> 211950000000 | E26: ='GDP Durban'!E26 -> 3.3644505e+10 | F26: 5280826192 | G26: 873224453 | H26: =E26/D26*100 -> 15.873794 | I26: =G26/F26*100 -> 16.535754 | J26: =D26/F26 -> 40.135765 | K26: =E26/G26 -> 38.529046 | L26: =AVERAGE(L19:L25) -> 0.061971103 | M26: =E26*$L$26 -> 2.0849871e+09 | N26: =(M26-M25)/M25*100 -> 8.0338847 | O26: =(M26-M22)/M22*100 -> 11.086275 | Q26: =M26/E26 -> 0.061971103
A27: ='GDP Durban'!A27 -> 2007q1 | B27: 39679.286 | C27: 242968.68 | D27: ='GDP Durban'!D27 -> 203461000000 | E27: ='GDP Durban'!E27 -> 3.2145058e+10 | F27: 5154329343 | G27: 833477953 | H27: =E27/D27*100 -> 15.799125 | I27: =G27/F27*100 -> 16.170444 | J27: =D27/F27 -> 39.473807 | K27: =E27/G27 -> 38.567376 | M27: =E27*$L$26 -> 1.9920647e+09 | N27: =(M27-M26)/M26*100 -> -4.4567388 | O27: =(M27-M23)/M23*100 -> 11.618459 | Q27: =M27/E27 -> 0.061971103
A28: ='GDP Durban'!A28 -> 2007q2 | B28: 39679.286 | C28: 242968.68 | D28: ='GDP Durban'!D28 -> 213026150000 | E28: ='GDP Durban'!E28 -> 3.3735842e+10 | F28: 5056692012 | G28: 821281896 | H28: =E28/D28*100 -> 15.836479 | I28: =G28/F28*100 -> 16.241485 | J28: =D28/F28 -> 42.127571 | K28: =E28/G28 -> 41.077055 | M28: =E28*$L$26 -> 2.0906473e+09 | N28: =(M28-M27)/M27*100 -> 4.9487672 | O28: =(M28-M24)/M24*100 -> 13.790616 | Q28: =M28/E28 -> 0.061971103
A29: ='GDP Durban'!A29 -> 2007q3 | B29: 39679.286 | C29: 242968.68 | D29: ='GDP Durban'!D29 -> 223253000000 | E29: ='GDP Durban'!E29 -> 3.5218507e+10 | F29: 5400223668 | G29: 898105429 | H29: =E29/D29*100 -> 15.775155 | I29: =G29/F29*100 -> 16.630893 | J29: =D29/F29 -> 41.341436 | K29: =E29/G29 -> 39.214223 | M29: =E29*$L$26 -> 2.1825297e+09 | N29: =(M29-M28)/M28*100 -> 4.3949243 | O29: =(M29-M25)/M25*100 -> 13.088067 | Q29: =M29/E29 -> 0.061971103
A30: ='GDP Durban'!A30 -> 2007q4 | B30: 39679.286 | C30: 242968.68 | D30: ='GDP Durban'!D30 -> 242639030000 | E30: ='GDP Durban'!E30 -> 3.8411013e+10 | F30: 5579296845 | G30: 902642355 | H30: =E30/D30*100 -> 15.830517 | I30: =G30/F30*100 -> 16.178425 | J30: =D30/F30 -> 43.489177 | K30: =E30/G30 -> 42.553967 | M30: =E30*$L$26 -> 2.3803729e+09 | N30: =(M30-M29)/M29*100 -> 9.064856 | O30: =(M30-M26)/M26*100 -> 14.16727 | Q30: =M30/E30 -> 0.061971103
A31: ='GDP Durban'!A31 -> 2008q1 | B31: 39679.286 | C31: 242968.68 | D31: ='GDP Durban'!D31 -> 229576413000 | E31: ='GDP Durban'!E31 -> 3.6129743e+10 | F31: 5543646776 | G31: 903654581 | H31: =E31/D31*100 -> 15.737568 | I31: =G31/F31*100 -> 16.300724 | J31: =D31/F31 -> 41.412525 | K31: =E31/G31 -> 39.981807 | L31: 56970380 | M31: =L31*K31 -> 2.2777788e+09 | N31: =(M31-M30)/M30*100 -> -4.310001 | O31: =(M31-M27)/M27*100 -> 14.342611 | Q31: =M31/E31 -> 0.063044421
A32: ='GDP Durban'!A32 -> 2008q2 | B32: 39679.286 | C32: 242968.68 | D32: ='GDP Durban'!D32 -> 239954449000 | E32: ='GDP Durban'!E32 -> 3.783302e+10 | F32: 5265926862 | G32: 890416751 | H32: =E32/D32*100 -> 15.766751 | I32: =G32/F32*100 -> 16.909022 | J32: =D32/F32 -> 45.567372 | K32: =E32/G32 -> 42.489115 | L32: 60859786 | M32: =L32*K32 -> 2.5858785e+09 | N32: =(M32-M31)/M31*100 -> 13.526322 | O32: =(M32-M28)/M28*100 -> 23.687933 | Q32: =M32/E32 -> 0.068349777
A33: ='GDP Durban'!A33 -> 2008q3 | B33: 39679.286 | C33: 242968.68 | D33: ='GDP Durban'!D33 -> 2.5360212e+11 | E33: ='GDP Durban'!E33 -> 3.9812235e+10 | F33: 5202135900 | G33: 869415812 | H33: =E33/D33*100 -> 15.698699 | I33: =G33/F33*100 -> 16.71267 | J33: =D33/F33 -> 48.749615 | K33: =E33/G33 -> 45.791938 | L33: 58897498 | M33: =L33*K33 -> 2.6970306e+09 | N33: =(M33-M32)/M32*100 -> 4.298428 | O33: =(M33-M29)/M29*100 -> 23.573604 | Q33: =M33/E33 -> 0.067743762
A34: ='GDP Durban'!A34 -> 2008q4 | B34: 39679.286 | C34: 242968.68 | D34: ='GDP Durban'!D34 -> 2.6873946e+11 | E34: ='GDP Durban'!E34 -> 4.2427901e+10 | F34: 5460259824 | G34: 899391940 | H34: =E34/D34*100 -> 15.787746 | I34: =G34/F34*100 -> 16.471596 | J34: =D34/F34 -> 49.217338 | K34: =E34/G34 -> 47.173984 | L34: 56355682 | M34: =L34*K34 -> 2.6585221e+09 | N34: =(M34-M33)/M33*100 -> -1.4278121 | O34: =(M34-M30)/M30*100 -> 11.685111 | Q34: =M34/E34 -> 0.062659759
A35: ='GDP Durban'!A35 -> 2009q1 | B35: 39679.286 | C35: 242968.68 | D35: ='GDP Durban'!D35 -> 251142685000 | E35: ='GDP Durban'!E35 -> 3.945829e+10 | F35: 5206564996 | G35: 842784368 | H35: =E35/D35*100 -> 15.711503 | I35: =G35/F35*100 -> 16.186956 | J35: =D35/F35 -> 48.235773 | K35: =E35/G35 -> 46.818962 | L35: 47397662 | M35: =L35*K35 -> 2.2191094e+09 | N35: =(M35-M34)/M34*100 -> -16.528458 | O35: =(M35-M31)/M31*100 -> -2.5757292 | Q35: =M35/E35 -> 0.05623937
A36: ='GDP Durban'!A36 -> 2009q2 | B36: 39679.286 | C36: 242968.68 | D36: ='GDP Durban'!D36 -> 259238107000 | E36: ='GDP Durban'!E36 -> 4.081594e+10 | F36: 4994646966 | G36: 831381344 | H36: =E36/D36*100 -> 15.744576 | I36: =G36/F36*100 -> 16.645448 | J36: =D36/F36 -> 51.903189 | K36: =E36/G36 -> 49.094126 | L36: 46925596 | M36: =L36*K36 -> 2.3037711e+09 | N36: =(M36-M35)/M35*100 -> 3.8151236 | O36: =(M36-M32)/M32*100 -> -10.909536 | Q36: =M36/E36 -> 0.056442926
A37: ='GDP Durban'!A37 -> 2009q3 | B37: 39679.286 | C37: 242968.68 | D37: ='GDP Durban'!D37 -> 273323506000 | E37: ='GDP Durban'!E37 -> 4.3040562e+10 | F37: 5002707417 | G37: 835393434 | H37: =E37/D37*100 -> 15.747113 | I37: =G37/F37*100 -> 16.698827 | J37: =D37/F37 -> 54.635117 | K37: =E37/G37 -> 51.521307 | L37: 49355219 | M37: =L37*K37 -> 2.5428454e+09 | N37: =(M37-M36)/M36*100 -> 10.377518 | O37: =(M37-M33)/M33*100 -> -5.7168503 | Q37: =M37/E37 -> 0.059080209
A38: ='GDP Durban'!A38 -> 2009q4 | B38: 39679.286 | C38: 242968.68 | D38: ='GDP Durban'!D38 -> 299610191000 | E38: ='GDP Durban'!E38 -> 4.7267361e+10 | F38: 5074816265 | G38: 901763015 | H38: =E38/D38*100 -> 15.776286 | I38: =G38/F38*100 -> 17.769373 | J38: =D38/F38 -> 59.038628 | K38: =E38/G38 -> 52.416611 | L38: 53466632 | M38: =L38*K38 -> 2.8025397e+09 | N38: =(M38-M37)/M37*100 -> 10.212744 | O38: =(M38-M34)/M34*100 -> 5.4172058 | Q38: =M38/E38 -> 0.059291223
A39: ='GDP Durban'!A39 -> 2010q1 | B39: 39679.286 | C39: 242968.68 | D39: ='GDP Durban'!D39 -> 285241185000 | E39: ='GDP Durban'!E39 -> 4.4853074e+10 | M39: =E39*Q39 -> 2.7099464e+09 | N39: =(M39-M38)/M38*100 -> -3.3039059 | O39: =(M39-M35)/M35*100 -> 22.118651 | Q39: =(Q27+Q31+Q35)/3 -> 0.060418298
A40: ='GDP Durban'!A40 -> 2010q2 | B40: 39679.286 | C40: 242968.68 | D40: ='GDP Durban'!D40 -> 2.9174815e+11 | E40: ='GDP Durban'!E40 -> 4.6032482e+10 | M40: =E40*Q40 -> 2.8657338e+09 | N40: =(M40-M39)/M39*100 -> 5.7487268 | O40: =(M40-M36)/M36*100 -> 24.393165 | Q40: =(Q28+Q32+Q36)/3 -> 0.062254602
A41: ='GDP Durban'!A41 -> 2010q3 | B41: 39679.286 | C41: 242968.68 | D41: ='GDP Durban'!D41 -> 306929627000 | E41: ='GDP Durban'!E41 -> 4.8226615e+10 | M41: =E41*Q41 -> 3.0349825e+09 | N41: =(M41-M40)/M40*100 -> 5.9059452 | O41: =(M41-M37)/M37*100 -> 19.353795 | Q41: =(Q29+Q33+Q37)/3 -> 0.062931691
A42: ='GDP Durban'!A42 -> 2010q4 | B42: 39679.286 | C42: 242968.68 | D42: ='GDP Durban'!D42 -> 329091493000 | E42: ='GDP Durban'!E42 -> 5.2186667e+10 | M42: =E42*Q42 -> 3.1994269e+09 | N42: =(M42-M41)/M41*100 -> 5.4182978 | O42: =(M42-M38)/M38*100 -> 14.161698 | Q42: =(Q30+Q34+Q38)/3 -> 0.061307361
A43: ='GDP Durban'!A43 -> 2011q1 | B43: 39679.286 | C43: 242968.68 | D43: ='GDP Durban'!D43 -> 314059327000 | E43: ='GDP Durban'!E43 -> 4.9720628e+10 | M43: =E43*Q43 -> 2.9783002e+09 | N43: =(M43-M42)/M42*100 -> -6.9114451 | O43: =(M43-M39)/M39*100 -> 9.9025517 | Q43: =(Q31+Q35+Q39)/3 -> 0.059900696
A44: ='GDP Durban'!A44 -> 2011q2 | B44: 39679.286 | C44: 242968.68 | D44: ='GDP Durban'!D44 -> 325530789000 | E44: ='GDP Durban'!E44 -> 5.1629573e+10 | M44: =E44*Q44 -> 3.2190575e+09 | N44: =(M44-M43)/M43*100 -> 8.0837142 | O44: =(M44-M40)/M40*100 -> 12.329258 | Q44: =(Q32+Q36+Q40)/3 -> 0.062349102
A45: ='GDP Durban'!A45 -> 2011q3 | B45: 39679.286 | C45: 242968.68 | D45: ='GDP Durban'!D45 -> 338803833000 | E45: ='GDP Durban'!E45 -> 5.3591328e+10 | M45: =E45*Q45 -> 3.3897527e+09 | N45: =(M45-M44)/M44*100 -> 5.3026443 | O45: =(M45-M41)/M41*100 -> 11.689366 | Q45: =(Q33+Q37+Q41)/3 -> 0.063251888
A46: ='GDP Durban'!A46 -> 2011q4 | B46: 39679.286 | C46: 242968.68 | D46: ='GDP Durban'!D46 -> 3.5620136e+11 | E46: ='GDP Durban'!E46 -> 5.6800112e+10 | M46: =E46*Q46 -> 3.4696982e+09 | N46: =(M46-M45)/M45*100 -> 2.3584455 | O46: =(M46-M42)/M42*100 -> 8.4474907 | Q46: =(Q34+Q38+Q42)/3 -> 0.061086114
A47: ='GDP Durban'!A47 -> 2012q1 | B47: 39679.286 | C47: 242968.68 | D47: ='GDP Durban'!D47 -> 3.4251739e+11 | E47: ='GDP Durban'!E47 -> 5.4104678e+10 | M47: =E47*Q47 -> 3.1842112e+09 | N47: =(M47-M46)/M46*100 -> -8.2280063 | O47: =(M47-M43)/M43*100 -> 6.9137064 | Q47: =(Q35+Q39+Q43)/3 -> 0.058852788
A48: ='GDP Durban'!A48 -> 2012q2 | B48: 39679.286 | C48: 242968.68 | D48: ='GDP Durban'!D48 -> 354541860000 | E48: ='GDP Durban'!E48 -> 5.6107899e+10 | M48: =E48*Q48 -> 3.3860487e+09 | N48: =(M48-M47)/M47*100 -> 6.3386974 | O48: =(M48-M44)/M44*100 -> 5.1875795 | Q48: =(Q36+Q40+Q44)/3 -> 0.060348877
A49: ='GDP Durban'!A49 -> 2012q3 | B49: 39679.286 | C49: 242968.68 | D49: ='GDP Durban'!D49 -> 365014134000 | E49: ='GDP Durban'!E49 -> 5.7788104e+10 | M49: =E49*Q49 -> 3.568681e+09 | N49: =(M49-M48)/M48*100 -> 5.3936721 | O49: =(M49-M45)/M45*100 -> 5.2785078 | Q49: =(Q37+Q41+Q45)/3 -> 0.061754596
A50: ='GDP Durban'!A50 -> 2012q4 | B50: 39679.286 | C50: 242968.68 | D50: ='GDP Durban'!D50 -> 389528626000 | E50: ='GDP Durban'!E50 -> 6.2047315e+10 | M50: =E50*Q50 -> 3.7576826e+09 | N50: =(M50-M49)/M49*100 -> 5.2961178 | O50: =(M50-M46)/M46*100 -> 8.2999855 | Q50: =(Q38+Q42+Q46)/3 -> 0.060561566
... A54: ='GDP Durban'!A54 -> 2013q4 | B54: 39679.286 | C54: 242968.68 | D54: ='GDP Durban'!D54 -> 422522000000 | E54: ='GDP Durban'!E54 -> 6.7500788e+10 | M54: =E54*Q54 -> 4.1165365e+09 | N54: =(M54-M53)/M53*100 -> 4.3554485 | O54: =(M54-M50)/M50*100 -> 9.5498721 | Q54: =(Q42+Q46+Q50)/3 -> 0.060985014

Sheet GDP Port Shepstone
D1: Hibiscus Coast Municipal Area GOS
C2: SA GDP | D2: SA Quarterly GOS | E2: KZN Quarterly GOS | F2: SA Fuel Consumption | G2: KZN Fuel Consumption | H2: KZN GDP Ratio | I2: KZN Fuel Ratio | J2: SA Usage | K2: KZN Usage | L2: PS Fuel Usage | M2: Port Shepstone Quarterly GOS | N2: Port Shepstone Quarterly Rate | O2: Port Shepstone Annual Rate
A3: 2001g1 | B3: 37676.736 | C3: 228114.65 | D3: ='GDP Durban'!D3 -> 114100598000 | E3: ='GDP Durban'!E3 -> 1.8509079e+10
A4: 2001g2 | B4: 39785.999 | C4: 237077.62 | D4: ='GDP Durban'!D4 -> 116343457000 | E4: ='GDP Durban'!E4 -> 1.8924379e+10
A5: 2001g3 | B5: 40039.788 | C5: 239764.67 | D5: ='GDP Durban'!D5 -> 1.188284e+11 | E5: ='GDP Durban'!E5 -> 1.927354e+10
A6: 2001g4 | B6: 40074.592 | C6: 242416.26 | D6: ='GDP Durban'!D6 -> 125723549000 | E6: ='GDP Durban'!E6 -> 2.0473835e+10
A7: 2002g1 | B7: 38164.554 | C7: 234422.23 | D7: ='GDP Durban'!D7 -> 124995000000 | E7: ='GDP Durban'!E7 -> 2.0070238e+10 | F7: 4118958622 | G7: 674878797 | H7: =E7/D7*100 -> 16.056833 | I7: =G7/F7*100 -> 16.384695 | J7: =D7/F7 -> 30.346263 | K7: =E7/G7 -> 29.739026 | M7: =E7*$L$26 -> 6.128936e+08
A8: 2002g2 | B8: 40899.51 | C8: 246692 | D8: ='GDP Durban'!D8 -> 129917900000 | E8: ='GDP Durban'!E8 -> 2.0979094e+10 | F8: 4128329079 | G8: 697677279 | H8: =E8/D8*100 -> 16.147962 | I8: =G8/F8*100 -> 16.89975 | J8: =D8/F8 -> 31.469851 | K8: =E8/G8 -> 30.069911 | M8: =E8*$L$26 -> 6.4064772e+08 | N8: =(M8-M7)/M7*100 -> 4.5283754
A9: 2002g3 | B9: 40843.516 | C9: 248774.74 | D9: ='GDP Durban'!D9 -> 134099100000 | E9: ='GDP Durban'!E9 -> 2.15741e+10 | F9: 4479766142 | G9: 748604188 | H9: =E9/D9*100 -> 16.088177 | I9: =G9/F9*100 -> 16.710787 | J9: =D9/F9 -> 29.934397 | K9: =E9/G9 -> 28.819101 | M9: =E9*$L$26 -> 6.5881769e+08 | N9: =(M9-M8)/M8*100 -> 2.8361873
A10: 2002g4 | B10: 41049.653 | C10: 252232.95 | D10: ='GDP Durban'!D10 -> 139852000000 | E10: ='GDP Durban'!E10 -> 2.2625786e+10 | F10: 4393645140 | G10: 741841930 | H10: =E10/D10*100 -> 16.178379 | I10: =G10/F10*100 -> 16.88443 | J10: =D10/F10 -> 31.830518 | K10: =E10/G10 -> 30.499471 | M10: =E10*$L$26 -> 6.9093349e+08 | N10: =(M10-M9)/M9*100 -> 4.8747628
A11: ='GDP Durban'!A11 -> 2003q1 | B11: 39679.286 | C11: 242968.68 | D11: ='GDP Durban'!D11 -> 137333400000 | E11: ='GDP Durban'!E11 -> 2.2001489e+10 | F11: 4.3245102e+09 | G11: 7.3345414e+08 | H11: =E11/D11*100 -> 16.020494 | I11: =G11/F11*100 -> 16.960398 | J11: =D11/F11 -> 31.756984 | K11: =E11/G11 -> 29.997089 | M11: =E11*$L$26 -> 6.7186905e+08 | N11: =(M11-M10)/M10*100 -> -2.7592295 | O11: =(M11-M7)/M7*100 -> 9.6224616 | R11: Yearly Growth Rate %
A12: ='GDP Durban'!A12 -> 2003q2 | B12: 39679.286 | C12: 242968.68 | D12: ='GDP Durban'!D12 -> 141947400000 | E12: ='GDP Durban'!E12 -> 2.286885e+10 | F12: 4.3448327e+09 | G12: 7.3310499e+08 | H12: =E12/D12*100 -> 16.110792 | I12: =G12/F12*100 -> 16.873032 | J12: =D12/F12 -> 32.670395 | K12: =E12/G12 -> 31.194508 | M12: =E12*$L$26 -> 6.9835602e+08 | N12: =(M12-M11)/M11*100 -> 3.9422824 | O12: =(M12-M8)/M8*100 -> 9.0078059 | R12: 2001
A13: ='GDP Durban'!A13 -> 2003q3 | B13: 39679.286 | C13: 242968.68 | D13: ='GDP Durban'!D13 -> 145489200000 | E13: ='GDP Durban'!E13 -> 2.3362981e+10 | F13: 4.469508e+09 | G13: 7.5596579e+08 | H13: =E13/D13*100 -> 16.058224 | I13: =G13/F13*100 -> 16.913848 | J13: =D13/F13 -> 32.551503 | K13: =E13/G13 -> 30.904813 | M13: =E13*$L$26 -> 7.1344554e+08 | N13: =(M13-M12)/M12*100 -> 2.1607193 | O13: =(M13-M9)/M9*100 -> 8.2918004 | R13: =R12+1 -> 2002 | S13: =SUM(M7:M10) -> 2.6032925e+09
A14: ='GDP Durban'!A14 -> 2003q4 | B14: 39679.286 | C14: 242968.68 | D14: ='GDP Durban'!D14 -> 154218000000 | E14: ='GDP Durban'!E14 -> 2.488487e+10 | F14: 4.7924549e+09 | G14: 792421454 | H14: =E14/D14*100 -> 16.136165 | I14: =G14/F14*100 -> 16.534771 | J14: =D14/F14 -> 32.179333 | K14: =E14/G14 -> 31.40358 | M14: =E14*$L$26 -> 7.5992012e+08 | N14: =(M14-M13)/M13*100 -> 6.5141042 | O14: =(M14-M10)/M10*100 -> 9.9845549 | R14: =R13+1 -> 2003 | S14: =SUM(M11:M14) -> 2.8435907e+09 | T14: =(S14-S13)/S13*100 -> 9.2305508
A15: ='GDP Durban'!A15 -> 2004q1 | B15: 39679.286 | C15: 242968.68 | D15: ='GDP Durban'!D15 -> 151038350000 | E15: ='GDP Durban'!E15 -> 2.4019062e+10 | F15: 4.4993406e+09 | G15: 7.3594163e+08 | H15: =E15/D15*100 -> 15.902624 | I15: =G15/F15*100 -> 16.356655 | J15: =D15/F15 -> 33.568997 | K15: =E15/G15 -> 32.637183 | M15: =E15*$L$26 -> 7.3348054e+08 | N15: =(M15-M14)/M14*100 -> -3.4792572 | O15: =(M15-M11)/M11*100 -> 9.1701647 | R15: =R14+1 -> 2004 | S15: =SUM(M15:M18) -> 3.1091089e+09 | T15: =(S15-S14)/S14*100 -> 9.3374245
A16: ='GDP Durban'!A16 -> 2004q2 | B16: 39679.286 | C16: 242968.68 | D16: ='GDP Durban'!D16 -> 155074150000 | E16: ='GDP Durban'!E16 -> 2.4769506e+10 | F16: 4.5436772e+09 | G16: 7.6518177e+08 | H16: =E16/D16*100 -> 15.972685 | I16: =G16/F16*100 -> 16.840584 | J16: =D16/F16 -> 34.129658 | K16: =E16/G16 -> 32.370747 | M16: =E16*$L$26 -> 7.5639718e+08 | N16: =(M16-M15)/M15*100 -> 3.1243685 | O16: =(M16-M12)/M12*100 -> 8.3111129 | R16: =R15+1 -> 2005 | S16: =SUM(M19:M22) -> 3.4070684e+09 | T16: =(S16-S15)/S15*100 -> 9.5834378
A17: ='GDP Durban'!A17 -> 2004q3 | B17: 39679.286 | C17: 242968.68 | D17: ='GDP Durban'!D17 -> 158525750000 | E17: ='GDP Durban'!E17 -> 2.5342121e+10 | F17: 4.7754909e+09 | G17: 7.9366597e+08 | H17: =E17/D17*100 -> 15.986123 | I17: =G17/F17*100 -> 16.619568 | J17: =D17/F17 -> 33.195697 | K17: =E17/G17 -> 31.930462 | M17: =E17*$L$26 -> 7.7388338e+08 | N17: =(M17-M16)/M16*100 -> 2.3117749 | O17: =(M17-M13)/M13*100 -> 8.4712626 | R17: =R16+1 -> 2006 | S17: =SUM(M23:M26) -> 3.7632321e+09 | T17: =(S17-S16)/S16*100 -> 10.453671
A18: ='GDP Durban'!A18 -> 2004q4 | B18: 39679.286 | C18: 242968.68 | D18: ='GDP Durban'!D18 -> 172315750000 | E18: ='GDP Durban'!E18 -> 2.7682343e+10 | F18: 4.830257e+09 | G18: 826240651 | H18: =E18/D18*100 -> 16.064894 | I18: =G18/F18*100 -> 17.105521 | J18: =D18/F18 -> 35.67424 | K18: =E18/G18 -> 33.503971 | M18: =E18*$L$26 -> 8.4534776e+08 | N18: =(M18-M17)/M17*100 -> 9.2345152 | O18: =(M18-M14)/M14*100 -> 11.24166 | R18: =R17+1 -> 2007 | S18: =SUM(M27:M30) -> 4.2602904e+09 | T18: =(S18-S17)/S17*100 -> 13.208283
A19: ='GDP Durban'!A19 -> 2005q1 | B19: 39679.286 | C19: 242968.68 | D19: ='GDP Durban'!D19 -> 162994450000 | E19: ='GDP Durban'!E19 -> 2.5969991e+10 | F19: 4690209425 | G19: 774740717 | H19: =E19/D19*100 -> 15.933052 | I19: =G19/F19*100 -> 16.518254 | J19: =D19/F19 -> 34.752062 | K19: =E19/G19 -> 33.52088 | L19: =M31/E31 -> 0.029382039 | M19: =E19*$L$26 -> 7.9305691e+08 | N19: =(M19-M18)/M18*100 -> -6.1857198 | O19: =(M19-M15)/M15*100 -> 8.1224199 | R19: =R18+1 -> 2008 | S19: =SUM(M31:M34) -> 4.6377909e+09 | T19: =(S19-S18)/S18*100 -> 8.8609095
A20: ='GDP Durban'!A20 -> 2005q2 | B20: 39679.286 | C20: 242968.68 | D20: ='GDP Durban'!D20 -> 169724450000 | E20: ='GDP Durban'!E20 -> 2.7141137e+10 | F20: 4760343407 | G20: 805551748 | H20: =E20/D20*100 -> 15.991295 | I20: =G20/F20*100 -> 16.922135 | J20: =D20/F20 -> 35.653825 | K20: =E20/G20 -> 33.692606 | L20: =M32/E32 -> 0.028210021 | M20: =E20*$L$26 -> 8.2882073e+08 | N20: =(M20-M19)/M19*100 -> 4.5096154 | O20: =(M20-M16)/M16*100 -> 9.5748046 | R20: =R19+1 -> 2009 | S20: =SUM(M35:M38) -> 5.387731e+09 | T20: =(S20-S19)/S19*100 -> 16.1702
A21: ='GDP Durban'!A21 -> 2005q3 | B21: 39679.286 | C21: 242968.68 | D21: ='GDP Durban'!D21 -> 176822000000 | E21: ='GDP Durban'!E21 -> 2.8172267e+10 | F21: 4824982237 | G21: 802738840 | H21: =E21/D21*100 -> 15.932557 | I21: =G21/F21*100 -> 16.637136 | J21: =D21/F21 -> 36.647182 | K21: =E21/G21 -> 35.095183 | L21: =M33/E33 -> 0.028348993 | M21: =E21*$L$26 -> 8.6030877e+08 | N21: =(M21-M20)/M20*100 -> 3.7991378 | O21: =(M21-M17)/M17*100 -> 11.167754 | R21: =R20+1 -> 2010 | S21: =SUM(M39:M42) -> 5.8553201e+09 | T21: =(S21-S20)/S20*100 -> 8.6787762
A22: ='GDP Durban'!A22 -> 2005q4 | B22: 39679.286 | C22: 242968.68 | D22: ='GDP Durban'!D22 -> 189477100000 | E22: ='GDP Durban'!E22 -> 3.0286825e+10 | F22: 5011501336 | G22: 832010091 | H22: =E22/D22*100 -> 15.984425 | I22: =G22/F22*100 -> 16.602013 | J22: =D22/F22 -> 37.80845 | K22: =E22/G22 -> 36.401992 | L22: =M34/E34 -> 0.032533269 | M22: =E22*$L$26 -> 9.2488196e+08 | N22: =(M22-M21)/M21*100 -> 7.5058151 | O22: =(M22-M18)/M18*100 -> 9.4084593 | R22: =R21+1 -> 2011 | S22: =SUM(M43:M46) -> 6.4844786e+09 | T22: =(S22-S21)/S21*100 -> 10.745074
A23: ='GDP Durban'!A23 -> 2006q1 | B23: 39679.286 | C23: 242968.68 | D23: ='GDP Durban'!D23 -> 182102400000 | E23: ='GDP Durban'!E23 -> 2.8799052e+10 | F23: 4675546289 | G23: 750919883 | H23: =E23/D23*100 -> 15.814757 | I23: =G23/F23*100 -> 16.060581 | J23: =D23/F23 -> 38.947834 | K23: =E23/G23 -> 38.351697 | L23: =M35/E35 -> 0.032067124 | M23: =E23*$L$26 -> 8.7944919e+08 | N23: =(M23-M22)/M22*100 -> -4.9122778 | O23: =(M23-M19)/M19*100 -> 10.893578 | R23: =R22+1 -> 2012 | S23: =SUM(M47:M50) -> 7.1178685e+09 | T23: =(S23-S22)/S22*100 -> 9.7677849
A24: ='GDP Durban'!A24 -> 2006q2 | B24: 39679.286 | C24: 242968.68 | D24: ='GDP Durban'!D24 -> 186349400000 | E24: ='GDP Durban'!E24 -> 2.9647297e+10 | F24: 4859349229 | G24: 811777848 | H24: =E24/D24*100 -> 15.909521 | I24: =G24/F24*100 -> 16.705485 | J24: =D24/F24 -> 38.348633 | K24: =E24/G24 -> 36.521441 | L24: =M36/E36 -> 0.031738317 | M24: =E24*$L$26 -> 9.0535242e+08 | N24: =(M24-M23)/M23*100 -> 2.9453927 | O24: =(M24-M20)/M20*100 -> 9.2338047 | R24: =R23+1 -> 2013 | S24: =SUM(M51:M54) -> 7.7006927e+09 | T24: =(S24-S23)/S23*100 -> 8.1881852
A25: ='GDP Durban'!A25 -> 2006q3 | B25: 39679.286 | C25: 242968.68 | D25: ='GDP Durban'!D25 -> 197151200000 | E25: ='GDP Durban'!E25 -> 3.1142549e+10 | F25: 4906222423 | G25: 827883368 | H25: =E25/D25*100 -> 15.796277 | I25: =G25/F25*100 -> 16.874151 | J25: =D25/F25 -> 40.18391 | K25: =E25/G25 -> 37.617073 | L25: =L37/G37 -> 0.031482285 | M25: =E25*$L$26 -> 9.5101358e+08 | N25: =(M25-M24)/M24*100 -> 5.0434682 | O25: =(M25-M21)/M21*100 -> 10.543285
A26: ='GDP Durban'!A26 -> 2006q4 | B26: 39679.286 | C26: 242968.68 | D26: ='GDP Durban'!D26 -> 211950000000 | E26: ='GDP Durban'!E26 -> 3.3644505e+10 | F26: 5280826192 | G26: 873224453 | H26: =E26/D26*100 -> 15.873794 | I26: =G26/F26*100 -> 16.535754 | J26: =D26/F26 -> 40.135765 | K26: =E26/G26 -> 38.529046 | L26: =AVERAGE(L19:L25) -> 0.030537435 | M26: =E26*$L$26 -> 1.0274169e+09 | N26: =(M26-M25)/M25*100 -> 8.0338847 | O26: =(M26-M22)/M22*100 -> 11.086275 | Q26: =M26/E26 -> 0.030537435
A27: ='GDP Durban'!A27 -> 2007q1 | B27: 39679.286 | C27: 242968.68 | D27: ='GDP Durban'!D27 -> 203461000000 | E27: ='GDP Durban'!E27 -> 3.2145058e+10 | F27: 5154329343 | G27: 833477953 | H27: =E27/D27*100 -> 15.799125 | I27: =G27/F27*100 -> 16.170444 | J27: =D27/F27 -> 39.473807 | K27: =E27/G27 -> 38.567376 | M27: =E27*$L$26 -> 9.8162763e+08 | N27: =(M27-M26)/M26*100 -> -4.4567388 | O27: =(M27-M23)/M23*100 -> 11.618459 | Q27: =M27/E27 -> 0.030537435
A28: ='GDP Durban'!A28 -> 2007q2 | B28: 39679.286 | C28: 242968.68 | D28: ='GDP Durban'!D28 -> 213026150000 | E28: ='GDP Durban'!E28 -> 3.3735842e+10 | F28: 5056692012 | G28: 821281896 | H28: =E28/D28*100 -> 15.836479 | I28: =G28/F28*100 -> 16.241485 | J28: =D28/F28 -> 42.127571 | K28: =E28/G28 -> 41.077055 | M28: =E28*$L$26 -> 1.0302061e+09 | N28: =(M28-M27)/M27*100 -> 4.9487672 | O28: =(M28-M24)/M24*100 -> 13.790616 | Q28: =M28/E28 -> 0.030537435
A29: ='GDP Durban'!A29 -> 2007q3 | B29: 39679.286 | C29: 242968.68 | D29: ='GDP Durban'!D29 -> 223253000000 | E29: ='GDP Durban'!E29 -> 3.5218507e+10 | F29: 5400223668 | G29: 898105429 | H29: =E29/D29*100 -> 15.775155 | I29: =G29/F29*100 -> 16.630893 | J29: =D29/F29 -> 41.341436 | K29: =E29/G29 -> 39.214223 | M29: =E29*$L$26 -> 1.0754829e+09 | N29: =(M29-M28)/M28*100 -> 4.3949243 | O29: =(M29-M25)/M25*100 -> 13.088067 | Q29: =M29/E29 -> 0.030537435
A30: ='GDP Durban'!A30 -> 2007q4 | B30: 39679.286 | C30: 242968.68 | D30: ='GDP Durban'!D30 -> 242639030000 | E30: ='GDP Durban'!E30 -> 3.8411013e+10 | F30: 5579296845 | G30: 902642355 | H30: =E30/D30*100 -> 15.830517 | I30: =G30/F30*100 -> 16.178425 | J30: =D30/F30 -> 43.489177 | K30: =E30/G30 -> 42.553967 | M30: =E30*$L$26 -> 1.1729738e+09 | N30: =(M30-M29)/M29*100 -> 9.064856 | O30: =(M30-M26)/M26*100 -> 14.16727 | Q30: =M30/E30 -> 0.030537435
A31: ='GDP Durban'!A31 -> 2008q1 | B31: 39679.286 | C31: 242968.68 | D31: ='GDP Durban'!D31 -> 229576413000 | E31: ='GDP Durban'!E31 -> 3.6129743e+10 | F31: 5543646776 | G31: 903654581 | H31: =E31/D31*100 -> 15.737568 | I31: =G31/F31*100 -> 16.300724 | J31: =D31/F31 -> 41.412525 | K31: =E31/G31 -> 39.981807 | L31: 26551214 | M31: =L31*K31 -> 1.0615655e+09 | N31: =(M31-M30)/M30*100 -> -9.4979372 | O31: =(M31-M27)/M27*100 -> 8.1434035 | Q31: =M31/E31 -> 0.029382039
A32: ='GDP Durban'!A32 -> 2008q2 | B32: 39679.286 | C32: 242968.68 | D32: ='GDP Durban'!D32 -> 239954449000 | E32: ='GDP Durban'!E32 -> 3.783302e+10 | F32: 5265926862 | G32: 890416751 | H32: =E32/D32*100 -> 15.766751 | I32: =G32/F32*100 -> 16.909022 | J32: =D32/F32 -> 45.567372 | K32: =E32/G32 -> 42.489115 | L32: 25118675 | M32: =L32*K32 -> 1.0672703e+09 | N32: =(M32-M31)/M31*100 -> 0.5373905 | O32: =(M32-M28)/M28*100 -> 3.5977447 | Q32: =M32/E32 -> 0.028210021
A33: ='GDP Durban'!A33 -> 2008q3 | B33: 39679.286 | C33: 242968.68 | D33: ='GDP Durban'!D33 -> 2.5360212e+11 | E33: ='GDP Durban'!E33 -> 3.9812235e+10 | F33: 5202135900 | G33: 869415812 | H33: =E33/D33*100 -> 15.698699 | I33: =G33/F33*100 -> 16.71267 | J33: =D33/F33 -> 48.749615 | K33: =E33/G33 -> 45.791938 | L33: 24647063 | M33: =L33*K33 -> 1.1286368e+09 | N33: =(M33-M32)/M32*100 -> 5.7498564 | O33: =(M33-M29)/M29*100 -> 4.9423302 | Q33: =M33/E33 -> 0.028348993
A34: ='GDP Durban'!A34 -> 2008q4 | B34: 39679.286 | C34: 242968.68 | D34: ='GDP Durban'!D34 -> 2.6873946e+11 | E34: ='GDP Durban'!E34 -> 4.2427901e+10 | F34: 5460259824 | G34: 899391940 | H34: =E34/D34*100 -> 15.787746 | I34: =G34/F34*100 -> 16.471596 | J34: =D34/F34 -> 49.217338 | K34: =E34/G34 -> 47.173984 | L34: 29260160 | M34: =L34*K34 -> 1.3803183e+09 | N34: =(M34-M33)/M33*100 -> 22.299605 | O34: =(M34-M30)/M30*100 -> 17.676821 | Q34: =M34/E34 -> 0.032533269
A35: ='GDP Durban'!A35 -> 2009q1 | B35: 39679.286 | C35: 242968.68 | D35: ='GDP Durban'!D35 -> 251142685000 | E35: ='GDP Durban'!E35 -> 3.945829e+10 | F35: 5206564996 | G35: 842784368 | H35: =E35/D35*100 -> 15.711503 | I35: =G35/F35*100 -> 16.186956 | J35: =D35/F35 -> 48.235773 | K35: =E35/G35 -> 46.818962 | L35: 27025671 | M35: =L35*K35 -> 1.2653139e+09 | N35: =(M35-M34)/M34*100 -> -8.3317344 | O35: =(M35-M31)/M31*100 -> 19.193195 | Q35: =M35/E35 -> 0.032067124
A36: ='GDP Durban'!A36 -> 2009q2 | B36: 39679.286 | C36: 242968.68 | D36: ='GDP Durban'!D36 -> 259238107000 | E36: ='GDP Durban'!E36 -> 4.081594e+10 | F36: 4994646966 | G36: 831381344 | H36: =E36/D36*100 -> 15.744576 | I36: =G36/F36*100 -> 16.645448 | J36: =D36/F36 -> 51.903189 | K36: =E36/G36 -> 49.094126 | L36: 26386645 | M36: =L36*K36 -> 1.2954293e+09 | N36: =(M36-M35)/M35*100 -> 2.3800733 | O36: =(M36-M32)/M32*100 -> 21.377808 | Q36: =M36/E36 -> 0.031738317
A37: ='GDP Durban'!A37 -> 2009q3 | B37: 39679.286 | C37: 242968.68 | D37: ='GDP Durban'!D37 -> 273323506000 | E37: ='GDP Durban'!E37 -> 4.3040562e+10 | F37: 5002707417 | G37: 835393434 | H37: =E37/D37*100 -> 15.747113 | I37: =G37/F37*100 -> 16.698827 | J37: =D37/F37 -> 54.635117 | K37: =E37/G37 -> 51.521307 | L37: 26300094 | M37: =L37*K37 -> 1.3550152e+09 | N37: =(M37-M36)/M36*100 -> 4.5997066 | O37: =(M37-M33)/M33*100 -> 20.057687 | Q37: =M37/E37 -> 0.031482285
