Workbook

Sheet Tourism and Migration
A1: TOURISM AND MIGRATION
A3: NUMBER OF SOUTH AFRICAN RESIDENTS AND FOREIGN TRAVELLERS (KING SHAKA AIRPORT) | O3: NUMBER OF TOURISTS FROM AFRICA TO KING SHAKA AIRPORT
B5: =Travellers!B3 -> South African residents | F5: =Travellers!F3 -> Foreign travellers | P5: =Tourists!N3 -> Africa
B6: =Travellers!B4 -> Arrivals | D6: =Travellers!D4 -> Departures | F6: =Travellers!F4 -> Arrivals | H6: =Travellers!H4 -> Departures | P6: =Tourists!N4 -> King Shaka | Q6: =Tourists!O4 -> Total
B7: =Travellers!B5 -> King Shaka | C7: =Travellers!C5 -> Total | D7: =Travellers!D5 -> King Shaka | E7: =Travellers!E5 -> Total | F7: =Travellers!F5 -> King Shaka | G7: =Travellers!G5 -> Total | H7: =Travellers!H5 -> King Shaka | I7: =Travellers!I5 -> Total | O7: 39083 | P7: =Tourists!N53 -> 279 | Q7: =Tourists!O53 -> 40398
A8: 38718 | B8: =Travellers!B42 -> 1204 | C8: =Travellers!C42 -> 169465 | D8: =Travellers!D42 -> 914 | E8: =Travellers!E42 -> 128716 | F8: =Travellers!F42 -> 446 | G8: =Travellers!G42 -> 199024 | H8: =Travellers!H42 -> 455 | I8: =Travellers!I42 -> 207014 | O8: 39114 | P8: =Tourists!N54 -> 199 | Q8: =Tourists!O54 -> 38832
A9: 38749 | B9: =Travellers!B43 -> 712 | C9: =Travellers!C43 -> 98109 | D9: =Travellers!D43 -> 1006 | E9: =Travellers!E43 -> 102469 | F9: =Travellers!F43 -> 452 | G9: =Travellers!G43 -> 205613 | H9: =Travellers!H43 -> 284 | I9: =Travellers!I43 -> 188471 | O9: 39142 | P9: =Tourists!N55 -> 249 | Q9: =Tourists!O55 -> 33875
A10: 38777 | B10: =Travellers!B44 -> 1065 | C10: =Travellers!C44 -> 122506 | D10: =Travellers!D44 -> 986 | E10: =Travellers!E44 -> 133553 | F10: =Travellers!F44 -> 318 | G10: =Travellers!G44 -> 198395 | H10: =Travellers!H44 -> 454 | I10: =Travellers!I44 -> 208249 | O10: 39173 | P10: =Tourists!N56 -> 261 | Q10: =Tourists!O56 -> 41868
A11: 38808 | B11: =Travellers!B45 -> 1140 | C11: =Travellers!C45 -> 136197 | D11: =Travellers!D45 -> 1282 | E11: =Travellers!E45 -> 144702 | F11: =Travellers!F45 -> 492 | G11: =Travellers!G45 -> 178902 | H11: =Travellers!H45 -> 350 | I11: =Travellers!I45 -> 187574 | O11: 39203 | P11: =Tourists!N57 -> 255 | Q11: =Tourists!O57 -> 41502
A12: 38838 | B12: =Travellers!B46 -> 1047 | C12: =Travellers!C46 -> 129843 | D12: =Travellers!D46 -> 1102 | E12: =Travellers!E46 -> 137242 | F12: =Travellers!F46 -> 383 | G12: =Travellers!G46 -> 149832 | H12: =Travellers!H46 -> 414 | I12: =Travellers!I46 -> 150595 | O12: 39234 | P12: =Tourists!N58 -> 240 | Q12: =Tourists!O58 -> 39781
A13: 38869 | B13: =Travellers!B47 -> 842 | C13: =Travellers!C47 -> 129628 | D13: =Travellers!D47 -> 985 | E13: =Travellers!E47 -> 173276 | F13: =Travellers!F47 -> 524 | G13: =Travellers!G47 -> 138095 | H13: =Travellers!H47 -> 269 | I13: =Travellers!I47 -> 129644 | O13: 39264 | P13: =Tourists!N59 -> 364 | Q13: =Tourists!O59 -> 48554
A14: 38899 | B14: =Travellers!B48 -> 1100 | C14: =Travellers!C48 -> 181193 | D14: =Travellers!D48 -> 960 | E14: =Travellers!E48 -> 136780 | F14: =Travellers!F48 -> 481 | G14: =Travellers!G48 -> 180586 | H14: =Travellers!H48 -> 423 | I14: =Travellers!I48 -> 144568 | O14: 39295 | P14: =Tourists!N60 -> 260 | Q14: =Tourists!O60 -> 49378
A15: 38930 | B15: =Travellers!B49 -> 876 | C15: =Travellers!C49 -> 130458 | D15: =Travellers!D49 -> 993 | E15: =Travellers!E49 -> 140944 | F15: =Travellers!F49 -> 403 | G15: =Travellers!G49 -> 185155 | H15: =Travellers!H49 -> 437 | I15: =Travellers!I49 -> 180622 | O15: 39326 | P15: =Tourists!N61 -> 216 | Q15: =Tourists!O61 -> 44323
A16: 38961 | B16: =Travellers!B50 -> 1010 | C16: =Travellers!C50 -> 149807 | D16: =Travellers!D50 -> 1251 | E16: =Travellers!E50 -> 156018 | F16: =Travellers!F50 -> 513 | G16: =Travellers!G50 -> 186530 | H16: =Travellers!H50 -> 534 | I16: =Travellers!I50 -> 166512 | O16: 39356 | P16: =Tourists!N62 -> 305 | Q16: =Tourists!O62 -> 46254
A17: 38991 | B17: =Travellers!B51 -> 1165 | C17: =Travellers!C51 -> 143069 | D17: =Travellers!D51 -> 1085 | E17: =Travellers!E51 -> 122630 | F17: =Travellers!F51 -> 352 | G17: =Travellers!G51 -> 227027 | H17: =Travellers!H51 -> 348 | I17: =Travellers!I51 -> 195284 | O17: 39387 | P17: =Tourists!N63 -> 278 | Q17: =Tourists!O63 -> 49188
A18: 39022 | B18: =Travellers!B52 -> 898 | C18: =Travellers!C52 -> 126129 | D18: =Travellers!D52 -> 941 | E18: =Travellers!E52 -> 129924 | F18: =Travellers!F52 -> 403 | G18: =Travellers!G52 -> 230144 | H18: =Travellers!H52 -> 414 | I18: =Travellers!I52 -> 219384 | O18: 39417 | P18: =Tourists!N64 -> 273 | Q18: =Tourists!O64 -> 48459
A19: 39052 | B19: =Travellers!B53 -> 1122 | C19: =Travellers!C53 -> 158507 | D19: =Travellers!D53 -> 1537 | E19: =Travellers!E53 -> 186161 | F19: =Travellers!F53 -> 505 | G19: =Travellers!G53 -> 238516 | H19: =Travellers!H53 -> 280 | I19: =Travellers!I53 -> 189893 | O19: 39448 | P19: =Tourists!N65 -> 258 | Q19: =Tourists!O65 -> 47593
... A88: 41153 | B88: =Travellers!B122 -> 5264 | C88: =Travellers!C122 -> 154939 | D88: =Travellers!D122 -> 6595 | E88: =Travellers!E122 -> 168315 | F88: =Travellers!F122 -> 3530 | G88: =Travellers!G122 -> 297716 | H88: =Travellers!H122 -> 3175 | I88: =Travellers!I122 -> 217960 | O88: 41548 | P88: =Tourists!N134 -> 601 | Q88: =Tourists!O134 -> 67553
A89: 41183 | B89: =Travellers!B123 -> 6044 | C89: =Travellers!C123 -> 158434 | D89: =Travellers!D123 -> 4846 | E89: =Travellers!E123 -> 137214 | F89: =Travellers!F123 -> 3912 | G89: =Travellers!G123 -> 322792 | H89: =Travellers!H123 -> 3215 | I89: =Travellers!I123 -> 241343 | O89: 41579 | P89: 549 | Q89: 72628
A90: 41214 | B90: =Travellers!B124 -> 4467 | C90: =Travellers!C124 -> 129782 | D90: =Travellers!D124 -> 4352 | E90: =Travellers!E124 -> 127741 | F90: =Travellers!F124 -> 3680 | G90: =Travellers!G124 -> 317194 | H90: =Travellers!H124 -> 3624 | I90: =Travellers!I124 -> 261657 | O90: 41609 | P90: 675 | Q90: 75335
A91: 41244 | B91: =Travellers!B125 -> 6777 | C91: =Travellers!C125 -> 172199 | D91: =Travellers!D125 -> 9034 | E91: =Travellers!E125 -> 207496 | F91: =Travellers!F125 -> 4786 | G91: =Travellers!G125 -> 323554 | H91: =Travellers!H125 -> 3240 | I91: =Travellers!I125 -> 257795
A92: 41275 | B92: =Travellers!B126 -> 6524 | C92: =Travellers!C126 -> 173374 | D92: =Travellers!D126 -> 4309 | E92: =Travellers!E126 -> 129483 | F92: =Travellers!F126 -> 2229 | G92: =Travellers!G126 -> 297915 | H92: =Travellers!H126 -> 3690 | I92: =Travellers!I126 -> 250758
A93: 41306 | B93: =Travellers!B127 -> 4934 | C93: =Travellers!C127 -> 104485 | D93: =Travellers!D127 -> 5239 | E93: =Travellers!E127 -> 106703 | F93: =Travellers!F127 -> 4558 | G93: =Travellers!G127 -> 310758 | H93: =Travellers!H127 -> 4078 | I93: =Travellers!I127 -> 257242
A94: 41334 | B94: =Travellers!B128 -> 5971 | C94: =Travellers!C128 -> 139965 | D94: =Travellers!D128 -> 7034 | E94: =Travellers!E128 -> 156280 | F94: =Travellers!F128 -> 5561 | G94: =Travellers!G128 -> 326017 | H94: =Travellers!H128 -> 5289 | I94: =Travellers!I128 -> 287443
A95: 41365 | B95: =Travellers!B129 -> 6975 | C95: =Travellers!C129 -> 149666 | D95: =Travellers!D129 -> 6391 | E95: =Travellers!E129 -> 150861 | F95: =Travellers!F129 -> 3975 | G95: =Travellers!G129 -> 273633 | H95: =Travellers!H129 -> 5500 | I95: =Travellers!I129 -> 256528
A96: 41395 | B96: =Travellers!B130 -> 5686 | C96: =Travellers!C130 -> 140254 | D96: =Travellers!D130 -> 6184 | E96: =Travellers!E130 -> 141615 | F96: =Travellers!F130 -> 3899 | G96: =Travellers!G130 -> 252189 | H96: =Travellers!H130 -> 4080 | I96: =Travellers!I130 -> 218149
A97: 41426 | B97: =Travellers!B131 -> 6045 | C97: =Travellers!C131 -> 145757 | D97: =Travellers!D131 -> 8598 | E97: =Travellers!E131 -> 188780 | F97: =Travellers!F131 -> 3534 | G97: =Travellers!G131 -> 240095 | H97: =Travellers!H131 -> 3571 | I97: =Travellers!I131 -> 200490
A98: 41456 | B98: =Travellers!B132 -> 9604 | C98: =Travellers!C132 -> 192756 | D98: =Travellers!D132 -> 6321 | E98: =Travellers!E132 -> 142514 | F98: =Travellers!F132 -> 5079 | G98: =Travellers!G132 -> 298248 | H98: =Travellers!H132 -> 4213 | I98: =Travellers!I132 -> 220314
A99: 41487 | B99: =Travellers!B133 -> 5669 | C99: =Travellers!C133 -> 141124 | D99: =Travellers!D133 -> 6889 | E99: =Travellers!E133 -> 150873 | F99: =Travellers!F133 -> 4537 | G99: =Travellers!G133 -> 330286 | H99: =Travellers!H133 -> 5386 | I99: =Travellers!I133 -> 258409
A100: 41518 | B100: =Travellers!B134 -> 3485 | C100: =Travellers!C134 -> 156333 | D100: =Travellers!D134 -> 5198 | E100: =Travellers!E134 -> 165710 | F100: =Travellers!F134 -> 2109 | G100: =Travellers!G134 -> 315561 | H100: =Travellers!H134 -> 1963 | I100: =Travellers!I134 -> 232414
A101: 41548 | B101: =Travellers!B135 -> 7124 | C101: =Travellers!C135 -> 153051 | D101: =Travellers!D135 -> 5994 | E101: =Travellers!E135 -> 135518 | F101: =Travellers!F135 -> 5180 | G101: =Travellers!G135 -> 349119 | H101: =Travellers!H135 -> 4388 | I101: =Travellers!I135 -> 254508
A102: 41579 | B102: =Travellers!B136 -> 5746 | C102: =Travellers!C136 -> 131650 | D102: =Travellers!D136 -> 6089 | E102: =Travellers!E136 -> 128830 | F102: =Travellers!F136 -> 4214 | G102: =Travellers!G136 -> 354955 | H102: =Travellers!H136 -> 4833 | I102: =Travellers!I136 -> 287977
A103: 41609 | B103: =Travellers!B137 -> 8961 | C103: =Travellers!C137 -> 171930 | D103: =Travellers!D137 -> 12608 | E103: =Travellers!E137 -> 213722 | F103: =Travellers!F137 -> 5388 | G103: =Travellers!G137 -> 368072 | H103: =Travellers!H137 -> 3956 | I103: =Travellers!I137 -> 281322

Sheet Travellers
A1: NUMBER OF SOUTH AFRICAN RESIDENTS AND FOREIGN TRAVELLERS TO AND FROM KING SHAKA AIRPORT
B3: South African residents | F3: Foreign travellers | J3: Visitors
B4: Arrivals | D4: Departures | F4: Arrivals | H4: Departures | J4: Same Day | L4: Overnight (Tourists)
B5: King Shaka | C5: Total | D5: King Shaka | E5: Total | F5: King Shaka | G5: Total | H5: King Shaka | I5: Total | J5: King Shaka | K5: Total | L5: King Shaka | M5: Total
A6: 37622 | B6: 1557 | C6: 114468 | D6: 1247 | E6: 100850 | F6: 501 | G6: 175568 | H6: 663 | I6: 190560 | J6: 0 | K6: 0 | L6: 0 | M6: 0
A7: 37653 | B7: 1311 | C7: 85027 | D7: 891 | E7: 87519 | F7: 482 | G7: 188080 | H7: 338 | I7: 168471 | J7: 0 | K7: 0 | L7: 0 | M7: 0
A8: 37681 | B8: 446 | C8: 73550 | D8: 531 | E8: 82080 | F8: 481 | G8: 176266 | H8: 432 | I8: 201090 | J8: 0 | K8: 0 | L8: 0 | M8: 0
A9: 37712 | B9: 86 | C9: 32518 | D9: 109 | E9: 31721 | F9: 534 | G9: 155572 | H9: 436 | I9: 165116 | J9: 0 | K9: 0 | L9: 0 | M9: 0
A10: 37742 | B10: 0 | C10: 0 | D10: 0 | E10: 0 | F10: 714 | G10: 123250 | H10: 637 | I10: 132963 | J10: 0 | K10: 0 | L10: 0 | M10: 0
A11: 37773 | B11: 0 | C11: 0 | D11: 0 | E11: 0 | F11: 482 | G11: 114739 | H11: 385 | I11: 112652 | J11: 0 | K11: 0 | L11: 0 | M11: 0
A12: 37803 | B12: 0 | C12: 0 | D12: 0 | E12: 0 | F12: 754 | G12: 147942 | H12: 663 | I12: 125449 | J12: 0 | K12: 0 | L12: 0 | M12: 0
A13: 37834 | B13: 0 | C13: 0 | D13: 0 | E13: 0 | F13: 676 | G13: 156582 | H13: 689 | I13: 159986 | J13: 0 | K13: 0 | L13: 0 | M13: 0
A14: 37865 | B14: 0 | C14: 0 | D14: 0 | E14: 0 | F14: 577 | G14: 152909 | H14: 488 | I14: 135350 | J14: 0 | K14: 0 | L14: 0 | M14: 0
A15: 37895 | B15: 0 | C15: 0 | D15: 0 | E15: 0 | F15: 607 | G15: 192447 | H15: 605 | I15: 171224 | J15: 0 | K15: 0 | L15: 0 | M15: 0
A16: 37926 | B16: 0 | C16: 0 | D16: 0 | E16: 0 | F16: 765 | G16: 197374 | H16: 697 | I16: 195549 | J16: 0 | K16: 0 | L16: 0 | M16: 0
A17: 37956 | B17: 0 | C17: 0 | D17: 0 | E17: 0 | F17: 889 | G17: 199682 | H17: 686 | I17: 162768 | J17: 0 | K17: 0 | L17: 0 | M17: 0
... A137: 41609 | B137: 8961 | C137: 171930 | D137: 12608 | E137: 213722 | F137: 5388 | G137: 368072 | H137: 3956 | I137: 281322 | J137: 11 | K137: 16670 | L137: 4308 | M137: 320852
A138: Total | B138: =SUM(B6:B137) -> 324367 | C138: =SUM(C6:C137) -> 14456098 | D138: =SUM(D6:D137) -> 335695 | E138: =SUM(E6:E137) -> 14746375 | F138: =SUM(F6:F137) -> 214616 | G138: =SUM(G6:G137) -> 29218740 | H138: =SUM(H6:H137) -> 199944 | I138: =SUM(I6:I137) -> 26497290 | ... M138: =SUM(M6:M137) -> 13433312
A140: MONTHLY AVERAGE
B141: South African residents | F141: Foreign travellers | J141: Visitors
B142: Arrivals | D142: Departures | F142: Arrivals | H142: Departures | J142: Same Day | L142: Overnight (Tourists)
B143: King Shaka | C143: Total | D143: King Shaka | E143: Total | F143: King Shaka | G143: Total | H143: King Shaka | I143: Total | J143: King Shaka | K143: Total | L143: King Shaka | M143: Total
A144: Average 2005 | B144: =AVERAGE(B30:B41) -> 0 | C144: =AVERAGE(C30:C41) -> 0 | D144: =AVERAGE(D30:D41) -> 0 | E144: =AVERAGE(E30:E41) -> 0 | F144: =AVERAGE(F30:F41) -> 381.91667 | G144: =AVERAGE(G30:G41) -> 177243.25 | H144: =AVERAGE(H30:H41) -> 350.66667 | I144: =AVERAGE(I30:I41) -> 170754.42 | ... M144: =AVERAGE(M30:M41) -> 0
A145: Average 2006 | B145: =AVERAGE(B42:B53) -> 1015.0833 | C145: =AVERAGE(C42:C53) -> 139575.92 | D145: =AVERAGE(D42:D53) -> 1086.8333 | E145: =AVERAGE(E42:E53) -> 141034.58 | F145: =AVERAGE(F42:F53) -> 439.33333 | G145: =AVERAGE(G42:G53) -> 193151.58 | H145: =AVERAGE(H42:H53) -> 388.5 | I145: =AVERAGE(I42:I53) -> 180650.83 | ... M145: =AVERAGE(M42:M53) -> 0
A146: Average 2007 | B146: =AVERAGE(B54:B65) -> 1150.25 | C146: =AVERAGE(C54:C65) -> 146210.42 | D146: =AVERAGE(D54:D65) -> 1233.9167 | E146: =AVERAGE(E54:E65) -> 148473.08 | F146: =AVERAGE(F54:F65) -> 465.08333 | G146: =AVERAGE(G54:G65) -> 208413.83 | H146: =AVERAGE(H54:H65) -> 438.66667 | I146: =AVERAGE(I54:I65) -> 196790.92 | ... M146: =AVERAGE(M54:M65) -> 0
A147: Average 2008 | B147: =AVERAGE(B66:B77) -> 1207.1667 | C147: =AVERAGE(C66:C77) -> 147080.92 | D147: =AVERAGE(D66:D77) -> 1211.5833 | E147: =AVERAGE(E66:E77) -> 154652.92 | F147: =AVERAGE(F66:F77) -> 454 | G147: =AVERAGE(G66:G77) -> 215112.67 | H147: =AVERAGE(H66:H77) -> 499.08333 | I147: =AVERAGE(I66:I77) -> 201531.42 | ... M147: =AVERAGE(M66:M77) -> 0
A148: Average 2009 | B148: =AVERAGE(B78:B89) -> 1725 | C148: =AVERAGE(C78:C89) -> 137031.17 | D148: =AVERAGE(D78:D89) -> 1799.0833 | E148: =AVERAGE(E78:E89) -> 144351.75 | F148: =AVERAGE(F78:F89) -> 1062.8333 | G148: =AVERAGE(G78:G89) -> 200669.92 | H148: =AVERAGE(H78:H89) -> 798.66667 | I148: =AVERAGE(I78:I89) -> 200200.83 | ... M148: =AVERAGE(M78:M89) -> 174603.08
A149: Average 2010 | B149: =AVERAGE(B90:B101) -> 4202.75 | C149: =AVERAGE(C90:C101) -> 153765.83 | D149: =AVERAGE(D90:D101) -> 4418.25 | E149: =AVERAGE(E90:E101) -> 156522.5 | F149: =AVERAGE(F90:F101) -> 3260.1667 | G149: =AVERAGE(G90:G101) -> 264840.83 | H149: =AVERAGE(H90:H101) -> 2730.3333 | I149: =AVERAGE(I90:I101) -> 232457.33 | ... M149: =AVERAGE(M90:M101) -> 228242.5
A150: Average 2011 | B150: =AVERAGE(B102:B113) -> 5212.0833 | C150: =AVERAGE(C102:C113) -> 154443.42 | D150: =AVERAGE(D102:D113) -> 5300.9167 | E150: =AVERAGE(E102:E113) -> 155944.83 | F150: =AVERAGE(F102:F113) -> 2990.4167 | G150: =AVERAGE(G102:G113) -> 241852.5 | H150: =AVERAGE(H102:H113) -> 2814.3333 | I150: =AVERAGE(I102:I113) -> 216668.92 | ... M150: =AVERAGE(M102:M113) -> 208602.5
A151: Average 2012 | B151: =AVERAGE(B114:B125) -> 5841.25 | C151: =AVERAGE(C114:C125) -> 151074.83 | D151: =AVERAGE(D114:D125) -> 5954.6667 | E151: =AVERAGE(E114:E125) -> 151796.67 | F151: =AVERAGE(F114:F125) -> 3443.5833 | G151: =AVERAGE(G114:G125) -> 290071.25 | H151: =AVERAGE(H114:H125) -> 3334.1667 | I151: =AVERAGE(I114:I125) -> 236325.67 | ... M151: =AVERAGE(M114:M125) -> 244739.25
A152: Average 2013 | B152: =AVERAGE(B126:B137) -> 6393.6667 | C152: =AVERAGE(C126:C137) -> 150028.75 | D152: =AVERAGE(D126:D137) -> 6737.8333 | E152: =AVERAGE(E126:E137) -> 150907.42 | F152: =AVERAGE(F126:F137) -> 4188.5833 | G152: =AVERAGE(G126:G137) -> 309737.33 | H152: =AVERAGE(H126:H137) -> 4245.5833 | I152: =AVERAGE(I126:I137) -> 250462.83 | ... M152: =AVERAGE(M126:M137) -> 263255.33
A153: Average | B153: =AVERAGE(B144:B152) -> 2971.9167 | C153: =AVERAGE(C144:C152) -> 131023.47 | D153: =AVERAGE(D144:D152) -> 3082.5648 | E153: =AVERAGE(E144:E152) -> 133742.64 | F153: =AVERAGE(F144:F152) -> 1853.9907 | G153: =AVERAGE(G144:G152) -> 233454.8 | H153: =AVERAGE(H144:H152) -> 1733.3333 | I153: =AVERAGE(I144:I152) -> 209538.13 | ... M153: =AVERAGE(M144:M152) -> 124382.52
A155: AVERAGE MONTHLY PERCENTAGE CHANGE
B156: South African residents | F156: Foreign travellers | J156: Visitors
B157: Arrivals | D157: Departures | F157: Arrivals | H157: Departures | J157: Same Day | L157: Overnight (Tourists)
B158: King Shaka | C158: Total | D158: King Shaka | E158: Total | F158: King Shaka | G158: Total | H158: King Shaka | I158: Total | J158: King Shaka | K158: Total | L158: King Shaka | M158: Total
A159: 2006 | B159: 0 | C159: 0 | D159: 0 | E159: 0 | F159: =(F145-F144)/F144*100 -> 15.033821 | G159: =(G145-G144)/G144*100 -> 8.9754241 | H159: =(H145-H144)/H144*100 -> 10.788973 | I159: =(I145-I144)/I144*100 -> 5.7957017 | J159: 0 | K159: 0 | L159: 0 | M159: 0
A160: 2007 | B160: =(B146-B145)/B145*100 -> 13.31582 | C160: =(C146-C145)/C145*100 -> 4.7533272 | D160: =(D146-D145)/D145*100 -> 13.5332 | E160: =(E146-E145)/E145*100 -> 5.2742383 | F160: =(F146-F145)/F145*100 -> 5.8611533 | G160: =(G146-G145)/G145*100 -> 7.9016955 | H160: =(H146-H145)/H145*100 -> 12.912913 | I160: =(I146-I145)/I145*100 -> 8.9344085 | J160: 0 | K160: 0 | L160: 0 | M160: 0
A161: 2008 | B161: =(B147-B146)/B146*100 -> 4.9481997 | C161: =(C147-C146)/C146*100 -> 0.59537482 | D161: =(D147-D146)/D146*100 -> -1.8099548 | E161: =(E147-E146)/E146*100 -> 4.1622584 | F161: =(F147-F146)/F146*100 -> -2.3830855 | G161: =(G147-G146)/G146*100 -> 3.214198 | H161: =(H147-H146)/H146*100 -> 13.772796 | I161: =(I147-I146)/I146*100 -> 2.4089018 | J161: 0 | K161: 0 | L161: 0 | M161: 0
A162: 2009 | B162: =(B148-B147)/B147*100 -> 42.89659 | C162: =(C148-C147)/C147*100 -> -6.8328035 | D162: =(D148-D147)/D147*100 -> 48.490268 | E162: =(E148-E147)/E147*100 -> -6.6608292 | F162: =(F148-F147)/F147*100 -> 134.10426 | G162: =(G148-G147)/G147*100 -> -6.7140398 | H162: =(H148-H147)/H147*100 -> 60.026716 | I162: =(I148-I147)/I147*100 -> -0.66023618 | J162: 0 | K162: 0 | L162: 0 | M162: 0
A163: 2010 | B163: =(B149-B148)/B148*100 -> 143.63768 | C163: =(C149-C148)/C148*100 -> 12.212307 | D163: =(D149-D148)/D148*100 -> 145.5834 | E163: =(E149-E148)/E148*100 -> 8.4313145 | F163: =(F149-F148)/F148*100 -> 206.74298 | G163: =(G149-G148)/G148*100 -> 31.978344 | H163: =(H149-H148)/H148*100 -> 241.86144 | I163: =(I149-I148)/I148*100 -> 16.112071 | ... M163: =(M149-M148)/M148*100 -> 30.720773
A164: 2011 | B164: =(B150-B149)/B149*100 -> 24.016021 | C164: =(C150-C149)/C149*100 -> 0.44065923 | D164: =(D150-D149)/D149*100 -> 19.977744 | E164: =(E150-E149)/E149*100 -> -0.36906302 | F164: =(F150-F149)/F149*100 -> -8.2741169 | G164: =(G150-G149)/G149*100 -> -8.6800563 | H164: =(H150-H149)/H149*100 -> 3.0765474 | I164: =(I150-I149)/I149*100 -> -6.7919633 | ... M164: =(M150-M149)/M149*100 -> -8.604883
A165: 2012 | B165: =(B151-B150)/B150*100 -> 12.071309 | C165: =(C151-C150)/C150*100 -> -2.1811116 | D165: =(D151-D150)/D150*100 -> 12.332773 | E165: =(E151-E150)/E150*100 -> -2.6600219 | F165: =(F151-F150)/F150*100 -> 15.153964 | G165: =(G151-G150)/G150*100 -> 19.937255 | H165: =(H151-H150)/H150*100 -> 18.470923 | I165: =(I151-I150)/I150*100 -> 9.0722519 | ... M165: =(M151-M150)/M150*100 -> 17.323258
A166: 2013 | B166: =(B152-B151)/B151*100 -> 9.4571653 | C166: =(C152-C151)/C151*100 -> -0.69242726 | D166: =(D152-D151)/D151*100 -> 13.15215 | E166: =(E152-E151)/E151*100 -> -0.58581655 | F166: =(F152-F151)/F151*100 -> 21.634441 | G166: =(G152-G151)/G151*100 -> 6.7797423 | H166: =(H152-H151)/H151*100 -> 27.335666 | I166: =(I152-I151)/I151*100 -> 5.9820699 | ... M166: =(M152-M151)/M151*100 -> 7.565637
A167: Average | B167: =AVERAGE(B159:B166) -> 31.292848 | C167: =AVERAGE(C159:C166) -> 1.0369157 | D167: =AVERAGE(D159:D166) -> 31.407447 | E167: =AVERAGE(E159:E166) -> 0.94901006 | F167: =AVERAGE(F159:F166) -> 48.484177 | G167: =AVERAGE(G159:G166) -> 7.9240704 | H167: =AVERAGE(H159:H166) -> 48.530746 | I167: =AVERAGE(I159:I166) -> 5.1066507 | ... M167: =AVERAGE(M159:M166) -> 5.8755982
A233: PER ANNUM TOTAL
B234: South African residents | F234: Foreign travellers | J234: Visitors
B235: Arrivals | D235: Departures | F235: Arrivals | H235: Departures | J235: Same Day | L235: Overnight (Tourists)
B236: King Shaka | C236: Total | D236: King Shaka | E236: Total | F236: King Shaka | G236: Total | H236: King Shaka | I236: Total | J236: King Shaka | K236: Total | L236: King Shaka | M236: Total
A237: 2006 | B237: =SUM(B42:B53) -> 12181 | C237: =SUM(C42:C53) -> 1674911 | D237: =SUM(D42:D53) -> 13042 | E237: =SUM(E42:E53) -> 1692415 | F237: =SUM(F42:F53) -> 5272 | G237: =SUM(G42:G53) -> 2317819 | H237: =SUM(H42:H53) -> 4662 | I237: =SUM(I42:I53) -> 2167810 | ... M237: =SUM(M42:M53) -> 0
A238: 2007 | B238: =SUM(B54:B65) -> 13803 | C238: =SUM(C54:C65) -> 1754525 | D238: =SUM(D54:D65) -> 14807 | E238: =SUM(E54:E65) -> 1781677 | F238: =SUM(F54:F65) -> 5581 | G238: =SUM(G54:G65) -> 2500966 | H238: =SUM(H54:H65) -> 5264 | I238: =SUM(I54:I65) -> 2361491 | ... M238: =SUM(M54:M65) -> 0
A239: 2008 | B239: =SUM(B66:B77) -> 14486 | C239: =SUM(C66:C77) -> 1764971 | D239: =SUM(D66:D77) -> 14539 | E239: =SUM(E66:E77) -> 1855835 | F239: =SUM(F66:F77) -> 5448 | G239: =SUM(G66:G77) -> 2581352 | H239: =SUM(H66:H77) -> 5989 | I239: =SUM(I66:I77) -> 2418377 | ... M239: =SUM(M66:M77) -> 0
A240: 2009 | B240: =SUM(B78:B89) -> 20700 | C240: =SUM(C78:C89) -> 1644374 | D240: =SUM(D78:D89) -> 21589 | E240: =SUM(E78:E89) -> 1732221 | F240: =SUM(F78:F89) -> 12754 | G240: =SUM(G78:G89) -> 2408039 | H240: =SUM(H78:H89) -> 9584 | I240: =SUM(I78:I89) -> 2402410 | ... M240: =SUM(M78:M89) -> 2095237
A241: 2010 | B241: =SUM(B90:B101) -> 50433 | C241: =SUM(C90:C101) -> 1845190 | D241: =SUM(D90:D101) -> 53019 | E241: =SUM(E90:E101) -> 1878270 | F241: =SUM(F90:F101) -> 39122 | G241: =SUM(G90:G101) -> 3178090 | H241: =SUM(H90:H101) -> 32764 | I241: =SUM(I90:I101) -> 2789488 | ... M241: =SUM(M90:M101) -> 2738910
A242: 2011 | B242: =SUM(B102:B113) -> 62545 | C242: =SUM(C102:C113) -> 1853321 | D242: =SUM(D102:D113) -> 63611 | E242: =SUM(E102:E113) -> 1871338 | F242: =SUM(F102:F113) -> 35885 | G242: =SUM(G102:G113) -> 2902230 | H242: =SUM(H102:H113) -> 33772 | I242: =SUM(I102:I113) -> 2600027 | ... M242: =SUM(M102:M113) -> 2503230
A243: 2012 | B243: =SUM(B114:B125) -> 70095 | C243: =SUM(C114:C125) -> 1812898 | D243: =SUM(D114:D125) -> 71456 | E243: =SUM(E114:E125) -> 1821560 | F243: =SUM(F114:F125) -> 41323 | G243: =SUM(G114:G125) -> 3480855 | H243: =SUM(H114:H125) -> 40010 | I243: =SUM(I114:I125) -> 2835908 | ... M243: =SUM(M114:M125) -> 2936871
A244: 2013 | B244: =SUM(B126:B137) -> 76724 | C244: =SUM(C126:C137) -> 1800345 | D244: =SUM(D126:D137) -> 80854 | E244: =SUM(E126:E137) -> 1810889 | F244: =SUM(F126:F137) -> 50263 | G244: =SUM(G126:G137) -> 3716848 | H244: =SUM(H126:H137) -> 50947 | I244: =SUM(I126:I137) -> 3005554 | ... M244: =SUM(M126:M137) -> 3159064
A245: Total | B245: =SUM(B237:B244) -> 320967 | C245: =SUM(C237:C244) -> 14150535 | D245: =SUM(D237:D244) -> 332917 | E245: =SUM(E237:E244) -> 14444205 | F245: =SUM(F237:F244) -> 195648 | G245: =SUM(G237:G244) -> 23086199 | H245: =SUM(H237:H244) -> 182992 | I245: =SUM(I237:I244) -> 20581065 | ... M245: =SUM(M237:M244) -> 13433312
A314: ANNUAL PROPORTIONAL CONTRIBUTION
B315: South African residents | D315: Foreign travellers | F315: Visitors
B316: Arrivals | C316: Departures | D316: Arrivals | E316: Departures | F316: Same Day | G316: Overnight (Tourists)
A317: 2006 | B317: =B237/C237*100 -> 0.72726252 | C317: =D237/E237*100 -> 0.77061477 | D317: =F237/G237*100 -> 0.22745521 | E317: =H237/I237*100 -> 0.21505575 | F317: 0 | G317: 0
A318: 2007 | B318: =B238/C238*100 -> 0.78670865 | C318: =D238/E238*100 -> 0.83107095 | D318: =F238/G238*100 -> 0.22315377 | E318: =H238/I238*100 -> 0.22291002 | F318: 0 | G318: 0
A319: 2008 | B319: =B239/C239*100 -> 0.82075003 | C319: =D239/E239*100 -> 0.78342094 | D319: =F239/G239*100 -> 0.21105219 | E319: =H239/I239*100 -> 0.24764543 | F319: 0 | G319: 0
A320: 2009 | B320: =B240/C240*100 -> 1.2588377 | C320: =D240/E240*100 -> 1.246319 | D320: =F240/G240*100 -> 0.52964258 | E320: =H240/I240*100 -> 0.39893274 | F320: =J240/K240*100 -> 0.072606234 | G320: =L240/M240*100 -> 0.53697983
A321: 2010 | B321: =B241/C241*100 -> 2.7332145 | C321: =D241/E241*100 -> 2.8227571 | D321: =F241/G241*100 -> 1.2309909 | E321: =H241/I241*100 -> 1.1745525 | F321: =J241/K241*100 -> 0.24187504 | G321: =L241/M241*100 -> 1.2665257
A322: 2011 | B322: =B242/C242*100 -> 3.3747527 | C322: =D242/E242*100 -> 3.3992256 | D322: =F242/G242*100 -> 1.236463 | E322: =H242/I242*100 -> 1.2989096 | F322: =J242/K242*100 -> 0.14846563 | G322: =L242/M242*100 -> 1.1132017
A323: 2012 | B323: =B243/C243*100 -> 3.8664613 | C323: =D243/E243*100 -> 3.9227915 | D323: =F243/G243*100 -> 1.1871509 | E323: =H243/I243*100 -> 1.4108356 | F323: =J243/K243*100 -> 0.1123857 | G323: =L243/M243*100 -> 1.0406994
A324: 2013 | B324: =B244/C244*100 -> 4.2616276 | C324: =D244/E244*100 -> 4.4648789 | D324: =F244/G244*100 -> 1.3523017 | E324: =H244/I244*100 -> 1.6950951 | F324: =J244/K244*100 -> 0.077153144 | G324: =L244/M244*100 -> 1.1370457
A325: Average | B325: =AVERAGE(B317:B324) -> 2.2287019 | C325: =AVERAGE(C317:C324) -> 2.2801348 | D325: =AVERAGE(D317:D324) -> 0.77477629 | E325: =AVERAGE(E317:E324) -> 0.83299209 | F325: =AVERAGE(F317:F324) -> 0.081560718 | G325: =AVERAGE(G317:G324) -> 0.63680655
A326: Range | B326: =MAX(B317:B324)-MIN(B317:B324) -> 3.5343651 | C326: =MAX(C317:C324)-MIN(C317:C324) -> 3.6942641 | D326: =MAX(D317:D324)-MIN(D317:D324) -> 1.1412495 | E326: =MAX(E317:E324)-MIN(E317:E324) -> 1.4800394 | F326: =MAX(F317:F324)-MIN(F317:F324) -> 0.24187504 | G326: =MAX(G317:G324)-MIN(G317:G324) -> 1.2665257
A327: Change in Contribution | B327: =B324-B317 -> 3.5343651 | C327: =C324-C317 -> 3.6942641 | D327: =D324-D317 -> 1.1248465 | E327: =E324-E317 -> 1.4800394 | F327: =F324-F317 -> 0.077153144 | G327: =G324-G317 -> 1.1370457

Sheet Tourists
A1: NUMBER OF TOURISTS BY COUNTRY OF RESIDENCE TO KING SHAKA AIRPORT
B3: Europe | D3: North America | F3: Central and South America | H3: Australasia | J3: Middle East | L3: Asia | N3: Africa | P3: SADC | R3: Other Africa | T3: East and Central Africa | V3: West Africa | X3: North Africa | Z3: Unspecified
B4: King Shaka | C4: Total | D4: King Shaka | E4: Total | F4: King Shaka | G4: Total | H4: King Shaka | I4: Total | J4: King Shaka | K4: Total | L4: King Shaka | M4: Total | N4: King Shaka | O4: Total | P4: King Shaka | Q4: Total | R4: King Shaka | S4: Total | T4: King Shaka | U4: Total | V4: King Shaka | W4: Total | X4: King Shaka | Y4: Total | Z4: King Shaka | AA4: Total
A5: 37622 | B5: 115 | C5: 104705 | D5: 20 | E5: 15266 | F5: 1 | G5: 3451 | H5: 20 | I5: 6193 | J5: 1 | K5: 2417 | L5: 81 | M5: 12495 | N5: 88 | O5: 28506 | P5: 0 | Q5: 0 | R5: 0 | S5: 0 | T5: 0 | U5: 0 | V5: 0 | W5: 0 | X5: 0 | Y5: 0 | Z5: 10 | AA5: 868
A6: 37653 | B6: 89 | C6: 118381 | D6: 8 | E6: 13761 | F6: 7 | G6: 2876 | H6: 6 | I6: 6333 | J6: 2 | K6: 2842 | L6: 141 | M6: 15874 | N6: 121 | O6: 225628 | P6: 0 | Q6: 0 | R6: 0 | S6: 0 | T6: 0 | U6: 0 | V6: 0 | W6: 0 | X6: 0 | Y6: 0 | Z6: 2 | AA6: 709
A7: 37681 | B7: 122 | C7: 104142 | D7: 17 | E7: 16457 | F7: 0 | G7: 2770 | H7: 10 | I7: 6872 | J7: 0 | K7: 2456 | L7: 70 | M7: 13877 | N7: 107 | O7: 27276 | P7: 0 | Q7: 0 | R7: 0 | S7: 0 | T7: 0 | U7: 0 | V7: 0 | W7: 0 | X7: 0 | Y7: 0 | Z7: 2 | AA7: 842
A8: 37712 | B8: 125 | C8: 92067 | D8: 14 | E8: 14243 | F8: 4 | G8: 2599 | H8: 10 | I8: 6293 | J8: 6 | K8: 2286 | L8: 25 | M8: 9587 | N8: 169 | O8: 26080 | P8: 0 | Q8: 0 | R8: 0 | S8: 0 | T8: 0 | U8: 0 | V8: 0 | W8: 0 | X8: 0 | Y8: 0 | Z8: 6 | AA8: 647
A9: 37742 | B9: 277 | C9: 58981 | D9: 16 | E9: 15930 | F9: 6 | G9: 2414 | H9: 23 | I9: 5537 | J9: 2 | K9: 1919 | L9: 30 | M9: 9396 | N9: 207 | O9: 26950 | P9: 0 | Q9: 0 | R9: 0 | S9: 0 | T9: 0 | U9: 0 | V9: 0 | W9: 0 | X9: 0 | Y9: 0 | Z9: 12 | AA9: 710
A10: 37773 | B10: 94 | C10: 47875 | D10: 20 | E10: 18773 | F10: 3 | G10: 2588 | H10: 11 | I10: 5905 | J10: 2 | K10: 2073 | L10: 31 | M10: 10730 | N10: 229 | O10: 24721 | P10: 0 | Q10: 0 | R10: 0 | S10: 0 | T10: 0 | U10: 0 | V10: 0 | W10: 0 | X10: 0 | Y10: 0 | Z10: 3 | AA10: 700
A11: 37803 | B11: 115 | C11: 69699 | D11: 25 | E11: 20252 | F11: 4 | G11: 3641 | H11: 44 | I11: 7092 | J11: 3 | K11: 3322 | L11: 64 | M11: 12067 | N11: 117 | O11: 29487 | P11: 0 | Q11: 0 | R11: 0 | S11: 0 | T11: 0 | U11: 0 | V11: 0 | W11: 0 | X11: 0 | Y11: 0 | Z11: 42 | AA11: 882
A12: 37834 | B12: 131 | C12: 77660 | D12: 17 | E12: 19324 | F12: 4 | G12: 3110 | H12: 10 | I12: 6434 | J12: 9 | K12: 3748 | L12: 72 | M12: 13954 | N12: 251 | O12: 30194 | P12: 0 | Q12: 0 | R12: 0 | S12: 0 | T12: 0 | U12: 0 | V12: 0 | W12: 0 | X12: 0 | Y12: 0 | Z12: 1 | AA12: 666
A13: 37865 | B13: 97 | C13: 77993 | D13: 20 | E13: 16419 | F13: 3 | G13: 3360 | H13: 20 | I13: 8291 | J13: 0 | K13: 2560 | L13: 38 | M13: 15428 | N13: 259 | O13: 26840 | P13: 0 | Q13: 0 | R13: 0 | S13: 0 | T13: 0 | U13: 0 | V13: 0 | W13: 0 | X13: 0 | Y13: 0 | Z13: 3 | AA13: 821
A14: 37895 | B14: 147 | C14: 117914 | D14: 70 | E14: 15942 | F14: 5 | G14: 3362 | H14: 14 | I14: 6144 | J14: 6 | K14: 2357 | L14: 75 | M14: 16818 | N14: 176 | O14: 27660 | P14: 0 | Q14: 0 | R14: 0 | S14: 0 | T14: 0 | U14: 0 | V14: 0 | W14: 0 | X14: 0 | Y14: 0 | Z14: 3 | AA14: 747
A15: 37926 | B15: 398 | C15: 123544 | D15: 21 | E15: 15712 | F15: 2 | G15: 3033 | H15: 4 | I15: 6851 | J15: 2 | K15: 2156 | L15: 33 | M15: 14690 | N15: 169 | O15: 28753 | P15: 0 | Q15: 0 | R15: 0 | S15: 0 | T15: 0 | U15: 0 | V15: 0 | W15: 0 | X15: 0 | Y15: 0 | Z15: 0 | AA15: 968
A16: 37956 | B16: 385 | C16: 116937 | D16: 12 | E16: 19787 | F16: 0 | G16: 3439 | H16: 39 | I16: 8612 | J16: 1 | K16: 2444 | L16: 68 | M16: 15243 | N16: 180 | O16: 27777 | P16: 0 | Q16: 0 | R16: 0 | S16: 0 | T16: 0 | U16: 0 | V16: 0 | W16: 0 | X16: 0 | Y16: 0 | Z16: 5 | AA16: 3660
... A136: 41609 | B136: 2665 | C136: 157693 | D136: 161 | E136: 38063 | F136: 13 | G136: 13212 | H136: 399 | I136: 16201 | J136: 30 | K136: 3198 | L136: 324 | M136: 35404 | N136: 675 | O136: 75335 | P136: 657 | Q136: 55582 | R136: 18 | S136: 21762 | T136: 6 | U136: 8919 | V136: 2 | W136: 11690 | X136: 10 | Y136: 1153 | Z136: 41 | AA136: 5976
A137: Total | B137: =SUM(B5:B136) -> 89547 | C137: =SUM(C5:C136) -> 12921818 | D137: =SUM(D5:D136) -> 8914 | E137: =SUM(E5:E136) -> 3163360 | F137: =SUM(F5:F136) -> 1923 | G137: =SUM(G5:G136) -> 785955 | H137: =SUM(H5:H136) -> 7713 | I137: =SUM(I5:I136) -> 1155534 | ... AA137: =SUM(AA5:AA136) -> 198342
A139: MONTHLY AVERAGE
B140: Europe | D140: North America | F140: Central and South America | H140: Australasia | J140: Middle East | L140: Asia | N140: Africa | P140: SADC | R140: Other Africa | T140: East and Central Africa | V140: West Africa | X140: North Africa | Z140: Unspecified
B141: King Shaka | C141: Total | D141: King Shaka | E141: Total | F141: King Shaka | G141: Total | H141: King Shaka | I141: Total | J141: King Shaka | K141: Total | L141: King Shaka | M141: Total | N141: King Shaka | O141: Total | P141: King Shaka | Q141: Total | R141: King Shaka | S141: Total | T141: King Shaka | U141: Total | V141: King Shaka | W141: Total | X141: King Shaka | Y141: Total | Z141: King Shaka | AA141: Total
A142: Average 2005 | B142: =AVERAGE(B29:B40) -> 87.75 | C142: =AVERAGE(C29:C40) -> 95244.083 | D142: =AVERAGE(D29:D40) -> 26.916667 | E142: =AVERAGE(E29:E40) -> 20967.333 | F142: =AVERAGE(F29:F40) -> 2.75 | G142: =AVERAGE(G29:G40) -> 3466.4167 | H142: =AVERAGE(H29:H40) -> 14.75 | I142: =AVERAGE(I29:I40) -> 7568.75 | ... AA142: =AVERAGE(AA29:AA40) -> 713.33333
A143: Average 2006 | B143: =AVERAGE(B41:B52) -> 99 | C143: =AVERAGE(C41:C52) -> 93103.667 | D143: =AVERAGE(D41:D52) -> 22.916667 | E143: =AVERAGE(E41:E52) -> 23151.083 | F143: =AVERAGE(F41:F52) -> 3.8333333 | G143: =AVERAGE(G41:G52) -> 4244.9167 | H143: =AVERAGE(H41:H52) -> 30 | I143: =AVERAGE(I41:I52) -> 8362.25 | ... AA143: =AVERAGE(AA41:AA52) -> 901.08333
A144: Average 2007 | B144: =AVERAGE(B53:B64) -> 110.5 | C144: =AVERAGE(C53:C64) -> 104148 | D144: =AVERAGE(D53:D64) -> 18 | E144: =AVERAGE(E53:E64) -> 25251.333 | F144: =AVERAGE(F53:F64) -> 3.1666667 | G144: =AVERAGE(G53:G64) -> 4482.5833 | H144: =AVERAGE(H53:H64) -> 36.583333 | I144: =AVERAGE(I53:I64) -> 8886.3333 | ... AA144: =AVERAGE(AA53:AA64) -> 1115.9167
A145: Average 2008 | B145: =AVERAGE(B65:B76) -> 103 | C145: =AVERAGE(C65:C76) -> 103757.83 | D145: =AVERAGE(D65:D76) -> 21.916667 | E145: =AVERAGE(E65:E76) -> 25814.417 | F145: =AVERAGE(F65:F76) -> 4.5 | G145: =AVERAGE(G65:G76) -> 4822.5833 | H145: =AVERAGE(H65:H76) -> 31.833333 | I145: =AVERAGE(I65:I76) -> 9291.25 | ... AA145: =AVERAGE(AA65:AA76) -> 1868.3333
A146: Average 2009 | B146: =AVERAGE(B77:B88) -> 545.33333 | C146: =AVERAGE(C77:C88) -> 90216.417 | D146: =AVERAGE(D77:D88) -> 34.333333 | E146: =AVERAGE(E77:E88) -> 20768.25 | F146: =AVERAGE(F77:F88) -> 4.8333333 | G146: =AVERAGE(G77:G88) -> 5985.25 | H146: =AVERAGE(H77:H88) -> 35.25 | I146: =AVERAGE(I77:I88) -> 7258.1667 | ... AA146: =AVERAGE(AA77:AA88) -> 1613.75
A147: Average 2010 | B147: =AVERAGE(B89:B100) -> 1514.25 | C147: =AVERAGE(C89:C100) -> 97741 | D147: =AVERAGE(D89:D100) -> 151.83333 | E147: =AVERAGE(E89:E100) -> 25412.083 | F147: =AVERAGE(F89:F100) -> 92.833333 | G147: =AVERAGE(G89:G100) -> 9630 | H147: =AVERAGE(H89:H100) -> 100.16667 | I147: =AVERAGE(I89:I100) -> 9907.3333 | ... AA147: =AVERAGE(AA89:AA100) -> 3431.75
A148: Average 2011 | B148: =AVERAGE(B101:B112) -> 1287.9167 | C148: =AVERAGE(C101:C112) -> 93148.583 | D148: =AVERAGE(D101:D112) -> 131.58333 | E148: =AVERAGE(E101:E112) -> 25812.417 | F148: =AVERAGE(F101:F112) -> 12.083333 | G148: =AVERAGE(G101:G112) -> 6707.5 | H148: =AVERAGE(H101:H112) -> 91.833333 | I148: =AVERAGE(I101:I112) -> 9457 | ... AA148: =AVERAGE(AA101:AA112) -> 1439.0833
A149: Average 2012 | B149: =AVERAGE(B113:B124) -> 1511.4167 | C149: =AVERAGE(C113:C124) -> 103172.17 | D149: =AVERAGE(D113:D124) -> 132.83333 | E149: =AVERAGE(E113:E124) -> 28817.833 | F149: =AVERAGE(F113:F124) -> 13.833333 | G149: =AVERAGE(G113:G124) -> 9351.1667 | H149: =AVERAGE(H113:H124) -> 134.66667 | I149: =AVERAGE(I113:I124) -> 10288.5 | ... AA149: =AVERAGE(AA113:AA124) -> 1490.6667
A150: Average 2013 | B150: =AVERAGE(B125:B136) -> 1782.5833 | C150: =AVERAGE(C125:C136) -> 112201.67 | D150: =AVERAGE(D125:D136) -> 158.91667 | E150: =AVERAGE(E125:E136) -> 32131 | F150: =AVERAGE(F125:F136) -> 16.25 | G150: =AVERAGE(G125:G136) -> 10209.083 | H150: =AVERAGE(H125:H136) -> 135.33333 | I150: =AVERAGE(I125:I136) -> 11442.667 | ... K150: =AVERAGE(K125:K136) -> 3352.6667 | L150: =AVERAGE(L125:L134) -> 418.1 | M150: =AVERAGE(M125:M134) -> 32276 | N150: =AVERAGE(N125:N134) -> 420.1 | O150: =AVERAGE(O125:O134) -> 61678.6 | P150: =AVERAGE(P125:P134) -> 384.7 | Q150: =AVERAGE(Q125:Q136) -> 45662.25 | R150: =AVERAGE(R125:R136) -> 34.25 | S150: =AVERAGE(S125:S136) -> 18393.667 | T150: =AVERAGE(T125:T136) -> 9.25 | U150: =AVERAGE(U125:U136) -> 6775.25 | V150: =AVERAGE(V125:V136) -> 8.9166667 | W150: =AVERAGE(W125:W136) -> 10246.167 | X150: =AVERAGE(X125:X136) -> 16.083333 | ... AA150: =AVERAGE(AA125:AA136) -> 1711
A151: Average | B151: =AVERAGE(B142:B150) -> 782.41667 | C151: =AVERAGE(C142:C150) -> 99192.602 | D151: =AVERAGE(D142:D150) -> 77.694444 | E151: =AVERAGE(E142:E150) -> 25347.306 | F151: =AVERAGE(F142:F150) -> 17.12037 | G151: =AVERAGE(G142:G150) -> 6544.3889 | H151: =AVERAGE(H142:H150) -> 67.824074 | I151: =AVERAGE(I142:I150) -> 9162.4722 | ... AA151: =AVERAGE(AA142:AA150) -> 1587.213
A153: AVERAGE MONTHLY PERCENTAGE CHANGE
B154: Europe | D154: North America | F154: Central and South America | H154: Australasia | J154: Middle East | L154: Asia | N154: Africa | P154: SADC | R154: Other Africa | T154: East and Central Africa | V154: West Africa | X154: North Africa | Z154: Unspecified
B155: King Shaka | C155: Total | D155: King Shaka | E155: Total | F155: King Shaka | G155: Total | H155: King Shaka | I155: Total | J155: King Shaka | K155: Total | L155: King Shaka | M155: Total | N155: King Shaka | O155: Total | P155: King Shaka | Q155: Total | R155: King Shaka | S155: Total | T155: King Shaka | U155: Total | V155: King Shaka | W155: Total | X155: King Shaka | Y155: Total | Z155: King Shaka | AA155: Total
A156: 2006 | B156: =(B143-B142)/B142*100 -> 12.820513 | C156: =(C143-C142)/C142*100 -> -2.2472962 | D156: =(D143-D142)/D142*100 -> -14.860681 | E156: =(E143-E142)/E142*100 -> 10.415011 | F156: =(F143-F142)/F142*100 -> 39.393939 | G156: =(G143-G142)/G142*100 -> 22.45835 | H156: =(H143-H142)/H142*100 -> 103.38983 | I156: =(I143-I142)/I142*100 -> 10.483898 | ... O156: =(O143-O142)/O142*100 -> 13.469802 | P156: 0 | Q156: 0 | R156: 0 | S156: 0 | T156: 0 | U156: 0 | V156: 0 | W156: 0 | X156: 0 | Y156: 0 | Z156: =(Z143-Z142)/Z142*100 -> 257.14286 | AA156: =(AA143-AA142)/AA142*100 -> 26.320093
A157: 2007 | B157: =(B144-B143)/B143*100 -> 11.616162 | C157: =(C144-C143)/C143*100 -> 11.862404 | D157: =(D144-D143)/D143*100 -> -21.454545 | E157: =(E144-E143)/E143*100 -> 9.0719297 | F157: =(F144-F143)/F143*100 -> -17.391304 | G157: =(G144-G143)/G143*100 -> 5.5988535 | H157: =(H144-H143)/H143*100 -> 21.944444 | I157: =(I144-I143)/I143*100 -> 6.2672526 | ... O157: =(O144-O143)/O143*100 -> 23.794019 | P157: 0 | Q157: 0 | R157: 0 | S157: 0 | T157: 0 | U157: 0 | V157: 0 | W157: 0 | X157: 0 | Y157: 0 | Z157: =(Z144-Z143)/Z143*100 -> -12 | AA157: =(AA144-AA143)/AA143*100 -> 23.841672
A158: 2008 | B158: =(B145-B144)/B144*100 -> -6.7873303 | C158: =(C145-C144)/C144*100 -> -0.37462713 | D158: =(D145-D144)/D144*100 -> 21.759259 | E158: =(E145-E144)/E144*100 -> 2.2299153 | F158: =(F145-F144)/F144*100 -> 42.105263 | G158: =(G145-G144)/G144*100 -> 7.584912 | H158: =(H145-H144)/H144*100 -> -12.984055 | I158: =(I145-I144)/I144*100 -> 4.5566225 | ... Q158: =(Q145-Q144)/Q144*100 -> 6.8536539 | R158: 0 | S158: 0 | T158: =(T145-T144)/T144*100 -> -57.668712 | U158: =(U145-U144)/U144*100 -> 8.2038345 | V158: =(V145-V144)/V144*100 -> 33.333333 | W158: =(W145-W144)/W144*100 -> 6.3972233 | X158: =(X145-X144)/X144*100 -> -80 | Y158: =(Y145-Y144)/Y144*100 -> 15.038442 | Z158: =(Z145-Z144)/Z144*100 -> 40.909091 | AA158: =(AA145-AA144)/AA144*100 -> 67.425883
A159: 2009 | B159: =(B146-B145)/B145*100 -> 429.44984 | C159: =(C146-C145)/C145*100 -> -13.050982 | D159: =(D146-D145)/D145*100 -> 56.653992 | E159: =(E146-E145)/E145*100 -> -19.547862 | F159: =(F146-F145)/F145*100 -> 7.4074074 | G159: =(G146-G145)/G145*100 -> 24.108794 | H159: =(H146-H145)/H145*100 -> 10.732984 | I159: =(I146-I145)/I145*100 -> -21.881699 | ... Q159: =(Q146-Q145)/Q145*100 -> -24.180803 | R159: 0 | S159: =(S146-S145)/S145*100 -> 817.04713 | T159: =(T146-T145)/T145*100 -> -75.362319 | U159: =(U146-U145)/U145*100 -> -4.9908297 | V159: =(V146-V145)/V145*100 -> 25 | W159: =(W146-W145)/W145*100 -> -8.6594209 | X159: =(X146-X145)/X145*100 -> 825 | Y159: =(Y146-Y145)/Y145*100 -> 54.981287 | Z159: =(Z146-Z145)/Z145*100 -> -38.709677 | AA159: =(AA146-AA145)/AA145*100 -> -13.626227
A160: 2010 | B160: =(B147-B146)/B146*100 -> 177.67421 | C160: =(C147-C146)/C146*100 -> 8.3405921 | D160: =(D147-D146)/D146*100 -> 342.23301 | E160: =(E147-E146)/E146*100 -> 22.360253 | F160: =(F147-F146)/F146*100 -> 1820.6897 | G160: =(G147-G146)/G146*100 -> 60.895535 | H160: =(H147-H146)/H146*100 -> 184.16076 | I160: =(I147-I146)/I146*100 -> 36.499116 | ... AA160: =(AA147-AA146)/AA146*100 -> 112.65686
A161: 2011 | B161: =(B148-B147)/B147*100 -> -14.946893 | C161: =(C148-C147)/C147*100 -> -4.6985571 | D161: =(D148-D147)/D147*100 -> -13.336992 | E161: =(E148-E147)/E147*100 -> 1.575366 | F161: =(F148-F147)/F147*100 -> -86.983842 | G161: =(G148-G147)/G147*100 -> -30.347871 | H161: =(H148-H147)/H147*100 -> -8.3194676 | I161: =(I148-I147)/I147*100 -> -4.5454545 | ... AA161: =(AA148-AA147)/AA147*100 -> -58.065613
A162: 2012 | B162: =(B149-B148)/B148*100 -> 17.353607 | C162: =(C149-C148)/C148*100 -> 10.760854 | D162: =(D149-D148)/D148*100 -> 0.94996833 | E162: =(E149-E148)/E148*100 -> 11.643298 | F162: =(F149-F148)/F148*100 -> 14.482759 | G162: =(G149-G148)/G148*100 -> 39.413592 | H162: =(H149-H148)/H148*100 -> 46.642468 | I162: =(I149-I148)/I148*100 -> 8.7924289 | ... AA162: =(AA149-AA148)/AA148*100 -> 3.5844577
A163: 2013 | B163: =(B150-B149)/B149*100 -> 17.941225 | C163: =(C150-C149)/C149*100 -> 8.7518759 | D163: =(D150-D149)/D149*100 -> 19.636136 | E163: =(E150-E149)/E149*100 -> 11.496932 | F163: =(F150-F149)/F149*100 -> 17.46988 | G163: =(G150-G149)/G149*100 -> 9.1744346 | H163: =(H150-H149)/H149*100 -> 0.4950495 | I163: =(I150-I149)/I149*100 -> 11.218027 | ... AA163: =(AA150-AA149)/AA149*100 -> 14.780859
A164: Average | B164: =AVERAGE(B156:B163) -> 80.640166 | C164: =AVERAGE(C156:C163) -> 2.418033 | D164: =AVERAGE(D156:D163) -> 48.947518 | E164: =AVERAGE(E156:E163) -> 6.1556053 | F164: =AVERAGE(F156:F163) -> 229.64672 | G164: =AVERAGE(G156:G163) -> 17.360825 | H164: =AVERAGE(H156:H163) -> 43.257751 | I164: =AVERAGE(I156:I163) -> 6.4237739 | ... AA164: =AVERAGE(AA156:AA163) -> 22.114748
A191: PER ANNUM TOTAL
B192: Europe | D192: North America | F192: Central and South America | H192: Australasia | J192: Middle East | L192: Asia | N192: Africa | P192: SADC | R192: Other Africa | T192: East and Central Africa | V192: West Africa | X192: North Africa | Z192: Unspecified
B193: King Shaka | C193: Total | D193: King Shaka | E193: Total | F193: King Shaka | G193: Total | H193: King Shaka | I193: Total | J193: King Shaka | K193: Total | L193: King Shaka | M193: Total | N193: King Shaka | O193: Total | P193: King Shaka | Q193: Total | R193: King Shaka | S193: Total | T193: King Shaka | U193: Total | V193: King Shaka | W193: Total | X193: King Shaka | Y193: Total | Z193: King Shaka | AA193: Total
A194: 2006 | B194: =SUM(B41:B52) -> 1188 | C194: =SUM(C41:C52) -> 1117244 | D194: =SUM(D41:D52) -> 275 | E194: =SUM(E41:E52) -> 277813 | F194: =SUM(F41:F52) -> 46 | G194: =SUM(G41:G52) -> 50939 | H194: =SUM(H41:H52) -> 360 | I194: =SUM(I41:I52) -> 100347 | ... AA194: =SUM(AA41:AA52) -> 10813
A195: 2007 | B195: =SUM(B53:B64) -> 1326 | C195: =SUM(C53:C64) -> 1249776 | D195: =SUM(D53:D64) -> 216 | E195: =SUM(E53:E64) -> 303016 | F195: =SUM(F53:F64) -> 38 | G195: =SUM(G53:G64) -> 53791 | H195: =SUM(H53:H64) -> 439 | I195: =SUM(I53:I64) -> 106636 | ... AA195: =SUM(AA53:AA64) -> 13391
A196: 2008 | B196: =SUM(B65:B76) -> 1236 | C196: =SUM(C65:C76) -> 1245094 | D196: =SUM(D65:D76) -> 263 | E196: =SUM(E65:E76) -> 309773 | F196: =SUM(F65:F76) -> 54 | G196: =SUM(G65:G76) -> 57871 | H196: =SUM(H65:H76) -> 382 | I196: =SUM(I65:I76) -> 111495 | ... AA196: =SUM(AA65:AA76) -> 22420
A197: 2009 | B197: =SUM(B77:B88) -> 6544 | C197: =SUM(C77:C88) -> 1082597 | D197: =SUM(D77:D88) -> 412 | E197: =SUM(E77:E88) -> 249219 | F197: =SUM(F77:F88) -> 58 | G197: =SUM(G77:G88) -> 71823 | H197: =SUM(H77:H88) -> 423 | I197: =SUM(I77:I88) -> 87098 | ... AA197: =SUM(AA77:AA88) -> 19365
A198: 2010 | B198: =SUM(B89:B100) -> 18171 | C198: =SUM(C89:C100) -> 1172892 | D198: =SUM(D89:D100) -> 1822 | E198: =SUM(E89:E100) -> 304945 | F198: =SUM(F89:F100) -> 1114 | G198: =SUM(G89:G100) -> 115560 | H198: =SUM(H89:H100) -> 1202 | I198: =SUM(I89:I100) -> 118888 | ... AA198: =SUM(AA89:AA100) -> 41181
A199: 2011 | B199: =SUM(B101:B112) -> 15455 | C199: =SUM(C101:C112) -> 1117783 | D199: =SUM(D101:D112) -> 1579 | E199: =SUM(E101:E112) -> 309749 | F199: =SUM(F101:F112) -> 145 | G199: =SUM(G101:G112) -> 80490 | H199: =SUM(H101:H112) -> 1102 | I199: =SUM(I101:I112) -> 113484 | ... AA199: =SUM(AA101:AA112) -> 17269
A200: 2012 | B200: =SUM(B113:B124) -> 18137 | C200: =SUM(C113:C124) -> 1238066 | D200: =SUM(D113:D124) -> 1594 | E200: =SUM(E113:E124) -> 345814 | F200: =SUM(F113:F124) -> 166 | G200: =SUM(G113:G124) -> 112214 | H200: =SUM(H113:H124) -> 1616 | I200: =SUM(I113:I124) -> 123462 | ... AA200: =SUM(AA113:AA124) -> 17888
A201: 2013 | B201: =SUM(B125:B136) -> 21391 | C201: =SUM(C125:C136) -> 1346420 | D201: =SUM(D125:D136) -> 1907 | E201: =SUM(E125:E136) -> 385572 | F201: =SUM(F125:F136) -> 195 | G201: =SUM(G125:G136) -> 122509 | H201: =SUM(H125:H136) -> 1624 | I201: =SUM(I125:I136) -> 137312 | ... AA201: =SUM(AA125:AA136) -> 20532
A202: Total | B202: =SUM(B194:B201) -> 83448 | C202: =SUM(C194:C201) -> 9569872 | D202: =SUM(D194:D201) -> 8068 | E202: =SUM(E194:E201) -> 2485901 | F202: =SUM(F194:F201) -> 1816 | G202: =SUM(G194:G201) -> 665197 | H202: =SUM(H194:H201) -> 7148 | I202: =SUM(I194:I201) -> 898722 | ... AA202: =SUM(AA194:AA201) -> 162859
A229: ANNUAL PROPORTIONAL CONTRIBUTION
B230: Europe | C230: North America | D230: Central and South America | E230: Australasia | F230: Middle East | G230: Asia | H230: Africa | I230: SADC | J230: Other Africa | K230: East and Central Africa | L230: West Africa | M230: North Africa | N230: Unspecified
A231: 2006 | B231: =B194/C194*100 -> 0.10633308 | C231: =D194/E194*100 -> 0.098987448 | D231: =F194/G194*100 -> 0.090304089 | E231: =H194/I194*100 -> 0.35875512 | F231: =J194/K194*100 -> 0.058369003 | G231: =L194/M194*100 -> 0.28203772 | H231: =N194/O194*100 -> 0.30687131 | I231: 0 | J231: 0 | K231: 0 | L231: 0 | M231: 0 | N231: =Z194/AA194*100 -> 0.23120318
A232: 2007 | B232: =B195/C195*100 -> 0.10609901 | C232: =D195/E195*100 -> 0.071283365 | D232: =F195/G195*100 -> 0.070643788 | E232: =H195/I195*100 -> 0.41168086 | F232: =J195/K195*100 -> 0.1078424 | G232: =L195/M195*100 -> 0.14860664 | H232: =N195/O195*100 -> 0.60852354 | I232: =P195/Q195*100 -> 0.76066908 | J232: 0 | K232: =T195/U195*100 -> 0.27413387 | L232: =V195/W195*100 -> 0.01480458 | M232: =X195/Y195*100 -> 0.20502307 | N232: =Z195/AA195*100 -> 0.16428945
A233: 2008 | B233: =B196/C196*100 -> 0.099269613 | C233: =D196/E196*100 -> 0.084900879 | D233: =F196/G196*100 -> 0.093310985 | E233: =H196/I196*100 -> 0.34261626 | F233: =J196/K196*100 -> 0.095587475 | G233: =L196/M196*100 -> 0.15151592 | H233: =N196/O196*100 -> 0.53026813 | I233: =P196/Q196*100 -> 0.68688023 | J233: =R196/S196*100 -> 0.0092047128 | K233: =T196/U196*100 -> 0.10724611 | L233: =V196/W196*100 -> 0.018552589 | M233: =X196/Y196*100 -> 0.03564427 | N233: =Z196/AA196*100 -> 0.1382694
A234: 2009 | B234: =B197/C197*100 -> 0.60447239 | C234: =D197/E197*100 -> 0.16531645 | D234: =F197/G197*100 -> 0.080754076 | E234: =H197/I197*100 -> 0.48565983 | F234: =J197/K197*100 -> 0.42215361 | G234: =L197/M197*100 -> 0.84359558 | H234: =N197/O197*100 -> 0.49284791 | I234: =P197/Q197*100 -> 0.68581764 | J234: =R197/S197*100 -> 0.064238969 | K234: =T197/U197*100 -> 0.027810951 | L234: =V197/W197*100 -> 0.025389303 | M234: =X197/Y197*100 -> 0.21274149 | N234: =Z197/AA197*100 -> 0.098115156
A235: 2010 | B235: =B198/C198*100 -> 1.5492475 | C235: =D198/E198*100 -> 0.59748479 | D235: =F198/G198*100 -> 0.96400138 | E235: =H198/I198*100 -> 1.0110356 | F235: =J198/K198*100 -> 1.0676922 | G235: =L198/M198*100 -> 2.9547429 | H235: =N198/O198*100 -> 0.42722328 | I235: =P198/Q198*100 -> 0.44615589 | J235: =R198/S198*100 -> 0.357996 | K235: =T198/U198*100 -> 0.29649835 | L235: =V198/W198*100 -> 0.16525253 | M235: =X198/Y198*100 -> 1.5593762 | N235: =Z198/AA198*100 -> 1.3185692
A236: 2011 | B236: =B199/C199*100 -> 1.3826476 | C236: =D199/E199*100 -> 0.50976759 | D236: =F199/G199*100 -> 0.1801466 | E236: =H199/I199*100 -> 0.971062 | F236: =J199/K199*100 -> 1.09216 | G236: =L199/M199*100 -> 2.4318144 | H236: =N199/O199*100 -> 0.47071001 | I236: =P199/Q199*100 -> 0.70179353 | J236: =R199/S199*100 -> 0.29936302 | K236: =T199/U199*100 -> 0.24818103 | L236: =V199/W199*100 -> 0.12522769 | M236: =X199/Y199*100 -> 1.8544817 | N236: =Z199/AA199*100 -> 0.81649198
A237: 2012 | B237: =B200/C200*100 -> 1.4649461 | C237: =D200/E200*100 -> 0.46094143 | D237: =F200/G200*100 -> 0.14793163 | E237: =H200/I200*100 -> 1.3089048 | F237: =J200/K200*100 -> 0.92537795 | G237: =L200/M200*100 -> 1.4466531 | H237: =N200/O200*100 -> 0.51271453 | I237: =P200/Q200*100 -> 0.62396467 | J237: =R200/S200*100 -> 0.21920095 | K237: =T200/U200*100 -> 0.13179069 | L237: =V200/W200*100 -> 0.11200154 | M237: =X200/Y200*100 -> 1.4957108 | N237: =Z200/AA200*100 -> 0.58139535
A238: 2013 | B238: =B201/C201*100 -> 1.5887316 | C238: =D201/E201*100 -> 0.49458986 | D238: =F201/G201*100 -> 0.15917198 | E238: =H201/I201*100 -> 1.182708 | F238: =J201/K201*100 -> 0.9097236 | G238: =L201/M201*100 -> 1.2318495 | H238: =N201/O201*100 -> 0.70938308 | I238: =P201/Q201*100 -> 0.915052 | J238: =R201/S201*100 -> 0.1862054 | K238: =T201/U201*100 -> 0.13652633 | L238: =V201/W201*100 -> 0.087024416 | M238: =X201/Y201*100 -> 1.2049697 | N238: =Z201/AA201*100 -> 0.62341711
A239: Average | B239: =AVERAGE(B231:B238) -> 0.86271837 | C239: =AVERAGE(C231:C238) -> 0.31040898 | D239: =AVERAGE(D231:D238) -> 0.22328307 | E239: =AVERAGE(E231:E238) -> 0.7590528 | F239: =AVERAGE(F231:F238) -> 0.58486328 | G239: =AVERAGE(G231:G238) -> 1.186352 | H239: =AVERAGE(H231:H238) -> 0.50731772 | I239: =AVERAGE(I231:I238) -> 0.60254163 | ... N239: =AVERAGE(N231:N238) -> 0.49646886
A240: Range | B240: =MAX(B231:B238)-MIN(B231:B238) -> 1.489462 | C240: =MAX(C231:C238)-MIN(C231:C238) -> 0.52620143 | D240: =MAX(D231:D238)-MIN(D231:D238) -> 0.8933576 | E240: =MAX(E231:E238)-MIN(E231:E238) -> 0.9662885 | F240: =MAX(F231:F238)-MIN(F231:F238) -> 1.033791 | G240: =MAX(G231:G238)-MIN(G231:G238) -> 2.8061362 | H240: =MAX(H231:H238)-MIN(H231:H238) -> 0.40251177 | I240: =MAX(I231:I238)-MIN(I231:I238) -> 0.915052 | ... N240: =MAX(N231:N238)-MIN(N231:N238) -> 1.2204541
A241: Change in Contribution | B241: =B238-B231 -> 1.4823985 | C241: =C238-C231 -> 0.39560241 | D241: =D238-D231 -> 0.06886789 | E241: =E238-E231 -> 0.82395287 | F241: =F238-F231 -> 0.8513546 | G241: =G238-G231 -> 0.94981179 | H241: =H238-H231 -> 0.40251177 | I241: =I238-I231 -> 0.915052 | ... N241: =N238-N231 -> 0.39221392
