Workbook

Sheet Total
A1: Total Live Vehicle Population
A2: Total Vehicle Population | B2: Total | C2: Metro Municipality | D2: Ugu District Municipality | J2: uMgungundlovu District Municipality | Q2: Uthukela District Municipality | V2: Umzinyathi District Municipality | Z2: Zululand District Municipality | AE2: Umkhanyakude District Municipality | AJ2: Uthungulu District Municipality | AP2: iLembe District Municipality | AT2: Sisonke District Municipality | AY2: Amajuba District Municipality
B3: Total | C3: Ethekwini Metropolitan Municipality | D3: Vulamehlo Local Municipality (KZN211) | E3: Umdoni Local Municipality (KZN212) | F3: Umzumbe Local Municipality (KZN213) | G3: UMuziwabantu Local Municipality (KZN214) | H3: Ezingoleni Local Municipality (KZN215) | I3: Hibiscus Coast Local Municipality (KZN216) | J3: uMshwathi Local Municipality (KZN221) | K3: uMngeni Local Municipality (KZN222) | L3: Mpofana Local Municipality (KZN223) | M3: Impendle Local Municipality (KZN224) | N3: The Msunduzi Local Municipality (KZN225) | O3: Mkhambathini Local Municipality (KZN226) | P3: Richmond Local Municipality (KZN227) | Q3: Emnambithi/Ladysmith Local Municipality (KZN232) | R3: Indaka Local Municipality (KZN233) | S3: Umtshezi Local Municipality (KZN234) | T3: Okhahlamba Local Municipality (KZN235) | U3: Imbabazane Local Municipality (KZN236) | V3: Endumeni Local Municipality (KZN241) | W3: Nqutu Local Municipality (KZN242) | X3: Msinga Local Municipality (KZN244) | Y3: Umvoti Local Municipality (KZN245) | Z3: eDumbe Local Municipality (KZN261) | AA3: UPhongolo Local Municipality (KZN262) | AB3: Abaqulusi Local Municipality (KZN263) | AC3: Nongoma Local Municipality (KZN265) | AD3: Ulundi Local Municipality (KZN266) | AE3: Umhlabuyalingana Local Municipality (KZN271) | AF3: Jozini Local Municipality (KZN272) | AG3: The Big 5 False Bay Local Municipality (KZN273) | AH3: Hlabisa Local Municipality (KZN274) | AI3: Mtubatuba Local Municipality (KZN275) | AJ3: Mfolozi Local Municipality (KZN281, Mbonambi) | AK3: uMhlathuze Local Municipality (KZN282) | AL3: Ntambanana Local Municipality (KZN283) | AM3: uMlalazi Local Municipality (KZN284) | AN3: Mthonjaneni Local Municipality (KZN285) | AO3: Nkandla Local Municipality (KZN286) | AP3: Mandeni Local Municipality (KZN291) | AQ3: KwaDukuza Local Municipality (KZN292) | AR3: Ndwedwe Local Municipality (KZN293) | AS3: Maphumulo Local Municipality (KZN294) | AT3: Ingwe Local Municipality (KZN431) | AU3: Kwa Sani Local Municipality (KZN432) | AV3: Greater Kokstad Local Municipality (KZN433) | AW3: Ubuhlebezwe Local Municipality (KZN434) | AX3: Umzimkhulu Local Municipality (KZN435) | AY3: Newcastle Local Municipality (KZN252) | AZ3: Emadlangeni Local Municipality (KZN253) | BA3: Dannhauser Local Municipality (KZN254)
A4: 40816 | B4: =SUM(C4:BA4) -> 1361407 | C4: =49734+457542+121258+618+43137+13604+39635 -> 725528 | E4: =21065 -> 21065 | G4: =3962 -> 3962 | I4: =56679 -> 56679 | J4: =8663 -> 8663 | K4: =18870 -> 18870 | L4: =6286 -> 6286 | M4: =657 -> 657 | N4: =138698 -> 138698 | O4: =13815 -> 13815 | P4: =4413 -> 4413 | Q4: =30547 -> 30547 | S4: =13981+1250 -> 15231 | T4: =5112 -> 5112 | V4: =11044+3685 -> 14729 | W4: =2277 -> 2277 | X4: =1485 -> 1485 | Y4: =9146+1782 -> 10928 | Z4: =3798 -> 3798 | AA4: =7000+134 -> 7134 | AB4: =455+23324 -> 23779 | AC4: =2619 -> 2619 | AD4: =470+427+4498 -> 5395 | AF4: =3233+4754 -> 7987 | AI4: =12944 -> 12944 | AK4: =25140+47974 -> 73114 | AM4: =7707+10230 -> 17937 | AN4: =3288 -> 3288 | AO4: =1231 -> 1231 | AQ4: =36927 -> 36927 | AR4: =387 -> 387 | AS4: =732 -> 732 | AT4: =979 -> 979 | AU4: =3312 -> 3312 | AV4: =16667 -> 16667 | AW4: =5808 -> 5808 | AX4: =3281 -> 3281 | AY4: =50195 -> 50195 | AZ4: =2154 -> 2154 | BA4: =2794 -> 2794
A5: 40847 | B5: =SUM(C5:BA5) -> 1365942 | C5: =49610+459233+121281+637+43401+13668+40140 -> 727970 | E5: =20826 -> 20826 | G5: =3982 -> 3982 | I5: =57061 -> 57061 | J5: =8664 -> 8664 | K5: =18935 -> 18935 | L5: =6407 -> 6407 | M5: 650 | N5: 138901 | O5: =13856 -> 13856 | P5: =4409 -> 4409 | Q5: =30547 -> 30547 | S5: =14073+1247 -> 15320 | T5: =5066 -> 5066 | V5: =11131+3714 -> 14845 | W5: =2317 -> 2317 | X5: =1494 -> 1494 | Y5: =9162+1797 -> 10959 | Z5: =3788 -> 3788 | AA5: =7080+141 -> 7221 | AB5: =445+23416 -> 23861 | AC5: =2541 -> 2541 | AD5: =478+442+4548 -> 5468 | AF5: =3254+4778 -> 8032 | AI5: =12968 -> 12968 | AK5: =25146+48249 -> 73395 | AM5: =7787+10251 -> 18038 | AN5: =3312 -> 3312 | AO5: =1240 -> 1240 | AQ5: =37176 -> 37176 | AR5: =382 -> 382 | AS5: =717 -> 717 | AT5: =970 -> 970 | AU5: =3327 -> 3327 | AV5: =16672 -> 16672 | AW5: =5834 -> 5834 | AX5: =3346 -> 3346 | AY5: =50433 -> 50433 | AZ5: =2168 -> 2168 | BA5: =2844 -> 2844
A6: 40877 | B6: =SUM(C6:BA6) -> 1363674.5 | C6: =AVERAGE(C4:C5) -> 726749 | E6: =AVERAGE(E4:E5) -> 20945.5 | G6: =AVERAGE(G4:G5) -> 3972 | I6: =AVERAGE(I4:I5) -> 56870 | J6: =AVERAGE(J4:J5) -> 8663.5 | K6: =AVERAGE(K4:K5) -> 18902.5 | L6: =AVERAGE(L4:L5) -> 6346.5 | M6: =AVERAGE(M4:M5) -> 653.5 | N6: =AVERAGE(N4:N5) -> 138799.5 | O6: =AVERAGE(O4:O5) -> 13835.5 | P6: =AVERAGE(P4:P5) -> 4411 | Q6: =AVERAGE(Q4:Q5) -> 30547 | S6: =AVERAGE(S4:S5) -> 15275.5 | T6: =AVERAGE(T4:T5) -> 5089 | V6: =AVERAGE(V4:V5) -> 14787 | W6: =AVERAGE(W4:W5) -> 2297 | X6: =AVERAGE(X4:X5) -> 1489.5 | Y6: =AVERAGE(Y4:Y5) -> 10943.5 | Z6: =AVERAGE(Z4:Z5) -> 3793 | AA6: =AVERAGE(AA4:AA5) -> 7177.5 | AB6: =AVERAGE(AB4:AB5) -> 23820 | AC6: =AVERAGE(AC4:AC5) -> 2580 | AD6: =AVERAGE(AD4:AD5) -> 5431.5 | AF6: =AVERAGE(AF4:AF5) -> 8009.5 | AI6: =AVERAGE(AI4:AI5) -> 12956 | AK6: =AVERAGE(AK4:AK5) -> 73254.5 | AM6: =AVERAGE(AM4:AM5) -> 17987.5 | AN6: =AVERAGE(AN4:AN5) -> 3300 | AO6: =AVERAGE(AO4:AO5) -> 1235.5 | AQ6: =AVERAGE(AQ4:AQ5) -> 37051.5 | AR6: =AVERAGE(AR4:AR5) -> 384.5 | AS6: =AVERAGE(AS4:AS5) -> 724.5 | AT6: =AVERAGE(AT4:AT5) -> 974.5 | AU6: =AVERAGE(AU4:AU5) -> 3319.5 | AV6: =AVERAGE(AV4:AV5) -> 16669.5 | AW6: =AVERAGE(AW4:AW5) -> 5821 | AX6: =AVERAGE(AX4:AX5) -> 3313.5 | ... BA6: =AVERAGE(BA4:BA5) -> 2819
A7: 40908 | B7: =SUM(C7:BA7) -> 1364808.2 | C7: =AVERAGE(C5:C6) -> 727359.5 | E7: =AVERAGE(E5:E6) -> 20885.75 | G7: =AVERAGE(G5:G6) -> 3977 | I7: =AVERAGE(I5:I6) -> 56965.5 | J7: =AVERAGE(J5:J6) -> 8663.75 | K7: =AVERAGE(K5:K6) -> 18918.75 | L7: =AVERAGE(L5:L6) -> 6376.75 | M7: =AVERAGE(M5:M6) -> 651.75 | N7: =AVERAGE(N5:N6) -> 138850.25 | O7: =AVERAGE(O5:O6) -> 13845.75 | P7: =AVERAGE(P5:P6) -> 4410 | Q7: =AVERAGE(Q5:Q6) -> 30547 | S7: =AVERAGE(S5:S6) -> 15297.75 | T7: =AVERAGE(T5:T6) -> 5077.5 | V7: =AVERAGE(V5:V6) -> 14816 | W7: =AVERAGE(W5:W6) -> 2307 | X7: =AVERAGE(X5:X6) -> 1491.75 | Y7: =AVERAGE(Y5:Y6) -> 10951.25 | Z7: =AVERAGE(Z5:Z6) -> 3790.5 | AA7: =AVERAGE(AA5:AA6) -> 7199.25 | AB7: =AVERAGE(AB5:AB6) -> 23840.5 | AC7: =AVERAGE(AC5:AC6) -> 2560.5 | AD7: =AVERAGE(AD5:AD6) -> 5449.75 | AF7: =AVERAGE(AF5:AF6) -> 8020.75 | AI7: =AVERAGE(AI5:AI6) -> 12962 | AK7: =AVERAGE(AK5:AK6) -> 73324.75 | AM7: =AVERAGE(AM5:AM6) -> 18012.75 | AN7: =AVERAGE(AN5:AN6) -> 3306 | AO7: =AVERAGE(AO5:AO6) -> 1237.75 | AQ7: =AVERAGE(AQ5:AQ6) -> 37113.75 | AR7: =AVERAGE(AR5:AR6) -> 383.25 | AS7: =AVERAGE(AS5:AS6) -> 720.75 | AT7: =AVERAGE(AT5:AT6) -> 972.25 | AU7: =AVERAGE(AU5:AU6) -> 3323.25 | AV7: =AVERAGE(AV5:AV6) -> 16670.75 | AW7: =AVERAGE(AW5:AW6) -> 5827.5 | AX7: =AVERAGE(AX5:AX6) -> 3329.75 | ... BA7: =AVERAGE(BA5:BA6) -> 2831.5
A8: 40939 | B8: =SUM(C8:BA8) -> 1379682 | C8: =49766+463187+122368+640+43565+13996+40541 -> 734063 | E8: =20961 -> 20961 | G8: =3976 -> 3976 | I8: =57488 -> 57488 | J8: =8654 -> 8654 | K8: =19164 -> 19164 | L8: =6430 -> 6430 | M8: =657 -> 657 | N8: =140296 -> 140296 | O8: =14036 -> 14036 | P8: =4440 -> 4440 | Q8: =30886 -> 30886 | S8: =14283+1260 -> 15543 | T8: =5113 -> 5113 | V8: =11268+3754 -> 15022 | W8: =2353 -> 2353 | X8: =1524 -> 1524 | Y8: =9279+1773 -> 11052 | Z8: =3820 -> 3820 | AA8: =7104+147 -> 7251 | AB8: =492+23563 -> 24055 | AC8: =2652 -> 2652 | AD8: =532+512+4700 -> 5744 | AF8: =3402+4893 -> 8295 | AI8: =13088 -> 13088 | AK8: =25180+49480 -> 74660 | AM8: =7941+10281 -> 18222 | AN8: =3283 -> 3283 | AO8: =1179 -> 1179 | AQ8: =37876 -> 37876 | AR8: =379 -> 379 | AS8: =749 -> 749 | AT8: =945 -> 945 | AU8: =3393 -> 3393 | AV8: =17249 -> 17249 | AW8: =5879 -> 5879 | AX8: =3347 -> 3347 | AY8: =50991 -> 50991 | AZ8: =2152 -> 2152 | BA8: =2815 -> 2815
A9: 40968 | B9: =SUM(C9:BA9) -> 1384367 | C9: =49922+464495+122608+635+43812+14091+40679 -> 736242 | E9: =21052 -> 21052 | G9: =4015 -> 4015 | I9: =57499 -> 57499 | J9: =8771 -> 8771 | K9: =19156 -> 19156 | L9: =6482 -> 6482 | M9: =643 -> 643 | N9: =140783 -> 140783 | O9: =14093 -> 14093 | P9: =4468 -> 4468 | Q9: =31029 -> 31029 | S9: =14374+1235 -> 15609 | T9: =5157 -> 5157 | V9: =11323+3780 -> 15103 | W9: =2387 -> 2387 | X9: =1540 -> 1540 | Y9: =9297+1791 -> 11088 | Z9: =3849 -> 3849 | AA9: =7176+135 -> 7311 | AB9: =457+23611 -> 24068 | AC9: =2590 -> 2590 | AD9: =520+495+4713 -> 5728 | AF9: =3430+4932 -> 8362 | AI9: =13251 -> 13251 | AK9: =25388+49658 -> 75046 | AM9: =8012+10287 -> 18299 | AN9: =3297 -> 3297 | AO9: =1222 -> 1222 | AQ9: =38035 -> 38035 | AR9: =386 -> 386 | AS9: =726 -> 726 | AT9: =964 -> 964 | AU9: =3432 -> 3432 | AV9: =17303 -> 17303 | AW9: =5892 -> 5892 | AX9: =3283 -> 3283 | AY9: =51166 -> 51166 | AZ9: =2158 -> 2158 | BA9: =2882 -> 2882
A10: 40999 | B10: =SUM(C10:BA10) -> 1389202 | C10: =50162+466311+122941+638+43972+14162+40811 -> 738997 | E10: =21028 -> 21028 | G10: =3992 -> 3992 | I10: =57517 -> 57517 | J10: =8771 -> 8771 | K10: =19335 -> 19335 | L10: =6546 -> 6546 | M10: =662 -> 662 | N10: =141361 -> 141361 | O10: =14082 -> 14082 | P10: =4501 -> 4501 | Q10: =31014 -> 31014 | S10: =14375+1261 -> 15636 | T10: =5156 -> 5156 | V10: =11341+3824 -> 15165 | W10: =2355 -> 2355 | X10: =1548 -> 1548 | Y10: =9345+1768 -> 11113 | Z10: =3859 -> 3859 | AA10: =7221+137 -> 7358 | AB10: =470+23772 -> 24242 | AC10: =2612 -> 2612 | AD10: =527+464+4688 -> 5679 | AF10: =3430+4993 -> 8423 | AI10: =13262 -> 13262 | AK10: =25496+50019 -> 75515 | AM10: =8036+10283 -> 18319 | AN10: =3239 -> 3239 | AO10: =1297 -> 1297 | AQ10: =38165 -> 38165 | AR10: =399 -> 399 | AS10: =720 -> 720 | AT10: =976 -> 976 | AU10: =3411 -> 3411 | AV10: =17370 -> 17370 | AW10: =5839 -> 5839 | AX10: =3343 -> 3343 | AY10: =51277 -> 51277 | AZ10: =2187 -> 2187 | BA10: =2931 -> 2931
A11: 41029 | B11: =SUM(C11:BA11) -> 1393243 | C11: =50112+467873+123183+637+44052+14234+40723 -> 740814 | E11: =20980 -> 20980 | G11: =4013 -> 4013 | I11: =57701 -> 57701 | J11: =8726 -> 8726 | K11: =19389 -> 19389 | L11: =6525 -> 6525 | M11: =660 -> 660 | N11: =141903 -> 141903 | O11: =14109 -> 14109 | P11: =4521 -> 4521 | Q11: =31051 -> 31051 | S11: =14526+1266 -> 15792 | T11: =5198 -> 5198 | V11: =11315+3837 -> 15152 | W11: =2422 -> 2422 | X11: =1600 -> 1600 | Y11: =9362+1726 -> 11088 | Z11: =3814 -> 3814 | AA11: =7250+125 -> 7375 | AB11: =446+23874 -> 24320 | AC11: =2628 -> 2628 | AD11: =524+511+4718 -> 5753 | AF11: =3423+5060 -> 8483 | AI11: =13325 -> 13325 | AK11: =25602+50322 -> 75924 | AM11: =8045+10304 -> 18349 | AN11: =3211 -> 3211 | AO11: =1272 -> 1272 | AQ11: =38296 -> 38296 | AR11: =404 -> 404 | AS11: =734 -> 734 | AT11: =973 -> 973 | AU11: =3484 -> 3484 | AV11: =17429 -> 17429 | AW11: =5852 -> 5852 | AX11: =3363 -> 3363 | AY11: =51516 -> 51516 | AZ11: =2160 -> 2160 | BA11: =2934 -> 2934
A12: 41060 | B12: =SUM(C12:BA12) -> 1397995 | C12: =50320+468771+123606+635+44351+14341+40767 -> 742791 | E12: =20998 -> 20998 | G12: =4032 -> 4032 | I12: =58016 -> 58016 | J12: =8793 -> 8793 | K12: =19418 -> 19418 | L12: =6520 -> 6520 | M12: =677 -> 677 | N12: =142461 -> 142461 | O12: =14188 -> 14188 | P12: =4534 -> 4534 | Q12: =31255 -> 31255 | S12: =14542+1282 -> 15824 | T12: =5184 -> 5184 | V12: =11314+3858 -> 15172 | W12: =2478 -> 2478 | X12: =1577 -> 1577 | Y12: =9380+1717 -> 11097 | Z12: =3824 -> 3824 | AA12: =7258+145 -> 7403 | AB12: =465+23958 -> 24423 | AC12: =2689 -> 2689 | AD12: =515+516+4728 -> 5759 | AF12: =3429+5073 -> 8502 | AI12: =13375 -> 13375 | AK12: =25623+50687 -> 76310 | AM12: =8085+10382 -> 18467 | AN12: =3267 -> 3267 | AO12: =1274 -> 1274 | AQ12: =38558 -> 38558 | AR12: =413 -> 413 | AS12: =744 -> 744 | AT12: =974 -> 974 | AU12: =3465 -> 3465 | AV12: =17497 -> 17497 | AW12: =5911 -> 5911 | AX12: =3345 -> 3345 | AY12: =51658 -> 51658 | AZ12: =2197 -> 2197 | BA12: =2925 -> 2925
A13: 41090 | B13: =SUM(C13:BA13) -> 1403575 | C13: =50404+470713+124201+647+44523+14398+40869 -> 745755 | E13: =21069 -> 21069 | G13: =4061 -> 4061 | I13: =58218 -> 58218 | J13: =8822 -> 8822 | K13: =19477 -> 19477 | L13: =6514 -> 6514 | M13: =700 -> 700 | N13: =143160 -> 143160 | O13: =14168 -> 14168 | P13: =4547 -> 4547 | Q13: =31282 -> 31282 | S13: =14548+1275 -> 15823 | T13: =5247 -> 5247 | V13: =11426+3874 -> 15300 | W13: =2472 -> 2472 | X13: =1599 -> 1599 | Y13: =9331+1722 -> 11053 | Z13: =3832 -> 3832 | AA13: =7266+166 -> 7432 | AB13: =454+23915 -> 24369 | AC13: =2737 -> 2737 | AD13: =502+522+4819 -> 5843 | AF13: =3441+5195 -> 8636 | AI13: =13450 -> 13450 | AK13: =25715+51031 -> 76746 | AM13: =8144+10402 -> 18546 | AN13: =3248 -> 3248 | AO13: =1322 -> 1322 | AQ13: =38803 -> 38803 | AR13: =422 -> 422 | AS13: =701 -> 701 | AT13: =954 -> 954 | AU13: =3493 -> 3493 | AV13: =17544 -> 17544 | AW13: =5868 -> 5868 | AX13: =3313 -> 3313 | AY13: =51880 -> 51880 | AZ13: =2185 -> 2185 | BA13: =2984 -> 2984
A14: 41121 | B14: =SUM(C14:BA14) -> 1408824 | C14: =50774+472198+124114+644+44575+14535+41290 -> 748130 | E14: =21207 -> 21207 | G14: =4013 -> 4013 | I14: =58313 -> 58313 | J14: =8892 -> 8892 | K14: =19559 -> 19559 | L14: =6546 -> 6546 | M14: =674 -> 674 | N14: =143740 -> 143740 | O14: =14203 -> 14203 | P14: =4546 -> 4546 | Q14: =31342 -> 31342 | S14: =14650+1280 -> 15930 | T14: =5296 -> 5296 | V14: =11455+3870 -> 15325 | W14: =2496 -> 2496 | X14: =1592 -> 1592 | Y14: =9394+1731 -> 11125 | Z14: =3845 -> 3845 | AA14: =163+7268 -> 7431 | AB14: =475+24004 -> 24479 | AC14: =2770 -> 2770 | AD14: =482+517+4869 -> 5868 | AF14: =3454+5209 -> 8663 | AI14: =13471 -> 13471 | AK14: =25845+51605 -> 77450 | AM14: =8180+10406 -> 18586 | AN14: =3277 -> 3277 | AO14: =1350 -> 1350 | AQ14: =38914 -> 38914 | AR14: =434 -> 434 | AS14: =749 -> 749 | AT14: =961 -> 961 | AU14: =3469 -> 3469 | AV14: =17718 -> 17718 | AW14: =5884 -> 5884 | AX14: =3334 -> 3334 | AY14: =52083 -> 52083 | AZ14: =2188 -> 2188 | BA14: 2971
A15: 41152 | B15: =SUM(C15:BA15) -> 1414296 | C15: =51046+473295+124801+672+44696+14612+41717 -> 750839 | E15: =21226 -> 21226 | G15: =4132 -> 4132 | I15: =58562 -> 58562 | J15: =8916 -> 8916 | K15: =19698 -> 19698 | L15: =6563 -> 6563 | M15: =663 -> 663 | N15: =144058 -> 144058 | O15: =14251 -> 14251 | P15: =4590 -> 4590 | Q15: =31477 -> 31477 | S15: =14488+1251 -> 15739 | T15: =5408 -> 5408 | V15: =11521+3868 -> 15389 | W15: =2605 -> 2605 | X15: =1592 -> 1592 | Y15: =9426+1762 -> 11188 | Z15: =3826 -> 3826 | AA15: =136+7282 -> 7418 | AB15: =465+24129 -> 24594 | AC15: =2746 -> 2746 | AD15: =472+501+4916 -> 5889 | AF15: =3523+5291 -> 8814 | AI15: =13511 -> 13511 | AK15: =26005+52034 -> 78039 | AM15: =8228+10369 -> 18597 | AN15: =3283 -> 3283 | AO15: =1312 -> 1312 | AQ15: =39256 -> 39256 | AR15: =440 -> 440 | AS15: =763 -> 763 | AT15: =943 -> 943 | AU15: =3436 -> 3436 | AV15: =17816 -> 17816 | AW15: =5907 -> 5907 | AX15: =3437 -> 3437 | AY15: =52237 -> 52237 | AZ15: =2152 -> 2152 | BA15: =2984 -> 2984
A16: 41182 | B16: =SUM(C16:BA16) -> 1418122 | C16: =51241+474683+124941+621+44785+14763+41986 -> 753020 | E16: =21156 -> 21156 | G16: =4086 -> 4086 | I16: =58863 -> 58863 | J16: =8967 -> 8967 | K16: =19727 -> 19727 | L16: =6571 -> 6571 | M16: =654 -> 654 | N16: =144403 -> 144403 | O16: =14274 -> 14274 | P16: =4586 -> 4586 | Q16: =31437 -> 31437 | S16: =14576+1248 -> 15824 | T16: =5425 -> 5425 | V16: =11537+3902 -> 15439 | W16: =2639 -> 2639 | X16: =1604 -> 1604 | Y16: =9458+1813 -> 11271 | Z16: =3867 -> 3867 | AA16: =165+7379 -> 7544 | AB16: =455+24181 -> 24636 | AC16: =2796 -> 2796 | AD16: =512+489+4891 -> 5892 | AF16: =3524+5255 -> 8779 | AI16: =13600 -> 13600 | AK16: =26024+52378 -> 78402 | AM16: =8217+10447 -> 18664 | AN16: =3262 -> 3262 | AO16: =1315 -> 1315 | AQ16: =39314 -> 39314 | AR16: =451 -> 451 | AS16: =754 -> 754 | AT16: =930 -> 930 | AU16: =3463 -> 3463 | AV16: =17802 -> 17802 | AW16: =5901 -> 5901 | AX16: =3457 -> 3457 | AY16: =52201 -> 52201 | AZ16: =2151 -> 2151 | BA16: =2995 -> 2995
A17: 41213 | B17: =SUM(C17:BA17) -> 1424128 | C17: =50979+477228+125280+686+44877+14855+42237 -> 756142 | E17: =21158 -> 21158 | G17: =4186 -> 4186 | I17: =59071 -> 59071 | J17: =9037 -> 9037 | K17: =19760 -> 19760 | L17: =6580 -> 6580 | M17: =650 -> 650 | N17: =144850 -> 144850 | O17: =14236 -> 14236 | P17: =4577 -> 4577 | Q17: =31629 -> 31629 | S17: =14664+1258 -> 15922 | T17: =5399 -> 5399 | V17: =11707+3853 -> 15560 | W17: =2646 -> 2646 | X17: =1609 -> 1609 | Y17: =9505+1765 -> 11270 | Z17: =3845 -> 3845 | AA17: =167+7378 -> 7545 | AB17: =448+24176 -> 24624 | AC17: =2838 -> 2838 | AD17: =548+507+4916 -> 5971 | AF17: =3571+5288 -> 8859 | AI17: =13632 -> 13632 | AK17: =26203+52884 -> 79087 | AM17: =8208+10406 -> 18614 | AN17: =3289 -> 3289 | AO17: =1320 -> 1320 | AQ17: =39584 -> 39584 | AR17: =448 -> 448 | AS17: =728 -> 728 | AT17: =973 -> 973 | AU17: =3441 -> 3441 | AV17: =17939 -> 17939 | AW17: =5979 -> 5979 | AX17: =3425 -> 3425 | AY17: =52496 -> 52496 | AZ17: =2159 -> 2159 | BA17: =3050 -> 3050
A18: 41243 | B18: =SUM(C18:BA18) -> 1428052 | C18: =51031+477733+125309+728+45127+14891+42439 -> 757258 | E18: =21173 -> 21173 | G18: 4168 | I18: =59125 -> 59125 | J18: =9052 -> 9052 | K18: =19821 -> 19821 | L18: =6576 -> 6576 | M18: 664 | N18: =145610 -> 145610 | O18: =14251 -> 14251 | P18: =4612 -> 4612 | Q18: =31679 -> 31679 | S18: =14593+1267 -> 15860 | T18: =5463 -> 5463 | V18: =11713+3875 -> 15588 | W18: =2701 -> 2701 | X18: =1621 -> 1621 | Y18: =9560+1767 -> 11327 | Z18: =3811 -> 3811 | AA18: =147+7436 -> 7583 | AB18: =460+24297 -> 24757 | AC18: =2881 -> 2881 | AD18: =525+541+4895 -> 5961 | AF18: =3564+5307 -> 8871 | AI18: =13772 -> 13772 | AK18: =26254+53265 -> 79519 | AM18: =8310+10456 -> 18766 | AN18: =3281 -> 3281 | AO18: =1333 -> 1333 | AQ18: =39752 -> 39752 | AR18: =430 -> 430 | AS18: =785 -> 785 | AT18: =956 -> 956 | AU18: =3453 -> 3453 | AV18: =18122 -> 18122 | AW18: =5941 -> 5941 | AX18: =3395 -> 3395 | AY18: =52880 -> 52880 | AZ18: =2187 -> 2187 | BA18: =3067 -> 3067
A19: 41274 | B19: =SUM(C19:BA19) -> 1428826 | C19: =50551+478091+124866+697+45005+14936+42261 -> 756407 | E19: =21057 -> 21057 | G19: =4205 -> 4205 | I19: =59338 -> 59338 | J19: =8976 -> 8976 | K19: =19842 -> 19842 | L19: =6623 -> 6623 | M19: =648 -> 648 | N19: =145486 -> 145486 | O19: =14272 -> 14272 | P19: =4601 -> 4601 | Q19: =31821 -> 31821 | S19: =14657+1242 -> 15899 | T19: =5465 -> 5465 | V19: =11728+3921 -> 15649 | W19: =2673 -> 2673 | X19: =1662 -> 1662 | Y19: =9576+1786 -> 11362 | Z19: =3856 -> 3856 | AA19: =134+7508 -> 7642 | AB19: =469+24340 -> 24809 | AC19: =2877 -> 2877 | AD19: =495+598+4973 -> 6066 | AF19: =3612+5292 -> 8904 | AI19: =13751 -> 13751 | AK19: =26273+53690 -> 79963 | AM19: =8198+10559 -> 18757 | AN19: =3294 -> 3294 | AO19: =1447 -> 1447 | AQ19: =39973 -> 39973 | AR19: =450 -> 450 | AS19: =748 -> 748 | AT19: =968 -> 968 | AU19: =3505 -> 3505 | AV19: =18242 -> 18242 | AW19: =6062 -> 6062 | AX19: =3379 -> 3379 | AY19: =52873 -> 52873 | AZ19: =2177 -> 2177 | BA19: =3097 -> 3097
A20: 41305 | B20: =SUM(C20:BA20) -> 1437313 | C20: =51221+480513+125583+705+45450+15067+42467 -> 761006 | E20: =21130 -> 21130 | G20: =4140 -> 4140 | I20: =59708 -> 59708 | J20: =8979 -> 8979 | K20: =19909 -> 19909 | L20: =6647 -> 6647 | M20: =695 -> 695 | N20: =146701 -> 146701 | O20: =14318 -> 14318 | P20: =4581 -> 4581 | Q20: =31962 -> 31962 | S20: =14686+1255 -> 15941 | T20: =5511 -> 5511 | V20: =11764+3878 -> 15642 | W20: =2684 -> 2684 | X20: =1710 -> 1710 | Y20: =9595+1775 -> 11370 | Z20: =3863 -> 3863 | AA20: =137+7527 -> 7664 | AB20: =454+24478 -> 24932 | AC20: =2865 -> 2865 | AD20: =507+577+4930 -> 6014 | AF20: =3670+5310 -> 8980 | AI20: =13722 -> 13722 | AK20: =26317+54218 -> 80535 | AM20: =8373+10471 -> 18844 | AN20: =3302 -> 3302 | AO20: =1353 -> 1353 | AQ20: =40485 -> 40485 | AR20: =421 -> 421 | AS20: =729 -> 729 | AT20: =987 -> 987 | AU20: =3500 -> 3500 | AV20: =18386 -> 18386 | AW20: =6064 -> 6064 | AX20: =3418 -> 3418 | AY20: =53317 -> 53317 | AZ20: =2168 -> 2168 | BA20: =3130 -> 3130
A21: 41333 | B21: =SUM(C21:BA21) -> 1441539 | C21: =51501+482672+125714+702+45627+15119+42440 -> 763775 | E21: =21100 -> 21100 | G21: =4108 -> 4108 | I21: =59746 -> 59746 | J21: =9034 -> 9034 | K21: =20027 -> 20027 | L21: =6705 -> 6705 | M21: =699 -> 699 | N21: =146855 -> 146855 | O21: =14446 -> 14446 | P21: =4590 -> 4590 | Q21: =32035 -> 32035 | S21: =14661+1264 -> 15925 | T21: =5535 -> 5535 | V21: =11760+3882 -> 15642 | W21: =2629 -> 2629 | X21: =1721 -> 1721 | Y21: =9649+1764 -> 11413 | Z21: =3858 -> 3858 | AA21: =158+7539 -> 7697 | AB21: =434+24518 -> 24952 | AC21: =2895 -> 2895 | AD21: =496+549+5045 -> 6090 | AF21: =3661+5352 -> 9013 | AI21: =13740 -> 13740 | AK21: =26370+54623 -> 80993 | AM21: =8478+10513 -> 18991 | AN21: =3306 -> 3306 | AO21: =1270 -> 1270 | AQ21: =40482 -> 40482 | AR21: =425 -> 425 | AS21: =736 -> 736 | AT21: =971 -> 971 | AU21: =3526 -> 3526 | AV21: =18330 -> 18330 | AW21: =6083 -> 6083 | AX21: =3431 -> 3431 | AY21: =53424 -> 53424 | AZ21: =2177 -> 2177 | BA21: =3164 -> 3164
A22: 41364 | B22: =SUM(C22:BA22) -> 1444939 | C22: =51774+483224+125937+690+46159+15129+42454 -> 765367 | E22: =21051 -> 21051 | G22: =4070 -> 4070 | I22: =59764 -> 59764 | J22: =9078 -> 9078 | K22: =20115 -> 20115 | L22: =6610 -> 6610 | M22: =708 -> 708 | N22: =147278 -> 147278 | O22: =14407 -> 14407 | P22: =4577 -> 4577 | Q22: =32215 -> 32215 | S22: =14623+1271 -> 15894 | T22: =5621 -> 5621 | V22: =11813+3939 -> 15752 | W22: =2673 -> 2673 | X22: =1717 -> 1717 | Y22: =9692+1726 -> 11418 | Z22: =3917 -> 3917 | AA22: =143+7572 -> 7715 | AB22: =421+24548 -> 24969 | AC22: =2917 -> 2917 | AD22: =486+570+5047 -> 6103 | AF22: =3703+5410 -> 9113 | AI22: =13852 -> 13852 | AK22: =26531+54741 -> 81272 | AM22: =8547+10440 -> 18987 | AN22: =3281 -> 3281 | AO22: =1444 -> 1444 | AQ22: =40769 -> 40769 | AR22: =441 -> 441 | AS22: =731 -> 731 | AT22: =969 -> 969 | AU22: =3507 -> 3507 | AV22: =18406 -> 18406 | AW22: =6057 -> 6057 | AX22: =3386 -> 3386 | AY22: =53416 -> 53416 | AZ22: =2179 -> 2179 | BA22: =3193 -> 3193
A23: 41394 | B23: =SUM(C23:BA23) -> 1449335 | C23: =52150+484124+126278+711+46319+15366+42265 -> 767213 | E23: =21154 -> 21154 | G23: =4112 -> 4112 | I23: =59785 -> 59785 | J23: =9011 -> 9011 | K23: =20136 -> 20136 | L23: =6642 -> 6642 | M23: =709 -> 709 | N23: =148125 -> 148125 | O23: =14435 -> 14435 | P23: =4608 -> 4608 | Q23: =32247 -> 32247 | S23: =14732+1292 -> 16024 | T23: =5596 -> 5596 | V23: =11803+3959 -> 15762 | W23: =2735 -> 2735 | X23: =1697 -> 1697 | Y23: =9767+1734 -> 11501 | Z23: =3942 -> 3942 | AA23: =189+7683 -> 7872 | AB23: =397+24572 -> 24969 | AC23: =2874 -> 2874 | AD23: =473+580+5148 -> 6201 | AF23: =3813+5427 -> 9240 | AI23: =13916 -> 13916 | AK23: =26703+54916 -> 81619 | AM23: =8613+10497 -> 19110 | AN23: =3279 -> 3279 | AO23: =1446 -> 1446 | AQ23: =40975 -> 40975 | AR23: =432 -> 432 | AS23: =745 -> 745 | AT23: =964 -> 964 | AU23: =3486 -> 3486 | AV23: =18450 -> 18450 | AW23: =6075 -> 6075 | AX23: =3409 -> 3409 | AY23: =53409 -> 53409 | AZ23: =2190 -> 2190 | BA23: =3240 -> 3240
A24: 41425 | B24: =SUM(C24:BA24) -> 1453970 | C24: =52710+484824+126741+706+46357+15524+42441 -> 769303 | E24: =21135 -> 21135 | G24: =4176 -> 4176 | I24: =60016 -> 60016 | J24: =9075 -> 9075 | K24: =20118 -> 20118 | L24: =6550 -> 6550 | M24: =716 -> 716 | N24: =148537 -> 148537 | O24: =14493 -> 14493 | P24: =4610 -> 4610 | Q24: =32335 -> 32335 | S24: =14767+1285 -> 16052 | T24: =5655 -> 5655 | V24: =11781+4019 -> 15800 | W24: =2739 -> 2739 | X24: =1730 -> 1730 | Y24: =9897+1718 -> 11615 | Z24: =3933 -> 3933 | AA24: =207+7773 -> 7980 | AB24: =412+24710 -> 25122 | AC24: =2902 -> 2902 | AD24: =493+589+5106 -> 6188 | AF24: =3816+5447 -> 9263 | AI24: =14006 -> 14006 | AK24: =26805+55244 -> 82049 | AM24: =8587+10493 -> 19080 | AN24: =3295 -> 3295 | AO24: =1426 -> 1426 | AQ24: =41493 -> 41493 | AR24: =441 -> 441 | AS24: =713 -> 713 | AT24: =942 -> 942 | AU24: =3542 -> 3542 | AV24: =18486 -> 18486 | AW24: =6119 -> 6119 | AX24: =3379 -> 3379 | AY24: =53487 -> 53487 | AZ24: =2178 -> 2178 | BA24: =3291 -> 3291
A25: 41455 | B25: =SUM(C25:BA25) -> 1457687 | C25: =53017+485551+127034+716+46778+15652+42296 -> 771044 | E25: =21206 -> 21206 | G25: =4203 -> 4203 | I25: =60123 -> 60123 | J25: =9045 -> 9045 | K25: =19963 -> 19963 | L25: =6635 -> 6635 | M25: =843 -> 843 | N25: =149370 -> 149370 | O25: =14458 -> 14458 | P25: =4598 -> 4598 | Q25: =32447 -> 32447 | S25: =14764+1277 -> 16041 | T25: =5714 -> 5714 | V25: =11907+4001 -> 15908 | W25: =2774 -> 2774 | X25: =1694 -> 1694 | Y25: =9851+1721 -> 11572 | Z25: =3902 -> 3902 | AA25: =177+7769 -> 7946 | AB25: =410+24753 -> 25163 | AC25: =2930 -> 2930 | AD25: =481+592+5111 -> 6184 | AF25: =3857+5491 -> 9348 | AI25: =14097 -> 14097 | AK25: =26880+55508 -> 82388 | AM25: =8599+10582 -> 19181 | AN25: =3273 -> 3273 | AO25: =1391 -> 1391 | AQ25: =41594 -> 41594 | AR25: =461 -> 461 | AS25: =688 -> 688 | AT25: =970 -> 970 | AU25: =3550 -> 3550 | AV25: =18498 -> 18498 | AW25: =6106 -> 6106 | AX25: =3457 -> 3457 | AY25: =53441 -> 53441 | AZ25: =2218 -> 2218 | BA25: =3263 -> 3263
A26: 41486 | B26: =SUM(C26:BA26) -> 1463952 | C26: =53495+487706+127294+728+47188+15632+42467 -> 774510 | E26: =21198 -> 21198 | G26: =4215 -> 4215 | I26: =60510 -> 60510 | J26: =9171 -> 9171 | K26: =20133 -> 20133 | L26: =6604 -> 6604 | M26: =766 -> 766 | N26: =150002 -> 150002 | O26: =14545 -> 14545 | P26: =4659 -> 4659 | Q26: =32609 -> 32609 | S26: =14786+1283 -> 16069 | T26: =5676 -> 5676 | V26: =11865+3975 -> 15840 | W26: =2868 -> 2868 | X26: =1709 -> 1709 | Y26: =9880+1774 -> 11654 | Z26: =3888 -> 3888 | AA26: =169+7832 -> 8001 | AB26: =423+24838 -> 25261 | AC26: =2929 -> 2929 | AD26: =513+592+5114 -> 6219 | AF26: =3876+5476 -> 9352 | AI26: =14132 -> 14132 | AK26: =27009+55847 -> 82856 | AM26: =8702+10592 -> 19294 | AN26: =3315 -> 3315 | AO26: =1425 -> 1425 | AQ26: =41756 -> 41756 | AR26: =465 -> 465 | AS26: =701 -> 701 | AT26: =1015 -> 1015 | AU26: =3612 -> 3612 | AV26: =18455 -> 18455 | AW26: =6076 -> 6076 | AX26: =3376 -> 3376 | AY26: =53577 -> 53577 | AZ26: =2202 -> 2202 | BA26: =3307 -> 3307
A27: 41517 | B27: =SUM(C27:BA27) -> 1467720 | C27: =53412+488481+127702+755+47312+15743+42834 -> 776239 | E27: =21240 -> 21240 | G27: =4255 -> 4255 | I27: =60493 -> 60493 | J27: =9152 -> 9152 | K27: =20208 -> 20208 | L27: =6533 -> 6533 | M27: =780 -> 780 | N27: =150172 -> 150172 | O27: =14672 -> 14672 | P27: =4681 -> 4681 | Q27: =32650 -> 32650 | S27: =14880+1255 -> 16135 | T27: =5733 -> 5733 | V27: =11983+4008 -> 15991 | W27: =2817 -> 2817 | X27: =1740 -> 1740 | Y27: =9889+1809 -> 11698 | Z27: =3883 -> 3883 | AA27: =189+7885 -> 8074 | AB27: =407+24879 -> 25286 | AC27: =2971 -> 2971 | AD27: =508+625+5101 -> 6234 | AF27: =3923+5554 -> 9477 | AI27: =14187 -> 14187 | AK27: =26976+56298 -> 83274 | AM27: =8671+10670 -> 19341 | AN27: =3347 -> 3347 | AO27: =1413 -> 1413 | AQ27: =41874 -> 41874 | AR27: =465 -> 465 | AS27: =783 -> 783 | AT27: =1003 -> 1003 | AU27: =3635 -> 3635 | AV27: =18525 -> 18525 | AW27: =6029 -> 6029 | AX27: =3515 -> 3515 | AY27: =53671 -> 53671 | AZ27: =2213 -> 2213 | BA27: =3331 -> 3331
A28: 41547 | B28: =SUM(C28:BA28) -> 1470953 | C28: =53683+489164+127978+777+47538+16015+42819 -> 777974 | E28: =21248 -> 21248 | G28: =4191 -> 4191 | I28: =60513 -> 60513 | J28: =9190 -> 9190 | K28: =20351 -> 20351 | L28: =6541 -> 6541 | M28: =776 -> 776 | N28: =150526 -> 150526 | O28: =14671 -> 14671 | P28: =4693 -> 4693 | Q28: =32749 -> 32749 | S28: =14857+1267 -> 16124 | T28: =5713 -> 5713 | V28: =11921+4062 -> 15983 | W28: =2843 -> 2843 | X28: =1756 -> 1756 | Y28: =9928+1789 -> 11717 | Z28: =3926 -> 3926 | AA28: =195+7910 -> 8105 | AB28: =406+24846 -> 25252 | AC28: =2937 -> 2937 | AD28: =516+618+5119 -> 6253 | AF28: =3993+5533 -> 9526 | AI28: =14266 -> 14266 | AK28: =27053+56523 -> 83576 | AM28: =8813+10686 -> 19499 | AN28: =3303 -> 3303 | AO28: =1400 -> 1400 | AQ28: =42020 -> 42020 | AR28: =473 -> 473 | AS28: =755 -> 755 | AT28: =1027 -> 1027 | AU28: =3644 -> 3644 | AV28: =18559 -> 18559 | AW28: =6029 -> 6029 | AX28: =3473 -> 3473 | AY28: =53841 -> 53841 | AZ28: =2205 -> 2205 | BA28: =3325 -> 3325
A29: 41578 | B29: =SUM(C29:BA29) -> 1474887 | C29: =53971+490735+127976+820+48058+15961+42803 -> 780324 | E29: =21115 -> 21115 | G29: =4161 -> 4161 | I29: =60557 -> 60557 | J29: =9203 -> 9203 | K29: =20388 -> 20388 | L29: =6541 -> 6541 | M29: =761 -> 761 | N29: =151185 -> 151185 | O29: =14676 -> 14676 | P29: =4692 -> 4692 | Q29: =32810 -> 32810 | S29: =14925+1256 -> 16181 | T29: 5696 | V29: =12035+4013 -> 16048 | W29: =2835 -> 2835 | X29: =1737 -> 1737 | Y29: =9965+1805 -> 11770 | Z29: 3937 | AA29: =159+7888 -> 8047 | AB29: =393+24583 -> 24976 | AC29: =3050 -> 3050 | AD29: =555+622+5170 -> 6347 | AF29: =4026+5555 -> 9581 | AI29: =14338 -> 14338 | AK29: =27063+56949 -> 84012 | AM29: =8858+10726 -> 19584 | AN29: =3299 -> 3299 | AO29: =1373 -> 1373 | AQ29: =42216 -> 42216 | AR29: =459 -> 459 | AS29: =747 -> 747 | AT29: =1028 -> 1028 | AU29: =3628 -> 3628 | AV29: =18621 -> 18621 | AW29: =5989 -> 5989 | AX29: =3523 -> 3523 | AY29: =53822 -> 53822 | AZ29: =2235 -> 2235 | BA29: =3395 -> 3395
A30: 41608 | B30: =SUM(C30:BA30) -> 1467118 | C30: =54135+491589+128471+844+47826+16096+42505 -> 781466 | E30: =21092 -> 21092 | G30: =4212 -> 4212 | I30: =60559 -> 60559 | J30: =9244 -> 9244 | K30: =20420 -> 20420 | L30: =6528 -> 6528 | M30: =761 -> 761 | N30: =151415 -> 151415 | O30: =14700 -> 14700 | P30: =4738 -> 4738 | Q30: =32827 -> 32827 | S30: =14826+1260 -> 16086 | T30: =5749 -> 5749 | V30: =12074+3974 -> 16048 | W30: =2898 -> 2898 | X30: =1753 -> 1753 | Y30: =9957+1797 -> 11754 | Z30: =3876 -> 3876 | AA30: =125+7897 -> 8022 | AB30: =376+24903 -> 25279 | AC30: =3042 -> 3042 | AD30: =568+637+5186 -> 6391 | AF30: =4026+5535 -> 9561 | AI30: =14392 -> 14392 | AK30: =27146+57168 -> 84314 | AM30: =8730+10712 -> 19442 | AN30: =3327 -> 3327 | AO30: =1400 -> 1400 | AQ30: =42448 -> 42448 | AR30: =467 -> 467 | AS30: =696 -> 696 | AT30: =999 -> 999 | AU30: 3617 | AV30: =18685 -> 18685 | AW30: =6028 -> 6028 | AX30: =3513 -> 3513 | AY30: =43740 -> 43740 | AZ30: =2229 -> 2229 | BA30: =3400 -> 3400
A31: 41639 | B31: =SUM(C31:CAZ31) -> 1478538 | C31: =54205+491802+128026+885+47948+16293+42665 -> 781824 | E31: =21086 -> 21086 | G31: =4218 -> 4218 | I31: =60649 -> 60649 | J31: =9236 -> 9236 | K31: =20393 -> 20393 | L31: =6566 -> 6566 | M31: =766 -> 766 | N31: =151102 -> 151102 | O31: =14743 -> 14743 | P31: =4754 -> 4754 | Q31: =32842 -> 32842 | S31: =14810+1278 -> 16088 | T31: =5806 -> 5806 | V31: =12038+3904 -> 15942 | W31: =2920 -> 2920 | X31: =1751 -> 1751 | Y31: =9959+1838 -> 11797 | Z31: 3879 | AA31: =111+7943 -> 8054 | AB31: =377+24899 -> 25276 | AC31: =3060 -> 3060 | AD31: =582+649+5264 -> 6495 | AF31: =4070+5541 -> 9611 | AI31: =14425 -> 14425 | AK31: =27211+57451 -> 84662 | AM31: =8686+10742 -> 19428 | AN31: =3318 -> 3318 | AO31: =1437 -> 1437 | AQ31: =42693 -> 42693 | AR31: =483 -> 483 | AS31: =711 -> 711 | AT31: =1010 -> 1010 | AU31: =3568 -> 3568 | AV31: =18707 -> 18707 | AW31: =6105 -> 6105 | AX31: =3547 -> 3547 | AY31: =53890 -> 53890 | AZ31: =2233 -> 2233 | BA31: =3463 -> 3463
A32: 41670 | B32: =SUM(C32:BA32) -> 1487443 | C32: =54569+493914+129092+895+48725+16611+43058 -> 786864 | E32: =21156 -> 21156 | G32: =4188 -> 4188 | I32: =61080 -> 61080 | J32: =10148 -> 10148 | K32: =20599 -> 20599 | L32: =6557 -> 6557 | M32: =747 -> 747 | N32: =151635 -> 151635 | O32: =14864 -> 14864 | P32: =4739 -> 4739 | Q32: =32874 -> 32874 | S32: =14915+1259 -> 16174 | T32: =5838 -> 5838 | V32: =12064+3960 -> 16024 | W32: =2949 -> 2949 | X32: =1744 -> 1744 | Y32: =10041+1858 -> 11899 | Z32: =3912 -> 3912 | AA32: =7999 -> 7999 | AB32: =24989+367 -> 25356 | AC32: =3090 -> 3090 | AD32: =5212+686+573 -> 6471 | AF32: =4075+5524 -> 9599 | AI32: =14426 -> 14426 | AK32: =57648+27097 -> 84745 | AM32: =10767+8866 -> 19633 | AN32: =3344 -> 3344 | AO32: =1458 -> 1458 | AQ32: =42951 -> 42951 | AR32: =492 -> 492 | AS32: =710 -> 710 | AT32: =982 -> 982 | AU32: =3721 -> 3721 | AV32: =18925 -> 18925 | AW32: =6124 -> 6124 | AX32: =3587 -> 3587 | AY32: =54136 -> 54136 | AZ32: =2245 -> 2245 | BA32: =3458 -> 3458
A33: 41698 | B33: =SUM(C33:BA33) -> 1477699.7 | C33: =SUM(C30:C32)/3 -> 783384.67 | E33: =SUM(E30:E32)/3 -> 21111.333 | G33: =SUM(G30:G32)/3 -> 4206 | I33: =SUM(I30:I32)/3 -> 60762.667 | J33: =SUM(J30:J32)/3 -> 9542.6667 | K33: =SUM(K30:K32)/3 -> 20470.667 | L33: =SUM(L30:L32)/3 -> 6550.3333 | M33: =SUM(M30:M32)/3 -> 758 | N33: =SUM(N30:N32)/3 -> 151384 | O33: =SUM(O30:O32)/3 -> 14769 | P33: =SUM(P30:P32)/3 -> 4743.6667 | Q33: =SUM(Q30:Q32)/3 -> 32847.667 | S33: =SUM(S30:S32)/3 -> 16116 | T33: =SUM(T30:T32)/3 -> 5797.6667 | V33: =SUM(V30:V32)/3 -> 16004.667 | W33: =SUM(W30:W32)/3 -> 2922.3333 | X33: =SUM(X30:X32)/3 -> 1749.3333 | Y33: =SUM(Y30:Y32)/3 -> 11816.667 | Z33: =SUM(Z30:Z32)/3 -> 3889 | AA33: =SUM(AA30:AA32)/3 -> 8025 | AB33: =SUM(AB30:AB32)/3 -> 25303.667 | AC33: =SUM(AC30:AC32)/3 -> 3064 | AD33: =SUM(AD30:AD32)/3 -> 6452.3333 | AF33: =SUM(AF30:AF32)/3 -> 9590.3333 | AI33: =SUM(AI30:AI32)/3 -> 14414.333 | AK33: =SUM(AK30:AK32)/3 -> 84573.667 | AM33: =SUM(AM30:AM32)/3 -> 19501 | AN33: =SUM(AN30:AN32)/3 -> 3329.6667 | AO33: =SUM(AO30:AO32)/3 -> 1431.6667 | AQ33: =SUM(AQ30:AQ32)/3 -> 42697.333 | AR33: =SUM(AR30:AR32)/3 -> 480.66667 | AS33: =SUM(AS30:AS32)/3 -> 705.66667 | AT33: =SUM(AT30:AT32)/3 -> 997 | AU33: =SUM(AU30:AU32)/3 -> 3635.3333 | AV33: =SUM(AV30:AV32)/3 -> 18772.333 | AW33: =SUM(AW30:AW32)/3 -> 6085.6667 | AX33: =SUM(AX30:AX32)/3 -> 3549 | ... BA33: =SUM(BA30:BA32)/3 -> 3440.3333
A34: 41729 | B34: =SUM(C34:BA34) -> 1492199 | C34: =54894+496114+129073+964+48887+16623+43058 -> 789613 | E34: =21197 -> 21197 | G34: =4154 -> 4154 | I34: =61403 -> 61403 | J34: =10132 -> 10132 | K34: =20762 -> 20762 | L34: =6549 -> 6549 | M34: =747 -> 747 | N34: =151533 -> 151533 | O34: =15003 -> 15003 | P34: =4785 -> 4785 | Q34: =32971 -> 32971 | S34: =1275+15127 -> 16402 | T34: =5893 -> 5893 | V34: =12164+4004 -> 16168 | W34: =3041 -> 3041 | X34: =1801 -> 1801 | Y34: =9988+1856 -> 11844 | Z34: =3583 -> 3583 | AA34: =8003 -> 8003 | AB34: =348+24889 -> 25237 | AC34: =3045 -> 3045 | AD34: =5257+652+580 -> 6489 | AF34: =4213+5625 -> 9838 | AI34: =14514 -> 14514 | AK34: =57781+27327 -> 85108 | AM34: =8782+10132 -> 18914 | AN34: =3351 -> 3351 | AO34: =1497 -> 1497 | AQ34: =43420 -> 43420 | AR34: =462 -> 462 | AS34: =744 -> 744 | AT34: =983 -> 983 | AU34: =3971 -> 3971 | AV34: =18945 -> 18945 | AW34: =6240 -> 6240 | AX34: =3617 -> 3617 | AY34: =54538 -> 54538 | AZ34: =2205 -> 2205 | BA34: =3497 -> 3497

Sheet Passenger Summary
A1: PASSENGER VEHCILES
C2: Ugu District Municipality | I2: uMgungundlovu District Municipality | P2: Uthukela District Municipality | U2: Umzinyathi District Municipality | Y2: Zululand District Municipality | AD2: Umkhanyakude District Municipality | AI2: Uthungulu District Municipality | AO2: iLembe District Municipality | AS2: Sisonke District Municipality | AX2: Amajuba District Municipality | BA2: Total
B3: Ethekwini Metropolitan Municipality (ETH) | C3: Vulamehlo Local Municipality (KZN211) | D3: Umdoni Local Municipality (KZN212) | E3: Umzumbe Local Municipality (KZN213) | F3: UMuziwabantu Local Municipality (KZN214) | G3: Ezingoleni Local Municipality (KZN215) | H3: Hibiscus Coast Local Municipality (KZN216) | I3: uMshwathi Local Municipality (KZN221) | J3: uMngeni Local Municipality (KZN222) | K3: Mpofana Local Municipality (KZN223) | L3: Impendle Local Municipality (KZN224) | M3: The Msunduzi Local Municipality (KZN225) | N3: Mkhambathini Local Municipality (KZN226) | O3: Richmond Local Municipality (KZN227) | P3: Emnambithi/Ladysmith Local Municipality (KZN232) | Q3: Indaka Local Municipality (KZN233) | R3: Umtshezi Local Municipality (KZN234) | S3: Okhahlamba Local Municipality (KZN235) | T3: Imbabazane Local Municipality (KZN236) | U3: Endumeni Local Municipality (KZN241) | V3: Nqutu Local Municipality (KZN242) | W3: Msinga Local Municipality (KZN244) | X3: Umvoti Local Municipality (KZN245) | Y3: eDumbe Local Municipality (KZN261) | Z3: UPhongolo Local Municipality (KZN262) | AA3: Abaqulusi Local Municipality (KZN263) | AB3: Nongoma Local Municipality (KZN265) | AC3: Ulundi Local Municipality (KZN266) | AD3: Umhlabuyalingana Local Municipality (KZN271) | AE3: Jozini Local Municipality (KZN272) | AF3: The Big 5 False Bay Local Municipality (KZN273) | AG3: Hlabisa Local Municipality (KZN274) | AH3: Mtubatuba Local Municipality (KZN275) | AI3: Mfolozi Local Municipality (KZN281, Mbonambi) | AJ3: uMhlathuze Local Municipality (KZN282) | AK3: Ntambanana Local Municipality (KZN283) | AL3: uMlalazi Local Municipality (KZN284) | AM3: Mthonjaneni Local Municipality (KZN285) | AN3: Nkandla Local Municipality (KZN286) | AO3: Mandeni Local Municipality (KZN291) | AP3: KwaDukuza Local Municipality (KZN292) | AQ3: Ndwedwe Local Municipality (KZN293) | AR3: Maphumulo Local Municipality (KZN294) | AS3: Ingwe Local Municipality (KZN431) | AT3: Kwa Sani Local Municipality (KZN432) | AU3: Greater Kokstad Local Municipality (KZN433) | AV3: Ubuhlebezwe Local Municipality (KZN434) | AW3: Umzimkhulu Local Municipality (KZN435) | AX3: Newcastle Local Municipality (KZN252) | AY3: Emadlangeni Local Municipality (KZN253) | AZ3: Dannhauser Local Municipality (KZN254)
A4: 40816 | B4: 516964 | D4: 13166 | F4: 1695 | H4: 34879 | I4: 2953 | J4: 10655 | K4: 2664 | L4: 288 | M4: 92066 | N4: 7050 | O4: 1773 | P4: 18551 | R4: 7844 | S4: 2264 | U4: 7933 | V4: 1193 | W4: 696 | X4: 4880 | Y4: 1479 | Z4: 2861 | AA4: 11910 | AB4: 1338 | AC4: 2662 | AE4: 2906 | AH4: 5857 | AJ4: 42817 | AL4: 9091 | AM4: 1261 | AN4: 735 | AP4: 22596 | AQ4: 190 | AR4: 363 | AS4: 399 | AT4: 1330 | AU4: 7470 | AV4: 2243 | AW4: 1483 | AX4: 32283 | AY4: 1008 | AZ4: 1527 | BA4: =SUM(B4:AZ4) -> 881323
A5: 40847 | B5: 518914 | D5: 13075 | F5: 1714 | H5: 35093 | I5: 2947 | J5: 10714 | K5: 2718 | L5: 282 | M5: 92241 | N5: 7076 | O5: 1784 | P5: 18559 | R5: 7866 | S5: 2240 | U5: 7931 | V5: 1214 | W5: 703 | X5: 4900 | Y5: 1479 | Z5: 2875 | AA5: 11959 | AB5: 1282 | AC5: 2699 | AE5: 2939 | AH5: 5898 | AJ5: 42993 | AL5: 9148 | AM5: 1268 | AN5: 734 | AP5: 22716 | AQ5: 188 | AR5: 352 | AS5: 395 | AT5: 1339 | AU5: 7443 | AV5: 2272 | AW5: 1523 | AX5: 32453 | AY5: 1007 | AZ5: 1539 | BA5: =SUM(B5:AZ5) -> 884472
A6: 40877 | B6: 517939 | D6: 13120.5 | F6: 1704.5 | H6: 34986 | I6: 2950 | J6: 10684.5 | K6: 2691 | L6: 285 | M6: 92153.5 | N6: 7063 | O6: 1778.5 | P6: 18555 | R6: 7855 | S6: 2252 | U6: 7932 | V6: 1203.5 | W6: 699.5 | X6: 4890 | Y6: 1479 | Z6: 2868 | AA6: 11934.5 | AB6: 1310 | AC6: 2680.5 | AE6: 2922.5 | AH6: 5877.5 | AJ6: 42905 | AL6: 9119.5 | AM6: 1264.5 | AN6: 734.5 | AP6: 22656 | AQ6: 189 | AR6: 357.5 | AS6: 397 | AT6: 1334.5 | AU6: 7456.5 | AV6: 2257.5 | AW6: 1503 | AX6: 32368 | AY6: 1007.5 | AZ6: 1533 | BA6: =SUM(B6:AZ6) -> 882897.5
A7: 40908 | B7: 518426.5 | D7: 13097.75 | F7: 1709.25 | H7: 35039.5 | I7: 2948.5 | J7: 10699.25 | K7: 2704.5 | L7: 283.5 | M7: 92197.25 | N7: 7069.5 | O7: 1781.25 | P7: 18557 | R7: 7860.5 | S7: 2246 | U7: 7931.5 | V7: 1208.75 | W7: 701.25 | X7: 4895 | Y7: 1479 | Z7: 2871.5 | AA7: 11946.75 | AB7: 1296 | AC7: 2689.75 | AE7: 2930.75 | AH7: 5887.75 | AJ7: 42949 | AL7: 9133.75 | AM7: 1266.25 | AN7: 734.25 | AP7: 22686 | AQ7: 188.5 | AR7: 354.75 | AS7: 396 | AT7: 1336.75 | AU7: 7449.75 | AV7: 2264.75 | AW7: 1513 | AX7: 32410.5 | AY7: 1007.25 | AZ7: 1536 | BA7: =SUM(B7:AZ7) -> 883684.75
A8: 40939 | B8: 524194 | D8: 13129 | F8: 1689 | H8: 35410 | I8: 2966 | J8: 10856 | K8: 2770 | L8: 276 | M8: 93130 | N8: 7251 | O8: 1821 | P8: 18730 | R8: 7999 | S8: 2258 | U8: 8012 | V8: 1229 | W8: 712 | X8: 4982 | Y8: 1494 | Z8: 2894 | AA8: 12075 | AB8: 1362 | AC8: 2843 | AE8: 3029 | AH8: 5970 | AJ8: 43939 | AL8: 9250 | AM8: 1280 | AN8: 684 | AP8: 23169 | AQ8: 184 | AR8: 371 | AS8: 391 | AT8: 1397 | AU8: 7728 | AV8: 2299 | AW8: 1528 | AX8: 32857 | AY8: 999 | AZ8: 1546 | BA8: =SUM(B8:AZ8) -> 894703
A9: 40968 | B9: 526263 | D9: 13160 | F9: 1718 | H9: 35432 | I9: 3014 | J9: 10902 | K9: 2783 | L9: 272 | M9: 93551 | N9: 7265 | O9: 1816 | P9: 18856 | R9: 8061 | S9: 2291 | U9: 8057 | V9: 1258 | W9: 714 | X9: 5009 | Y9: 1496 | Z9: 2927 | AA9: 12093 | AB9: 1314 | AC9: 2832 | AE9: 3064 | AH9: 6050 | AJ9: 44249 | AL9: 9332 | AM9: 1284 | AN9: 709 | AP9: 23335 | AQ9: 191 | AR9: 357 | AS9: 392 | AT9: 1418 | AU9: 7768 | AV9: 2312 | AW9: 1506 | AX9: 33034 | AY9: 1008 | AZ9: 1564 | BA9: =SUM(B9:AZ9) -> 898657
A10: 40999 | B10: 528237 | D10: 13174 | F10: 1709 | H10: 35459 | I10: 3002 | J10: 10984 | K10: 2819 | L10: 285 | M10: 93977 | N10: 7247 | O10: 1831 | P10: 18805 | R10: 8078 | S10: 2281 | U10: 8099 | V10: 1230 | W10: 711 | X10: 5003 | Y10: 1518 | Z10: 2967 | AA10: 12228 | AB10: 1331 | AC10: 2795 | AE10: 3075 | AH10: 6033 | AJ10: 44538 | AL10: 9351 | AM10: 1250 | AN10: 759 | AP10: 23447 | AQ10: 195 | AR10: 344 | AS10: 407 | AT10: 1400 | AU10: 7809 | AV10: 2287 | AW10: 1520 | AX10: 33164 | AY10: 1027 | AZ10: 1569 | BA10: =SUM(B10:AZ10) -> 901945
A11: 41029 | B11: 529920 | D11: 13120 | F11: 1735 | H11: 35554 | I11: 3007 | J11: 11000 | K11: 2821 | L11: 282 | M11: 94347 | N11: 7259 | O11: 1839 | P11: 18825 | R11: 8132 | S11: 2327 | U11: 8074 | V11: 1267 | W11: 752 | X11: 4990 | Y11: 1486 | Z11: 2954 | AA11: 12301 | AB11: 1346 | AC11: 2861 | AE11: 3107 | AH11: 6054 | AJ11: 44810 | AL11: 9365 | AM11: 1246 | AN11: 729 | AP11: 23556 | AQ11: 199 | AR11: 350 | AS11: 416 | AT11: 1442 | AU11: 7832 | AV11: 2280 | AW11: 1545 | AX11: 33384 | AY11: 1004 | AZ11: 1585 | BA11: =SUM(B11:AZ11) -> 905103
A12: 41060 | B12: 538364 | D12: 13131 | F12: 1744 | H12: 35738 | I12: 3018 | J12: 11033 | K12: 2805 | L12: 291 | M12: 94748 | N12: 7306 | O12: 1871 | P12: 18999 | R12: 8167 | S12: 2278 | U12: 8088 | V12: 1306 | W12: 735 | X12: 5009 | Y12: 1492 | Z12: 2970 | AA12: 12387 | AB12: 1392 | AC12: 2833 | AE12: 3113 | AH12: 6105 | AJ12: 45075 | AL12: 9385 | AM12: 1278 | AN12: 736 | AP12: 23762 | AQ12: 211 | AR12: 360 | AS12: 425 | AT12: 1423 | AU12: 7879 | AV12: 2306 | AW12: 1555 | AX12: 33490 | AY12: 1014 | AZ12: 1576 | BA12: =SUM(B12:AZ12) -> 915398
A13: 41090 | B13: 533587 | D13: 13182 | F13: 1761 | H13: 35862 | I13: 3031 | J13: 11106 | K13: 2809 | L13: 306 | M13: 95245 | N13: 7309 | O13: 1873 | P13: 19054 | R13: 8127 | S13: 2303 | U13: 8148 | V13: 1295 | W13: 754 | X13: 4995 | Y13: 1488 | Z13: 3004 | AA13: 12392 | AB13: 1415 | AC13: 2894 | AE13: 3169 | AH13: 6136 | AJ13: 45403 | AL13: 9401 | AM13: 1265 | AN13: 781 | AP13: 24017 | AQ13: 213 | AR13: 339 | AS13: 414 | AT13: 1418 | AU13: 7926 | AV13: 2295 | AW13: 1532 | AX13: 33681 | AY13: 1013 | AZ13: 1602 | BA13: =SUM(B13:AZ13) -> 912545
A14: 41121 | B14: 535565 | D14: 13308 | F14: 1728 | H14: 35902 | I14: 3031 | J14: 11150 | K14: 2824 | L14: 290 | M14: 95676 | N14: 7301 | O14: 1868 | P14: 19090 | R14: 8192 | S14: 2331 | U14: 8157 | V14: 1287 | W14: 748 | X14: 5059 | Y14: 1493 | Z14: 3012 | AA14: 12479 | AB14: 1420 | AC14: 2930 | AE14: 3172 | AH14: 6152 | AJ14: 45807 | AL14: 9436 | AM14: 1287 | AN14: 791 | AP14: 24148 | AQ14: 222 | AR14: 373 | AS14: 400 | AT14: 1403 | AU14: 8010 | AV14: 2305 | AW14: 1540 | AX14: 33858 | AY14: 1011 | AZ14: 1603 | BA14: =SUM(B14:AZ14) -> 916359
A15: 41152 | B15: 537506 | D15: 13360 | F15: 1793 | H15: 36081 | I15: 3045 | J15: 11220 | K15: 2839 | L15: 289 | M15: 95958 | N15: 7372 | O15: 1884 | P15: 19219 | R15: 8064 | S15: 2387 | U15: 8197 | V15: 1358 | W15: 740 | X15: 5072 | Y15: 1494 | Z15: 3023 | AA15: 12519 | AB15: 1397 | AC15: 2895 | AE15: 3219 | AH15: 6159 | AJ15: 46254 | AL15: 9426 | AM15: 1295 | AN15: 758 | AP15: 24366 | AQ15: 220 | AR15: 375 | AS15: 390 | AT15: 1385 | AU15: 8084 | AV15: 2317 | AW15: 1563 | AX15: 33947 | AY15: 991 | AZ15: 1610 | BA15: =SUM(B15:AZ15) -> 920071
... A32: 41670 | B32: 530871 | D32: 12282 | F32: 1470 | H32: 33544 | I32: 2771 | J32: 10797 | K32: 2587 | L32: 235 | M32: 93287 | N32: 6633 | O32: 1629 | P32: 17820 | R32: 7294 | S32: 1974 | U32: 7747 | V32: 1004 | W32: 797 | X32: 4585 | Y32: 1476 | Z32: 3017 | AA32: 11775 | AB32: 1592 | AC32: 2529 | AE32: 3300 | AH32: 5560 | AJ32: 45927 | AL32: 8607 | AM32: 1148 | AN32: 450 | AP32: 24371 | AQ32: 223 | AR32: 207 | AS32: 274 | AT32: 1281 | AU32: 8286 | AV32: 2073 | AW32: 1252 | AX32: 32228 | AY32: 930 | AZ32: 1684 | BA32: =SUM(B32:AZ32) -> 895517
A33: 41698 | B33: =SUM(B30:B32)/3 -> 552821.67 | D33: =SUM(D30:D32)/3 -> 13043.333 | F33: =SUM(F30:F32)/3 -> 1736.6667 | H33: =SUM(H30:H32)/3 -> 36136.667 | I33: =SUM(I30:I32)/3 -> 3026 | J33: =SUM(J30:J32)/3 -> 11429.667 | K33: =SUM(K30:K32)/3 -> 2777.3333 | L33: =SUM(L30:L32)/3 -> 285 | M33: =SUM(M30:M32)/3 -> 98537.667 | N33: =SUM(N30:N32)/3 -> 7340.6667 | O33: =SUM(O30:O32)/3 -> 1844.3333 | P33: =SUM(P30:P32)/3 -> 19353.667 | R33: =SUM(R30:R32)/3 -> 8012 | S33: =SUM(S30:S32)/3 -> 2341.3333 | U33: =SUM(U30:U32)/3 -> 8299 | V33: =SUM(V30:V32)/3 -> 1347.3333 | W33: =SUM(W30:W32)/3 -> 821.33333 | X33: =SUM(X30:X32)/3 -> 5165 | Y33: =SUM(Y30:Y32)/3 -> 1527 | Z33: =SUM(Z30:Z32)/3 -> 3187 | AA33: =SUM(AA30:AA32)/3 -> 12745 | AB33: =SUM(AB30:AB32)/3 -> 1613 | AC33: =SUM(AC30:AC32)/3 -> 2954 | AE33: =SUM(AE30:AE32)/3 -> 3522 | AH33: =SUM(AH30:AH32)/3 -> 6320.3333 | AJ33: =SUM(AJ30:AJ32)/3 -> 49208.667 | AL33: =SUM(AL30:AL32)/3 -> 9467 | AM33: =SUM(AM30:AM32)/3 -> 1251.6667 | AN33: =SUM(AN30:AN32)/3 -> 695 | AP33: =SUM(AP30:AP32)/3 -> 25917 | AQ33: =SUM(AQ30:AQ32)/3 -> 237 | AR33: =SUM(AR30:AR32)/3 -> 291 | AS33: =SUM(AS30:AS32)/3 -> 397.33333 | AT33: =SUM(AT30:AT32)/3 -> 1416 | AU33: =SUM(AU30:AU32)/3 -> 8588.3333 | AV33: =SUM(AV30:AV32)/3 -> 2328 | AW33: =SUM(AW30:AW32)/3 -> 1490.6667 | ... AZ33: =SUM(AZ30:AZ32)/3 -> 1801.3333 | BA33: =SUM(B32:AZ32) -> 895517
A34: 41729 | B34: 453418 | D34: 13081 | F34: 1476 | H34: 33726 | I34: 2756 | J34: 10945 | K34: 2584 | L34: 234 | M34: 93486 | N34: 6698 | O34: 1655 | P34: 17848 | R34: 7355 | S34: 2014 | U34: 7818 | V34: 1064 | W34: 603 | X34: 4613 | Y34: 1321 | Z34: 2805 | AA34: 10841 | AB34: 863 | AC34: 2538 | AE34: 3115 | AH34: 6496 | AJ34: 46219 | AL34: 8637 | AM34: 1602 | AN34: 584 | AP34: 12932 | AQ34: 208 | AR34: 242 | AS34: 281 | AT34: 1264 | AU34: 8339 | AV34: 2113 | AW34: 1253 | AX34: 32492 | AY34: 909 | AZ34: 1715 | BA34: =SUM(B34:AZ34) -> 808143

Sheet Commercial Summary
A1: COMMERCIAL VEHICLES
C2: Ugu District Municipality | I2: uMgungundlovu District Municipality | P2: Uthukela District Municipality | U2: Umzinyathi District Municipality | Y2: Zululand District Municipality | AD2: Umkhanyakude District Municipality | AI2: Uthungulu District Municipality | AO2: iLembe District Municipality | AS2: Sisonke District Municipality | AX2: Amajuba District Municipality | BA2: Total
B3: Ethekwini Metropolitan Municipality (ETH) | C3: Vulamehlo Local Municipality (KZN211) | D3: Umdoni Local Municipality (KZN212) | E3: Umzumbe Local Municipality (KZN213) | F3: UMuziwabantu Local Municipality (KZN214) | G3: Ezingoleni Local Municipality (KZN215) | H3: Hibiscus Coast Local Municipality (KZN216) | I3: uMshwathi Local Municipality (KZN221) | J3: uMngeni Local Municipality (KZN222) | K3: Mpofana Local Municipality (KZN223) | L3: Impendle Local Municipality (KZN224) | M3: The Msunduzi Local Municipality (KZN225) | N3: Mkhambathini Local Municipality (KZN226) | O3: Richmond Local Municipality (KZN227) | P3: Emnambithi/Ladysmith Local Municipality (KZN232) | Q3: Indaka Local Municipality (KZN233) | R3: Umtshezi Local Municipality (KZN234) | S3: Okhahlamba Local Municipality (KZN235) | T3: Imbabazane Local Municipality (KZN236) | U3: Endumeni Local Municipality (KZN241) | V3: Nqutu Local Municipality (KZN242) | W3: Msinga Local Municipality (KZN244) | X3: Umvoti Local Municipality (KZN245) | Y3: eDumbe Local Municipality (KZN261) | Z3: UPhongolo Local Municipality (KZN262) | AA3: Abaqulusi Local Municipality (KZN263) | AB3: Nongoma Local Municipality (KZN265) | AC3: Ulundi Local Municipality (KZN266) | AD3: Umhlabuyalingana Local Municipality (KZN271) | AE3: Jozini Local Municipality (KZN272) | AF3: The Big 5 False Bay Local Municipality (KZN273) | AG3: Hlabisa Local Municipality (KZN274) | AH3: Mtubatuba Local Municipality (KZN275) | AI3: Mfolozi Local Municipality (KZN281, Mbonambi) | AJ3: uMhlathuze Local Municipality (KZN282) | AK3: Ntambanana Local Municipality (KZN283) | AL3: uMlalazi Local Municipality (KZN284) | AM3: Mthonjaneni Local Municipality (KZN285) | AN3: Nkandla Local Municipality (KZN286) | AO3: Mandeni Local Municipality (KZN291) | AP3: KwaDukuza Local Municipality (KZN292) | AQ3: Ndwedwe Local Municipality (KZN293) | AR3: Maphumulo Local Municipality (KZN294) | AS3: Ingwe Local Municipality (KZN431) | AT3: Kwa Sani Local Municipality (KZN432) | AU3: Greater Kokstad Local Municipality (KZN433) | AV3: Ubuhlebezwe Local Municipality (KZN434) | AW3: Umzimkhulu Local Municipality (KZN435) | AX3: Newcastle Local Municipality (KZN252) | AY3: Emadlangeni Local Municipality (KZN253) | AZ3: Dannhauser Local Municipality (KZN254) | BA3: Total
A4: 40816 | B4: 208564 | D4: 7899 | F4: 2267 | H4: 21800 | I4: 5710 | J4: 8215 | K4: 3622 | L4: 369 | M4: 46632 | N4: 6765 | O4: 2640 | P4: 11996 | R4: 7387 | S4: 2848 | U4: 6796 | V4: 1084 | W4: 789 | X4: 6048 | Y4: 2319 | Z4: 4273 | AA4: 11869 | AB4: 1281 | AC4: 2733 | AE4: 5081 | AH4: 7087 | AJ4: 30297 | AL4: 8846 | AM4: 2027 | AN4: 496 | AP4: 14331 | AQ4: 197 | AR4: 369 | AS4: 580 | AT4: 1982 | AU4: 9197 | AV4: 3565 | AW4: 1798 | AX4: 17912 | AY4: 1146 | AZ4: 1267 | BA4: =SUM(B4:AZ4) -> 480084
A5: 40847 | B5: 209056 | D5: 7751 | F5: 2268 | H5: 21968 | I5: 5717 | J5: 8221 | K5: 3689 | L5: 368 | M5: 46660 | N5: 6780 | O5: 2625 | P5: 11988 | R5: 7454 | S5: 2826 | U5: 6914 | V5: 1103 | W5: 791 | X5: 6059 | Y5: 2309 | Z5: 4346 | AA5: 11902 | AB5: 1259 | AC5: 2769 | AE5: 5093 | AH5: 7070 | AJ5: 30402 | AL5: 8890 | AM5: 2044 | AN5: 506 | AP5: 14460 | AQ5: 194 | AR5: 365 | AS5: 575 | AT5: 1988 | AU5: 9229 | AV5: 3562 | AW5: 1823 | AX5: 17980 | AY5: 1161 | AZ5: 1305 | BA5: =SUM(B5:AZ5) -> 481470
A6: 40877 | B6: ='Commercial Calculation'!B33 -> 208810 | D6: ='Commercial Calculation'!BR26 -> 7825 | F6: 2267.5 | H6: 21884 | I6: 5713.5 | J6: 8218 | K6: 3655.5 | L6: 368.5 | M6: 46646 | N6: 6772.5 | O6: 2632.5 | P6: 11992 | R6: 7420.5 | S6: 2837 | U6: 6855 | V6: 1093.5 | W6: 790 | X6: 6053.5 | Y6: 2314 | Z6: 4309.5 | AA6: 11885.5 | AB6: 1270 | AC6: 2751 | AE6: 5087 | AH6: 7078.5 | AJ6: 30349.5 | AL6: 8868 | AM6: 2035.5 | AN6: 501 | AP6: 14395.5 | AQ6: 195.5 | AR6: 367 | AS6: 577.5 | AT6: 1985 | AU6: 9213 | AV6: 3563.5 | AW6: 1810.5 | AX6: 17946 | AY6: 1153.5 | AZ6: 1286 | BA6: =SUM(B6:AZ6) -> 480777
A7: 40908 | B7: ='Commercial Calculation'!B44 -> 208933 | D7: ='Commercial Calculation'!BR37 -> 7788 | F7: ='Commercial Calculation'!X37 -> 2267.75 | H7: ='Commercial Calculation'!BN37 -> 21926 | I7: ='Commercial Calculation'!CB37 -> 5715.25 | J7: ='Commercial Calculation'!Z37 -> 8219.5 | K7: ='Commercial Calculation'!AT37 -> 3672.25 | L7: ='Commercial Calculation'!AB37 -> 368.25 | M7: ='Commercial Calculation'!BL37 -> 46653 | N7: ='Commercial Calculation'!J37 -> 6776.25 | O7: ='Commercial Calculation'!BP37 -> 2628.75 | P7: ='Commercial Calculation'!AL37 -> 11990 | R7: ='Commercial Calculation'!T39 -> 7437.25 | S7: ='Commercial Calculation'!F37 -> 2831.5 | U7: ='Commercial Calculation'!N39 -> 6884.5 | V7: ='Commercial Calculation'!BH37 -> 1098.25 | W7: ='Commercial Calculation'!BV37 -> 790.5 | X7: ='Commercial Calculation'!V39 -> 6056.25 | Y7: ='Commercial Calculation'!BJ37 -> 2311.5 | Z7: ='Commercial Calculation'!AX39 -> 4327.75 | AA7: ='Commercial Calculation'!AN39 -> 11893.75 | AB7: ='Commercial Calculation'!BF37 -> 1264.5 | AC7: ='Commercial Calculation'!D40 -> 2760 | AE7: ='Commercial Calculation'!AD39 -> 5090 | AH7: ='Commercial Calculation'!AV37 -> 7074.25 | AJ7: ='Commercial Calculation'!P39 -> 30375.75 | AL7: ='Commercial Calculation'!R39 -> 8879 | AM7: ='Commercial Calculation'!AR37 -> 2039.75 | AN7: ='Commercial Calculation'!BD37 -> 503.5 | AP7: ='Commercial Calculation'!BT37 -> 14427.75 | AQ7: ='Commercial Calculation'!AZ37 -> 194.75 | AR7: ='Commercial Calculation'!AP37 -> 366 | AS7: ='Commercial Calculation'!H37 -> 576.25 | AT7: ='Commercial Calculation'!AJ37 -> 1986.5 | AU7: ='Commercial Calculation'!AH37 -> 9221 | AV7: ='Commercial Calculation'!AF37 -> 3562.75 | AW7: ='Commercial Calculation'!BX37 -> 1816.75 | AX7: ='Commercial Calculation'!BB37 -> 17963 | AY7: ='Commercial Calculation'!BZ37 -> 1157.25 | AZ7: ='Commercial Calculation'!L37 -> 1295.5 | BA7: =SUM(B7:AZ7) -> 481123.5
A8: 40939 | B8: 209869 | D8: 7832 | F8: 2287 | H8: 22078 | I8: 5688 | J8: 8308 | K8: 3660 | L8: 381 | M8: 47166 | N8: 6785 | O8: 2619 | P8: 12156 | R8: 7544 | S8: 2855 | U8: 7010 | V8: 1124 | W8: 812 | X8: 6070 | Y8: 2326 | Z8: 4357 | AA8: 11980 | AB8: 1290 | AC8: 2901 | AE8: 5266 | AH8: 7118 | AJ8: 30721 | AL8: 8972 | AM8: 2003 | AN8: 495 | AP8: 14707 | AQ8: 195 | AR8: 378 | AS8: 554 | AT8: 1996 | AU8: 9521 | AV8: 3580 | AW8: 1819 | AX8: 18134 | AY8: 1153 | AZ8: 1269 | BA8: =SUM(B8:AZ8) -> 484979
A9: 40968 | B9: 212979 | D9: 7892 | F9: 2297 | H9: 22067 | I9: 5757 | J9: 8254 | K9: 3699 | L9: 371 | M9: 47232 | N9: 6828 | O9: 2652 | P9: 12173 | R9: 7548 | S9: 2866 | U9: 7046 | V9: 1129 | W9: 826 | X9: 6079 | Y9: 2353 | Z9: 4384 | AA9: 11975 | AB9: 1276 | AC9: 2896 | AE9: 5298 | AH9: 7201 | AJ9: 30797 | AL9: 8967 | AM9: 2013 | AN9: 513 | AP9: 14700 | AQ9: 195 | AR9: 369 | AS9: 572 | AT9: 2014 | AU9: 9535 | AV9: 3580 | AW9: 1777 | AX9: 18132 | AY9: 1150 | AZ9: 1318 | BA9: =SUM(B9:AZ9) -> 488710
A10: 40999 | B10: 210760 | D10: 7854 | F10: 2283 | H10: 22058 | I10: 5769 | J10: 8351 | K10: 3727 | L10: 377 | M10: 47384 | N10: 6835 | O10: 2670 | P10: 12209 | R10: 7558 | S10: 2875 | U10: 7066 | V10: 1125 | W10: 837 | X10: 6110 | Y10: 2341 | Z10: 4391 | AA10: 12014 | AB10: 1281 | AC10: 2884 | AE10: 5348 | AH10: 7229 | AJ10: 30977 | AL10: 8968 | AM10: 1989 | AN10: 538 | AP10: 14718 | AQ10: 204 | AR10: 376 | AS10: 569 | AT10: 2011 | AU10: 9561 | AV10: 3552 | AW10: 1823 | AX10: 18113 | AY10: 1160 | AZ10: 1362 | BA10: =SUM(B10:AZ10) -> 487257
A11: 41029 | B11: 210894 | D11: 7860 | F11: 2278 | H11: 22147 | I11: 5719 | J11: 8389 | K11: 3704 | L11: 378 | M11: 47556 | N11: 6850 | O11: 2682 | P11: 12226 | R11: 7660 | S11: 2871 | U11: 7078 | V11: 1155 | W11: 848 | X11: 6098 | Y11: 2328 | Z11: 4421 | AA11: 12019 | AB11: 1282 | AC11: 2892 | AE11: 5376 | AH11: 7271 | AJ11: 31114 | AL11: 8984 | AM11: 1965 | AN11: 543 | AP11: 14740 | AQ11: 205 | AR11: 384 | AS11: 557 | AT11: 2042 | AU11: 9597 | AV11: 3572 | AW11: 1818 | AX11: 18132 | AY11: 1156 | AZ11: 1349 | BA11: =SUM(B11:AZ11) -> 488140
A12: 41060 | B12: 211427 | D12: 7867 | F12: 2288 | H12: 22278 | I12: 5775 | J12: 8385 | K12: 3715 | L12: 386 | M12: 47713 | N12: 6882 | O12: 2663 | P12: 12256 | R12: 7657 | S12: 2906 | U12: 7084 | V12: 1172 | W12: 842 | X12: 6088 | Y12: 2332 | Z12: 4433 | AA12: 12036 | AB12: 1297 | AC12: 2926 | AE12: 5389 | AH12: 7270 | AJ12: 30213 | AL12: 9082 | AM12: 1989 | AN12: 538 | AP12: 14796 | AQ12: 202 | AR12: 384 | AS12: 549 | AT12: 2042 | AU12: 9618 | AV12: 3605 | AW12: 1790 | AX12: 18168 | AY12: 1183 | AZ12: 1349 | BA12: =SUM(B12:AZ12) -> 488575
A13: 41090 | B13: 212168 | D13: 7887 | F13: 2300 | H13: 22356 | I13: 5791 | J13: 8371 | K13: 3705 | L13: 394 | M13: 47915 | N13: 6859 | O13: 2674 | P13: 12228 | R13: 7696 | S13: 2944 | U13: 7152 | V13: 1177 | W13: 845 | X13: 6058 | Y13: 2344 | Z13: 4428 | AA13: 11977 | AB13: 1322 | AC13: 2949 | AE13: 5467 | AH13: 7314 | AJ13: 31343 | AL13: 9145 | AM13: 1983 | AN13: 541 | AP13: 14786 | AQ13: 209 | AR13: 362 | AS13: 540 | AT13: 2075 | AU13: 9618 | AV13: 3573 | AW13: 1781 | AX13: 18199 | AY13: 1172 | AZ13: 1382 | BA13: =SUM(B13:AZ13) -> 491030
A14: 41121 | B14: 212565 | D14: 7899 | F14: 2285 | H14: 22411 | I14: 5861 | J14: 8409 | K14: 3722 | L14: 384 | M14: 48064 | N14: 6902 | O14: 2678 | P14: 12252 | R14: 7738 | S14: 2965 | U14: 7168 | V14: 1209 | W14: 844 | X14: 6066 | Y14: 2352 | Z14: 4419 | AA14: 12000 | AB14: 1350 | AC14: 2938 | AE14: 5491 | AH14: 7319 | AJ14: 31643 | AL14: 9150 | AM14: 1990 | AN14: 559 | AP14: 14766 | AQ14: 212 | AR14: 376 | AS14: 561 | AT14: 2066 | AU14: 9708 | AV14: 3579 | AW14: 1794 | AX14: 18225 | AY14: 1177 | AZ14: 1368 | BA14: =SUM(B14:AZ14) -> 492465
A15: 41152 | B15: 213333 | D15: 7866 | F15: 2339 | H15: 22481 | I15: 5871 | J15: 8478 | K15: 3724 | L15: 374 | M15: 48100 | N15: 6879 | O15: 2706 | P15: 12258 | R15: 7675 | S15: 3021 | U15: 7192 | V15: 1247 | W15: 852 | X15: 6116 | Y15: 2332 | Z15: 4395 | AA15: 12075 | AB15: 1349 | AC15: 2994 | AE15: 5595 | AH15: 7352 | AJ15: 31785 | AL15: 9171 | AM15: 1988 | AN15: 554 | AP15: 14890 | AQ15: 220 | AR15: 388 | AS15: 553 | AT15: 2051 | AU15: 9732 | AV15: 3590 | AW15: 1874 | AX15: 18290 | AY15: 1161 | AZ15: 1374 | BA15: =SUM(B15:AZ15) -> 494225
A16: 41182 | B16: 213565 | D16: 7803 | F16: 2321 | H16: 22696 | I16: 5908 | J16: 8492 | K16: 3733 | L16: 376 | M16: 48140 | N16: 6890 | O16: 2692 | P16: 12247 | R16: 7703 | S16: 3043 | U16: 7214 | V16: 1260 | W16: 851 | X16: 6145 | Y16: 2352 | Z16: 4483 | AA16: 12095 | AB16: 1355 | AC16: 2992 | AE16: 5550 | AH16: 7386 | AJ16: 31912 | AL16: 9186 | AM16: 1968 | AN16: 550 | AP16: 14888 | AQ16: 220 | AR16: 381 | AS16: 546 | AT16: 2058 | AU16: 9756 | AV16: 3595 | AW16: 1894 | AX16: 18187 | AY16: 1160 | AZ16: 1383 | BA16: =SUM(B16:AZ16) -> 494976
A17: 41213 | B17: 214134 | D17: 7827 | F17: 2373 | H17: 22742 | I17: 5935 | J17: 8508 | K17: 3753 | L17: 375 | M17: 48328 | N17: 6861 | O17: 2702 | P17: 12315 | R17: 7726 | S17: 3036 | U17: 7232 | V17: 1261 | W17: 854 | X17: 6149 | Y17: 2352 | Z17: 4478 | AA17: 12092 | AB17: 1365 | AC17: 3063 | AE17: 5588 | AH17: 7402 | AJ17: 32127 | AL17: 9189 | AM17: 1984 | AN17: 541 | AP17: 15034 | AQ17: 222 | AR17: 371 | AS17: 557 | AT17: 2044 | AU17: 9808 | AV17: 3640 | AW17: 1878 | AX17: 18183 | AY17: 1168 | AZ17: 1389 | BA17: =SUM(B17:AZ17) -> 496586
A18: 41243 | B18: 214088 | D18: 7833 | F18: 2365 | H18: 22750 | I18: 5950 | J18: 8528 | K18: 3753 | L18: 387 | M18: 48542 | N18: 6889 | O18: 2721 | P18: 12357 | R18: 7694 | S18: 3080 | U18: 7259 | V18: 1257 | W18: 863 | X18: 6171 | Y18: 2332 | Z18: 4514 | AA18: 12153 | AB18: 1368 | AC18: 3048 | AE18: 5582 | AH18: 7442 | AJ18: 32182 | AL18: 9225 | AM18: 1998 | AN18: 554 | AP18: 15059 | AQ18: 215 | AR18: 391 | AS18: 557 | AT18: 2042 | AU18: 9899 | AV18: 3630 | AW18: 1848 | AX18: 18282 | AY18: 1182 | AZ18: 1414 | BA18: =SUM(B18:AZ18) -> 497404
A19: 41274 | B19: 213681 | D19: 7794 | F19: 2388 | H19: 22806 | I19: 5924 | J19: 8544 | K19: 3763 | L19: 386 | M19: 48542 | N19: 6911 | O19: 2716 | P19: 12416 | R19: 7735 | S19: 3080 | U19: 7323 | V19: 1262 | W19: 872 | X19: 6168 | Y19: 2337 | Z19: 4545 | AA19: 12142 | AB19: 1380 | AC19: 3097 | AE19: 5596 | AH19: 7415 | AJ19: 32352 | AL19: 9203 | AM19: 2012 | AN19: 580 | AP19: 15111 | AQ19: 227 | AR19: 396 | AS19: 562 | AT19: 2068 | AU19: 9895 | AV19: 3682 | AW19: 1841 | AX19: 18283 | AY19: 1170 | AZ19: 1426 | BA19: =SUM(B19:AZ19) -> 497631
... A32: 41670 | B32: 208577 | D32: 6783 | F32: 1976 | H32: 21502 | I32: 4312 | J32: 7569 | K32: 2946 | L32: 351 | M32: 47283 | N32: 6155 | O32: 2059 | P32: 12011 | R32: 6750 | S32: 2735 | U32: 6675 | V32: 1391 | W32: 899 | X32: 5400 | Y32: 1856 | Z32: 4047 | AA32: 10841 | AB32: 1415 | AC32: 3184 | AE32: 5795 | AH32: 6855 | AJ32: 31428 | AL32: 8235 | AM32: 1730 | AN32: 591 | AP32: 14161 | AQ32: 221 | AR32: 363 | AS32: 470 | AT32: 1681 | AU32: 9029 | AV32: 2903 | AW32: 1845 | AX32: 17186 | AY32: 1026 | AZ32: 1460 | BA32: =SUM(B32:AZ32) -> 471696
A33: 41698 | B33: =SUM(B30:B32)/3 -> 214791 | D33: =SUM(D30:D32)/3 -> 7371 | F33: =SUM(F30:F32)/3 -> 2222 | H33: =SUM(H30:H32)/3 -> 22614.333 | I33: =SUM(I30:I32)/3 -> 5495 | J33: =SUM(J30:J32)/3 -> 8296.6667 | K33: =SUM(K30:K32)/3 -> 3431.6667 | L33: =SUM(L30:L32)/3 -> 419.33333 | M33: =SUM(M30:M32)/3 -> 49158 | N33: =SUM(N30:N32)/3 -> 6736.3333 | O33: =SUM(O30:O32)/3 -> 2549 | P33: =SUM(P30:P32)/3 -> 12546.333 | R33: =SUM(R30:R32)/3 -> 7394 | S33: =SUM(S30:S32)/3 -> 3079.6667 | U33: =SUM(U30:U32)/3 -> 7170.6667 | V33: =SUM(V30:V32)/3 -> 1390.3333 | W33: =SUM(W30:W32)/3 -> 912 | X33: =SUM(X30:X32)/3 -> 6013.6667 | Y33: =SUM(Y30:Y32)/3 -> 2168.6667 | Z33: =SUM(Z30:Z32)/3 -> 4520.6667 | AA33: =SUM(AA30:AA32)/3 -> 11645.333 | AB33: =SUM(AB30:AB32)/3 -> 1423.3333 | AC33: =SUM(AC30:AC32)/3 -> 3245.6667 | AE33: =SUM(AE30:AE32)/3 -> 5900.3333 | AH33: =SUM(AH30:AH32)/3 -> 7423.6667 | AJ33: =SUM(AJ30:AJ32)/3 -> 32901.667 | AL33: =SUM(AL30:AL32)/3 -> 9103.6667 | AM33: =SUM(AM30:AM32)/3 -> 1922.6667 | AN33: =SUM(AN30:AN32)/3 -> 597.66667 | AP33: =SUM(AP30:AP32)/3 -> 15307.333 | AQ33: =SUM(AQ30:AQ32)/3 -> 227.66667 | AR33: =SUM(AR30:AR32)/3 -> 368 | AS33: =SUM(AS30:AS32)/3 -> 520.33333 | AT33: =SUM(AT30:AT32)/3 -> 1966.3333 | AU33: =SUM(AU30:AU32)/3 -> 9647.3333 | AV33: =SUM(AV30:AV32)/3 -> 3375 | AW33: =SUM(AW30:AW32)/3 -> 1895 | ... AZ33: =SUM(AZ30:AZ32)/3 -> 1534.3333 | BA33: =SUM(B33:AZ33) -> 495570
A34: 41729 | B34: 209181 | D34: 6735 | F34: 2012 | H34: 21624 | I34: 4305 | J34: 7618 | K34: 3042 | L34: 351 | M34: 46864 | N34: 6194 | O34: 2091 | P34: 12020 | R34: 6854 | S34: 2753 | U34: 6721 | V34: 1620 | W34: 914 | X34: 5363 | Y34: 1873 | Z34: 4040 | AA34: 10762 | AB34: 1425 | AC34: 3155 | AE34: 5947 | AH34: 6886 | AJ34: 31480 | AL34: 8234 | AM34: 1729 | AN34: 601 | AP34: 14302 | AQ34: 221 | AR34: 358 | AS34: 483 | AT34: 1665 | AU34: 8984 | AV34: 2966 | AW34: 1874 | AX34: 17282 | AY34: 1011 | AZ34: 1476 | BA34: =SUM(B34:AZ34) -> 473016

Sheet Summary (1)
A1: Total Live Vehicle Population | K1: Contribution Rates
B2: Total | C2: Durban | D2: Pietermaritzburg | E2: Richards Bay | F2: Newcastle | G2: Port Shepstone | H2: Urban | I2: Rural | L2: Durban | M2: Pietermaritzburg | N2: Richards Bay | O2: Newcastle | P2: Port Shepstone | Q2: Rural | R2: Urban
A3: =Total!A4 -> 40816 | B3: =Total!B4 -> 1361407 | C3: =Total!C4 -> 725528 | D3: =Total!N4 -> 138698 | E3: =Total!AK4 -> 73114 | F3: =Total!AY4 -> 50195 | G3: =Total!I4 -> 56679 | H3: =SUM(C3:G3) -> 1044214 | I3: =B3-H3 -> 317193 | K3: =A3 -> 40816 | L3: =C3/$B3*100 -> 53.292513 | M3: =D3/$B3*100 -> 10.187842 | N3: =E3/$B3*100 -> 5.3704733 | O3: =F3/$B3*100 -> 3.6869944 | P3: =G3/$B3*100 -> 4.1632664 | Q3: =H3/$B3*100 -> 76.701089 | R3: =I3/$B3*100 -> 23.298911
A4: =Total!A5 -> 40847 | B4: =Total!B5 -> 1365942 | C4: =Total!C5 -> 727970 | D4: =Total!N5 -> 138901 | E4: =Total!AK5 -> 73395 | F4: =Total!AY5 -> 50433 | G4: =Total!I5 -> 57061 | H4: =SUM(C4:G4) -> 1047760 | I4: =B4-H4 -> 318182 | K4: =A4 -> 40847 | L4: =C4/$B4*100 -> 53.294357 | M4: =D4/$B4*100 -> 10.16888 | N4: =E4/$B4*100 -> 5.373215 | O4: =F4/$B4*100 -> 3.6921773 | P4: =G4/$B4*100 -> 4.1774102 | Q4: =H4/$B4*100 -> 76.706039 | R4: =I4/$B4*100 -> 23.293961
A5: =Total!A6 -> 40877 | B5: =Total!B6 -> 1363674.5 | C5: =Total!C6 -> 726749 | D5: =Total!N6 -> 138799.5 | E5: =Total!AK6 -> 73254.5 | F5: =Total!AY6 -> 50314 | G5: =Total!I6 -> 56870 | H5: =SUM(C5:G5) -> 1045987 | I5: =B5-H5 -> 317687.5 | K5: =A5 -> 40877 | L5: =C5/$B5*100 -> 53.293436 | M5: =D5/$B5*100 -> 10.178345 | N5: =E5/$B5*100 -> 5.3718464 | O5: =F5/$B5*100 -> 3.6895901 | P5: =G5/$B5*100 -> 4.17035 | Q5: =H5/$B5*100 -> 76.703568 | R5: =I5/$B5*100 -> 23.296432
A6: =Total!A7 -> 40908 | B6: =Total!B7 -> 1364808.2 | C6: =Total!C7 -> 727359.5 | D6: =Total!N7 -> 138850.25 | E6: =Total!AK7 -> 73324.75 | F6: =Total!AY7 -> 50373.5 | G6: =Total!I7 -> 56965.5 | H6: =SUM(C6:G6) -> 1046873.5 | I6: =B6-H6 -> 317934.75 | K6: =A6 -> 40908 | L6: =C6/$B6*100 -> 53.293897 | M6: =D6/$B6*100 -> 10.173609 | N6: =E6/$B6*100 -> 5.3725313 | O6: =F6/$B6*100 -> 3.6908848 | P6: =G6/$B6*100 -> 4.173883 | Q6: =H6/$B6*100 -> 76.704805 | R6: =I6/$B6*100 -> 23.295195
A7: =Total!A8 -> 40939 | B7: =Total!B8 -> 1379682 | C7: =Total!C8 -> 734063 | D7: =Total!N8 -> 140296 | E7: =Total!AK8 -> 74660 | F7: =Total!AY8 -> 50991 | G7: =Total!I8 -> 57488 | H7: =SUM(C7:G7) -> 1057498 | I7: =B7-H7 -> 322184 | K7: =A7 -> 40939 | L7: =C7/$B7*100 -> 53.205231 | M7: =D7/$B7*100 -> 10.16872 | N7: =E7/$B7*100 -> 5.4113919 | O7: =F7/$B7*100 -> 3.6958517 | P7: =G7/$B7*100 -> 4.1667573 | Q7: =H7/$B7*100 -> 76.647952 | R7: =I7/$B7*100 -> 23.352048
A8: =Total!A9 -> 40968 | B8: =Total!B9 -> 1384367 | C8: =Total!C9 -> 736242 | D8: =Total!N9 -> 140783 | E8: =Total!AK9 -> 75046 | F8: =Total!AY9 -> 51166 | G8: =Total!I9 -> 57499 | H8: =SUM(C8:G8) -> 1060736 | I8: =B8-H8 -> 323631 | K8: =A8 -> 40968 | L8: =C8/$B8*100 -> 53.182574 | M8: =D8/$B8*100 -> 10.169485 | N8: =E8/$B8*100 -> 5.4209613 | O8: =F8/$B8*100 -> 3.6959852 | P8: =G8/$B8*100 -> 4.1534506 | Q8: =H8/$B8*100 -> 76.622456 | R8: =I8/$B8*100 -> 23.377544
A9: =Total!A10 -> 40999 | B9: =Total!B10 -> 1389202 | C9: =Total!C10 -> 738997 | D9: =Total!N10 -> 141361 | E9: =Total!AK10 -> 75515 | F9: =Total!AY10 -> 51277 | G9: =Total!I10 -> 57517 | H9: =SUM(C9:G9) -> 1064667 | I9: =B9-H9 -> 324535 | K9: =A9 -> 40999 | L9: =C9/$B9*100 -> 53.195792 | M9: =D9/$B9*100 -> 10.175698 | N9: =E9/$B9*100 -> 5.4358545 | O9: =F9/$B9*100 -> 3.6911119 | P9: =G9/$B9*100 -> 4.1402906 | Q9: =H9/$B9*100 -> 76.638747 | R9: =I9/$B9*100 -> 23.361253
A10: =Total!A11 -> 41029 | B10: =Total!B11 -> 1393243 | C10: =Total!C11 -> 740814 | D10: =Total!N11 -> 141903 | E10: =Total!AK11 -> 75924 | F10: =Total!AY11 -> 51516 | G10: =Total!I11 -> 57701 | H10: =SUM(C10:G10) -> 1067858 | I10: =B10-H10 -> 325385 | K10: =A10 -> 41029 | L10: =C10/$B10*100 -> 53.171916 | M10: =D10/$B10*100 -> 10.185086 | N10: =E10/$B10*100 -> 5.4494442 | O10: =F10/$B10*100 -> 3.6975603 | P10: =G10/$B10*100 -> 4.1414886 | Q10: =H10/$B10*100 -> 76.645495 | R10: =I10/$B10*100 -> 23.354505
A11: =Total!A12 -> 41060 | B11: =Total!B12 -> 1397995 | C11: =Total!C12 -> 742791 | D11: =Total!N12 -> 142461 | E11: =Total!AK12 -> 76310 | F11: =Total!AY12 -> 51658 | G11: =Total!I12 -> 58016 | H11: =SUM(C11:G11) -> 1071236 | I11: =B11-H11 -> 326759 | K11: =A11 -> 41060 | L11: =C11/$B11*100 -> 53.132593 | M11: =D11/$B11*100 -> 10.19038 | N11: =E11/$B11*100 -> 5.4585317 | O11: =F11/$B11*100 -> 3.6951491 | P11: =G11/$B11*100 -> 4.1499433 | Q11: =H11/$B11*100 -> 76.626597 | R11: =I11/$B11*100 -> 23.373403
A12: =Total!A13 -> 41090 | B12: =Total!B13 -> 1403575 | C12: =Total!C13 -> 745755 | D12: =Total!N13 -> 143160 | E12: =Total!AK13 -> 76746 | F12: =Total!AY13 -> 51880 | G12: =Total!I13 -> 58218 | H12: =SUM(C12:G12) -> 1075759 | I12: =B12-H12 -> 327816 | K12: =A12 -> 41090 | L12: =C12/$B12*100 -> 53.132537 | M12: =D12/$B12*100 -> 10.199669 | N12: =E12/$B12*100 -> 5.4678945 | O12: =F12/$B12*100 -> 3.6962756 | P12: =G12/$B12*100 -> 4.1478368 | Q12: =H12/$B12*100 -> 76.644212 | R12: =I12/$B12*100 -> 23.355788
A13: =Total!A14 -> 41121 | B13: =Total!B14 -> 1408824 | C13: =Total!C14 -> 748130 | D13: =Total!N14 -> 143740 | E13: =Total!AK14 -> 77450 | F13: =Total!AY14 -> 52083 | G13: =Total!I14 -> 58313 | H13: =SUM(C13:G13) -> 1079716 | I13: =B13-H13 -> 329108 | K13: =A13 -> 41121 | L13: =C13/$B13*100 -> 53.103156 | M13: =D13/$B13*100 -> 10.202836 | N13: =E13/$B13*100 -> 5.4974929 | O13: =F13/$B13*100 -> 3.6969132 | P13: =G13/$B13*100 -> 4.139126 | Q13: =H13/$B13*100 -> 76.639523 | R13: =I13/$B13*100 -> 23.360477
A14: =Total!A15 -> 41152 | B14: =Total!B15 -> 1414296 | C14: =Total!C15 -> 750839 | D14: =Total!N15 -> 144058 | E14: =Total!AK15 -> 78039 | F14: =Total!AY15 -> 52237 | G14: =Total!I15 -> 58562 | H14: =SUM(C14:G14) -> 1083735 | I14: =B14-H14 -> 330561 | K14: =A14 -> 41152 | L14: =C14/$B14*100 -> 53.08924 | M14: =D14/$B14*100 -> 10.185845 | N14: =E14/$B14*100 -> 5.517869 | O14: =F14/$B14*100 -> 3.6934984 | P14: =G14/$B14*100 -> 4.1407174 | Q14: =H14/$B14*100 -> 76.62717 | R14: =I14/$B14*100 -> 23.37283
... A33: =Total!A34 -> 41729 | B33: =Total!B34 -> 1492199 | C33: =Total!C34 -> 789613 | D33: =Total!N34 -> 151533 | E33: =Total!AK34 -> 85108 | F33: =Total!AY34 -> 54538 | G33: =Total!I34 -> 61403 | H33: =SUM(C33:G33) -> 1142195 | I33: =B33-H33 -> 350004 | K33: =A33 -> 41729 | L33: =C33/$B33*100 -> 52.916065 | M33: =D33/$B33*100 -> 10.155013 | N33: =E33/$B33*100 -> 5.7035288 | O33: =F33/$B33*100 -> 3.6548745 | P33: =G33/$B33*100 -> 4.1149337 | Q33: =H33/$B33*100 -> 76.544415 | R33: =I33/$B33*100 -> 23.455585

Sheet Summary (2)
A1: Total Live Vehicle Population - Passenger | K1: Contribution Rates - Passenger
B2: Total | C2: Durban | D2: Pietermaritzburg | E2: Richards Bay | F2: Newcastle | G2: Port Shepstone | H2: Rural | I2: Urban | L2: Durban | M2: Pietermaritzburg | N2: Richards Bay | O2: Newcastle | P2: Port Shepstone | Q2: Rural | R2: Urban
A3: =Total!A4 -> 40816 | B3: ='Passenger Summary'!BA4 -> 881323 | C3: ='Passenger Summary'!B4 -> 516964 | D3: ='Passenger Summary'!M4 -> 92066 | E3: ='Passenger Summary'!AJ4 -> 42817 | F3: ='Passenger Summary'!AX4 -> 32283 | G3: ='Passenger Summary'!H4 -> 34879 | H3: =SUM(C3:G3) -> 719009 | I3: =B3-H3 -> 162314 | K3: =A3 -> 40816 | L3: =C3/$B3*100 -> 58.657723 | M3: =D3/$B3*100 -> 10.44634 | N3: =E3/$B3*100 -> 4.8582642 | O3: =F3/$B3*100 -> 3.6630157 | P3: =G3/$B3*100 -> 3.9575729 | Q3: =H3/$B3*100 -> 81.582916 | R3: =I3/$B3*100 -> 18.417084
A4: =Total!A5 -> 40847 | B4: ='Passenger Summary'!BA5 -> 884472 | C4: ='Passenger Summary'!B5 -> 518914 | D4: ='Passenger Summary'!M5 -> 92241 | E4: ='Passenger Summary'!AJ5 -> 42993 | F4: ='Passenger Summary'!AX5 -> 32453 | G4: ='Passenger Summary'!H5 -> 35093 | H4: =SUM(C4:G4) -> 721694 | I4: =B4-H4 -> 162778 | K4: =A4 -> 40847 | L4: =C4/$B4*100 -> 58.669353 | M4: =D4/$B4*100 -> 10.428934 | N4: =E4/$B4*100 -> 4.8608661 | O4: =F4/$B4*100 -> 3.6691947 | P4: =G4/$B4*100 -> 3.9676779 | Q4: =H4/$B4*100 -> 81.596026 | R4: =I4/$B4*100 -> 18.403974
A5: =Total!A6 -> 40877 | B5: ='Passenger Summary'!BA6 -> 882897.5 | C5: ='Passenger Summary'!B6 -> 517939 | D5: ='Passenger Summary'!M6 -> 92153.5 | E5: ='Passenger Summary'!AJ6 -> 42905 | F5: ='Passenger Summary'!AX6 -> 32368 | G5: ='Passenger Summary'!H6 -> 34986 | H5: =SUM(C5:G5) -> 720351.5 | I5: =B5-H5 -> 162546 | K5: =A5 -> 40877 | L5: =C5/$B5*100 -> 58.663548 | M5: =D5/$B5*100 -> 10.437622 | N5: =E5/$B5*100 -> 4.8595675 | O5: =F5/$B5*100 -> 3.6661107 | P5: =G5/$B5*100 -> 3.9626344 | Q5: =H5/$B5*100 -> 81.589482 | R5: =I5/$B5*100 -> 18.410518
A6: =Total!A7 -> 40908 | B6: ='Passenger Summary'!BA7 -> 883684.75 | C6: ='Passenger Summary'!B7 -> 518426.5 | D6: ='Passenger Summary'!M7 -> 92197.25 | E6: ='Passenger Summary'!AJ7 -> 42949 | F6: ='Passenger Summary'!AX7 -> 32410.5 | G6: ='Passenger Summary'!H7 -> 35039.5 | H6: =SUM(C6:G6) -> 721022.75 | I6: =B6-H6 -> 162662 | K6: =A6 -> 40908 | L6: =C6/$B6*100 -> 58.666453 | M6: =D6/$B6*100 -> 10.433274 | N6: =E6/$B6*100 -> 4.8602174 | O6: =F6/$B6*100 -> 3.6676541 | P6: =G6/$B6*100 -> 3.9651584 | Q6: =H6/$B6*100 -> 81.592757 | R6: =I6/$B6*100 -> 18.407243
A7: =Total!A8 -> 40939 | B7: ='Passenger Summary'!BA8 -> 894703 | C7: ='Passenger Summary'!B8 -> 524194 | D7: ='Passenger Summary'!M8 -> 93130 | E7: ='Passenger Summary'!AJ8 -> 43939 | F7: ='Passenger Summary'!AX8 -> 32857 | G7: ='Passenger Summary'!H8 -> 35410 | H7: =SUM(C7:G7) -> 729530 | I7: =B7-H7 -> 165173 | K7: =A7 -> 40939 | L7: =C7/$B7*100 -> 58.588604 | M7: =D7/$B7*100 -> 10.409041 | N7: =E7/$B7*100 -> 4.9110152 | O7: =F7/$B7*100 -> 3.6723918 | P7: =G7/$B7*100 -> 3.9577379 | Q7: =H7/$B7*100 -> 81.53879 | R7: =I7/$B7*100 -> 18.46121
A8: =Total!A9 -> 40968 | B8: ='Passenger Summary'!BA9 -> 898657 | C8: ='Passenger Summary'!B9 -> 526263 | D8: ='Passenger Summary'!M9 -> 93551 | E8: ='Passenger Summary'!AJ9 -> 44249 | F8: ='Passenger Summary'!AX9 -> 33034 | G8: ='Passenger Summary'!H9 -> 35432 | H8: =SUM(C8:G8) -> 732529 | I8: =B8-H8 -> 166128 | K8: =A8 -> 40968 | L8: =C8/$B8*100 -> 58.561053 | M8: =D8/$B8*100 -> 10.41009 | N8: =E8/$B8*100 -> 4.9239031 | O8: =F8/$B8*100 -> 3.6759297 | P8: =G8/$B8*100 -> 3.9427724 | Q8: =H8/$B8*100 -> 81.513748 | R8: =I8/$B8*100 -> 18.486252
A9: =Total!A10 -> 40999 | B9: ='Passenger Summary'!BA10 -> 901945 | C9: ='Passenger Summary'!B10 -> 528237 | D9: ='Passenger Summary'!M10 -> 93977 | E9: ='Passenger Summary'!AJ10 -> 44538 | F9: ='Passenger Summary'!AX10 -> 33164 | G9: ='Passenger Summary'!H10 -> 35459 | H9: =SUM(C9:G9) -> 735375 | I9: =B9-H9 -> 166570 | K9: =A9 -> 40999 | L9: =C9/$B9*100 -> 58.566431 | M9: =D9/$B9*100 -> 10.419371 | N9: =E9/$B9*100 -> 4.9379951 | O9: =F9/$B9*100 -> 3.6769426 | P9: =G9/$B9*100 -> 3.9313927 | Q9: =H9/$B9*100 -> 81.532133 | R9: =I9/$B9*100 -> 18.467867
A10: =Total!A11 -> 41029 | B10: ='Passenger Summary'!BA11 -> 905103 | C10: ='Passenger Summary'!B11 -> 529920 | D10: ='Passenger Summary'!M11 -> 94347 | E10: ='Passenger Summary'!AJ11 -> 44810 | F10: ='Passenger Summary'!AX11 -> 33384 | G10: ='Passenger Summary'!H11 -> 35554 | H10: =SUM(C10:G10) -> 738015 | I10: =B10-H10 -> 167088 | K10: =A10 -> 41029 | L10: =C10/$B10*100 -> 58.548033 | M10: =D10/$B10*100 -> 10.423897 | N10: =E10/$B10*100 -> 4.9508178 | O10: =F10/$B10*100 -> 3.68842 | P10: =G10/$B10*100 -> 3.9281717 | Q10: =H10/$B10*100 -> 81.539339 | R10: =I10/$B10*100 -> 18.460661
A11: =Total!A12 -> 41060 | B11: ='Passenger Summary'!BA12 -> 915398 | C11: ='Passenger Summary'!B12 -> 538364 | D11: ='Passenger Summary'!M12 -> 94748 | E11: ='Passenger Summary'!AJ12 -> 45075 | F11: ='Passenger Summary'!AX12 -> 33490 | G11: ='Passenger Summary'!H12 -> 35738 | H11: =SUM(C11:G11) -> 747415 | I11: =B11-H11 -> 167983 | K11: =A11 -> 41060 | L11: =C11/$B11*100 -> 58.812014 | M11: =D11/$B11*100 -> 10.350471 | N11: =E11/$B11*100 -> 4.9240877 | O11: =F11/$B11*100 -> 3.6585179 | P11: =G11/$B11*100 -> 3.9040942 | Q11: =H11/$B11*100 -> 81.649184 | R11: =I11/$B11*100 -> 18.350816
A12: =Total!A13 -> 41090 | B12: ='Passenger Summary'!BA13 -> 912545 | C12: ='Passenger Summary'!B13 -> 533587 | D12: ='Passenger Summary'!M13 -> 95245 | E12: ='Passenger Summary'!AJ13 -> 45403 | F12: ='Passenger Summary'!AX13 -> 33681 | G12: ='Passenger Summary'!H13 -> 35862 | H12: =SUM(C12:G12) -> 743778 | I12: =B12-H12 -> 168767 | K12: =A12 -> 41090 | L12: =C12/$B12*100 -> 58.472404 | M12: =D12/$B12*100 -> 10.437294 | N12: =E12/$B12*100 -> 4.9754259 | O12: =F12/$B12*100 -> 3.6908865 | P12: =G12/$B12*100 -> 3.9298884 | Q12: =H12/$B12*100 -> 81.505898 | R12: =I12/$B12*100 -> 18.494102
A13: =Total!A14 -> 41121 | B13: ='Passenger Summary'!BA14 -> 916359 | C13: ='Passenger Summary'!B14 -> 535565 | D13: ='Passenger Summary'!M14 -> 95676 | E13: ='Passenger Summary'!AJ14 -> 45807 | F13: ='Passenger Summary'!AX14 -> 33858 | G13: ='Passenger Summary'!H14 -> 35902 | H13: =SUM(C13:G13) -> 746808 | I13: =B13-H13 -> 169551 | K13: =A13 -> 41121 | L13: =C13/$B13*100 -> 58.444889 | M13: =D13/$B13*100 -> 10.440886 | N13: =E13/$B13*100 -> 4.9988051 | O13: =F13/$B13*100 -> 3.6948401 | P13: =G13/$B13*100 -> 3.9178968 | Q13: =H13/$B13*100 -> 81.497317 | R13: =I13/$B13*100 -> 18.502683
A14: =Total!A15 -> 41152 | B14: ='Passenger Summary'!BA15 -> 920071 | C14: ='Passenger Summary'!B15 -> 537506 | D14: ='Passenger Summary'!M15 -> 95958 | E14: ='Passenger Summary'!AJ15 -> 46254 | F14: ='Passenger Summary'!AX15 -> 33947 | G14: ='Passenger Summary'!H15 -> 36081 | H14: =SUM(C14:G14) -> 749746 | I14: =B14-H14 -> 170325 | K14: =A14 -> 41152 | L14: =C14/$B14*100 -> 58.420057 | M14: =D14/$B14*100 -> 10.429413 | N14: =E14/$B14*100 -> 5.0272207 | O14: =F14/$B14*100 -> 3.6896066 | P14: =G14/$B14*100 -> 3.9215452 | Q14: =H14/$B14*100 -> 81.487842 | R14: =I14/$B14*100 -> 18.512158
... A33: =Total!A34 -> 41729 | B33: ='Passenger Summary'!BA34 -> 808143 | C33: ='Passenger Summary'!B34 -> 453418 | D33: ='Passenger Summary'!M34 -> 93486 | E33: ='Passenger Summary'!AJ34 -> 46219 | F33: ='Passenger Summary'!AX34 -> 32492 | G33: ='Passenger Summary'!H34 -> 33726 | H33: =SUM(C33:G33) -> 659341 | I33: =B33-H33 -> 148802 | K33: =A33 -> 41729 | L33: =C33/$B33*100 -> 56.106159 | M33: =D33/$B33*100 -> 11.568002 | N33: =E33/$B33*100 -> 5.7191611 | O33: =F33/$B33*100 -> 4.0205756 | P33: =G33/$B33*100 -> 4.1732713 | Q33: =H33/$B33*100 -> 81.58717 | R33: =I33/$B33*100 -> 18.41283

Sheet Summary (3)
A1: Total Live Vehicle Population - Commercial | K1: Contribution Rates - Commercial
B2: Total | C2: Durban | D2: Pietermaritzburg | E2: Richards Bay | F2: Newcastle | G2: Port Shepstone | H2: Urban | I2: Rural | L2: Durban | M2: Pietermaritzburg | N2: Richards Bay | O2: Newcastle | P2: Port Shepstone | Q2: Rural | R2: Urban
A3: =Total!A4 -> 40816 | B3: ='Commercial Summary'!BA4 -> 480084 | C3: ='Commercial Summary'!B4 -> 208564 | D3: ='Commercial Summary'!M4 -> 46632 | E3: ='Commercial Summary'!AJ4 -> 30297 | F3: ='Commercial Summary'!AX4 -> 17912 | G3: ='Commercial Summary'!H4 -> 21800 | H3: =SUM(C3:G3) -> 325205 | I3: =B3-H3 -> 154879 | K3: =A3 -> 40816 | L3: =C3/$B3*100 -> 43.443231 | M3: =D3/$B3*100 -> 9.7133002 | N3: =E3/$B3*100 -> 6.3107706 | O3: =F3/$B3*100 -> 3.7310137 | P3: =G3/$B3*100 -> 4.540872 | Q3: =H3/$B3*100 -> 67.739187 | R3: =I3/$B3*100 -> 32.260813
A4: =Total!A5 -> 40847 | B4: ='Commercial Summary'!BA5 -> 481470 | C4: ='Commercial Summary'!B5 -> 209056 | D4: ='Commercial Summary'!M5 -> 46660 | E4: ='Commercial Summary'!AJ5 -> 30402 | F4: ='Commercial Summary'!AX5 -> 17980 | G4: ='Commercial Summary'!H5 -> 21968 | H4: =SUM(C4:G4) -> 326066 | I4: =B4-H4 -> 155404 | K4: =A4 -> 40847 | L4: =C4/$B4*100 -> 43.420358 | M4: =D4/$B4*100 -> 9.6911542 | N4: =E4/$B4*100 -> 6.3144121 | O4: =F4/$B4*100 -> 3.7343967 | P4: =G4/$B4*100 -> 4.5626934 | Q4: =H4/$B4*100 -> 67.723015 | R4: =I4/$B4*100 -> 32.276985
A5: =Total!A6 -> 40877 | B5: ='Commercial Summary'!BA6 -> 480777 | C5: ='Commercial Summary'!B6 -> 208810 | D5: ='Commercial Summary'!M6 -> 46646 | E5: ='Commercial Summary'!AJ6 -> 30349.5 | F5: ='Commercial Summary'!AX6 -> 17946 | G5: ='Commercial Summary'!H6 -> 21884 | H5: =SUM(C5:G5) -> 325635.5 | I5: =B5-H5 -> 155141.5 | K5: =A5 -> 40877 | L5: =C5/$B5*100 -> 43.431778 | M5: =D5/$B5*100 -> 9.7022112 | N5: =E5/$B5*100 -> 6.312594 | O5: =F5/$B5*100 -> 3.7327077 | P5: =G5/$B5*100 -> 4.5517984 | Q5: =H5/$B5*100 -> 67.731089 | R5: =I5/$B5*100 -> 32.268911
A6: =Total!A7 -> 40908 | B6: ='Commercial Summary'!BA7 -> 481123.5 | C6: ='Commercial Summary'!B7 -> 208933 | D6: ='Commercial Summary'!M7 -> 46653 | E6: ='Commercial Summary'!AJ7 -> 30375.75 | F6: ='Commercial Summary'!AX7 -> 17963 | G6: ='Commercial Summary'!H7 -> 21926 | H6: =SUM(C6:G6) -> 325850.75 | I6: =B6-H6 -> 155272.75 | K6: =A6 -> 40908 | L6: =C6/$B6*100 -> 43.426064 | M6: =D6/$B6*100 -> 9.6966787 | N6: =E6/$B6*100 -> 6.3135037 | O6: =F6/$B6*100 -> 3.7335528 | P6: =G6/$B6*100 -> 4.5572499 | Q6: =H6/$B6*100 -> 67.727049 | R6: =I6/$B6*100 -> 32.272951
A7: =Total!A8 -> 40939 | B7: ='Commercial Summary'!BA8 -> 484979 | C7: ='Commercial Summary'!B8 -> 209869 | D7: ='Commercial Summary'!M8 -> 47166 | E7: ='Commercial Summary'!AJ8 -> 30721 | F7: ='Commercial Summary'!AX8 -> 18134 | G7: ='Commercial Summary'!H8 -> 22078 | H7: =SUM(C7:G7) -> 327968 | I7: =B7-H7 -> 157011 | K7: =A7 -> 40939 | L7: =C7/$B7*100 -> 43.273832 | M7: =D7/$B7*100 -> 9.7253696 | N7: =E7/$B7*100 -> 6.3345011 | O7: =F7/$B7*100 -> 3.739131 | P7: =G7/$B7*100 -> 4.5523621 | Q7: =H7/$B7*100 -> 67.625196 | R7: =I7/$B7*100 -> 32.374804
A8: =Total!A9 -> 40968 | B8: ='Commercial Summary'!BA9 -> 488710 | C8: ='Commercial Summary'!B9 -> 212979 | D8: ='Commercial Summary'!M9 -> 47232 | E8: ='Commercial Summary'!AJ9 -> 30797 | F8: ='Commercial Summary'!AX9 -> 18132 | G8: ='Commercial Summary'!H9 -> 22067 | H8: =SUM(C8:G8) -> 331207 | I8: =B8-H8 -> 157503 | K8: =A8 -> 40968 | L8: =C8/$B8*100 -> 43.579833 | M8: =D8/$B8*100 -> 9.6646273 | N8: =E8/$B8*100 -> 6.3016922 | O8: =F8/$B8*100 -> 3.7101758 | P8: =G8/$B8*100 -> 4.5153568 | Q8: =H8/$B8*100 -> 67.771685 | R8: =I8/$B8*100 -> 32.228315
A9: =Total!A10 -> 40999 | B9: ='Commercial Summary'!BA10 -> 487257 | C9: ='Commercial Summary'!B10 -> 210760 | D9: ='Commercial Summary'!M10 -> 47384 | E9: ='Commercial Summary'!AJ10 -> 30977 | F9: ='Commercial Summary'!AX10 -> 18113 | G9: ='Commercial Summary'!H10 -> 22058 | H9: =SUM(C9:G9) -> 329292 | I9: =B9-H9 -> 157965 | K9: =A9 -> 40999 | L9: =C9/$B9*100 -> 43.254381 | M9: =D9/$B9*100 -> 9.7246422 | N9: =E9/$B9*100 -> 6.3574253 | O9: =F9/$B9*100 -> 3.7173401 | P9: =G9/$B9*100 -> 4.5269745 | Q9: =H9/$B9*100 -> 67.580763 | R9: =I9/$B9*100 -> 32.419237
A10: =Total!A11 -> 41029 | B10: ='Commercial Summary'!BA11 -> 488140 | C10: ='Commercial Summary'!B11 -> 210894 | D10: ='Commercial Summary'!M11 -> 47556 | E10: ='Commercial Summary'!AJ11 -> 31114 | F10: ='Commercial Summary'!AX11 -> 18132 | G10: ='Commercial Summary'!H11 -> 22147 | H10: =SUM(C10:G10) -> 329843 | I10: =B10-H10 -> 158297 | K10: =A10 -> 41029 | L10: =C10/$B10*100 -> 43.203589 | M10: =D10/$B10*100 -> 9.742287 | N10: =E10/$B10*100 -> 6.3739911 | O10: =F10/$B10*100 -> 3.7145081 | P10: =G10/$B10*100 -> 4.5370181 | Q10: =H10/$B10*100 -> 67.571393 | R10: =I10/$B10*100 -> 32.428607
A11: =Total!A12 -> 41060 | B11: ='Commercial Summary'!BA12 -> 488575 | C11: ='Commercial Summary'!B12 -> 211427 | D11: ='Commercial Summary'!M12 -> 47713 | E11: ='Commercial Summary'!AJ12 -> 30213 | F11: ='Commercial Summary'!AX12 -> 18168 | G11: ='Commercial Summary'!H12 -> 22278 | H11: =SUM(C11:G11) -> 329799 | I11: =B11-H11 -> 158776 | K11: =A11 -> 41060 | L11: =C11/$B11*100 -> 43.274216 | M11: =D11/$B11*100 -> 9.7657473 | N11: =E11/$B11*100 -> 6.1839022 | O11: =F11/$B11*100 -> 3.7185693 | P11: =G11/$B11*100 -> 4.5597912 | Q11: =H11/$B11*100 -> 67.502226 | R11: =I11/$B11*100 -> 32.497774
A12: =Total!A13 -> 41090 | B12: ='Commercial Summary'!BA13 -> 491030 | C12: ='Commercial Summary'!B13 -> 212168 | D12: ='Commercial Summary'!M13 -> 47915 | E12: ='Commercial Summary'!AJ13 -> 31343 | F12: ='Commercial Summary'!AX13 -> 18199 | G12: ='Commercial Summary'!H13 -> 22356 | H12: =SUM(C12:G12) -> 331981 | I12: =B12-H12 -> 159049 | K12: =A12 -> 41090 | L12: =C12/$B12*100 -> 43.208765 | M12: =D12/$B12*100 -> 9.7580596 | N12: =E12/$B12*100 -> 6.383113 | O12: =F12/$B12*100 -> 3.7062909 | P12: =G12/$B12*100 -> 4.5528786 | Q12: =H12/$B12*100 -> 67.609107 | R12: =I12/$B12*100 -> 32.390893
A13: =Total!A14 -> 41121 | B13: ='Commercial Summary'!BA14 -> 492465 | C13: ='Commercial Summary'!B14 -> 212565 | D13: ='Commercial Summary'!M14 -> 48064 | E13: ='Commercial Summary'!AJ14 -> 31643 | F13: ='Commercial Summary'!AX14 -> 18225 | G13: ='Commercial Summary'!H14 -> 22411 | H13: =SUM(C13:G13) -> 332908 | I13: =B13-H13 -> 159557 | K13: =A13 -> 41121 | L13: =C13/$B13*100 -> 43.163474 | M13: =D13/$B13*100 -> 9.7598814 | N13: =E13/$B13*100 -> 6.4254312 | O13: =F13/$B13*100 -> 3.7007706 | P13: =G13/$B13*100 -> 4.5507803 | Q13: =H13/$B13*100 -> 67.600337 | R13: =I13/$B13*100 -> 32.399663
A14: =Total!A15 -> 41152 | B14: ='Commercial Summary'!BA15 -> 494225 | C14: ='Commercial Summary'!B15 -> 213333 | D14: ='Commercial Summary'!M15 -> 48100 | E14: ='Commercial Summary'!AJ15 -> 31785 | F14: ='Commercial Summary'!AX15 -> 18290 | G14: ='Commercial Summary'!H15 -> 22481 | H14: =SUM(C14:G14) -> 333989 | I14: =B14-H14 -> 160236 | K14: =A14 -> 41152 | L14: =C14/$B14*100 -> 43.165158 | M14: =D14/$B14*100 -> 9.7324093 | N14: =E14/$B14*100 -> 6.4312813 | O14: =F14/$B14*100 -> 3.7007436 | P14: =G14/$B14*100 -> 4.5487379 | Q14: =H14/$B14*100 -> 67.57833 | R14: =I14/$B14*100 -> 32.42167
... A33: =Total!A34 -> 41729 | B33: ='Commercial Summary'!BA34 -> 473016 | C33: ='Commercial Summary'!B34 -> 209181 | D33: ='Commercial Summary'!M34 -> 46864 | E33: ='Commercial Summary'!AJ34 -> 31480 | F33: ='Commercial Summary'!AX34 -> 17282 | G33: ='Commercial Summary'!H34 -> 21624 | H33: =SUM(C33:G33) -> 326431 | I33: =B33-H33 -> 146585 | K33: =A33 -> 41729 | L33: =C33/$B33*100 -> 44.222817 | M33: =D33/$B33*100 -> 9.9074873 | N33: =E33/$B33*100 -> 6.655166 | O33: =F33/$B33*100 -> 3.6535762 | P33: =G33/$B33*100 -> 4.5715156 | Q33: =H33/$B33*100 -> 69.010562 | R33: =I33/$B33*100 -> 30.989438

Sheet Commercial Calculation
A1: Commercial
A2: 40816
A3: Ethekwini | C3: Ulundi | E3: Okhahlamba | G3: Ingwe | I3: Mkhambathini | K3: Dannhuaser | M3: Endumeni | O3: Umhlathuze | Q3: umlalazi | S3: Umtshezi | U3: umvoti | W3: umziwabantu | Y3: mgeni | AA3: impendle | AC3: jozini | AE3: ubuhlebezwe | AG3: great kokstad | AI3: kwa sani | AK3: ladysmith | AM3: abaqulusi | AO3: maphumulo | AQ3: mthonjaneni | AS3: mpofana | AU3: mtubatuba | AW3: pongola | AY3: ndwedwe | BA3: newcastle | BC3: nkandla | BE3: nongoma | BG3: nqutu | BI3: Dumbe | BK3: msunduzi | BM3: hibiscus | BO3: richmond | BQ3: umdoni | BS3: kwa-dukuza | BU3: msinga | BW3: umzimkhulu | BY3: emadlangeni | CA3: umshwathi
A4: Amanzimtoti | B4: =1883+2103+12403+893 -> 17282 | C4: Babnango | D4: =10+2+217+12 -> 241 | E4: Bergville | F4: =267+180+1908+493 -> 2848 | G4: Bulwer | H4: =25+19+452+84 -> 580 | I4: Camperdown | J4: =670+469+4699+927 -> 6765 | K4: Dannhuaser | L4: =147+113+885+122 -> 1267 | M4: Dundee | N4: =458+391+3828+532 -> 5209 | O4: Empangweni | P4: =726+698+9307+1019 -> 11750 | Q4: eshowe | R4: =199+89+3033+422 -> 3743 | S4: escourt | T4: =545+408+4916+806 -> 6675 | U4: greytown | V4: =612+273+3246+802 -> 4933 | W4: harding | X4: =175+191+1607+294 -> 2267 | Y4: howick | Z4: =529+446+6155+1085 -> 8215 | AA4: impendle | AB4: =16+9+277+67 -> 369 | AC4: ingwavuma | AD4: =30+44+1954+41 -> 2069 | AE4: ixopo | AF4: =292+198+2334+741 -> 3565 | AG4: kokstad | AH4: =(371+335+7505+986) -> 9197 | AI4: kzn5a2 | AJ4: =85+58+1410+429 -> 1982 | AK4: ladysmith | AL4: =785+864+9606+741 -> 11996 | AM4: louwsburg | AN4: =18+26+220+36 -> 300 | AO4: maphumulo | AP4: =11+3+339+16 -> 369 | AQ4: melmoth | AR4: =169+62+1450+346 -> 2027 | AS4: mooi river | AT4: =256+241+2322+803 -> 3622 | AU4: mtubatuba | AV4: =442+325+5519+801 -> 7087 | AW4: natal law | AX4: =2+26+1 -> 29 | AY4: ndwedwe | AZ4: =4+2+182+9 -> 197 | BA4: newcastle | BB4: =1186+1109+14252+1365 -> 17912 | BC4: nkandla | BD4: =14+12+449+21 -> 496 | BE4: nongoma | BF4: =36+40+1173+32 -> 1281 | BG4: nqutu | BH4: =45+26+982+31 -> 1084 | BI4: pualpiertersburg | BJ4: =171+83+1588+477 -> 2319 | BK4: pietermaritzburg | BL4: =4062+3771+35981+2818 -> 46632 | BM4: portshepstone | BN4: =1172+1310+17579+1739 -> 21800 | BO4: richmond | BP4: =249+197+1510+684 -> 2640 | BQ4: scottsburg | BR4: =570+514+5861+954 -> 7899 | BS4: stanger | BT4: =1443+1110+10206+1572 -> 14331 | BU4: tugela ferry | BV4: =22+26+719+22 -> 789 | BW4: umzimkhulu | BX4: =73+69+1569+87 -> 1798 | BY4: utrecht | BZ4: =43+36+902+165 -> 1146 | CA4: wartburg | CB4: =940+319+2747+1704 -> 5710
A5: Durban | B5: =12937+12006+92587+4338 -> 121868 | C5: mahlabathini | D5: =4+145+2 -> 151 | M5: glencoe | N5: =111+122+1200+154 -> 1587 | O5: richrds bay | P5: =812+1006+15663+1066 -> 18547 | Q5: gingindlovu | R5: =328+194+3800+781 -> 5103 | S5: weenen | T5: =35+22+504+151 -> 712 | U5: kranskop | V5: =177+93+643+202 -> 1115 | AC5: mkuze | AD5: =71+83+2768+90 -> 3012 | AM5: vryheid | AN5: =907+765+8681+1216 -> 11569 | AW5: pongola | AX5: =281+326+2999+638 -> 4244
A6: pinetown | B6: =2736+3739+33613+2907 -> 42995 | C6: Ulundi | D6: =64+60+2128+89 -> 2341 | N6: =SUM(N4:N5) -> 6796 | P6: =SUM(P4:P5) -> 30297 | R6: =SUM(R4:R5) -> 8846 | T6: =SUM(T4:T5) -> 7387 | V6: =SUM(V4:V5) -> 6048 | AD6: =SUM(AD4:AD5) -> 5081 | AN6: =SUM(AN4:AN5) -> 11869 | AX6: =SUM(AX4:AX5) -> 4273
A7: umbumbulu | B7: =3+6+245+18 -> 272 | D7: =SUM(D4:D6) -> 2733
A8: umhlanga rocks | B8: =699+750+9135+662 -> 11246
A9: umlazi | B9: =68+57+3120+26 -> 3271
A10: verulam | B10: =1500+1059+8409+662 -> 11630
A11: total | B11: =SUM(B4:B10) -> 208564
A13: 40847
A14: Ethekwini | C14: Ulundi | E14: Okhahlamba | G14: Ingwe | I14: Mkhambathini | K14: Dannhuaser | M14: Endumeni | O14: Umhlathuze | Q14: umlalazi | S14: Umtshezi | U14: umvoti | W14: umziwabantu | Y14: mgeni | AA14: impendle | AC14: jozini | AE14: ubuhlebezwe | AG14: great kokstad | AI14: kwa sani | AK14: ladysmith | AM14: abaqulusi | AO14: maphumulo | AQ14: mthonjaneni | AS14: mpofana | AU14: mtubatuba | AW14: pongola | AY14: ndwedwe | BA14: newcastle | BC14: nkandla | BE14: nongoma | BG14: nqutu | BI14: Dumbe | BK14: msunduzi | BM14: hibiscus | BO14: richmond | BQ14: umdoni | BS14: kwa-dukuza | BU14: msinga | BW14: umzimkhulu | BY14: emadlangeni | CA14: umshwathi
A15: Amanzimtoti | B15: =1863+2091+12406+888 -> 17248 | C15: Babnango | D15: =11+2+219+10 -> 242 | E15: Bergville | F15: =258+179+1911+478 -> 2826 | G15: Bulwer | H15: =31+20+438+86 -> 575 | I15: Camperdown | J15: =672+472+4706+930 -> 6780 | K15: Dannhuaser | L15: =161+115+898+131 -> 1305 | M15: Dundee | N15: =469+412+3850+576 -> 5307 | O15: Empangweni | P15: =734+692+9344+1022 -> 11792 | Q15: eshowe | R15: =203+91+3054+424 -> 3772 | S15: escourt | T15: =545+408+4962+829 -> 6744 | U15: greytown | V15: =612+273+3246+804 -> 4935 | W15: harding | X15: =166+181+1631+290 -> 2268 | Y15: howick | Z15: =525+452+6163+1081 -> 8221 | AA15: impendle | AB15: =15+9+278+66 -> 368 | AC15: ingwavuma | AD15: =32+46+1967+36 -> 2081 | AE15: ixopo | AF15: =283+191+2337+751 -> 3562 | AG15: kokstad | AH15: =376+341+7525+987 -> 9229 | AI15: kzn5a2 | AJ15: =84+58+1417+429 -> 1988 | AK15: ladysmith | AL15: =777+858+9625+728 -> 11988 | AM15: louwsburg | AN15: =18+25+218+35 -> 296 | AO15: maphumulo | AP15: =11+3+335+16 -> 365 | AQ15: melmoth | AR15: =170+62+1466+346 -> 2044 | AS15: mooi river | AT15: =262+246+2363+818 -> 3689 | AU15: mtubatuba | AV15: =442+330+5509+789 -> 7070 | AW15: natal law | AX15: =2+38 -> 40 | AY15: ndwedwe | AZ15: =2+2+182+8 -> 194 | BA15: newcastle | BB15: =1194+1109+14319+1358 -> 17980 | BC15: nkandla | BD15: =14+14+460+18 -> 506 | BE15: nongoma | BF15: =35+42+1150+32 -> 1259 | BG15: nqutu | BH15: =42+26+1002+33 -> 1103 | BI15: pualpiertersburg | BJ15: =173+78+1583+475 -> 2309 | BK15: pietermaritzburg | BL15: =4032+3811+35997+2820 -> 46660 | BM15: portshepstone | BN15: =1171+1331+17707+1759 -> 21968 | BO15: richmond | BP15: =247+195+1505+678 -> 2625 | BQ15: scottsburg | BR15: =544+490+5784+933 -> 7751 | BS15: stanger | BT15: =1435+1116+10326+1583 -> 14460 | BU15: tugela ferry | BV15: =22+26+720+23 -> 791 | BW15: umzimkhulu | BX15: =77+68+1592+86 -> 1823 | BY15: utrecht | BZ15: =45+35+912+169 -> 1161 | CA15: wartburg | CB15: =936+324+2759+1698 -> 5717
A16: Durban | B16: =13060+12097+92835+4337 -> 122329 | C16: mahlabathini | D16: =4+151+3 -> 158 | M16: glencoe | N16: =112+124+1213+158 -> 1607 | O16: richrds bay | P16: =825+993+15735+1057 -> 18610 | Q16: gingindlovu | R16: =326+197+3812+783 -> 5118 | S16: weenen | T16: =34+20+504+152 -> 710 | U16: kranskop | V16: =177+93+655+199 -> 1124 | AC16: mkuze | AD16: =69+82+2766+95 -> 3012 | AM16: vryheid | AN16: =906+773+8713+1214 -> 11606 | AW16: pongola | AX16: =287+338+3032+649 -> 4306
A17: pinetown | B17: =2742+3748+33641+2919 -> 43050 | C17: Ulundi | D17: =62+65+2155+87 -> 2369 | N17: =SUM(N15:N16) -> 6914 | P17: =SUM(P15:P16) -> 30402 | R17: =SUM(R15:R16) -> 8890 | T17: =SUM(T15:T16) -> 7454 | V17: =SUM(V15:V16) -> 6059 | AD17: =SUM(AD15:AD16) -> 5093 | AN17: =SUM(AN15:AN16) -> 11902 | AX17: =SUM(AX15:AX16) -> 4346
A18: umbumbulu | B18: =6+11+253+20 -> 290 | D18: =SUM(D15:D17) -> 2769
A19: umhlanga rocks | B19: =680+768+9078+661 -> 11187
A20: umlazi | B20: =70+59+3121+25 -> 3275
A21: verulam | B21: =1507+1067+8435+668 -> 11677
B22: =SUM(B15:B21) -> 209056
A24: 40877
A25: Ethekwini | C25: Ulundi | E25: Okhahlamba | G25: Ingwe | I25: Mkhambathini | K25: Dannhuaser | M25: Endumeni | O25: Umhlathuze | Q25: umlalazi | S25: Umtshezi | U25: umvoti | W25: umziwabantu | Y25: mgeni | AA25: impendle | AC25: jozini | AE25: ubuhlebezwe | AG25: great kokstad | AI25: kwa sani | AK25: ladysmith | AM25: abaqulusi | AO25: maphumulo | AQ25: mthonjaneni | AS25: mpofana | AU25: mtubatuba | AW25: pongola | AY25: ndwedwe | BA25: newcastle | BC25: nkandla | BE25: nongoma | BG25: nqutu | BI25: Dumbe | BK25: msunduzi | BM25: hibiscus | BO25: richmond | BQ25: umdoni | BS25: kwa-dukuza | BU25: msinga | BW25: umzimkhulu | BY25: emadlangeni | CA25: umshwathi
A26: Amanzimtoti | B26: =AVERAGE(B4,B15) -> 17265 | C26: Babnango | D26: =AVERAGE(D4,D15) -> 241.5 | E26: Bergville | F26: =AVERAGE(F4,F15) -> 2837 | G26: Bulwer | H26: =AVERAGE(H4,H15) -> 577.5 | I26: Camperdown | J26: =AVERAGE(J4,J15) -> 6772.5 | K26: Dannhuaser | L26: =AVERAGE(L4,L15) -> 1286 | M26: Dundee | N26: =AVERAGE(N4,N15) -> 5258 | O26: Empangweni | P26: =AVERAGE(P4,P15) -> 11771 | Q26: eshowe | R26: =AVERAGE(R4,R15) -> 3757.5 | S26: escourt | T26: =AVERAGE(T4,T15) -> 6709.5 | U26: greytown | V26: =AVERAGE(V4,V15) -> 4934 | W26: harding | X26: =AVERAGE(X4,X15) -> 2267.5 | Y26: howick | Z26: =AVERAGE(Z4,Z15) -> 8218 | AA26: impendle | AB26: =AVERAGE(AB4,AB15) -> 368.5 | AC26: ingwavuma | AD26: =AVERAGE(AD4,AD15) -> 2075 | AE26: ixopo | AF26: =AVERAGE(AF4,AF15) -> 3563.5 | AG26: kokstad | AH26: =AVERAGE(AH4,AH15) -> 9213 | AI26: kzn5a2 | AJ26: =AVERAGE(AJ4,AJ15) -> 1985 | AK26: ladysmith | AL26: =AVERAGE(AL4,AL15) -> 11992 | AM26: louwsburg | AN26: =AVERAGE(AN4,AN15) -> 298 | AO26: maphumulo | AP26: =AVERAGE(AP4,AP15) -> 367 | AQ26: melmoth | AR26: =AVERAGE(AR4,AR15) -> 2035.5 | AS26: mooi river | AT26: =AVERAGE(AT4,AT15) -> 3655.5 | AU26: mtubatuba | AV26: =AVERAGE(AV4,AV15) -> 7078.5 | AW26: natal law | AX26: =AVERAGE(AX4,AX15) -> 34.5 | AY26: ndwedwe | AZ26: =AVERAGE(AZ4,AZ15) -> 195.5 | BA26: newcastle | BB26: =AVERAGE(BB4,BB15) -> 17946 | BC26: nkandla | BD26: =AVERAGE(BD4,BD15) -> 501 | BE26: nongoma | BF26: =AVERAGE(BF4,BF15) -> 1270 | BG26: nqutu | BH26: =AVERAGE(BH4,BH15) -> 1093.5 | BI26: pualpiertersburg | BJ26: =AVERAGE(BJ4,BJ15) -> 2314 | BK26: pietermaritzburg | BL26: =AVERAGE(BL4,BL15) -> 46646 | BM26: portshepstone | BN26: =AVERAGE(BN4,BN15) -> 21884 | BO26: richmond | BP26: =AVERAGE(BP4,BP15) -> 2632.5 | BQ26: scottsburg | BR26: =AVERAGE(BR4,BR15) -> 7825 | BS26: stanger | BT26: =AVERAGE(BT4,BT15) -> 14395.5 | BU26: tugela ferry | BV26: =AVERAGE(BV4,BV15) -> 790 | BW26: umzimkhulu | BX26: =AVERAGE(BX4,BX15) -> 1810.5 | BY26: utrecht | BZ26: =AVERAGE(BZ4,BZ15) -> 1153.5 | CA26: wartburg | CB26: =AVERAGE(CB4,CB15) -> 5713.5
A27: Durban | B27: =AVERAGE(B5,B16) -> 122098.5 | C27: mahlabathini | D27: =AVERAGE(D5,D16) -> 154.5 | M27: glencoe | N27: =AVERAGE(N5,N16) -> 1597 | O27: richrds bay | P27: =AVERAGE(P5,P16) -> 18578.5 | Q27: gingindlovu | R27: =AVERAGE(R5,R16) -> 5110.5 | S27: weenen | T27: =AVERAGE(T5,T16) -> 711 | U27: kranskop | V27: =AVERAGE(V5,V16) -> 1119.5 | AC27: mkuze | AD27: =AVERAGE(AD5,AD16) -> 3012 | AM27: vryheid | AN27: =AVERAGE(AN5,AN16) -> 11587.5 | AW27: pongola | AX27: =AVERAGE(AX5,AX16) -> 4275
A28: pinetown | B28: =AVERAGE(B6,B17) -> 43022.5 | C28: Ulundi | D28: =AVERAGE(D6,D17) -> 2355 | N28: =SUM(N26:N27) -> 6855 | P28: =SUM(P26:P27) -> 30349.5 | R28: =SUM(R26:R27) -> 8868 | T28: =SUM(T26:T27) -> 7420.5 | V28: =SUM(V26:V27) -> 6053.5 | AD28: =SUM(AD26:AD27) -> 5087 | AN28: =SUM(AN26:AN27) -> 11885.5 | AX28: =SUM(AX26:AX27) -> 4309.5
A29: umbumbulu | B29: =AVERAGE(B7,B18) -> 281 | D29: =SUM(D26:D28) -> 2751
A30: umhlanga rocks | B30: =AVERAGE(B8,B19) -> 11216.5
A31: umlazi | B31: =AVERAGE(B9,B20) -> 3273
A32: verulam | B32: =AVERAGE(B10,B21) -> 11653.5
B33: =SUM(B26:B32) -> 208810
A35: 40908
A36: Ethekwini | C36: Ulundi | E36: Okhahlamba | G36: Ingwe | I36: Mkhambathini | K36: Dannhuaser | M36: Endumeni | O36: Umhlathuze | Q36: umlalazi | S36: Umtshezi | U36: umvoti | W36: umziwabantu | Y36: mgeni | AA36: impendle | AC36: jozini | AE36: ubuhlebezwe | AG36: great kokstad | AI36: kwa sani | AK36: ladysmith | AM36: abaqulusi | AO36: maphumulo | AQ36: mthonjaneni | AS36: mpofana | AU36: mtubatuba | AW36: pongola | AY36: ndwedwe | BA36: newcastle | BC36: nkandla | BE36: nongoma | BG36: nqutu | BI36: Dumbe | BK36: msunduzi | BM36: hibiscus | BO36: richmond | BQ36: umdoni | BS36: kwa-dukuza | BU36: msinga | BW36: umzimkhulu | BY36: emadlangeni | CA36: umshwathi
A37: Amanzimtoti | B37: =AVERAGE(B15,B26) -> 17256.5 | C37: Babnango | D37: =AVERAGE(D15,D26) -> 241.75 | E37: Bergville | F37: =AVERAGE(F15,F26) -> 2831.5 | G37: Bulwer | H37: =AVERAGE(H15,H26) -> 576.25 | I37: Camperdown | J37: =AVERAGE(J15,J26) -> 6776.25 | K37: Dannhuaser | L37: =AVERAGE(L15,L26) -> 1295.5 | M37: Dundee | N37: =AVERAGE(N15,N26) -> 5282.5 | O37: Empangweni | P37: =AVERAGE(P15,P26) -> 11781.5 | Q37: eshowe | R37: =AVERAGE(R15,R26) -> 3764.75 | S37: escourt | T37: =AVERAGE(T15,T26) -> 6726.75 | U37: greytown | V37: =AVERAGE(V15,V26) -> 4934.5 | W37: harding | X37: =AVERAGE(X15,X26) -> 2267.75 | Y37: howick | Z37: =AVERAGE(Z15,Z26) -> 8219.5 | AA37: impendle | AB37: =AVERAGE(AB15,AB26) -> 368.25 | AC37: ingwavuma | AD37: =AVERAGE(AD15,AD26) -> 2078 | AE37: ixopo | AF37: =AVERAGE(AF15,AF26) -> 3562.75 | AG37: kokstad | AH37: =AVERAGE(AH15,AH26) -> 9221 | AI37: kzn5a2 | AJ37: =AVERAGE(AJ15,AJ26) -> 1986.5 | AK37: ladysmith | AL37: =AVERAGE(AL15,AL26) -> 11990 | AM37: louwsburg | AN37: =AVERAGE(AN15,AN26) -> 297 | AO37: maphumulo | AP37: =AVERAGE(AP15,AP26) -> 366 | AQ37: melmoth | AR37: =AVERAGE(AR15,AR26) -> 2039.75 | AS37: mooi river | AT37: =AVERAGE(AT15,AT26) -> 3672.25 | AU37: mtubatuba | AV37: =AVERAGE(AV15,AV26) -> 7074.25 | AW37: natal law | AX37: =AVERAGE(AX15,AX26) -> 37.25 | AY37: ndwedwe | AZ37: =AVERAGE(AZ15,AZ26) -> 194.75 | BA37: newcastle | BB37: =AVERAGE(BB15,BB26) -> 17963 | BC37: nkandla | BD37: =AVERAGE(BD15,BD26) -> 503.5 | BE37: nongoma | BF37: =AVERAGE(BF15,BF26) -> 1264.5 | BG37: nqutu | BH37: =AVERAGE(BH15,BH26) -> 1098.25 | BI37: pualpiertersburg | BJ37: =AVERAGE(BJ15,BJ26) -> 2311.5 | BK37: pietermaritzburg | BL37: =AVERAGE(BL15,BL26) -> 46653 | BM37: portshepstone | BN37: =AVERAGE(BN15,BN26) -> 21926 | BO37: richmond | BP37: =AVERAGE(BP15,BP26) -> 2628.75 | BQ37: scottsburg | BR37: =AVERAGE(BR15,BR26) -> 7788 | BS37: stanger | BT37: =AVERAGE(BT15,BT26) -> 14427.75 | BU37: tugela ferry | BV37: =AVERAGE(BV15,BV26) -> 790.5 | BW37: umzimkhulu | BX37: =AVERAGE(BX15,BX26) -> 1816.75 | BY37: utrecht | BZ37: =AVERAGE(BZ15,BZ26) -> 1157.25 | CA37: wartburg | CB37: =AVERAGE(CB15,CB26) -> 5715.25
A38: Durban | B38: =AVERAGE(B16,B27) -> 122213.75 | C38: mahlabathini | D38: =AVERAGE(D16,D27) -> 156.25 | M38: glencoe | N38: =AVERAGE(N16,N27) -> 1602 | O38: richrds bay | P38: =AVERAGE(P16,P27) -> 18594.25 | Q38: gingindlovu | R38: =AVERAGE(R16,R27) -> 5114.25 | S38: weenen | T38: =AVERAGE(T16,T27) -> 710.5 | U38: kranskop | V38: =AVERAGE(V16,V27) -> 1121.75 | AC38: mkuze | AD38: =AVERAGE(AD16,AD27) -> 3012 | AM38: vryheid | AN38: =AVERAGE(AN16,AN27) -> 11596.75 | AW38: pongola | AX38: =AVERAGE(AX16,AX27) -> 4290.5
A39: pinetown | B39: =AVERAGE(B17,B28) -> 43036.25 | C39: Ulundi | D39: =AVERAGE(D17,D28) -> 2362 | N39: =SUM(N37:N38) -> 6884.5 | P39: =SUM(P37:P38) -> 30375.75 | R39: =SUM(R37:R38) -> 8879 | T39: =SUM(T37:T38) -> 7437.25 | V39: =SUM(V37:V38) -> 6056.25 | AD39: =SUM(AD37:AD38) -> 5090 | AN39: =SUM(AN37:AN38) -> 11893.75 | AX39: =SUM(AX37:AX38) -> 4327.75
A40: umbumbulu | B40: =AVERAGE(B18,B29) -> 285.5 | D40: =SUM(D37:D39) -> 2760
A41: umhlanga rocks | B41: =AVERAGE(B19,B30) -> 11201.75
A42: umlazi | B42: =AVERAGE(B20,B31) -> 3274
A43: verulam | B43: =AVERAGE(B21,B32) -> 11665.25
B44: =SUM(B37:B43) -> 208933
A46: 40939
A47: Ethekwini | C47: Ulundi | E47: Okhahlamba | G47: Ingwe | I47: Mkhambathini | K47: Dannhuaser | M47: Endumeni | O47: Umhlathuze | Q47: umlalazi | S47: Umtshezi | U47: umvoti | W47: umziwabantu | Y47: mgeni | AA47: impendle | AC47: jozini | AE47: ubuhlebezwe | AG47: great kokstad | AI47: kwa sani | AK47: ladysmith | AM47: abaqulusi | AO47: maphumulo | AQ47: mthonjaneni | AS47: mpofana | AU47: mtubatuba | AW47: pongola | AY47: ndwedwe | BA47: newcastle | BC47: nkandla | BE47: nongoma | BG47: nqutu | BI47: Dumbe | BK47: msunduzi | BM47: hibiscus | BO47: richmond | BQ47: umdoni | BS47: kwa-dukuza | BU47: msinga | BW47: umzimkhulu | BY47: emadlangeni | CA47: umshwathi
A48: Amanzimtoti | B48: =1805+2061+12454+882 -> 17202 | C48: Babnango | D48: =11+7+244+11 -> 273 | E48: Bergville | F48: =260+183+1936+476 -> 2855 | G48: Bulwer | H48: =29+19+424+82 -> 554 | I48: Camperdown | J48: =642+466+4759+918 -> 6785 | K48: Dannhuaser | L48: =144+104+896+125 -> 1269 | M48: Dundee | N48: =483+434+3920+569 -> 5406 | O48: Empangweni | P48: =714+698+9338+1011 -> 11761 | Q48: eshowe | R48: =204+88+3101+437 -> 3830 | S48: escourt | T48: =556+416+5032+823 -> 6827 | U48: greytown | V48: =593+266+3304+800 -> 4963 | W48: harding | X48: =160+182+1650+295 -> 2287 | Y48: howick | Z48: =531+452+6240+1085 -> 8308 | AA48: impendle | AB48: =15+10+290+66 -> 381 | AC48: ingwavuma | AD48: =34+43+2054+41 -> 2172 | AE48: ixopo | AF48: =294+195+2350+741 -> 3580 | AG48: kokstad | AH48: =380+339+7773+1029 -> 9521 | AI48: kzn5a2 | AJ48: =86+55+1427+428 -> 1996 | AK48: ladysmith | AL48: =794+854+9780+728 -> 12156 | AM48: louwsburg | AN48: =20+25+233+45 -> 323 | AO48: maphumulo | AP48: =14+4+342+18 -> 378 | AQ48: melmoth | AR48: =159+57+1464+323 -> 2003 | AS48: mooi river | AT48: =263+264+2334+799 -> 3660 | AU48: mtubatuba | AV48: =442+352+5513+811 -> 7118 | AW48: natal law | AX48: =3+40+6 -> 49 | AY48: ndwedwe | AZ48: =1+2+184+8 -> 195 | BA48: newcastle | BB48: =1182+1121+14455+1376 -> 18134 | BC48: nkandla | BD48: =14+13+450+18 -> 495 | BE48: nongoma | BF48: =38+44+1175+33 -> 1290 | BG48: nqutu | BH48: =43+28+1020+33 -> 1124 | BI48: pualpiertersburg | BJ48: =171+89+1593+473 -> 2326 | BK48: pietermaritzburg | BL48: =4074+3891+36340+2861 -> 47166 | BM48: portshepstone | BN48: =1190+1346+17781+1761 -> 22078 | BO48: richmond | BP48: =241+196+1505+677 -> 2619 | BQ48: scottsburg | BR48: =539+490+5867+936 -> 7832 | BS48: stanger | BT48: =1434+1143+10546+1584 -> 14707 | BU48: tugela ferry | BV48: =22+28+740+22 -> 812 | BW48: umzimkhulu | BX48: =68+60+1601+90 -> 1819 | BY48: utrecht | BZ48: =46+40+902+165 -> 1153 | CA48: wartburg | CB48: =924+310+2774+1680 -> 5688
A49: Durban | B49: =12986+12256+93320+4351 -> 122913 | C49: mahlabathini | D49: =6+183+4 -> 193 | M49: glencoe | N49: =111+122+1224+147 -> 1604 | O49: richrds bay | P49: =831+1018+16033+1078 -> 18960 | Q49: gingindlovu | R49: =339+197+3793+813 -> 5142 | S49: weenen | T49: =33+20+509+155 -> 717 | U49: kranskop | V49: =173+93+643+198 -> 1107 | AC49: mkuze | AD49: =68+79+2852+95 -> 3094 | AM49: vryheid | AN49: =885+751+8792+1229 -> 11657 | AW49: pongola | AX49: =280+327+3044+657 -> 4308
A50: pinetown | B50: =2744+3764+33955+2927 -> 43390 | C50: Ulundi | D50: =62+68+2216+89 -> 2435 | N50: =SUM(N48:N49) -> 7010 | P50: =SUM(P48:P49) -> 30721 | R50: =SUM(R48:R49) -> 8972 | T50: =SUM(T48:T49) -> 7544 | V50: =SUM(V48:V49) -> 6070 | AD50: =SUM(AD48:AD49) -> 5266 | AN50: =SUM(AN48:AN49) -> 11980 | AX50: =SUM(AX48:AX49) -> 4357
A51: umbumbulu | B51: =5+11+254+18 -> 288 | D51: =SUM(D48:D50) -> 2901
A52: umhlanga rocks | B52: =695+708+8974+668 -> 11045
A53: umlazi | B53: =64+52+3166+25 -> 3307
A54: verulam | B54: =1500+1065+8458+701 -> 11724
B55: =SUM(B48:B54) -> 209869
A57: 40968
A58: Ethekwini | C58: Ulundi | E58: Okhahlamba | G58: Ingwe | I58: Mkhambathini | K58: Dannhuaser | M58: Endumeni | O58: Umhlathuze | Q58: umlalazi | S58: Umtshezi | U58: umvoti | W58: umziwabantu | Y58: mgeni | AA58: impendle | AC58: jozini | AE58: ubuhlebezwe | AG58: great kokstad | AI58: kwa sani | AK58: ladysmith | AM58: abaqulusi | AO58: maphumulo | AQ58: mthonjaneni | AS58: mpofana | AU58: mtubatuba | AW58: pongola | AY58: ndwedwe | BA58: newcastle | BC58: nkandla | BE58: nongoma | BG58: nqutu | BI58: Dumbe | BK58: msunduzi | BM58: hibiscus | BO58: richmond | BQ58: umdoni | BS58: kwa-dukuza | BU58: msinga | BW58: umzimkhulu | BY58: emadlangeni | CA58: umshwathi
A59: Amanzimtoti | B59: =1813+2073+12491+886 -> 17263 | C59: Babnango | D59: =11+7+244+12 -> 274 | E59: Bergville | F59: =263+184+1929+490 -> 2866 | G59: Bulwer | H59: =28+18+440+86 -> 572 | I59: Camperdown | J59: =667+470+4767+924 -> 6828 | K59: Dannhuaser | L59: =158+124+915+121 -> 1318 | M59: Dundee | N59: =476+424+3940+581 -> 5421 | O59: Empangweni | P59: =715+700+9423+1028 -> 11866 | Q59: eshowe | R59: =203+93+3119+442 -> 3857 | S59: escourt | T59: =551+417+5050+818 -> 6836 | U59: greytown | V59: =578+270+3317+789 -> 4954 | W59: harding | X59: =163+185+1654+295 -> 2297 | Y59: howick | Z59: =524+449+6216+1065 -> 8254 | AA59: impendle | AB59: =17+10+281+63 -> 371 | AC59: ingwavuma | AD59: =34+42+2064+42 -> 2182 | AE59: ixopo | AF59: =290+199+2354+737 -> 3580 | AG59: kokstad | AH59: =383+338+7793+1021 -> 9535 | AI59: kzn5a2 | AJ59: =84+56+1442+432 -> 2014 | AK59: ladysmith | AL59: =794+856+9785+738 -> 12173 | AM59: louwsburg | AN59: =17+15+220+39 -> 291 | AO59: maphumulo | AP59: =11+4+338+16 -> 369 | AQ59: melmoth | AR59: =162+64+1458+329 -> 2013 | AS59: mooi river | AT59: =275+270+2350+804 -> 3699 | AU59: mtubatuba | AV59: =430+354+5593+824 -> 7201 | AW59: natal law | AX59: =3+39+6 -> 48 | AY59: ndwedwe | AZ59: =2+3+181+9 -> 195 | BA59: newcastle | BB59: =1131+1106+14526+1369 -> 18132 | BC59: nkandla | BD59: =15+13+468+17 -> 513 | BE59: nongoma | BF59: =38+39+1166+33 -> 1276 | BG59: nqutu | BH59: =42+24+1030+33 -> 1129 | BI59: pualpiertersburg | BJ59: =172+91+1602+488 -> 2353 | BK59: pietermaritzburg | BL59: =4046+3904+36400+2882 -> 47232 | BM59: portshepstone | BN59: =1180+1356+17776+1755 -> 22067 | BO59: richmond | BP59: =247+193+1519+693 -> 2652 | BQ59: scottsburg | BR59: =541+493+5911+947 -> 7892 | BS59: stanger | BT59: =1439+1147+10529+1585 -> 14700 | BU59: tugela ferry | BV59: =23+25+756+22 -> 826 | BW59: umzimkhulu | BX59: =63+58+1574+82 -> 1777 | BY59: utrecht | BZ59: =46+35+907+162 -> 1150 | CA59: wartburg | CB59: =940+325+2796+1696 -> 5757
A60: Durban | B60: =12983+12250+96603+4345 -> 126181 | C60: mahlabathini | D60: =4+173+2 -> 179 | M60: glencoe | N60: =119+127+1229+150 -> 1625 | O60: richrds bay | P60: =817+1007+16045+1062 -> 18931 | Q60: gingindlovu | R60: =335+194+3770+811 -> 5110 | S60: weenen | T60: =32+20+505+155 -> 712 | U60: kranskop | V60: =174+93+658+200 -> 1125 | AC60: mkuze | AD60: =66+80+2878+92 -> 3116 | AM60: vryheid | AN60: =877+750+8824+1233 -> 11684 | AW60: pongola | AX60: =280+329+3064+663 -> 4336
A61: pinetown | B61: =2680+3718+33869+2899 -> 43166 | C61: Ulundi | D61: =64+67+2222+90 -> 2443 | N61: =SUM(N59:N60) -> 7046 | P61: =SUM(P59:P60) -> 30797 | R61: =SUM(R59:R60) -> 8967 | T61: =SUM(T59:T60) -> 7548 | V61: =SUM(V59:V60) -> 6079 | AD61: =SUM(AD59:AD60) -> 5298 | AN61: =SUM(AN59:AN60) -> 11975 | AX61: =SUM(AX59:AX60) -> 4384
A62: umbumbulu | B62: =5+11+251+18 -> 285 | D62: =SUM(D59:D61) -> 2896
A63: umhlanga rocks | B63: =694+716+8943+665 -> 11018
A64: umlazi | B64: =66+53+3174+25 -> 3318
A65: verulam | B65: =1473+1073+8497+705 -> 11748
B66: =SUM(B59:B65) -> 212979
A68: 40999
A69: Ethekwini | C69: Ulundi | E69: Okhahlamba | G69: Ingwe | I69: Mkhambathini | K69: Dannhuaser | M69: Endumeni | O69: Umhlathuze | Q69: umlalazi | S69: Umtshezi | U69: umvoti | W69: umziwabantu | Y69: mgeni | AA69: impendle | AC69: jozini | AE69: ubuhlebezwe | AG69: great kokstad | AI69: kwa sani | AK69: ladysmith | AM69: abaqulusi | AO69: maphumulo | AQ69: mthonjaneni | AS69: mpofana | AU69: mtubatuba | AW69: pongola | AY69: ndwedwe | BA69: newcastle | BC69: nkandla | BE69: nongoma | BG69: nqutu | BI69: Dumbe | BK69: msunduzi | BM69: hibiscus | BO69: richmond | BQ69: umdoni | BS69: kwa-dukuza | BU69: msinga | BW69: umzimkhulu | BY69: emadlangeni | CA69: umshwathi
A70: Amanzimtoti | B70: =1916+2060+12491+874 -> 17341 | C70: Babnango | D70: =12+8+245+13 -> 278 | E70: Bergville | F70: =263+204+1926+482 -> 2875 | G70: Bulwer | H70: =26+14+443+86 -> 569 | I70: Camperdown | J70: =677+484+4752+922 -> 6835 | K70: Dannhuaser | L70: =182+130+929+121 -> 1362 | M70: Dundee | N70: =472+416+3944+585 -> 5417 | O70: Empangweni | P70: =714+688+9487+1025 -> 11914 | Q70: eshowe | R70: =207+91+3116+445 -> 3859 | S70: escourt | T70: =544+406+5061+822 -> 6833 | U70: greytown | V70: =581+281+3332+806 -> 5000 | W70: harding | X70: =163+184+1639+297 -> 2283 | Y70: howick | Z70: =532+454+6283+1082 -> 8351 | AA70: impendle | AB70: =17+9+285+66 -> 377 | AC70: ingwavuma | AD70: =37+44+2068+39 -> 2188 | AE70: ixopo | AF70: =284+200+2334+734 -> 3552 | AG70: kokstad | AH70: =379+346+7840+996 -> 9561 | AI70: kzn5a2 | AJ70: =87+59+1432+433 -> 2011 | AK70: ladysmith | AL70: =798+857+9819+735 -> 12209 | AM70: louwsburg | AN70: =19+25+222+42 -> 308 | AO70: maphumulo | AP70: =12+4+345+15 -> 376 | AQ70: melmoth | AR70: =143+64+1453+329 -> 1989 | AS70: mooi river | AT70: =273+279+2360+815 -> 3727 | AU70: mtubatuba | AV70: =413+353+5635+828 -> 7229 | AW70: natal law | AX70: =2+40+1 -> 43 | AY70: ndwedwe | AZ70: =2+3+190+9 -> 204 | BA70: newcastle | BB70: =1127+1090+14538+1358 -> 18113 | BC70: nkandla | BD70: =14+13+493+18 -> 538 | BE70: nongoma | BF70: =38+41+1169+33 -> 1281 | BG70: nqutu | BH70: =41+22+1029+33 -> 1125 | BI70: pualpiertersburg | BJ70: =172+87+1599+483 -> 2341 | BK70: pietermaritzburg | BL70: =4060+3949+36505+2870 -> 47384 | BM70: portshepstone | BN70: =1178+1351+17786+1743 -> 22058 | BO70: richmond | BP70: =246+194+1538+692 -> 2670 | BQ70: scottsburg | BR70: =532+477+5908+937 -> 7854 | BS70: stanger | BT70: =1435+1171+10522+1590 -> 14718 | BU70: tugela ferry | BV70: =23+27+763+24 -> 837 | BW70: umzimkhulu | BX70: =65+65+1612+81 -> 1823 | BY70: utrecht | BZ70: =46+38+914+162 -> 1160 | CA70: wartburg | CB70: =930+319+2817+1703 -> 5769
A71: Durban | B71: =12955+12385+94071+4304 -> 123715 | C71: mahlabathini | D71: =6+1+165+3 -> 175 | M71: glencoe | N71: =118+132+1242+157 -> 1649 | O71: richrds bay | P71: =822+1027+16142+1072 -> 19063 | Q71: gingindlovu | R71: =342+201+3762+804 -> 5109 | S71: weenen | T71: =35+22+514+154 -> 725 | U71: kranskop | V71: =173+93+649+195 -> 1110 | AC71: mkuze | AD71: =69+82+2916+93 -> 3160 | AM71: vryheid | AN71: =875+743+8860+1228 -> 11706 | AW71: pongola | AX71: =282+324+3075+667 -> 4348
A72: pinetown | B72: =2686+3674+33977+2877 -> 43214 | C72: Ulundi | D72: =67+66+2212+86 -> 2431 | N72: =SUM(N70:N71) -> 7066 | P72: =SUM(P70:P71) -> 30977 | R72: =SUM(R70:R71) -> 8968 | T72: =SUM(T70:T71) -> 7558 | V72: =SUM(V70:V71) -> 6110 | AD72: =SUM(AD70:AD71) -> 5348 | AN72: =SUM(AN70:AN71) -> 12014 | AX72: =SUM(AX70:AX71) -> 4391
A73: umbumbulu | B73: =7+12+254+19 -> 292 | D73: =SUM(D70:D72) -> 2884
A74: umhlanga rocks | B74: =714+735+8947+659 -> 11055
A75: umlazi | B75: =70+52+3210+21 -> 3353
A76: verulam | B76: =1462+1081+8543+704 -> 11790
B77: =SUM(B70:B76) -> 210760
A79: 41029
A80: Ethekwini | C80: Ulundi | E80: Okhahlamba | G80: Ingwe | I80: Mkhambathini | K80: Dannhuaser | M80: Endumeni | O80: Umhlathuze | Q80: umlalazi | S80: Umtshezi | U80: umvoti | W80: umziwabantu | Y80: mgeni | AA80: impendle | AC80: jozini | AE80: ubuhlebezwe | AG80: great kokstad | AI80: kwa sani | AK80: ladysmith | AM80: abaqulusi | AO80: maphumulo | AQ80: mthonjaneni | AS80: mpofana | AU80: mtubatuba | AW80: pongola | AY80: ndwedwe | BA80: newcastle | BC80: nkandla | BE80: nongoma | BG80: nqutu | BI80: Dumbe | BK80: msunduzi | BM80: hibiscus | BO80: richmond | BQ80: umdoni | BS80: kwa-dukuza | BU80: msinga | BW80: umzimkhulu | BY80: emadlangeni | CA80: umshwathi
A81: Amanzimtoti | B81: =1809+2042+12413+864 -> 17128 | C81: Babnango | D81: =10+8+244+12 -> 274 | E81: Bergville | F81: =266+203+1940+462 -> 2871 | G81: Bulwer | H81: =26+14+434+83 -> 557 | I81: Camperdown | J81: =671+477+4784+918 -> 6850 | K81: Dannhuaser | L81: =183+126+921+119 -> 1349 | M81: Dundee | N81: =476+417+3925+591 -> 5409 | O81: Empangweni | P81: =717+698+9507+1024 -> 11946 | Q81: eshowe | R81: =211+90+3105+436 -> 3842 | S81: escourt | T81: =549+413+5114+848 -> 6924 | U81: greytown | V81: =576+279+3363+801 -> 5019 | W81: harding | X81: =165+187+1637+289 -> 2278 | Y81: howick | Z81: =531+455+6288+1115 -> 8389 | AA81: impendle | AB81: =19+11+281+67 -> 378 | AC81: ingwavuma | AD81: =36+45+2068+37 -> 2186 | AE81: ixopo | AF81: =292+199+2344+737 -> 3572 | AG81: kokstad | AH81: =373+349+7879+996 -> 9597 | AI81: kzn5a2 | AJ81: =93+61+1446+442 -> 2042 | AK81: ladysmith | AL81: =800+863+9829+734 -> 12226 | AM81: louwsburg | AN81: =15+21+209+39 -> 284 | AO81: maphumulo | AP81: =18+6+345+15 -> 384 | AQ81: melmoth | AR81: =140+64+1442+319 -> 1965 | AS81: mooi river | AT81: =269+281+2350+804 -> 3704 | AU81: mtubatuba | AV81: =415+353+5663+840 -> 7271 | AW81: natal law | AX81: =2+34+1 -> 37 | AY81: ndwedwe | AZ81: =2+3+191+9 -> 205 | BA81: newcastle | BB81: =1114+1125+14545+1348 -> 18132 | BC81: nkandla | BD81: =16+13+495+19 -> 543 | BE81: nongoma | BF81: =36+44+1170+32 -> 1282 | BG81: nqutu | BH81: =43+24+1055+33 -> 1155 | BI81: pualpiertersburg | BJ81: =173+84+1588+483 -> 2328 | BK81: pietermaritzburg | BL81: =4069+3998+36642+2847 -> 47556 | BM81: portshepstone | BN81: =1189+1378+17822+1758 -> 22147 | BO81: richmond | BP81: =248+198+1546+690 -> 2682 | BQ81: scottsburg | BR81: =534+471+5921+934 -> 7860 | BS81: stanger | BT81: =1425+1179+10530+1606 -> 14740 | BU81: tugela ferry | BV81: =23+29+772+24 -> 848 | BW81: umzimkhulu | BX81: =62+66+1604+86 -> 1818 | BY81: utrecht | BZ81: =46+37+916+157 -> 1156 | CA81: wartburg | CB81: =927+314+2783+1695 -> 5719
A82: Durban | B82: =13000+12413+94240+4309 -> 123962 | C82: mahlabathini | D82: =5+1+177+3 -> 186 | M82: glencoe | N82: =118+138+1248+165 -> 1669 | O82: richrds bay | P82: =816+1022+16252+1078 -> 19168 | Q82: gingindlovu | R82: =338+203+3783+818 -> 5142 | S82: weenen | T82: =38+22+522+154 -> 736 | U82: kranskop | V82: =173+93+626+187 -> 1079 | AC82: mkuze | AD82: =70+83+2944+93 -> 3190 | AM82: vryheid | AN82: =874+750+8883+1228 -> 11735 | AW82: pongola | AX82: =284+329+3097+674 -> 4384
A83: pinetown | B83: =2665+3676+34067+2875 -> 43283 | C83: Ulundi | D83: =68+68+2209+87 -> 2432 | N83: =SUM(N81:N82) -> 7078 | P83: =SUM(P81:P82) -> 31114 | R83: =SUM(R81:R82) -> 8984 | T83: =SUM(T81:T82) -> 7660 | V83: =SUM(V81:V82) -> 6098 | AD83: =SUM(AD81:AD82) -> 5376 | AN83: =SUM(AN81:AN82) -> 12019 | AX83: =SUM(AX81:AX82) -> 4421
A84: umbumbulu | B84: =12+11+260+18 -> 301 | D84: =SUM(D81:D83) -> 2892
A85: umhlanga rocks | B85: =692+731+8955+663 -> 11041
A86: umlazi | B86: =77+57+3223+28 -> 3385
A87: verulam | B87: =1471+1086+8520+717 -> 11794
B88: =SUM(B81:B87) -> 210894
A90: 41060
A91: Ethekwini | C91: Ulundi | E91: Okhahlamba | G91: Ingwe | I91: Mkhambathini | K91: Dannhuaser | M91: Endumeni | O91: Umhlathuze | Q91: umlalazi | S91: Umtshezi | U91: umvoti | W91: umziwabantu | Y91: mgeni | AA91: impendle | AC91: jozini | AE91: ubuhlebezwe | AG91: great kokstad | AI91: kwa sani | AK91: ladysmith | AM91: abaqulusi | AO91: maphumulo | AQ91: mthonjaneni | AS91: mpofana | AU91: mtubatuba | AW91: pongola | AY91: ndwedwe | BA91: newcastle | BC91: nkandla | BE91: nongoma | BG91: nqutu | BI91: Dumbe | BK91: msunduzi | BM91: hibiscus | BO91: richmond | BQ91: umdoni | BS91: kwa-dukuza | BU91: msinga | BW91: umzimkhulu | BY91: emadlangeni | CA91: umshwathi
A92: Amanzimtoti | B92: =1753+2031+12533+880 -> 17197 | C92: Babnango | D92: =9+8+241+10 -> 268 | E92: Bergville | F92: =271+212+1949+474 -> 2906 | G92: Bulwer | H92: =25+16+432+76 -> 549 | I92: Camperdown | J92: =669+484+4826+903 -> 6882 | K92: Dannhuaser | L92: =181+126+923+119 -> 1349 | M92: Dundee | N92: =471+420+3920+595 -> 5406 | O92: Empangweni | P92: =723+708+9486+1022 -> 11939 | Q92: eshowe | R92: =203+90+3136+477 -> 3906 | S92: escourt | T92: =540+408+5117+845 -> 6910 | U92: greytown | V92: =566+276+3374+791 -> 5007 | W92: harding | X92: =162+190+1644+292 -> 2288 | Y92: howick | Z92: =532+456+6299+1098 -> 8385 | AA92: impendle | AB92: =16+9+294+67 -> 386 | AC92: ingwavuma | AD92: =37+45+2077+37 -> 2196 | AE92: ixopo | AF92: =289+199+2374+743 -> 3605 | AG92: kokstad | AH92: =369+350+7904+995 -> 9618 | AI92: kzn5a2 | AJ92: =96+64+1447+435 -> 2042 | AK92: ladysmith | AL92: =798+861+9860+737 -> 12256 | AM92: louwsburg | AN92: =14+22+219+40 -> 295 | AO92: maphumulo | AP92: =17+7+345+15 -> 384 | AQ92: melmoth | AR92: =146+60+1461+322 -> 1989 | AS92: mooi river | AT92: =271+281+2348+815 -> 3715 | AU92: mtubatuba | AV92: =411+344+5681+834 -> 7270 | AW92: natal law | AX92: =6+39+1 -> 46 | AY92: ndwedwe | AZ92: =2+3+188+9 -> 202 | BA92: newcastle | BB92: =1110+1111+14592+1355 -> 18168 | BC92: nkandla | BD92: =14+15+490+19 -> 538 | BE92: nongoma | BF92: =38+47+1181+31 -> 1297 | BG92: nqutu | BH92: =45+26+1067+34 -> 1172 | BI92: pualpiertersburg | BJ92: =173+85+1592+482 -> 2332 | BK92: pietermaritzburg | BL92: =4068+4038+36738+2869 -> 47713 | BM92: portshepstone | BN92: =1184+1390+17933+1771 -> 22278 | BO92: richmond | BP92: =248+199+1526+690 -> 2663 | BQ92: scottsburg | BR92: =533+474+5923+937 -> 7867 | BS92: stanger | BT92: =1419+1178+10577+1622 -> 14796 | BU92: tugela ferry | BV92: =22+28+768+24 -> 842 | BW92: umzimkhulu | BX92: =61+63+1589+77 -> 1790 | BY92: utrecht | BZ92: =45+41+935+162 -> 1183 | CA92: wartburg | CB92: =934+327+2812+1702 -> 5775
A93: Durban | B93: =13102+12400+94424+4266 -> 124192 | C93: mahlabathini | D93: =5+1+194+3 -> 203 | M93: glencoe | N93: =117+132+1265+164 -> 1678 | O93: richrds bay | P93: =814+1030+16363+1089 -> 19296 | Q93: gingindlovu | R93: =340+205+3810+821 -> 5176 | S93: weenen | T93: =40+22+531+154 -> 747 | U93: kranskop | V93: =174+93+627+187 -> 1081 | AC93: mkuze | AD93: =66+83+2950+94 -> 3193 | AM93: vryheid | AN93: =875+731+8900+1235 -> 11741 | AW93: pongola | AX93: =285+329+3101+672 -> 4387
A94: pinetown | B94: =2665+3699+34168+2888 -> 43420 | C94: Ulundi | D94: =71+72+2227+85 -> 2455 | N94: =SUM(N92:N93) -> 7084 | P94: =SUM(P92:P93) -> 31235 | R94: =SUM(R92:R93) -> 9082 | T94: =SUM(T92:T93) -> 7657 | V94: =SUM(V92:V93) -> 6088 | AD94: =SUM(AD92:AD93) -> 5389 | AN94: =SUM(AN92:AN93) -> 12036 | AX94: =SUM(AX92:AX93) -> 4433
A95: umbumbulu | B95: =7+6+249+17 -> 279 | D95: =SUM(D92:D94) -> 2926
A96: umhlanga rocks | B96: =694+728+9034+662 -> 11118
A97: umlazi | B97: =78+55+3240+29 -> 3402
A98: verulam | B98: =1475+1097+8526+721 -> 11819
B99: =SUM(B92:B98) -> 211427
A101: 41090
A102: Ethekwini | C102: Ulundi | E102: Okhahlamba | G102: Ingwe | I102: Mkhambathini | K102: Dannhuaser | M102: Endumeni | O102: Umhlathuze | Q102: umlalazi | S102: Umtshezi | U102: umvoti | W102: umziwabantu | Y102: mgeni | AA102: impendle | AC102: jozini | AE102: ubuhlebezwe | AG102: great kokstad | AI102: kwa sani | AK102: ladysmith | AM102: abaqulusi | AO102: maphumulo | AQ102: mthonjaneni | AS102: mpofana | AU102: mtubatuba | AW102: pongola | AY102: ndwedwe | BA102: newcastle | BC102: nkandla | BE102: nongoma | BG102: nqutu | BI102: Dumbe | BK102: msunduzi | BM102: hibiscus | BO102: richmond | BQ102: umdoni | BS102: kwa-dukuza | BU102: msinga | BW102: umzimkhulu | BY102: emadlangeni | CA102: umshwathi
A103: Amanzimtoti | B103: =1775+2025+12538+882 -> 17220 | C103: Babnango | D103: =10+8+231+12 -> 261 | E103: Bergville | F103: =279+215+1973+477 -> 2944 | G103: Bulwer | H103: =20+17+425+78 -> 540 | I103: Camperdown | J103: =661+484+4811+903 -> 6859 | K103: Dannhuaser | L103: =188+137+935+122 -> 1382 | M103: Dundee | N103: =472+431+3954+607 -> 5464 | O103: Empangweni | P103: =724+707+9520+1015 -> 11966 | Q103: eshowe | R103: =201+93+3161+481 -> 3936 | S103: escourt | T103: =540+416+5150+848 -> 6954 | U103: greytown | V103: =551+273+3354+793 -> 4971 | W103: harding | X103: =169+189+1642+300 -> 2300 | Y103: howick | Z103: =517+458+6306+1090 -> 8371 | AA103: impendle | AB103: =16+7+305+66 -> 394 | AC103: ingwavuma | AD103: =36+43+2085+36 -> 2200 | AE103: ixopo | AF103: =290+195+2356+732 -> 3573 | AG103: kokstad | AH103: =366+351+7925+976 -> 9618 | AI103: kzn5a2 | AJ103: =98+66+1472+439 -> 2075 | AK103: ladysmith | AL103: =791+856+9855+726 -> 12228 | AM103: louwsburg | AN103: =17+24+210+39 -> 290 | AO103: maphumulo | AP103: =11+3+335+13 -> 362 | AQ103: melmoth | AR103: =143+61+1457+322 -> 1983 | AS103: mooi river | AT103: =266+279+2350+810 -> 3705 | AU103: mtubatuba | AV103: =415+352+5718+829 -> 7314 | AW103: natal law | AX103: =5+39+2 -> 46 | AY103: ndwedwe | AZ103: =2+3+195+9 -> 209 | BA103: newcastle | BB103: =1106+1094+14652+1347 -> 18199 | BC103: nkandla | BD103: =15+14+493+19 -> 541 | BE103: nongoma | BF103: =41+49+1200+32 -> 1322 | BG103: nqutu | BH103: =46+25+1070+36 -> 1177 | BI103: pualpiertersburg | BJ103: =173+88+1600+483 -> 2344 | BK103: pietermaritzburg | BL103: =4029+4048+36959+2879 -> 47915 | BM103: portshepstone | BN103: =1182+1412+17986+1776 -> 22356 | BO103: richmond | BP103: =246+198+1541+689 -> 2674 | BQ103: scottsburg | BR103: =544+517+5896+930 -> 7887 | BS103: stanger | BT103: =1435+1182+10564+1605 -> 14786 | BU103: tugela ferry | BV103: =22+29+770+24 -> 845 | BW103: umzimkhulu | BX103: =62+68+1567+84 -> 1781 | BY103: utrecht | BZ103: =42+39+937+154 -> 1172 | CA103: wartburg | CB103: =934+328+2817+1712 -> 5791
A104: Durban | B104: =13024+12390+94941+4268 -> 124623 | C104: mahlabathini | D104: =3+1+199+2 -> 205 | M104: glencoe | N104: =117+132+1278+161 -> 1688 | O104: richrds bay | P104: =839+1053+16397+1088 -> 19377 | Q104: gingindlovu | R104: =339+206+3845+819 -> 5209 | S104: weenen | T104: =37+21+531+153 -> 742 | U104: kranskop | V104: =175+90+632+190 -> 1087 | AC104: mkuze | AD104: =68+84+3016+99 -> 3267 | AM104: vryheid | AN104: =860+719+8887+1221 -> 11687 | AW104: pongola | AX104: =287+326+3094+675 -> 4382
A105: pinetown | B105: =2727+3766+34267+2868 -> 43628 | C105: Ulundi | D105: =73+75+2250+85 -> 2483 | N105: =SUM(N103:N104) -> 7152 | P105: =SUM(P103:P104) -> 31343 | R105: =SUM(R103:R104) -> 9145 | T105: =SUM(T103:T104) -> 7696 | V105: =SUM(V103:V104) -> 6058 | AD105: =SUM(AD103:AD104) -> 5467 | AN105: =SUM(AN103:AN104) -> 11977 | AX105: =SUM(AX103:AX104) -> 4428
A106: umbumbulu | B106: =8+8+254+16 -> 286 | D106: =SUM(D103:D105) -> 2949
A107: umhlanga rocks | B107: =680+742+9008+660 -> 11090
A108: umlazi | B108: =78+53+3256+30 -> 3417
A109: verulam | B109: =1493+1109+8577+725 -> 11904
...

Sheet Passenger Calculation
A1: Passenger
A2: 40816
A3: Ethekwini | C3: Ulundi | E3: Okhahlamba | G3: Ingwe | I3: Mkhambathini | K3: Dannhuaser | M3: Endumeni | O3: Umhlathuze | Q3: umlalazi | S3: Umtshezi | U3: umvoti | W3: umziwabantu | Y3: mgeni | AA3: impendle | AC3: jozini | AE3: ubuhlebezwe | AG3: great kokstad | AI3: kwa sani | AK3: ladysmith | AM3: abaqulusi | AO3: maphumulo | AQ3: mthonjaneni | AS3: mpofana | AU3: mtubatuba | AW3: pongola | AY3: ndwedwe | BA3: newcastle | BC3: nkandla | BE3: nongoma | BG3: nqutu | BI3: Dumbe | BK3: msunduzi | BM3: hibiscus | BO3: richmond | BQ3: umdoni | BS3: kwa-dukuza | BU3: msinga | BW3: umzimkhulu | BY3: emadlangeni | CA3: umshwathi
A4: Amanzimtoti | B4: =740+28283+1825+1486+118 -> 32452 | C4: Babnango | D4: =2+125+101+1 -> 229 | E4: Bergville | F4: =18+1683+470+87+6 -> 2264 | G4: Bulwer | H4: =16+221+148+12+2 -> 399 | I4: Camperdown | J4: =87+5830+748+333+52 -> 7050 | K4: Dannhuaser | L4: =194+1182+123+20+8 -> 1527 | M4: Dundee | N4: =34+5146+432+199+24 -> 5835 | O4: Empangweni | P4: =117+11188+1217+814+54 -> 13390 | Q4: eshowe | R4: =72+3437+320+122+13 -> 3964 | S4: escourt | T4: =69+6241+708+252+36 -> 7306 | U4: greytown | V4: =39+3487+483+157+47 -> 4213 | W4: harding | X4: =21+1285+326+47+16 -> 1695 | Y4: howick | Z4: =37+9634+309+640+35 -> 10655 | AA4: impendle | AB4: =9+189+78+8+4 -> 288 | AC4: ingwavuma | AD4: =13+850+277+20+4 -> 1164 | AE4: ixopo | AF4: =30+1794+302+87+30 -> 2243 | AG4: kokstad | AH4: =72+6758+456+167+17 -> 7470 | AI4: kzn5a2 | AJ4: =10+1138+98+77+7 -> 1330 | AK4: ladysmith | AL4: =210+16099+1601+584+57 -> 18551 | AM4: louwsburg | AN4: =1+137+12+5 -> 155 | AO4: maphumulo | AP4: =7+225+124+6+1 -> 363 | AQ4: melmoth | AR4: =13+1078+93+69+8 -> 1261 | AS4: mooi river | AT4: =29+2369+109+134+23 -> 2664 | AU4: mtubatuba | AV4: =60+4649+893+219+36 -> 5857 | AW4: natal law | AX4: =100+2+3 -> 105 | AY4: ndwedwe | AZ4: =5+165+17+2+1 -> 190 | BA4: newcastle | BB4: =150+28856+1906+1254+117 -> 32283 | BC4: nkandla | BD4: =24+369+342 -> 735 | BE4: nongoma | BF4: =28+683+617+7+3 -> 1338 | BG4: nqutu | BH4: =10+684+488+5+6 -> 1193 | BI4: pualpiertersburg | BJ4: =27+1150+230+60+12 -> 1479 | BK4: pietermaritzburg | BL4: =569+83761+3966+3589+181 -> 92066 | BM4: portshepstone | BN4: =136+30688+1919+2022+114 -> 34879 | BO4: richmond | BP4: =26+1473+173+88+13 -> 1773 | BQ4: scottsburg | BR4: =75+11790+630+583+88 -> 13166 | BS4: stanger | BT4: =147+20810+777+814+48 -> 22596 | BU4: tugela ferry | BV4: =5+464+214+11+2 -> 696 | BW4: umzimkhulu | BX4: =37+1098+340+7+1 -> 1483 | BY4: utrecht | BZ4: =1+867+37+93+10 -> 1008 | CA4: wartburg | CB4: =14+2553+164+206+16 -> 2953
A5: Durban | B5: =1751+311494+12570+9404+455 -> 335674 | C5: mahlabathini | D5: =8+127+140+1 -> 276 | M5: glencoe | N5: =11+1907+66+105+9 -> 2098 | O5: richrds bay | P5: =444+26175+948+1785+75 -> 29427 | Q5: gingindlovu | R5: =37+4178+645+233+34 -> 5127 | S5: weenen | T5: =2+405+73+53+5 -> 538 | U5: kranskop | V5: =6+481+152+26+2 -> 667 | AC5: mkuze | AD5: =56+1406+204+70+6 -> 1742 | AM5: vryheid | AN5: =177+10109+903+494+72 -> 11755 | AW5: pongola | AX5: =28+2307+236+171+14 -> 2756
A6: pinetown | B6: =419+70467+3504+3707+166 -> 78263 | C6: Ulundi | D6: =18+1736+394+8+1 -> 2157 | N6: =SUM(N4:N5) -> 7933 | P6: =SUM(P4:P5) -> 42817 | R6: =SUM(R4:R5) -> 9091 | T6: =SUM(T4:T5) -> 7844 | V6: =SUM(V4:V5) -> 4880 | AD6: =SUM(AD4:AD5) -> 2906 | AN6: =SUM(AN4:AN5) -> 11910 | AX6: =SUM(AX4:AX5) -> 2861
A7: umbumbulu | B7: =2+310+30+3+1 -> 346 | D7: =SUM(D4:D6) -> 2662
A8: umhlanga rocks | B8: =64+30108+328+1333+58 -> 31891
A9: umlazi | B9: =90+8631+1560+44+8 -> 10333
A10: verulam | B10: =264+26136+1246+342+17 -> 28005
A11: total | B11: =SUM(B4:B10) -> 516964
A13: 40847
A14: Ethekwini | C14: Ulundi | E14: Okhahlamba | G14: Ingwe | I14: Mkhambathini | K14: Dannhuaser | M14: Endumeni | O14: Umhlathuze | Q14: umlalazi | S14: Umtshezi | U14: umvoti | W14: umziwabantu | Y14: mgeni | AA14: impendle | AC14: jozini | AE14: ubuhlebezwe | AG14: great kokstad | AI14: kwa sani | AK14: ladysmith | AM14: abaqulusi | AO14: maphumulo | AQ14: mthonjaneni | AS14: mpofana | AU14: mtubatuba | AW14: pongola | AY14: ndwedwe | BA14: newcastle | BC14: nkandla | BE14: nongoma | BG14: nqutu | BI14: Dumbe | BK14: msunduzi | BM14: hibiscus | BO14: richmond | BQ14: umdoni | BS14: kwa-dukuza | BU14: msinga | BW14: umzimkhulu | BY14: emadlangeni | CA14: umshwathi
A15: Amanzimtoti | B15: =741+28244+1774+1487+116 -> 32362 | C15: Babnango | D15: =2+129+104+1 -> 236 | E15: Bergville | F15: =17+1677+451+89+6 -> 2240 | G15: Bulwer | H15: =15+222+145+11+2 -> 395 | I15: Camperdown | J15: =88+5855+746+335+52 -> 7076 | K15: Dannhuaser | L15: =205+1182+125+19+8 -> 1539 | M15: Dundee | N15: =35+5180+386+198+25 -> 5824 | O15: Empangweni | P15: =118+11166+1208+807+55 -> 13354 | Q15: eshowe | R15: =77+3465+338+123+12 -> 4015 | S15: escourt | T15: =65+6273+698+256+37 -> 7329 | U15: greytown | V15: =39+3504+483+154+47 -> 4227 | W15: harding | X15: =18+1311+321+46+18 -> 1714 | Y15: howick | Z15: =36+9691+303+649+35 -> 10714 | AA15: impendle | AB15: =10+188+73+7+4 -> 282 | AC15: ingwavuma | AD15: =16+846+286+21+4 -> 1173 | AE15: ixopo | AF15: =28+1824+300+90+30 -> 2272 | AG15: kokstad | AH15: =60+6742+451+171+19 -> 7443 | AI15: kzn5a2 | AJ15: =13+1147+99+73+7 -> 1339 | AK15: ladysmith | AL15: =209+16106+1603+585+56 -> 18559 | AM15: louwsburg | AN15: =1+133+10+5 -> 149 | AO15: maphumulo | AP15: =6+220+118+6+2 -> 352 | AQ15: melmoth | AR15: =11+1094+87+68+8 -> 1268 | AS15: mooi river | AT15: =37+2395+122+140+24 -> 2718 | AU15: mtubatuba | AV15: =63+4664+916+218+37 -> 5898 | AW15: natal law | AX15: =94+4+3 -> 101 | AY15: ndwedwe | AZ15: =5+162+18+2+1 -> 188 | BA15: newcastle | BB15: =176+28991+1910+1253+123 -> 32453 | BC15: nkandla | BD15: =23+363+346+2 -> 734 | BE15: nongoma | BF15: =13+670+589+7+3 -> 1282 | BG15: nqutu | BH15: =10+700+491+6+7 -> 1214 | BI15: pualpiertersburg | BJ15: =19+1159+227+62+12 -> 1479 | BK15: pietermaritzburg | BL15: =578+83961+3921+3597+184 -> 92241 | BM15: portshepstone | BN15: =138+30834+1952+2058+111 -> 35093 | BO15: richmond | BP15: =27+1465+189+90+13 -> 1784 | BQ15: scottsburg | BR15: =76+11723+617+574+85 -> 13075 | BS15: stanger | BT15: =145+20909+789+824+49 -> 22716 | BU15: tugela ferry | BV15: =5+460+225+11+2 -> 703 | BW15: umzimkhulu | BX15: =39+1113+364+6+1 -> 1523 | BY15: utrecht | BZ15: =1+870+35+94+7 -> 1007 | CA15: wartburg | CB15: =13+2554+156+208+16 -> 2947
A16: Durban | B16: =1766+312669+12638+9380+451 -> 336904 | C16: mahlabathini | D16: =9+133+140+1+1 -> 284 | M16: glencoe | N16: =10+1916+68+105+8 -> 2107 | O16: richrds bay | P16: =443+26369+948+1803+76 -> 29639 | Q16: gingindlovu | R16: =38+4176+653+234+32 -> 5133 | S16: weenen | T16: =2+405+73+52+5 -> 537 | U16: kranskop | V16: =6+488+150+27+2 -> 673 | AC16: mkuze | AD16: =54+1431+204+70+7 -> 1766 | AM16: vryheid | AN16: =180+10149+913+497+71 -> 11810 | AW16: pongola | AX16: =28+2320+238+174+14 -> 2774
A17: pinetown | B17: =395+70465+3488+3714+169 -> 78231 | C17: Ulundi | D17: =16+1760+394+8+1 -> 2179 | N17: =SUM(N15:N16) -> 7931 | P17: =SUM(P15:P16) -> 42993 | R17: =SUM(R15:R16) -> 9148 | T17: =SUM(T15:T16) -> 7866 | V17: =SUM(V15:V16) -> 4900 | AD17: =SUM(AD15:AD16) -> 2939 | AN17: =SUM(AN15:AN16) -> 11959 | AX17: =SUM(AX15:AX16) -> 2875
A18: umbumbulu | B18: =2+313+28+3+1 -> 347 | D18: =SUM(D15:D17) -> 2699
A19: umhlanga rocks | B19: =70+30406+339+1339+60 -> 32214
A20: umlazi | B20: =94+8735+1521+36+7 -> 10393
A21: verulam | B21: =261+26542+1292+351+17 -> 28463
A22: total | B22: =SUM(B15:B21) -> 518914
A24: 40877
A25: Ethekwini | C25: Ulundi | E25: Okhahlamba | G25: Ingwe | I25: Mkhambathini | K25: Dannhuaser | M25: Endumeni | O25: Umhlathuze | Q25: umlalazi | S25: Umtshezi | U25: umvoti | W25: umziwabantu | Y25: mgeni | AA25: impendle | AC25: jozini | AE25: ubuhlebezwe | AG25: great kokstad | AI25: kwa sani | AK25: ladysmith | AM25: abaqulusi | AO25: maphumulo | AQ25: mthonjaneni | AS25: mpofana | AU25: mtubatuba | AW25: pongola | AY25: ndwedwe | BA25: newcastle | BC25: nkandla | BE25: nongoma | BG25: nqutu | BI25: Dumbe | BK25: msunduzi | BM25: hibiscus | BO25: richmond | BQ25: umdoni | BS25: kwa-dukuza | BU25: msinga | BW25: umzimkhulu | BY25: emadlangeni | CA25: umshwathi
A26: Amanzimtoti | B26: =AVERAGE(B4,B15) -> 32407 | C26: Babnango | D26: =AVERAGE(D4,D15) -> 232.5 | E26: Bergville | F26: =AVERAGE(F4,F15) -> 2252 | G26: Bulwer | H26: =AVERAGE(H4,H15) -> 397 | I26: Camperdown | J26: =AVERAGE(J4,J15) -> 7063 | K26: Dannhuaser | L26: =AVERAGE(L4,L15) -> 1533 | M26: Dundee | N26: =AVERAGE(N4,N15) -> 5829.5 | O26: Empangweni | P26: =AVERAGE(P4,P15) -> 13372 | Q26: eshowe | R26: =AVERAGE(R4,R15) -> 3989.5 | S26: escourt | T26: =AVERAGE(T4,T15) -> 7317.5 | U26: greytown | V26: =AVERAGE(V4,V15) -> 4220 | W26: harding | X26: =AVERAGE(X4,X15) -> 1704.5 | Y26: howick | Z26: =AVERAGE(Z4,Z15) -> 10684.5 | AA26: impendle | AB26: =AVERAGE(AB4,AB15) -> 285 | AC26: ingwavuma | AD26: =AVERAGE(AD4,AD15) -> 1168.5 | AE26: ixopo | AF26: =AVERAGE(AF4,AF15) -> 2257.5 | AG26: kokstad | AH26: =AVERAGE(AH4,AH15) -> 7456.5 | AI26: kzn5a2 | AJ26: =AVERAGE(AJ4,AJ15) -> 1334.5 | AK26: ladysmith | AL26: =AVERAGE(AL4,AL15) -> 18555 | AM26: louwsburg | AN26: =AVERAGE(AN4,AN15) -> 152 | AO26: maphumulo | AP26: =AVERAGE(AP4,AP15) -> 357.5 | AQ26: melmoth | AR26: =AVERAGE(AR4,AR15) -> 1264.5 | AS26: mooi river | AT26: =AVERAGE(AT4,AT15) -> 2691 | AU26: mtubatuba | AV26: =AVERAGE(AV4,AV15) -> 5877.5 | AW26: natal law | AX26: =AVERAGE(AX4,AX15) -> 103 | AY26: ndwedwe | AZ26: =AVERAGE(AZ4,AZ15) -> 189 | BA26: newcastle | BB26: =AVERAGE(BB4,BB15) -> 32368 | BC26: nkandla | BD26: =AVERAGE(BD4,BD15) -> 734.5 | BE26: nongoma | BF26: =AVERAGE(BF4,BF15) -> 1310 | BG26: nqutu | BH26: =AVERAGE(BH4,BH15) -> 1203.5 | BI26: pualpiertersburg | BJ26: =AVERAGE(BJ4,BJ15) -> 1479 | BK26: pietermaritzburg | BL26: =AVERAGE(BL4,BL15) -> 92153.5 | BM26: portshepstone | BN26: =AVERAGE(BN4,BN15) -> 34986 | BO26: richmond | BP26: =AVERAGE(BP4,BP15) -> 1778.5 | BQ26: scottsburg | BR26: =AVERAGE(BR4,BR15) -> 13120.5 | BS26: stanger | BT26: =AVERAGE(BT4,BT15) -> 22656 | BU26: tugela ferry | BV26: =AVERAGE(BV4,BV15) -> 699.5 | BW26: umzimkhulu | BX26: =AVERAGE(BX4,BX15) -> 1503 | BY26: utrecht | BZ26: =AVERAGE(BZ4,BZ15) -> 1007.5 | CA26: wartburg | CB26: =AVERAGE(CB4,CB15) -> 2950
A27: Durban | B27: =AVERAGE(B5,B16) -> 336289 | C27: mahlabathini | D27: =AVERAGE(D5,D16) -> 280 | M27: glencoe | N27: =AVERAGE(N5,N16) -> 2102.5 | O27: richrds bay | P27: =AVERAGE(P5,P16) -> 29533 | Q27: gingindlovu | R27: =AVERAGE(R5,R16) -> 5130 | S27: weenen | T27: =AVERAGE(T5,T16) -> 537.5 | U27: kranskop | V27: =AVERAGE(V5,V16) -> 670 | AC27: mkuze | AD27: =AVERAGE(AD5,AD16) -> 1754 | AM27: vryheid | AN27: =AVERAGE(AN5,AN16) -> 11782.5 | AW27: pongola | AX27: =AVERAGE(AX5,AX16) -> 2765
A28: pinetown | B28: =AVERAGE(B6,B17) -> 78247 | C28: Ulundi | D28: =AVERAGE(D6,D17) -> 2168 | N28: =SUM(N26:N27) -> 7932 | P28: =SUM(P26:P27) -> 42905 | R28: =SUM(R26:R27) -> 9119.5 | T28: =SUM(T26:T27) -> 7855 | V28: =SUM(V26:V27) -> 4890 | AD28: =SUM(AD26:AD27) -> 2922.5 | AN28: =SUM(AN26:AN27) -> 11934.5 | AX28: =SUM(AX26:AX27) -> 2868
A29: umbumbulu | B29: =AVERAGE(B7,B18) -> 346.5 | D29: =SUM(D26:D28) -> 2680.5
A30: umhlanga rocks | B30: =AVERAGE(B8,B19) -> 32052.5
A31: umlazi | B31: =AVERAGE(B9,B20) -> 10363
A32: verulam | B32: =AVERAGE(B10,B21) -> 28234
A33: total | B33: =SUM(B26:B32) -> 517939
A35: 40908
A36: Ethekwini | C36: Ulundi | E36: Okhahlamba | G36: Ingwe | I36: Mkhambathini | K36: Dannhuaser | M36: Endumeni | O36: Umhlathuze | Q36: umlalazi | S36: Umtshezi | U36: umvoti | W36: umziwabantu | Y36: mgeni | AA36: impendle | AC36: jozini | AE36: ubuhlebezwe | AG36: great kokstad | AI36: kwa sani | AK36: ladysmith | AM36: abaqulusi | AO36: maphumulo | AQ36: mthonjaneni | AS36: mpofana | AU36: mtubatuba | AW36: pongola | AY36: ndwedwe | BA36: newcastle | BC36: nkandla | BE36: nongoma | BG36: nqutu | BI36: Dumbe | BK36: msunduzi | BM36: hibiscus | BO36: richmond | BQ36: umdoni | BS36: kwa-dukuza | BU36: msinga | BW36: umzimkhulu | BY36: emadlangeni | CA36: umshwathi
A37: Amanzimtoti | B37: =AVERAGE(B15,B26) -> 32384.5 | C37: Babnango | D37: =AVERAGE(D15,D26) -> 234.25 | E37: Bergville | F37: =AVERAGE(F15,F26) -> 2246 | G37: Bulwer | H37: =AVERAGE(H15,H26) -> 396 | I37: Camperdown | J37: =AVERAGE(J15,J26) -> 7069.5 | K37: Dannhuaser | L37: =AVERAGE(L15,L26) -> 1536 | M37: Dundee | N37: =AVERAGE(N15,N26) -> 5826.75 | O37: Empangweni | P37: =AVERAGE(P15,P26) -> 13363 | Q37: eshowe | R37: =AVERAGE(R15,R26) -> 4002.25 | S37: escourt | T37: =AVERAGE(T15,T26) -> 7323.25 | U37: greytown | V37: =AVERAGE(V15,V26) -> 4223.5 | W37: harding | X37: =AVERAGE(X15,X26) -> 1709.25 | Y37: howick | Z37: =AVERAGE(Z15,Z26) -> 10699.25 | AA37: impendle | AB37: =AVERAGE(AB15,AB26) -> 283.5 | AC37: ingwavuma | AD37: =AVERAGE(AD15,AD26) -> 1170.75 | AE37: ixopo | AF37: =AVERAGE(AF15,AF26) -> 2264.75 | AG37: kokstad | AH37: =AVERAGE(AH15,AH26) -> 7449.75 | AI37: kzn5a2 | AJ37: =AVERAGE(AJ15,AJ26) -> 1336.75 | AK37: ladysmith | AL37: =AVERAGE(AL15,AL26) -> 18557 | AM37: louwsburg | AN37: =AVERAGE(AN15,AN26) -> 150.5 | AO37: maphumulo | AP37: =AVERAGE(AP15,AP26) -> 354.75 | AQ37: melmoth | AR37: =AVERAGE(AR15,AR26) -> 1266.25 | AS37: mooi river | AT37: =AVERAGE(AT15,AT26) -> 2704.5 | AU37: mtubatuba | AV37: =AVERAGE(AV15,AV26) -> 5887.75 | AW37: natal law | AX37: =AVERAGE(AX15,AX26) -> 102 | AY37: ndwedwe | AZ37: =AVERAGE(AZ15,AZ26) -> 188.5 | BA37: newcastle | BB37: =AVERAGE(BB15,BB26) -> 32410.5 | BC37: nkandla | BD37: =AVERAGE(BD15,BD26) -> 734.25 | BE37: nongoma | BF37: =AVERAGE(BF15,BF26) -> 1296 | BG37: nqutu | BH37: =AVERAGE(BH15,BH26) -> 1208.75 | BI37: pualpiertersburg | BJ37: =AVERAGE(BJ15,BJ26) -> 1479 | BK37: pietermaritzburg | BL37: =AVERAGE(BL15,BL26) -> 92197.25 | BM37: portshepstone | BN37: =AVERAGE(BN15,BN26) -> 35039.5 | BO37: richmond | BP37: =AVERAGE(BP15,BP26) -> 1781.25 | BQ37: scottsburg | BR37: =AVERAGE(BR15,BR26) -> 13097.75 | BS37: stanger | BT37: =AVERAGE(BT15,BT26) -> 22686 | BU37: tugela ferry | BV37: =AVERAGE(BV15,BV26) -> 701.25 | BW37: umzimkhulu | BX37: =AVERAGE(BX15,BX26) -> 1513 | BY37: utrecht | BZ37: =AVERAGE(BZ15,BZ26) -> 1007.25 | CA37: wartburg | CB37: =AVERAGE(CB15,CB26) -> 2948.5
A38: Durban | B38: =AVERAGE(B16,B27) -> 336596.5 | C38: mahlabathini | D38: =AVERAGE(D16,D27) -> 282 | M38: glencoe | N38: =AVERAGE(N16,N27) -> 2104.75 | O38: richrds bay | P38: =AVERAGE(P16,P27) -> 29586 | Q38: gingindlovu | R38: =AVERAGE(R16,R27) -> 5131.5 | S38: weenen | T38: =AVERAGE(T16,T27) -> 537.25 | U38: kranskop | V38: =AVERAGE(V16,V27) -> 671.5 | AC38: mkuze | AD38: =AVERAGE(AD16,AD27) -> 1760 | AM38: vryheid | AN38: =AVERAGE(AN16,AN27) -> 11796.25 | AW38: pongola | AX38: =AVERAGE(AX16,AX27) -> 2769.5
A39: pinetown | B39: =AVERAGE(B17,B28) -> 78239 | C39: Ulundi | D39: =AVERAGE(D17,D28) -> 2173.5 | N39: =SUM(N37:N38) -> 7931.5 | P39: =SUM(P37:P38) -> 42949 | R39: =SUM(R37:R38) -> 9133.75 | T39: =SUM(T37:T38) -> 7860.5 | V39: =SUM(V37:V38) -> 4895 | AD39: =SUM(AD37:AD38) -> 2930.75 | AN39: =SUM(AN37:AN38) -> 11946.75 | AX39: =SUM(AX37:AX38) -> 2871.5
A40: umbumbulu | B40: =AVERAGE(B18,B29) -> 346.75 | D40: =SUM(D37:D39) -> 2689.75
A41: umhlanga rocks | B41: =AVERAGE(B19,B30) -> 32133.25
A42: umlazi | B42: =AVERAGE(B20,B31) -> 10378
A43: verulam | B43: =AVERAGE(B21,B32) -> 28348.5
A44: total | B44: =SUM(B37:B43) -> 518426.5
A46: 40939
A47: Ethekwini | C47: Ulundi | E47: Okhahlamba | G47: Ingwe | I47: Mkhambathini | K47: Dannhuaser | M47: Endumeni | O47: Umhlathuze | Q47: umlalazi | S47: Umtshezi | U47: umvoti | W47: umziwabantu | Y47: mgeni | AA47: impendle | AC47: jozini | AE47: ubuhlebezwe | AG47: great kokstad | AI47: kwa sani | AK47: ladysmith | AM47: abaqulusi | AO47: maphumulo | AQ47: mthonjaneni | AS47: mpofana | AU47: mtubatuba | AW47: pongola | AY47: ndwedwe | BA47: newcastle | BC47: nkandla | BE47: nongoma | BG47: nqutu | BI47: Dumbe | BK47: msunduzi | BM47: hibiscus | BO47: richmond | BQ47: umdoni | BS47: kwa-dukuza | BU47: msinga | BW47: umzimkhulu | BY47: emadlangeni | CA47: umshwathi
A48: Amanzimtoti | B48: =738+28322+1858+1537+109 -> 32564 | C48: Babnango | D48: =4+139+113+3 -> 259 | E48: Bergville | F48: =11+1707+438+97+5 -> 2258 | G48: Bulwer | H48: =18+217+142+12+2 -> 391 | I48: Camperdown | J48: =93+5991+778+335+54 -> 7251 | K48: Dannhuaser | L48: =200+1194+125+19+8 -> 1546 | M48: Dundee | N48: =41+5214+392+190+25 -> 5862 | O48: Empangweni | P48: =122+11265+1190+788+54 -> 13419 | Q48: eshowe | R48: =85+3540+333+140+13 -> 4111 | S48: escourt | T48: =77+6384+687+267+41 -> 7456 | U48: greytown | V48: =39+3548+519+164+46 -> 4316 | W48: harding | X48: =14+1318+288+49+20 -> 1689 | Y48: howick | Z48: =36+9735+323+726+36 -> 10856 | AA48: impendle | AB48: =8+195+63+7+3 -> 276 | AC48: ingwavuma | AD48: =13+896+294+23+4 -> 1230 | AE48: ixopo | AF48: =31+1865+292+82+29 -> 2299 | AG48: kokstad | AH48: =74+6993+470+172+19 -> 7728 | AI48: kzn5a2 | AJ48: =13+1185+115+76+8 -> 1397 | AK48: ladysmith | AL48: =207+16277+1592+594+60 -> 18730 | AM48: louwsburg | AN48: =1+145+17+5+1 -> 169 | AO48: maphumulo | AP48: =19+222+121+8+1 -> 371 | AQ48: melmoth | AR48: =15+1098+95+64+8 -> 1280 | AS48: mooi river | AT48: =36+2451+121+139+23 -> 2770 | AU48: mtubatuba | AV48: =62+4765+888+220+35 -> 5970 | AW48: natal law | AX48: =92+2+3+1 -> 98 | AY48: ndwedwe | AZ48: =3+154+23+3+1 -> 184 | BA48: newcastle | BB48: =175+29350+1945+1262+125 -> 32857 | BC48: nkandla | BD48: =19+363+302 -> 684 | BE48: nongoma | BF48: =43+707+603+7+2 -> 1362 | BG48: nqutu | BH48: =15+713+488+6+7 -> 1229 | BI48: pualpiertersburg | BJ48: =27+1154+237+63+13 -> 1494 | BK48: pietermaritzburg | BL48: =589+84771+3927+3660+183 -> 93130 | BM48: portshepstone | BN48: =148+31140+1979+2033+110 -> 35410 | BO48: richmond | BP48: =29+1498+194+88+12 -> 1821 | BQ48: scottsburg | BR48: =79+11811+586+572+81 -> 13129 | BS48: stanger | BT48: =137+21343+795+841+53 -> 23169 | BU48: tugela ferry | BV48: =4+471+224+11+2 -> 712 | BW48: umzimkhulu | BX48: =40+1100+380+6+2 -> 1528 | BY48: utrecht | BZ48: =1+855+49+88+6 -> 999 | CA48: wartburg | CB48: =11+2564+168+204+19 -> 2966
A49: Durban | B49: =1738+315656+12860+9558+462 -> 340274 | C49: mahlabathini | D49: =9+150+158+1+1 -> 319 | M49: glencoe | N49: =6+1952+63+116+13 -> 2150 | O49: richrds bay | P49: =441+27235+919+1844+81 -> 30520 | Q49: gingindlovu | R49: =36+4208+629+238+28 -> 5139 | S49: weenen | T49: =2+411+77+48+5 -> 543 | U49: kranskop | V49: =7+474+149+34+2 -> 666 | AC49: mkuze | AD49: =53+1469+200+72+5 -> 1799 | AM49: vryheid | AN49: =175+10276+878+496+81 -> 11906 | AW49: pongola | AX49: =30+2355+226+171+14 -> 2796
A50: pinetown | B50: =389+71277+3397+3745+170 -> 78978 | C50: Ulundi | D50: =17+1832+403+12+1 -> 2265 | N50: =SUM(N48:N49) -> 8012 | P50: =SUM(P48:P49) -> 43939 | R50: =SUM(R48:R49) -> 9250 | T50: =SUM(T48:T49) -> 7999 | V50: =SUM(V48:V49) -> 4982 | AD50: =SUM(AD48:AD49) -> 3029 | AN50: =SUM(AN48:AN49) -> 12075 | AX50: =SUM(AX48:AX49) -> 2894
A51: umbumbulu | B51: =1+314+32+4+1 -> 352 | D51: =SUM(D48:D50) -> 2843
A52: umhlanga rocks | B52: =66+30695+330+1369+60 -> 32520
A53: umlazi | B53: =89+9058+1494+41+7 -> 10689
A54: verulam | B54: =265+26926+1256+354+16 -> 28817
A55: total | B55: =SUM(B48:B54) -> 524194
A57: 40968
A58: Ethekwini | C58: Ulundi | E58: Okhahlamba | G58: Ingwe | I58: Mkhambathini | K58: Dannhuaser | M58: Endumeni | O58: Umhlathuze | Q58: umlalazi | S58: Umtshezi | U58: umvoti | W58: umziwabantu | Y58: mgeni | AA58: impendle | AC58: jozini | AE58: ubuhlebezwe | AG58: great kokstad | AI58: kwa sani | AK58: ladysmith | AM58: abaqulusi | AO58: maphumulo | AQ58: mthonjaneni | AS58: mpofana | AU58: mtubatuba | AW58: pongola | AY58: ndwedwe | BA58: newcastle | BC58: nkandla | BE58: nongoma | BG58: nqutu | BI58: Dumbe | BK58: msunduzi | BM58: hibiscus | BO58: richmond | BQ58: umdoni | BS58: kwa-dukuza | BU58: msinga | BW58: umzimkhulu | BY58: emadlangeni | CA58: umshwathi
A59: Amanzimtoti | B59: =736+28447+1821+1547+108 -> 32659 | C59: Babnango | D59: =4+129+109+4 -> 246 | E59: Bergville | F59: =12+1734+448+92+5 -> 2291 | G59: Bulwer | H59: =16+217+145+12+2 -> 392 | I59: Camperdown | J59: =91+6005+782+333+54 -> 7265 | K59: Dannhuaser | L59: =215+1206+116+19+8 -> 1564 | M59: Dundee | N59: =41+5255+382+199+25 -> 5902 | O59: Empangweni | P59: =123+11343+1208+794+54 -> 13522 | Q59: eshowe | R59: =89+3581+329+144+12 -> 4155 | S59: escourt | T59: =82+6430+724+263+39 -> 7538 | U59: greytown | V59: =41+3572+520+163+47 -> 4343 | W59: harding | X59: =15+1338+291+55+19 -> 1718 | Y59: howick | Z59: =38+9776+318+735+35 -> 10902 | AA59: impendle | AB59: =7+198+59+5+3 -> 272 | AC59: ingwavuma | AD59: =14+920+292+20+2 -> 1248 | AE59: ixopo | AF59: =32+1878+289+83+30 -> 2312 | AG59: kokstad | AH59: =73+7031+466+178+20 -> 7768 | AI59: kzn5a2 | AJ59: =13+1197+124+76+8 -> 1418 | AK59: ladysmith | AL59: =213+16342+1635+608+58 -> 18856 | AM59: louwsburg | AN59: =1+140+18+6+1 -> 166 | AO59: maphumulo | AP59: =5+219+124+8+1 -> 357 | AQ59: melmoth | AR59: =15+1098+101+61+9 -> 1284 | AS59: mooi river | AT59: =31+2462+122+147+21 -> 2783 | AU59: mtubatuba | AV59: =64+4823+905+223+35 -> 6050 | AW59: natal law | AX59: =80+2+4+1 -> 87 | AY59: ndwedwe | AZ59: =3+159+23+4+2 -> 191 | BA59: newcastle | BB59: =179+29507+1960+1266+122 -> 33034 | BC59: nkandla | BD59: =24+367+318 -> 709 | BE59: nongoma | BF59: =27+697+584+4+2 -> 1314 | BG59: nqutu | BH59: =18+737+489+7+7 -> 1258 | BI59: pualpiertersburg | BJ59: =27+1166+229+61+13 -> 1496 | BK59: pietermaritzburg | BL59: =591+85138+3949+3689+184 -> 93551 | BM59: portshepstone | BN59: =148+31152+1977+2041+114 -> 35432 | BO59: richmond | BP59: =26+1501+187+90+12 -> 1816 | BQ59: scottsburg | BR59: =80+11850+576+573+81 -> 13160 | BS59: stanger | BT59: =152+21482+811+839+51 -> 23335 | BU59: tugela ferry | BV59: =2+476+224+10+2 -> 714 | BW59: umzimkhulu | BX59: =39+1095+364+5+3 -> 1506 | BY59: utrecht | BZ59: =1+864+50+83+10 -> 1008 | CA59: wartburg | CB59: =15+2614+163+205+17 -> 3014
A60: Durban | B60: =1727+316724+12819+9587+457 -> 341314 | C60: mahlabathini | D60: =10+148+156+1+1 -> 316 | M60: glencoe | N60: =6+1959+64+113+13 -> 2155 | O60: richrds bay | P60: =445+27414+942+1842+84 -> 30727 | Q60: gingindlovu | R60: =38+4216+647+246+30 -> 5177 | S60: weenen | T60: =2+406+66+45+4 -> 523 | U60: kranskop | V60: =7+477+148+32+2 -> 666 | AC60: mkuze | AD60: =54+1476+209+72+5 -> 1816 | AM60: vryheid | AN60: =180+10311+868+486+82 -> 11927 | AW60: pongola | AX60: =30+2392+234+169+15 -> 2840
A61: pinetown | B61: =395+71683+3423+3769+172 -> 79442 | C61: Ulundi | D61: =15+1834+410+10+1 -> 2270 | N61: =SUM(N59:N60) -> 8057 | P61: =SUM(P59:P60) -> 44249 | R61: =SUM(R59:R60) -> 9332 | T61: =SUM(T59:T60) -> 8061 | V61: =SUM(V59:V60) -> 5009 | AD61: =SUM(AD59:AD60) -> 3064 | AN61: =SUM(AN59:AN60) -> 12093 | AX61: =SUM(AX59:AX60) -> 2927
A62: umbumbulu | B62: =311+35+4 -> 350 | D62: =SUM(D59:D61) -> 2832
A63: umhlanga rocks | B63: =62+30969+317+1389+57 -> 32794
A64: umlazi | B64: =94+9121+1512+41+5 -> 10773
A65: verulam | B65: =266+27065+1232+353+15 -> 28931
A66: total | B66: =SUM(B59:B65) -> 526263
A68: 40999
A69: Ethekwini | C69: Ulundi | E69: Okhahlamba | G69: Ingwe | I69: Mkhambathini | K69: Dannhuaser | M69: Endumeni | O69: Umhlathuze | Q69: umlalazi | S69: Umtshezi | U69: umvoti | W69: umziwabantu | Y69: mgeni | AA69: impendle | AC69: jozini | AE69: ubuhlebezwe | AG69: great kokstad | AI69: kwa sani | AK69: ladysmith | AM69: abaqulusi | AO69: maphumulo | AQ69: mthonjaneni | AS69: mpofana | AU69: mtubatuba | AW69: pongola | AY69: ndwedwe | BA69: newcastle | BC69: nkandla | BE69: nongoma | BG69: nqutu | BI69: Dumbe | BK69: msunduzi | BM69: hibiscus | BO69: richmond | BQ69: umdoni | BS69: kwa-dukuza | BU69: msinga | BW69: umzimkhulu | BY69: emadlangeni | CA69: umshwathi
A70: Amanzimtoti | B70: =733+28601+1828+1548+111 -> 32821 | C70: Babnango | D70: =4+134+106+5 -> 249 | E70: Bergville | F70: =13+1726+443+93+6 -> 2281 | G70: Bulwer | H70: =18+226+148+13+2 -> 407 | I70: Camperdown | J70: =87+5995+790+323+52 -> 7247 | K70: Dannhuaser | L70: =209+1219+114+19+8 -> 1569 | M70: Dundee | N70: =40+5261+407+191+25 -> 5924 | O70: Empangweni | P70: =120+11405+1205+797+55 -> 13582 | Q70: eshowe | R70: =84+3611+324+147+11 -> 4177 | S70: escourt | T70: =84+6434+719+267+38 -> 7542 | U70: greytown | V70: =44+3571+522+161+47 -> 4345 | W70: harding | X70: =16+1329+296+55+13 -> 1709 | Y70: howick | Z70: =36+9846+321+746+35 -> 10984 | AA70: impendle | AB70: =7+204+66+5+3 -> 285 | AC70: ingwavuma | AD70: =12+923+289+15+3 -> 1242 | AE70: ixopo | AF70: =30+1848+298+80+31 -> 2287 | AG70: kokstad | AH70: =60+7093+442+190+24 -> 7809 | AI70: kzn5a2 | AJ70: =14+1196+106+76+8 -> 1400 | AK70: ladysmith | AL70: =200+16373+1564+606+62 -> 18805 | AM70: louwsburg | AN70: =1+139+16+5+1 -> 162 | AO70: maphumulo | AP70: =5+206+124+8+1 -> 344 | AQ70: melmoth | AR70: =13+1072+99+57+9 -> 1250 | AS70: mooi river | AT70: =30+2492+125+150+22 -> 2819 | AU70: mtubatuba | AV70: =63+4819+889+226+36 -> 6033 | AW70: natal law | AX70: =88+2+3+1 -> 94 | AY70: ndwedwe | AZ70: =3+166+21+3+2 -> 195 | BA70: newcastle | BB70: =166+29612+1983+1283+120 -> 33164 | BC70: nkandla | BD70: =22+391+346 -> 759 | BE70: nongoma | BF70: =16+705+601+7+2 -> 1331 | BG70: nqutu | BH70: =12+727+477+7+7 -> 1230 | BI70: pualpiertersburg | BJ70: =33+1176+239+57+13 -> 1518 | BK70: pietermaritzburg | BL70: =600+85485+4004+3699+189 -> 93977 | BM70: portshepstone | BN70: =165+31156+1997+2028+113 -> 35459 | BO70: richmond | BP70: =27+1508+188+96+12 -> 1831 | BQ70: scottsburg | BR70: =78+11852+593+569+82 -> 13174 | BS70: stanger | BT70: =152+21563+811+869+52 -> 23447 | BU70: tugela ferry | BV70: =2+494+200+13+2 -> 711 | BW70: umzimkhulu | BX70: =44+1102+366+6+2 -> 1520 | BY70: utrecht | BZ70: =875+58+84+10 -> 1027 | CA70: wartburg | CB70: =14+2600+161+208+19 -> 3002
A71: Durban | B71: =1794+317852+12836+9649+465 -> 342596 | C71: mahlabathini | D71: =10+150+127+2 -> 289 | M71: glencoe | N71: =8+1977+63+114+13 -> 2175 | O71: richrds bay | P71: =437+27665+915+1858+81 -> 30956 | Q71: gingindlovu | R71: =35+4226+633+250+30 -> 5174 | S71: weenen | T71: =3+409+78+43+3 -> 536 | U71: kranskop | V71: =7+473+148+28+2 -> 658 | AC71: mkuze | AD71: =55+1495+207+71+5 -> 1833 | AM71: vryheid | AN71: =187+10402+913+484+80 -> 12066 | AW71: pongola | AX71: =31+2423+229+175+15 -> 2873
A72: pinetown | B72: =371+72007+3399+3780+170 -> 79727 | C72: Ulundi | D72: =14+1843+388+12 -> 2257 | N72: =SUM(N70:N71) -> 8099 | P72: =SUM(P70:P71) -> 44538 | R72: =SUM(R70:R71) -> 9351 | T72: =SUM(T70:T71) -> 8078 | V72: =SUM(V70:V71) -> 5003 | AD72: =SUM(AD70:AD71) -> 3075 | AN72: =SUM(AN70:AN71) -> 12228 | AX72: =SUM(AX70:AX71) -> 2967
A73: umbumbulu | B73: =320+23+3 -> 346 | D73: =SUM(D70:D72) -> 2795
A74: umhlanga rocks | B74: =68+31061+341+1391+56 -> 32917
A75: umlazi | B75: =98+9171+1492+43+5 -> 10809
A76: verulam | B76: =265+27076+1303+363+14 -> 29021
A77: total | B77: =SUM(B70:B76) -> 528237
A79: 41029
A80: Ethekwini | C80: Ulundi | E80: Okhahlamba | G80: Ingwe | I80: Mkhambathini | K80: Dannhuaser | M80: Endumeni | O80: Umhlathuze | Q80: umlalazi | S80: Umtshezi | U80: umvoti | W80: umziwabantu | Y80: mgeni | AA80: impendle | AC80: jozini | AE80: ubuhlebezwe | AG80: great kokstad | AI80: kwa sani | AK80: ladysmith | AM80: abaqulusi | AO80: maphumulo | AQ80: mthonjaneni | AS80: mpofana | AU80: mtubatuba | AW80: pongola | AY80: ndwedwe | BA80: newcastle | BC80: nkandla | BE80: nongoma | BG80: nqutu | BI80: Dumbe | BK80: msunduzi | BM80: hibiscus | BO80: richmond | BQ80: umdoni | BS80: kwa-dukuza | BU80: msinga | BW80: umzimkhulu | BY80: emadlangeni | CA80: umshwathi
A81: Amanzimtoti | B81: =751+28745+1844+1537+107 -> 32984 | C81: Babnango | D81: =4+137+105+4 -> 250 | E81: Bergville | F81: =12+1740+478+89+8 -> 2327 | G81: Bulwer | H81: =16+230+157+11+2 -> 416 | I81: Camperdown | J81: =88+6008+775+334+54 -> 7259 | K81: Dannhuaser | L81: =207+1226+124+20+8 -> 1585 | M81: Dundee | N81: =31+5245+418+188+24 -> 5906 | O81: Empangweni | P81: =127+11466+1216+789+58 -> 13656 | Q81: eshowe | R81: =85+3614+347+146+11 -> 4203 | S81: escourt | T81: =83+6494+716+272+37 -> 7602 | U81: greytown | V81: =43+3570+522+160+48 -> 4343 | W81: harding | X81: =15+1348+303+53+16 -> 1735 | Y81: howick | Z81: =37+9871+322+735+35 -> 11000 | AA81: impendle | AB81: =7+202+65+5+3 -> 282 | AC81: ingwavuma | AD81: =10+916+293+15+3 -> 1237 | AE81: ixopo | AF81: =30+1835+302+83+30 -> 2280 | AG81: kokstad | AH81: =61+7105+449+191+26 -> 7832 | AI81: kzn5a2 | AJ81: =18+1218+121+78+7 -> 1442 | AK81: ladysmith | AL81: =199+16400+1543+622+61 -> 18825 | AM81: louwsburg | AN81: =1+139+16+5+1 -> 162 | AO81: maphumulo | AP81: =5+214+123+7+1 -> 350 | AQ81: melmoth | AR81: =13+1068+101+55+9 -> 1246 | AS81: mooi river | AT81: =31+2500+118+150+22 -> 2821 | AU81: mtubatuba | AV81: =66+4845+880+229+34 -> 6054 | AW81: natal law | AX81: =84+2+2 -> 88 | AY81: ndwedwe | AZ81: =3+172+20+3+1 -> 199 | BA81: newcastle | BB81: =181+29768+2033+1281+121 -> 33384 | BC81: nkandla | BD81: =20+370+337+2 -> 729 | BE81: nongoma | BF81: =26+696+614+7+3 -> 1346 | BG81: nqutu | BH81: =15+750+488+7+7 -> 1267 | BI81: pualpiertersburg | BJ81: =27+1165+224+57+13 -> 1486 | BK81: pietermaritzburg | BL81: =597+85865+3983+3711+191 -> 94347 | BM81: portshepstone | BN81: =153+31237+1983+2070+111 -> 35554 | BO81: richmond | BP81: =27+1518+185+97+12 -> 1839 | BQ81: scottsburg | BR81: =80+11807+576+577+80 -> 13120 | BS81: stanger | BT81: =152+21670+814+869+51 -> 23556 | BU81: tugela ferry | BV81: =3+519+214+14+2 -> 752 | BW81: umzimkhulu | BX81: =43+1120+373+6+3 -> 1545 | BY81: utrecht | BZ81: =868+40+86+10 -> 1004 | CA81: wartburg | CB81: =12+2609+157+212+17 -> 3007
A82: Durban | B82: =1787+318897+13010+9753+464 -> 343911 | C82: mahlabathini | D82: =11+149+163+2 -> 325 | M82: glencoe | N82: =6+1972+59+119+12 -> 2168 | O82: richrds bay | P82: =437+27843+914+1880+80 -> 31154 | Q82: gingindlovu | R82: =39+4224+625+244+30 -> 5162 | S82: weenen | T82: =3+407+75+42+3 -> 530 | U82: kranskop | V82: =7+466+141+31+2 -> 647 | AC82: mkuze | AD82: =55+1514+212+84+5 -> 1870 | AM82: vryheid | AN82: =187+10497+890+483+82 -> 12139 | AW82: pongola | AX82: =31+2426+220+174+15 -> 2866
A83: pinetown | B83: =360+72192+3389+3795+164 -> 79900 | C83: Ulundi | D83: =13+1854+407+12 -> 2286 | N83: =SUM(N81:N82) -> 8074 | P83: =SUM(P81:P82) -> 44810 | R83: =SUM(R81:R82) -> 9365 | T83: =SUM(T81:T82) -> 8132 | V83: =SUM(V81:V82) -> 4990 | AD83: =SUM(AD81:AD82) -> 3107 | AN83: =SUM(AN81:AN82) -> 12301 | AX83: =SUM(AX81:AX82) -> 2954
A84: umbumbulu | B84: =312+22+2 -> 336 | D84: =SUM(D81:D83) -> 2861
A85: umhlanga rocks | B85: =78+31166+330+1378+59 -> 33011
A86: umlazi | B86: =87+9249+1463+43+7 -> 10849
A87: verulam | B87: =265+27049+1233+368+14 -> 28929
A88: total | B88: =SUM(B81:B87) -> 529920
A90: 41060
A91: Ethekwini | C91: Ulundi | E91: Okhahlamba | G91: Ingwe | I91: Mkhambathini | K91: Dannhuaser | M91: Endumeni | O91: Umhlathuze | Q91: umlalazi | S91: Umtshezi | U91: umvoti | W91: umziwabantu | Y91: mgeni | AA91: impendle | AC91: jozini | AE91: ubuhlebezwe | AG91: great kokstad | AI91: kwa sani | AK91: ladysmith | AM91: abaqulusi | AO91: maphumulo | AQ91: mthonjaneni | AS91: mpofana | AU91: mtubatuba | AW91: pongola | AY91: ndwedwe | BA91: newcastle | BC91: nkandla | BE91: nongoma | BG91: nqutu | BI91: Dumbe | BK91: msunduzi | BM91: hibiscus | BO91: richmond | BQ91: umdoni | BS91: kwa-dukuza | BU91: msinga | BW91: umzimkhulu | BY91: emadlangeni | CA91: umshwathi
A92: Amanzimtoti | B92: =736+28835+1899+1546+107 -> 33123 | C92: Babnango | D92: =3+137+104+3 -> 247 | E92: Bergville | F92: =14+1727+443+87+7 -> 2278 | G92: Bulwer | H92: =19+233+159+12+2 -> 425 | I92: Camperdown | J92: =87+6040+787+338+54 -> 7306 | K92: Dannhuaser | L92: =207+1222+119+20+8 -> 1576 | M92: Dundee | N92: =37+5264+396+187+24 -> 5908 | O92: Empangweni | P92: =122+11514+1203+789+56 -> 13684 | Q92: eshowe | R92: =70+3600+345+152+12 -> 4179 | S92: escourt | T92: =84+6501+735+273+39 -> 7632 | U92: greytown | V92: =44+3592+533+156+48 -> 4373 | W92: harding | X92: =10+1369+294+53+18 -> 1744 | Y92: howick | Z92: =37+9913+311+738+34 -> 11033 | AA92: impendle | AB92: =7+205+70+6+3 -> 291 | AC92: ingwavuma | AD92: =12+917+285+16+3 -> 1233 | AE92: ixopo | AF92: =27+1860+309+81+29 -> 2306 | AG92: kokstad | AH92: =60+7169+436+190+24 -> 7879 | AI92: kzn5a2 | AJ92: =15+1211+119+71+7 -> 1423 | AK92: ladysmith | AL92: =211+16517+1579+631+61 -> 18999 | AM92: louwsburg | AN92: =1+145+18+5+1 -> 170 | AO92: maphumulo | AP92: =7+221+126+5+1 -> 360 | AQ92: melmoth | AR92: =13+1092+108+57+8 -> 1278 | AS92: mooi river | AT92: =27+2490+113+154+21 -> 2805 | AU92: mtubatuba | AV92: =65+4873+902+231+34 -> 6105 | AW92: natal law | AX92: =95+2+2 -> 99 | AY92: ndwedwe | AZ92: =3+183+21+3+1 -> 211 | BA92: newcastle | BB92: =161+29953+1952+1301+123 -> 33490 | BC92: nkandla | BD92: =18+378+340 -> 736 | BE92: nongoma | BF92: =32+710+639+8+3 -> 1392 | BG92: nqutu | BH92: =16+756+520+7+7 -> 1306 | BI92: pualpiertersburg | BJ92: =27+1155+243+54+13 -> 1492 | BK92: pietermaritzburg | BL92: =607+86179+4022+3737+203 -> 94748 | BM92: portshepstone | BN92: =158+31395+2015+2060+110 -> 35738 | BO92: richmond | BP92: =27+1539+196+97+12 -> 1871 | BQ92: scottsburg | BR92: =76+11829+565+580+81 -> 13131 | BS92: stanger | BT92: =149+21852+815+892+54 -> 23762 | BU92: tugela ferry | BV92: =2+515+203+13+2 -> 735 | BW92: umzimkhulu | BX92: =39+1127+381+6+2 -> 1555 | BY92: utrecht | BZ92: =877+39+89+9 -> 1014 | CA92: wartburg | CB92: =14+2621+153+212+18 -> 3018
A93: Durban | B93: =1774+316685+12826+9835+459 -> 341579 | C93: mahlabathini | D93: =11+155+146+1 -> 313 | M93: glencoe | N93: =5+1981+65+117+12 -> 2180 | O93: richrds bay | P93: =431+28074+920+1888+78 -> 31391 | Q93: gingindlovu | R93: =42+4258+634+243+29 -> 5206 | S93: weenen | T93: =3+409+76+43+4 -> 535 | U93: kranskop | V93: =7+465+134+28+2 -> 636 | AC93: mkuze | AD93: =53+1520+218+85+4 -> 1880 | AM93: vryheid | AN93: =181+10558+915+480+83 -> 12217 | AW93: pongola | AX93: =32+2424+221+179+15 -> 2871
A94: pinetown | B94: =376+72435+3368+3843+164 -> 80186 | C94: Ulundi | D94: =14+1849+397+12+1 -> 2273 | N94: =SUM(N92:N93) -> 8088 | P94: =SUM(P92:P93) -> 45075 | R94: =SUM(R92:R93) -> 9385 | T94: =SUM(T92:T93) -> 8167 | V94: =SUM(V92:V93) -> 5009 | AD94: =SUM(AD92:AD93) -> 3113 | AN94: =SUM(AN92:AN93) -> 12387 | AX94: =SUM(AX92:AX93) -> 2970
A95: umbumbulu | B95: =1+320+33+2 -> 356 | D95: =SUM(D92:D94) -> 2833
A96: umhlanga rocks | B96: =86+31365+332+1389+61 -> 33233
A97: umlazi | B97: =102+9314+1473+43+7 -> 10939
A98: verulam | B98: =263+37034+1271+367+13 -> 38948
A99: total | B99: =SUM(B92:B98) -> 538364
A101: 41090
A102: Ethekwini | C102: Ulundi | E102: Okhahlamba | G102: Ingwe | I102: Mkhambathini | K102: Dannhuaser | M102: Endumeni | O102: Umhlathuze | Q102: umlalazi | S102: Umtshezi | U102: umvoti | W102: umziwabantu | Y102: mgeni | AA102: impendle | AC102: jozini | AE102: ubuhlebezwe | AG102: great kokstad | AI102: kwa sani | AK102: ladysmith | AM102: abaqulusi | AO102: maphumulo | AQ102: mthonjaneni | AS102: mpofana | AU102: mtubatuba | AW102: pongola | AY102: ndwedwe | BA102: newcastle | BC102: nkandla | BE102: nongoma | BG102: nqutu | BI102: Dumbe | BK102: msunduzi | BM102: hibiscus | BO102: richmond | BQ102: umdoni | BS102: kwa-dukuza | BU102: msinga | BW102: umzimkhulu | BY102: emadlangeni | CA102: umshwathi
A103: Amanzimtoti | B103: =740+28912+1869+1556+107 -> 33184 | C103: Babnango | D103: =3+135+99+4 -> 241 | E103: Bergville | F103: =14+1738+452+92+7 -> 2303 | G103: Bulwer | H103: =16+232+152+12+2 -> 414 | I103: Camperdown | J103: =85+6058+779+336+51 -> 7309 | K103: Dannhuaser | L103: =220+1236+117+20+9 -> 1602 | M103: Dundee | N103: =42+5308+395+194+23 -> 5962 | O103: Empangweni | P103: =126+11542+1216+809+56 -> 13749 | Q103: eshowe | R103: =66+3634+345+150+13 -> 4208 | S103: escourt | T103: =79+6488+714+274+39 -> 7594 | U103: greytown | V103: =43+3597+515+157+48 -> 4360 | W103: harding | X103: =10+1383+294+56+18 -> 1761 | Y103: howick | Z103: =36+9987+321+729+33 -> 11106 | AA103: impendle | AB103: =10+212+75+6+3 -> 306 | AC103: ingwavuma | AD103: =12+928+282+16+3 -> 1241 | AE103: ixopo | AF103: =29+1851+301+86+28 -> 2295 | AG103: kokstad | AH103: =69+7223+424+186+24 -> 7926 | AI103: kzn5a2 | AJ103: =18+1201+123+69+7 -> 1418 | AK103: ladysmith | AL103: =199+16587+1572+633+63 -> 19054 | AM103: louwsburg | AN103: =1+143+14+5+1 -> 164 | AO103: maphumulo | AP103: =8+208+117+5+1 -> 339 | AQ103: melmoth | AR103: =14+1084+107+52+8 -> 1265 | AS103: mooi river | AT103: =28+2490+113+157+21 -> 2809 | AU103: mtubatuba | AV103: =68+4914+891+230+33 -> 6136 | AW103: natal law | AX103: =114+1+5 -> 120 | AY103: ndwedwe | AZ103: =3+185+21+3+1 -> 213 | BA103: newcastle | BB103: =168+30126+1961+1300+126 -> 33681 | BC103: nkandla | BD103: =19+386+374+2 -> 781 | BE103: nongoma | BF103: =32+725+648+7+3 -> 1415 | BG103: nqutu | BH103: =12+755+514+7+7 -> 1295 | BI103: pualpiertersburg | BJ103: =27+1144+250+54+13 -> 1488 | BK103: pietermaritzburg | BL103: =613+86552+4113+3766+201 -> 95245 | BM103: portshepstone | BN103: =166+31539+1985+2061+111 -> 35862 | BO103: richmond | BP103: =30+1537+195+98+13 -> 1873 | BQ103: scottsburg | BR103: =75+11878+560+588+81 -> 13182 | BS103: stanger | BT103: =150+22080+837+897+53 -> 24017 | BU103: tugela ferry | BV103: =3+522+212+15+2 -> 754 | BW103: umzimkhulu | BX103: =40+1123+361+6+2 -> 1532 | BY103: utrecht | BZ103: =885+39+80+9 -> 1013 | CA103: wartburg | CB103: =15+2631+160+207+18 -> 3031
A104: Durban | B104: =1791+321034+12916+9891+458 -> 346090 | C104: mahlabathini | D104: =8+167+140+1+1 -> 317 | M104: glencoe | N104: =5+1975+77+118+11 -> 2186 | O104: richrds bay | P104: =438+28315+921+1904+76 -> 31654 | Q104: gingindlovu | R104: =38+4266+617+244+28 -> 5193 | S104: weenen | T104: =3+406+76+44+4 -> 533 | U104: kranskop | V104: =7+466+129+31+2 -> 635 | AC104: mkuze | AD104: =56+1553+225+89+5 -> 1928 | AM104: vryheid | AN104: =173+10614+889+471+81 -> 12228 | AW104: pongola | AX104: =30+2434+226+179+15 -> 2884
A105: pinetown | B105: =371+72797+3349+3888+168 -> 80573 | C105: Ulundi | D105: =13+1882+427+13+1 -> 2336 | N105: =SUM(N103:N104) -> 8148 | P105: =SUM(P103:P104) -> 45403 | R105: =SUM(R103:R104) -> 9401 | T105: =SUM(T103:T104) -> 8127 | V105: =SUM(V103:V104) -> 4995 | AD105: =SUM(AD103:AD104) -> 3169 | AN105: =SUM(AN103:AN104) -> 12392 | AX105: =SUM(AX103:AX104) -> 3004
A106: umbumbulu | B106: =2+319+37+3 -> 361 | D106: =SUM(D103:D105) -> 2894
A107: umhlanga rocks | B107: =84+31567+335+1386+61 -> 33433
A108: umlazi | B108: =97+9371+1461+46+6 -> 10981
A109: verulam | B109: =268+27104+1206+373+14 -> 28965
...
