Workbook

Sheet Total
A1: Total Live Vehicle Population
A2: Total Vehicle Population | B2: Total | C2: Metro Municipality | D2: Ugu District Municipality | J2: uMgungundlovu District Municipality | Q2: Uthukela District Municipality | V2: Umzinyathi District Municipality | Z2: Zululand District Municipality | AE2: Umkhanyakude District Municipality | AJ2: Uthungulu District Municipality | AP2: iLembe District Municipality | AT2: Sisonke District Municipality | AY2: Amajuba District Municipality
B3: Total | C3: Ethekwini Metropolitan Municipality | D3: Vulamehlo Local Municipality (KZN211) | E3: Umdoni Local Municipality (KZN212) | F3: Umzumbe Local Municipality (KZN213) | G3: UMuziwabantu Local Municipality (KZN214) | H3: Ezingoleni Local Municipality (KZN215) | I3: Hibiscus Coast Local Municipality (KZN216) | J3: uMshwathi Local Municipality (KZN221) | K3: uMngeni Local Municipality (KZN222) | L3: Mpofana Local Municipality (KZN223) | M3: Impendle Local Municipality (KZN224) | N3: The Msunduzi Local Municipality (KZN225) | O3: Mkhambathini Local Municipality (KZN226) | P3: Richmond Local Municipality (KZN227) | Q3: Emnambithi/Ladysmith Local Municipality (KZN232) | R3: Indaka Local Municipality (KZN233) | S3: Umtshezi Local Municipality (KZN234) | T3: Okhahlamba Local Municipality (KZN235) | U3: Imbabazane Local Municipality (KZN236) | V3: Endumeni Local Municipality (KZN241) | W3: Nqutu Local Municipality (KZN242) | X3: Msinga Local Municipality (KZN244) | Y3: Umvoti Local Municipality (KZN245) | Z3: eDumbe Local Municipality (KZN261) | AA3: UPhongolo Local Municipality (KZN262) | AB3: Abaqulusi Local Municipality (KZN263) | AC3: Nongoma Local Municipality (KZN265) | AD3: Ulundi Local Municipality (KZN266) | AE3: Umhlabuyalingana Local Municipality (KZN271) | AF3: Jozini Local Municipality (KZN272) | AG3: The Big 5 False Bay Local Municipality (KZN273) | AH3: Hlabisa Local Municipality (KZN274) | AI3: Mtubatuba Local Municipality (KZN275) | AJ3: Mfolozi Local Municipality (KZN281, Mbonambi) | AK3: uMhlathuze Local Municipality (KZN282) | AL3: Ntambanana Local Municipality (KZN283) | AM3: uMlalazi Local Municipality (KZN284) | AN3: Mthonjaneni Local Municipality (KZN285) | AO3: Nkandla Local Municipality (KZN286) | AP3: Mandeni Local Municipality (KZN291) | AQ3: KwaDukuza Local Municipality (KZN292) | AR3: Ndwedwe Local Municipality (KZN293) | AS3: Maphumulo Local Municipality (KZN294) | AT3: Ingwe Local Municipality (KZN431) | AU3: Kwa Sani Local Municipality (KZN432) | AV3: Greater Kokstad Local Municipality (KZN433) | AW3: Ubuhlebezwe Local Municipality (KZN434) | AX3: Umzimkhulu Local Municipality (KZN435) | AY3: Newcastle Local Municipality (KZN252) | AZ3: Emadlangeni Local Municipality (KZN253) | BA3: Dannhauser Local Municipality (KZN254)
A4: 40816 | B4: =SUM(C4:BA4) -> 1361407 | C4: =49734+457542+121258+618+43137+13604+39635 -> 725528 | E4: =21065 -> 21065 | G4: =3962 -> 3962 | I4: =56679 -> 56679 | J4: =8663 -> 8663 | K4: =18870 -> 18870 | L4: =6286 -> 6286 | M4: =657 -> 657 | N4: =138698 -> 138698 | O4: =13815 -> 13815 | P4: =4413 -> 4413 | Q4: =30547 -> 30547 | S4: =13981+1250 -> 15231 | T4: =5112 -> 5112 | V4: =11044+3685 -> 14729 | W4: =2277 -> 2277 | X4: =1485 -> 1485 | Y4: =9146+1782 -> 10928 | Z4: =3798 -> 3798 | AA4: =7000+134 -> 7134 | AB4: =455+23324 -> 23779 | AC4: =2619 -> 2619 | AD4: =470+427+4498 -> 5395 | AF4: =3233+4754 -> 7987 | AI4: =12944 -> 12944 | AK4: =25140+47974 -> 73114 | AM4: =7707+10230 -> 17937 | AN4: =3288 -> 3288 | AO4: =1231 -> 1231 | AQ4: =36927 -> 36927 | AR4: =387 -> 387 | AS4: =732 -> 732 | AT4: =979 -> 979 | AU4: =3312 -> 3312 | AV4: =16667 -> 16667 | AW4: =5808 -> 5808 | AX4: =3281 -> 3281 | AY4: =50195 -> 50195 | AZ4: =2154 -> 2154 | BA4: =2794 -> 2794
A5: 40847 | B5: =SUM(C5:BA5) -> 1365942 | C5: =49610+459233+121281+637+43401+13668+40140 -> 727970 | E5: =20826 -> 20826 | G5: =3982 -> 3982 | I5: =57061 -> 57061 | J5: =8664 -> 8664 | K5: =18935 -> 18935 | L5: =6407 -> 6407 | M5: 650 | N5: 138901 | O5: =13856 -> 13856 | P5: =4409 -> 4409 | Q5: =30547 -> 30547 | S5: =14073+1247 -> 15320 | T5: =5066 -> 5066 | V5: =11131+3714 -> 14845 | W5: =2317 -> 2317 | X5: =1494 -> 1494 | Y5: =9162+1797 -> 10959 | Z5: =3788 -> 3788 | AA5: =7080+141 -> 7221 | AB5: =445+23416 -> 23861 | AC5: =2541 -> 2541 | AD5: =478+442+4548 -> 5468 | AF5: =3254+4778 -> 8032 | AI5: =12968 -> 12968 | AK5: =25146+48249 -> 73395 | AM5: =7787+10251 -> 18038 | AN5: =3312 -> 3312 | AO5: =1240 -> 1240 | AQ5: =37176 -> 37176 | AR5: =382 -> 382 | AS5: =717 -> 717 | AT5: =970 -> 970 | AU5: =3327 -> 3327 | AV5: =16672 -> 16672 | AW5: =5834 -> 5834 | AX5: =3346 -> 3346 | AY5: =50433 -> 50433 | AZ5: =2168 -> 2168 | BA5: =2844 -> 2844
A6: 40877 | B6: =SUM(C6:BA6) -> 1363674.5 | C6: =AVERAGE(C4:C5) -> 726749 | E6: =AVERAGE(E4:E5) -> 20945.5 | G6: =AVERAGE(G4:G5) -> 3972 | I6: =AVERAGE(I4:I5) -> 56870 | J6: =AVERAGE(J4:J5) -> 8663.5 | K6: =AVERAGE(K4:K5) -> 18902.5 | L6: =AVERAGE(L4:L5) -> 6346.5 | M6: =AVERAGE(M4:M5) -> 653.5 | N6: =AVERAGE(N4:N5) -> 138799.5 | O6: =AVERAGE(O4:O5) -> 13835.5 | P6: =AVERAGE(P4:P5) -> 4411 | Q6: =AVERAGE(Q4:Q5) -> 30547 | S6: =AVERAGE(S4:S5) -> 15275.5 | T6: =AVERAGE(T4:T5) -> 5089 | V6: =AVERAGE(V4:V5) -> 14787 | W6: =AVERAGE(W4:W5) -> 2297 | X6: =AVERAGE(X4:X5) -> 1489.5 | Y6: =AVERAGE(Y4:Y5) -> 10943.5 | Z6: =AVERAGE(Z4:Z5) -> 3793 | AA6: =AVERAGE(AA4:AA5) -> 7177.5 | AB6: =AVERAGE(AB4:AB5) -> 23820 | AC6: =AVERAGE(AC4:AC5) -> 2580 | AD6: =AVERAGE(AD4:AD5) -> 5431.5 | AF6: =AVERAGE(AF4:AF5) -> 8009.5 | AI6: =AVERAGE(AI4:AI5) -> 12956 | AK6: =AVERAGE(AK4:AK5) -> 73254.5 | AM6: =AVERAGE(AM4:AM5) -> 17987.5 | AN6: =AVERAGE(AN4:AN5) -> 3300 | AO6: =AVERAGE(AO4:AO5) -> 1235.5 | AQ6: =AVERAGE(AQ4:AQ5) -> 37051.5 | AR6: =AVERAGE(AR4:AR5) -> 384.5 | AS6: =AVERAGE(AS4:AS5) -> 724.5 | AT6: =AVERAGE(AT4:AT5) -> 974.5 | AU6: =AVERAGE(AU4:AU5) -> 3319.5 | AV6: =AVERAGE(AV4:AV5) -> 16669.5 | AW6: =AVERAGE(AW4:AW5) -> 5821 | AX6: =AVERAGE(AX4:AX5) -> 3313.5 | ... BA6: =AVERAGE(BA4:BA5) -> 2819
A7: 40908 | B7: =SUM(C7:BA7) -> 1364808.2 | C7: =AVERAGE(C5:C6) -> 727359.5 | E7: =AVERAGE(E5:E6) -> 20885.75 | G7: =AVERAGE(G5:G6) -> 3977 | I7: =AVERAGE(I5:I6) -> 56965.5 | J7: =AVERAGE(J5:J6) -> 8663.75 | K7: =AVERAGE(K5:K6) -> 18918.75 | L7: =AVERAGE(L5:L6) -> 6376.75 | M7: =AVERAGE(M5:M6) -> 651.75 | N7: =AVERAGE(N5:N6) -> 138850.25 | O7: =AVERAGE(O5:O6) -> 13845.75 | P7: =AVERAGE(P5:P6) -> 4410 | Q7: =AVERAGE(Q5:Q6) -> 30547 | S7: =AVERAGE(S5:S6) -> 15297.75 | T7: =AVERAGE(T5:T6) -> 5077.5 | V7: =AVERAGE(V5:V6) -> 14816 | W7: =AVERAGE(W5:W6) -> 2307 | X7: =AVERAGE(X5:X6) -> 1491.75 | Y7: =AVERAGE(Y5:Y6) -> 10951.25 | Z7: =AVERAGE(Z5:Z6) -> 3790.5 | AA7: =AVERAGE(AA5:AA6) -> 7199.25 | AB7: =AVERAGE(AB5:AB6) -> 23840.5 | AC7: =AVERAGE(AC5:AC6) -> 2560.5 | AD7: =AVERAGE(AD5:AD6) -> 5449.75 | AF7: =AVERAGE(AF5:AF6) -> 8020.75 | AI7: =AVERAGE(AI5:AI6) -> 12962 | AK7: =AVERAGE(AK5:AK6) -> 73324.75 | AM7: =AVERAGE(AM5:AM6) -> 18012.75 | AN7: =AVERAGE(AN5:AN6) -> 3306 | AO7: =AVERAGE(AO5:AO6) -> 1237.75 | AQ7: =AVERAGE(AQ5:AQ6) -> 37113.75 | AR7: =AVERAGE(AR5:AR6) -> 383.25 | AS7: =AVERAGE(AS5:AS6) -> 720.75 | AT7: =AVERAGE(AT5:AT6) -> 972.25 | AU7: =AVERAGE(AU5:AU6) -> 3323.25 | AV7: =AVERAGE(AV5:AV6) -> 16670.75 | AW7: =AVERAGE(AW5:AW6) -> 5827.5 | AX7: =AVERAGE(AX5:AX6) -> 3329.75 | ... BA7: =AVERAGE(BA5:BA6) -> 2831.5
A8: 40939 | B8: =SUM(C8:BA8) -> 1379682 | C8: =49766+463187+122368+640+43565+13996+40541 -> 734063 | E8: =20961 -> 20961 | G8: =3976 -> 3976 | I8: =57488 -> 57488 | J8: =8654 -> 8654 | K8: =19164 -> 19164 | L8: =6430 -> 6430 | M8: =657 -> 657 | N8: =140296 -> 140296 | O8: =14036 -> 14036 | P8: =4440 -> 4440 | Q8: =30886 -> 30886 | S8: =14283+1260 -> 15543 | T8: =5113 -> 5113 | V8: =11268+3754 -> 15022 | W8: =2353 -> 2353 | X8: =1524 -> 1524 | Y8: =9279+1773 -> 11052 | Z8: =3820 -> 3820 | AA8: =7104+147 -> 7251 | AB8: =492+23563 -> 24055 | AC8: =2652 -> 2652 | AD8: =532+512+4700 -> 5744 | AF8: =3402+4893 -> 8295 | AI8: =13088 -> 13088 | AK8: =25180+49480 -> 74660 | AM8: =7941+10281 -> 18222 | AN8: =3283 -> 3283 | AO8: =1179 -> 1179 | AQ8: =37876 -> 37876 | AR8: =379 -> 379 | AS8: =749 -> 749 | AT8: =945 -> 945 | AU8: =3393 -> 3393 | AV8: =17249 -> 17249 | AW8: =5879 -> 5879 | AX8: =3347 -> 3347 | AY8: =50991 -> 50991 | AZ8: =2152 -> 2152 | BA8: =2815 -> 2815
A9: 40968 | B9: =SUM(C9:BA9) -> 1384367 | C9: =49922+464495+122608+635+43812+14091+40679 -> 736242 | E9: =21052 -> 21052 | G9: =4015 -> 4015 | I9: =57499 -> 57499 | J9: =8771 -> 8771 | K9: =19156 -> 19156 | L9: =6482 -> 6482 | M9: =643 -> 643 | N9: =140783 -> 140783 | O9: =14093 -> 14093 | P9: =4468 -> 4468 | Q9: =31029 -> 31029 | S9: =14374+1235 -> 15609 | T9: =5157 -> 5157 | V9: =11323+3780 -> 15103 | W9: =2387 -> 2387 | X9: =1540 -> 1540 | Y9: =9297+1791 -> 11088 | Z9: =3849 -> 3849 | AA9: =7176+135 -> 7311 | AB9: =457+23611 -> 24068 | AC9: =2590 -> 2590 | AD9: =520+495+4713 -> 5728 | AF9: =3430+4932 -> 8362 | AI9: =13251 -> 13251 | AK9: =25388+49658 -> 75046 | AM9: =8012+10287 -> 18299 | AN9: =3297 -> 3297 | AO9: =1222 -> 1222 | AQ9: =38035 -> 38035 | AR9: =386 -> 386 | AS9: =726 -> 726 | AT9: =964 -> 964 | AU9: =3432 -> 3432 | AV9: =17303 -> 17303 | AW9: =5892 -> 5892 | AX9: =3283 -> 3283 | AY9: =51166 -> 51166 | AZ9: =2158 -> 2158 | BA9: =2882 -> 2882
A10: 40999 | B10: =SUM(C10:BA10) -> 1389202 | C10: =50162+466311+122941+638+43972+14162+40811 -> 738997 | E10: =21028 -> 21028 | G10: =3992 -> 3992 | I10: =57517 -> 57517 | J10: =8771 -> 8771 | K10: =19335 -> 19335 | L10: =6546 -> 6546 | M10: =662 -> 662 | N10: =141361 -> 141361 | O10: =14082 -> 14082 | P10: =4501 -> 4501 | Q10: =31014 -> 31014 | S10: =14375+1261 -> 15636 | T10: =5156 -> 5156 | V10: =11341+3824 -> 15165 | W10: =2355 -> 2355 | X10: =1548 -> 1548 | Y10: =9345+1768 -> 11113 | Z10: =3859 -> 3859 | AA10: =7221+137 -> 7358 | AB10: =470+23772 -> 24242 | AC10: =2612 -> 2612 | AD10: =527+464+4688 -> 5679 | AF10: =3430+4993 -> 8423 | AI10: =13262 -> 13262 | AK10: =25496+50019 -> 75515 | AM10: =8036+10283 -> 18319 | AN10: =3239 -> 3239 | AO10: =1297 -> 1297 | AQ10: =38165 -> 38165 | AR10: =399 -> 399 | AS10: =720 -> 720 | AT10: =976 -> 976 | AU10: =3411 -> 3411 | AV10: =17370 -> 17370 | AW10: =5839 -> 5839 | AX10: =3343 -> 3343 | AY10: =51277 -> 51277 | AZ10: =2187 -> 2187 | BA10: =2931 -> 2931
A11: 41029 | B11: =SUM(C11:BA11) -> 1393243 | C11: =50112+467873+123183+637+44052+14234+40723 -> 740814 | E11: =20980 -> 20980 | G11: =4013 -> 4013 | I11: =57701 -> 57701 | J11: =8726 -> 8726 | K11: =19389 -> 19389 | L11: =6525 -> 6525 | M11: =660 -> 660 | N11: =141903 -> 141903 | O11: =14109 -> 14109 | P11: =4521 -> 4521 | Q11: =31051 -> 31051 | S11: =14526+1266 -> 15792 | T11: =5198 -> 5198 | V11: =11315+3837 -> 15152 | W11: =2422 -> 2422 | X11: =1600 -> 1600 | Y11: =9362+1726 -> 11088 | Z11: =3814 -> 3814 | AA11: =7250+125 -> 7375 | AB11: =446+23874 -> 24320 | AC11: =2628 -> 2628 | AD11: =524+511+4718 -> 5753 | AF11: =3423+5060 -> 8483 | AI11: =13325 -> 13325 | AK11: =25602+50322 -> 75924 | AM11: =8045+10304 -> 18349 | AN11: =3211 -> 3211 | AO11: =1272 -> 1272 | AQ11: =38296 -> 38296 | AR11: =404 -> 404 | AS11: =734 -> 734 | AT11: =973 -> 973 | AU11: =3484 -> 3484 | AV11: =17429 -> 17429 | AW11: =5852 -> 5852 | AX11: =3363 -> 3363 | AY11: =51516 -> 51516 | AZ11: =2160 -> 2160 | BA11: =2934 -> 2934
A12: 41060 | B12: =SUM(C12:BA12) -> 1397995 | C12: =50320+468771+123606+635+44351+14341+40767 -> 742791 | E12: =20998 -> 20998 | G12: =4032 -> 4032 | I12: =58016 -> 58016 | J12: =8793 -> 8793 | K12: =19418 -> 19418 | L12: =6520 -> 6520 | M12: =677 -> 677 | N12: =142461 -> 142461 | O12: =14188 -> 14188 | P12: =4534 -> 4534 | Q12: =31255 -> 31255 | S12: =14542+1282 -> 15824 | T12: =5184 -> 5184 | V12: =11314+3858 -> 15172 | W12: =2478 -> 2478 | X12: =1577 -> 1577 | Y12: =9380+1717 -> 11097 | Z12: =3824 -> 3824 | AA12: =7258+145 -> 7403 | AB12: =465+23958 -> 24423 | AC12: =2689 -> 2689 | AD12: =515+516+4728 -> 5759 | AF12: =3429+5073 -> 8502 | AI12: =13375 -> 13375 | AK12: =25623+50687 -> 76310 | AM12: =8085+10382 -> 18467 | AN12: =3267 -> 3267 | AO12: =1274 -> 1274 | AQ12: =38558 -> 38558 | AR12: =413 -> 413 | AS12: =744 -> 744 | AT12: =974 -> 974 | AU12: =3465 -> 3465 | AV12: =17497 -> 17497 | AW12: =5911 -> 5911 | AX12: =3345 -> 3345 | AY12: =51658 -> 51658 | AZ12: =2197 -> 2197 | BA12: =2925 -> 2925
A13: 41090 | B13: =SUM(C13:BA13) -> 1403575 | C13: =50404+470713+124201+647+44523+14398+40869 -> 745755 | E13: =21069 -> 21069 | G13: =4061 -> 4061 | I13: =58218 -> 58218 | J13: =8822 -> 8822 | K13: =19477 -> 19477 | L13: =6514 -> 6514 | M13: =700 -> 700 | N13: =143160 -> 143160 | O13: =14168 -> 14168 | P13: =4547 -> 4547 | Q13: =31282 -> 31282 | S13: =14548+1275 -> 15823 | T13: =5247 -> 5247 | V13: =11426+3874 -> 15300 | W13: =2472 -> 2472 | X13: =1599 -> 1599 | Y13: =9331+1722 -> 11053 | Z13: =3832 -> 3832 | AA13: =7266+166 -> 7432 | AB13: =454+23915 -> 24369 | AC13: =2737 -> 2737 | AD13: =502+522+4819 -> 5843 | AF13: =3441+5195 -> 8636 | AI13: =13450 -> 13450 | AK13: =25715+51031 -> 76746 | AM13: =8144+10402 -> 18546 | AN13: =3248 -> 3248 | AO13: =1322 -> 1322 | AQ13: =38803 -> 38803 | AR13: =422 -> 422 | AS13: =701 -> 701 | AT13: =954 -> 954 | AU13: =3493 -> 3493 | AV13: =17544 -> 17544 | AW13: =5868 -> 5868 | AX13: =3313 -> 3313 | AY13: =51880 -> 51880 | AZ13: =2185 -> 2185 | BA13: =2984 -> 2984
A14: 41121 | B14: =SUM(C14:BA14) -> 1408824 | C14: =50774+472198+124114+644+44575+14535+41290 -> 748130 | E14: =21207 -> 21207 | G14: =4013 -> 4013 | I14: =58313 -> 58313 | J14: =8892 -> 8892 | K14: =19559 -> 19559 | L14: =6546 -> 6546 | M14: =674 -> 674 | N14: =143740 -> 143740 | O14: =14203 -> 14203 | P14: =4546 -> 4546 | Q14: =31342 -> 31342 | S14: =14650+1280 -> 15930 | T14: =5296 -> 5296 | V14: =11455+3870 -> 15325 | W14: =2496 -> 2496 | X14: =1592 -> 1592 | Y14: =9394+1731 -> 11125 | Z14: =3845 -> 3845 | AA14: =163+7268 -> 7431 | AB14: =475+24004 -> 24479 | AC14: =2770 -> 2770 | AD14: =482+517+4869 -> 5868 | AF14: =3454+5209 -> 8663 | AI14: =13471 -> 13471 | AK14: =25845+51605 -> 77450 | AM14: =8180+10406 -> 18586 | AN14: =3277 -> 3277 | AO14: =1350 -> 1350 | AQ14: =38914 -> 38914 | AR14: =434 -> 434 | AS14: =749 -> 749 | AT14: =961 -> 961 | AU14: =3469 -> 3469 | AV14: =17718 -> 17718 | AW14: =5884 -> 5884 | AX14: =3334 -> 3334 | AY14: =52083 -> 52083 | AZ14: =2188 -> 2188 | BA14: 2971
A15: 41152 | B15: =SUM(C15:BA15) -> 1414296 | C15: =51046+473295+124801+672+44696+14612+41717 -> 750839 | E15: =21226 -> 21226 | G15: =4132 -> 4132 | I15: =58562 -> 58562 | J15: =8916 -> 8916 | K15: =19698 -> 19698 | L15: =6563 -> 6563 | M15: =663 -> 663 | N15: =144058 -> 144058 | O15: =14251 -> 14251 | P15: =4590 -> 4590 | Q15: =31477 -> 31477 | S15: =14488+1251 -> 15739 | T15: =5408 -> 5408 | V15: =11521+3868 -> 15389 | W15: =2605 -> 2605 | X15: =1592 -> 1592 | Y15: =9426+1762 -> 11188 | Z15: =3826 -> 3826 | AA15: =136+7282 -> 7418 | AB15: =465+24129 -> 24594 | AC15: =2746 -> 2746 | AD15: =472+501+4916 -> 5889 | AF15: =3523+5291 -> 8814 | AI15: =13511 -> 13511 | AK15: =26005+52034 -> 78039 | AM15: =8228+10369 -> 18597 | AN15: =3283 -> 3283 | AO15: =1312 -> 1312 | AQ15: =39256 -> 39256 | AR15: =440 -> 440 | AS15: =763 -> 763 | AT15: =943 -> 943 | AU15: =3436 -> 3436 | AV15: =17816 -> 17816 | AW15: =5907 -> 5907 | AX15: =3437 -> 3437 | AY15: =52237 -> 52237 | AZ15: =2152 -> 2152 | BA15: =2984 -> 2984
A16: 41182 | B16: =SUM(C16:BA16) -> 1418122 | C16: =51241+474683+124941+621+44785+14763+41986 -> 753020 | E16: =21156 -> 21156 | G16: =4086 -> 4086 | I16: =58863 -> 58863 | J16: =8967 -> 8967 | K16: =19727 -> 19727 | L16: =6571 -> 6571 | M16: =654 -> 654 | N16: =144403 -> 144403 | O16: =14274 -> 14274 | P16: =4586 -> 4586 | Q16: =31437 -> 31437 | S16: =14576+1248 -> 15824 | T16: =5425 -> 5425 | V16: =11537+3902 -> 15439 | W16: =2639 -> 2639 | X16: =1604 -> 1604 | Y16: =9458+1813 -> 11271 | Z16: =3867 -> 3867 | AA16: =165+7379 -> 7544 | AB16: =455+24181 -> 24636 | AC16: =2796 -> 2796 | AD16: =512+489+4891 -> 5892 | AF16: =3524+5255 -> 8779 | AI16: =13600 -> 13600 | AK16: =26024+52378 -> 78402 | AM16: =8217+10447 -> 18664 | AN16: =3262 -> 3262 | AO16: =1315 -> 1315 | AQ16: =39314 -> 39314 | AR16: =451 -> 451 | AS16: =754 -> 754 | AT16: =930 -> 930 | AU16: =3463 -> 3463 | AV16: =17802 -> 17802 | AW16: =5901 -> 5901 | AX16: =3457 -> 3457 | AY16: =52201 -> 52201 | AZ16: =2151 -> 2151 | BA16: =2995 -> 2995
A17: 41213 | B17: =SUM(C17:BA17) -> 1424128 | C17: =50979+477228+125280+686+44877+14855+42237 -> 756142 | E17: =21158 -> 21158 | G17: =4186 -> 4186 | I17: =59071 -> 59071 | J17: =9037 -> 9037 | K17: =19760 -> 19760 | L17: =6580 -> 6580 | M17: =650 -> 650 | N17: =144850 -> 144850 | O17: =14236 -> 14236 | P17: =4577 -> 4577 | Q17: =31629 -> 31629 | S17: =14664+1258 -> 15922 | T17: =5399 -> 5399 | V17: =11707+3853 -> 15560 | W17: =2646 -> 2646 | X17: =1609 -> 1609 | Y17: =9505+1765 -> 11270 | Z17: =3845 -> 3845 | AA17: =167+7378 -> 7545 | AB17: =448+24176 -> 24624 | AC17: =2838 -> 2838 | AD17: =548+507+4916 -> 5971 | AF17: =3571+5288 -> 8859 | AI17: =13632 -> 13632 | AK17: =26203+52884 -> 79087 | AM17: =8208+10406 -> 18614 | AN17: =3289 -> 3289 | AO17: =1320 -> 1320 | AQ17: =39584 -> 39584 | AR17: =448 -> 448 | AS17: =728 -> 728 | AT17: =973 -> 973 | AU17: =3441 -> 3441 | AV17: =17939 -> 17939 | AW17: =5979 -> 5979 | AX17: =3425 -> 3425 | AY17: =52496 -> 52496 | AZ17: =2159 -> 2159 | BA17: =3050 -> 3050
A18: 41243 | B18: =SUM(C18:BA18) -> 1428052 | C18: =51031+477733+125309+728+45127+14891+42439 -> 757258 | E18: =21173 -> 21173 | G18: 4168 | I18: =59125 -> 59125 | J18: =9052 -> 9052 | K18: =19821 -> 19821 | L18: =6576 -> 6576 | M18: 664 | N18: =145610 -> 145610 | O18: =14251 -> 14251 | P18: =4612 -> 4612 | Q18: =31679 -> 31679 | S18: =14593+1267 -> 15860 | T18: =5463 -> 5463 | V18: =11713+3875 -> 15588 | W18: =2701 -> 2701 | X18: =1621 -> 1621 | Y18: =9560+1767 -> 11327 | Z18: =3811 -> 3811 | AA18: =147+7436 -> 7583 | AB18: =460+24297 -> 24757 | AC18: =2881 -> 2881 | AD18: =525+541+4895 -> 5961 | AF18: =3564+5307 -> 8871 | AI18: =13772 -> 13772 | AK18: =26254+53265 -> 79519 | AM18: =8310+10456 -> 18766 | AN18: =3281 -> 3281 | AO18: =1333 -> 1333 | AQ18: =39752 -> 39752 | AR18: =430 -> 430 | AS18: =785 -> 785 | AT18: =956 -> 956 | AU18: =3453 -> 3453 | AV18: =18122 -> 18122 | AW18: =5941 -> 5941 | AX18: =3395 -> 3395 | AY18: =52880 -> 52880 | AZ18: =2187 -> 2187 | BA18: =3067 -> 3067
A19: 41274 | B19: =SUM(C19:BA19) -> 1428826 | C19: =50551+478091+124866+697+45005+14936+42261 -> 756407 | E19: =21057 -> 21057 | G19: =4205 -> 4205 | I19: =59338 -> 59338 | J19: =8976 -> 8976 | K19: =19842 -> 19842 | L19: =6623 -> 6623 | M19: =648 -> 648 | N19: =145486 -> 145486 | O19: =14272 -> 14272 | P19: =4601 -> 4601 | Q19: =31821 -> 31821 | S19: =14657+1242 -> 15899 | T19: =5465 -> 5465 | V19: =11728+3921 -> 15649 | W19: =2673 -> 2673 | X19: =1662 -> 1662 | Y19: =9576+1786 -> 11362 | Z19: =3856 -> 3856 | AA19: =134+7508 -> 7642 | AB19: =469+24340 -> 24809 | AC19: =2877 -> 2877 | AD19: =495+598+4973 -> 6066 | AF19: =3612+5292 -> 8904 | AI19: =13751 -> 13751 | AK19: =26273+53690 -> 79963 | AM19: =8198+10559 -> 18757 | AN19: =3294 -> 3294 | AO19: =1447 -> 1447 | AQ19: =39973 -> 39973 | AR19: =450 -> 450 | AS19: =748 -> 748 | AT19: =968 -> 968 | AU19: =3505 -> 3505 | AV19: =18242 -> 18242 | AW19: =6062 -> 6062 | AX19: =3379 -> 3379 | AY19: =52873 -> 52873 | AZ19: =2177 -> 2177 | BA19: =3097 -> 3097
A20: 41305 | B20: =SUM(C20:BA20) -> 1437313 | C20: =51221+480513+125583+705+45450+15067+42467 -> 761006 | E20: =21130 -> 21130 | G20: =4140 -> 4140 | I20: =59708 -> 59708 | J20: =8979 -> 8979 | K20: =19909 -> 19909 | L20: =6647 -> 6647 | M20: =695 -> 695 | N20: =146701 -> 146701 | O20: =14318 -> 14318 | P20: =4581 -> 4581 | Q20: =31962 -> 31962 | S20: =14686+1255 -> 15941 | T20: =5511 -> 5511 | V20: =11764+3878 -> 15642 | W20: =2684 -> 2684 | X20: =1710 -> 1710 | Y20: =9595+1775 -> 11370 | Z20: =3863 -> 3863 | AA20: =137+7527 -> 7664 | AB20: =454+24478 -> 24932 | AC20: =2865 -> 2865 | AD20: =507+577+4930 -> 6014 | AF20: =3670+5310 -> 8980 | AI20: =13722 -> 13722 | AK20: =26317+54218 -> 80535 | AM20: =8373+10471 -> 18844 | AN20: =3302 -> 3302 | AO20: =1353 -> 1353 | AQ20: =40485 -> 40485 | AR20: =421 -> 421 | AS20: =729 -> 729 | AT20: =987 -> 987 | AU20: =3500 -> 3500 | AV20: =18386 -> 18386 | AW20: =6064 -> 6064 | AX20: =3418 -> 3418 | AY20: =53317 -> 53317 | AZ20: =2168 -> 2168 | BA20: =3130 -> 3130
A21: 41333 | B21: =SUM(C21:BA21) -> 1441539 | C21: =51501+482672+125714+702+45627+15119+42440 -> 763775 | E21: =21100 -> 21100 | G21: =4108 -> 4108 | I21: =59746 -> 59746 | J21: =9034 -> 9034 | K21: =20027 -> 20027 | L21: =6705 -> 6705 | M21: =699 -> 699 | N21: =146855 -> 146855 | O21: =14446 -> 14446 | P21: =4590 -> 4590 | Q21: =32035 -> 32035 | S21: =14661+1264 -> 15925 | T21: =5535 -> 5535 | V21: =11760+3882 -> 15642 | W21: =2629 -> 2629 | X21: =1721 -> 1721 | Y21: =9649+1764 -> 11413 | Z21: =3858 -> 3858 | AA21: =158+7539 -> 7697 | AB21: =434+24518 -> 24952 | AC21: =2895 -> 2895 | AD21: =496+549+5045 -> 6090 | AF21: =3661+5352 -> 9013 | AI21: =13740 -> 13740 | AK21: =26370+54623 -> 80993 | AM21: =8478+10513 -> 18991 | AN21: =3306 -> 3306 | AO21: =1270 -> 1270 | AQ21: =40482 -> 40482 | AR21: =425 -> 425 | AS21: =736 -> 736 | AT21: =971 -> 971 | AU21: =3526 -> 3526 | AV21: =18330 -> 18330 | AW21: =6083 -> 6083 | AX21: =3431 -> 3431 | AY21: =53424 -> 53424 | AZ21: =2177 -> 2177 | BA21: =3164 -> 3164
A22: 41364 | B22: =SUM(C22:BA22) -> 1444939 | C22: =51774+483224+125937+690+46159+15129+42454 -> 765367 | E22: =21051 -> 21051 | G22: =4070 -> 4070 | I22: =59764 -> 59764 | J22: =9078 -> 9078 | K22: =20115 -> 20115 | L22: =6610 -> 6610 | M22: =708 -> 708 | N22: =147278 -> 147278 | O22: =14407 -> 14407 | P22: =4577 -> 4577 | Q22: =32215 -> 32215 | S22: =14623+1271 -> 15894 | T22: =5621 -> 5621 | V22: =11813+3939 -> 15752 | W22: =2673 -> 2673 | X22: =1717 -> 1717 | Y22: =9692+1726 -> 11418 | Z22: =3917 -> 3917 | AA22: =143+7572 -> 7715 | AB22: =421+24548 -> 24969 | AC22: =2917 -> 2917 | AD22: =486+570+5047 -> 6103 | AF22: =3703+5410 -> 9113 | AI22: =13852 -> 13852 | AK22: =26531+54741 -> 81272 | AM22: =8547+10440 -> 18987 | AN22: =3281 -> 3281 | AO22: =1444 -> 1444 | AQ22: =40769 -> 40769 | AR22: =441 -> 441 | AS22: =731 -> 731 | AT22: =969 -> 969 | AU22: =3507 -> 3507 | AV22: =18406 -> 18406 | AW22: =6057 -> 6057 | AX22: =3386 -> 3386 | AY22: =53416 -> 53416 | AZ22: =2179 -> 2179 | BA22: =3193 -> 3193
A23: 41394 | B23: =SUM(C23:BA23) -> 1449335 | C23: =52150+484124+126278+711+46319+15366+42265 -> 767213 | E23: =21154 -> 21154 | G23: =4112 -> 4112 | I23: =59785 -> 59785 | J23: =9011 -> 9011 | K23: =20136 -> 20136 | L23: =6642 -> 6642 | M23: =709 -> 709 | N23: =148125 -> 148125 | O23: =14435 -> 14435 | P23: =4608 -> 4608 | Q23: =32247 -> 32247 | S23: =14732+1292 -> 16024 | T23: =5596 -> 5596 | V23: =11803+3959 -> 15762 | W23: =2735 -> 2735 | X23: =1697 -> 1697 | Y23: =9767+1734 -> 11501 | Z23: =3942 -> 3942 | AA23: =189+7683 -> 7872 | AB23: =397+24572 -> 24969 | AC23: =2874 -> 2874 | AD23: =473+580+5148 -> 6201 | AF23: =3813+5427 -> 9240 | AI23: =13916 -> 13916 | AK23: =26703+54916 -> 81619 | AM23: =8613+10497 -> 19110 | AN23: =3279 -> 3279 | AO23: =1446 -> 1446 | AQ23: =40975 -> 40975 | AR23: =432 -> 432 | AS23: =745 -> 745 | AT23: =964 -> 964 | AU23: =3486 -> 3486 | AV23: =18450 -> 18450 | AW23: =6075 -> 6075 | AX23: =3409 -> 3409 | AY23: =53409 -> 53409 | AZ23: =2190 -> 2190 | BA23: =3240 -> 3240
A24: 41425 | B24: =SUM(C24:BA24) -> 1453970 | C24: =52710+484824+126741+706+46357+15524+42441 -> 769303 | E24: =21135 -> 21135 | G24: =4176 -> 4176 | I24: =60016 -> 60016 | J24: =9075 -> 9075 | K24: =20118 -> 20118 | L24: =6550 -> 6550 | M24: =716 -> 716 | N24: =148537 -> 148537 | O24: =14493 -> 14493 | P24: =4610 -> 4610 | Q24: =32335 -> 32335 | S24: =14767+1285 -> 16052 | T24: =5655 -> 5655 | V24: =11781+4019 -> 15800 | W24: =2739 -> 2739 | X24: =1730 -> 1730 | Y24: =9897+1718 -> 11615 | Z24: =3933 -> 3933 | AA24: =207+7773 -> 7980 | AB24: =412+24710 -> 25122 | AC24: =2902 -> 2902 | AD24: =493+589+5106 -> 6188 | AF24: =3816+5447 -> 9263 | AI24: =14006 -> 14006 | AK24: =26805+55244 -> 82049 | AM24: =8587+10493 -> 19080 | AN24: =3295 -> 3295 | AO24: =1426 -> 1426 | AQ24: =41493 -> 41493 | AR24: =441 -> 441 | AS24: =713 -> 713 | AT24: =942 -> 942 | AU24: =3542 -> 3542 | AV24: =18486 -> 18486 | AW24: =6119 -> 6119 | AX24: =3379 -> 3379 | AY24: =53487 -> 53487 | AZ24: =2178 -> 2178 | BA24: =3291 -> 3291
A25: 41455 | B25: =SUM(C25:BA25) -> 1457687 | C25: =53017+485551+127034+716+46778+15652+42296 -> 771044 | E25: =21206 -> 21206 | G25: =4203 -> 4203 | I25: =60123 -> 60123 | J25: =9045 -> 9045 | K25: =19963 -> 19963 | L25: =6635 -> 6635 | M25: =843 -> 843 | N25: =149370 -> 149370 | O25: =14458 -> 14458 | P25: =4598 -> 4598 | Q25: =32447 -> 32447 | S25: =14764+1277 -> 16041 | T25: =5714 -> 5714 | V25: =11907+4001 -> 15908 | W25: =2774 -> 2774 | X25: =1694 -> 1694 | Y25: =9851+1721 -> 11572 | Z25: =3902 -> 3902 | AA25: =177+7769 -> 7946 | AB25: =410+24753 -> 25163 | AC25: =2930 -> 2930 | AD25: =481+592+5111 -> 6184 | AF25: =3857+5491 -> 9348 | AI25: =14097 -> 14097 | AK25: =26880+55508 -> 82388 | AM25: =8599+10582 -> 19181 | AN25: =3273 -> 3273 | AO25: =1391 -> 1391 | AQ25: =41594 -> 41594 | AR25: =461 -> 461 | AS25: =688 -> 688 | AT25: =970 -> 970 | AU25: =3550 -> 3550 | AV25: =18498 -> 18498 | AW25: =6106 -> 6106 | AX25: =3457 -> 3457 | AY25: =53441 -> 53441 | AZ25: =2218 -> 2218 | BA25: =3263 -> 3263
A26: 41486 | B26: =SUM(C26:BA26) -> 1463952 | C26: =53495+487706+127294+728+47188+15632+42467 -> 774510 | E26: =21198 -> 21198 | G26: =4215 -> 4215 | I26: =60510 -> 60510 | J26: =9171 -> 9171 | K26: =20133 -> 20133 | L26: =6604 -> 6604 | M26: =766 -> 766 | N26: =150002 -> 150002 | O26: =14545 -> 14545 | P26: =4659 -> 4659 | Q26: =32609 -> 32609 | S26: =14786+1283 -> 16069 | T26: =5676 -> 5676 | V26: =11865+3975 -> 15840 | W26: =2868 -> 2868 | X26: =1709 -> 1709 | Y26: =9880+1774 -> 11654 | Z26: =3888 -> 3888 | AA26: =169+7832 -> 8001 | AB26: =423+24838 -> 25261 | AC26: =2929 -> 2929 | AD26: =513+592+5114 -> 6219 | AF26: =3876+5476 -> 9352 | AI26: =14132 -> 14132 | AK26: =27009+55847 -> 82856 | AM26: =8702+10592 -> 19294 | AN26: =3315 -> 3315 | AO26: =1425 -> 1425 | AQ26: =41756 -> 41756 | AR26: =465 -> 465 | AS26: =701 -> 701 | AT26: =1015 -> 1015 | AU26: =3612 -> 3612 | AV26: =18455 -> 18455 | AW26: =6076 -> 6076 | AX26: =3376 -> 3376 | AY26: =53577 -> 53577 | AZ26: =2202 -> 2202 | BA26: =3307 -> 3307
A27: 41517 | B27: =SUM(C27:BA27) -> 1467720 | C27: =53412+488481+127702+755+47312+15743+42834 -> 776239 | E27: =21240 -> 21240 | G27: =4255 -> 4255 | I27: =60493 -> 60493 | J27: =9152 -> 9152 | K27: =20208 -> 20208 | L27: =6533 -> 6533 | M27: =780 -> 780 | N27: =150172 -> 150172 | O27: =14672 -> 14672 | P27: =4681 -> 4681 | Q27: =32650 -> 32650 | S27: =14880+1255 -> 16135 | T27: =5733 -> 5733 | V27: =11983+4008 -> 15991 | W27: =2817 -> 2817 | X27: =1740 -> 1740 | Y27: =9889+1809 -> 11698 | Z27: =3883 -> 3883 | AA27: =189+7885 -> 8074 | AB27: =407+24879 -> 25286 | AC27: =2971 -> 2971 | AD27: =508+625+5101 -> 6234 | AF27: =3923+5554 -> 9477 | AI27: =14187 -> 14187 | AK27: =26976+56298 -> 83274 | AM27: =8671+10670 -> 19341 | AN27: =3347 -> 3347 | AO27: =1413 -> 1413 | AQ27: =41874 -> 41874 | AR27: =465 -> 465 | AS27: =783 -> 783 | AT27: =1003 -> 1003 | AU27: =3635 -> 3635 | AV27: =18525 -> 18525 | AW27: =6029 -> 6029 | AX27: =3515 -> 3515 | AY27: =53671 -> 53671 | AZ27: =2213 -> 2213 | BA27: =3331 -> 3331
A28: 41547 | B28: =SUM(C28:BA28) -> 1470953 | C28: =53683+489164+127978+777+47538+16015+42819 -> 777974 | E28: =21248 -> 21248 | G28: =4191 -> 4191 | I28: =60513 -> 60513 | J28: =9190 -> 9190 | K28: =20351 -> 20351 | L28: =6541 -> 6541 | M28: =776 -> 776 | N28: =150526 -> 150526 | O28: =14671 -> 14671 | P28: =4693 -> 4693 | Q28: =32749 -> 32749 | S28: =14857+1267 -> 16124 | T28: =5713 -> 5713 | V28: =11921+4062 -> 15983 | W28: =2843 -> 2843 | X28: =1756 -> 1756 | Y28: =9928+1789 -> 11717 | Z28: =3926 -> 3926 | AA28: =195+7910 -> 8105 | AB28: =406+24846 -> 25252 | AC28: =2937 -> 2937 | AD28: =516+618+5119 -> 6253 | AF28: =3993+5533 -> 9526 | AI28: =14266 -> 14266 | AK28: =27053+56523 -> 83576 | AM28: =8813+10686 -> 19499 | AN28: =3303 -> 3303 | AO28: =1400 -> 1400 | AQ28: =42020 -> 42020 | AR28: =473 -> 473 | AS28: =755 -> 755 | AT28: =1027 -> 1027 | AU28: =3644 -> 3644 | AV28: =18559 -> 18559 | AW28: =6029 -> 6029 | AX28: =3473 -> 3473 | AY28: =53841 -> 53841 | AZ28: =2205 -> 2205 | BA28: =3325 -> 3325
A29: 41578 | B29: =SUM(C29:BA29) -> 1474887 | C29: =53971+490735+127976+820+48058+15961+42803 -> 780324 | E29: =21115 -> 21115 | G29: =4161 -> 4161 | I29: =60557 -> 60557 | J29: =9203 -> 9203 | K29: =20388 -> 20388 | L29: =6541 -> 6541 | M29: =761 -> 761 | N29: =151185 -> 151185 | O29: =14676 -> 14676 | P29: =4692 -> 4692 | Q29: =32810 -> 32810 | S29: =14925+1256 -> 16181 | T29: 5696 | V29: =12035+4013 -> 16048 | W29: =2835 -> 2835 | X29: =1737 -> 1737 | Y29: =9965+1805 -> 11770 | Z29: 3937 | AA29: =159+7888 -> 8047 | AB29: =393+24583 -> 24976 | AC29: =3050 -> 3050 | AD29: =555+622+5170 -> 6347 | AF29: =4026+5555 -> 9581 | AI29: =14338 -> 14338 | AK29: =27063+56949 -> 84012 | AM29: =8858+10726 -> 19584 | AN29: =3299 -> 3299 | AO29: =1373 -> 1373 | AQ29: =42216 -> 42216 | AR29: =459 -> 459 | AS29: =747 -> 747 | AT29: =1028 -> 1028 | AU29: =3628 -> 3628 | AV29: =18621 -> 18621 | AW29: =5989 -> 5989 | AX29: =3523 -> 3523 | AY29: =53822 -> 53822 | AZ29: =2235 -> 2235 | BA29: =3395 -> 3395
A30: 41608 | B30: =SUM(C30:BA30) -> 1467118 | C30: =54135+491589+128471+844+47826+16096+42505 -> 781466 | E30: =21092 -> 21092 | G30: =4212 -> 4212 | I30: =60559 -> 60559 | J30: =9244 -> 9244 | K30: =20420 -> 20420 | L30: =6528 -> 6528 | M30: =761 -> 761 | N30: =151415 -> 151415 | O30: =14700 -> 14700 | P30: =4738 -> 4738 | Q30: =32827 -> 32827 | S30: =14826+1260 -> 16086 | T30: =5749 -> 5749 | V30: =12074+3974 -> 16048 | W30: =2898 -> 2898 | X30: =1753 -> 1753 | Y30: =9957+1797 -> 11754 | Z30: =3876 -> 3876 | AA30: =125+7897 -> 8022 | AB30: =376+24903 -> 25279 | AC30: =3042 -> 3042 | AD30: =568+637+5186 -> 6391 | AF30: =4026+5535 -> 9561 | AI30: =14392 -> 14392 | AK30: =27146+57168 -> 84314 | AM30: =8730+10712 -> 19442 | AN30: =3327 -> 3327 | AO30: =1400 -> 1400 | AQ30: =42448 -> 42448 | AR30: =467 -> 467 | AS30: =696 -> 696 | AT30: =999 -> 999 | AU30: 3617 | AV30: =18685 -> 18685 | AW30: =6028 -> 6028 | AX30: =3513 -> 3513 | AY30: =43740 -> 43740 | AZ30: =2229 -> 2229 | BA30: =3400 -> 3400
A31: 41639 | B31: =SUM(C31:CAZ31) -> 1478538 | C31: =54205+491802+128026+885+47948+16293+42665 -> 781824 | E31: =21086 -> 21086 | G31: =4218 -> 4218 | I31: =60649 -> 60649 | J31: =9236 -> 9236 | K31: =20393 -> 20393 | L31: =6566 -> 6566 | M31: =766 -> 766 | N31: =151102 -> 151102 | O31: =14743 -> 14743 | P31: =4754 -> 4754 | Q31: =32842 -> 32842 | S31: =14810+1278 -> 16088 | T31: =5806 -> 5806 | V31: =12038+3904 -> 15942 | W31: =2920 -> 2920 | X31: =1751 -> 1751 | Y31: =9959+1838 -> 11797 | Z31: 3879 | AA31: =111+7943 -> 8054 | AB31: =377+24899 -> 25276 | AC31: =3060 -> 3060 | AD31: =582+649+5264 -> 6495 | AF31: =4070+5541 -> 9611 | AI31: =14425 -> 14425 | AK31: =27211+57451 -> 84662 | AM31: =8686+10742 -> 19428 | AN31: =3318 -> 3318 | AO31: =1437 -> 1437 | AQ31: =42693 -> 42693 | AR31: =483 -> 483 | AS31: =711 -> 711 | AT31: =1010 -> 1010 | AU31: =3568 -> 3568 | AV31: =18707 -> 18707 | AW31: =6105 -> 6105 | AX31: =3547 -> 3547 | AY31: =53890 -> 53890 | AZ31: =2233 -> 2233 | BA31: =3463 -> 3463
A32: 41670 | B32: =SUM(C32:BA32) -> 1487443 | C32: =54569+493914+129092+895+48725+16611+43058 -> 786864 | E32: =21156 -> 21156 | G32: =4188 -> 4188 | I32: =61080 -> 61080 | J32: =10148 -> 10148 | K32: =20599 -> 20599 | L32: =6557 -> 6557 | M32: =747 -> 747 | N32: =151635 -> 151635 | O32: =14864 -> 14864 | P32: =4739 -> 4739 | Q32: =32874 -> 32874 | S32: =14915+1259 -> 16174 | T32: =5838 -> 5838 | V32: =12064+3960 -> 16024 | W32: =2949 -> 2949 | X32: =1744 -> 1744 | Y32: =10041+1858 -> 11899 | Z32: =3912 -> 3912 | AA32: =7999 -> 7999 | AB32: =24989+367 -> 25356 | AC32: =3090 -> 3090 | AD32: =5212+686+573 -> 6471 | AF32: =4075+5524 -> 9599 | AI32: =14426 -> 14426 | AK32: =57648+27097 -> 84745 | AM32: =10767+8866 -> 19633 | AN32: =3344 -> 3344 | AO32: =1458 -> 1458 | AQ32: =42951 -> 42951 | AR32: =492 -> 492 | AS32: =710 -> 710 | AT32: =982 -> 982 | AU32: =3721 -> 3721 | AV32: =18925 -> 18925 | AW32: =6124 -> 6124 | AX32: =3587 -> 3587 | AY32: =54136 -> 54136 | AZ32: =2245 -> 2245 | BA32: =3458 -> 3458
A33: 41698 | B33: =SUM(C33:BA33) -> 1477699.7 | C33: =SUM(C30:C32)/3 -> 783384.67 | E33: =SUM(E30:E32)/3 -> 21111.333 | G33: =SUM(G30:G32)/3 -> 4206 | I33: =SUM(I30:I32)/3 -> 60762.667 | J33: =SUM(J30:J32)/3 -> 9542.6667 | K33: =SUM(K30:K32)/3 -> 20470.667 | L33: =SUM(L30:L32)/3 -> 6550.3333 | M33: =SUM(M30:M32)/3 -> 758 | N33: =SUM(N30:N32)/3 -> 151384 | O33: =SUM(O30:O32)/3 -> 14769 | P33: =SUM(P30:P32)/3 -> 4743.6667 | Q33: =SUM(Q30:Q32)/3 -> 32847.667 | S33: =SUM(S30:S32)/3 -> 16116 | T33: =SUM(T30:T32)/3 -> 5797.6667 | V33: =SUM(V30:V32)/3 -> 16004.667 | W33: =SUM(W30:W32)/3 -> 2922.3333 | X33: =SUM(X30:X32)/3 -> 1749.3333 | Y33: =SUM(Y30:Y32)/3 -> 11816.667 | Z33: =SUM(Z30:Z32)/3 -> 3889 | AA33: =SUM(AA30:AA32)/3 -> 8025 | AB33: =SUM(AB30:AB32)/3 -> 25303.667 | AC33: =SUM(AC30:AC32)/3 -> 3064 | AD33: =SUM(AD30:AD32)/3 -> 6452.3333 | AF33: =SUM(AF30:AF32)/3 -> 9590.3333 | AI33: =SUM(AI30:AI32)/3 -> 14414.333 | AK33: =SUM(AK30:AK32)/3 -> 84573.667 | AM33: =SUM(AM30:AM32)/3 -> 19501 | AN33: =SUM(AN30:AN32)/3 -> 3329.6667 | AO33: =SUM(AO30:AO32)/3 -> 1431.6667 | AQ33: =SUM(AQ30:AQ32)/3 -> 42697.333 | AR33: =SUM(AR30:AR32)/3 -> 480.66667 | AS33: =SUM(AS30:AS32)/3 -> 705.66667 | AT33: =SUM(AT30:AT32)/3 -> 997 | AU33: =SUM(AU30:AU32)/3 -> 3635.3333 | AV33: =SUM(AV30:AV32)/3 -> 18772.333 | AW33: =SUM(AW30:AW32)/3 -> 6085.6667 | AX33: =SUM(AX30:AX32)/3 -> 3549 | ... BA33: =SUM(BA30:BA32)/3 -> 3440.3333
A34: 41729 | B34: =SUM(C34:BA34) -> 1492199 | C34: =54894+496114+129073+964+48887+16623+43058 -> 789613 | E34: =21197 -> 21197 | G34: =4154 -> 4154 | I34: =61403 -> 61403 | J34: =10132 -> 10132 | K34: =20762 -> 20762 | L34: =6549 -> 6549 | M34: =747 -> 747 | N34: =151533 -> 151533 | O34: =15003 -> 15003 | P34: =4785 -> 4785 | Q34: =32971 -> 32971 | S34: =1275+15127 -> 16402 | T34: =5893 -> 5893 | V34: =12164+4004 -> 16168 | W34: =3041 -> 3041 | X34: =1801 -> 1801 | Y34: =9988+1856 -> 11844 | Z34: =3583 -> 3583 | AA34: =8003 -> 8003 | AB34: =348+24889 -> 25237 | AC34: =3045 -> 3045 | AD34: =5257+652+580 -> 6489 | AF34: =4213+5625 -> 9838 | AI34: =14514 -> 14514 | AK34: =57781+27327 -> 85108 | AM34: =8782+10132 -> 18914 | AN34: =3351 -> 3351 | AO34: =1497 -> 1497 | AQ34: =43420 -> 43420 | AR34: =462 -> 462 | AS34: =744 -> 744 | AT34: =983 -> 983 | AU34: =3971 -> 3971 | AV34: =18945 -> 18945 | AW34: =6240 -> 6240 | AX34: =3617 -> 3617 | AY34: =54538 -> 54538 | AZ34: =2205 -> 2205 | BA34: =3497 -> 3497

Sheet Passenger Summary
A1: PASSENGER VEHCILES
C2: Ugu District Municipality | I2: uMgungundlovu District Municipality | P2: Uthukela District Municipality | U2: Umzinyathi District Municipality | Y2: Zululand District Municipality | AD2: Umkhanyakude District Municipality | AI2: Uthungulu District Municipality | AO2: iLembe District Municipality | AS2: Sisonke District Municipality | AX2: Amajuba District Municipality | BA2: Total
B3: Ethekwini Metropolitan Municipality (ETH) | C3: Vulamehlo Local Municipality (KZN211) | D3: Umdoni Local Municipality (KZN212) | E3: Umzumbe Local Municipality (KZN213) | F3: UMuziwabantu Local Municipality (KZN214) | G3: Ezingoleni Local Municipality (KZN215) | H3: Hibiscus Coast Local Municipality (KZN216) | I3: uMshwathi Local Municipality (KZN221) | J3: uMngeni Local Municipality (KZN222) | K3: Mpofana Local Municipality (KZN223) | L3: Impendle Local Municipality (KZN224) | M3: The Msunduzi Local Municipality (KZN225) | N3: Mkhambathini Local Municipality (KZN226) | O3: Richmond Local Municipality (KZN227) | P3: Emnambithi/Ladysmith Local Municipality (KZN232) | Q3: Indaka Local Municipality (KZN233) | R3: Umtshezi Local Municipality (KZN234) | S3: Okhahlamba Local Municipality (KZN235) | T3: Imbabazane Local Municipality (KZN236) | U3: Endumeni Local Municipality (KZN241) | V3: Nqutu Local Municipality (KZN242) | W3: Msinga Local Municipality (KZN244) | X3: Umvoti Local Municipality (KZN245) | Y3: eDumbe Local Municipality (KZN261) | Z3: UPhongolo Local Municipality (KZN262) | AA3: Abaqulusi Local Municipality (KZN263) | AB3: Nongoma Local Municipality (KZN265) | AC3: Ulundi Local Municipality (KZN266) | AD3: Umhlabuyalingana Local Municipality (KZN271) | AE3: Jozini Local Municipality (KZN272) | AF3: The Big 5 False Bay Local Municipality (KZN273) | AG3: Hlabisa Local Municipality (KZN274) | AH3: Mtubatuba Local Municipality (KZN275) | AI3: Mfolozi Local Municipality (KZN281, Mbonambi) | AJ3: uMhlathuze Local Municipality (KZN282) | AK3: Ntambanana Local Municipality (KZN283) | AL3: uMlalazi Local Municipality (KZN284) | AM3: Mthonjaneni Local Municipality (KZN285) | AN3: Nkandla Local Municipality (KZN286) | AO3: Mandeni Local Municipality (KZN291) | AP3: KwaDukuza Local Municipality (KZN292) | AQ3: Ndwedwe Local Municipality (KZN293) | AR3: Maphumulo Local Municipality (KZN294) | AS3: Ingwe Local Municipality (KZN431) | AT3: Kwa Sani Local Municipality (KZN432) | AU3: Greater Kokstad Local Municipality (KZN433) | AV3: Ubuhlebezwe Local Municipality (KZN434) | AW3: Umzimkhulu Local Municipality (KZN435) | AX3: Newcastle Local Municipality (KZN252) | AY3: Emadlangeni Local Municipality (KZN253) | AZ3: Dannhauser Local Municipality (KZN254)
A4: 40816 | B4: 516964 | D4: 13166 | F4: 1695 | H4: 34879 | I4: 2953 | J4: 10655 | K4: 2664 | L4: 288 | M4: 92066 | N4: 7050 | O4: 1773 | P4: 18551 | R4: 7844 | S4: 2264 | U4: 7933 | V4: 1193 | W4: 696 | X4: 4880 | Y4: 1479 | Z4: 2861 | AA4: 11910 | AB4: 1338 | AC4: 2662 | AE4: 2906 | AH4: 5857 | AJ4: 42817 | AL4: 9091 | AM4: 1261 | AN4: 735 | AP4: 22596 | AQ4: 190 | AR4: 363 | AS4: 399 | AT4: 1330 | AU4: 7470 | AV4: 2243 | AW4: 1483 | AX4: 32283 | AY4: 1008 | AZ4: 1527 | BA4: =SUM(B4:AZ4) -> 881323
A5: 40847 | B5: 518914 | D5: 13075 | F5: 1714 | H5: 35093 | I5: 2947 | J5: 10714 | K5: 2718 | L5: 282 | M5: 92241 | N5: 7076 | O5: 1784 | P5: 18559 | R5: 7866 | S5: 2240 | U5: 7931 | V5: 1214 | W5: 703 | X5: 4900 | Y5: 1479 | Z5: 2875 | AA5: 11959 | AB5: 1282 | AC5: 2699 | AE5: 2939 | AH5: 5898 | AJ5: 42993 | AL5: 9148 | AM5: 1268 | AN5: 734 | AP5: 22716 | AQ5: 188 | AR5: 352 | AS5: 395 | AT5: 1339 | AU5: 7443 | AV5: 2272 | AW5: 1523 | AX5: 32453 | AY5: 1007 | AZ5: 1539 | BA5: =SUM(B5:AZ5) -> 884472
A6: 40877 | B6: 517939 | D6: 13120.5 | F6: 1704.5 | H6: 34986 | I6: 2950 | J6: 10684.5 | K6: 2691 | L6: 285 | M6: 92153.5 | N6: 7063 | O6: 1778.5 | P6: 18555 | R6: 7855 | S6: 2252 | U6: 7932 | V6: 1203.5 | W6: 699.5 | X6: 4890 | Y6: 1479 | Z6: 2868 | AA6: 11934.5 | AB6: 1310 | AC6: 2680.5 | AE6: 2922.5 | AH6: 5877.5 | AJ6: 42905 | AL6: 9119.5 | AM6: 1264.5 | AN6: 734.5 | AP6: 22656 | AQ6: 189 | AR6: 357.5 | AS6: 397 | AT6: 1334.5 | AU6: 7456.5 | AV6: 2257.5 | AW6: 1503 | AX6: 32368 | AY6: 1007.5 | AZ6: 1533 | BA6: =SUM(B6:AZ6) -> 882897.5
A7: 40908 | B7: 518426.5 | D7: 13097.75 | F7: 1709.25 | H7: 35039.5 | I7: 2948.5 | J7: 10699.25 | K7: 2704.5 | L7: 283.5 | M7: 92197.25 | N7: 7069.5 | O7: 1781.25 | P7: 18557 | R7: 7860.5 | S7: 2246 | U7: 7931.5 | V7: 1208.75 | W7: 701.25 | X7: 4895 | Y7: 1479 | Z7: 2871.5 | AA7: 11946.75 | AB7: 1296 | AC7: 2689.75 | AE7: 2930.75 | AH7: 5887.75 | AJ7: 42949 | AL7: 9133.75 | AM7: 1266.25 | AN7: 734.25 | AP7: 22686 | AQ7: 188.5 | AR7: 354.75 | AS7: 396 | AT7: 1336.75 | AU7: 7449.75 | AV7: 2264.75 | AW7: 1513 | AX7: 32410.5 | AY7: 1007.25 | AZ7: 1536 | BA7: =SUM(B7:AZ7) -> 883684.75
A8: 40939 | B8: 524194 | D8: 13129 | F8: 1689 | H8: 35410 | I8: 2966 | J8: 10856 | K8: 2770 | L8: 276 | M8: 93130 | N8: 7251 | O8: 1821 | P8: 18730 | R8: 7999 | S8: 2258 | U8: 8012 | V8: 1229 | W8: 712 | X8: 4982 | Y8: 1494 | Z8: 2894 | AA8: 12075 | AB8: 1362 | AC8: 2843 | AE8: 3029 | AH8: 5970 | AJ8: 43939 | AL8: 9250 | AM8: 1280 | AN8: 684 | AP8: 23169 | AQ8: 184 | AR8: 371 | AS8: 391 | AT8: 1397 | AU8: 7728 | AV8: 2299 | AW8: 1528 | AX8: 32857 | AY8: 999 | AZ8: 1546 | BA8: =SUM(B8:AZ8) -> 894703
A9: 40968 | B9: 526263 | D9: 13160 | F9: 1718 | H9: 35432 | I9: 3014 | J9: 10902 | K9: 2783 | L9: 272 | M9: 93551 | N9: 7265 | O9: 1816 | P9: 18856 | R9: 8061 | S9: 2291 | U9: 8057 | V9: 1258 | W9: 714 | X9: 5009 | Y9: 1496 | Z9: 2927 | AA9: 12093 | AB9: 1314 | AC9: 2832 | AE9: 3064 | AH9: 6050 | AJ9: 44249 | AL9: 9332 | AM9: 1284 | AN9: 709 | AP9: 23335 | AQ9: 191 | AR9: 357 | AS9: 392 | AT9: 1418 | AU9: 7768 | AV9: 2312 | AW9: 1506 | AX9: 33034 | AY9: 1008 | AZ9: 1564 | BA9: =SUM(B9:AZ9) -> 898657
A10: 40999 | B10: 528237 | D10: 13174 | F10: 1709 | H10: 35459 | I10: 3002 | J10: 10984 | K10: 2819 | L10: 285 | M10: 93977 | N10: 7247 | O10: 1831 | P10: 18805 | R10: 8078 | S10: 2281 | U10: 8099 | V10: 1230 | W10: 711 | X10: 5003 | Y10: 1518 | Z10: 2967 | AA10: 12228 | AB10: 1331 | AC10: 2795 | AE10: 3075 | AH10: 6033 | AJ10: 44538 | AL10: 9351 | AM10: 1250 | AN10: 759 | AP10: 23447 | AQ10: 195 | AR10: 344 | AS10: 407 | AT10: 1400 | AU10: 7809 | AV10: 2287 | AW10: 1520 | AX10: 33164 | AY10: 1027 | AZ10: 1569 | BA10: =SUM(B10:AZ10) -> 901945
A11: 41029 | B11: 529920 | D11: 13120 | F11: 1735 | H11: 35554 | I11: 3007 | J11: 11000 | K11: 2821 | L11: 282 | M11: 94347 | N11: 7259 | O11: 1839 | P11: 18825 | R11: 8132 | S11: 2327 | U11: 8074 | V11: 1267 | W11: 752 | X11: 4990 | Y11: 1486 | Z11: 2954 | AA11: 12301 | AB11: 1346 | AC11: 2861 | AE11: 3107 | AH11: 6054 | AJ11: 44810 | AL11: 9365 | AM11: 1246 | AN11: 729 | AP11: 23556 | AQ11: 199 | AR11: 350 | AS11: 416 | AT11: 1442 | AU11: 7832 | AV11: 2280 | AW11: 1545 | AX11: 33384 | AY11: 1004 | AZ11: 1585 | BA11: =SUM(B11:AZ11) -> 905103
A12: 41060 | B12: 538364 | D12: 13131 | F12: 1744 | H12: 35738 | I12: 3018 | J12: 11033 | K12: 2805 | L12: 291 | M12: 94748 | N12: 7306 | O12: 1871 | P12: 18999 | R12: 8167 | S12: 2278 | U12: 8088 | V12: 1306 | W12: 735 | X12: 5009 | Y12: 1492 | Z12: 2970 | AA12: 12387 | AB12: 1392 | AC12: 2833 | AE12: 3113 | AH12: 6105 | AJ12: 45075 | AL12: 9385 | AM12: 1278 | AN12: 736 | AP12: 23762 | AQ12: 211 | AR12: 360 | AS12: 425 | AT12: 1423 | AU12: 7879 | AV12: 2306 | AW12: 1555 | AX12: 33490 | AY12: 1014 | AZ12: 1576 | BA12: =SUM(B12:AZ12) -> 915398
A13: 41090 | B13: 533587 | D13: 13182 | F13: 1761 | H13: 35862 | I13: 3031 | J13: 11106 | K13: 2809 | L13: 306 | M13: 95245 | N13: 7309 | O13: 1873 | P13: 19054 | R13: 8127 | S13: 2303 | U13: 8148 | V13: 1295 | W13: 754 | X13: 4995 | Y13: 1488 | Z13: 3004 | AA13: 12392 | AB13: 1415 | AC13: 2894 | AE13: 3169 | AH13: 6136 | AJ13: 45403 | AL13: 9401 | AM13: 1265 | AN13: 781 | AP13: 24017 | AQ13: 213 | AR13: 339 | AS13: 414 | AT13: 1418 | AU13: 7926 | AV13: 2295 | AW13: 1532 | AX13: 33681 | AY13: 1013 | AZ13: 1602 | BA13: =SUM(B13:AZ13) -> 912545
A14: 41121 | B14: 535565 | D14: 13308 | F14: 1728 | H14: 35902 | I14: 3031 | J14: 11150 | K14: 2824 | L14: 290 | M14: 95676 | N14: 7301 | O14: 1868 | P14: 19090 | R14: 8192 | S14: 2331 | U14: 8157 | V14: 1287 | W14: 748 | X14: 5059 | Y14: 1493 | Z14: 3012 | AA14: 12479 | AB14: 1420 | AC14: 2930 | AE14: 3172 | AH14: 6152 | AJ14: 45807 | AL14: 9436 | AM14: 1287 | AN14: 791 | AP14: 24148 | AQ14: 222 | AR14: 373 | AS14: 400 | AT14: 1403 | AU14: 8010 | AV14: 2305 | AW14: 1540 | AX14: 33858 | AY14: 1011 | AZ14: 1603 | BA14: =SUM(B14:AZ14) -> 916359
A15: 41152 | B15: 537506 | D15: 13360 | F15: 1793 | H15: 36081 | I15: 3045 | J15: 11220 | K15: 2839 | L15: 289 | M15: 95958 | N15: 7372 | O15: 1884 | P15: 19219 | R15: 8064 | S15: 2387 | U15: 8197 | V15: 1358 | W15: 740 | X15: 5072 | Y15: 1494 | Z15: 3023 | AA15: 12519 | AB15: 1397 | AC15: 2895 | AE15: 3219 | AH15: 6159 | AJ15: 46254 | AL15: 9426 | AM15: 1295 | AN15: 758 | AP15: 24366 | AQ15: 220 | AR15: 375 | AS15: 390 | AT15: 1385 | AU15: 8084 | AV15: 2317 | AW15: 1563 | AX15: 33947 | AY15: 991 | AZ15: 1610 | BA15: =SUM(B15:AZ15) -> 920071
... A32: 41670 | B32: 530871 | D32: 12282 | F32: 1470 | H32: 33544 | I32: 2771 | J32: 10797 | K32: 2587 | L32: 235 | M32: 93287 | N32: 6633 | O32: 1629 | P32: 17820 | R32: 7294 | S32: 1974 | U32: 7747 | V32: 1004 | W32: 797 | X32: 4585 | Y32: 1476 | Z32: 3017 | AA32: 11775 | AB32: 1592 | AC32: 2529 | AE32: 3300 | AH32: 5560 | AJ32: 45927 | AL32: 8607 | AM32: 1148 | AN32: 450 | AP32: 24371 | AQ32: 223 | AR32: 207 | AS32: 274 | AT32: 1281 | AU32: 8286 | AV32: 2073 | AW32: 1252 | AX32: 32228 | AY32: 930 | AZ32: 1684 | BA32: =SUM(B32:AZ32) -> 895517
A33: 41698 | B33: =SUM(B30:B32)/3 -> 552821.67 | D33: =SUM(D30:D32)/3 -> 13043.333 | F33: =SUM(F30:F32)/3 -> 1736.6667 | H33: =SUM(H30:H32)/3 -> 36136.667 | I33: =SUM(I30:I32)/3 -> 3026 | J33: =SUM(J30:J32)/3 -> 11429.667 | K33: =SUM(K30:K32)/3 -> 2777.3333 | L33: =SUM(L30:L32)/3 -> 285 | M33: =SUM(M30:M32)/3 -> 98537.667 | N33: =SUM(N30:N32)/3 -> 7340.6667 | O33: =SUM(O30:O32)/3 -> 1844.3333 | P33: =SUM(P30:P32)/3 -> 19353.667 | R33: =SUM(R30:R32)/3 -> 8012 | S33: =SUM(S30:S32)/3 -> 2341.3333 | U33: =SUM(U30:U32)/3 -> 8299 | V33: =SUM(V30:V32)/3 -> 1347.3333 | W33: =SUM(W30:W32)/3 -> 821.33333 | X33: =SUM(X30:X32)/3 -> 5165 | Y33: =SUM(Y30:Y32)/3 -> 1527 | Z33: =SUM(Z30:Z32)/3 -> 3187 | AA33: =SUM(AA30:AA32)/3 -> 12745 | AB33: =SUM(AB30:AB32)/3 -> 1613 | AC33: =SUM(AC30:AC32)/3 -> 2954 | AE33: =SUM(AE30:AE32)/3 -> 3522 | AH33: =SUM(AH30:AH32)/3 -> 6320.3333 | AJ33: =SUM(AJ30:AJ32)/3 -> 49208.667 | AL33: =SUM(AL30:AL32)/3 -> 9467 | AM33: =SUM(AM30:AM32)/3 -> 1251.6667 | AN33: =SUM(AN30:AN32)/3 -> 695 | AP33: =SUM(AP30:AP32)/3 -> 25917 | AQ33: =SUM(AQ30:AQ32)/3 -> 237 | AR33: =SUM(AR30:AR32)/3 -> 291 | AS33: =SUM(AS30:AS32)/3 -> 397.33333 | AT33: =SUM(AT30:AT32)/3 -> 1416 | AU33: =SUM(AU30:AU32)/3 -> 8588.3333 | AV33: =SUM(AV30:AV32)/3 -> 2328 | AW33: =SUM(AW30:AW32)/3 -> 1490.6667 | ... AZ33: =SUM(AZ30:AZ32)/3 -> 1801.3333 | BA33: =SUM(B32:AZ32) -> 895517
A34: 41729 | B34: 453418 | D34: 13081 | F34: 1476 | H34: 33726 | I34: 2756 | J34: 10945 | K34: 2584 | L34: 234 | M34: 93486 | N34: 6698 | O34: 1655 | P34: 17848 | R34: 7355 | S34: 2014 | U34: 7818 | V34: 1064 | W34: 603 | X34: 4613 | Y34: 1321 | Z34: 2805 | AA34: 10841 | AB34: 863 | AC34: 2538 | AE34: 3115 | AH34: 6496 | AJ34: 46219 | AL34: 8637 | AM34: 1602 | AN34: 584 | AP34: 12932 | AQ34: 208 | AR34: 242 | AS34: 281 | AT34: 1264 | AU34: 8339 | AV34: 2113 | AW34: 1253 | AX34: 32492 | AY34: 909 | AZ34: 1715 | BA34: =SUM(B34:AZ34) -> 808143

Sheet Commercial Summary
A1: COMMERCIAL VEHICLES
C2: Ugu District Municipality | I2: uMgungundlovu District Municipality | P2: Uthukela District Municipality | U2: Umzinyathi District Municipality | Y2: Zululand District Municipality | AD2: Umkhanyakude District Municipality | AI2: Uthungulu District Municipality | AO2: iLembe District Municipality | AS2: Sisonke District Municipality | AX2: Amajuba District Municipality | BA2: Total
B3: Ethekwini Metropolitan Municipality (ETH) | C3: Vulamehlo Local Municipality (KZN211) | D3: Umdoni Local Municipality (KZN212) | E3: Umzumbe Local Municipality (KZN213) | F3: UMuziwabantu Local Municipality (KZN214) | G3: Ezingoleni Local Municipality (KZN215) | H3: Hibiscus Coast Local Municipality (KZN216) | I3: uMshwathi Local Municipality (KZN221) | J3: uMngeni Local Municipality (KZN222) | K3: Mpofana Local Municipality (KZN223) | L3: Impendle Local Municipality (KZN224) | M3: The Msunduzi Local Municipality (KZN225) | N3: Mkhambathini Local Municipality (KZN226) | O3: Richmond Local Municipality (KZN227) | P3: Emnambithi/Ladysmith Local Municipality (KZN232) | Q3: Indaka Local Municipality (KZN233) | R3: Umtshezi Local Municipality (KZN234) | S3: Okhahlamba Local Municipality (KZN235) | T3: Imbabazane Local Municipality (KZN236) | U3: Endumeni Local Municipality (KZN241) | V3: Nqutu Local Municipality (KZN242) | W3: Msinga Local Municipality (KZN244) | X3: Umvoti Local Municipality (KZN245) | Y3: eDumbe Local Municipality (KZN261) | Z3: UPhongolo Local Municipality (KZN262) | AA3: Abaqulusi Local Municipality (KZN263) | AB3: Nongoma Local Municipality (KZN265) | AC3: Ulundi Local Municipality (KZN266) | AD3: Umhlabuyalingana Local Municipality (KZN271) | AE3: Jozini Local Municipality (KZN272) | AF3: The Big 5 False Bay Local Municipality (KZN273) | AG3: Hlabisa Local Municipality (KZN274) | AH3: Mtubatuba Local Municipality (KZN275) | AI3: Mfolozi Local Municipality (KZN281, Mbonambi) | AJ3: uMhlathuze Local Municipality (KZN282) | AK3: Ntambanana Local Municipality (KZN283) | AL3: uMlalazi Local Municipality (KZN284) | AM3: Mthonjaneni Local Municipality (KZN285) | AN3: Nkandla Local Municipality (KZN286) | AO3: Mandeni Local Municipality (KZN291) | AP3: KwaDukuza Local Municipality (KZN292) | AQ3: Ndwedwe Local Municipality (KZN293) | AR3: Maphumulo Local Municipality (KZN294) | AS3: Ingwe Local Municipality (KZN431) | AT3: Kwa Sani Local Municipality (KZN432) | AU3: Greater Kokstad Local Municipality (KZN433) | AV3: Ubuhlebezwe Local Municipality (KZN434) | AW3: Umzimkhulu Local Municipality (KZN435) | AX3: Newcastle Local Municipality (KZN252) | AY3: Emadlangeni Local Municipality (KZN253) | AZ3: Dannhauser Local Municipality (KZN254) | BA3: Total
A4: 40816 | B4: 208564 | D4: 7899 | F4: 2267 | H4: 21800 | I4: 5710 | J4: 8215 | K4: 3622 | L4: 369 | M4: 46632 | N4: 6765 | O4: 2640 | P4: 11996 | R4: 7387 | S4: 2848 | U4: 6796 | V4: 1084 | W4: 789 | X4: 6048 | Y4: 2319 | Z4: 4273 | AA4: 11869 | AB4: 1281 | AC4: 2733 | AE4: 5081 | AH4: 7087 | AJ4: 30297 | AL4: 8846 | AM4: 2027 | AN4: 496 | AP4: 14331 | AQ4: 197 | AR4: 369 | AS4: 580 | AT4: 1982 | AU4: 9197 | AV4: 3565 | AW4: 1798 | AX4: 17912 | AY4: 1146 | AZ4: 1267 | BA4: =SUM(B4:AZ4) -> 480084
A5: 40847 | B5: 209056 | D5: 7751 | F5: 2268 | H5: 21968 | I5: 5717 | J5: 8221 | K5: 3689 | L5: 368 | M5: 46660 | N5: 6780 | O5: 2625 | P5: 11988 | R5: 7454 | S5: 2826 | U5: 6914 | V5: 1103 | W5: 791 | X5: 6059 | Y5: 2309 | Z5: 4346 | AA5: 11902 | AB5: 1259 | AC5: 2769 | AE5: 5093 | AH5: 7070 | AJ5: 30402 | AL5: 8890 | AM5: 2044 | AN5: 506 | AP5: 14460 | AQ5: 194 | AR5: 365 | AS5: 575 | AT5: 1988 | AU5: 9229 | AV5: 3562 | AW5: 1823 | AX5: 17980 | AY5: 1161 | AZ5: 1305 | BA5: =SUM(B5:AZ5) -> 481470
A6: 40877 | B6: ='Commercial Calculation'!B33 -> 208810 | D6: ='Commercial Calculation'!BR26 -> 7825 | F6: 2267.5 | H6: 21884 | I6: 5713.5 | J6: 8218 | K6: 3655.5 | L6: 368.5 | M6: 46646 | N6: 6772.5 | O6: 2632.5 | P6: 11992 | R6: 7420.5 | S6: 2837 | U6: 6855 | V6: 1093.5 | W6: 790 | X6: 6053.5 | Y6: 2314 | Z6: 4309.5 | AA6: 11885.5 | AB6: 1270 | AC6: 2751 | AE6: 5087 | AH6: 7078.5 | AJ6: 30349.5 | AL6: 8868 | AM6: 2035.5 | AN6: 501 | AP6: 14395.5 | AQ6: 195.5 | AR6: 367 | AS6: 577.5 | AT6: 1985 | AU6: 9213 | AV6: 3563.5 | AW6: 1810.5 | AX6: 17946 | AY6: 1153.5 | AZ6: 1286 | BA6: =SUM(B6:AZ6) -> 480777
A7: 40908 | B7: ='Commercial Calculation'!B44 -> 208933 | D7: ='Commercial Calculation'!BR37 -> 7788 | F7: ='Commercial Calculation'!X37 -> 2267.75 | H7: ='Commercial Calculation'!BN37 -> 21926 | I7: ='Commercial Calculation'!CB37 -> 5715.25 | J7: ='Commercial Calculation'!Z37 -> 8219.5 | K7: ='Commercial Calculation'!AT37 -> 3672.25 | L7: ='Commercial Calculation'!AB37 -> 368.25 | M7: ='Commercial Calculation'!BL37 -> 46653 | N7: ='Commercial Calculation'!J37 -> 6776.25 | O7: ='Commercial Calculation'!BP37 -> 2628.75 | P7: ='Commercial Calculation'!AL37 -> 11990 | R7: ='Commercial Calculation'!T39 -> 7437.25 | S7: ='Commercial Calculation'!F37 -> 2831.5 | U7: ='Commercial Calculation'!N39 -> 6884.5 | V7: ='Commercial Calculation'!BH37 -> 1098.25 | W7: ='Commercial Calculation'!BV37 -> 790.5 | X7: ='Commercial Calculation'!V39 -> 6056.25 | Y7: ='Commercial Calculation'!BJ37 -> 2311.5 | Z7: ='Commercial Calculation'!AX39 -> 4327.75 | AA7: ='Commercial Calculation'!AN39 -> 11893.75 | AB7: ='Commercial Calculation'!BF37 -> 1264.5 | AC7: ='Commercial Calculation'!D40 -> 2760 | AE7: ='Commercial Calculation'!AD39 -> 5090 | AH7: ='Commercial Calculation'!AV37 -> 7074.25 | AJ7: ='Commercial Calculation'!P39 -> 30375.75 | AL7: ='Commercial Calculation'!R39 -> 8879 | AM7: ='Commercial Calculation'!AR37 -> 2039.75 | AN7: ='Commercial Calculation'!BD37 -> 503.5 | AP7: ='Commercial Calculation'!BT37 -> 14427.75 | AQ7: ='Commercial Calculation'!AZ37 -> 194.75 | AR7: ='Commercial Calculation'!AP37 -> 366 | AS7: ='Commercial Calculation'!H37 -> 576.25 | AT7: ='Commercial Calculation'!AJ37 -> 1986.5 | AU7: ='Commercial Calculation'!AH37 -> 9221 | AV7: ='Commercial Calculation'!AF37 -> 3562.75 | AW7: ='Commercial Calculation'!BX37 -> 1816.75 | AX7: ='Commercial Calculation'!BB37 -> 17963 | AY7: ='Commercial Calculation'!BZ37 -> 1157.25 | AZ7: ='Commercial Calculation'!L37 -> 1295.5 | BA7: =SUM(B7:AZ7) -> 481123.5
A8: 40939 | B8: 209869 | D8: 7832 | F8: 2287 | H8: 22078 | I8: 5688 | J8: 8308 | K8: 3660 | L8: 381 | M8: 47166 | N8: 6785 | O8: 2619 | P8: 12156 | R8: 7544 | S8: 2855 | U8: 7010 | V8: 1124 | W8: 812 | X8: 6070 | Y8: 2326 | Z8: 4357 | AA8: 11980 | AB8: 1290 | AC8: 2901 | AE8: 5266 | AH8: 7118 | AJ8: 30721 | AL8: 8972 | AM8: 2003 | AN8: 495 | AP8: 14707 | AQ8: 195 | AR8: 378 | AS8: 554 | AT8: 1996 | AU8: 9521 | AV8: 3580 | AW8: 1819 | AX8: 18134 | AY8: 1153 | AZ8: 1269 | BA8: =SUM(B8:AZ8) -> 484979
A9: 40968 | B9: 212979 | D9: 7892 | F9: 2297 | H9: 22067 | I9: 5757 | J9: 8254 | K9: 3699 | L9: 371 | M9: 47232 | N9: 6828 | O9: 2652 | P9: 12173 | R9: 7548 | S9: 2866 | U9: 7046 | V9: 1129 | W9: 826 | X9: 6079 | Y9: 2353 | Z9: 4384 | AA9: 11975 | AB9: 1276 | AC9: 2896 | AE9: 5298 | AH9: 7201 | AJ9: 30797 | AL9: 8967 | AM9: 2013 | AN9: 513 | AP9: 14700 | AQ9: 195 | AR9: 369 | AS9: 572 | AT9: 2014 | AU9: 9535 | AV9: 3580 | AW9: 1777 | AX9: 18132 | AY9: 1150 | AZ9: 1318 | BA9: =SUM(B9:AZ9) -> 488710
A10: 40999 | B10: 210760 | D10: 7854 | F10: 2283 | H10: 22058 | I10: 5769 | J10: 8351 | K10: 3727 | L10: 377 | M10: 47384 | N10: 6835 | O10: 2670 | P10: 12209 | R10: 7558 | S10: 2875 | U10: 7066 | V10: 1125 | W10: 837 | X10: 6110 | Y10: 2341 | Z10: 4391 | AA10: 12014 | AB10: 1281 | AC10: 2884 | AE10: 5348 | AH10: 7229 | AJ10: 30977 | AL10: 8968 | AM10: 1989 | AN10: 538 | AP10: 14718 | AQ10: 204 | AR10: 376 | AS10: 569 | AT10: 2011 | AU10: 9561 | AV10: 3552 | AW10: 1823 | AX10: 18113 | AY10: 1160 | AZ10: 1362 | BA10: =SUM(B10:AZ10) -> 487257
A11: 41029 | B11: 210894 | D11: 7860 | F11: 2278 | H11: 22147 | I11: 5719 | J11: 8389 | K11: 3704 | L11: 378 | M11: 47556 | N11: 6850 | O11: 2682 | P11: 12226 | R11: 7660 | S11: 2871 | U11: 7078 | V11: 1155 | W11: 848 | X11: 6098 | Y11: 2328 | Z11: 4421 | AA11: 12019 | AB11: 1282 | AC11: 2892 | AE11: 5376 | AH11: 7271 | AJ11: 31114 | AL11: 8984 | AM11: 1965 | AN11: 543 | AP11: 14740 | AQ11: 205 | AR11: 384 | AS11: 557 | AT11: 2042 | AU11: 9597 | AV11: 3572 | AW11: 1818 | AX11: 18132 | AY11: 1156 | AZ11: 1349 | BA11: =SUM(B11:AZ11) -> 488140
A12: 41060 | B12: 211427 | D12: 7867 | F12: 2288 | H12: 22278 | I12: 5775 | J12: 8385 | K12: 3715 | L12: 386 | M12: 47713 | N12: 6882 | O12: 2663 | P12: 12256 | R12: 7657 | S12: 2906 | U12: 7084 | V12: 1172 | W12: 842 | X12: 6088 | Y12: 2332 | Z12: 4433 | AA12: 12036 | AB12: 1297 | AC12: 2926 | AE12: 5389 | AH12: 7270 | AJ12: 30213 | AL12: 9082 | AM12: 1989 | AN12: 538 | AP12: 14796 | AQ12: 202 | AR12: 384 | AS12: 549 | AT12: 2042 | AU12: 9618 | AV12: 3605 | AW12: 1790 | AX12: 18168 | AY12: 1183 | AZ12: 1349 | BA12: =SUM(B12:AZ12) -> 488575
A13: 41090 | B13: 212168 | D13: 7887 | F13: 2300 | H13: 22356 | I13: 5791 | J13: 8371 | K13: 3705 | L13: 394 | M13: 47915 | N13: 6859 | O13: 2674 | P13: 12228 | R13: 7696 | S13: 2944 | U13: 7152 | V13: 1177 | W13: 845 | X13: 6058 | Y13: 2344 | Z13: 4428 | AA13: 11977 | AB13: 1322 | AC13: 2949 | AE13: 5467 | AH13: 7314 | AJ13: 31343 | AL13: 9145 | AM13: 1983 | AN13: 541 | AP13: 14786 | AQ13: 209 | AR13: 362 | AS13: 540 | AT13: 2075 | AU13: 9618 | AV13: 3573 | AW13: 1781 | AX13: 18199 | AY13: 1172 | AZ13: 1382 | BA13: =SUM(B13:AZ13) -> 491030
A14: 41121 | B14: 212565 | D14: 7899 | F14: 2285 | H14: 22411 | I14: 5861 | J14: 8409 | K14: 3722 | L14: 384 | M14: 48064 | N14: 6902 | O14: 2678 | P14: 12252 | R14: 7738 | S14: 2965 | U14: 7168 | V14: 1209 | W14: 844 | X14: 6066 | Y14: 2352 | Z14: 4419 | AA14: 12000 | AB14: 1350 | AC14: 2938 | AE14: 5491 | AH14: 7319 | AJ14: 31643 | AL14: 9150 | AM14: 1990 | AN14: 559 | AP14: 14766 | AQ14: 212 | AR14: 376 | AS14: 561 | AT14: 2066 | AU14: 9708 | AV14: 3579 | AW14: 1794 | AX14: 18225 | AY14: 1177 | AZ14: 1368 | BA14: =SUM(B14:AZ14) -> 492465
A15: 41152 | B15: 213333 | D15: 7866 | F15: 2339 | H15: 22481 | I15: 5871 | J15: 8478 | K15: 3724 | L15: 374 | M15: 48100 | N15: 6879 | O15: 2706 | P15: 12258 | R15: 7675 | S15: 3021 | U15: 7192 | V15: 1247 | W15: 852 | X15: 6116 | Y15: 2332 | Z15: 4395 | AA15: 12075 | AB15: 1349 | AC15: 2994 | AE15: 5595 | AH15: 7352 | AJ15: 31785 | AL15: 9171 | AM15: 1988 | AN15: 554 | AP15: 14890 | AQ15: 220 | AR15: 388 | AS15: 553 | AT15: 2051 | AU15: 9732 | AV15: 3590 | AW15: 1874 | AX15: 18290 | AY15: 1161 | AZ15: 1374 | BA15: =SUM(B15:AZ15) -> 494225
A16: 41182 | B16: 213565 | D16: 7803 | F16: 2321 | H16: 22696 | I16: 5908 | J16: 8492 | K16: 3733 | L16: 376 | M16: 48140 | N16: 6890 | O16: 2692 | P16: 12247 | R16: 7703 | S16: 3043 | U16: 7214 | V16: 1260 | W16: 851 | X16: 6145 | Y16: 2352 | Z16: 4483 | AA16: 12095 | AB16: 1355 | AC16: 2992 | AE16: 5550 | AH16: 7386 | AJ16: 31912 | AL16: 9186 | AM16: 1968 | AN16: 550 | AP16: 14888 | AQ16: 220 | AR16: 381 | AS16: 546 | AT16: 2058 | AU16: 9756 | AV16: 3595 | AW16: 1894 | AX16: 18187 | AY16: 1160 | AZ16: 1383 | BA16: =SUM(B16:AZ16) -> 494976
A17: 41213 | B17: 214134 | D17: 7827 | F17: 2373 | H17: 22742 | I17: 5935 | J17: 8508 | K17: 3753 | L17: 375 | M17: 48328 | N17: 6861 | O17: 2702 | P17: 12315 | R17: 7726 | S17: 3036 | U17: 7232 | V17: 1261 | W17: 854 | X17: 6149 | Y17: 2352 | Z17: 4478 | AA17: 12092 | AB17: 1365 | AC17: 3063 | AE17: 5588 | AH17: 7402 | AJ17: 32127 | AL17: 9189 | AM17: 1984 | AN17: 541 | AP17: 15034 | AQ17: 222 | AR17: 371 | AS17: 557 | AT17: 2044 | AU17: 9808 | AV17: 3640 | AW17: 1878 | AX17: 18183 | AY17: 1168 | AZ17: 1389 | BA17: =SUM(B17:AZ17) -> 496586
A18: 41243 | B18: 214088 | D18: 7833 | F18: 2365 | H18: 22750 | I18: 5950 | J18: 8528 | K18: 3753 | L18: 387 | M18: 48542 | N18: 6889 | O18: 2721 | P18: 12357 | R18: 7694 | S18: 3080 | U18: 7259 | V18: 1257 | W18: 863 | X18: 6171 | Y18: 2332 | Z18: 4514 | AA18: 12153 | AB18: 1368 | AC18: 3048 | AE18: 5582 | AH18: 7442 | AJ18: 32182 | AL18: 9225 | AM18: 1998 | AN18: 554 | AP18: 15059 | AQ18: 215 | AR18: 391 | AS18: 557 | AT18: 2042 | AU18: 9899 | AV18: 3630 | AW18: 1848 | AX18: 18282 | AY18: 1182 | AZ18: 1414 | BA18: =SUM(B18:AZ18) -> 497404
A19: 41274 | B19: 213681 | D19: 7794 | F19: 2388 | H19: 22806 | I19: 5924 | J19: 8544 | K19: 3763 | L19: 386 | M19: 48542 | N19: 6911 | O19: 2716 | P19: 12416 | R19: 7735 | S19: 3080 | U19: 7323 | V19: 1262 | W19: 872 | X19: 6168 | Y19: 2337 | Z19: 4545 | AA19: 12142 | AB19: 1380 | AC19: 3097 | AE19: 5596 | AH19: 7415 | AJ19: 32352 | AL19: 9203 | AM19: 2012 | AN19: 580 | AP19: 15111 | AQ19: 227 | AR19: 396 | AS19: 562 | AT19: 2068 | AU19: 9895 | AV19: 3682 | AW19: 1841 | AX19: 18283 | AY19: 1170 | AZ19: 1426 | BA19: =SUM(B19:AZ19) -> 497631
