Workbook

Sheet Introduction
B1: Annual GOS and GOS-R
B3: Quarterly GOS and GOS-R
B5: Year-on-Year Growth Rates per Sector
B7: Annualised Quarterly Rates per Sector
B9: Yearly Provincial Contribution Rates per Sector
B11: Yearly Provincial Sector as a % of National Sector GOS
B13: Ethekwini Municipal Area GOS
B15: Msunduzi Municipal Area GOS
B17: Mthlatuze Municipal Area GOS
D18: Model Assumptions
B19: Hibiscus Coast Municipal GOS
D20: Stable structural relationship between SA and KZN economy
B21: Newcastle Municipal GOS
D22: Stable relationship between GDP and Fuel Consumption
B23: Comparitive Growth Rates
D24: Fuel Consumption per R1 GDP are location insensitive
B25: Comparitive Contribution Rates

Sheet Annual
A1: Annual Gross Operating Surplus
A3: SA – Annual Gross Operating Surplus
A4: Rand million
A5: National Industry | B5: 1995 | C5: 1996 | D5: 1997 | E5: 1998 | F5: 1999 | G5: 2000 | H5: 2001 | I5: 2002 | J5: 2003 | K5: 2004 | L5: 2005 | M5: 2006 | N5: 2007 | O5: 2008 | P5: 2009 | Q5: 2010 | R5: 2011 | S5: 2012 | T5: 2013
A6: Primary Industries | B6: =SUM(B7:B8) -> 29288.74 | C6: =SUM(C7:C8) -> 35611.5 | D6: =SUM(D7:D8) -> 36198.95 | E6: =SUM(E7:E8) -> 39502.9 | F6: =SUM(F7:F8) -> 43520.8 | G6: =SUM(G7:G8) -> 53175.2 | H6: =SUM(H7:H8) -> 68542.4 | I6: =SUM(I7:I8) -> 87904.6 | ... T6: =SUM(T7:T8) -> 216975.83
A7: Agriculture, forestry and fishing | B7: 12910.72 | C7: 16812.88 | D7: 17735.19 | E7: 17119.7 | F7: 17367.4 | G7: 18042 | H7: 22610.2 | I7: 29630.1 | J7: 26189.4 | K7: 26577.5 | L7: 25259 | M7: 32511 | N7: 39181.5 | O7: 44007.14 | P7: 45675.76 | Q7: 44048.56 | R7: 45236.422 | S7: 49525.65 | T7: 49109.831
A8: Mining and quarrying | B8: 16378.02 | C8: 18798.62 | D8: 18463.76 | E8: 22383.2 | F8: 26153.4 | G8: 35133.2 | H8: 45932.2 | I8: 58274.5 | J8: 50576.6 | K8: 53293.8 | L8: 65114.6 | M8: 83970.1 | N8: 99954.34 | O8: 128088 | P8: 123002.43 | Q8: 145619.31 | R8: 181616.49 | S8: 167541.05 | T8: 167866
A9: Secondary Industries | B9: =SUM(B10:B12) -> 67025.514 | C9: =SUM(C10:C12) -> 72880.711 | D9: =SUM(D10:D12) -> 81881.548 | E9: =SUM(E10:E12) -> 80029.295 | F9: =SUM(F10:F12) -> 82519.9 | G9: =SUM(G10:G12) -> 99052.658 | H9: =SUM(H10:H12) -> 112354.3 | I9: =SUM(I10:I12) -> 131779.38 | ... T9: =SUM(T10:T12) -> 217128.79
A10: Manufacturing | B10: 49695.27 | C10: 54160.04 | D10: 61071.07 | E10: 58746.996 | F10: 61353 | G10: 76113.66 | H10: 88179.4 | I10: 104776.5 | J10: 118710.1 | K10: 131414.6 | L10: 138358.4 | M10: 140874.3 | N10: 151829.27 | O10: 166789.73 | P10: 148106.88 | Q10: 143218.3 | R10: 120128.91 | S10: 104320.2 | T10: 92580.711
A11: Electricity, gas and water | B11: 12465.15 | C11: 12503.81 | D11: 13266.03 | E11: 13736.9 | F11: 13440 | G11: 14622 | H11: 14814.9 | I11: 16622.1 | J11: 18829.3 | K11: 18975 | L11: 20719 | M11: 23287 | N11: 26597 | O11: 28162 | P11: 40684 | Q11: 41435.82 | R11: 49152.221 | S11: 57931.452 | T11: 63183.081
A12: Construction | B12: 4865.0938 | C12: 6216.8611 | D12: 7544.4479 | E12: 7545.399 | F12: 7726.9 | G12: 8316.998 | H12: 9360 | I12: 10380.78 | J12: 11358.8 | K12: 14998.5 | L12: 19102.9 | M12: 24274.4 | N12: 27077.49 | O12: 37380.52 | P12: 47243.02 | Q12: 50412.96 | R12: 53818.8 | S12: 56637.82 | T12: 61365
A13: Tertiary industries | B13: =SUM(B14:B18) -> 129361.8 | C13: =SUM(C14:C18) -> 148861.53 | D13: =SUM(D14:D18) -> 169009.82 | E13: =SUM(E14:E18) -> 182799.8 | F13: =SUM(F14:F18) -> 208416 | G13: =SUM(G14:G18) -> 243688.45 | H13: =SUM(H14:H18) -> 272322.9 | I13: =SUM(I14:I18) -> 317147.2 | ... T13: =SUM(T14:T18) -> 1019375.8
A14: Wholesale & retail trade; hotels & restaurants | B14: 36425.373 | C14: 41046.48 | D14: 43726.38 | E14: 44879.9 | F14: 48733.1 | G14: 61187.35 | H14: 68374 | I14: 76234.4 | J14: 84656.8 | K14: 93654.4 | L14: 104162.8 | M14: 115025.7 | N14: 130224.8 | O14: 150714.09 | P14: 169843.02 | Q14: 217341.63 | R14: 244240.46 | S14: 280750.47 | T14: 315814.74
A15: Transport , storage and communication | B15: 22262.67 | C15: 26492.46 | D15: 30338.69 | E15: 33884.1 | F15: 38979.3 | G15: 47245.7 | H15: 53276.9 | I15: 63332.6 | J15: 70857.9 | K15: 78745.2 | L15: 88957 | M15: 99715 | N15: 106488.1 | O15: 128396.11 | P15: 134898.25 | Q15: 149801.34 | R15: 164349.9 | S15: 169840.04 | T15: 175060.52
A16: Finance, real estate and business services | B16: 54025.59 | C16: 62446.52 | D16: 73799.08 | E16: 79841.8 | F16: 93114.6 | G16: 102965.6 | H16: 115041 | I16: 134816.9 | J16: 147555.9 | K16: 164340.1 | L16: 182569.4 | M16: 210642.2 | N16: 255728.41 | O16: 270957.03 | P16: 293501.65 | Q16: 314193.96 | R16: 332777.54 | S16: 363610.6 | T16: 402514
A17: Personal services | B17: 7837.87 | C17: 8953.57 | D17: 9817.375 | E17: 11226 | F17: 12880 | G17: 15578.8 | H17: 17010 | I17: 21220.5 | J17: 24359.6 | K17: 27370.5 | L17: 31008.996 | M17: 34340.6 | N17: 38033.43 | O17: 40668.09 | P17: 49652.34 | Q17: 57459.31 | R17: 58426.77 | S17: 63589.05 | T17: 66667.485
A18: General government services | B18: 8810.3 | C18: 9922.5 | D18: 11328.3 | E18: 12968 | F18: 14709 | G18: 16711 | H18: 18621 | I18: 21542.8 | J18: 23067.4 | K18: 24276.3 | L18: 26796 | M18: 30126 | N18: 34582 | O18: 40716 | P18: 44073 | Q18: 46820 | R18: 50689 | S18: 54913 | T18: 59319
A19: Annual Gross Operating Surplus | B19: =B13+B9+B6 -> 225676.06 | C19: =C13+C9+C6 -> 257353.74 | D19: =D13+D9+D6 -> 287090.32 | E19: =E13+E9+E6 -> 302331.99 | F19: =F13+F9+F6 -> 334456.7 | G19: =G13+G9+G6 -> 395916.31 | H19: =H13+H9+H6 -> 453219.6 | I19: =I13+I9+I6 -> 536831.18 | ... T19: =T13+T9+T6 -> 1453480.4
A20: 0 | B20: 0 | C20: 0 | D20: 0 | E20: 0 | F20: 0 | G20: 0 | H20: 0 | I20: 0 | J20: 0 | K20: 0 | L20: 0 | M20: 0 | N20: 0 | O20: 0 | P20: 0 | Q20: 0 | R20: 0 | S20: 0 | T20: 0
A21: SA - Annual Gross Operating Surplus | B21: =B19+B20 -> 225676.06 | C21: =C19+C20 -> 257353.74 | D21: =D19+D20 -> 287090.32 | E21: =E19+E20 -> 302331.99 | F21: =F19+F20 -> 334456.7 | G21: =G19+G20 -> 395916.31 | H21: =H19+H20 -> 453219.6 | I21: =I19+I20 -> 536831.18 | ... T21: =T19+T20 -> 1453480.4
A23: KZN – Annual Gross Operating Surplus
A24: Rand million
A25: Provincial Industry | B25: 1995 | C25: 1996 | D25: 1997 | E25: 1998 | F25: 1999 | G25: 2000 | H25: 2001 | I25: 2002 | J25: 2003 | K25: 2004 | L25: 2005 | M25: 2006 | N25: 2007 | O25: 2008 | P25: 2009 | Q25: 2010 | R25: =R5 -> 2011 | S25: =S5 -> 2012 | T25: =T5 -> 2013
A26: Primary Industries | B26: =B27+B28 -> 4746.2292 | C26: =C27+C28 -> 6077.61 | D26: =D27+D28 -> 6255.8274 | E26: =E27+E28 -> 6624.2777 | F26: =F27+F28 -> 6065.0073 | G26: =G27+G28 -> 6583.6936 | H26: =H27+H28 -> 8426.0274 | I26: =I27+I28 -> 10535.785 | ... T26: =T27+T28 -> 18656.994
A27: Agriculture, forestry and fishing | B27: =B7*B46/100 -> 4030.712 | C27: =C7*C46/100 -> 4924.4316 | D27: =D7*D46/100 -> 5129.8205 | E27: =E7*E46/100 -> 5276.3417 | F27: =F7*F46/100 -> 4907.6438 | G27: =G7*G46/100 -> 5052.2122 | H27: =H7*H46/100 -> 6524.2408 | I27: =I7*I46/100 -> 8401.6243 | ... T27: =T7*T46/100 -> 13139.977
A28: Mining and quarrying | B28: =B8*B47/100 -> 715.51726 | C28: =C8*C47/100 -> 1153.1783 | D28: =D8*D47/100 -> 1126.0069 | E28: =E8*E47/100 -> 1347.9359 | F28: =F8*F47/100 -> 1157.3634 | G28: =G8*G47/100 -> 1531.4813 | H28: =H8*H47/100 -> 1901.7866 | I28: =I8*I47/100 -> 2134.1609 | ... T28: =T8*T47/100 -> 5517.017
A29: Secondary Industries | B29: =B30+B31+B32 -> 13443.239 | C29: =C30+C31+C32 -> 14630.903 | D29: =D30+D31+D32 -> 16457.831 | E29: =E30+E31+E32 -> 15949.667 | F29: =F30+F31+F32 -> 16558.243 | G29: =G30+G31+G32 -> 20100.184 | H29: =H30+H31+H32 -> 23328.445 | I29: =I30+I31+I32 -> 27008.441 | ... T29: =T30+T31+T32 -> 38628.579
A30: Manufacturing | B30: =B10*B49/100 -> 10398.258 | C30: =C10*C49/100 -> 11371.359 | D30: =D10*D49/100 -> 12816.268 | E30: =E10*E49/100 -> 12297.639 | F30: =F10*F49/100 -> 12971.236 | G30: =G10*G49/100 -> 16164.865 | H30: =H10*H49/100 -> 18686.737 | I30: =I10*I49/100 -> 22168.441 | ... T30: =T10*T49/100 -> 19513.708
A31: Electricity, gas and water | B31: =B11*B50/100 -> 2168.2411 | C31: =C11*C50/100 -> 2180.3455 | D31: =D11*D50/100 -> 2303.0859 | E31: =E11*E50/100 -> 2389.6288 | F31: =F11*F50/100 -> 2351.1098 | G31: =G11*G50/100 -> 2626.5455 | H31: =H11*H50/100 -> 2759.1474 | I31: =I11*I50/100 -> 3281.2803 | ... T31: =T11*T50/100 -> 10261.586
A32: Construction | B32: =B12*B51/100 -> 876.73982 | C32: =C12*C51/100 -> 1079.1985 | D32: =D12*D51/100 -> 1338.4775 | E32: =E12*E51/100 -> 1262.3994 | F32: =F12*F51/100 -> 1235.8973 | G32: =G12*G51/100 -> 1308.7732 | H32: =H12*H51/100 -> 1882.5604 | I32: =I12*I51/100 -> 1558.7197 | ... T32: =T12*T51/100 -> 8853.2853
A33: Tertiary industries | B33: =SUM(B34:B38) -> 21127.859 | C33: =SUM(C34:C38) -> 24214.06 | D33: =SUM(D34:D38) -> 27229.767 | E33: =SUM(E34:E38) -> 29465.009 | F33: =SUM(F34:F38) -> 33469.63 | G33: =SUM(G34:G38) -> 38927.004 | H33: =SUM(H34:H38) -> 43675.257 | I33: =SUM(I34:I38) -> 50733.536 | ... T33: =SUM(T34:T38) -> 166862.39
A34: Wholesale & retail trade; hotels & restaurants | B34: =B14*B53/100 -> 5908.7922 | C34: =C14*C53/100 -> 6565.118 | D34: =D14*D53/100 -> 7004.4939 | E34: =E14*E53/100 -> 7159.5347 | F34: =F14*F53/100 -> 7741.9578 | G34: =G14*G53/100 -> 9733.466 | H34: =H14*H53/100 -> 11507.727 | I34: =I14*I53/100 -> 12849.436 | ... T34: =T14*T53/100 -> 53979.614
A35: Transport , storage and communication | B35: =B15*B54/100 -> 5186.9607 | C35: =C15*C54/100 -> 6077.4662 | D35: =D15*D54/100 -> 6827.8461 | E35: =E15*E54/100 -> 7555.5437 | F35: =F15*F54/100 -> 8555.4834 | G35: =G15*G54/100 -> 10193.144 | H35: =H15*H54/100 -> 11322.195 | I35: =I15*I54/100 -> 13503.045 | ... T35: =T15*T54/100 -> 38279.471
A36: Finance, real estate and business services | B36: =B16*B55/100 -> 7543.9551 | C36: =C16*C55/100 -> 8724.7312 | D36: =D16*D55/100 -> 10264.937 | E36: =E16*E55/100 -> 11118.986 | F36: =F16*F55/100 -> 13087.156 | G36: =G16*G55/100 -> 14193.028 | H36: =H16*H55/100 -> 15495.797 | I36: =I16*I55/100 -> 17950.845 | ... T36: =T16*T55/100 -> 55574.722
A37: Personal services | B37: =B17*B56/100 -> 1284.872 | C37: =C17*C56/100 -> 1466.9291 | D37: =D17*D56/100 -> 1607.3373 | E37: =E17*E56/100 -> 1838.1226 | F37: =F17*F56/100 -> 2105.4258 | G37: =G17*G56/100 -> 2543.8945 | H37: =H17*H56/100 -> 2779.8557 | I37: =I17*I56/100 -> 3466.1858 | ... T37: =T17*T56/100 -> 10753.836
A38: General government services | B38: =B18*B57/100 -> 1203.2789 | C38: =C18*C57/100 -> 1379.8156 | D38: =D18*D57/100 -> 1525.1532 | E38: =E18*E57/100 -> 1792.8213 | F38: =F18*F57/100 -> 1979.6066 | G38: =G18*G57/100 -> 2263.4711 | H38: =H18*H57/100 -> 2569.6818 | I38: =I18*I57/100 -> 2964.0235 | ... T38: =T18*T57/100 -> 8274.7459
A39: =A21 -> SA - Annual Gross Operating Surplus | B39: =B33+B29+B26 -> 39317.327 | C39: =C33+C29+C26 -> 44922.573 | D39: =D33+D29+D26 -> 49943.426 | E39: =E33+E29+E26 -> 52038.953 | F39: =F33+F29+F26 -> 56092.88 | G39: =G33+G29+G26 -> 65610.882 | H39: =H33+H29+H26 -> 75429.729 | I39: =I33+I29+I26 -> 88277.762 | ... T39: =T33+T29+T26 -> 224147.96
A40: Taxes less subsidies on products | B40: 0 | C40: 0 | D40: 0 | E40: 0 | F40: 0 | G40: 0 | H40: 0 | I40: 0 | J40: 0 | K40: 0 | L40: 0 | M40: 0 | N40: 0 | O40: 0 | P40: 1 | Q40: 2 | R40: 3 | S40: 4 | T40: 4
A41: KZN - Annual Gross Operating Surplus | B41: =B40+B39 -> 39317.327 | C41: =C40+C39 -> 44922.573 | D41: =D40+D39 -> 49943.426 | E41: =E40+E39 -> 52038.953 | F41: =F40+F39 -> 56092.88 | G41: =G40+G39 -> 65610.882 | H41: =H40+H39 -> 75429.729 | I41: =I40+I39 -> 88277.762 | ... T41: =T40+T39 -> 224151.96
A43: Structure Relationship
...

Sheet Quarterly
A1: Quarterly Gross Operating Surplus
A3: =Annual!A3 -> SA – Annual Gross Operating Surplus
A4: Rand million
A5: National Industry | B5: 1995q1 | C5: 1995q2 | D5: 1995q3 | E5: 1995q4 | F5: 1996q1 | G5: 1996q2 | H5: 1996q3 | I5: 1996q4 | J5: 1997q1 | K5: 1997q2 | L5: 1997q3 | M5: 1997q4 | N5: 1998q1 | O5: 1998q2 | P5: 1998q3 | Q5: 1998q4 | R5: 1999q1 | S5: 1999q2 | T5: 1999q3 | U5: 1999q4 | V5: 2000q1 | W5: 2000q2 | X5: 2000q3 | Y5: 2000q4 | Z5: 2001q1 | AA5: 2001q2 | AB5: 2001q3 | AC5: 2001q4 | AD5: 2002q1 | AE5: 2002q2 | AF5: 2002q3 | AG5: 2002q4 | AH5: 2003q1 | AI5: 2003q2 | AJ5: 2003q3 | AK5: 2003q4 | AL5: 2004q1 | AM5: 2004q2 | AN5: 2004q3 | AO5: 2004q4 | AP5: 2005q1 | AQ5: 2005q2 | AR5: 2005q3 | AS5: 2005q4 | AT5: 2006q1 | AU5: 2006q2 | AV5: 2006q3 | AW5: 2006q4 | AX5: 2007q1 | AY5: 2007q2 | AZ5: 2007q3 | BA5: 2007q4 | BB5: 2008q1 | BC5: 2008q2 | BD5: 2008q3 | BE5: 2008q4 | BF5: 2009q1 | BG5: 2009q2 | BH5: 2009q3 | BI5: 2009q4 | BJ5: 2010q1 | BK5: 2010q2 | BL5: 2010q3 | BM5: 2010q4 | BN5: 2011q1 | BO5: 2011q2 | BP5: 2011q3 | BQ5: 2011q4 | BR5: 2012q1 | BS5: 2012q2 | BT5: 2012q3 | BU5: 2012q4 | BV5: 2013q1 | BW5: 2013q2 | BX5: 2013q3 | BY5: 2013q4 | BZ5: 2014q1
A6: Primary Industries | B6: =SUM(B7:B8) -> 5906.67 | C6: =SUM(C7:C8) -> 8354.61 | D6: =SUM(D7:D8) -> 8581.4 | E6: =SUM(E7:E8) -> 6446.06 | F6: =SUM(F7:F8) -> 6386.1 | G6: =SUM(G7:G8) -> 12184 | H6: =SUM(H7:H8) -> 9803.15 | I6: =SUM(I7:I8) -> 7238.25 | ... BZ6: =SUM(BZ7:BZ8) -> 50082.791
A7: Agriculture, forestry and fishing | B7: 2291.64 | C7: 3858.82 | D7: 3908.2 | E7: 2852.06 | F7: 2398.25 | G7: 6903.15 | H7: 4466.23 | I7: 3045.25 | J7: 3111.41 | K7: 7395.58 | L7: 4469.12 | M7: 2759.08 | N7: 3514 | O7: 7147.9 | P7: 4527.8 | Q7: 1930 | R7: 3008.1 | S7: 7764.1 | T7: 4848.1 | U7: 1747.1 | V7: 2779.27 | W7: 6570.25 | X7: 6415.35 | Y7: 2277.13 | Z7: 3352.35 | AA7: 9265.35 | AB7: 6493.25 | AC7: 3499.25 | AD7: 4032.8 | AE7: 13064 | AF7: 8796 | AG7: 3737.3 | AH7: 3823.2 | AI7: 11965 | AJ7: 7929 | AK7: 2472.2 | AL7: 3747.9 | AM7: 10778.9 | AN7: 9442.9 | AO7: 2607.8 | AP7: 4937 | AQ7: 8400 | AR7: 8507.85 | AS7: 3414.15 | AT7: 5262 | AU7: 9985 | AV7: 11829 | AW7: 5435 | AX7: 7581.8 | AY7: 14984.9 | AZ7: 11481.9 | BA7: 5132.9 | BB7: 7531.791 | BC7: 17768.716 | BD7: 14094.127 | BE7: 4612.366 | BF7: 8830.155 | BG7: 20379.509 | BH7: 11976.314 | BI7: 4489.782 | BJ7: 8850.814 | BK7: 22181.933 | BL7: 10144.429 | BM7: 2871.384 | BN7: 7601.462 | BO7: 19629.397 | BP7: 13327.214 | BQ7: 4678.349 | BR7: 7791.64 | BS7: 24723.192 | BT7: 12666.17 | BU7: 4344.648 | BV7: 8110.256 | BW7: 26592.259 | BX7: 11272.316 | BY7: 3135 | BZ7: 8497.1548
A8: Mining and quarrying | B8: 3615.03 | C8: 4495.79 | D8: 4673.2 | E8: 3594 | F8: 3987.85 | G8: 5280.85 | H8: 5336.92 | I8: 4193 | J8: 4153.13 | K8: 5103.88 | L8: 5172.88 | M8: 4033.87 | N8: 4083.1 | O8: 6018.1 | P8: 6704 | Q8: 5578 | R8: 5602 | S8: 6824.6 | T8: 6985.95 | U8: 6740.85 | V8: 7614.17 | W8: 9727.5 | X8: 8963.28 | Y8: 8828.25 | Z8: 10554.8 | AA8: 12752.8 | AB8: 11995.8 | AC8: 10628.8 | AD8: 12705 | AE8: 16009 | AF8: 16392.7 | AG8: 13167.8 | AH8: 11874.75 | AI8: 13196.75 | AJ8: 14286.75 | AK8: 11218.35 | AL8: 11667.07 | AM8: 14149.08 | AN8: 15031.21 | AO8: 12446.44 | AP8: 12897.75 | AQ8: 18019.75 | AR8: 17985.75 | AS8: 16211.35 | AT8: 15355 | AU8: 20284 | AV8: 25943 | AW8: 22388.1 | AX8: 22437.6 | AY8: 25931.58 | AZ8: 26639.7 | BA8: 24944.76 | BB8: 26121.002 | BC8: 34435.972 | BD8: 36555.271 | BE8: 30975.755 | BF8: 26154.461 | BG8: 32309.435 | BH8: 34212.918 | BI8: 30325.616 | BJ8: 25769.9 | BK8: 37329.72 | BL8: 41746 | BM8: 40773.694 | BN8: 38211.304 | BO8: 44700.251 | BP8: 50762.281 | BQ8: 47942.654 | BR8: 38703.211 | BS8: 42948.17 | BT8: 46173.596 | BU8: 39716.074 | BV8: 38915.253 | BW8: 39028.801 | BX8: 46490.941 | BY8: 43431 | BZ8: 41585.636
A9: Secondary Industries | B9: =SUM(B10:B12) -> 15608.816 | C9: =SUM(C10:C12) -> 16849.128 | D9: =SUM(D10:D12) -> 18405.672 | E9: =SUM(E10:E12) -> 16161.898 | F9: =SUM(F10:F12) -> 17409.033 | G9: =SUM(G10:G12) -> 18409.369 | H9: =SUM(H10:H12) -> 19347.89 | I9: =SUM(I10:I12) -> 17714.419 | ... BZ9: =SUM(BZ10:BZ12) -> 59645.391
A10: Manufacturing | B10: 11188.95 | C10: 12355.6 | D10: 13883.72 | E10: 12267 | F10: 12556 | G10: 13485.04 | H10: 14526 | I10: 13593 | J10: 14302 | K10: 15523.28 | L10: 16388.4 | M10: 14857.39 | N10: 14669.61 | O10: 14830 | P10: 15786 | Q10: 13461.386 | R10: 14078 | S10: 14527 | T10: 16938 | U10: 15810 | V10: 17064.43 | W10: 17938.43 | X10: 21232.43 | Y10: 19878.37 | Z10: 21058 | AA10: 21295.6 | AB10: 23232.8 | AC10: 22593 | AD10: 23293.9 | AE10: 25350.9 | AF10: 28480.8 | AG10: 27650.9 | AH10: 28785 | AI10: 28604 | AJ10: 31276 | AK10: 30045.1 | AL10: 31195.9 | AM10: 31144.9 | AN10: 35168.9 | AO10: 33904.9 | AP10: 31895.4 | AQ10: 34480.4 | AR10: 38058.2 | AS10: 33924.4 | AT10: 33888 | AU10: 33846 | AV10: 38547 | AW10: 34593.3 | AX10: 38990.8 | AY10: 35797.8 | AZ10: 39492.7 | BA10: 37547.97 | BB10: 41516.5 | BC10: 41462.5 | BD10: 45748.5 | BE10: 38059.5 | BF10: 39634.19 | BG10: 35478.38 | BH10: 38860.311 | BI10: 34134 | BJ10: 37999.038 | BK10: 35642.19 | BL10: 38911.001 | BM10: 30666.071 | BN10: 32598.235 | BO10: 29559.6 | BP10: 33567.391 | BQ10: 24403.683 | BR10: 30266.031 | BS10: 25790.206 | BT10: 28978.099 | BU10: 19285.865 | BV10: 25519.298 | BW10: 22739.413 | BX10: 26286 | BY10: 18036 | BZ10: 25962.391
A11: Electricity, gas and water | B11: 3090.9 | C11: 3122.45 | D11: 3334.2 | E11: 2917.6 | F11: 3082.58 | G11: 3147.5 | H11: 3397.03 | I11: 2876.7 | J11: 3131.43 | K11: 3446.2 | L11: 3554 | M11: 3134.4 | N11: 3283.6 | O11: 3620.5 | P11: 3605.9 | Q11: 3226.9 | R11: 2952 | S11: 3469.6 | T11: 4030.8 | U11: 2987.6 | V11: 3357.4 | W11: 3838.4 | X11: 4140.2 | Y11: 3286 | Z11: 3421 | AA11: 3819.3 | AB11: 4136.2 | AC11: 3438.4 | AD11: 3592.59 | AE11: 4172.51 | AF11: 4762.7 | AG11: 4095.3 | AH11: 4264.31 | AI11: 4886.2 | AJ11: 5363.3 | AK11: 4315.49 | AL11: 4441.2 | AM11: 4799.2 | AN11: 5410.9 | AO11: 4323.7 | AP11: 4717.4 | AQ11: 5341.4 | AR11: 5897.6 | AS11: 4762.6 | AT11: 5068.4 | AU11: 6062.4 | AV11: 6804.8 | AW11: 5351.4 | AX11: 6060 | AY11: 7089 | AZ11: 7826 | BA11: 5622 | BB11: 6359.708 | BC11: 7560.825 | BD11: 8508.453 | BE11: 5733.014 | BF11: 8821.106 | BG11: 10691.57 | BH11: 12695.761 | BI11: 8475.563 | BJ11: 9320.566 | BK11: 11197.316 | BL11: 12595.193 | BM11: 8322.745 | BN11: 10284.196 | BO11: 13700.707 | BP11: 15203.098 | BQ11: 9964.22 | BR11: 12321.074 | BS11: 16115.13 | BT11: 17659.114 | BU11: 11836.134 | BV11: 13430.854 | BW11: 17637.227 | BX11: 19279 | BY11: 12836 | BZ11: 14630
A12: Construction | B12: 1328.9661 | C12: 1371.0781 | D12: 1187.7515 | E12: 977.29797 | F12: 1770.4527 | G12: 1776.8292 | H12: 1424.8599 | I12: 1244.7193 | J12: 2062.4052 | K12: 2016.5373 | L12: 1862.8679 | M12: 1602.6375 | N12: 2120.418 | O12: 2042.634 | P12: 1865.366 | Q12: 1516.981 | R12: 2187.13 | S12: 2099.072 | T12: 1905.294 | U12: 1535.404 | V12: 2307.901 | W12: 2238.283 | X12: 2059.144 | Y12: 1711.67 | Z12: 2538.608 | AA12: 2548.391 | AB12: 2319.253 | AC12: 1953.748 | AD12: 2794.93 | AE12: 2678.9 | AF12: 2599.95 | AG12: 2307 | AH12: 3171.9 | AI12: 3001.9 | AJ12: 2827 | AK12: 2358 | AL12: 3920.9 | AM12: 3886.9 | AN12: 3832.85 | AO12: 3357.85 | AP12: 5200.9 | AQ12: 4805 | AR12: 4993 | AS12: 4104 | AT12: 6320.1 | AU12: 6083.1 | AV12: 6429.1 | AW12: 5442.1 | AX12: 7584.2 | AY12: 6819.17 | AZ12: 7046.02 | BA12: 5628.1 | BB12: 9257 | BC12: 8942 | BD12: 10706 | BE12: 8476 | BF12: 13396 | BG12: 12615 | BH12: 12424 | BI12: 8808.02 | BJ12: 14476 | BK12: 13396 | BL12: 13150.96 | BM12: 9390 | BN12: 14881 | BO12: 14200.8 | BP12: 13953 | BQ12: 10784 | BR12: 16347.82 | BS12: 14727 | BT12: 14541 | BU12: 11022 | BV12: 16821 | BW12: 15821 | BX12: 16313 | BY12: 12410 | BZ12: 19053
A13: Tertiary industries | B13: =SUM(B14:B18) -> 30578.95 | C13: =SUM(C14:C18) -> 30872.048 | D13: =SUM(D14:D18) -> 33062.338 | E13: =SUM(E14:E18) -> 34848.467 | F13: =SUM(F14:F18) -> 35602.838 | G13: =SUM(G14:G18) -> 35657.347 | H13: =SUM(H14:H18) -> 37877.568 | I13: =SUM(I14:I18) -> 39723.778 | ... BZ13: =SUM(BZ14:BZ18) -> 266010.1
A14: Wholesale & retail trade; hotels & restaurants | B14: 8513.4225 | C14: 8278.15 | D14: 9047.7 | E14: 10586.1 | F14: 9504.83 | G14: 9370.65 | H14: 10099.4 | I14: 12071.6 | J14: 10243.095 | K14: 10414.095 | L14: 10877.095 | M14: 12192.095 | N14: 10615.225 | O14: 11390.225 | P14: 11153.225 | Q14: 11721.225 | R14: 10971.1 | S14: 10957 | T14: 12135 | U14: 14670 | V14: 13793.3 | W14: 13959.05 | X14: 15599 | Y14: 17836 | Z14: 16184.85 | AA14: 15942.85 | AB14: 16713.5 | AC14: 19532.8 | AD14: 17428 | AE14: 17664 | AF14: 18780 | AG14: 22362.4 | AH14: 20077.25 | AI14: 19600.25 | AJ14: 20938.25 | AK14: 24041.05 | AL14: 21996.25 | AM14: 21100.25 | AN14: 24012.25 | AO14: 26545.65 | AP14: 24489 | AQ14: 23943 | AR14: 26035 | AS14: 29695.8 | AT14: 26988.25 | AU14: 26412.25 | AV14: 28937.25 | AW14: 32687.95 | AX14: 30792.3 | AY14: 30154.2 | AZ14: 32518.2 | BA14: 36760.1 | BB14: 35733.016 | BC14: 35561.598 | BD14: 37441.726 | BE14: 41977.75 | BF14: 41052.574 | BG14: 40633.462 | BH14: 40981.635 | BI14: 47175.349 | BJ14: 49665.373 | BK14: 53475.251 | BL14: 51533.199 | BM14: 62667.807 | BN14: 55185.964 | BO14: 58989.341 | BP14: 58731.681 | BQ14: 71333.474 | BR14: 63887.879 | BS14: 67908.646 | BT14: 67593.987 | BU14: 81359.957 | BV14: 72915.116 | BW14: 76176.629 | BX14: 77058 | BY14: 89665 | BZ14: 80977
A15: Transport , storage and communication | B15: 4940.6 | C15: 5146.6 | D15: 5945.47 | E15: 6230 | F15: 6340 | G15: 6128.04 | H15: 6916 | I15: 7108.42 | J15: 6931.73 | K15: 7275.56 | L15: 8142.4 | M15: 7989 | N15: 7616.4 | O15: 8190.4 | P15: 8882.3 | Q15: 9195 | R15: 8692 | S15: 9334 | T15: 10226 | U15: 10727.3 | V15: 10332.3 | W15: 11273.4 | X15: 12470 | Y15: 13170 | Z15: 12217 | AA15: 12891 | AB15: 13446.9 | AC15: 14722 | AD15: 14661.2 | AE15: 15097.1 | AF15: 15936.1 | AG15: 17638.2 | AH15: 16641.5 | AI15: 16945.5 | AJ15: 17805.7 | AK15: 19465.2 | AL15: 19001.1 | AM15: 19428.1 | AN15: 19932 | AO15: 20384 | AP15: 21340 | AQ15: 21044 | AR15: 22249 | AS15: 24324 | AT15: 22919.4 | AU15: 24215.4 | AV15: 25680.2 | AW15: 26900 | AX15: 24287 | AY15: 26017.1 | AZ15: 27694 | BA15: 28490 | BB15: 29268.5 | BC15: 31910.5 | BD15: 31951.5 | BE15: 35265.5 | BF15: 32026.919 | BG15: 33745.417 | BH15: 33581.035 | BI15: 35544.879 | BJ15: 34073.784 | BK15: 37366.051 | BL15: 37413.268 | BM15: 40948.235 | BN15: 38108.889 | BO15: 41356.116 | BP15: 41506.142 | BQ15: 43378.752 | BR15: 40605.507 | BS15: 42809.896 | BT15: 42592.334 | BU15: 43832.303 | BV15: 42106.149 | BW15: 43590.375 | BX15: 43845 | BY15: 45519 | BZ15: 44628
A16: Finance, real estate and business services | B16: 13165.59 | C16: 13341 | D16: 13797 | E16: 13722 | F16: 15300.52 | G16: 15493 | H16: 15997 | I16: 15656 | J16: 17657.38 | K16: 18283.7 | L16: 19073 | M16: 18785 | N16: 19668.7 | O16: 20182.7 | P16: 19849.7 | Q16: 20140.7 | R16: 22411.3 | S16: 22307.3 | T16: 23972 | U16: 24424 | V16: 24218.6 | W16: 24668 | X16: 26881 | Y16: 27198 | Z16: 27836 | AA16: 28200 | AB16: 29138 | AC16: 29867 | AD16: 31941.9 | AE16: 32005 | AF16: 34167 | AG16: 36703 | AH16: 37869 | AI16: 37450 | AJ16: 36312 | AK16: 35924.9 | AL16: 41469.1 | AM16: 39386.1 | AN16: 41864.1 | AO16: 41621 | AP16: 46191 | AQ16: 45567 | AR16: 46121.1 | AS16: 44691.1 | AT16: 50503 | AU16: 50495 | AV16: 55208 | AW16: 54436 | AX16: 63077.01 | AY16: 60022 | AZ16: 65239 | BA16: 67390 | BB16: 68595 | BC16: 66494.5 | BD16: 66882.6 | BE16: 68985 | BF16: 74083.94 | BG16: 72019.9 | BH16: 72478.91 | BI16: 74918.9 | BJ16: 78544.94 | BK16: 77153.02 | BL16: 77065 | BM16: 81431 | BN16: 82459.8 | BO16: 81288.84 | BP16: 82490.9 | BQ16: 86538 | BR16: 89052.9 | BS16: 88571.9 | BT16: 90780.9 | BU16: 95204.9 | BV16: 99908 | BW16: 100875 | BX16: 101529 | BY16: 100202 | BZ16: 108215
A17: Personal services | B17: 1843.6875 | C17: 1929.6475 | D17: 2039.1675 | E17: 2025.3675 | F17: 2103.2375 | G17: 2213.4075 | H17: 2325.1675 | I17: 2311.7575 | J17: 2312.57 | K17: 2428.805 | L17: 2547.505 | M17: 2528.495 | N17: 2712.7 | O17: 2768.95 | P17: 2903.65 | Q17: 2840.7 | R17: 3024.35 | S17: 3124.25 | T17: 3401.25 | U17: 3330.15 | V17: 3657.15 | W17: 3841.21 | X17: 4079.76 | Y17: 4000.68 | Z17: 4276.62 | AA17: 4207.28 | AB17: 4262.38 | AC17: 4263.72 | AD17: 5073 | AE17: 5245.4 | AF17: 5415.1 | AG17: 5487 | AH17: 5962.6 | AI17: 6101.7 | AJ17: 6126.7 | AK17: 6168.6 | AL17: 6377.2 | AM17: 6854.2 | AN17: 7052.1 | AO17: 7087 | AP17: 7074.649 | AQ17: 7696.449 | AR17: 8026.449 | AS17: 8211.449 | AT17: 7664.6 | AU17: 8610.6 | AV17: 9030.6 | AW17: 9034.8 | AX17: 8543.7 | AY17: 10049.8 | AZ17: 10379.93 | BA17: 9060 | BB17: 9028.39 | BC17: 10871.3 | BD17: 11102.2 | BE17: 9666.2 | BF17: 10769.44 | BG17: 13313.24 | BH17: 13481.66 | BI17: 12088 | BJ17: 12295.917 | BK17: 15473.928 | BL17: 15509.482 | BM17: 14179.983 | BN17: 12241.495 | BO17: 15099.014 | BP17: 16068.766 | BQ17: 15017.495 | BR17: 13918.772 | BS17: 16464.536 | BT17: 17183.23 | BU17: 16022.512 | BV17: 15378.58 | BW17: 17312.751 | BX17: 17539.154 | BY17: 16437 | BZ17: 16501.1
A18: General government services | B18: 2115.65 | C18: 2176.65 | D18: 2233 | E18: 2285 | F18: 2354.25 | G18: 2452.25 | H18: 2540 | I18: 2576 | J18: 2653.3 | K18: 2774 | L18: 2962 | M18: 2939 | N18: 2980 | O18: 3183 | P18: 3366 | Q18: 3439 | R18: 3497 | S18: 3595 | T18: 3791 | U18: 3826 | V18: 3934 | W18: 4071 | X18: 4330 | Y18: 4376 | Z18: 4545 | AA18: 4548 | AB18: 4685 | AC18: 4843 | AD18: 5200.9 | AE18: 5270.9 | AF18: 5466 | AG18: 5605 | AH18: 5691.1 | AI18: 5735.1 | AJ18: 5795.1 | AK18: 5846.1 | AL18: 5968.08 | AM18: 5888.08 | AN18: 6148.06 | AO18: 6272.08 | AP18: 6413 | AQ18: 6547 | AR18: 6821 | AS18: 7015 | AT18: 7209 | AU18: 7382 | AV18: 7635 | AW18: 7900 | AX18: 8174 | AY18: 8479 | AZ18: 8888 | BA18: 9041 | BB18: 9287 | BC18: 9934 | BD18: 10610 | BE18: 10885 | BF18: 10908 | BG18: 10869 | BH18: 11034 | BI18: 11262 | BJ18: 11410 | BK18: 11586 | BL18: 11897 | BM18: 11927 | BN18: 12306 | BO18: 12416 | BP18: 12764 | BQ18: 13203 | BR18: 13412 | BS18: 13521 | BT18: 13969 | BU18: 14011 | BV18: 14272 | BW18: 14730 | BX18: 15086 | BY18: 15231 | BZ18: 15689
A19: All industries at basic prices | B19: =B13+B9+B6 -> 52094.436 | C19: =C13+C9+C6 -> 56075.786 | D19: =D13+D9+D6 -> 60049.409 | E19: =E13+E9+E6 -> 57456.425 | F19: =F13+F9+F6 -> 59397.97 | G19: =G13+G9+G6 -> 66250.717 | H19: =H13+H9+H6 -> 67028.607 | I19: =I13+I9+I6 -> 64676.447 | ... BZ19: =BZ13+BZ9+BZ6 -> 375738.28
A21: SA - Annual Gross Operating Surplus | B21: =B19+B20 -> 52094.436 | C21: =C19+C20 -> 56075.786 | D21: =D19+D20 -> 60049.409 | E21: =E19+E20 -> 57456.425 | F21: =F19+F20 -> 59397.97 | G21: =G19+G20 -> 66250.717 | H21: =H19+H20 -> 67028.607 | I21: =I19+I20 -> 64676.447 | ... BZ21: =BZ19+BZ20 -> 375738.28
A23: =Annual!A23 -> KZN – Annual Gross Operating Surplus
A24: Rand million
A25: Provincial Industry | B25: =B5 -> 1995q1 | C25: =C5 -> 1995q2 | D25: =D5 -> 1995q3 | E25: =E5 -> 1995q4 | F25: =F5 -> 1996q1 | G25: =G5 -> 1996q2 | H25: =H5 -> 1996q3 | I25: =I5 -> 1996q4 | ... BZ25: =BZ5 -> 2014q1
A26: Primary Industries | B26: =SUM(B27:B28) -> 873.37956 | C26: =SUM(C27:C28) -> 1401.1297 | D26: =SUM(D27:D28) -> 1424.2967 | E26: =SUM(E27:E28) -> 1047.4233 | F26: =SUM(F27:F28) -> 947.06851 | G26: =SUM(G27:G28) -> 2345.8549 | H26: =SUM(H27:H28) -> 1635.5294 | I26: =SUM(I27:I28) -> 1149.1571 | ... BZ26: =SUM(BZ27:BZ28) -> 3593.4481
A27: Agriculture, forestry and fishing | B27: =B7*Annual!$B46/100 -> 715.44738 | C27: =C7*Annual!$B46/100 -> 1204.7192 | D27: =D7*Annual!$B46/100 -> 1220.1356 | E27: =E7*Annual!$B46/100 -> 890.40986 | F27: =F7*Annual!$C46/100 -> 702.43874 | G27: =G7*Annual!$C46/100 -> 2021.9076 | H27: =H7*Annual!$C46/100 -> 1308.1426 | I27: =I7*Annual!$C46/100 -> 891.94269 | J27: =J7*Annual!$D46/100 -> 899.96074 | K27: =K7*Annual!$D46/100 -> 2139.1368 | L27: =L7*Annual!$D46/100 -> 1292.672 | M27: =M7*Annual!$D46/100 -> 798.05094 | N27: =N7*Annual!$E46/100 -> 1083.0251 | O27: =O7*Annual!$E46/100 -> 2203.0037 | P27: =P7*Annual!$E46/100 -> 1395.4812 | Q27: =Q7*Annual!$E46/100 -> 594.83166 | R27: =R7*Annual!$F46/100 -> 850.02265 | S27: =S7*Annual!$F46/100 -> 2193.9633 | T27: =T7*Annual!$F46/100 -> 1369.966 | U27: =U7*Annual!$F46/100 -> 493.69189 | V27: =V7*Annual!$G46/100 -> 778.26526 | W27: =W7*Annual!$G46/100 -> 1839.8347 | X27: =X7*Annual!$G46/100 -> 1796.4588 | Y27: =Y7*Annual!$G46/100 -> 637.65348 | Z27: =Z7*Annual!H46/100 -> 967.33061 | AA27: =AA7*Annual!H46/100 -> 2673.5444 | AB27: =AB7*Annual!H46/100 -> 1873.6467 | AC27: =AC7*Annual!H46/100 -> 1009.719 | AD27: =AD7*Annual!$I46/100 -> 1143.5017 | AE27: =AE7*Annual!$I46/100 -> 3704.3014 | AF27: =AF7*Annual!$I46/100 -> 2494.1086 | AG27: =AG7*Annual!$I46/100 -> 1059.7126 | AH27: =AH7*Annual!$J46/100 -> 1132.5224 | AI27: =AI7*Annual!$J46/100 -> 3544.3164 | AJ27: =AJ7*Annual!$J46/100 -> 2348.7576 | AK27: =AK7*Annual!$J46/100 -> 732.3242 | AL27: =AL7*Annual!$K46/100 -> 1104.0748 | AM27: =AM7*Annual!$K46/100 -> 3175.3014 | AN27: =AN7*Annual!$K46/100 -> 2781.736 | AO27: =AO7*Annual!$K46/100 -> 768.21857 | AP27: =AP7*Annual!$L46/100 -> 1332.0522 | AQ27: =AQ7*Annual!$L46/100 -> 2266.4044 | AR27: =AR7*Annual!$L46/100 -> 2295.5034 | AS27: =AS7*Annual!$L46/100 -> 921.17198 | AT27: =AT7*Annual!$M46/100 -> 1509.7315 | AU27: =AU7*Annual!$M46/100 -> 2864.8173 | AV27: =AV7*Annual!$M46/100 -> 3393.8833 | AW27: =AW7*Annual!$M46/100 -> 1559.3673 | AX27: =AX7*Annual!$N46/100 -> 2205.4398 | AY27: =AY7*Annual!$N46/100 -> 4358.8982 | AZ27: =AZ7*Annual!$N46/100 -> 3339.9244 | BA27: =BA7*Annual!$N46/100 -> 1493.089 | BB27: =BB7*Annual!$O46/100 -> 2161.6156 | BC27: =BC7*Annual!$O46/100 -> 5099.6016 | BD27: =BD7*Annual!$O46/100 -> 4044.9986 | BE27: =BE7*Annual!$O46/100 -> 1323.7439 | BF27: =BF7*Annual!P46/100 -> 2499.9204 | BG27: =BG7*Annual!P46/100 -> 5769.6778 | BH27: =BH7*Annual!P46/100 -> 3390.6348 | BI27: =BI7*Annual!P46/100 -> 1271.1099 | BJ27: =BJ7*Annual!Q46/100 -> 2471.3646 | BK27: =BK7*Annual!Q46/100 -> 6193.7404 | BL27: =BL7*Annual!Q46/100 -> 2832.5737 | BM27: =BM7*Annual!Q46/100 -> 801.76093 | BN27: =BN7*Annual!$R46/100 -> 2092.9668 | BO27: =BO7*Annual!$R46/100 -> 5404.7071 | BP27: =BP7*Annual!$R46/100 -> 3669.4804 | BQ27: =BQ7*Annual!$R46/100 -> 1288.1244 | BR27: =BR7*Annual!$T46/100 -> 2084.7551 | BS27: =BS7*Annual!$T46/100 -> 6615.0132 | BT27: =BT7*Annual!$T46/100 -> 3388.9994 | BU27: =BU7*Annual!$T46/100 -> 1162.4674 | BV27: =BV7*Annual!$T46/100 -> 2170.005 | BW27: =BW7*Annual!$T46/100 -> 7115.1066 | BX27: =BX7*Annual!$T46/100 -> 3016.0555 | BY27: =BY7*Annual!$T46/100 -> 838.81024 | BZ27: =BZ7*Annual!$U46/100 -> 2240.4951
A28: Mining and quarrying | B28: =B8*Annual!$B47/100 -> 157.93218 | C28: =C8*Annual!$B47/100 -> 196.41052 | D28: =D8*Annual!$B47/100 -> 204.16114 | E28: =E8*Annual!$B47/100 -> 157.01343 | F28: =F8*Annual!$C47/100 -> 244.62978 | G28: =G8*Annual!$C47/100 -> 323.94728 | H28: =H8*Annual!$C47/100 -> 327.38683 | I28: =I8*Annual!$C47/100 -> 257.21445 | J28: =J8*Annual!$D47/100 -> 253.27739 | K28: =K8*Annual!$D47/100 -> 311.2586 | L28: =L8*Annual!$D47/100 -> 315.46654 | M28: =M8*Annual!$D47/100 -> 246.00436 | N28: =N8*Annual!$E47/100 -> 245.88786 | O28: =O8*Annual!$E47/100 -> 362.41526 | P28: =P8*Annual!$E47/100 -> 403.72076 | Q28: =Q8*Annual!$E47/100 -> 335.91205 | R28: =R8*Annual!$F47/100 -> 247.90466 | S28: =S8*Annual!$F47/100 -> 302.00824 | T28: =T8*Annual!$F47/100 -> 309.14844 | U28: =U8*Annual!$F47/100 -> 298.30206 | V28: =V8*Annual!$G47/100 -> 331.90712 | W28: =W8*Annual!$G47/100 -> 424.02869 | X28: =X8*Annual!$G47/100 -> 390.71579 | Y28: =Y8*Annual!$G47/100 -> 384.82974 | Z28: =Z8*Annual!H47/100 -> 437.01319 | AA28: =AA8*Annual!H47/100 -> 528.01965 | AB28: =AB8*Annual!H47/100 -> 496.67666 | AC28: =AC8*Annual!H47/100 -> 440.0771 | AD28: =AD8*Annual!$I47/100 -> 465.28953 | AE28: =AE8*Annual!$I47/100 -> 586.29044 | AF28: =AF8*Annual!$I47/100 -> 600.34251 | AG28: =AG8*Annual!$I47/100 -> 482.23844 | AH28: =AH8*Annual!$J47/100 -> 445.29581 | AI28: =AI8*Annual!$J47/100 -> 494.87 | AJ28: =AJ8*Annual!$J47/100 -> 535.74433 | AK28: =AK8*Annual!$J47/100 -> 420.68122 | AL28: =AL8*Annual!$K47/100 -> 439.63355 | AM28: =AM8*Annual!$K47/100 -> 533.15959 | AN28: =AN8*Annual!$K47/100 -> 566.39963 | AO28: =AO8*Annual!$K47/100 -> 469.00143 | AP28: =AP8*Annual!$L47/100 -> 450.96782 | AQ28: =AQ8*Annual!$L47/100 -> 630.05776 | AR28: =AR8*Annual!$L47/100 -> 628.86895 | AS28: =AS8*Annual!$L47/100 -> 566.82733 | AT28: =AT8*Annual!$M47/100 -> 522.03264 | AU28: =AU8*Annual!$M47/100 -> 689.60664 | AV28: =AV8*Annual!$M47/100 -> 881.99887 | AW28: =AW8*Annual!$M47/100 -> 761.14092 | AX28: =AX8*Annual!$N47/100 -> 782.04802 | AY28: =AY8*Annual!$N47/100 -> 903.82843 | AZ28: =AZ8*Annual!$N47/100 -> 928.5095 | BA28: =BA8*Annual!$N47/100 -> 869.43346 | BB28: =BB8*Annual!$O47/100 -> 901.77259 | BC28: =BC8*Annual!$O47/100 -> 1188.8294 | BD28: =BD8*Annual!$O47/100 -> 1261.9938 | BE28: =BE8*Annual!$O47/100 -> 1069.3727 | BF28: =BF8*Annual!P47/100 -> 894.25857 | BG28: =BG8*Annual!P47/100 -> 1104.706 | BH28: =BH8*Annual!P47/100 -> 1169.7888 | BI28: =BI8*Annual!P47/100 -> 1036.8764 | BJ28: =BJ8*Annual!Q47/100 -> 872.56823 | BK28: =BK8*Annual!Q47/100 -> 1263.9835 | BL28: =BL8*Annual!Q47/100 -> 1413.5186 | BM28: =BM8*Annual!Q47/100 -> 1380.5964 | BN28: =BN8*Annual!$T47/100 -> 1255.8375 | BO28: =BO8*Annual!$T47/100 -> 1469.1007 | BP28: =BP8*Annual!$T47/100 -> 1668.3329 | BQ28: =BQ8*Annual!$T47/100 -> 1575.6642 | BR28: =BR8*Annual!$T47/100 -> 1272.0043 | BS28: =BS8*Annual!$T47/100 -> 1411.5175 | BT28: =BT8*Annual!$T47/100 -> 1517.523 | BU28: =BU8*Annual!$T47/100 -> 1305.2927 | ... BY28: =BY8*Annual!$T47/100 -> 1427.386 | BZ28: =BZ8*Annual!$U47/100 -> 1352.9531
A29: Secondary Industries | B29: =SUM(B30:B32) -> 3118.3179 | C29: =SUM(C30:C32) -> 3375.5051 | D29: =SUM(D30:D32) -> 3699.0449 | E29: =SUM(E30:E32) -> 3250.3707 | F29: =SUM(F30:F32) -> 3481.0986 | G29: =SUM(G30:G32) -> 3688.5857 | H29: =SUM(H30:H32) -> 3889.5566 | I29: =SUM(I30:I32) -> 3571.6621 | ... BZ29: =SUM(BZ30:BZ32) -> 10570.27
A30: Manufacturing | B30: =B10*Annual!$B49/100 -> 2341.1803 | C30: =C10*Annual!$B49/100 -> 2585.2906 | D30: =D10*Annual!$B49/100 -> 2905.035 | E30: =E10*Annual!$B49/100 -> 2566.7519 | F30: =F10*Annual!$C49/100 -> 2636.2385 | G30: =G10*Annual!$C49/100 -> 2831.2983 | H30: =H10*Annual!$C49/100 -> 3049.8567 | I30: =I10*Annual!$C49/100 -> 2853.9654 | J30: =J10*Annual!$D49/100 -> 3001.3927 | K30: =K10*Annual!$D49/100 -> 3257.6884 | L30: =L10*Annual!$D49/100 -> 3439.241 | M30: =M10*Annual!$D49/100 -> 3117.9459 | N30: =N10*Annual!$E49/100 -> 3070.8219 | O30: =O10*Annual!$E49/100 -> 3104.3967 | P30: =P10*Annual!$E49/100 -> 3304.5183 | Q30: =Q10*Annual!$E49/100 -> 2817.9017 | R30: =R10*Annual!$F49/100 -> 2976.3672 | S30: =S10*Annual!$F49/100 -> 3071.2946 | T30: =T10*Annual!$F49/100 -> 3581.0276 | U30: =U10*Annual!$F49/100 -> 3342.5461 | V30: =V10*Annual!$G49/100 -> 3624.1091 | W30: =W10*Annual!$G49/100 -> 3809.7275 | X30: =X10*Annual!$G49/100 -> 4509.3005 | Y30: =Y10*Annual!$G49/100 -> 4221.728 | Z30: =Z10*Annual!H49/100 -> 4462.5536 | AA30: =AA10*Annual!H49/100 -> 4512.9052 | AB30: =AB10*Annual!H49/100 -> 4923.4313 | AC30: =AC10*Annual!H49/100 -> 4787.8466 | AD30: =AD10*Annual!$I49/100 -> 4928.4853 | AE30: =AE10*Annual!$I49/100 -> 5363.702 | AF30: =AF10*Annual!$I49/100 -> 6025.9211 | AG30: =AG10*Annual!$I49/100 -> 5850.3323 | AH30: =AH10*Annual!$J49/100 -> 6126.6523 | AI30: =AI10*Annual!$J49/100 -> 6088.128 | AJ30: =AJ10*Annual!$J49/100 -> 6656.8413 | AK30: =AK10*Annual!$J49/100 -> 6394.8543 | AL30: =AL10*Annual!$K49/100 -> 6627.4833 | AM30: =AM10*Annual!$K49/100 -> 6616.6485 | AN30: =AN10*Annual!$K49/100 -> 7471.5362 | AO30: =AO10*Annual!$K49/100 -> 7203.0029 | AP30: =AP10*Annual!$L49/100 -> 6773.833 | AQ30: =AQ10*Annual!$L49/100 -> 7322.8262 | AR30: =AR10*Annual!$L49/100 -> 8082.6668 | AS30: =AS10*Annual!$L49/100 -> 7204.7449 | AT30: =AT10*Annual!$M49/100 -> 7169.8313 | AU30: =AU10*Annual!$M49/100 -> 7160.9452 | AV30: =AV10*Annual!$M49/100 -> 8155.5562 | AW30: =AW10*Annual!$M49/100 -> 7319.0547 | AX30: =AX10*Annual!$N49/100 -> 8253.7683 | AY30: =AY10*Annual!$N49/100 -> 7577.858 | AZ30: =AZ10*Annual!$N49/100 -> 8360.013 | BA30: =BA10*Annual!$N49/100 -> 7948.3428 | BB30: =BB10*Annual!$O49/100 -> 8782.125 | BC30: =BC10*Annual!$O49/100 -> 8770.7022 | BD30: =BD10*Annual!$O49/100 -> 9677.3342 | BE30: =BE10*Annual!$O49/100 -> 8050.8541 | BF30: =BF10*Annual!P49/100 -> 8377.9429 | BG30: =BG10*Annual!P49/100 -> 7499.4806 | BH30: =BH10*Annual!P49/100 -> 8214.359 | BI30: =BI10*Annual!P49/100 -> 7215.3033 | BJ30: =BJ10*Annual!Q49/100 -> 8026.5389 | BK30: =BK10*Annual!Q49/100 -> 7528.7018 | BL30: =BL10*Annual!Q49/100 -> 8219.1729 | BM30: =BM10*Annual!Q49/100 -> 6477.5959 | BN30: =BN10*Annual!$R49/100 -> 6880.7833 | BO30: =BO10*Annual!$R49/100 -> 6239.3931 | BP30: =BP10*Annual!$R49/100 -> 7085.3512 | BQ30: =BQ10*Annual!$R49/100 -> 5151.0904 | BR30: =BR10*Annual!$T49/100 -> 6379.3254 | BS30: =BS10*Annual!$T49/100 -> 5435.933 | BT30: =BT10*Annual!$T49/100 -> 6107.8614 | BU30: =BU10*Annual!$T49/100 -> 4064.9799 | BV30: =BV10*Annual!$T49/100 -> 5378.8323 | BW30: =BW10*Annual!$T49/100 -> 4792.9018 | BX30: =BX10*Annual!$T49/100 -> 5540.434 | BY30: =BY10*Annual!$T49/100 -> 3801.5395 | BZ30: =BZ10*Annual!$U49/100 -> 5468.288
A31: Electricity, gas and water | B31: =B11*Annual!$B50/100 -> 537.64426 | C31: =C11*Annual!$B50/100 -> 543.1322 | D31: =D11*Annual!$B50/100 -> 579.9649 | E31: =E11*Annual!$B50/100 -> 507.49973 | F31: =F11*Annual!$C50/100 -> 537.52331 | G31: =G11*Annual!$C50/100 -> 548.8437 | H31: =H11*Annual!$C50/100 -> 592.35537 | I31: =I11*Annual!$C50/100 -> 501.62309 | J31: =J11*Annual!$D50/100 -> 543.64059 | K31: =K11*Annual!$D50/100 -> 598.28711 | L31: =L11*Annual!$D50/100 -> 617.00202 | M31: =M11*Annual!$D50/100 -> 544.1562 | N31: =N11*Annual!$E50/100 -> 571.20493 | O31: =O11*Annual!$E50/100 -> 629.81102 | P31: =P11*Annual!$E50/100 -> 627.27125 | Q31: =Q11*Annual!$E50/100 -> 561.34158 | R31: =R11*Annual!$F50/100 -> 516.40448 | S31: =S11*Annual!$F50/100 -> 606.95019 | T31: =T11*Annual!$F50/100 -> 705.12302 | U31: =U11*Annual!$F50/100 -> 522.63212 | V31: =V11*Annual!$G50/100 -> 603.08877 | W31: =W11*Annual!$G50/100 -> 689.49066 | X31: =X11*Annual!$G50/100 -> 743.7029 | Y31: =Y11*Annual!$G50/100 -> 590.26321 | Z31: =Z11*Annual!H50/100 -> 637.13176 | AA31: =AA11*Annual!H50/100 -> 711.31171 | AB31: =AB11*Annual!H50/100 -> 770.3316 | AC31: =AC11*Annual!H50/100 -> 640.37236 | AD31: =AD11*Annual!$I50/100 -> 709.19408 | AE31: =AE11*Annual!$I50/100 -> 823.673 | AF31: =AF11*Annual!$I50/100 -> 940.17926 | AG31: =AG11*Annual!$I50/100 -> 808.43138 | AH31: =AH11*Annual!$J50/100 -> 723.55579 | AI31: =AI11*Annual!$J50/100 -> 829.07629 | AJ31: =AJ11*Annual!$J50/100 -> 910.02924 | AK31: =AK11*Annual!$J50/100 -> 732.23987 | AL31: =AL11*Annual!$K50/100 -> 757.33411 | AM31: =AM11*Annual!$K50/100 -> 818.38193 | AN31: =AN11*Annual!$K50/100 -> 922.69187 | AO31: =AO11*Annual!$K50/100 -> 737.29746 | AP31: =AP11*Annual!$L50/100 -> 813.32813 | AQ31: =AQ11*Annual!$L50/100 -> 920.91213 | AR31: =AR11*Annual!$L50/100 -> 1016.8067 | AS31: =AS11*Annual!$L50/100 -> 821.12107 | AT31: =AT11*Annual!$M50/100 -> 872.84942 | AU31: =AU11*Annual!$M50/100 -> 1044.0301 | AV31: =AV11*Annual!$M50/100 -> 1171.8818 | AW31: =AW11*Annual!$M50/100 -> 921.58598 | AX31: =AX11*Annual!$N50/100 -> 1043.1137 | AY31: =AY11*Annual!$N50/100 -> 1220.2364 | AZ31: =AZ11*Annual!$N50/100 -> 1347.097 | BA31: =BA11*Annual!$N50/100 -> 967.72031 | BB31: =BB11*Annual!$O50/100 -> 1084.3993 | BC31: =BC11*Annual!$O50/100 -> 1289.2028 | BD31: =BD11*Annual!$O50/100 -> 1450.7837 | BE31: =BE11*Annual!$O50/100 -> 977.54118 | BF31: =BF11*Annual!P50/100 -> 1489.8033 | BG31: =BG11*Annual!P50/100 -> 1805.7074 | BH31: =BH11*Annual!P50/100 -> 2144.1967 | BI31: =BI11*Annual!P50/100 -> 1431.4443 | BJ31: =BJ11*Annual!Q50/100 -> 1559.0572 | BK31: =BK11*Annual!Q50/100 -> 1872.9824 | BL31: =BL11*Annual!Q50/100 -> 2106.8062 | BM31: =BM11*Annual!Q50/100 -> 1392.151 | BN31: =BN11*Annual!$T50/100 -> 1670.2598 | BO31: =BO11*Annual!$T50/100 -> 2225.1365 | BP31: =BP11*Annual!$T50/100 -> 2469.1404 | BQ31: =BQ11*Annual!$T50/100 -> 1618.2924 | BR31: =BR11*Annual!$T50/100 -> 2001.0698 | BS31: =BS11*Annual!$T50/100 -> 2617.2638 | BT31: =BT11*Annual!$T50/100 -> 2868.0228 | BU31: =BU11*Annual!$T50/100 -> 1922.3106 | ... BY31: =BY11*Annual!$T50/100 -> 2084.6992 | BZ31: =BZ11*Annual!$U50/100 -> 2352.3612
A32: Construction | B32: =B12*Annual!$B51/100 -> 239.49333 | C32: =C12*Annual!$B51/100 -> 247.08235 | D32: =D12*Annual!$B51/100 -> 214.04501 | E32: =E12*Annual!$B51/100 -> 176.11912 | F32: =F12*Annual!$C51/100 -> 307.33676 | G32: =G12*Annual!$C51/100 -> 308.44368 | H32: =H12*Annual!$C51/100 -> 247.34455 | I32: =I12*Annual!$C51/100 -> 216.07355 | J32: =J12*Annual!$D51/100 -> 365.89594 | K32: =K12*Annual!$D51/100 -> 357.75842 | L32: =L12*Annual!$D51/100 -> 330.49559 | M32: =M12*Annual!$D51/100 -> 284.32752 | N32: =N12*Annual!$E51/100 -> 354.76115 | O32: =O12*Annual!$E51/100 -> 341.74733 | P32: =P12*Annual!$E51/100 -> 312.08912 | Q32: =Q12*Annual!$E51/100 -> 253.80181 | R32: =R12*Annual!$F51/100 -> 349.82568 | S32: =S12*Annual!$F51/100 -> 335.74104 | T32: =T12*Annual!$F51/100 -> 304.74676 | U32: =U12*Annual!$F51/100 -> 245.58382 | V32: =V12*Annual!$G51/100 -> 363.17419 | W32: =W12*Annual!$G51/100 -> 352.21901 | X32: =X12*Annual!$G51/100 -> 324.02948 | Y32: =Y12*Annual!$G51/100 -> 269.35053 | Z32: =Z12*Annual!H51/100 -> 510.58577 | AA32: =AA12*Annual!H51/100 -> 512.5534 | AB32: =AB12*Annual!H51/100 -> 466.46728 | AC32: =AC12*Annual!H51/100 -> 392.9539 | AD32: =AD12*Annual!$I51/100 -> 419.671 | AE32: =AE12*Annual!$I51/100 -> 402.24859 | AF32: =AF12*Annual!$I51/100 -> 390.3939 | AG32: =AG12*Annual!$I51/100 -> 346.40617 | AH32: =AH12*Annual!$J51/100 -> 463.2825 | AI32: =AI12*Annual!$J51/100 -> 438.45258 | AJ32: =AJ12*Annual!$J51/100 -> 412.90698 | AK32: =AK12*Annual!$J51/100 -> 344.40561 | AL32: =AL12*Annual!$K51/100 -> 574.13419 | AM32: =AM12*Annual!$K51/100 -> 569.1556 | AN32: =AN12*Annual!$K51/100 -> 561.2411 | AO32: =AO12*Annual!$K51/100 -> 491.68724 | AP32: =AP12*Annual!$L51/100 -> 772.69587 | AQ32: =AQ12*Annual!$L51/100 -> 713.87715 | AR32: =AR12*Annual!$L51/100 -> 741.80824 | AS32: =AS12*Annual!$L51/100 -> 609.72982 | AT32: =AT12*Annual!$M51/100 -> 914.84175 | AU32: =AU12*Annual!$M51/100 -> 880.53573 | AV32: =AV12*Annual!$M51/100 -> 930.61963 | AW32: =AW12*Annual!$M51/100 -> 787.75024 | AX32: =AX12*Annual!$N51/100 -> 1092.292 | AY32: =AY12*Annual!$N51/100 -> 982.11077 | AZ32: =AZ12*Annual!$N51/100 -> 1014.7822 | BA32: =BA12*Annual!$N51/100 -> 810.57044 | BB32: =BB12*Annual!$O51/100 -> 1333.5985 | BC32: =BC12*Annual!$O51/100 -> 1288.2184 | BD32: =BD12*Annual!$O51/100 -> 1542.347 | BE32: =BE12*Annual!$O51/100 -> 1221.0847 | BF32: =BF12*Annual!P51/100 -> 1930.4379 | BG32: =BG12*Annual!P51/100 -> 1817.8914 | BH32: =BH12*Annual!P51/100 -> 1790.3673 | BI32: =BI12*Annual!P51/100 -> 1269.2845 | BJ32: =BJ12*Annual!Q51/100 -> 2086.6763 | BK32: =BK12*Annual!Q51/100 -> 1930.9972 | BL32: =BL12*Annual!Q51/100 -> 1895.6753 | BM32: =BM12*Annual!Q51/100 -> 1353.5431 | BN32: =BN12*Annual!$T51/100 -> 2146.9199 | BO32: =BO12*Annual!$T51/100 -> 2048.7857 | BP32: =BP12*Annual!$T51/100 -> 2013.035 | BQ32: =BQ12*Annual!$T51/100 -> 1555.8352 | BR32: =BR12*Annual!$T51/100 -> 2358.5418 | BS32: =BS12*Annual!$T51/100 -> 2124.7019 | BT32: =BT12*Annual!$T51/100 -> 2097.8672 | BU32: =BU12*Annual!$T51/100 -> 1590.1721 | ... BY32: =BY12*Annual!$T51/100 -> 1790.4224 | BZ32: =BZ12*Annual!$U51/100 -> 2749.6205
A33: Tertiary industries | B33: =SUM(B34:B38) -> 4961.7083 | C33: =SUM(C34:C38) -> 5018.4553 | D33: =SUM(D34:D38) -> 5418.7412 | E33: =SUM(E34:E38) -> 5728.9542 | F33: =SUM(F34:F38) -> 5784.3399 | G33: =SUM(G34:G38) -> 5772.8245 | H33: =SUM(H34:H38) -> 6171.0736 | I33: =SUM(I34:I38) -> 6485.8222 | ... BZ33: =SUM(BZ34:BZ38) -> 43426.026
A34: Wholesale & retail trade; hotels & restaurants | B34: =B14*Annual!$B53/100 -> 1381.0166 | C34: =C14*Annual!$B53/100 -> 1342.8516 | D34: =D14*Annual!$B53/100 -> 1467.6852 | E34: =E14*Annual!$B53/100 -> 1717.2389 | F34: =F14*Annual!$C53/100 -> 1520.2359 | G34: =G14*Annual!$C53/100 -> 1498.7746 | H34: =H14*Annual!$C53/100 -> 1615.3335 | I34: =I14*Annual!$C53/100 -> 1930.7741 | J34: =J14*Annual!$D53/100 -> 1640.8332 | K34: =K14*Annual!$D53/100 -> 1668.2256 | L34: =L14*Annual!$D53/100 -> 1742.3932 | M34: =M14*Annual!$D53/100 -> 1953.042 | N34: =N14*Annual!$E53/100 -> 1693.41 | O34: =O14*Annual!$E53/100 -> 1817.0431 | P34: =P14*Annual!$E53/100 -> 1779.2353 | Q34: =Q14*Annual!$E53/100 -> 1869.8464 | R34: =R14*Annual!$F53/100 -> 1742.9179 | S34: =S14*Annual!$F53/100 -> 1740.6779 | T34: =T14*Annual!$F53/100 -> 1927.8203 | U34: =U14*Annual!$F53/100 -> 2330.5417 | V34: =V14*Annual!$G53/100 -> 2194.1891 | W34: =W14*Annual!$G53/100 -> 2220.556 | X34: =X14*Annual!$G53/100 -> 2481.4334 | Y34: =Y14*Annual!$G53/100 -> 2837.2874 | Z34: =Z14*Annual!H53/100 -> 2724.0009 | AA34: =AA14*Annual!H53/100 -> 2683.271 | AB34: =AB14*Annual!H53/100 -> 2812.9757 | AC34: =AC14*Annual!H53/100 -> 3287.4797 | AD34: =AD14*Annual!$I53/100 -> 2937.5186 | AE34: =AE14*Annual!$I53/100 -> 2977.2968 | AF34: =AF14*Annual!$I53/100 -> 3165.4005 | AG34: =AG14*Annual!$I53/100 -> 3769.22 | AH34: =AH14*Annual!$J53/100 -> 3410.5145 | AI34: =AI14*Annual!$J53/100 -> 3329.4867 | AJ34: =AJ14*Annual!$J53/100 -> 3556.7722 | AK34: =AK14*Annual!$J53/100 -> 4083.8436 | AL34: =AL14*Annual!$K53/100 -> 3737.875 | AM34: =AM14*Annual!$K53/100 -> 3585.6156 | AN34: =AN14*Annual!$K53/100 -> 4080.4587 | AO34: =AO14*Annual!$K53/100 -> 4510.9653 | AP34: =AP14*Annual!$L53/100 -> 4138.9699 | AQ34: =AQ14*Annual!$L53/100 -> 4046.6886 | AR34: =AR14*Annual!$L53/100 -> 4400.2647 | AS34: =AS14*Annual!$L53/100 -> 5018.9891 | AT34: =AT14*Annual!$M53/100 -> 4580.4137 | AU34: =AU14*Annual!$M53/100 -> 4482.6557 | AV34: =AV14*Annual!$M53/100 -> 4911.1957 | AW34: =AW14*Annual!$M53/100 -> 5547.76 | AX34: =AX14*Annual!$N53/100 -> 5240.0677 | AY34: =AY14*Annual!$N53/100 -> 5131.4792 | AZ34: =AZ14*Annual!$N53/100 -> 5533.772 | BA34: =BA14*Annual!$N53/100 -> 6255.6357 | BB34: =BB14*Annual!$O53/100 -> 6085.3018 | BC34: =BC14*Annual!$O53/100 -> 6056.1094 | BD34: =BD14*Annual!$O53/100 -> 6376.2936 | BE34: =BE14*Annual!$O53/100 -> 7148.7746 | BF34: =BF14*Annual!P53/100 -> 6996.33 | BG34: =BG14*Annual!P53/100 -> 6924.9034 | BH34: =BH14*Annual!P53/100 -> 6984.2403 | BI34: =BI14*Annual!P53/100 -> 8039.7958 | BJ34: =BJ14*Annual!Q53/100 -> 8470.3394 | BK34: =BK14*Annual!Q53/100 -> 9120.1072 | BL34: =BL14*Annual!Q53/100 -> 8788.8937 | BM34: =BM14*Annual!Q53/100 -> 10687.881 | BN34: =BN14*Annual!$R53/100 -> 9418.7383 | BO34: =BO14*Annual!$R53/100 -> 10067.871 | BP34: =BP14*Annual!$R53/100 -> 10023.895 | BQ34: =BQ14*Annual!$R53/100 -> 12174.678 | BR34: =BR14*Annual!$T53/100 -> 10919.829 | BS34: =BS14*Annual!$T53/100 -> 11607.066 | BT34: =BT14*Annual!$T53/100 -> 11553.284 | BU34: =BU14*Annual!$T53/100 -> 13906.188 | BV34: =BV14*Annual!$T53/100 -> 12462.78 | BW34: =BW14*Annual!$T53/100 -> 13020.244 | BX34: =BX14*Annual!$T53/100 -> 13170.89 | BY34: =BY14*Annual!$T53/100 -> 15325.7 | BZ34: =BZ14*Annual!$U53/100 -> 13850.816
A35: Transport , storage and communication | B35: =B15*Annual!$B54/100 -> 1151.1062 | C35: =C15*Annual!$B54/100 -> 1199.102 | D35: =D15*Annual!$B54/100 -> 1385.23 | E35: =E15*Annual!$B54/100 -> 1451.5224 | F35: =F15*Annual!$C54/100 -> 1454.419 | G35: =G15*Annual!$C54/100 -> 1405.7946 | H35: =H15*Annual!$C54/100 -> 1586.5554 | I35: =I15*Annual!$C54/100 -> 1630.6973 | J35: =J15*Annual!$D54/100 -> 1560.0141 | K35: =K15*Annual!$D54/100 -> 1637.3945 | L35: =L15*Annual!$D54/100 -> 1832.4804 | M35: =M15*Annual!$D54/100 -> 1797.9571 | N35: =N15*Annual!$E54/100 -> 1698.32 | O35: =O15*Annual!$E54/100 -> 1826.3116 | P35: =P15*Annual!$E54/100 -> 1980.5928 | Q35: =Q15*Annual!$E54/100 -> 2050.3193 | R35: =R15*Annual!$F54/100 -> 1907.7885 | S35: =S15*Annual!$F54/100 -> 2048.6998 | T35: =T15*Annual!$F54/100 -> 2244.4829 | U35: =U15*Annual!$F54/100 -> 2354.5122 | V35: =V15*Annual!$G54/100 -> 2229.1685 | W35: =W15*Annual!$G54/100 -> 2432.2085 | X35: =X15*Annual!$G54/100 -> 2690.3721 | Y35: =Y15*Annual!$G54/100 -> 2841.3953 | Z35: =Z15*Annual!H54/100 -> 2596.3083 | AA35: =AA15*Annual!H54/100 -> 2739.5441 | AB35: =AB15*Annual!H54/100 -> 2857.6818 | AC35: =AC15*Annual!H54/100 -> 3128.661 | AD35: =AD15*Annual!$I54/100 -> 3125.8916 | AE35: =AE15*Annual!$I54/100 -> 3218.8292 | AF35: =AF15*Annual!$I54/100 -> 3397.7111 | AG35: =AG15*Annual!$I54/100 -> 3760.6132 | AH35: =AH15*Annual!$J54/100 -> 3569.5676 | AI35: =AI15*Annual!$J54/100 -> 3634.775 | AJ35: =AJ15*Annual!$J54/100 -> 3819.2861 | AK35: =AK15*Annual!$J54/100 -> 4175.2455 | AL35: =AL15*Annual!$K54/100 -> 4059.8284 | AM35: =AM15*Annual!$K54/100 -> 4151.0624 | AN35: =AN15*Annual!$K54/100 -> 4258.7271 | AO35: =AO15*Annual!$K54/100 -> 4355.3027 | AP35: =AP15*Annual!$L54/100 -> 4586.4668 | AQ35: =AQ15*Annual!$L54/100 -> 4522.8495 | AR35: =AR15*Annual!$L54/100 -> 4781.8323 | AS35: =AS15*Annual!$L54/100 -> 5227.7985 | AT35: =AT15*Annual!$M54/100 -> 4929.8699 | AU35: =AU15*Annual!$M54/100 -> 5208.6342 | AV35: =AV15*Annual!$M54/100 -> 5523.7067 | AW35: =AW15*Annual!$M54/100 -> 5786.0808 | AX35: =AX15*Annual!$N54/100 -> 5249.9205 | AY35: =AY15*Annual!$N54/100 -> 5623.9019 | AZ35: =AZ15*Annual!$N54/100 -> 5986.3836 | BA35: =BA15*Annual!$N54/100 -> 6158.4483 | BB35: =BB15*Annual!$O54/100 -> 6338.9374 | BC35: =BC15*Annual!$O54/100 -> 6911.1387 | BD35: =BD15*Annual!$O54/100 -> 6920.0184 | BE35: =BE15*Annual!$O54/100 -> 7637.7607 | BF35: =BF15*Annual!P54/100 -> 6949.7103 | BG35: =BG15*Annual!P54/100 -> 7322.6173 | BH35: =BH15*Annual!P54/100 -> 7286.9471 | BI35: =BI15*Annual!P54/100 -> 7713.0932 | BJ35: =BJ15*Annual!Q54/100 -> 7408.0829 | BK35: =BK15*Annual!Q54/100 -> 8123.8645 | BL35: =BL15*Annual!Q54/100 -> 8134.1301 | BM35: =BM15*Annual!Q54/100 -> 8902.6778 | BN35: =BN15*Annual!$T54/100 -> 8333.0501 | BO35: =BO15*Annual!$T54/100 -> 9043.1024 | BP35: =BP15*Annual!$T54/100 -> 9075.9077 | BQ35: =BQ15*Annual!$T54/100 -> 9485.3805 | BR35: =BR15*Annual!$T54/100 -> 8878.971 | BS35: =BS15*Annual!$T54/100 -> 9360.992 | BT35: =BT15*Annual!$T54/100 -> 9313.419 | BU35: =BU15*Annual!$T54/100 -> 9584.5558 | ... BY35: =BY15*Annual!$T54/100 -> 9953.3761 | BZ35: =BZ15*Annual!$U54/100 -> 9777.1596
A36: Finance, real estate and business services | B36: =B16*Annual!$B55/100 -> 1838.3995 | C36: =C16*Annual!$B55/100 -> 1862.8932 | D36: =D16*Annual!$B55/100 -> 1926.5675 | E36: =E16*Annual!$B55/100 -> 1916.0948 | F36: =F16*Annual!$C55/100 -> 2137.716 | G36: =G16*Annual!$C55/100 -> 2164.6084 | H36: =H16*Annual!$C55/100 -> 2235.0249 | I36: =I16*Annual!$C55/100 -> 2187.382 | J36: =J16*Annual!$D55/100 -> 2456.0183 | K36: =K16*Annual!$D55/100 -> 2543.135 | L36: =L16*Annual!$D55/100 -> 2652.9211 | M36: =M16*Annual!$D55/100 -> 2612.8623 | N36: =N16*Annual!$E55/100 -> 2739.1167 | O36: =O16*Annual!$E55/100 -> 2810.6977 | P36: =P16*Annual!$E55/100 -> 2764.3232 | Q36: =Q16*Annual!$E55/100 -> 2804.8487 | R36: =R16*Annual!$F55/100 -> 3149.884 | S36: =S16*Annual!$F55/100 -> 3135.2669 | T36: =T16*Annual!$F55/100 -> 3369.2387 | U36: =U16*Annual!$F55/100 -> 3432.7668 | V36: =V16*Annual!$G55/100 -> 3338.3506 | W36: =W16*Annual!$G55/100 -> 3400.2969 | X36: =X16*Annual!$G55/100 -> 3705.3422 | Y36: =Y16*Annual!$G55/100 -> 3749.0383 | Z36: =Z16*Annual!H55/100 -> 3749.4546 | AA36: =AA16*Annual!H55/100 -> 3798.4847 | AB36: =AB16*Annual!H55/100 -> 3924.8314 | AC36: =AC16*Annual!H55/100 -> 4023.0263 | AD36: =AD16*Annual!$I55/100 -> 4253.0581 | AE36: =AE16*Annual!$I55/100 -> 4261.4598 | AF36: =AF16*Annual!$I55/100 -> 4549.3297 | AG36: =AG16*Annual!$I55/100 -> 4886.9977 | AH36: =AH16*Annual!$J55/100 -> 5080.2774 | AI36: =AI16*Annual!$J55/100 -> 5024.0669 | AJ36: =AJ16*Annual!$J55/100 -> 4871.3997 | AK36: =AK16*Annual!$J55/100 -> 4819.4687 | AL36: =AL16*Annual!$K55/100 -> 5572.108 | AM36: =AM16*Annual!$K55/100 -> 5292.22 | AN36: =AN16*Annual!$K55/100 -> 5625.1832 | AO36: =AO16*Annual!$K55/100 -> 5592.5184 | AP36: =AP16*Annual!$L55/100 -> 6492.3194 | AQ36: =AQ16*Annual!$L55/100 -> 6404.6138 | AR36: =AR16*Annual!$L55/100 -> 6482.4947 | AS36: =AS16*Annual!$L55/100 -> 6281.5028 | AT36: =AT16*Annual!$M55/100 -> 6972.1908 | AU36: =AU16*Annual!$M55/100 -> 6971.0864 | AV36: =AV16*Annual!$M55/100 -> 7621.7395 | AW36: =AW16*Annual!$M55/100 -> 7515.161 | AX36: =AX16*Annual!$N55/100 -> 8699.2206 | AY36: =AY16*Annual!$N55/100 -> 8277.8911 | AZ36: =AZ16*Annual!$N55/100 -> 8997.3899 | BA36: =BA16*Annual!$N55/100 -> 9294.0436 | BB36: =BB16*Annual!$O55/100 -> 9461.9995 | BC36: =BC16*Annual!$O55/100 -> 9172.2564 | BD36: =BD16*Annual!$O55/100 -> 9225.7909 | BE36: =BE16*Annual!$O55/100 -> 9515.7962 | BF36: =BF16*Annual!P55/100 -> 10221.055 | BG36: =BG16*Annual!P55/100 -> 9936.2881 | BH36: =BH16*Annual!P55/100 -> 9999.6158 | BI36: =BI16*Annual!P55/100 -> 10336.251 | BJ36: =BJ16*Annual!Q55/100 -> 10838.547 | BK36: =BK16*Annual!Q55/100 -> 10646.473 | BL36: =BL16*Annual!Q55/100 -> 10634.327 | BM36: =BM16*Annual!Q55/100 -> 11236.799 | BN36: =BN16*Annual!$T55/100 -> 11385.146 | BO36: =BO16*Annual!$T55/100 -> 11223.472 | BP36: =BP16*Annual!$T55/100 -> 11389.439 | BQ36: =BQ16*Annual!$T55/100 -> 11948.219 | BR36: =BR16*Annual!$T55/100 -> 12295.449 | BS36: =BS16*Annual!$T55/100 -> 12229.037 | BT36: =BT16*Annual!$T55/100 -> 12534.032 | BU36: =BU16*Annual!$T55/100 -> 13144.849 | ... BY36: =BY16*Annual!$T55/100 -> 13834.794 | BZ36: =BZ16*Annual!$U55/100 -> 14943.932
A37: Personal services | B37: =B17*Annual!$B56/100 -> 302.23805 | C37: =C17*Annual!$B56/100 -> 316.32958 | D37: =D17*Annual!$B56/100 -> 334.28333 | E37: =E17*Annual!$B56/100 -> 332.02108 | F37: =F17*Annual!$C56/100 -> 344.58884 | G37: =G17*Annual!$C56/100 -> 362.6388 | H37: =H17*Annual!$C56/100 -> 380.94926 | I37: =I17*Annual!$C56/100 -> 378.7522 | J37: =J17*Annual!$D56/100 -> 378.6226 | K37: =K17*Annual!$D56/100 -> 397.65303 | L37: =L17*Annual!$D56/100 -> 417.08704 | M37: =M17*Annual!$D56/100 -> 413.97465 | N37: =N17*Annual!$E56/100 -> 444.17204 | O37: =O17*Annual!$E56/100 -> 453.3823 | P37: =P17*Annual!$E56/100 -> 475.43781 | Q37: =Q17*Annual!$E56/100 -> 465.1305 | R37: =R17*Annual!$F56/100 -> 494.37458 | S37: =S17*Annual!$F56/100 -> 510.70471 | T37: =T17*Annual!$F56/100 -> 555.98444 | U37: =U17*Annual!$F56/100 -> 544.3621 | V37: =V17*Annual!$G56/100 -> 597.1836 | W37: =W17*Annual!$G56/100 -> 627.23914 | X37: =X17*Annual!$G56/100 -> 666.19247 | Y37: =Y17*Annual!$G56/100 -> 653.27933 | Z37: =Z17*Annual!H56/100 -> 698.90572 | AA37: =AA17*Annual!H56/100 -> 687.57385 | AB37: =AB17*Annual!H56/100 -> 696.57855 | AC37: =AC17*Annual!H56/100 -> 696.79754 | AD37: =AD17*Annual!$I56/100 -> 828.63084 | AE37: =AE17*Annual!$I56/100 -> 856.79089 | AF37: =AF17*Annual!$I56/100 -> 884.50993 | AG37: =AG17*Annual!$I56/100 -> 896.25417 | AH37: =AH17*Annual!$J56/100 -> 974.06372 | AI37: =AI17*Annual!$J56/100 -> 996.78741 | AJ37: =AJ17*Annual!$J56/100 -> 1000.8715 | AK37: =AK17*Annual!$J56/100 -> 1007.7163 | AL37: =AL17*Annual!$K56/100 -> 1042.0143 | AM37: =AM17*Annual!$K56/100 -> 1119.9546 | AN37: =AN17*Annual!$K56/100 -> 1152.2908 | AO37: =AO17*Annual!$K56/100 -> 1157.9934 | AP37: =AP17*Annual!$L56/100 -> 1151.2985 | AQ37: =AQ17*Annual!$L56/100 -> 1252.4876 | AR37: =AR17*Annual!$L56/100 -> 1306.1904 | AS37: =AS17*Annual!$L56/100 -> 1336.2965 | AT37: =AT17*Annual!$M56/100 -> 1248.306 | AU37: =AU17*Annual!$M56/100 -> 1402.3777 | AV37: =AV17*Annual!$M56/100 -> 1470.7816 | AW37: =AW17*Annual!$M56/100 -> 1471.4656 | AX37: =AX17*Annual!$N56/100 -> 1390.8044 | AY37: =AY17*Annual!$N56/100 -> 1635.9781 | AZ37: =AZ17*Annual!$N56/100 -> 1689.7191 | BA37: =BA17*Annual!$N56/100 -> 1474.8514 | BB37: =BB17*Annual!$O56/100 -> 1467.4764 | BC37: =BC17*Annual!$O56/100 -> 1767.0233 | BD37: =BD17*Annual!$O56/100 -> 1804.5539 | BE37: =BE17*Annual!$O56/100 -> 1571.1461 | BF37: =BF17*Annual!P56/100 -> 1747.8077 | BG37: =BG17*Annual!P56/100 -> 2160.6493 | BH37: =BH17*Annual!P56/100 -> 2187.9828 | BI37: =BI17*Annual!P56/100 -> 1961.8011 | BJ37: =BJ17*Annual!Q56/100 -> 1992.5084 | BK37: =BK17*Annual!Q56/100 -> 2507.4935 | BL37: =BL17*Annual!Q56/100 -> 2513.2549 | BM37: =BM17*Annual!Q56/100 -> 2297.8144 | BN37: =BN17*Annual!$R56/100 -> 1980.6668 | BO37: =BO17*Annual!$R56/100 -> 2443.0117 | BP37: =BP17*Annual!$R56/100 -> 2599.917 | BQ37: =BQ17*Annual!$R56/100 -> 2429.8219 | BR37: =BR17*Annual!$T56/100 -> 2245.1753 | BS37: =BS17*Annual!$T56/100 -> 2655.8212 | BT37: =BT17*Annual!$T56/100 -> 2771.7505 | BU37: =BU17*Annual!$T56/100 -> 2584.5202 | BV37: =BV17*Annual!$T56/100 -> 2480.6504 | BW37: =BW17*Annual!$T56/100 -> 2792.643 | BX37: =BX17*Annual!$T56/100 -> 2829.163 | BY37: =BY17*Annual!$T56/100 -> 2651.3795 | BZ37: =BZ17*Annual!$U56/100 -> 2657.6446
A38: General government services | B38: =B18*Annual!$B57/100 -> 288.94783 | C38: =C18*Annual!$B57/100 -> 297.27899 | D38: =D18*Annual!$B57/100 -> 304.97507 | E38: =E18*Annual!$B57/100 -> 312.07704 | F38: =F18*Annual!$C57/100 -> 327.38029 | G38: =G18*Annual!$C57/100 -> 341.0081 | H38: =H18*Annual!$C57/100 -> 353.21055 | I38: =I18*Annual!$C57/100 -> 358.21668 | J38: =J18*Annual!$D57/100 -> 357.21945 | K38: =K18*Annual!$D57/100 -> 373.46955 | L38: =L18*Annual!$D57/100 -> 398.78039 | M38: =M18*Annual!$D57/100 -> 395.68385 | N38: =N18*Annual!$E57/100 -> 411.98392 | O38: =O18*Annual!$E57/100 -> 440.0486 | P38: =P18*Annual!$E57/100 -> 465.34828 | Q38: =Q18*Annual!$E57/100 -> 475.4405 | R38: =R18*Annual!$F57/100 -> 470.64276 | S38: =S18*Annual!$F57/100 -> 483.83206 | T38: =T18*Annual!$F57/100 -> 510.21067 | U38: =U18*Annual!$F57/100 -> 514.92113 | V38: =V18*Annual!$G57/100 -> 532.85233 | W38: =W18*Annual!$G57/100 -> 551.4087 | X38: =X18*Annual!$G57/100 -> 586.48973 | Y38: =Y18*Annual!$G57/100 -> 592.72033 | Z38: =Z18*Annual!H57/100 -> 627.20605 | AA38: =AA18*Annual!H57/100 -> 627.62005 | AB38: =AB18*Annual!H57/100 -> 646.52593 | AC38: =AC18*Annual!H57/100 -> 668.32979 | AD38: =AD18*Annual!$I57/100 -> 715.57968 | AE38: =AE18*Annual!$I57/100 -> 725.21082 | AF38: =AF18*Annual!$I57/100 -> 752.05417 | AG38: =AG18*Annual!$I57/100 -> 771.17886 | AH38: =AH18*Annual!$J57/100 -> 778.68379 | AI38: =AI18*Annual!$J57/100 -> 784.70408 | AJ38: =AJ18*Annual!$J57/100 -> 792.91357 | AK38: =AK18*Annual!$J57/100 -> 799.89164 | AL38: =AL18*Annual!$K57/100 -> 812.06277 | AM38: =AM18*Annual!$K57/100 -> 801.17736 | AN38: =AN18*Annual!$K57/100 -> 836.55223 | AO38: =AO18*Annual!$K57/100 -> 853.42734 | AP38: =AP18*Annual!$L57/100 -> 874.24072 | AQ38: =AQ18*Annual!$L57/100 -> 892.50803 | AR38: =AR18*Annual!$L57/100 -> 929.86058 | AS38: =AS18*Annual!$L57/100 -> 956.30729 | AT38: =AT18*Annual!$M57/100 -> 981.97228 | AU38: =AU18*Annual!$M57/100 -> 1005.5374 | AV38: =AV18*Annual!$M57/100 -> 1039.9998 | AW38: =AW18*Annual!$M57/100 -> 1076.0967 | AX38: =AX18*Annual!$N57/100 -> 1115.4618 | AY38: =AY18*Annual!$N57/100 -> 1157.0835 | AZ38: =AZ18*Annual!$N57/100 -> 1212.8976 | BA38: =BA18*Annual!$N57/100 -> 1233.7766 | BB38: =BB18*Annual!$O57/100 -> 1272.0386 | BC38: =BC18*Annual!$O57/100 -> 1360.658 | BD38: =BD18*Annual!$O57/100 -> 1453.2496 | BE38: =BE18*Annual!$O57/100 -> 1490.9163 | BF38: =BF18*Annual!P57/100 -> 1499.5771 | BG38: =BG18*Annual!P57/100 -> 1494.2156 | BH38: =BH18*Annual!P57/100 -> 1516.899 | BI38: =BI18*Annual!P57/100 -> 1548.2433 | BJ38: =BJ18*Annual!Q57/100 -> 1574.3537 | BK38: =BK18*Annual!Q57/100 -> 1598.6382 | BL38: =BL18*Annual!Q57/100 -> 1641.55 | BM38: =BM18*Annual!Q57/100 -> 1645.6894 | BN38: =BN18*Annual!$T57/100 -> 1716.6342 | BO38: =BO18*Annual!$T57/100 -> 1731.9787 | BP38: =BP18*Annual!$T57/100 -> 1780.5232 | BQ38: =BQ18*Annual!$T57/100 -> 1841.7618 | BR38: =BR18*Annual!$T57/100 -> 1870.9164 | BS38: =BS18*Annual!$T57/100 -> 1886.1215 | BT38: =BT18*Annual!$T57/100 -> 1948.6156 | BU38: =BU18*Annual!$T57/100 -> 1954.4744 | ... BY38: =BY18*Annual!$T57/100 -> 2124.6591 | BZ38: =BZ18*Annual!$U57/100 -> 2196.474
A39: =A21 -> SA - Annual Gross Operating Surplus | B39: =B33+B29+B26 -> 8953.4057 | C39: =C33+C29+C26 -> 9795.0902 | D39: =D33+D29+D26 -> 10542.083 | E39: =E33+E29+E26 -> 10026.748 | F39: =F33+F29+F26 -> 10212.507 | G39: =G33+G29+G26 -> 11807.265 | H39: =H33+H29+H26 -> 11696.16 | I39: =I33+I29+I26 -> 11206.641 | ... BZ39: =BZ33+BZ29+BZ26 -> 57589.744
