Workbook

Sheet Introduction
B1: Annual GOS and GOS-R
B3: Quarterly GOS and GOS-R
B5: Year-on-Year Growth Rates per Sector
B7: Annualised Quarterly Rates per Sector
B9: Yearly Provincial Contribution Rates per Sector
B11: Yearly Provincial Sector as a % of National Sector GOS
B13: Ethekwini Municipal Area GOS
B15: Msunduzi Municipal Area GOS
B17: Mthlatuze Municipal Area GOS
D18: Model Assumptions
B19: Hibiscus Coast Municipal GOS
D20: Stable structural relationship between SA and KZN economy
B21: Newcastle Municipal GOS
D22: Stable relationship between GDP and Fuel Consumption
B23: Comparitive Growth Rates
D24: Fuel Consumption per R1 GDP are location insensitive
B25: Comparitive Contribution Rates

Sheet Annual
A1: Annual Gross Operating Surplus
A3: SA – Annual Gross Operating Surplus
A4: Rand million
A5: National Industry | B5: 1995 | C5: 1996 | D5: 1997 | E5: 1998 | F5: 1999 | G5: 2000 | H5: 2001 | I5: 2002 | J5: 2003 | K5: 2004 | L5: 2005 | M5: 2006 | N5: 2007 | O5: 2008 | P5: 2009 | Q5: 2010 | R5: 2011 | S5: 2012 | T5: 2013
A6: Primary Industries | B6: =SUM(B7:B8) -> 29288.74 | C6: =SUM(C7:C8) -> 35611.5 | D6: =SUM(D7:D8) -> 36198.95 | E6: =SUM(E7:E8) -> 39502.9 | F6: =SUM(F7:F8) -> 43520.8 | G6: =SUM(G7:G8) -> 53175.2 | H6: =SUM(H7:H8) -> 68542.4 | I6: =SUM(I7:I8) -> 87904.6 | ... T6: =SUM(T7:T8) -> 216975.83
A7: Agriculture, forestry and fishing | B7: 12910.72 | C7: 16812.88 | D7: 17735.19 | E7: 17119.7 | F7: 17367.4 | G7: 18042 | H7: 22610.2 | I7: 29630.1 | J7: 26189.4 | K7: 26577.5 | L7: 25259 | M7: 32511 | N7: 39181.5 | O7: 44007.14 | P7: 45675.76 | Q7: 44048.56 | R7: 45236.422 | S7: 49525.65 | T7: 49109.831
A8: Mining and quarrying | B8: 16378.02 | C8: 18798.62 | D8: 18463.76 | E8: 22383.2 | F8: 26153.4 | G8: 35133.2 | H8: 45932.2 | I8: 58274.5 | J8: 50576.6 | K8: 53293.8 | L8: 65114.6 | M8: 83970.1 | N8: 99954.34 | O8: 128088 | P8: 123002.43 | Q8: 145619.31 | R8: 181616.49 | S8: 167541.05 | T8: 167866
A9: Secondary Industries | B9: =SUM(B10:B12) -> 67025.514 | C9: =SUM(C10:C12) -> 72880.711 | D9: =SUM(D10:D12) -> 81881.548 | E9: =SUM(E10:E12) -> 80029.295 | F9: =SUM(F10:F12) -> 82519.9 | G9: =SUM(G10:G12) -> 99052.658 | H9: =SUM(H10:H12) -> 112354.3 | I9: =SUM(I10:I12) -> 131779.38 | ... T9: =SUM(T10:T12) -> 217128.79
A10: Manufacturing | B10: 49695.27 | C10: 54160.04 | D10: 61071.07 | E10: 58746.996 | F10: 61353 | G10: 76113.66 | H10: 88179.4 | I10: 104776.5 | J10: 118710.1 | K10: 131414.6 | L10: 138358.4 | M10: 140874.3 | N10: 151829.27 | O10: 166789.73 | P10: 148106.88 | Q10: 143218.3 | R10: 120128.91 | S10: 104320.2 | T10: 92580.711
A11: Electricity, gas and water | B11: 12465.15 | C11: 12503.81 | D11: 13266.03 | E11: 13736.9 | F11: 13440 | G11: 14622 | H11: 14814.9 | I11: 16622.1 | J11: 18829.3 | K11: 18975 | L11: 20719 | M11: 23287 | N11: 26597 | O11: 28162 | P11: 40684 | Q11: 41435.82 | R11: 49152.221 | S11: 57931.452 | T11: 63183.081
A12: Construction | B12: 4865.0938 | C12: 6216.8611 | D12: 7544.4479 | E12: 7545.399 | F12: 7726.9 | G12: 8316.998 | H12: 9360 | I12: 10380.78 | J12: 11358.8 | K12: 14998.5 | L12: 19102.9 | M12: 24274.4 | N12: 27077.49 | O12: 37380.52 | P12: 47243.02 | Q12: 50412.96 | R12: 53818.8 | S12: 56637.82 | T12: 61365
A13: Tertiary industries | B13: =SUM(B14:B18) -> 129361.8 | C13: =SUM(C14:C18) -> 148861.53 | D13: =SUM(D14:D18) -> 169009.82 | E13: =SUM(E14:E18) -> 182799.8 | F13: =SUM(F14:F18) -> 208416 | G13: =SUM(G14:G18) -> 243688.45 | H13: =SUM(H14:H18) -> 272322.9 | I13: =SUM(I14:I18) -> 317147.2 | ... T13: =SUM(T14:T18) -> 1019375.8
A14: Wholesale & retail trade; hotels & restaurants | B14: 36425.373 | C14: 41046.48 | D14: 43726.38 | E14: 44879.9 | F14: 48733.1 | G14: 61187.35 | H14: 68374 | I14: 76234.4 | J14: 84656.8 | K14: 93654.4 | L14: 104162.8 | M14: 115025.7 | N14: 130224.8 | O14: 150714.09 | P14: 169843.02 | Q14: 217341.63 | R14: 244240.46 | S14: 280750.47 | T14: 315814.74
A15: Transport , storage and communication | B15: 22262.67 | C15: 26492.46 | D15: 30338.69 | E15: 33884.1 | F15: 38979.3 | G15: 47245.7 | H15: 53276.9 | I15: 63332.6 | J15: 70857.9 | K15: 78745.2 | L15: 88957 | M15: 99715 | N15: 106488.1 | O15: 128396.11 | P15: 134898.25 | Q15: 149801.34 | R15: 164349.9 | S15: 169840.04 | T15: 175060.52
A16: Finance, real estate and business services | B16: 54025.59 | C16: 62446.52 | D16: 73799.08 | E16: 79841.8 | F16: 93114.6 | G16: 102965.6 | H16: 115041 | I16: 134816.9 | J16: 147555.9 | K16: 164340.1 | L16: 182569.4 | M16: 210642.2 | N16: 255728.41 | O16: 270957.03 | P16: 293501.65 | Q16: 314193.96 | R16: 332777.54 | S16: 363610.6 | T16: 402514
A17: Personal services | B17: 7837.87 | C17: 8953.57 | D17: 9817.375 | E17: 11226 | F17: 12880 | G17: 15578.8 | H17: 17010 | I17: 21220.5 | J17: 24359.6 | K17: 27370.5 | L17: 31008.996 | M17: 34340.6 | N17: 38033.43 | O17: 40668.09 | P17: 49652.34 | Q17: 57459.31 | R17: 58426.77 | S17: 63589.05 | T17: 66667.485
A18: General government services | B18: 8810.3 | C18: 9922.5 | D18: 11328.3 | E18: 12968 | F18: 14709 | G18: 16711 | H18: 18621 | I18: 21542.8 | J18: 23067.4 | K18: 24276.3 | L18: 26796 | M18: 30126 | N18: 34582 | O18: 40716 | P18: 44073 | Q18: 46820 | R18: 50689 | S18: 54913 | T18: 59319
A19: Annual Gross Operating Surplus | B19: =B13+B9+B6 -> 225676.06 | C19: =C13+C9+C6 -> 257353.74 | D19: =D13+D9+D6 -> 287090.32 | E19: =E13+E9+E6 -> 302331.99 | F19: =F13+F9+F6 -> 334456.7 | G19: =G13+G9+G6 -> 395916.31 | H19: =H13+H9+H6 -> 453219.6 | I19: =I13+I9+I6 -> 536831.18 | ... T19: =T13+T9+T6 -> 1453480.4
A20: 0 | B20: 0 | C20: 0 | D20: 0 | E20: 0 | F20: 0 | G20: 0 | H20: 0 | I20: 0 | J20: 0 | K20: 0 | L20: 0 | M20: 0 | N20: 0 | O20: 0 | P20: 0 | Q20: 0 | R20: 0 | S20: 0 | T20: 0
A21: SA - Annual Gross Operating Surplus | B21: =B19+B20 -> 225676.06 | C21: =C19+C20 -> 257353.74 | D21: =D19+D20 -> 287090.32 | E21: =E19+E20 -> 302331.99 | F21: =F19+F20 -> 334456.7 | G21: =G19+G20 -> 395916.31 | H21: =H19+H20 -> 453219.6 | I21: =I19+I20 -> 536831.18 | ... T21: =T19+T20 -> 1453480.4
A23: KZN – Annual Gross Operating Surplus
A24: Rand million
A25: Provincial Industry | B25: 1995 | C25: 1996 | D25: 1997 | E25: 1998 | F25: 1999 | G25: 2000 | H25: 2001 | I25: 2002 | J25: 2003 | K25: 2004 | L25: 2005 | M25: 2006 | N25: 2007 | O25: 2008 | P25: 2009 | Q25: 2010 | R25: =R5 -> 2011 | S25: =S5 -> 2012 | T25: =T5 -> 2013
A26: Primary Industries | B26: =B27+B28 -> 4746.2292 | C26: =C27+C28 -> 6077.61 | D26: =D27+D28 -> 6255.8274 | E26: =E27+E28 -> 6624.2777 | F26: =F27+F28 -> 6065.0073 | G26: =G27+G28 -> 6583.6936 | H26: =H27+H28 -> 8426.0274 | I26: =I27+I28 -> 10535.785 | ... T26: =T27+T28 -> 18656.994
A27: Agriculture, forestry and fishing | B27: =B7*B46/100 -> 4030.712 | C27: =C7*C46/100 -> 4924.4316 | D27: =D7*D46/100 -> 5129.8205 | E27: =E7*E46/100 -> 5276.3417 | F27: =F7*F46/100 -> 4907.6438 | G27: =G7*G46/100 -> 5052.2122 | H27: =H7*H46/100 -> 6524.2408 | I27: =I7*I46/100 -> 8401.6243 | ... T27: =T7*T46/100 -> 13139.977
A28: Mining and quarrying | B28: =B8*B47/100 -> 715.51726 | C28: =C8*C47/100 -> 1153.1783 | D28: =D8*D47/100 -> 1126.0069 | E28: =E8*E47/100 -> 1347.9359 | F28: =F8*F47/100 -> 1157.3634 | G28: =G8*G47/100 -> 1531.4813 | H28: =H8*H47/100 -> 1901.7866 | I28: =I8*I47/100 -> 2134.1609 | ... T28: =T8*T47/100 -> 5517.017
A29: Secondary Industries | B29: =B30+B31+B32 -> 13443.239 | C29: =C30+C31+C32 -> 14630.903 | D29: =D30+D31+D32 -> 16457.831 | E29: =E30+E31+E32 -> 15949.667 | F29: =F30+F31+F32 -> 16558.243 | G29: =G30+G31+G32 -> 20100.184 | H29: =H30+H31+H32 -> 23328.445 | I29: =I30+I31+I32 -> 27008.441 | ... T29: =T30+T31+T32 -> 38628.579
A30: Manufacturing | B30: =B10*B49/100 -> 10398.258 | C30: =C10*C49/100 -> 11371.359 | D30: =D10*D49/100 -> 12816.268 | E30: =E10*E49/100 -> 12297.639 | F30: =F10*F49/100 -> 12971.236 | G30: =G10*G49/100 -> 16164.865 | H30: =H10*H49/100 -> 18686.737 | I30: =I10*I49/100 -> 22168.441 | ... T30: =T10*T49/100 -> 19513.708
A31: Electricity, gas and water | B31: =B11*B50/100 -> 2168.2411 | C31: =C11*C50/100 -> 2180.3455 | D31: =D11*D50/100 -> 2303.0859 | E31: =E11*E50/100 -> 2389.6288 | F31: =F11*F50/100 -> 2351.1098 | G31: =G11*G50/100 -> 2626.5455 | H31: =H11*H50/100 -> 2759.1474 | I31: =I11*I50/100 -> 3281.2803 | ... T31: =T11*T50/100 -> 10261.586
A32: Construction | B32: =B12*B51/100 -> 876.73982 | C32: =C12*C51/100 -> 1079.1985 | D32: =D12*D51/100 -> 1338.4775 | E32: =E12*E51/100 -> 1262.3994 | F32: =F12*F51/100 -> 1235.8973 | G32: =G12*G51/100 -> 1308.7732 | H32: =H12*H51/100 -> 1882.5604 | I32: =I12*I51/100 -> 1558.7197 | ... T32: =T12*T51/100 -> 8853.2853
A33: Tertiary industries | B33: =SUM(B34:B38) -> 21127.859 | C33: =SUM(C34:C38) -> 24214.06 | D33: =SUM(D34:D38) -> 27229.767 | E33: =SUM(E34:E38) -> 29465.009 | F33: =SUM(F34:F38) -> 33469.63 | G33: =SUM(G34:G38) -> 38927.004 | H33: =SUM(H34:H38) -> 43675.257 | I33: =SUM(I34:I38) -> 50733.536 | ... T33: =SUM(T34:T38) -> 166862.39
A34: Wholesale & retail trade; hotels & restaurants | B34: =B14*B53/100 -> 5908.7922 | C34: =C14*C53/100 -> 6565.118 | D34: =D14*D53/100 -> 7004.4939 | E34: =E14*E53/100 -> 7159.5347 | F34: =F14*F53/100 -> 7741.9578 | G34: =G14*G53/100 -> 9733.466 | H34: =H14*H53/100 -> 11507.727 | I34: =I14*I53/100 -> 12849.436 | ... T34: =T14*T53/100 -> 53979.614
A35: Transport , storage and communication | B35: =B15*B54/100 -> 5186.9607 | C35: =C15*C54/100 -> 6077.4662 | D35: =D15*D54/100 -> 6827.8461 | E35: =E15*E54/100 -> 7555.5437 | F35: =F15*F54/100 -> 8555.4834 | G35: =G15*G54/100 -> 10193.144 | H35: =H15*H54/100 -> 11322.195 | I35: =I15*I54/100 -> 13503.045 | ... T35: =T15*T54/100 -> 38279.471
A36: Finance, real estate and business services | B36: =B16*B55/100 -> 7543.9551 | C36: =C16*C55/100 -> 8724.7312 | D36: =D16*D55/100 -> 10264.937 | E36: =E16*E55/100 -> 11118.986 | F36: =F16*F55/100 -> 13087.156 | G36: =G16*G55/100 -> 14193.028 | H36: =H16*H55/100 -> 15495.797 | I36: =I16*I55/100 -> 17950.845 | ... T36: =T16*T55/100 -> 55574.722
A37: Personal services | B37: =B17*B56/100 -> 1284.872 | C37: =C17*C56/100 -> 1466.9291 | D37: =D17*D56/100 -> 1607.3373 | E37: =E17*E56/100 -> 1838.1226 | F37: =F17*F56/100 -> 2105.4258 | G37: =G17*G56/100 -> 2543.8945 | H37: =H17*H56/100 -> 2779.8557 | I37: =I17*I56/100 -> 3466.1858 | ... T37: =T17*T56/100 -> 10753.836
A38: General government services | B38: =B18*B57/100 -> 1203.2789 | C38: =C18*C57/100 -> 1379.8156 | D38: =D18*D57/100 -> 1525.1532 | E38: =E18*E57/100 -> 1792.8213 | F38: =F18*F57/100 -> 1979.6066 | G38: =G18*G57/100 -> 2263.4711 | H38: =H18*H57/100 -> 2569.6818 | I38: =I18*I57/100 -> 2964.0235 | ... T38: =T18*T57/100 -> 8274.7459
A39: =A21 -> SA - Annual Gross Operating Surplus | B39: =B33+B29+B26 -> 39317.327 | C39: =C33+C29+C26 -> 44922.573 | D39: =D33+D29+D26 -> 49943.426 | E39: =E33+E29+E26 -> 52038.953 | F39: =F33+F29+F26 -> 56092.88 | G39: =G33+G29+G26 -> 65610.882 | H39: =H33+H29+H26 -> 75429.729 | I39: =I33+I29+I26 -> 88277.762 | ... T39: =T33+T29+T26 -> 224147.96
A40: Taxes less subsidies on products | B40: 0 | C40: 0 | D40: 0 | E40: 0 | F40: 0 | G40: 0 | H40: 0 | I40: 0 | J40: 0 | K40: 0 | L40: 0 | M40: 0 | N40: 0 | O40: 0 | P40: 1 | Q40: 2 | R40: 3 | S40: 4 | T40: 4
A41: KZN - Annual Gross Operating Surplus | B41: =B40+B39 -> 39317.327 | C41: =C40+C39 -> 44922.573 | D41: =D40+D39 -> 49943.426 | E41: =E40+E39 -> 52038.953 | F41: =F40+F39 -> 56092.88 | G41: =G40+G39 -> 65610.882 | H41: =H40+H39 -> 75429.729 | I41: =I40+I39 -> 88277.762 | ... T41: =T40+T39 -> 224151.96
A43: Structure Relationship
A44: National - Provincial Structure | B44: 1995 | C44: 1996 | D44: 1997 | E44: 1998 | F44: 1999 | G44: 2000 | H44: 2001 | I44: 2002 | J44: 2003 | K44: 2004 | L44: 2005 | M44: 2006 | N44: 2007 | O44: 2008 | P44: 2009 | Q44: 2010 | R44: =R25 -> 2011 | S44: =S25 -> 2012 | T44: =T25 -> 2013 | U44: 2013
A45: Primary Industries | B45: =B26/B6*100 -> 16.204962 | C45: =C26/C6*100 -> 17.066425 | D45: =D26/D6*100 -> 17.281792 | E45: =E26/E6*100 -> 16.769092 | F45: =F26/F6*100 -> 13.935882 | G45: =G26/G6*100 -> 12.381136 | H45: =H26/H6*100 -> 12.293161 | I45: =I26/I6*100 -> 11.985477 | ... T45: =T26/T6*100 -> 8.5986511 | U45: =T45+($T45-$S45) -> 8.4416435 | V45: =U45 -> 8.4416435 | W45: =V45 -> 8.4416435 | X45: =W45 -> 8.4416435 | Y45: =X45 -> 8.4416435
A46: Agriculture, forestry and fishing | B46: 31.219885 | C46: 29.289638 | D46: 28.924531 | E46: 30.820293 | F46: 28.257792 | G46: 28.002507 | H46: 28.855299 | I46: 28.355032 | J46: 29.622369 | K46: 29.458493 | L46: 26.981005 | M46: 28.69121 | N46: 29.088604 | O46: 28.699888 | P46: =O46+(O46-N46) -> 28.311172 | Q46: =P46+(P46-O46) -> 27.922456 | R46: =Q46+(Q46-P46) -> 27.53374 | S46: =R46+(R46-Q46) -> 27.145023 | T46: =S46+(S46-R46) -> 26.756307 | U46: =T46+($T46-$S46) -> 26.367591 | V46: =U46 -> 26.367591 | W46: =V46 -> 26.367591 | X46: =W46 -> 26.367591 | Y46: =X46 -> 26.367591
A47: Mining and quarrying | B47: 4.3687653 | C47: 6.1343776 | D47: 6.0984701 | E47: 6.0220877 | F47: 4.4252885 | G47: 4.3590716 | H47: 4.1404213 | I47: 3.6622552 | J47: 3.7499384 | K47: 3.7681573 | L47: 3.4964845 | M47: 3.3997567 | N47: 3.4854353 | O47: 3.4522894 | P47: =O47+(O47-N47) -> 3.4191436 | Q47: =P47+(P47-O47) -> 3.3859977 | R47: =Q47+(Q47-P47) -> 3.3528519 | S47: =R47+(R47-Q47) -> 3.3197061 | T47: =S47+(S47-R47) -> 3.2865602 | U47: =T47+($T47-$S47) -> 3.2534144 | V47: =U47 -> 3.2534144 | W47: =V47 -> 3.2534144 | X47: =W47 -> 3.2534144 | Y47: =X47 -> 3.2534144
A48: Secondary Industries | B48: =B29/B9*100 -> 20.056898 | C48: =C29/C9*100 -> 20.075138 | D48: =D29/D9*100 -> 20.099561 | E48: =E29/E9*100 -> 19.929786 | F48: =F29/F9*100 -> 20.065757 | G48: =G29/G9*100 -> 20.292422 | H48: =H29/H9*100 -> 20.763286 | I48: =I29/I9*100 -> 20.495195 | ... T48: =T29/T9*100 -> 17.790629 | U48: =T48+($T48-$S48) -> 17.455508 | V48: =U48 -> 17.455508 | W48: =V48 -> 17.455508 | X48: =W48 -> 17.455508 | Y48: =X48 -> 17.455508
A49: Manufacturing | B49: 20.924039 | C49: 20.995847 | D49: 20.985825 | E49: 20.933221 | F49: 21.141974 | G49: 21.237798 | H49: 21.191726 | I49: 21.157837 | J49: 21.284184 | K49: 21.244725 | L49: 21.237649 | M49: 21.157434 | N49: 21.168502 | O49: 21.153337 | P49: =O49+(O49-N49) -> 21.138171 | Q49: =P49+(P49-O49) -> 21.123006 | R49: =Q49+(Q49-P49) -> 21.10784 | S49: =R49+(R49-Q49) -> 21.092674 | T49: =S49+(S49-R49) -> 21.077509 | U49: =T49+($T49-$S49) -> 21.062343 | V49: =U49 -> 21.062343 | W49: =V49 -> 21.062343 | X49: =W49 -> 21.062343 | Y49: =X49 -> 21.062343
A50: Electricity, gas and water | B50: 17.394424 | C50: 17.437449 | D50: 17.360777 | E50: 17.395692 | F50: 17.493377 | G50: 17.962971 | H50: 18.624138 | I50: 19.740468 | J50: 16.967711 | K50: 17.052466 | L50: 17.241025 | M50: 17.2214 | N50: 17.213097 | O50: 17.051087 | P50: =O50+(O50-N50) -> 16.889076 | Q50: =P50+(P50-O50) -> 16.727066 | R50: =Q50+(Q50-P50) -> 16.565055 | S50: =R50+(R50-Q50) -> 16.403045 | T50: =S50+(S50-R50) -> 16.241034 | U50: =T50+($T50-$S50) -> 16.079024 | V50: =U50 -> 16.079024 | W50: =V50 -> 16.079024 | X50: =W50 -> 16.079024 | Y50: =X50 -> 16.079024
A51: Construction | B51: 18.021026 | C51: 17.359219 | D51: 17.741225 | E51: 16.730718 | F51: 15.994737 | G51: 15.736125 | H51: 20.112824 | I51: 15.015439 | J51: 14.605836 | K51: 14.642919 | L51: 14.856965 | M51: 14.475115 | N51: 14.402204 | O51: 14.406379 | P51: =O51+(O51-N51) -> 14.410554 | Q51: =P51+(P51-O51) -> 14.41473 | R51: =Q51+(Q51-P51) -> 14.418905 | S51: =R51+(R51-Q51) -> 14.42308 | T51: =S51+(S51-R51) -> 14.427255 | U51: =T51+($T51-$S51) -> 14.431431 | V51: =U51 -> 14.431431 | W51: =V51 -> 14.431431 | X51: =W51 -> 14.431431 | Y51: =X51 -> 14.431431
A52: Tertiary industries | B52: =B33/B13*100 -> 16.332378 | C52: =C33/C13*100 -> 16.266164 | D52: =D33/D13*100 -> 16.111352 | E52: =E33/E13*100 -> 16.118731 | F52: =F33/F13*100 -> 16.05905 | G52: =G33/G13*100 -> 15.974087 | H52: =H33/H13*100 -> 16.03804 | I52: =I33/I13*100 -> 15.996842 | ... T52: =T33/T13*100 -> 16.369076 | U52: =T52+($T52-$S52) -> 16.321583 | V52: =U52 -> 16.321583 | W52: =V52 -> 16.321583 | X52: =W52 -> 16.321583 | Y52: =X52 -> 16.321583
A53: Wholesale & retail trade; hotels & restaurants | B53: 16.221638 | C53: 15.994351 | D53: 16.01892 | E53: 15.952653 | F53: 15.886446 | G53: 15.907644 | H53: 16.83056 | I53: 16.855168 | J53: 16.98696 | K53: 16.993237 | L53: 16.901343 | M53: 16.971881 | N53: 17.017461 | O53: 17.029914 | P53: =O53+(O53-N53) -> 17.042366 | Q53: =P53+(P53-O53) -> 17.054819 | R53: =Q53+(Q53-P53) -> 17.067271 | S53: =R53+(R53-Q53) -> 17.079724 | T53: =S53+(S53-R53) -> 17.092177 | U53: =T53+($T53-$S53) -> 17.104629 | V53: =U53 -> 17.104629 | W53: =V53 -> 17.104629 | X53: =W53 -> 17.104629 | Y53: =X53 -> 17.104629
A54: Transport , storage and communication | B54: 23.298916 | C54: 22.940362 | D54: 22.505408 | E54: 22.298198 | F54: 21.948787 | G54: 21.574756 | H54: 21.251603 | I54: 21.320844 | J54: 21.449795 | K54: 21.366281 | L54: 21.492347 | M54: 21.509594 | N54: 21.616175 | O54: 21.657883 | P54: =O54+(O54-N54) -> 21.69959 | Q54: =P54+(P54-O54) -> 21.741298 | R54: =Q54+(Q54-P54) -> 21.783006 | S54: =R54+(R54-Q54) -> 21.824713 | T54: =S54+(S54-R54) -> 21.866421 | U54: =T54+($T54-$S54) -> 21.908128 | V54: =U54 -> 21.908128 | W54: =V54 -> 21.908128 | X54: =W54 -> 21.908128 | Y54: =X54 -> 21.908128
A55: Finance, real estate and business services | B55: 13.96367 | C55: 13.971525 | D55: 13.909302 | E55: 13.926272 | F55: 14.054892 | G55: 13.784243 | H55: 13.469804 | I55: 13.314982 | J55: 13.415399 | K55: 13.436771 | L55: 14.055377 | M55: 13.805498 | N55: 13.791428 | O55: 13.794008 | P55: =O55+(O55-N55) -> 13.796587 | Q55: =P55+(P55-O55) -> 13.799166 | R55: =Q55+(Q55-P55) -> 13.801746 | S55: =R55+(R55-Q55) -> 13.804325 | T55: =S55+(S55-R55) -> 13.806904 | U55: =T55+($T55-$S55) -> 13.809483 | V55: =U55 -> 13.809483 | W55: =V55 -> 13.809483 | X55: =W55 -> 13.809483 | Y55: =X55 -> 13.809483
A56: Personal services | B56: 16.393128 | C56: 16.383734 | D56: 16.372374 | E56: 16.373799 | F56: 16.346474 | G56: 16.329207 | H56: 16.342479 | I56: 16.334138 | J56: 16.336224 | K56: 16.339684 | L56: 16.273577 | M56: 16.286643 | N56: 16.278713 | O56: 16.25402 | P56: =O56+(O56-N56) -> 16.229328 | Q56: =P56+(P56-O56) -> 16.204635 | R56: =Q56+(Q56-P56) -> 16.179942 | S56: =R56+(R56-Q56) -> 16.155249 | T56: =S56+(S56-R56) -> 16.130556 | U56: =T56+($T56-$S56) -> 16.105863 | V56: =U56 -> 16.105863 | W56: =V56 -> 16.105863 | X56: =W56 -> 16.105863 | Y56: =X56 -> 16.105863
A57: General government services | B57: 13.657639 | C57: 13.905927 | D57: 13.463214 | E57: 13.824964 | F57: 13.458472 | G57: 13.544797 | H57: 13.799913 | I57: 13.758766 | J57: 13.682483 | K57: 13.606768 | L57: 13.632321 | M57: 13.621477 | N57: 13.646462 | O57: 13.69698 | P57: =O57+(O57-N57) -> 13.747498 | Q57: =P57+(P57-O57) -> 13.798017 | R57: =Q57+(Q57-P57) -> 13.848535 | S57: =R57+(R57-Q57) -> 13.899053 | T57: =S57+(S57-R57) -> 13.949571 | U57: =T57+($T57-$S57) -> 14.000089 | V57: =U57 -> 14.000089 | W57: =V57 -> 14.000089 | X57: =W57 -> 14.000089 | Y57: =X57 -> 14.000089
A58: All industries at basic prices | B58: =B39/B19*100 -> 17.42202 | C58: =C39/C19*100 -> 17.455574 | D58: =D39/D19*100 -> 17.396416 | E58: =E39/E19*100 -> 17.212519 | F58: =F39/F19*100 -> 16.771343 | G58: =G39/G19*100 -> 16.571907 | H58: =H39/H19*100 -> 16.643086 | I58: =I39/I19*100 -> 16.444231 | ... T58: =T39/T19*100 -> 15.421465 | U58: =T58+($T58-$S58) -> 15.368017 | V58: =U58 -> 15.368017 | W58: =V58 -> 15.368017 | X58: =W58 -> 15.368017 | Y58: =X58 -> 15.368017
A59: Taxes less subsidies on products | B59: =B40/B20*100 -> #DIV/0! | C59: =C40/C20*100 -> #DIV/0! | D59: =D40/D20*100 -> #DIV/0! | E59: =E40/E20*100 -> #DIV/0! | F59: =F40/F20*100 -> #DIV/0! | G59: =G40/G20*100 -> #DIV/0! | H59: =H40/H20*100 -> #DIV/0! | I59: =I40/I20*100 -> #DIV/0! | ... T59: =T40/T20*100 -> #DIV/0! | U59: =T59+($T59-$S59) -> #DIV/0! | V59: =U59 -> #DIV/0! | W59: =V59 -> #DIV/0! | X59: =W59 -> #DIV/0! | Y59: =X59 -> #DIV/0!
A60: =A41 -> KZN - Annual Gross Operating Surplus | B60: =B41/B21*100 -> 17.42202 | C60: =C41/C21*100 -> 17.455574 | D60: =D41/D21*100 -> 17.396416 | E60: =E41/E21*100 -> 17.212519 | F60: =F41/F21*100 -> 16.771343 | G60: =G41/G21*100 -> 16.571907 | H60: =H41/H21*100 -> 16.643086 | I60: =I41/I21*100 -> 16.444231 | ... T60: =T41/T21*100 -> 15.42174 | U60: =T60+($T60-$S60) -> 15.368275 | V60: =U60 -> 15.368275 | W60: =V60 -> 15.368275 | X60: =W60 -> 15.368275 | Y60: =X60 -> 15.368275
A62: SA – Annual Gross Operating Surplus
A63: PA Change
A64: National Industry | C64: 1996 | D64: 1997 | E64: 1998 | F64: 1999 | G64: 2000 | H64: 2001 | I64: 2002 | J64: 2003 | K64: 2004 | L64: 2005 | M64: 2006 | N64: 2007 | O64: 2008 | P64: 2009 | Q64: 2010 | R64: =R44 -> 2011 | S64: =S44 -> 2012 | T64: =T44 -> 2013
A65: Primary Industries | C65: =(C6-B6)/B6*100 -> 21.587682 | D65: =(D6-C6)/C6*100 -> 1.6496076 | E65: =(E6-D6)/D6*100 -> 9.1271984 | F65: =(F6-E6)/E6*100 -> 10.171152 | G65: =(G6-F6)/F6*100 -> 22.183416 | H65: =(H6-G6)/G6*100 -> 28.899186 | I65: =(I6-H6)/H6*100 -> 28.2485 | J65: =(J6-I6)/I6*100 -> -12.671237 | ... T65: =(T6-S6)/S6*100 -> -0.041864909
A66: Agriculture, forestry and fishing | C66: =(C7-B7)/B7*100 -> 30.224186 | D66: =(D7-C7)/C7*100 -> 5.4857347 | E66: =(E7-D7)/D7*100 -> -3.4704449 | F66: =(F7-E7)/E7*100 -> 1.4468711 | G66: =(G7-F7)/F7*100 -> 3.884289 | H66: =(H7-G7)/G7*100 -> 25.319809 | I66: =(I7-H7)/H7*100 -> 31.047492 | J66: =(J7-I7)/I7*100 -> -11.612178 | ... T66: =(T7-S7)/S7*100 -> -0.83960332
A67: Mining and quarrying | C67: =(C8-B8)/B8*100 -> 14.779564 | D67: =(D8-C8)/C8*100 -> -1.781301 | E67: =(E8-D8)/D8*100 -> 21.227746 | F67: =(F8-E8)/E8*100 -> 16.843883 | G67: =(G8-F8)/F8*100 -> 34.335115 | H67: =(H8-G8)/G8*100 -> 30.737308 | I67: =(I8-H8)/H8*100 -> 26.870692 | J67: =(J8-I8)/I8*100 -> -13.209723 | ... T67: =(T8-S8)/S8*100 -> 0.19394902
A68: Secondary Industries | C68: =(C9-B9)/B9*100 -> 8.7357739 | D68: =(D9-C9)/C9*100 -> 12.350095 | E68: =(E9-D9)/D9*100 -> -2.2621127 | F68: =(F9-E9)/E9*100 -> 3.1121166 | G68: =(G9-F9)/F9*100 -> 20.034874 | H68: =(H9-G9)/G9*100 -> 13.428859 | I68: =(I9-H9)/H9*100 -> 17.289129 | J68: =(J9-I9)/I9*100 -> 12.990515 | ... T68: =(T9-S9)/S9*100 -> -0.80436988
A69: Manufacturing | C69: =(C10-B10)/B10*100 -> 8.9842957 | D69: =(D10-C10)/C10*100 -> 12.760386 | E69: =(E10-D10)/D10*100 -> -3.8055236 | F69: =(F10-E10)/E10*100 -> 4.4359783 | G69: =(G10-F10)/F10*100 -> 24.058579 | H69: =(H10-G10)/G10*100 -> 15.852266 | I69: =(I10-H10)/H10*100 -> 18.82197 | J69: =(J10-I10)/I10*100 -> 13.298402 | ... T69: =(T10-S10)/S10*100 -> -11.253324
A70: Electricity, gas and water | C70: =(C11-B11)/B11*100 -> 0.31014468 | D70: =(D11-C11)/C11*100 -> 6.095902 | E70: =(E11-D11)/D11*100 -> 3.5494417 | F70: =(F11-E11)/E11*100 -> -2.1613319 | G70: =(G11-F11)/F11*100 -> 8.7946429 | H70: =(H11-G11)/G11*100 -> 1.319245 | I70: =(I11-H11)/H11*100 -> 12.19853 | J70: =(J11-I11)/I11*100 -> 13.278707 | ... T70: =(T11-S11)/S11*100 -> 9.0652466
A71: Construction | C71: =(C12-B12)/B12*100 -> 27.785021 | D71: =(D12-C12)/C12*100 -> 21.354615 | E71: =(E12-D12)/D12*100 -> 0.012606917 | F71: =(F12-E12)/E12*100 -> 2.4054526 | G71: =(G12-F12)/F12*100 -> 7.6369307 | H71: =(H12-G12)/G12*100 -> 12.540607 | I71: =(I12-H12)/H12*100 -> 10.905769 | J71: =(J12-I12)/I12*100 -> 9.42145 | ... T71: =(T12-S12)/S12*100 -> 8.3463311
A72: Tertiary industries | C72: =(C13-B13)/B13*100 -> 15.073791 | D72: =(D13-C13)/C13*100 -> 13.534924 | E72: =(E13-D13)/D13*100 -> 8.1592742 | F72: =(F13-E13)/E13*100 -> 14.013254 | G72: =(G13-F13)/F13*100 -> 16.924061 | H72: =(H13-G13)/G13*100 -> 11.750434 | I72: =(I13-H13)/H13*100 -> 16.459982 | J72: =(J13-I13)/I13*100 -> 10.515748 | ... T72: =(T13-S13)/S13*100 -> 9.2926237
A73: Wholesale & retail trade; hotels & restaurants | C73: =(C14-B14)/B14*100 -> 12.686507 | D73: =(D14-C14)/C14*100 -> 6.5289399 | E73: =(E14-D14)/D14*100 -> 2.6380414 | F73: =(F14-E14)/E14*100 -> 8.5855806 | G73: =(G14-F14)/F14*100 -> 25.556039 | H73: =(H14-G14)/G14*100 -> 11.74532 | I73: =(I14-H14)/H14*100 -> 11.496183 | J73: =(J14-I14)/I14*100 -> 11.048031 | ... T73: =(T14-S14)/S14*100 -> 12.489481
A74: Transport , storage and communication | C74: =(C15-B15)/B15*100 -> 18.999473 | D74: =(D15-C15)/C15*100 -> 14.518206 | E74: =(E15-D15)/D15*100 -> 11.686101 | F74: =(F15-E15)/E15*100 -> 15.037141 | G74: =(G15-F15)/F15*100 -> 21.207154 | H74: =(H15-G15)/G15*100 -> 12.765606 | I74: =(I15-H15)/H15*100 -> 18.874409 | J74: =(J15-I15)/I15*100 -> 11.88219 | ... T74: =(T15-S15)/S15*100 -> 3.0737652
A75: Finance, real estate and business services | C75: =(C16-B16)/B16*100 -> 15.586928 | D75: =(D16-C16)/C16*100 -> 18.179652 | E75: =(E16-D16)/D16*100 -> 8.1880696 | F75: =(F16-E16)/E16*100 -> 16.623874 | G75: =(G16-F16)/F16*100 -> 10.579437 | H75: =(H16-G16)/G16*100 -> 11.727606 | I75: =(I16-H16)/H16*100 -> 17.190306 | J75: =(J16-I16)/I16*100 -> 9.4491121 | ... T75: =(T16-S16)/S16*100 -> 10.699193
A76: Personal services | C76: =(C17-B17)/B17*100 -> 14.234735 | D76: =(D17-C17)/C17*100 -> 9.6476043 | E76: =(E17-D17)/D17*100 -> 14.348286 | F76: =(F17-E17)/E17*100 -> 14.733654 | G76: =(G17-F17)/F17*100 -> 20.953416 | H76: =(H17-G17)/G17*100 -> 9.1868437 | I76: =(I17-H17)/H17*100 -> 24.753086 | J76: =(J17-I17)/I17*100 -> 14.792771 | ... T76: =(T17-S17)/S17*100 -> 4.8411394
... A79: Taxes less subsidies on products | C79: =(C20-B20)/B20*100 -> #DIV/0! | D79: =(D20-C20)/C20*100 -> #DIV/0! | E79: =(E20-D20)/D20*100 -> #DIV/0! | F79: =(F20-E20)/E20*100 -> #DIV/0! | G79: =(G20-F20)/F20*100 -> #DIV/0! | H79: =(H20-G20)/G20*100 -> #DIV/0! | I79: =(I20-H20)/H20*100 -> #DIV/0! | J79: =(J20-I20)/I20*100 -> #DIV/0! | ... T79: =(T20-S20)/S20*100 -> #DIV/0!
A80: =A21 -> SA - Annual Gross Operating Surplus | C80: =(C21-B21)/B21*100 -> 14.036795 | D80: =(D21-C21)/C21*100 -> 11.55475 | E80: =(E21-D21)/D21*100 -> 5.3090163 | F80: =(F21-E21)/E21*100 -> 10.625639 | G80: =(G21-F21)/F21*100 -> 18.375954 | H80: =(H21-G21)/G21*100 -> 14.473587 | I80: =(I21-H21)/H21*100 -> 18.448359 | J80: =(J21-I21)/I21*100 -> 7.3264411 | ... T80: =(T21-S21)/S21*100 -> 6.1973814
A82: KZN – Annual Gross Operating Surplus
A83: PA Change
A84: Provincial Industry | C84: 1996 | D84: 1997 | E84: 1998 | F84: 1999 | G84: 2000 | H84: 2001 | I84: 2002 | J84: 2003 | K84: 2004 | L84: 2005 | M84: 2006 | N84: 2007 | O84: 2008 | P84: 2009 | Q84: 2010 | R84: =R64 -> 2011 | S84: =S64 -> 2012 | T84: =T64 -> 2013
A85: Primary Industries | C85: =(C26-B26)/B26*100 -> 28.051337 | D85: =(D26-C26)/C26*100 -> 2.9323602 | E85: =(E26-D26)/D26*100 -> 5.8897128 | F85: =(F26-E26)/E26*100 -> -8.442738 | G85: =(G26-F26)/F26*100 -> 8.552114 | H85: =(H26-G26)/G26*100 -> 27.983286 | I85: =(I26-H26)/H26*100 -> 25.038583 | J85: =(J26-I26)/I26*100 -> -8.3645712 | ... T85: =(T26-S26)/S26*100 -> -1.8343279
A86: Agriculture, forestry and fishing | C86: =(C27-B27)/B27*100 -> 22.17275 | D86: =(D27-C27)/C27*100 -> 4.1708135 | E86: =(E27-D27)/D27*100 -> 2.8562641 | F86: =(F27-E27)/E27*100 -> -6.9877559 | G86: =(G27-F27)/F27*100 -> 2.9457801 | H86: =(H27-G27)/G27*100 -> 29.136317 | I86: =(I27-H27)/H27*100 -> 28.775509 | J86: =(J27-I27)/I27*100 -> -7.6616576 | ... T86: =(T27-S27)/S27*100 -> -2.2595779
A87: Mining and quarrying | C87: =(C28-B28)/B28*100 -> 61.167088 | D87: =(D28-C28)/C28*100 -> -2.3562223 | E87: =(E28-D28)/D28*100 -> 19.709386 | F87: =(F28-E28)/E28*100 -> -14.1381 | G87: =(G28-F28)/F28*100 -> 32.325019 | H87: =(H28-G28)/G28*100 -> 24.179547 | I87: =(I28-H28)/H28*100 -> 12.218738 | J87: =(J28-I28)/I28*100 -> -11.131755 | ... T87: =(T28-S28)/S28*100 -> -0.80644456
A88: Secondary Industries | C88: =(C29-B29)/B29*100 -> 8.8346591 | D88: =(D29-C29)/C29*100 -> 12.486779 | E88: =(E29-D29)/D29*100 -> -3.0876761 | F88: =(F29-E29)/E29*100 -> 3.8156013 | G88: =(G29-F29)/F29*100 -> 21.390804 | H88: =(H29-G29)/G29*100 -> 16.060852 | I88: =(I29-H29)/H29*100 -> 15.774717 | J88: =(J29-I29)/I29*100 -> 11.522265 | ... T88: =(T29-S29)/S29*100 -> -2.6383674
A89: Manufacturing | C89: =(C30-B30)/B30*100 -> 9.3583101 | D89: =(D30-C30)/C30*100 -> 12.706565 | E89: =(E30-D30)/D30*100 -> -4.0466485 | F89: =(F30-E30)/E30*100 -> 5.4774481 | G89: =(G30-F30)/F30*100 -> 24.620859 | H89: =(H30-G30)/G30*100 -> 15.600945 | I89: =(I30-H30)/H30*100 -> 18.631953 | J89: =(J30-I30)/I30*100 -> 13.97498 | ... T89: =(T30-S30)/S30*100 -> -11.317132
A90: Electricity, gas and water | C90: =(C31-B31)/B31*100 -> 0.55825805 | D90: =(D31-C31)/C31*100 -> 5.6294038 | E90: =(E31-D31)/D31*100 -> 3.7576911 | F90: =(F31-E31)/E31*100 -> -1.6119228 | G90: =(G31-F31)/F31*100 -> 11.715137 | H90: =(H31-G31)/G31*100 -> 5.0485281 | I90: =(I31-H31)/H31*100 -> 18.923703 | J90: =(J31-I31)/I31*100 -> -2.6324821 | ... T90: =(T31-S31)/S31*100 -> 7.9880253
A91: Construction | C91: =(C32-B32)/B32*100 -> 23.092223 | D91: =(D32-C32)/C32*100 -> 24.025138 | E91: =(E32-D32)/D32*100 -> -5.6839253 | F91: =(F32-E32)/E32*100 -> -2.0993451 | G91: =(G32-F32)/F32*100 -> 5.8965999 | H91: =(H32-G32)/G32*100 -> 43.841601 | I91: =(I32-H32)/H32*100 -> -17.202141 | J91: =(J32-I32)/I32*100 -> 6.4365649 | ... T91: =(T32-S32)/S32*100 -> 8.3776957
A92: Tertiary industries | C92: =(C33-B33)/B33*100 -> 14.60726 | D92: =(D33-C33)/C33*100 -> 12.454363 | E92: =(E33-D33)/D33*100 -> 8.2088161 | F92: =(F33-E33)/E33*100 -> 13.591109 | G92: =(G33-F33)/F33*100 -> 16.305451 | H92: =(H33-G33)/G33*100 -> 12.197838 | I92: =(I33-H33)/H33*100 -> 16.160818 | J92: =(J33-I33)/I33*100 -> 11.386552 | ... T92: =(T33-S33)/S33*100 -> 8.9764435
A93: Wholesale & retail trade; hotels & restaurants | C93: =(C34-B34)/B34*100 -> 11.107614 | D93: =(D34-C34)/C34*100 -> 6.6925815 | E93: =(E34-D34)/D34*100 -> 2.213448 | F93: =(F34-E34)/E34*100 -> 8.1349284 | G93: =(G34-F34)/F34*100 -> 25.723574 | H93: =(H34-G34)/G34*100 -> 18.228463 | I93: =(I34-H34)/H34*100 -> 11.659197 | J93: =(J34-I34)/I34*100 -> 11.91633 | ... T93: =(T34-S34)/S34*100 -> 12.571495
A94: Transport , storage and communication | C94: =(C35-B35)/B35*100 -> 17.168156 | D94: =(D35-C35)/C35*100 -> 12.34692 | E94: =(E35-D35)/D35*100 -> 10.657792 | F94: =(F35-E35)/E35*100 -> 13.234517 | G94: =(G35-F35)/F35*100 -> 19.141653 | H94: =(H35-G35)/G35*100 -> 11.076569 | I94: =(I35-H35)/H35*100 -> 19.261723 | J94: =(J35-I35)/I35*100 -> 12.558865 | ... T94: =(T35-S35)/S35*100 -> 3.2707419
A95: Finance, real estate and business services | C95: =(C36-B36)/B36*100 -> 15.65195 | D95: =(D36-C36)/C36*100 -> 17.653329 | E95: =(E36-D36)/D36*100 -> 8.3200674 | F95: =(F36-E36)/E36*100 -> 17.700985 | G95: =(G36-F36)/F36*100 -> 8.4500522 | H95: =(H36-G36)/G36*100 -> 9.1789366 | I95: =(I36-H36)/H36*100 -> 15.843318 | J95: =(J36-I36)/I36*100 -> 10.274543 | ... T95: =(T36-S36)/S36*100 -> 10.719877
A96: Personal services | C96: =(C37-B37)/B37*100 -> 14.169276 | D96: =(D37-C37)/C37*100 -> 9.5715739 | E96: =(E37-D37)/D37*100 -> 14.358239 | F96: =(F37-E37)/E37*100 -> 14.542184 | G96: =(G37-F37)/F37*100 -> 20.825655 | H96: =(H37-G37)/G37*100 -> 9.2755856 | I96: =(I37-H37)/H37*100 -> 24.689418 | J96: =(J37-I37)/I37*100 -> 14.807432 | ... T96: =(T37-S37)/S37*100 -> 4.6808921
... A99: Taxes less subsidies on products | C99: =(C40-B40)/B40*100 -> #DIV/0! | D99: =(D40-C40)/C40*100 -> #DIV/0! | E99: =(E40-D40)/D40*100 -> #DIV/0! | F99: =(F40-E40)/E40*100 -> #DIV/0! | G99: =(G40-F40)/F40*100 -> #DIV/0! | H99: =(H40-G40)/G40*100 -> #DIV/0! | I99: =(I40-H40)/H40*100 -> #DIV/0! | J99: =(J40-I40)/I40*100 -> #DIV/0! | ... T99: =(T40-S40)/S40*100 -> 0
A100: =A60 -> KZN - Annual Gross Operating Surplus | C100: =(C41-B41)/B41*100 -> 14.256428 | D100: =(D41-C41)/C41*100 -> 11.176682 | E100: =(E41-D41)/D41*100 -> 4.195802 | F100: =(F41-E41)/E41*100 -> 7.7901771 | G100: =G98 -> 16.968288 | H100: =(H41-G41)/G41*100 -> 14.965273 | I100: =(I41-H41)/H41*100 -> 17.033115 | J100: =(J41-I41)/I41*100 -> 9.0708137 | K100: =(K41-J41)/J41*100 -> 9.8666774 | L100: =(L41-K41)/K41*100 -> 9.6276407 | M100: =(M41-L41)/L41*100 -> 11.459033 | N100: =(N41-M41)/M41*100 -> 13.615103 | O100: =(O41-N41)/N41*100 -> 12.733426 | ... T100: =(T41-S41)/S41*100 -> 5.830484
A134: Primary Industries | B134: =B26/B$39*100 -> 12.071597 | C134: =C26/C$39*100 -> 13.529078 | D134: =D26/D$39*100 -> 12.525827 | E134: =E26/E$39*100 -> 12.72946 | F134: =F26/F$39*100 -> 10.812437 | G134: =G26/G$39*100 -> 10.034454 | H134: =H26/H$39*100 -> 11.170698 | I134: =I26/I$39*100 -> 11.934812 | ... P134: =P26/P$39*100 -> 9.7952864
A135: Agriculture, forestry and fishing | B135: =B27/B$39*100 -> 10.251745 | C135: =C27/C$39*100 -> 10.962043 | D135: =D27/D$39*100 -> 10.271263 | E135: =E27/E$39*100 -> 10.139216 | F135: =F27/F$39*100 -> 8.7491386 | G135: =G27/G$39*100 -> 7.7002657 | H135: =H27/H$39*100 -> 8.6494289 | I135: =I27/I$39*100 -> 9.5172603 | ... P135: =P27/P$39*100 -> 7.3913993
A136: Mining and quarrying | B136: =B28/B$39*100 -> 1.8198523 | C136: =C28/C$39*100 -> 2.5670354 | D136: =D28/D$39*100 -> 2.2545648 | E136: =E28/E$39*100 -> 2.5902441 | F136: =F28/F$39*100 -> 2.0632983 | G136: =G28/G$39*100 -> 2.334188 | H136: =H28/H$39*100 -> 2.5212693 | I136: =I28/I$39*100 -> 2.4175522 | ... P136: =P28/P$39*100 -> 2.4038871
A137: Secondary Industries | B137: =B29/B$39*100 -> 34.191639 | C137: =C29/C$39*100 -> 32.569156 | D137: =D29/D$39*100 -> 32.952948 | E137: =E29/E$39*100 -> 30.649477 | F137: =F29/F$39*100 -> 29.519331 | G137: =G29/G$39*100 -> 30.635442 | H137: =H29/H$39*100 -> 30.927388 | I137: =I29/I$39*100 -> 30.594841 | ... P137: =P29/P$39*100 -> 25.713579
A138: Manufacturing | B138: =B30/B$39*100 -> 26.447011 | C138: =C30/C$39*100 -> 25.31324 | D138: =D30/D$39*100 -> 25.661572 | E138: =E30/E$39*100 -> 23.631603 | F138: =F30/F$39*100 -> 23.124567 | G138: =G30/G$39*100 -> 24.637476 | H138: =H30/H$39*100 -> 24.773703 | I138: =I30/I$39*100 -> 25.112146 | ... P138: =P30/P$39*100 -> 17.894752
A139: Electricity, gas and water | B139: =B31/B$39*100 -> 5.5147215 | C139: =C31/C$39*100 -> 4.8535632 | D139: =D31/D$39*100 -> 4.6113895 | E139: =E31/E$39*100 -> 4.5920001 | F139: =F31/F$39*100 -> 4.1914585 | G139: =G31/G$39*100 -> 4.0032164 | H139: =H31/H$39*100 -> 3.6579045 | I139: =I31/I$39*100 -> 3.7169954 | ... P139: =P31/P$39*100 -> 3.9274673
A140: Construction | B140: =B32/B$39*100 -> 2.229907 | C140: =C32/C$39*100 -> 2.4023525 | D140: =D32/D$39*100 -> 2.6799873 | E140: =E32/E$39*100 -> 2.425874 | F140: =F32/F$39*100 -> 2.2033051 | G140: =G32/G$39*100 -> 1.9947502 | H140: =H32/H$39*100 -> 2.4957803 | I140: =I32/I$39*100 -> 1.7656991 | ... P140: =P32/P$39*100 -> 3.8913597
A141: Tertiary industries | B141: =B33/B$39*100 -> 53.736764 | C141: =C33/C$39*100 -> 53.901766 | D141: =D33/D$39*100 -> 54.521224 | E141: =E33/E$39*100 -> 56.621063 | F141: =F33/F$39*100 -> 59.668233 | G141: =G33/G$39*100 -> 59.330104 | H141: =H33/H$39*100 -> 57.901914 | I141: =I33/I$39*100 -> 57.470347 | ... P141: =P33/P$39*100 -> 64.491135
A142: Wholesale & retail trade; hotels & restaurants | B142: =B34/B$39*100 -> 15.028469 | C142: =C34/C$39*100 -> 14.614297 | D142: =D34/D$39*100 -> 14.024857 | E142: =E34/E$39*100 -> 13.75803 | F142: =F34/F$39*100 -> 13.802033 | G142: =G34/G$39*100 -> 14.83514 | H142: =H34/H$39*100 -> 15.256222 | I142: =I34/I$39*100 -> 14.555688 | ... P142: =P34/P$39*100 -> 16.544766
...

Sheet Quarterly
A1: Quarterly Gross Operating Surplus
A3: =Annual!A3 -> SA – Annual Gross Operating Surplus
A4: Rand million
A5: National Industry | B5: 1995q1 | C5: 1995q2 | D5: 1995q3 | E5: 1995q4 | F5: 1996q1 | G5: 1996q2 | H5: 1996q3 | I5: 1996q4 | J5: 1997q1 | K5: 1997q2 | L5: 1997q3 | M5: 1997q4 | N5: 1998q1 | O5: 1998q2 | P5: 1998q3 | Q5: 1998q4 | R5: 1999q1 | S5: 1999q2 | T5: 1999q3 | U5: 1999q4 | V5: 2000q1 | W5: 2000q2 | X5: 2000q3 | Y5: 2000q4 | Z5: 2001q1 | AA5: 2001q2 | AB5: 2001q3 | AC5: 2001q4 | AD5: 2002q1 | AE5: 2002q2 | AF5: 2002q3 | AG5: 2002q4 | AH5: 2003q1 | AI5: 2003q2 | AJ5: 2003q3 | AK5: 2003q4 | AL5: 2004q1 | AM5: 2004q2 | AN5: 2004q3 | AO5: 2004q4 | AP5: 2005q1 | AQ5: 2005q2 | AR5: 2005q3 | AS5: 2005q4 | AT5: 2006q1 | AU5: 2006q2 | AV5: 2006q3 | AW5: 2006q4 | AX5: 2007q1 | AY5: 2007q2 | AZ5: 2007q3 | BA5: 2007q4 | BB5: 2008q1 | BC5: 2008q2 | BD5: 2008q3 | BE5: 2008q4 | BF5: 2009q1 | BG5: 2009q2 | BH5: 2009q3 | BI5: 2009q4 | BJ5: 2010q1 | BK5: 2010q2 | BL5: 2010q3 | BM5: 2010q4 | BN5: 2011q1 | BO5: 2011q2 | BP5: 2011q3 | BQ5: 2011q4 | BR5: 2012q1 | BS5: 2012q2 | BT5: 2012q3 | BU5: 2012q4 | BV5: 2013q1 | BW5: 2013q2 | BX5: 2013q3 | BY5: 2013q4 | BZ5: 2014q1
A6: Primary Industries | B6: =SUM(B7:B8) -> 5906.67 | C6: =SUM(C7:C8) -> 8354.61 | D6: =SUM(D7:D8) -> 8581.4 | E6: =SUM(E7:E8) -> 6446.06 | F6: =SUM(F7:F8) -> 6386.1 | G6: =SUM(G7:G8) -> 12184 | H6: =SUM(H7:H8) -> 9803.15 | I6: =SUM(I7:I8) -> 7238.25 | ... BZ6: =SUM(BZ7:BZ8) -> 50082.791
A7: Agriculture, forestry and fishing | B7: 2291.64 | C7: 3858.82 | D7: 3908.2 | E7: 2852.06 | F7: 2398.25 | G7: 6903.15 | H7: 4466.23 | I7: 3045.25 | J7: 3111.41 | K7: 7395.58 | L7: 4469.12 | M7: 2759.08 | N7: 3514 | O7: 7147.9 | P7: 4527.8 | Q7: 1930 | R7: 3008.1 | S7: 7764.1 | T7: 4848.1 | U7: 1747.1 | V7: 2779.27 | W7: 6570.25 | X7: 6415.35 | Y7: 2277.13 | Z7: 3352.35 | AA7: 9265.35 | AB7: 6493.25 | AC7: 3499.25 | AD7: 4032.8 | AE7: 13064 | AF7: 8796 | AG7: 3737.3 | AH7: 3823.2 | AI7: 11965 | AJ7: 7929 | AK7: 2472.2 | AL7: 3747.9 | AM7: 10778.9 | AN7: 9442.9 | AO7: 2607.8 | AP7: 4937 | AQ7: 8400 | AR7: 8507.85 | AS7: 3414.15 | AT7: 5262 | AU7: 9985 | AV7: 11829 | AW7: 5435 | AX7: 7581.8 | AY7: 14984.9 | AZ7: 11481.9 | BA7: 5132.9 | BB7: 7531.791 | BC7: 17768.716 | BD7: 14094.127 | BE7: 4612.366 | BF7: 8830.155 | BG7: 20379.509 | BH7: 11976.314 | BI7: 4489.782 | BJ7: 8850.814 | BK7: 22181.933 | BL7: 10144.429 | BM7: 2871.384 | BN7: 7601.462 | BO7: 19629.397 | BP7: 13327.214 | BQ7: 4678.349 | BR7: 7791.64 | BS7: 24723.192 | BT7: 12666.17 | BU7: 4344.648 | BV7: 8110.256 | BW7: 26592.259 | BX7: 11272.316 | BY7: 3135 | BZ7: 8497.1548
A8: Mining and quarrying | B8: 3615.03 | C8: 4495.79 | D8: 4673.2 | E8: 3594 | F8: 3987.85 | G8: 5280.85 | H8: 5336.92 | I8: 4193 | J8: 4153.13 | K8: 5103.88 | L8: 5172.88 | M8: 4033.87 | N8: 4083.1 | O8: 6018.1 | P8: 6704 | Q8: 5578 | R8: 5602 | S8: 6824.6 | T8: 6985.95 | U8: 6740.85 | V8: 7614.17 | W8: 9727.5 | X8: 8963.28 | Y8: 8828.25 | Z8: 10554.8 | AA8: 12752.8 | AB8: 11995.8 | AC8: 10628.8 | AD8: 12705 | AE8: 16009 | AF8: 16392.7 | AG8: 13167.8 | AH8: 11874.75 | AI8: 13196.75 | AJ8: 14286.75 | AK8: 11218.35 | AL8: 11667.07 | AM8: 14149.08 | AN8: 15031.21 | AO8: 12446.44 | AP8: 12897.75 | AQ8: 18019.75 | AR8: 17985.75 | AS8: 16211.35 | AT8: 15355 | AU8: 20284 | AV8: 25943 | AW8: 22388.1 | AX8: 22437.6 | AY8: 25931.58 | AZ8: 26639.7 | BA8: 24944.76 | BB8: 26121.002 | BC8: 34435.972 | BD8: 36555.271 | BE8: 30975.755 | BF8: 26154.461 | BG8: 32309.435 | BH8: 34212.918 | BI8: 30325.616 | BJ8: 25769.9 | BK8: 37329.72 | BL8: 41746 | BM8: 40773.694 | BN8: 38211.304 | BO8: 44700.251 | BP8: 50762.281 | BQ8: 47942.654 | BR8: 38703.211 | BS8: 42948.17 | BT8: 46173.596 | BU8: 39716.074 | BV8: 38915.253 | BW8: 39028.801 | BX8: 46490.941 | BY8: 43431 | BZ8: 41585.636
A9: Secondary Industries | B9: =SUM(B10:B12) -> 15608.816 | C9: =SUM(C10:C12) -> 16849.128 | D9: =SUM(D10:D12) -> 18405.672 | E9: =SUM(E10:E12) -> 16161.898 | F9: =SUM(F10:F12) -> 17409.033 | G9: =SUM(G10:G12) -> 18409.369 | H9: =SUM(H10:H12) -> 19347.89 | I9: =SUM(I10:I12) -> 17714.419 | ... BZ9: =SUM(BZ10:BZ12) -> 59645.391
A10: Manufacturing | B10: 11188.95 | C10: 12355.6 | D10: 13883.72 | E10: 12267 | F10: 12556 | G10: 13485.04 | H10: 14526 | I10: 13593 | J10: 14302 | K10: 15523.28 | L10: 16388.4 | M10: 14857.39 | N10: 14669.61 | O10: 14830 | P10: 15786 | Q10: 13461.386 | R10: 14078 | S10: 14527 | T10: 16938 | U10: 15810 | V10: 17064.43 | W10: 17938.43 | X10: 21232.43 | Y10: 19878.37 | Z10: 21058 | AA10: 21295.6 | AB10: 23232.8 | AC10: 22593 | AD10: 23293.9 | AE10: 25350.9 | AF10: 28480.8 | AG10: 27650.9 | AH10: 28785 | AI10: 28604 | AJ10: 31276 | AK10: 30045.1 | AL10: 31195.9 | AM10: 31144.9 | AN10: 35168.9 | AO10: 33904.9 | AP10: 31895.4 | AQ10: 34480.4 | AR10: 38058.2 | AS10: 33924.4 | AT10: 33888 | AU10: 33846 | AV10: 38547 | AW10: 34593.3 | AX10: 38990.8 | AY10: 35797.8 | AZ10: 39492.7 | BA10: 37547.97 | BB10: 41516.5 | BC10: 41462.5 | BD10: 45748.5 | BE10: 38059.5 | BF10: 39634.19 | BG10: 35478.38 | BH10: 38860.311 | BI10: 34134 | BJ10: 37999.038 | BK10: 35642.19 | BL10: 38911.001 | BM10: 30666.071 | BN10: 32598.235 | BO10: 29559.6 | BP10: 33567.391 | BQ10: 24403.683 | BR10: 30266.031 | BS10: 25790.206 | BT10: 28978.099 | BU10: 19285.865 | BV10: 25519.298 | BW10: 22739.413 | BX10: 26286 | BY10: 18036 | BZ10: 25962.391
A11: Electricity, gas and water | B11: 3090.9 | C11: 3122.45 | D11: 3334.2 | E11: 2917.6 | F11: 3082.58 | G11: 3147.5 | H11: 3397.03 | I11: 2876.7 | J11: 3131.43 | K11: 3446.2 | L11: 3554 | M11: 3134.4 | N11: 3283.6 | O11: 3620.5 | P11: 3605.9 | Q11: 3226.9 | R11: 2952 | S11: 3469.6 | T11: 4030.8 | U11: 2987.6 | V11: 3357.4 | W11: 3838.4 | X11: 4140.2 | Y11: 3286 | Z11: 3421 | AA11: 3819.3 | AB11: 4136.2 | AC11: 3438.4 | AD11: 3592.59 | AE11: 4172.51 | AF11: 4762.7 | AG11: 4095.3 | AH11: 4264.31 | AI11: 4886.2 | AJ11: 5363.3 | AK11: 4315.49 | AL11: 4441.2 | AM11: 4799.2 | AN11: 5410.9 | AO11: 4323.7 | AP11: 4717.4 | AQ11: 5341.4 | AR11: 5897.6 | AS11: 4762.6 | AT11: 5068.4 | AU11: 6062.4 | AV11: 6804.8 | AW11: 5351.4 | AX11: 6060 | AY11: 7089 | AZ11: 7826 | BA11: 5622 | BB11: 6359.708 | BC11: 7560.825 | BD11: 8508.453 | BE11: 5733.014 | BF11: 8821.106 | BG11: 10691.57 | BH11: 12695.761 | BI11: 8475.563 | BJ11: 9320.566 | BK11: 11197.316 | BL11: 12595.193 | BM11: 8322.745 | BN11: 10284.196 | BO11: 13700.707 | BP11: 15203.098 | BQ11: 9964.22 | BR11: 12321.074 | BS11: 16115.13 | BT11: 17659.114 | BU11: 11836.134 | BV11: 13430.854 | BW11: 17637.227 | BX11: 19279 | BY11: 12836 | BZ11: 14630
A12: Construction | B12: 1328.9661 | C12: 1371.0781 | D12: 1187.7515 | E12: 977.29797 | F12: 1770.4527 | G12: 1776.8292 | H12: 1424.8599 | I12: 1244.7193 | J12: 2062.4052 | K12: 2016.5373 | L12: 1862.8679 | M12: 1602.6375 | N12: 2120.418 | O12: 2042.634 | P12: 1865.366 | Q12: 1516.981 | R12: 2187.13 | S12: 2099.072 | T12: 1905.294 | U12: 1535.404 | V12: 2307.901 | W12: 2238.283 | X12: 2059.144 | Y12: 1711.67 | Z12: 2538.608 | AA12: 2548.391 | AB12: 2319.253 | AC12: 1953.748 | AD12: 2794.93 | AE12: 2678.9 | AF12: 2599.95 | AG12: 2307 | AH12: 3171.9 | AI12: 3001.9 | AJ12: 2827 | AK12: 2358 | AL12: 3920.9 | AM12: 3886.9 | AN12: 3832.85 | AO12: 3357.85 | AP12: 5200.9 | AQ12: 4805 | AR12: 4993 | AS12: 4104 | AT12: 6320.1 | AU12: 6083.1 | AV12: 6429.1 | AW12: 5442.1 | AX12: 7584.2 | AY12: 6819.17 | AZ12: 7046.02 | BA12: 5628.1 | BB12: 9257 | BC12: 8942 | BD12: 10706 | BE12: 8476 | BF12: 13396 | BG12: 12615 | BH12: 12424 | BI12: 8808.02 | BJ12: 14476 | BK12: 13396 | BL12: 13150.96 | BM12: 9390 | BN12: 14881 | BO12: 14200.8 | BP12: 13953 | BQ12: 10784 | BR12: 16347.82 | BS12: 14727 | BT12: 14541 | BU12: 11022 | BV12: 16821 | BW12: 15821 | BX12: 16313 | BY12: 12410 | BZ12: 19053
A13: Tertiary industries | B13: =SUM(B14:B18) -> 30578.95 | C13: =SUM(C14:C18) -> 30872.048 | D13: =SUM(D14:D18) -> 33062.338 | E13: =SUM(E14:E18) -> 34848.467 | F13: =SUM(F14:F18) -> 35602.838 | G13: =SUM(G14:G18) -> 35657.347 | H13: =SUM(H14:H18) -> 37877.568 | I13: =SUM(I14:I18) -> 39723.778 | ... BZ13: =SUM(BZ14:BZ18) -> 266010.1
A14: Wholesale & retail trade; hotels & restaurants | B14: 8513.4225 | C14: 8278.15 | D14: 9047.7 | E14: 10586.1 | F14: 9504.83 | G14: 9370.65 | H14: 10099.4 | I14: 12071.6 | J14: 10243.095 | K14: 10414.095 | L14: 10877.095 | M14: 12192.095 | N14: 10615.225 | O14: 11390.225 | P14: 11153.225 | Q14: 11721.225 | R14: 10971.1 | S14: 10957 | T14: 12135 | U14: 14670 | V14: 13793.3 | W14: 13959.05 | X14: 15599 | Y14: 17836 | Z14: 16184.85 | AA14: 15942.85 | AB14: 16713.5 | AC14: 19532.8 | AD14: 17428 | AE14: 17664 | AF14: 18780 | AG14: 22362.4 | AH14: 20077.25 | AI14: 19600.25 | AJ14: 20938.25 | AK14: 24041.05 | AL14: 21996.25 | AM14: 21100.25 | AN14: 24012.25 | AO14: 26545.65 | AP14: 24489 | AQ14: 23943 | AR14: 26035 | AS14: 29695.8 | AT14: 26988.25 | AU14: 26412.25 | AV14: 28937.25 | AW14: 32687.95 | AX14: 30792.3 | AY14: 30154.2 | AZ14: 32518.2 | BA14: 36760.1 | BB14: 35733.016 | BC14: 35561.598 | BD14: 37441.726 | BE14: 41977.75 | BF14: 41052.574 | BG14: 40633.462 | BH14: 40981.635 | BI14: 47175.349 | BJ14: 49665.373 | BK14: 53475.251 | BL14: 51533.199 | BM14: 62667.807 | BN14: 55185.964 | BO14: 58989.341 | BP14: 58731.681 | BQ14: 71333.474 | BR14: 63887.879 | BS14: 67908.646 | BT14: 67593.987 | BU14: 81359.957 | BV14: 72915.116 | BW14: 76176.629 | BX14: 77058 | BY14: 89665 | BZ14: 80977
A15: Transport , storage and communication | B15: 4940.6 | C15: 5146.6 | D15: 5945.47 | E15: 6230 | F15: 6340 | G15: 6128.04 | H15: 6916 | I15: 7108.42 | J15: 6931.73 | K15: 7275.56 | L15: 8142.4 | M15: 7989 | N15: 7616.4 | O15: 8190.4 | P15: 8882.3 | Q15: 9195 | R15: 8692 | S15: 9334 | T15: 10226 | U15: 10727.3 | V15: 10332.3 | W15: 11273.4 | X15: 12470 | Y15: 13170 | Z15: 12217 | AA15: 12891 | AB15: 13446.9 | AC15: 14722 | AD15: 14661.2 | AE15: 15097.1 | AF15: 15936.1 | AG15: 17638.2 | AH15: 16641.5 | AI15: 16945.5 | AJ15: 17805.7 | AK15: 19465.2 | AL15: 19001.1 | AM15: 19428.1 | AN15: 19932 | AO15: 20384 | AP15: 21340 | AQ15: 21044 | AR15: 22249 | AS15: 24324 | AT15: 22919.4 | AU15: 24215.4 | AV15: 25680.2 | AW15: 26900 | AX15: 24287 | AY15: 26017.1 | AZ15: 27694 | BA15: 28490 | BB15: 29268.5 | BC15: 31910.5 | BD15: 31951.5 | BE15: 35265.5 | BF15: 32026.919 | BG15: 33745.417 | BH15: 33581.035 | BI15: 35544.879 | BJ15: 34073.784 | BK15: 37366.051 | BL15: 37413.268 | BM15: 40948.235 | BN15: 38108.889 | BO15: 41356.116 | BP15: 41506.142 | BQ15: 43378.752 | BR15: 40605.507 | BS15: 42809.896 | BT15: 42592.334 | BU15: 43832.303 | BV15: 42106.149 | BW15: 43590.375 | BX15: 43845 | BY15: 45519 | BZ15: 44628
A16: Finance, real estate and business services | B16: 13165.59 | C16: 13341 | D16: 13797 | E16: 13722 | F16: 15300.52 | G16: 15493 | H16: 15997 | I16: 15656 | J16: 17657.38 | K16: 18283.7 | L16: 19073 | M16: 18785 | N16: 19668.7 | O16: 20182.7 | P16: 19849.7 | Q16: 20140.7 | R16: 22411.3 | S16: 22307.3 | T16: 23972 | U16: 24424 | V16: 24218.6 | W16: 24668 | X16: 26881 | Y16: 27198 | Z16: 27836 | AA16: 28200 | AB16: 29138 | AC16: 29867 | AD16: 31941.9 | AE16: 32005 | AF16: 34167 | AG16: 36703 | AH16: 37869 | AI16: 37450 | AJ16: 36312 | AK16: 35924.9 | AL16: 41469.1 | AM16: 39386.1 | AN16: 41864.1 | AO16: 41621 | AP16: 46191 | AQ16: 45567 | AR16: 46121.1 | AS16: 44691.1 | AT16: 50503 | AU16: 50495 | AV16: 55208 | AW16: 54436 | AX16: 63077.01 | AY16: 60022 | AZ16: 65239 | BA16: 67390 | BB16: 68595 | BC16: 66494.5 | BD16: 66882.6 | BE16: 68985 | BF16: 74083.94 | BG16: 72019.9 | BH16: 72478.91 | BI16: 74918.9 | BJ16: 78544.94 | BK16: 77153.02 | BL16: 77065 | BM16: 81431 | BN16: 82459.8 | BO16: 81288.84 | BP16: 82490.9 | BQ16: 86538 | BR16: 89052.9 | BS16: 88571.9 | BT16: 90780.9 | BU16: 95204.9 | BV16: 99908 | BW16: 100875 | BX16: 101529 | BY16: 100202 | BZ16: 108215
A17: Personal services | B17: 1843.6875 | C17: 1929.6475 | D17: 2039.1675 | E17: 2025.3675 | F17: 2103.2375 | G17: 2213.4075 | H17: 2325.1675 | I17: 2311.7575 | J17: 2312.57 | K17: 2428.805 | L17: 2547.505 | M17: 2528.495 | N17: 2712.7 | O17: 2768.95 | P17: 2903.65 | Q17: 2840.7 | R17: 3024.35 | S17: 3124.25 | T17: 3401.25 | U17: 3330.15 | V17: 3657.15 | W17: 3841.21 | X17: 4079.76 | Y17: 4000.68 | Z17: 4276.62 | AA17: 4207.28 | AB17: 4262.38 | AC17: 4263.72 | AD17: 5073 | AE17: 5245.4 | AF17: 5415.1 | AG17: 5487 | AH17: 5962.6 | AI17: 6101.7 | AJ17: 6126.7 | AK17: 6168.6 | AL17: 6377.2 | AM17: 6854.2 | AN17: 7052.1 | AO17: 7087 | AP17: 7074.649 | AQ17: 7696.449 | AR17: 8026.449 | AS17: 8211.449 | AT17: 7664.6 | AU17: 8610.6 | AV17: 9030.6 | AW17: 9034.8 | AX17: 8543.7 | AY17: 10049.8 | AZ17: 10379.93 | BA17: 9060 | BB17: 9028.39 | BC17: 10871.3 | BD17: 11102.2 | BE17: 9666.2 | BF17: 10769.44 | BG17: 13313.24 | BH17: 13481.66 | BI17: 12088 | BJ17: 12295.917 | BK17: 15473.928 | BL17: 15509.482 | BM17: 14179.983 | BN17: 12241.495 | BO17: 15099.014 | BP17: 16068.766 | BQ17: 15017.495 | BR17: 13918.772 | BS17: 16464.536 | BT17: 17183.23 | BU17: 16022.512 | BV17: 15378.58 | BW17: 17312.751 | BX17: 17539.154 | BY17: 16437 | BZ17: 16501.1
A18: General government services | B18: 2115.65 | C18: 2176.65 | D18: 2233 | E18: 2285 | F18: 2354.25 | G18: 2452.25 | H18: 2540 | I18: 2576 | J18: 2653.3 | K18: 2774 | L18: 2962 | M18: 2939 | N18: 2980 | O18: 3183 | P18: 3366 | Q18: 3439 | R18: 3497 | S18: 3595 | T18: 3791 | U18: 3826 | V18: 3934 | W18: 4071 | X18: 4330 | Y18: 4376 | Z18: 4545 | AA18: 4548 | AB18: 4685 | AC18: 4843 | AD18: 5200.9 | AE18: 5270.9 | AF18: 5466 | AG18: 5605 | AH18: 5691.1 | AI18: 5735.1 | AJ18: 5795.1 | AK18: 5846.1 | AL18: 5968.08 | AM18: 5888.08 | AN18: 6148.06 | AO18: 6272.08 | AP18: 6413 | AQ18: 6547 | AR18: 6821 | AS18: 7015 | AT18: 7209 | AU18: 7382 | AV18: 7635 | AW18: 7900 | AX18: 8174 | AY18: 8479 | AZ18: 8888 | BA18: 9041 | BB18: 9287 | BC18: 9934 | BD18: 10610 | BE18: 10885 | BF18: 10908 | BG18: 10869 | BH18: 11034 | BI18: 11262 | BJ18: 11410 | BK18: 11586 | BL18: 11897 | BM18: 11927 | BN18: 12306 | BO18: 12416 | BP18: 12764 | BQ18: 13203 | BR18: 13412 | BS18: 13521 | BT18: 13969 | BU18: 14011 | BV18: 14272 | BW18: 14730 | BX18: 15086 | BY18: 15231 | BZ18: 15689
A19: All industries at basic prices | B19: =B13+B9+B6 -> 52094.436 | C19: =C13+C9+C6 -> 56075.786 | D19: =D13+D9+D6 -> 60049.409 | E19: =E13+E9+E6 -> 57456.425 | F19: =F13+F9+F6 -> 59397.97 | G19: =G13+G9+G6 -> 66250.717 | H19: =H13+H9+H6 -> 67028.607 | I19: =I13+I9+I6 -> 64676.447 | ... BZ19: =BZ13+BZ9+BZ6 -> 375738.28
A21: SA - Annual Gross Operating Surplus | B21: =B19+B20 -> 52094.436 | C21: =C19+C20 -> 56075.786 | D21: =D19+D20 -> 60049.409 | E21: =E19+E20 -> 57456.425 | F21: =F19+F20 -> 59397.97 | G21: =G19+G20 -> 66250.717 | H21: =H19+H20 -> 67028.607 | I21: =I19+I20 -> 64676.447 | ... BZ21: =BZ19+BZ20 -> 375738.28
A23: =Annual!A23 -> KZN – Annual Gross Operating Surplus
A24: Rand million
A25: Provincial Industry | B25: =B5 -> 1995q1 | C25: =C5 -> 1995q2 | D25: =D5 -> 1995q3 | E25: =E5 -> 1995q4 | F25: =F5 -> 1996q1 | G25: =G5 -> 1996q2 | H25: =H5 -> 1996q3 | I25: =I5 -> 1996q4 | ... BZ25: =BZ5 -> 2014q1
A26: Primary Industries | B26: =SUM(B27:B28) -> 873.37956 | C26: =SUM(C27:C28) -> 1401.1297 | D26: =SUM(D27:D28) -> 1424.2967 | E26: =SUM(E27:E28) -> 1047.4233 | F26: =SUM(F27:F28) -> 947.06851 | G26: =SUM(G27:G28) -> 2345.8549 | H26: =SUM(H27:H28) -> 1635.5294 | I26: =SUM(I27:I28) -> 1149.1571 | ... BZ26: =SUM(BZ27:BZ28) -> 3593.4481
A27: Agriculture, forestry and fishing | B27: =B7*Annual!$B46/100 -> 715.44738 | C27: =C7*Annual!$B46/100 -> 1204.7192 | D27: =D7*Annual!$B46/100 -> 1220.1356 | E27: =E7*Annual!$B46/100 -> 890.40986 | F27: =F7*Annual!$C46/100 -> 702.43874 | G27: =G7*Annual!$C46/100 -> 2021.9076 | H27: =H7*Annual!$C46/100 -> 1308.1426 | I27: =I7*Annual!$C46/100 -> 891.94269 | J27: =J7*Annual!$D46/100 -> 899.96074 | K27: =K7*Annual!$D46/100 -> 2139.1368 | L27: =L7*Annual!$D46/100 -> 1292.672 | M27: =M7*Annual!$D46/100 -> 798.05094 | N27: =N7*Annual!$E46/100 -> 1083.0251 | O27: =O7*Annual!$E46/100 -> 2203.0037 | P27: =P7*Annual!$E46/100 -> 1395.4812 | Q27: =Q7*Annual!$E46/100 -> 594.83166 | R27: =R7*Annual!$F46/100 -> 850.02265 | S27: =S7*Annual!$F46/100 -> 2193.9633 | T27: =T7*Annual!$F46/100 -> 1369.966 | U27: =U7*Annual!$F46/100 -> 493.69189 | V27: =V7*Annual!$G46/100 -> 778.26526 | W27: =W7*Annual!$G46/100 -> 1839.8347 | X27: =X7*Annual!$G46/100 -> 1796.4588 | Y27: =Y7*Annual!$G46/100 -> 637.65348 | Z27: =Z7*Annual!H46/100 -> 967.33061 | AA27: =AA7*Annual!H46/100 -> 2673.5444 | AB27: =AB7*Annual!H46/100 -> 1873.6467 | AC27: =AC7*Annual!H46/100 -> 1009.719 | AD27: =AD7*Annual!$I46/100 -> 1143.5017 | AE27: =AE7*Annual!$I46/100 -> 3704.3014 | AF27: =AF7*Annual!$I46/100 -> 2494.1086 | AG27: =AG7*Annual!$I46/100 -> 1059.7126 | AH27: =AH7*Annual!$J46/100 -> 1132.5224 | AI27: =AI7*Annual!$J46/100 -> 3544.3164 | AJ27: =AJ7*Annual!$J46/100 -> 2348.7576 | AK27: =AK7*Annual!$J46/100 -> 732.3242 | AL27: =AL7*Annual!$K46/100 -> 1104.0748 | AM27: =AM7*Annual!$K46/100 -> 3175.3014 | AN27: =AN7*Annual!$K46/100 -> 2781.736 | AO27: =AO7*Annual!$K46/100 -> 768.21857 | AP27: =AP7*Annual!$L46/100 -> 1332.0522 | AQ27: =AQ7*Annual!$L46/100 -> 2266.4044 | AR27: =AR7*Annual!$L46/100 -> 2295.5034 | AS27: =AS7*Annual!$L46/100 -> 921.17198 | AT27: =AT7*Annual!$M46/100 -> 1509.7315 | AU27: =AU7*Annual!$M46/100 -> 2864.8173 | AV27: =AV7*Annual!$M46/100 -> 3393.8833 | AW27: =AW7*Annual!$M46/100 -> 1559.3673 | AX27: =AX7*Annual!$N46/100 -> 2205.4398 | AY27: =AY7*Annual!$N46/100 -> 4358.8982 | AZ27: =AZ7*Annual!$N46/100 -> 3339.9244 | BA27: =BA7*Annual!$N46/100 -> 1493.089 | BB27: =BB7*Annual!$O46/100 -> 2161.6156 | BC27: =BC7*Annual!$O46/100 -> 5099.6016 | BD27: =BD7*Annual!$O46/100 -> 4044.9986 | BE27: =BE7*Annual!$O46/100 -> 1323.7439 | BF27: =BF7*Annual!P46/100 -> 2499.9204 | BG27: =BG7*Annual!P46/100 -> 5769.6778 | BH27: =BH7*Annual!P46/100 -> 3390.6348 | BI27: =BI7*Annual!P46/100 -> 1271.1099 | BJ27: =BJ7*Annual!Q46/100 -> 2471.3646 | BK27: =BK7*Annual!Q46/100 -> 6193.7404 | BL27: =BL7*Annual!Q46/100 -> 2832.5737 | BM27: =BM7*Annual!Q46/100 -> 801.76093 | BN27: =BN7*Annual!$R46/100 -> 2092.9668 | BO27: =BO7*Annual!$R46/100 -> 5404.7071 | BP27: =BP7*Annual!$R46/100 -> 3669.4804 | BQ27: =BQ7*Annual!$R46/100 -> 1288.1244 | BR27: =BR7*Annual!$T46/100 -> 2084.7551 | BS27: =BS7*Annual!$T46/100 -> 6615.0132 | BT27: =BT7*Annual!$T46/100 -> 3388.9994 | BU27: =BU7*Annual!$T46/100 -> 1162.4674 | BV27: =BV7*Annual!$T46/100 -> 2170.005 | BW27: =BW7*Annual!$T46/100 -> 7115.1066 | BX27: =BX7*Annual!$T46/100 -> 3016.0555 | BY27: =BY7*Annual!$T46/100 -> 838.81024 | BZ27: =BZ7*Annual!$U46/100 -> 2240.4951
A28: Mining and quarrying | B28: =B8*Annual!$B47/100 -> 157.93218 | C28: =C8*Annual!$B47/100 -> 196.41052 | D28: =D8*Annual!$B47/100 -> 204.16114 | E28: =E8*Annual!$B47/100 -> 157.01343 | F28: =F8*Annual!$C47/100 -> 244.62978 | G28: =G8*Annual!$C47/100 -> 323.94728 | H28: =H8*Annual!$C47/100 -> 327.38683 | I28: =I8*Annual!$C47/100 -> 257.21445 | J28: =J8*Annual!$D47/100 -> 253.27739 | K28: =K8*Annual!$D47/100 -> 311.2586 | L28: =L8*Annual!$D47/100 -> 315.46654 | M28: =M8*Annual!$D47/100 -> 246.00436 | N28: =N8*Annual!$E47/100 -> 245.88786 | O28: =O8*Annual!$E47/100 -> 362.41526 | P28: =P8*Annual!$E47/100 -> 403.72076 | Q28: =Q8*Annual!$E47/100 -> 335.91205 | R28: =R8*Annual!$F47/100 -> 247.90466 | S28: =S8*Annual!$F47/100 -> 302.00824 | T28: =T8*Annual!$F47/100 -> 309.14844 | U28: =U8*Annual!$F47/100 -> 298.30206 | V28: =V8*Annual!$G47/100 -> 331.90712 | W28: =W8*Annual!$G47/100 -> 424.02869 | X28: =X8*Annual!$G47/100 -> 390.71579 | Y28: =Y8*Annual!$G47/100 -> 384.82974 | Z28: =Z8*Annual!H47/100 -> 437.01319 | AA28: =AA8*Annual!H47/100 -> 528.01965 | AB28: =AB8*Annual!H47/100 -> 496.67666 | AC28: =AC8*Annual!H47/100 -> 440.0771 | AD28: =AD8*Annual!$I47/100 -> 465.28953 | AE28: =AE8*Annual!$I47/100 -> 586.29044 | AF28: =AF8*Annual!$I47/100 -> 600.34251 | AG28: =AG8*Annual!$I47/100 -> 482.23844 | AH28: =AH8*Annual!$J47/100 -> 445.29581 | AI28: =AI8*Annual!$J47/100 -> 494.87 | AJ28: =AJ8*Annual!$J47/100 -> 535.74433 | AK28: =AK8*Annual!$J47/100 -> 420.68122 | AL28: =AL8*Annual!$K47/100 -> 439.63355 | AM28: =AM8*Annual!$K47/100 -> 533.15959 | AN28: =AN8*Annual!$K47/100 -> 566.39963 | AO28: =AO8*Annual!$K47/100 -> 469.00143 | AP28: =AP8*Annual!$L47/100 -> 450.96782 | AQ28: =AQ8*Annual!$L47/100 -> 630.05776 | AR28: =AR8*Annual!$L47/100 -> 628.86895 | AS28: =AS8*Annual!$L47/100 -> 566.82733 | AT28: =AT8*Annual!$M47/100 -> 522.03264 | AU28: =AU8*Annual!$M47/100 -> 689.60664 | AV28: =AV8*Annual!$M47/100 -> 881.99887 | AW28: =AW8*Annual!$M47/100 -> 761.14092 | AX28: =AX8*Annual!$N47/100 -> 782.04802 | AY28: =AY8*Annual!$N47/100 -> 903.82843 | AZ28: =AZ8*Annual!$N47/100 -> 928.5095 | BA28: =BA8*Annual!$N47/100 -> 869.43346 | BB28: =BB8*Annual!$O47/100 -> 901.77259 | BC28: =BC8*Annual!$O47/100 -> 1188.8294 | BD28: =BD8*Annual!$O47/100 -> 1261.9938 | BE28: =BE8*Annual!$O47/100 -> 1069.3727 | BF28: =BF8*Annual!P47/100 -> 894.25857 | BG28: =BG8*Annual!P47/100 -> 1104.706 | BH28: =BH8*Annual!P47/100 -> 1169.7888 | BI28: =BI8*Annual!P47/100 -> 1036.8764 | BJ28: =BJ8*Annual!Q47/100 -> 872.56823 | BK28: =BK8*Annual!Q47/100 -> 1263.9835 | BL28: =BL8*Annual!Q47/100 -> 1413.5186 | BM28: =BM8*Annual!Q47/100 -> 1380.5964 | BN28: =BN8*Annual!$T47/100 -> 1255.8375 | BO28: =BO8*Annual!$T47/100 -> 1469.1007 | BP28: =BP8*Annual!$T47/100 -> 1668.3329 | BQ28: =BQ8*Annual!$T47/100 -> 1575.6642 | BR28: =BR8*Annual!$T47/100 -> 1272.0043 | BS28: =BS8*Annual!$T47/100 -> 1411.5175 | BT28: =BT8*Annual!$T47/100 -> 1517.523 | BU28: =BU8*Annual!$T47/100 -> 1305.2927 | ... BY28: =BY8*Annual!$T47/100 -> 1427.386 | BZ28: =BZ8*Annual!$U47/100 -> 1352.9531
A29: Secondary Industries | B29: =SUM(B30:B32) -> 3118.3179 | C29: =SUM(C30:C32) -> 3375.5051 | D29: =SUM(D30:D32) -> 3699.0449 | E29: =SUM(E30:E32) -> 3250.3707 | F29: =SUM(F30:F32) -> 3481.0986 | G29: =SUM(G30:G32) -> 3688.5857 | H29: =SUM(H30:H32) -> 3889.5566 | I29: =SUM(I30:I32) -> 3571.6621 | ... BZ29: =SUM(BZ30:BZ32) -> 10570.27
A30: Manufacturing | B30: =B10*Annual!$B49/100 -> 2341.1803 | C30: =C10*Annual!$B49/100 -> 2585.2906 | D30: =D10*Annual!$B49/100 -> 2905.035 | E30: =E10*Annual!$B49/100 -> 2566.7519 | F30: =F10*Annual!$C49/100 -> 2636.2385 | G30: =G10*Annual!$C49/100 -> 2831.2983 | H30: =H10*Annual!$C49/100 -> 3049.8567 | I30: =I10*Annual!$C49/100 -> 2853.9654 | J30: =J10*Annual!$D49/100 -> 3001.3927 | K30: =K10*Annual!$D49/100 -> 3257.6884 | L30: =L10*Annual!$D49/100 -> 3439.241 | M30: =M10*Annual!$D49/100 -> 3117.9459 | N30: =N10*Annual!$E49/100 -> 3070.8219 | O30: =O10*Annual!$E49/100 -> 3104.3967 | P30: =P10*Annual!$E49/100 -> 3304.5183 | Q30: =Q10*Annual!$E49/100 -> 2817.9017 | R30: =R10*Annual!$F49/100 -> 2976.3672 | S30: =S10*Annual!$F49/100 -> 3071.2946 | T30: =T10*Annual!$F49/100 -> 3581.0276 | U30: =U10*Annual!$F49/100 -> 3342.5461 | V30: =V10*Annual!$G49/100 -> 3624.1091 | W30: =W10*Annual!$G49/100 -> 3809.7275 | X30: =X10*Annual!$G49/100 -> 4509.3005 | Y30: =Y10*Annual!$G49/100 -> 4221.728 | Z30: =Z10*Annual!H49/100 -> 4462.5536 | AA30: =AA10*Annual!H49/100 -> 4512.9052 | AB30: =AB10*Annual!H49/100 -> 4923.4313 | AC30: =AC10*Annual!H49/100 -> 4787.8466 | AD30: =AD10*Annual!$I49/100 -> 4928.4853 | AE30: =AE10*Annual!$I49/100 -> 5363.702 | AF30: =AF10*Annual!$I49/100 -> 6025.9211 | AG30: =AG10*Annual!$I49/100 -> 5850.3323 | AH30: =AH10*Annual!$J49/100 -> 6126.6523 | AI30: =AI10*Annual!$J49/100 -> 6088.128 | AJ30: =AJ10*Annual!$J49/100 -> 6656.8413 | AK30: =AK10*Annual!$J49/100 -> 6394.8543 | AL30: =AL10*Annual!$K49/100 -> 6627.4833 | AM30: =AM10*Annual!$K49/100 -> 6616.6485 | AN30: =AN10*Annual!$K49/100 -> 7471.5362 | AO30: =AO10*Annual!$K49/100 -> 7203.0029 | AP30: =AP10*Annual!$L49/100 -> 6773.833 | AQ30: =AQ10*Annual!$L49/100 -> 7322.8262 | AR30: =AR10*Annual!$L49/100 -> 8082.6668 | AS30: =AS10*Annual!$L49/100 -> 7204.7449 | AT30: =AT10*Annual!$M49/100 -> 7169.8313 | AU30: =AU10*Annual!$M49/100 -> 7160.9452 | AV30: =AV10*Annual!$M49/100 -> 8155.5562 | AW30: =AW10*Annual!$M49/100 -> 7319.0547 | AX30: =AX10*Annual!$N49/100 -> 8253.7683 | AY30: =AY10*Annual!$N49/100 -> 7577.858 | AZ30: =AZ10*Annual!$N49/100 -> 8360.013 | BA30: =BA10*Annual!$N49/100 -> 7948.3428 | BB30: =BB10*Annual!$O49/100 -> 8782.125 | BC30: =BC10*Annual!$O49/100 -> 8770.7022 | BD30: =BD10*Annual!$O49/100 -> 9677.3342 | BE30: =BE10*Annual!$O49/100 -> 8050.8541 | BF30: =BF10*Annual!P49/100 -> 8377.9429 | BG30: =BG10*Annual!P49/100 -> 7499.4806 | BH30: =BH10*Annual!P49/100 -> 8214.359 | BI30: =BI10*Annual!P49/100 -> 7215.3033 | BJ30: =BJ10*Annual!Q49/100 -> 8026.5389 | BK30: =BK10*Annual!Q49/100 -> 7528.7018 | BL30: =BL10*Annual!Q49/100 -> 8219.1729 | BM30: =BM10*Annual!Q49/100 -> 6477.5959 | BN30: =BN10*Annual!$R49/100 -> 6880.7833 | BO30: =BO10*Annual!$R49/100 -> 6239.3931 | BP30: =BP10*Annual!$R49/100 -> 7085.3512 | BQ30: =BQ10*Annual!$R49/100 -> 5151.0904 | BR30: =BR10*Annual!$T49/100 -> 6379.3254 | BS30: =BS10*Annual!$T49/100 -> 5435.933 | BT30: =BT10*Annual!$T49/100 -> 6107.8614 | BU30: =BU10*Annual!$T49/100 -> 4064.9799 | BV30: =BV10*Annual!$T49/100 -> 5378.8323 | BW30: =BW10*Annual!$T49/100 -> 4792.9018 | BX30: =BX10*Annual!$T49/100 -> 5540.434 | BY30: =BY10*Annual!$T49/100 -> 3801.5395 | BZ30: =BZ10*Annual!$U49/100 -> 5468.288
A31: Electricity, gas and water | B31: =B11*Annual!$B50/100 -> 537.64426 | C31: =C11*Annual!$B50/100 -> 543.1322 | D31: =D11*Annual!$B50/100 -> 579.9649 | E31: =E11*Annual!$B50/100 -> 507.49973 | F31: =F11*Annual!$C50/100 -> 537.52331 | G31: =G11*Annual!$C50/100 -> 548.8437 | H31: =H11*Annual!$C50/100 -> 592.35537 | I31: =I11*Annual!$C50/100 -> 501.62309 | J31: =J11*Annual!$D50/100 -> 543.64059 | K31: =K11*Annual!$D50/100 -> 598.28711 | L31: =L11*Annual!$D50/100 -> 617.00202 | M31: =M11*Annual!$D50/100 -> 544.1562 | N31: =N11*Annual!$E50/100 -> 571.20493 | O31: =O11*Annual!$E50/100 -> 629.81102 | P31: =P11*Annual!$E50/100 -> 627.27125 | Q31: =Q11*Annual!$E50/100 -> 561.34158 | R31: =R11*Annual!$F50/100 -> 516.40448 | S31: =S11*Annual!$F50/100 -> 606.95019 | T31: =T11*Annual!$F50/100 -> 705.12302 | U31: =U11*Annual!$F50/100 -> 522.63212 | V31: =V11*Annual!$G50/100 -> 603.08877 | W31: =W11*Annual!$G50/100 -> 689.49066 | X31: =X11*Annual!$G50/100 -> 743.7029 | Y31: =Y11*Annual!$G50/100 -> 590.26321 | Z31: =Z11*Annual!H50/100 -> 637.13176 | AA31: =AA11*Annual!H50/100 -> 711.31171 | AB31: =AB11*Annual!H50/100 -> 770.3316 | AC31: =AC11*Annual!H50/100 -> 640.37236 | AD31: =AD11*Annual!$I50/100 -> 709.19408 | AE31: =AE11*Annual!$I50/100 -> 823.673 | AF31: =AF11*Annual!$I50/100 -> 940.17926 | AG31: =AG11*Annual!$I50/100 -> 808.43138 | AH31: =AH11*Annual!$J50/100 -> 723.55579 | AI31: =AI11*Annual!$J50/100 -> 829.07629 | AJ31: =AJ11*Annual!$J50/100 -> 910.02924 | AK31: =AK11*Annual!$J50/100 -> 732.23987 | AL31: =AL11*Annual!$K50/100 -> 757.33411 | AM31: =AM11*Annual!$K50/100 -> 818.38193 | AN31: =AN11*Annual!$K50/100 -> 922.69187 | AO31: =AO11*Annual!$K50/100 -> 737.29746 | AP31: =AP11*Annual!$L50/100 -> 813.32813 | AQ31: =AQ11*Annual!$L50/100 -> 920.91213 | AR31: =AR11*Annual!$L50/100 -> 1016.8067 | AS31: =AS11*Annual!$L50/100 -> 821.12107 | AT31: =AT11*Annual!$M50/100 -> 872.84942 | AU31: =AU11*Annual!$M50/100 -> 1044.0301 | AV31: =AV11*Annual!$M50/100 -> 1171.8818 | AW31: =AW11*Annual!$M50/100 -> 921.58598 | AX31: =AX11*Annual!$N50/100 -> 1043.1137 | AY31: =AY11*Annual!$N50/100 -> 1220.2364 | AZ31: =AZ11*Annual!$N50/100 -> 1347.097 | BA31: =BA11*Annual!$N50/100 -> 967.72031 | BB31: =BB11*Annual!$O50/100 -> 1084.3993 | BC31: =BC11*Annual!$O50/100 -> 1289.2028 | BD31: =BD11*Annual!$O50/100 -> 1450.7837 | BE31: =BE11*Annual!$O50/100 -> 977.54118 | BF31: =BF11*Annual!P50/100 -> 1489.8033 | BG31: =BG11*Annual!P50/100 -> 1805.7074 | BH31: =BH11*Annual!P50/100 -> 2144.1967 | BI31: =BI11*Annual!P50/100 -> 1431.4443 | BJ31: =BJ11*Annual!Q50/100 -> 1559.0572 | BK31: =BK11*Annual!Q50/100 -> 1872.9824 | BL31: =BL11*Annual!Q50/100 -> 2106.8062 | BM31: =BM11*Annual!Q50/100 -> 1392.151 | BN31: =BN11*Annual!$T50/100 -> 1670.2598 | BO31: =BO11*Annual!$T50/100 -> 2225.1365 | BP31: =BP11*Annual!$T50/100 -> 2469.1404 | BQ31: =BQ11*Annual!$T50/100 -> 1618.2924 | BR31: =BR11*Annual!$T50/100 -> 2001.0698 | BS31: =BS11*Annual!$T50/100 -> 2617.2638 | BT31: =BT11*Annual!$T50/100 -> 2868.0228 | BU31: =BU11*Annual!$T50/100 -> 1922.3106 | ... BY31: =BY11*Annual!$T50/100 -> 2084.6992 | BZ31: =BZ11*Annual!$U50/100 -> 2352.3612
A32: Construction | B32: =B12*Annual!$B51/100 -> 239.49333 | C32: =C12*Annual!$B51/100 -> 247.08235 | D32: =D12*Annual!$B51/100 -> 214.04501 | E32: =E12*Annual!$B51/100 -> 176.11912 | F32: =F12*Annual!$C51/100 -> 307.33676 | G32: =G12*Annual!$C51/100 -> 308.44368 | H32: =H12*Annual!$C51/100 -> 247.34455 | I32: =I12*Annual!$C51/100 -> 216.07355 | J32: =J12*Annual!$D51/100 -> 365.89594 | K32: =K12*Annual!$D51/100 -> 357.75842 | L32: =L12*Annual!$D51/100 -> 330.49559 | M32: =M12*Annual!$D51/100 -> 284.32752 | N32: =N12*Annual!$E51/100 -> 354.76115 | O32: =O12*Annual!$E51/100 -> 341.74733 | P32: =P12*Annual!$E51/100 -> 312.08912 | Q32: =Q12*Annual!$E51/100 -> 253.80181 | R32: =R12*Annual!$F51/100 -> 349.82568 | S32: =S12*Annual!$F51/100 -> 335.74104 | T32: =T12*Annual!$F51/100 -> 304.74676 | U32: =U12*Annual!$F51/100 -> 245.58382 | V32: =V12*Annual!$G51/100 -> 363.17419 | W32: =W12*Annual!$G51/100 -> 352.21901 | X32: =X12*Annual!$G51/100 -> 324.02948 | Y32: =Y12*Annual!$G51/100 -> 269.35053 | Z32: =Z12*Annual!H51/100 -> 510.58577 | AA32: =AA12*Annual!H51/100 -> 512.5534 | AB32: =AB12*Annual!H51/100 -> 466.46728 | AC32: =AC12*Annual!H51/100 -> 392.9539 | AD32: =AD12*Annual!$I51/100 -> 419.671 | AE32: =AE12*Annual!$I51/100 -> 402.24859 | AF32: =AF12*Annual!$I51/100 -> 390.3939 | AG32: =AG12*Annual!$I51/100 -> 346.40617 | AH32: =AH12*Annual!$J51/100 -> 463.2825 | AI32: =AI12*Annual!$J51/100 -> 438.45258 | AJ32: =AJ12*Annual!$J51/100 -> 412.90698 | AK32: =AK12*Annual!$J51/100 -> 344.40561 | AL32: =AL12*Annual!$K51/100 -> 574.13419 | AM32: =AM12*Annual!$K51/100 -> 569.1556 | AN32: =AN12*Annual!$K51/100 -> 561.2411 | AO32: =AO12*Annual!$K51/100 -> 491.68724 | AP32: =AP12*Annual!$L51/100 -> 772.69587 | AQ32: =AQ12*Annual!$L51/100 -> 713.87715 | AR32: =AR12*Annual!$L51/100 -> 741.80824 | AS32: =AS12*Annual!$L51/100 -> 609.72982 | AT32: =AT12*Annual!$M51/100 -> 914.84175 | AU32: =AU12*Annual!$M51/100 -> 880.53573 | AV32: =AV12*Annual!$M51/100 -> 930.61963 | AW32: =AW12*Annual!$M51/100 -> 787.75024 | AX32: =AX12*Annual!$N51/100 -> 1092.292 | AY32: =AY12*Annual!$N51/100 -> 982.11077 | AZ32: =AZ12*Annual!$N51/100 -> 1014.7822 | BA32: =BA12*Annual!$N51/100 -> 810.57044 | BB32: =BB12*Annual!$O51/100 -> 1333.5985 | BC32: =BC12*Annual!$O51/100 -> 1288.2184 | BD32: =BD12*Annual!$O51/100 -> 1542.347 | BE32: =BE12*Annual!$O51/100 -> 1221.0847 | BF32: =BF12*Annual!P51/100 -> 1930.4379 | BG32: =BG12*Annual!P51/100 -> 1817.8914 | BH32: =BH12*Annual!P51/100 -> 1790.3673 | BI32: =BI12*Annual!P51/100 -> 1269.2845 | BJ32: =BJ12*Annual!Q51/100 -> 2086.6763 | BK32: =BK12*Annual!Q51/100 -> 1930.9972 | BL32: =BL12*Annual!Q51/100 -> 1895.6753 | BM32: =BM12*Annual!Q51/100 -> 1353.5431 | BN32: =BN12*Annual!$T51/100 -> 2146.9199 | BO32: =BO12*Annual!$T51/100 -> 2048.7857 | BP32: =BP12*Annual!$T51/100 -> 2013.035 | BQ32: =BQ12*Annual!$T51/100 -> 1555.8352 | BR32: =BR12*Annual!$T51/100 -> 2358.5418 | BS32: =BS12*Annual!$T51/100 -> 2124.7019 | BT32: =BT12*Annual!$T51/100 -> 2097.8672 | BU32: =BU12*Annual!$T51/100 -> 1590.1721 | ... BY32: =BY12*Annual!$T51/100 -> 1790.4224 | BZ32: =BZ12*Annual!$U51/100 -> 2749.6205
A33: Tertiary industries | B33: =SUM(B34:B38) -> 4961.7083 | C33: =SUM(C34:C38) -> 5018.4553 | D33: =SUM(D34:D38) -> 5418.7412 | E33: =SUM(E34:E38) -> 5728.9542 | F33: =SUM(F34:F38) -> 5784.3399 | G33: =SUM(G34:G38) -> 5772.8245 | H33: =SUM(H34:H38) -> 6171.0736 | I33: =SUM(I34:I38) -> 6485.8222 | ... BZ33: =SUM(BZ34:BZ38) -> 43426.026
A34: Wholesale & retail trade; hotels & restaurants | B34: =B14*Annual!$B53/100 -> 1381.0166 | C34: =C14*Annual!$B53/100 -> 1342.8516 | D34: =D14*Annual!$B53/100 -> 1467.6852 | E34: =E14*Annual!$B53/100 -> 1717.2389 | F34: =F14*Annual!$C53/100 -> 1520.2359 | G34: =G14*Annual!$C53/100 -> 1498.7746 | H34: =H14*Annual!$C53/100 -> 1615.3335 | I34: =I14*Annual!$C53/100 -> 1930.7741 | J34: =J14*Annual!$D53/100 -> 1640.8332 | K34: =K14*Annual!$D53/100 -> 1668.2256 | L34: =L14*Annual!$D53/100 -> 1742.3932 | M34: =M14*Annual!$D53/100 -> 1953.042 | N34: =N14*Annual!$E53/100 -> 1693.41 | O34: =O14*Annual!$E53/100 -> 1817.0431 | P34: =P14*Annual!$E53/100 -> 1779.2353 | Q34: =Q14*Annual!$E53/100 -> 1869.8464 | R34: =R14*Annual!$F53/100 -> 1742.9179 | S34: =S14*Annual!$F53/100 -> 1740.6779 | T34: =T14*Annual!$F53/100 -> 1927.8203 | U34: =U14*Annual!$F53/100 -> 2330.5417 | V34: =V14*Annual!$G53/100 -> 2194.1891 | W34: =W14*Annual!$G53/100 -> 2220.556 | X34: =X14*Annual!$G53/100 -> 2481.4334 | Y34: =Y14*Annual!$G53/100 -> 2837.2874 | Z34: =Z14*Annual!H53/100 -> 2724.0009 | AA34: =AA14*Annual!H53/100 -> 2683.271 | AB34: =AB14*Annual!H53/100 -> 2812.9757 | AC34: =AC14*Annual!H53/100 -> 3287.4797 | AD34: =AD14*Annual!$I53/100 -> 2937.5186 | AE34: =AE14*Annual!$I53/100 -> 2977.2968 | AF34: =AF14*Annual!$I53/100 -> 3165.4005 | AG34: =AG14*Annual!$I53/100 -> 3769.22 | AH34: =AH14*Annual!$J53/100 -> 3410.5145 | AI34: =AI14*Annual!$J53/100 -> 3329.4867 | AJ34: =AJ14*Annual!$J53/100 -> 3556.7722 | AK34: =AK14*Annual!$J53/100 -> 4083.8436 | AL34: =AL14*Annual!$K53/100 -> 3737.875 | AM34: =AM14*Annual!$K53/100 -> 3585.6156 | AN34: =AN14*Annual!$K53/100 -> 4080.4587 | AO34: =AO14*Annual!$K53/100 -> 4510.9653 | AP34: =AP14*Annual!$L53/100 -> 4138.9699 | AQ34: =AQ14*Annual!$L53/100 -> 4046.6886 | AR34: =AR14*Annual!$L53/100 -> 4400.2647 | AS34: =AS14*Annual!$L53/100 -> 5018.9891 | AT34: =AT14*Annual!$M53/100 -> 4580.4137 | AU34: =AU14*Annual!$M53/100 -> 4482.6557 | AV34: =AV14*Annual!$M53/100 -> 4911.1957 | AW34: =AW14*Annual!$M53/100 -> 5547.76 | AX34: =AX14*Annual!$N53/100 -> 5240.0677 | AY34: =AY14*Annual!$N53/100 -> 5131.4792 | AZ34: =AZ14*Annual!$N53/100 -> 5533.772 | BA34: =BA14*Annual!$N53/100 -> 6255.6357 | BB34: =BB14*Annual!$O53/100 -> 6085.3018 | BC34: =BC14*Annual!$O53/100 -> 6056.1094 | BD34: =BD14*Annual!$O53/100 -> 6376.2936 | BE34: =BE14*Annual!$O53/100 -> 7148.7746 | BF34: =BF14*Annual!P53/100 -> 6996.33 | BG34: =BG14*Annual!P53/100 -> 6924.9034 | BH34: =BH14*Annual!P53/100 -> 6984.2403 | BI34: =BI14*Annual!P53/100 -> 8039.7958 | BJ34: =BJ14*Annual!Q53/100 -> 8470.3394 | BK34: =BK14*Annual!Q53/100 -> 9120.1072 | BL34: =BL14*Annual!Q53/100 -> 8788.8937 | BM34: =BM14*Annual!Q53/100 -> 10687.881 | BN34: =BN14*Annual!$R53/100 -> 9418.7383 | BO34: =BO14*Annual!$R53/100 -> 10067.871 | BP34: =BP14*Annual!$R53/100 -> 10023.895 | BQ34: =BQ14*Annual!$R53/100 -> 12174.678 | BR34: =BR14*Annual!$T53/100 -> 10919.829 | BS34: =BS14*Annual!$T53/100 -> 11607.066 | BT34: =BT14*Annual!$T53/100 -> 11553.284 | BU34: =BU14*Annual!$T53/100 -> 13906.188 | BV34: =BV14*Annual!$T53/100 -> 12462.78 | BW34: =BW14*Annual!$T53/100 -> 13020.244 | BX34: =BX14*Annual!$T53/100 -> 13170.89 | BY34: =BY14*Annual!$T53/100 -> 15325.7 | BZ34: =BZ14*Annual!$U53/100 -> 13850.816
A35: Transport , storage and communication | B35: =B15*Annual!$B54/100 -> 1151.1062 | C35: =C15*Annual!$B54/100 -> 1199.102 | D35: =D15*Annual!$B54/100 -> 1385.23 | E35: =E15*Annual!$B54/100 -> 1451.5224 | F35: =F15*Annual!$C54/100 -> 1454.419 | G35: =G15*Annual!$C54/100 -> 1405.7946 | H35: =H15*Annual!$C54/100 -> 1586.5554 | I35: =I15*Annual!$C54/100 -> 1630.6973 | J35: =J15*Annual!$D54/100 -> 1560.0141 | K35: =K15*Annual!$D54/100 -> 1637.3945 | L35: =L15*Annual!$D54/100 -> 1832.4804 | M35: =M15*Annual!$D54/100 -> 1797.9571 | N35: =N15*Annual!$E54/100 -> 1698.32 | O35: =O15*Annual!$E54/100 -> 1826.3116 | P35: =P15*Annual!$E54/100 -> 1980.5928 | Q35: =Q15*Annual!$E54/100 -> 2050.3193 | R35: =R15*Annual!$F54/100 -> 1907.7885 | S35: =S15*Annual!$F54/100 -> 2048.6998 | T35: =T15*Annual!$F54/100 -> 2244.4829 | U35: =U15*Annual!$F54/100 -> 2354.5122 | V35: =V15*Annual!$G54/100 -> 2229.1685 | W35: =W15*Annual!$G54/100 -> 2432.2085 | X35: =X15*Annual!$G54/100 -> 2690.3721 | Y35: =Y15*Annual!$G54/100 -> 2841.3953 | Z35: =Z15*Annual!H54/100 -> 2596.3083 | AA35: =AA15*Annual!H54/100 -> 2739.5441 | AB35: =AB15*Annual!H54/100 -> 2857.6818 | AC35: =AC15*Annual!H54/100 -> 3128.661 | AD35: =AD15*Annual!$I54/100 -> 3125.8916 | AE35: =AE15*Annual!$I54/100 -> 3218.8292 | AF35: =AF15*Annual!$I54/100 -> 3397.7111 | AG35: =AG15*Annual!$I54/100 -> 3760.6132 | AH35: =AH15*Annual!$J54/100 -> 3569.5676 | AI35: =AI15*Annual!$J54/100 -> 3634.775 | AJ35: =AJ15*Annual!$J54/100 -> 3819.2861 | AK35: =AK15*Annual!$J54/100 -> 4175.2455 | AL35: =AL15*Annual!$K54/100 -> 4059.8284 | AM35: =AM15*Annual!$K54/100 -> 4151.0624 | AN35: =AN15*Annual!$K54/100 -> 4258.7271 | AO35: =AO15*Annual!$K54/100 -> 4355.3027 | AP35: =AP15*Annual!$L54/100 -> 4586.4668 | AQ35: =AQ15*Annual!$L54/100 -> 4522.8495 | AR35: =AR15*Annual!$L54/100 -> 4781.8323 | AS35: =AS15*Annual!$L54/100 -> 5227.7985 | AT35: =AT15*Annual!$M54/100 -> 4929.8699 | AU35: =AU15*Annual!$M54/100 -> 5208.6342 | AV35: =AV15*Annual!$M54/100 -> 5523.7067 | AW35: =AW15*Annual!$M54/100 -> 5786.0808 | AX35: =AX15*Annual!$N54/100 -> 5249.9205 | AY35: =AY15*Annual!$N54/100 -> 5623.9019 | AZ35: =AZ15*Annual!$N54/100 -> 5986.3836 | BA35: =BA15*Annual!$N54/100 -> 6158.4483 | BB35: =BB15*Annual!$O54/100 -> 6338.9374 | BC35: =BC15*Annual!$O54/100 -> 6911.1387 | BD35: =BD15*Annual!$O54/100 -> 6920.0184 | BE35: =BE15*Annual!$O54/100 -> 7637.7607 | BF35: =BF15*Annual!P54/100 -> 6949.7103 | BG35: =BG15*Annual!P54/100 -> 7322.6173 | BH35: =BH15*Annual!P54/100 -> 7286.9471 | BI35: =BI15*Annual!P54/100 -> 7713.0932 | BJ35: =BJ15*Annual!Q54/100 -> 7408.0829 | BK35: =BK15*Annual!Q54/100 -> 8123.8645 | BL35: =BL15*Annual!Q54/100 -> 8134.1301 | BM35: =BM15*Annual!Q54/100 -> 8902.6778 | BN35: =BN15*Annual!$T54/100 -> 8333.0501 | BO35: =BO15*Annual!$T54/100 -> 9043.1024 | BP35: =BP15*Annual!$T54/100 -> 9075.9077 | BQ35: =BQ15*Annual!$T54/100 -> 9485.3805 | BR35: =BR15*Annual!$T54/100 -> 8878.971 | BS35: =BS15*Annual!$T54/100 -> 9360.992 | BT35: =BT15*Annual!$T54/100 -> 9313.419 | BU35: =BU15*Annual!$T54/100 -> 9584.5558 | ... BY35: =BY15*Annual!$T54/100 -> 9953.3761 | BZ35: =BZ15*Annual!$U54/100 -> 9777.1596
A36: Finance, real estate and business services | B36: =B16*Annual!$B55/100 -> 1838.3995 | C36: =C16*Annual!$B55/100 -> 1862.8932 | D36: =D16*Annual!$B55/100 -> 1926.5675 | E36: =E16*Annual!$B55/100 -> 1916.0948 | F36: =F16*Annual!$C55/100 -> 2137.716 | G36: =G16*Annual!$C55/100 -> 2164.6084 | H36: =H16*Annual!$C55/100 -> 2235.0249 | I36: =I16*Annual!$C55/100 -> 2187.382 | J36: =J16*Annual!$D55/100 -> 2456.0183 | K36: =K16*Annual!$D55/100 -> 2543.135 | L36: =L16*Annual!$D55/100 -> 2652.9211 | M36: =M16*Annual!$D55/100 -> 2612.8623 | N36: =N16*Annual!$E55/100 -> 2739.1167 | O36: =O16*Annual!$E55/100 -> 2810.6977 | P36: =P16*Annual!$E55/100 -> 2764.3232 | Q36: =Q16*Annual!$E55/100 -> 2804.8487 | R36: =R16*Annual!$F55/100 -> 3149.884 | S36: =S16*Annual!$F55/100 -> 3135.2669 | T36: =T16*Annual!$F55/100 -> 3369.2387 | U36: =U16*Annual!$F55/100 -> 3432.7668 | V36: =V16*Annual!$G55/100 -> 3338.3506 | W36: =W16*Annual!$G55/100 -> 3400.2969 | X36: =X16*Annual!$G55/100 -> 3705.3422 | Y36: =Y16*Annual!$G55/100 -> 3749.0383 | Z36: =Z16*Annual!H55/100 -> 3749.4546 | AA36: =AA16*Annual!H55/100 -> 3798.4847 | AB36: =AB16*Annual!H55/100 -> 3924.8314 | AC36: =AC16*Annual!H55/100 -> 4023.0263 | AD36: =AD16*Annual!$I55/100 -> 4253.0581 | AE36: =AE16*Annual!$I55/100 -> 4261.4598 | AF36: =AF16*Annual!$I55/100 -> 4549.3297 | AG36: =AG16*Annual!$I55/100 -> 4886.9977 | AH36: =AH16*Annual!$J55/100 -> 5080.2774 | AI36: =AI16*Annual!$J55/100 -> 5024.0669 | AJ36: =AJ16*Annual!$J55/100 -> 4871.3997 | AK36: =AK16*Annual!$J55/100 -> 4819.4687 | AL36: =AL16*Annual!$K55/100 -> 5572.108 | AM36: =AM16*Annual!$K55/100 -> 5292.22 | AN36: =AN16*Annual!$K55/100 -> 5625.1832 | AO36: =AO16*Annual!$K55/100 -> 5592.5184 | AP36: =AP16*Annual!$L55/100 -> 6492.3194 | AQ36: =AQ16*Annual!$L55/100 -> 6404.6138 | AR36: =AR16*Annual!$L55/100 -> 6482.4947 | AS36: =AS16*Annual!$L55/100 -> 6281.5028 | AT36: =AT16*Annual!$M55/100 -> 6972.1908 | AU36: =AU16*Annual!$M55/100 -> 6971.0864 | AV36: =AV16*Annual!$M55/100 -> 7621.7395 | AW36: =AW16*Annual!$M55/100 -> 7515.161 | AX36: =AX16*Annual!$N55/100 -> 8699.2206 | AY36: =AY16*Annual!$N55/100 -> 8277.8911 | AZ36: =AZ16*Annual!$N55/100 -> 8997.3899 | BA36: =BA16*Annual!$N55/100 -> 9294.0436 | BB36: =BB16*Annual!$O55/100 -> 9461.9995 | BC36: =BC16*Annual!$O55/100 -> 9172.2564 | BD36: =BD16*Annual!$O55/100 -> 9225.7909 | BE36: =BE16*Annual!$O55/100 -> 9515.7962 | BF36: =BF16*Annual!P55/100 -> 10221.055 | BG36: =BG16*Annual!P55/100 -> 9936.2881 | BH36: =BH16*Annual!P55/100 -> 9999.6158 | BI36: =BI16*Annual!P55/100 -> 10336.251 | BJ36: =BJ16*Annual!Q55/100 -> 10838.547 | BK36: =BK16*Annual!Q55/100 -> 10646.473 | BL36: =BL16*Annual!Q55/100 -> 10634.327 | BM36: =BM16*Annual!Q55/100 -> 11236.799 | BN36: =BN16*Annual!$T55/100 -> 11385.146 | BO36: =BO16*Annual!$T55/100 -> 11223.472 | BP36: =BP16*Annual!$T55/100 -> 11389.439 | BQ36: =BQ16*Annual!$T55/100 -> 11948.219 | BR36: =BR16*Annual!$T55/100 -> 12295.449 | BS36: =BS16*Annual!$T55/100 -> 12229.037 | BT36: =BT16*Annual!$T55/100 -> 12534.032 | BU36: =BU16*Annual!$T55/100 -> 13144.849 | ... BY36: =BY16*Annual!$T55/100 -> 13834.794 | BZ36: =BZ16*Annual!$U55/100 -> 14943.932
A37: Personal services | B37: =B17*Annual!$B56/100 -> 302.23805 | C37: =C17*Annual!$B56/100 -> 316.32958 | D37: =D17*Annual!$B56/100 -> 334.28333 | E37: =E17*Annual!$B56/100 -> 332.02108 | F37: =F17*Annual!$C56/100 -> 344.58884 | G37: =G17*Annual!$C56/100 -> 362.6388 | H37: =H17*Annual!$C56/100 -> 380.94926 | I37: =I17*Annual!$C56/100 -> 378.7522 | J37: =J17*Annual!$D56/100 -> 378.6226 | K37: =K17*Annual!$D56/100 -> 397.65303 | L37: =L17*Annual!$D56/100 -> 417.08704 | M37: =M17*Annual!$D56/100 -> 413.97465 | N37: =N17*Annual!$E56/100 -> 444.17204 | O37: =O17*Annual!$E56/100 -> 453.3823 | P37: =P17*Annual!$E56/100 -> 475.43781 | Q37: =Q17*Annual!$E56/100 -> 465.1305 | R37: =R17*Annual!$F56/100 -> 494.37458 | S37: =S17*Annual!$F56/100 -> 510.70471 | T37: =T17*Annual!$F56/100 -> 555.98444 | U37: =U17*Annual!$F56/100 -> 544.3621 | V37: =V17*Annual!$G56/100 -> 597.1836 | W37: =W17*Annual!$G56/100 -> 627.23914 | X37: =X17*Annual!$G56/100 -> 666.19247 | Y37: =Y17*Annual!$G56/100 -> 653.27933 | Z37: =Z17*Annual!H56/100 -> 698.90572 | AA37: =AA17*Annual!H56/100 -> 687.57385 | AB37: =AB17*Annual!H56/100 -> 696.57855 | AC37: =AC17*Annual!H56/100 -> 696.79754 | AD37: =AD17*Annual!$I56/100 -> 828.63084 | AE37: =AE17*Annual!$I56/100 -> 856.79089 | AF37: =AF17*Annual!$I56/100 -> 884.50993 | AG37: =AG17*Annual!$I56/100 -> 896.25417 | AH37: =AH17*Annual!$J56/100 -> 974.06372 | AI37: =AI17*Annual!$J56/100 -> 996.78741 | AJ37: =AJ17*Annual!$J56/100 -> 1000.8715 | AK37: =AK17*Annual!$J56/100 -> 1007.7163 | AL37: =AL17*Annual!$K56/100 -> 1042.0143 | AM37: =AM17*Annual!$K56/100 -> 1119.9546 | AN37: =AN17*Annual!$K56/100 -> 1152.2908 | AO37: =AO17*Annual!$K56/100 -> 1157.9934 | AP37: =AP17*Annual!$L56/100 -> 1151.2985 | AQ37: =AQ17*Annual!$L56/100 -> 1252.4876 | AR37: =AR17*Annual!$L56/100 -> 1306.1904 | AS37: =AS17*Annual!$L56/100 -> 1336.2965 | AT37: =AT17*Annual!$M56/100 -> 1248.306 | AU37: =AU17*Annual!$M56/100 -> 1402.3777 | AV37: =AV17*Annual!$M56/100 -> 1470.7816 | AW37: =AW17*Annual!$M56/100 -> 1471.4656 | AX37: =AX17*Annual!$N56/100 -> 1390.8044 | AY37: =AY17*Annual!$N56/100 -> 1635.9781 | AZ37: =AZ17*Annual!$N56/100 -> 1689.7191 | BA37: =BA17*Annual!$N56/100 -> 1474.8514 | BB37: =BB17*Annual!$O56/100 -> 1467.4764 | BC37: =BC17*Annual!$O56/100 -> 1767.0233 | BD37: =BD17*Annual!$O56/100 -> 1804.5539 | BE37: =BE17*Annual!$O56/100 -> 1571.1461 | BF37: =BF17*Annual!P56/100 -> 1747.8077 | BG37: =BG17*Annual!P56/100 -> 2160.6493 | BH37: =BH17*Annual!P56/100 -> 2187.9828 | BI37: =BI17*Annual!P56/100 -> 1961.8011 | BJ37: =BJ17*Annual!Q56/100 -> 1992.5084 | BK37: =BK17*Annual!Q56/100 -> 2507.4935 | BL37: =BL17*Annual!Q56/100 -> 2513.2549 | BM37: =BM17*Annual!Q56/100 -> 2297.8144 | BN37: =BN17*Annual!$R56/100 -> 1980.6668 | BO37: =BO17*Annual!$R56/100 -> 2443.0117 | BP37: =BP17*Annual!$R56/100 -> 2599.917 | BQ37: =BQ17*Annual!$R56/100 -> 2429.8219 | BR37: =BR17*Annual!$T56/100 -> 2245.1753 | BS37: =BS17*Annual!$T56/100 -> 2655.8212 | BT37: =BT17*Annual!$T56/100 -> 2771.7505 | BU37: =BU17*Annual!$T56/100 -> 2584.5202 | BV37: =BV17*Annual!$T56/100 -> 2480.6504 | BW37: =BW17*Annual!$T56/100 -> 2792.643 | BX37: =BX17*Annual!$T56/100 -> 2829.163 | BY37: =BY17*Annual!$T56/100 -> 2651.3795 | BZ37: =BZ17*Annual!$U56/100 -> 2657.6446
A38: General government services | B38: =B18*Annual!$B57/100 -> 288.94783 | C38: =C18*Annual!$B57/100 -> 297.27899 | D38: =D18*Annual!$B57/100 -> 304.97507 | E38: =E18*Annual!$B57/100 -> 312.07704 | F38: =F18*Annual!$C57/100 -> 327.38029 | G38: =G18*Annual!$C57/100 -> 341.0081 | H38: =H18*Annual!$C57/100 -> 353.21055 | I38: =I18*Annual!$C57/100 -> 358.21668 | J38: =J18*Annual!$D57/100 -> 357.21945 | K38: =K18*Annual!$D57/100 -> 373.46955 | L38: =L18*Annual!$D57/100 -> 398.78039 | M38: =M18*Annual!$D57/100 -> 395.68385 | N38: =N18*Annual!$E57/100 -> 411.98392 | O38: =O18*Annual!$E57/100 -> 440.0486 | P38: =P18*Annual!$E57/100 -> 465.34828 | Q38: =Q18*Annual!$E57/100 -> 475.4405 | R38: =R18*Annual!$F57/100 -> 470.64276 | S38: =S18*Annual!$F57/100 -> 483.83206 | T38: =T18*Annual!$F57/100 -> 510.21067 | U38: =U18*Annual!$F57/100 -> 514.92113 | V38: =V18*Annual!$G57/100 -> 532.85233 | W38: =W18*Annual!$G57/100 -> 551.4087 | X38: =X18*Annual!$G57/100 -> 586.48973 | Y38: =Y18*Annual!$G57/100 -> 592.72033 | Z38: =Z18*Annual!H57/100 -> 627.20605 | AA38: =AA18*Annual!H57/100 -> 627.62005 | AB38: =AB18*Annual!H57/100 -> 646.52593 | AC38: =AC18*Annual!H57/100 -> 668.32979 | AD38: =AD18*Annual!$I57/100 -> 715.57968 | AE38: =AE18*Annual!$I57/100 -> 725.21082 | AF38: =AF18*Annual!$I57/100 -> 752.05417 | AG38: =AG18*Annual!$I57/100 -> 771.17886 | AH38: =AH18*Annual!$J57/100 -> 778.68379 | AI38: =AI18*Annual!$J57/100 -> 784.70408 | AJ38: =AJ18*Annual!$J57/100 -> 792.91357 | AK38: =AK18*Annual!$J57/100 -> 799.89164 | AL38: =AL18*Annual!$K57/100 -> 812.06277 | AM38: =AM18*Annual!$K57/100 -> 801.17736 | AN38: =AN18*Annual!$K57/100 -> 836.55223 | AO38: =AO18*Annual!$K57/100 -> 853.42734 | AP38: =AP18*Annual!$L57/100 -> 874.24072 | AQ38: =AQ18*Annual!$L57/100 -> 892.50803 | AR38: =AR18*Annual!$L57/100 -> 929.86058 | AS38: =AS18*Annual!$L57/100 -> 956.30729 | AT38: =AT18*Annual!$M57/100 -> 981.97228 | AU38: =AU18*Annual!$M57/100 -> 1005.5374 | AV38: =AV18*Annual!$M57/100 -> 1039.9998 | AW38: =AW18*Annual!$M57/100 -> 1076.0967 | AX38: =AX18*Annual!$N57/100 -> 1115.4618 | AY38: =AY18*Annual!$N57/100 -> 1157.0835 | AZ38: =AZ18*Annual!$N57/100 -> 1212.8976 | BA38: =BA18*Annual!$N57/100 -> 1233.7766 | BB38: =BB18*Annual!$O57/100 -> 1272.0386 | BC38: =BC18*Annual!$O57/100 -> 1360.658 | BD38: =BD18*Annual!$O57/100 -> 1453.2496 | BE38: =BE18*Annual!$O57/100 -> 1490.9163 | BF38: =BF18*Annual!P57/100 -> 1499.5771 | BG38: =BG18*Annual!P57/100 -> 1494.2156 | BH38: =BH18*Annual!P57/100 -> 1516.899 | BI38: =BI18*Annual!P57/100 -> 1548.2433 | BJ38: =BJ18*Annual!Q57/100 -> 1574.3537 | BK38: =BK18*Annual!Q57/100 -> 1598.6382 | BL38: =BL18*Annual!Q57/100 -> 1641.55 | BM38: =BM18*Annual!Q57/100 -> 1645.6894 | BN38: =BN18*Annual!$T57/100 -> 1716.6342 | BO38: =BO18*Annual!$T57/100 -> 1731.9787 | BP38: =BP18*Annual!$T57/100 -> 1780.5232 | BQ38: =BQ18*Annual!$T57/100 -> 1841.7618 | BR38: =BR18*Annual!$T57/100 -> 1870.9164 | BS38: =BS18*Annual!$T57/100 -> 1886.1215 | BT38: =BT18*Annual!$T57/100 -> 1948.6156 | BU38: =BU18*Annual!$T57/100 -> 1954.4744 | ... BY38: =BY18*Annual!$T57/100 -> 2124.6591 | BZ38: =BZ18*Annual!$U57/100 -> 2196.474
A39: =A21 -> SA - Annual Gross Operating Surplus | B39: =B33+B29+B26 -> 8953.4057 | C39: =C33+C29+C26 -> 9795.0902 | D39: =D33+D29+D26 -> 10542.083 | E39: =E33+E29+E26 -> 10026.748 | F39: =F33+F29+F26 -> 10212.507 | G39: =G33+G29+G26 -> 11807.265 | H39: =H33+H29+H26 -> 11696.16 | I39: =I33+I29+I26 -> 11206.641 | ... BZ39: =BZ33+BZ29+BZ26 -> 57589.744
A41: KZN - Annual Gross Operating Surplus | B41: =B39+B40 -> 8953.4057 | C41: =C39+C40 -> 9795.0902 | D41: =D39+D40 -> 10542.083 | E41: =E39+E40 -> 10026.748 | F41: =F39+F40 -> 10212.507 | G41: =G39+G40 -> 11807.265 | H41: =H39+H40 -> 11696.16 | I41: =I39+I40 -> 11206.641 | ... BZ41: =BZ39+BZ40 -> 57589.744
A43: =A3 -> SA – Annual Gross Operating Surplus
A44: Quarterly Change
A45: National Industry | B45: =B25 -> 1995q1 | C45: =C25 -> 1995q2 | D45: =D25 -> 1995q3 | E45: =E25 -> 1995q4 | F45: =F25 -> 1996q1 | G45: =G25 -> 1996q2 | H45: =H25 -> 1996q3 | I45: =I25 -> 1996q4 | ... BZ45: =BZ25 -> 2014q1
A46: Primary Industries | C46: =(C6-B6)/B6*100 -> 41.443656 | D46: =(D6-C6)/C6*100 -> 2.7145492 | E46: =(E6-D6)/D6*100 -> -24.883352 | F46: =(F6-E6)/E6*100 -> -0.93018061 | G46: =(G6-F6)/F6*100 -> 90.789371 | H46: =(H6-G6)/G6*100 -> -19.540791 | I46: =(I6-H6)/H6*100 -> -26.164039 | J46: =(J6-I6)/I6*100 -> 0.36320934 | ... BZ46: =(BZ6-BY6)/BY6*100 -> 7.5522724
A47: Agriculture, forestry and fishing | C47: =(C7-B7)/B7*100 -> 68.386832 | D47: =(D7-C7)/C7*100 -> 1.2796658 | E47: =(E7-D7)/D7*100 -> -27.023694 | F47: =(F7-E7)/E7*100 -> -15.911657 | G47: =(G7-F7)/F7*100 -> 187.84113 | H47: =(H7-G7)/G7*100 -> -35.301565 | I47: =(I7-H7)/H7*100 -> -31.816095 | J47: =(J7-I7)/I7*100 -> 2.1725638 | ... BZ47: =(BZ7-BY7)/BY7*100 -> 171.04162
A48: Mining and quarrying | C48: =(C8-B8)/B8*100 -> 24.363837 | D48: =(D8-C8)/C8*100 -> 3.9461363 | E48: =(E8-D8)/D8*100 -> -23.093384 | F48: =(F8-E8)/E8*100 -> 10.958542 | G48: =(G8-F8)/F8*100 -> 32.423486 | H48: =(H8-G8)/G8*100 -> 1.0617609 | I48: =(I8-H8)/H8*100 -> -21.434086 | J48: =(J8-I8)/I8*100 -> -0.9508705 | ... BZ48: =(BZ8-BY8)/BY8*100 -> -4.2489551
A49: Secondary Industries | C49: =(C9-B9)/B9*100 -> 7.9462273 | D49: =(D9-C9)/C9*100 -> 9.2381242 | E49: =(E9-D9)/D9*100 -> -12.190664 | F49: =(F9-E9)/E9*100 -> 7.7165115 | G49: =(G9-F9)/F9*100 -> 5.7460778 | H49: =(H9-G9)/G9*100 -> 5.0980599 | I49: =(I9-H9)/H9*100 -> -8.4426294 | J49: =(J9-I9)/I9*100 -> 10.056304 | ... BZ49: =(BZ9-BY9)/BY9*100 -> 37.806458
A50: Manufacturing | C50: =(C10-B10)/B10*100 -> 10.426805 | D50: =(D10-C10)/C10*100 -> 12.367833 | E50: =(E10-D10)/D10*100 -> -11.644718 | F50: =(F10-E10)/E10*100 -> 2.3559142 | G50: =(G10-F10)/F10*100 -> 7.3991717 | H50: =(H10-G10)/G10*100 -> 7.719369 | I50: =(I10-H10)/H10*100 -> -6.4229657 | J50: =(J10-I10)/I10*100 -> 5.21592 | ... BZ50: =(BZ10-BY10)/BY10*100 -> 43.947612
A51: Electricity, gas and water | C51: =(C11-B11)/B11*100 -> 1.0207383 | D51: =(D11-C11)/C11*100 -> 6.7815337 | E51: =(E11-D11)/D11*100 -> -12.494751 | F51: =(F11-E11)/E11*100 -> 5.6546477 | G51: =(G11-F11)/F11*100 -> 2.1060281 | H51: =(H11-G11)/G11*100 -> 7.9278793 | I51: =(I11-H11)/H11*100 -> -15.317204 | J51: =(J11-I11)/I11*100 -> 8.8549379 | ... BZ51: =(BZ11-BY11)/BY11*100 -> 13.976317
A52: Construction | C52: =(C12-B12)/B12*100 -> 3.1687801 | D52: =(D12-C12)/C12*100 -> -13.370982 | E52: =(E12-D12)/D12*100 -> -17.718652 | F52: =(F12-E12)/E12*100 -> 81.157921 | G52: =(G12-F12)/F12*100 -> 0.36016546 | H52: =(H12-G12)/G12*100 -> -19.808844 | I52: =(I12-H12)/H12*100 -> -12.642691 | J52: =(J12-I12)/I12*100 -> 65.692393 | ... BZ52: =(BZ12-BY12)/BY12*100 -> 53.529412
A53: Tertiary industries | C53: =(C13-B13)/B13*100 -> 0.95849432 | D53: =(D13-C13)/C13*100 -> 7.0947351 | E53: =(E13-D13)/D13*100 -> 5.4023101 | F53: =(F13-E13)/E13*100 -> 2.164715 | G53: =(G13-F13)/F13*100 -> 0.15310577 | H53: =(H13-G13)/G13*100 -> 6.2265428 | I53: =(I13-H13)/H13*100 -> 4.8741514 | J53: =(J13-I13)/I13*100 -> 0.18703533 | ... BZ53: =(BZ13-BY13)/BY13*100 -> -0.39089461
A54: Wholesale & retail trade; hotels & restaurants | C54: =(C14-B14)/B14*100 -> -2.7635478 | D54: =(D14-C14)/C14*100 -> 9.2961592 | E54: =(E14-D14)/D14*100 -> 17.003216 | F54: =(F14-E14)/E14*100 -> -10.214054 | G54: =(G14-F14)/F14*100 -> -1.4117033 | H54: =(H14-G14)/G14*100 -> 7.7769418 | I54: =(I14-H14)/H14*100 -> 19.527893 | J54: =(J14-I14)/I14*100 -> -15.147164 | ... BZ54: =(BZ14-BY14)/BY14*100 -> -9.6893994
A55: Transport , storage and communication | C55: =(C15-B15)/B15*100 -> 4.1695341 | D55: =(D15-C15)/C15*100 -> 15.522287 | E55: =(E15-D15)/D15*100 -> 4.7856603 | F55: =(F15-E15)/E15*100 -> 1.7656501 | G55: =(G15-F15)/F15*100 -> -3.3432177 | H55: =(H15-G15)/G15*100 -> 12.858271 | I55: =(I15-H15)/H15*100 -> 2.7822441 | J55: =(J15-I15)/I15*100 -> -2.4856438 | ... BZ55: =(BZ15-BY15)/BY15*100 -> -1.9574244
A56: Finance, real estate and business services | C56: =(C16-B16)/B16*100 -> 1.3323368 | D56: =(D16-C16)/C16*100 -> 3.4180346 | E56: =(E16-D16)/D16*100 -> -0.54359643 | F56: =(F16-E16)/E16*100 -> 11.503571 | G56: =(G16-F16)/F16*100 -> 1.2579965 | H56: =(H16-G16)/G16*100 -> 3.253082 | I56: =(I16-H16)/H16*100 -> -2.1316497 | J56: =(J16-I16)/I16*100 -> 12.78347 | ... BZ56: =(BZ16-BY16)/BY16*100 -> 7.9968464
A57: Personal services | C57: =(C17-B17)/B17*100 -> 4.6623953 | D57: =(D17-C17)/C17*100 -> 5.675648 | E57: =(E17-D17)/D17*100 -> -0.67674676 | F57: =(F17-E17)/E17*100 -> 3.8447344 | G57: =(G17-F17)/F17*100 -> 5.238115 | H57: =(H17-G17)/G17*100 -> 5.0492284 | I57: =(I17-H17)/H17*100 -> -0.57673264 | J57: =(J17-I17)/I17*100 -> 0.03514642 | ... BZ57: =(BZ17-BY17)/BY17*100 -> 0.38997578
... A61: SA - Gross Operating Surplus | C61: =(C21-B21)/B21*100 -> 7.6425619 | D61: =(D21-C21)/C21*100 -> 7.0861662 | E61: =(E21-D21)/D21*100 -> -4.3180834 | F61: =(F21-E21)/E21*100 -> 3.3791603 | G61: =(G21-F21)/F21*100 -> 11.537005 | H61: =(H21-G21)/G21*100 -> 1.1741619 | I61: =(I21-H21)/H21*100 -> -3.5091892 | J61: =(J21-I21)/I21*100 -> 2.9098744 | ... BZ61: =(BZ21-BY21)/BY21*100 -> 5.2777185
A63: =A23 -> KZN – Annual Gross Operating Surplus
A64: Quarterly Change
A65: Provincial Industry | B65: =B45 -> 1995q1 | C65: =C45 -> 1995q2 | D65: =D45 -> 1995q3 | E65: =E45 -> 1995q4 | F65: =F45 -> 1996q1 | G65: =G45 -> 1996q2 | H65: =H45 -> 1996q3 | I65: =I45 -> 1996q4 | ... BZ65: =BZ45 -> 2014q1
A66: Primary Industries | C66: =(C26-B26)/B26*100 -> 60.426207 | D66: =(D26-C26)/C26*100 -> 1.6534519 | E66: =(E26-D26)/D26*100 -> -26.460316 | F66: =(F26-E26)/E26*100 -> -9.5811095 | G66: =(G26-F26)/F26*100 -> 147.69643 | H66: =(H26-G26)/G26*100 -> -30.280027 | I66: =(I26-H26)/H26*100 -> -29.73791 | J66: =(J26-I26)/I26*100 -> 0.35512917 | ... BZ66: =(BZ26-BY26)/BY26*100 -> 58.567388
A67: Agriculture, forestry and fishing | C67: =(C27-B27)/B27*100 -> 68.386832 | D67: =(D27-C27)/C27*100 -> 1.2796658 | E67: =(E27-D27)/D27*100 -> -27.023694 | F67: =(F27-E27)/E27*100 -> -21.110629 | G67: =(G27-F27)/F27*100 -> 187.84113 | H67: =(H27-G27)/G27*100 -> -35.301565 | I67: =(I27-H27)/H27*100 -> -31.816095 | J67: =(J27-I27)/I27*100 -> 0.89894253 | ... BZ67: =(BZ27-BY27)/BY27*100 -> 167.10392
A68: Mining and quarrying | C68: =(C28-B28)/B28*100 -> 24.363837 | D68: =(D28-C28)/C28*100 -> 3.9461363 | E68: =(E28-D28)/D28*100 -> -23.093384 | F68: =(F28-E28)/E28*100 -> 55.801821 | G68: =(G28-F28)/F28*100 -> 32.423486 | H68: =(H28-G28)/G28*100 -> 1.0617609 | I68: =(I28-H28)/H28*100 -> -21.434086 | J68: =(J28-I28)/I28*100 -> -1.5306527 | ... BZ68: =(BZ28-BY28)/BY28*100 -> -5.2146301
A69: Secondary Industries | C69: =(C29-B29)/B29*100 -> 8.2476281 | D69: =(D29-C29)/C29*100 -> 9.5849294 | E69: =(E29-D29)/D29*100 -> -12.12946 | F69: =(F29-E29)/E29*100 -> 7.0985087 | G69: =(G29-F29)/F29*100 -> 5.9603922 | H69: =(H29-G29)/G29*100 -> 5.4484542 | I69: =(I29-H29)/H29*100 -> -8.1730276 | J69: =(J29-I29)/I29*100 -> 9.4988603 | ... BZ69: =(BZ29-BY29)/BY29*100 -> 37.693583
A70: Manufacturing | C70: =(C30-B30)/B30*100 -> 10.426805 | D70: =(D30-C30)/C30*100 -> 12.367833 | E70: =(E30-D30)/D30*100 -> -11.644718 | F70: =(F30-E30)/E30*100 -> 2.7071813 | G70: =(G30-F30)/F30*100 -> 7.3991717 | H70: =(H30-G30)/G30*100 -> 7.719369 | I70: =(I30-H30)/H30*100 -> -6.4229657 | J70: =(J30-I30)/I30*100 -> 5.1657002 | ... BZ70: =(BZ30-BY30)/BY30*100 -> 43.84404
A71: Electricity, gas and water | C71: =(C31-B31)/B31*100 -> 1.0207383 | D71: =(D31-C31)/C31*100 -> 6.7815337 | E71: =(E31-D31)/D31*100 -> -12.494751 | F71: =(F31-E31)/E31*100 -> 5.9159804 | G71: =(G31-F31)/F31*100 -> 2.1060281 | H71: =(H31-G31)/G31*100 -> 7.9278793 | I71: =(I31-H31)/H31*100 -> -15.317204 | J71: =(J31-I31)/I31*100 -> 8.3763084 | ... BZ71: =(BZ31-BY31)/BY31*100 -> 12.83936
A72: Construction | C72: =(C32-B32)/B32*100 -> 3.1687801 | D72: =(D32-C32)/C32*100 -> -13.370982 | E72: =(E32-D32)/D32*100 -> -17.718652 | F72: =(F32-E32)/E32*100 -> 74.505048 | G72: =(G32-F32)/F32*100 -> 0.36016546 | H72: =(H32-G32)/G32*100 -> -19.808844 | I72: =(I32-H32)/H32*100 -> -12.642691 | J72: =(J32-I32)/I32*100 -> 69.33861 | ... BZ72: =(BZ32-BY32)/BY32*100 -> 53.573843
A73: Tertiary industries | C73: =(C33-B33)/B33*100 -> 1.1437004 | D73: =(D33-C33)/C33*100 -> 7.9762757 | E73: =(E33-D33)/D33*100 -> 5.7248178 | F73: =(F33-E33)/E33*100 -> 0.96676821 | G73: =(G33-F33)/F33*100 -> -0.19907978 | H73: =(H33-G33)/G33*100 -> 6.8986873 | I73: =(I33-H33)/H33*100 -> 5.1003865 | J73: =(J33-I33)/I33*100 -> -1.4356627 | ... BZ73: =(BZ33-BY33)/BY33*100 -> -1.0569234
A74: Wholesale & retail trade; hotels & restaurants | C74: =(C34-B34)/B34*100 -> -2.7635478 | D74: =(D34-C34)/C34*100 -> 9.2961592 | E74: =(E34-D34)/D34*100 -> 17.003216 | F74: =(F34-E34)/E34*100 -> -11.472079 | G74: =(G34-F34)/F34*100 -> -1.4117033 | H74: =(H34-G34)/G34*100 -> 7.7769418 | I74: =(I34-H34)/H34*100 -> 19.527893 | J74: =(J34-I34)/I34*100 -> -15.016819 | ... BZ74: =(BZ34-BY34)/BY34*100 -> -9.6236031
A75: Transport , storage and communication | C75: =(C35-B35)/B35*100 -> 4.1695341 | D75: =(D35-C35)/C35*100 -> 15.522287 | E75: =(E35-D35)/D35*100 -> 4.7856603 | F75: =(F35-E35)/E35*100 -> 0.19954916 | G75: =(G35-F35)/F35*100 -> -3.3432177 | H75: =(H35-G35)/G35*100 -> 12.858271 | I75: =(I35-H35)/H35*100 -> 2.7822441 | J75: =(J35-I35)/I35*100 -> -4.3345343 | ... BZ75: =(BZ35-BY35)/BY35*100 -> -1.7704198
A76: Finance, real estate and business services | C76: =(C36-B36)/B36*100 -> 1.3323368 | D76: =(D36-C36)/C36*100 -> 3.4180346 | E76: =(E36-D36)/D36*100 -> -0.54359643 | F76: =(F36-E36)/E36*100 -> 11.566296 | G76: =(G36-F36)/F36*100 -> 1.2579965 | H76: =(H36-G36)/G36*100 -> 3.253082 | I76: =(I36-H36)/H36*100 -> -2.1316497 | J76: =(J36-I36)/I36*100 -> 12.281179 | ... BZ76: =(BZ36-BY36)/BY36*100 -> 8.0170215
A77: Personal services | C77: =(C37-B37)/B37*100 -> 4.6623953 | D77: =(D37-C37)/C37*100 -> 5.675648 | E77: =(E37-D37)/D37*100 -> -0.67674676 | F77: =(F37-E37)/E37*100 -> 3.7852297 | G77: =(G37-F37)/F37*100 -> 5.238115 | H77: =(H37-G37)/G37*100 -> 5.0492284 | I77: =(I37-H37)/H37*100 -> -0.57673264 | J77: =(J37-I37)/I37*100 -> -0.034218585 | ... BZ77: =(BZ37-BY37)/BY37*100 -> 0.23629711
... A79: All industries at basic prices | C79: =(C39-B39)/B39*100 -> 9.4007186 | D79: =(D39-C39)/C39*100 -> 7.6261945 | E79: =(E39-D39)/D39*100 -> -4.8883561 | F79: =(F39-E39)/E39*100 -> 1.8526324 | G79: =(G39-F39)/F39*100 -> 15.615735 | H79: =(H39-G39)/G39*100 -> -0.94099253 | I79: =(I39-H39)/H39*100 -> -4.18529 | J79: =(J39-I39)/I39*100 -> 2.2329049 | ... BZ79: =(BZ39-BY39)/BY39*100 -> 6.9789797
A81: =A41 -> KZN - Annual Gross Operating Surplus | C81: =(C41-B41)/B41*100 -> 9.4007186 | D81: =(D41-C41)/C41*100 -> 7.6261945 | E81: =(E41-D41)/D41*100 -> -4.8883561 | F81: =(F41-E41)/E41*100 -> 1.8526324 | G81: =(G41-F41)/F41*100 -> 15.615735 | H81: =(H41-G41)/G41*100 -> -0.94099253 | I81: =(I41-H41)/H41*100 -> -4.18529 | J81: =(J41-I41)/I41*100 -> 2.2329049 | ... BZ81: =(BZ41-BY41)/BY41*100 -> 6.9789797
A83: =A43 -> SA – Annual Gross Operating Surplus
A84: Annual Change
A85: National Industry | B85: =B65 -> 1995q1 | C85: =C65 -> 1995q2 | D85: =D65 -> 1995q3 | E85: =E65 -> 1995q4 | F85: =F65 -> 1996q1 | G85: =G65 -> 1996q2 | H85: =H65 -> 1996q3 | I85: =I65 -> 1996q4 | ... BZ85: =BZ65 -> 2014q1
A86: Primary Industries | F86: =(F6-B6)/B6*100 -> 8.1167561 | G86: =(G6-C6)/C6*100 -> 45.835652 | H86: =(H6-D6)/D6*100 -> 14.237187 | I86: =(I6-E6)/E6*100 -> 12.289523 | J86: =(J6-F6)/F6*100 -> 13.7555 | K86: =(K6-G6)/G6*100 -> 2.5891333 | L86: =(L6-H6)/H6*100 -> -1.6438594 | M86: =(M6-I6)/I6*100 -> -6.1520395 | ... BZ86: =(BZ6-BV6)/BV6*100 -> 6.5013271
A87: Agriculture, forestry and fishing | F87: =(F7-B7)/B7*100 -> 4.6521269 | G87: =(G7-C7)/C7*100 -> 78.89277 | H87: =(H7-D7)/D7*100 -> 14.27844 | I87: =(I7-E7)/E7*100 -> 6.7737004 | J87: =(J7-F7)/F7*100 -> 29.736683 | K87: =(K7-G7)/G7*100 -> 7.1334101 | L87: =(L7-H7)/H7*100 -> 0.064707818 | M87: =(M7-I7)/I7*100 -> -9.397258 | ... BZ87: =(BZ7-BV7)/BV7*100 -> 4.7704887
A88: Mining and quarrying | F88: =(F8-B8)/B8*100 -> 10.313054 | G88: =(G8-C8)/C8*100 -> 17.462115 | H88: =(H8-D8)/D8*100 -> 14.202688 | I88: =(I8-E8)/E8*100 -> 16.666667 | J88: =(J8-F8)/F8*100 -> 4.1445892 | K88: =(K8-G8)/G8*100 -> -3.3511651 | L88: =(L8-H8)/H8*100 -> -3.0736829 | M88: =(M8-I8)/I8*100 -> -3.7951347 | ... BZ88: =(BZ8-BV8)/BV8*100 -> 6.8620479
A89: Secondary Industries | F89: =(F9-B9)/B9*100 -> 11.533332 | G89: =(G9-C9)/C9*100 -> 9.2600702 | H89: =(H9-D9)/D9*100 -> 5.1191741 | I89: =(I9-E9)/E9*100 -> 9.6060581 | J89: =(J9-F9)/F9*100 -> 11.986895 | K89: =(K9-G9)/G9*100 -> 13.996395 | L89: =(L9-H9)/H9*100 -> 12.701013 | M89: =(M9-I9)/I9*100 -> 10.612869 | ... BZ89: =(BZ9-BV9)/BV9*100 -> 6.9466726
A90: Manufacturing | F90: =(F10-B10)/B10*100 -> 12.217858 | G90: =(G10-C10)/C10*100 -> 9.1411182 | H90: =(H10-D10)/D10*100 -> 4.6261377 | I90: =(I10-E10)/E10*100 -> 10.809489 | J90: =(J10-F10)/F10*100 -> 13.905702 | K90: =(K10-G10)/G10*100 -> 15.114824 | L90: =(L10-H10)/H10*100 -> 12.821148 | M90: =(M10-I10)/I10*100 -> 9.301773 | ... BZ90: =(BZ10-BV10)/BV10*100 -> 1.7363069
A91: Electricity, gas and water | F91: =(F11-B11)/B11*100 -> -0.26917726 | G91: =(G11-C11)/C11*100 -> 0.80225464 | H91: =(H11-D11)/D11*100 -> 1.8844101 | I91: =(I11-E11)/E11*100 -> -1.4018371 | J91: =(J11-F11)/F11*100 -> 1.5847115 | K91: =(K11-G11)/G11*100 -> 9.4900715 | L91: =(L11-H11)/H11*100 -> 4.6208011 | M91: =(M11-I11)/I11*100 -> 8.9581812 | ... BZ91: =(BZ11-BV11)/BV11*100 -> 8.928293
A92: Construction | F92: =(F12-B12)/B12*100 -> 33.220301 | G92: =(G12-C12)/C12*100 -> 29.593579 | H92: =(H12-D12)/D12*100 -> 19.962793 | I92: =(I12-E12)/E12*100 -> 27.363334 | J92: =(J12-F12)/F12*100 -> 16.490273 | K92: =(K12-G12)/G12*100 -> 13.490777 | L92: =(L12-H12)/H12*100 -> 30.740429 | M92: =(M12-I12)/I12*100 -> 28.754933 | ... BZ92: =(BZ12-BV12)/BV12*100 -> 13.269128
A93: Tertiary industries | F93: =(F13-B13)/B13*100 -> 16.429235 | G93: =(G13-C13)/C13*100 -> 15.50043 | H93: =(H13-D13)/D13*100 -> 14.564094 | I93: =(I13-E13)/E13*100 -> 13.990027 | J93: =(J13-F13)/F13*100 -> 11.783436 | K93: =(K13-G13)/G13*100 -> 15.47735 | L93: =(L13-H13)/H13*100 -> 15.112989 | M93: =(M13-I13)/I13*100 -> 11.856406 | ... BZ93: =(BZ13-BV13)/BV13*100 -> 8.7620692
A94: Wholesale & retail trade; hotels & restaurants | F94: =(F14-B14)/B14*100 -> 11.645228 | G94: =(G14-C14)/C14*100 -> 13.197393 | H94: =(H14-D14)/D14*100 -> 11.623949 | I94: =(I14-E14)/E14*100 -> 14.032552 | J94: =(J14-F14)/F14*100 -> 7.7672615 | K94: =(K14-G14)/G14*100 -> 11.135247 | L94: =(L14-H14)/H14*100 -> 7.7004079 | M94: =(M14-I14)/I14*100 -> 0.99816926 | ... BZ94: =(BZ14-BV14)/BV14*100 -> 11.056533
A95: Transport , storage and communication | F95: =(F15-B15)/B15*100 -> 28.324495 | G95: =(G15-C15)/C15*100 -> 19.069677 | H95: =(H15-D15)/D15*100 -> 16.323857 | I95: =(I15-E15)/E15*100 -> 14.099839 | J95: =(J15-F15)/F15*100 -> 9.3332808 | K95: =(K15-G15)/G15*100 -> 18.725726 | L95: =(L15-H15)/H15*100 -> 17.732794 | M95: =(M15-I15)/I15*100 -> 12.387844 | ... BZ95: =(BZ15-BV15)/BV15*100 -> 5.9892701
A96: Finance, real estate and business services | F96: =(F16-B16)/B16*100 -> 16.215984 | G96: =(G16-C16)/C16*100 -> 16.130725 | H96: =(H16-D16)/D16*100 -> 15.945495 | I96: =(I16-E16)/E16*100 -> 14.094155 | J96: =(J16-F16)/F16*100 -> 15.40379 | K96: =(K16-G16)/G16*100 -> 18.012651 | L96: =(L16-H16)/H16*100 -> 19.228605 | M96: =(M16-I16)/I16*100 -> 19.985948 | ... BZ96: =(BZ16-BV16)/BV16*100 -> 8.3146495
A97: Personal services | F97: =(F17-B17)/B17*100 -> 14.077765 | G97: =(G17-C17)/C17*100 -> 14.705276 | H97: =(H17-D17)/D17*100 -> 14.025331 | I97: =(I17-E17)/E17*100 -> 14.14015 | J97: =(J17-F17)/F17*100 -> 9.9528703 | K97: =(K17-G17)/G17*100 -> 9.7314887 | L97: =(L17-H17)/H17*100 -> 9.5622143 | M97: =(M17-I17)/I17*100 -> 9.3754427 | ... BZ97: =(BZ17-BV17)/BV17*100 -> 7.2992456
... A99: All industries at basic prices | F99: =(F19-B19)/B19*100 -> 14.019797 | G99: =(G19-C19)/C19*100 -> 18.144964 | H99: =(H19-D19)/D19*100 -> 11.622426 | I99: =(I19-E19)/E19*100 -> 12.566082 | J99: =(J19-F19)/F19*100 -> 12.055092 | K99: =(K19-G19)/G19*100 -> 12.695592 | L99: =(L19-H19)/H19*100 -> 11.966026 | M99: =(M19-I19)/I19*100 -> 9.5003993 | ... BZ99: =(BZ19-BV19)/BV19*100 -> 8.1645639
A101: =A61 -> SA - Gross Operating Surplus | F101: =(F21-B21)/B21*100 -> 14.019797 | G101: =(G21-C21)/C21*100 -> 18.144964 | H101: =(H21-D21)/D21*100 -> 11.622426 | I101: =(I21-E21)/E21*100 -> 12.566082 | J101: =(J21-F21)/F21*100 -> 12.055092 | K101: =(K21-G21)/G21*100 -> 12.695592 | L101: =(L21-H21)/H21*100 -> 11.966026 | M101: =(M21-I21)/I21*100 -> 9.5003993 | ... BZ101: =(BZ21-BV21)/BV21*100 -> 8.1645639
A103: =A63 -> KZN – Annual Gross Operating Surplus
A104: Annual Change
A105: Provincial Industry | B105: =B85 -> 1995q1 | C105: =C85 -> 1995q2 | D105: =D85 -> 1995q3 | E105: =E85 -> 1995q4 | F105: =F85 -> 1996q1 | G105: =G85 -> 1996q2 | H105: =H85 -> 1996q3 | I105: =I85 -> 1996q4 | ... BZ105: =BZ85 -> 2014q1
A106: Primary Industries | F106: =(F26-B26)/B26*100 -> 8.4372203 | G106: =(G26-C26)/C26*100 -> 67.425965 | H106: =(H26-D26)/D26*100 -> 14.830668 | I106: =(I26-E26)/E26*100 -> 9.7127743 | J106: =(J26-F26)/F26*100 -> 21.769241 | K106: =(K26-G26)/G26*100 -> 4.4563928 | L106: =(L26-H26)/H26*100 -> -1.6747407 | M106: =(M26-I26)/I26*100 -> -9.1459939 | ... BZ106: =(BZ26-BV26)/BV26*100 -> 4.1887734
A107: Agriculture, forestry and fishing | F107: =(F27-B27)/B27*100 -> -1.8182528 | G107: =(G27-C27)/C27*100 -> 67.832277 | H107: =(H27-D27)/D27*100 -> 7.2128896 | I107: =(I27-E27)/E27*100 -> 0.17214916 | J107: =(J27-F27)/F27*100 -> 28.119464 | K107: =(K27-G27)/G27*100 -> 5.7979499 | L107: =(L27-H27)/H27*100 -> -1.1826382 | M107: =(M27-I27)/I27*100 -> -10.526657 | ... BZ107: =(BZ27-BV27)/BV27*100 -> 3.2483812
A108: Mining and quarrying | F108: =(F28-B28)/B28*100 -> 54.895463 | G108: =(G28-C28)/C28*100 -> 64.933776 | H108: =(H28-D28)/D28*100 -> 60.35707 | I108: =(I28-E28)/E28*100 -> 63.816852 | J108: =(J28-F28)/F28*100 -> 3.5349808 | K108: =(K28-G28)/G28*100 -> -3.9168972 | L108: =(L28-H28)/H28*100 -> -3.6410393 | M108: =(M28-I28)/I28*100 -> -4.3582681 | ... BZ108: =(BZ28-BV28)/BV28*100 -> 5.7843155
A109: Secondary Industries | F109: =(F29-B29)/B29*100 -> 11.633859 | G109: =(G29-C29)/C29*100 -> 9.2750731 | H109: =(H29-D29)/D29*100 -> 5.150294 | I109: =(I29-E29)/E29*100 -> 9.8847599 | J109: =(J29-F29)/F29*100 -> 12.347559 | K109: =(K29-G29)/G29*100 -> 14.237117 | L109: =(L29-H29)/H29*100 -> 12.782485 | M109: =(M29-I29)/I29*100 -> 10.492806 | ... BZ109: =(BZ29-BV29)/BV29*100 -> 5.8408133
A110: Manufacturing | F110: =(F30-B30)/B30*100 -> 12.602969 | G110: =(G30-C30)/C30*100 -> 9.5156708 | H110: =(H30-D30)/D30*100 -> 4.9851957 | I110: =(I30-E30)/E30*100 -> 11.189767 | J110: =(J30-F30)/F30*100 -> 13.851335 | K110: =(K30-G30)/G30*100 -> 15.059879 | L110: =(L30-H30)/H30*100 -> 12.767299 | M110: =(M30-I30)/I30*100 -> 9.2496031 | ... BZ110: =(BZ30-BV30)/BV30*100 -> 1.6631064
A111: Electricity, gas and water | F111: =(F31-B31)/B31*100 -> -0.022496828 | G111: =(G31-C31)/C31*100 -> 1.0515852 | H111: =(H31-D31)/D31*100 -> 2.1364173 | I111: =(I31-E31)/E31*100 -> -1.1579583 | J111: =(J31-F31)/F31*100 -> 1.1380488 | K111: =(K31-G31)/G31*100 -> 9.0086493 | L111: =(L31-H31)/H31*100 -> 4.1607889 | M111: =(M31-I31)/I31*100 -> 8.4790978 | ... BZ111: =(BZ31-BV31)/BV31*100 -> 7.8416921
A112: Construction | F112: =(F32-B32)/B32*100 -> 28.327897 | G112: =(G32-C32)/C32*100 -> 24.834363 | H112: =(H32-D32)/D32*100 -> 15.557259 | I112: =(I32-E32)/E32*100 -> 22.686022 | J112: =(J32-F32)/F32*100 -> 19.05375 | K112: =(K32-G32)/G32*100 -> 15.988249 | L112: =(L32-H32)/H32*100 -> 33.617495 | M112: =(M32-I32)/I32*100 -> 31.588306 | ... BZ112: =(BZ32-BV32)/BV32*100 -> 13.301908
A113: Tertiary industries | F113: =(F33-B33)/B33*100 -> 16.579606 | G113: =(G33-C33)/C33*100 -> 15.031899 | H113: =(H33-D33)/D33*100 -> 13.883897 | I113: =(I33-E33)/E33*100 -> 13.211276 | J113: =(J33-F33)/F33*100 -> 10.517496 | K113: =(K33-G33)/G33*100 -> 14.673115 | L113: =(L33-H33)/H33*100 -> 14.139979 | M113: =(M33-I33)/I33*100 -> 10.603092 | ... BZ113: =(BZ33-BV33)/BV33*100 -> 8.7400742
A114: Wholesale & retail trade; hotels & restaurants | F114: =(F34-B34)/B34*100 -> 10.080925 | G114: =(G34-C34)/C34*100 -> 11.611342 | H114: =(H34-D34)/D34*100 -> 10.059944 | I114: =(I34-E34)/E34*100 -> 12.434799 | J114: =(J34-F34)/F34*100 -> 7.9328053 | K114: =(K34-G34)/G34*100 -> 11.305964 | L114: =(L34-H34)/H34*100 -> 7.8658491 | M114: =(M34-I34)/I34*100 -> 1.1533149 | ... BZ114: =(BZ34-BV34)/BV34*100 -> 11.137444
A115: Transport , storage and communication | F115: =(F35-B35)/B35*100 -> 26.349672 | G115: =(G35-C35)/C35*100 -> 17.237279 | H115: =(H35-D35)/D35*100 -> 14.533715 | I115: =(I35-E35)/E35*100 -> 12.343924 | J115: =(J35-F35)/F35*100 -> 7.2603012 | K115: =(K35-G35)/G35*100 -> 16.474664 | L115: =(L35-H35)/H35*100 -> 15.500558 | M115: =(M35-I35)/I35*100 -> 10.25695 | ... BZ115: =(BZ35-BV35)/BV35*100 -> 6.1914321
...

Sheet Growth Rates Annual
A1: Year-on-Year Growth Rates per Sector
B2: Primary Industries | C2: Agriculture, forestry and fishing | D2: Mining and quarrying | E2: Secondary Industries | F2: Manufacturing | G2: Electricity, gas and water | H2: Construction | I2: Tertiary industries | J2: Wholesale & retail trade; hotels & restaurants | K2: Transport , storage and communication | L2: Finance, real estate and business services | M2: Personal services | N2: General government services | O2: All industries at basic prices | P2: Taxes less subsidies on products | Q2: Annual Gross Operating Surplus
A3: 1996 | B3: 28.051337 | C3: 22.17275 | D3: 61.167088 | E3: 8.8346591 | F3: 9.3583101 | G3: 0.55825805 | H3: 23.092223 | I3: 14.60726 | J3: 11.107614 | K3: 17.168156 | L3: 15.65195 | M3: 14.169276 | N3: 14.671301 | O3: 14.256428 | P3: #DIV/0! | Q3: 14.256428
A4: =A3+1 -> 1997 | B4: 2.9323602 | C4: 4.1708135 | D4: -2.3562223 | E4: 12.486779 | F4: 12.706565 | G4: 5.6294038 | H4: 24.025138 | I4: 12.454363 | J4: 6.6925815 | K4: 12.34692 | L4: 17.653329 | M4: 9.5715739 | N4: 10.533119 | O4: 11.176682 | P4: #DIV/0! | Q4: 11.176682
A5: =A4+1 -> 1998 | B5: 5.8897128 | C5: 2.8562641 | D5: 19.709386 | E5: -3.0876761 | F5: -4.0466485 | G5: 3.7576911 | H5: -5.6839253 | I5: 8.2088161 | J5: 2.213448 | K5: 10.657792 | L5: 8.3200674 | M5: 14.358239 | N5: 17.55024 | O5: 4.195802 | P5: #DIV/0! | Q5: 4.195802
A6: =A5+1 -> 1999 | B6: -8.442738 | C6: -6.9877559 | D6: -14.1381 | E6: 3.8156013 | F6: 5.4774481 | G6: -1.6119228 | H6: -2.0993451 | I6: 13.591109 | J6: 8.1349284 | K6: 13.234517 | L6: 17.700985 | M6: 14.542184 | N6: 10.418513 | O6: 7.7901771 | P6: #DIV/0! | Q6: 7.7901771
A7: =A6+1 -> 2000 | B7: 8.552114 | C7: 2.9457801 | D7: 32.325019 | E7: 21.390804 | F7: 24.620859 | G7: 11.715137 | H7: 5.8965999 | I7: 16.305451 | J7: 25.723574 | K7: 19.141653 | L7: 8.4500522 | M7: 20.825655 | N7: 14.339438 | O7: 16.968288 | P7: #DIV/0! | Q7: 16.968288
A8: =A7+1 -> 2001 | B8: 27.983286 | C8: 29.136317 | D8: 24.179547 | E8: 16.060852 | F8: 15.600945 | G8: 5.0485281 | H8: 43.841601 | I8: 12.197838 | J8: 18.228463 | K8: 11.076569 | L8: 9.1789366 | M8: 9.2755856 | N8: 13.52837 | O8: 14.965273 | P8: #DIV/0! | Q8: 14.965273
A9: =A8+1 -> 2002 | B9: 25.038583 | C9: 28.775509 | D9: 12.218738 | E9: 15.774717 | F9: 18.631953 | G9: 18.923703 | H9: -17.202141 | I9: 16.160818 | J9: 11.659197 | K9: 19.261723 | L9: 15.843318 | M9: 24.689418 | N9: 15.345935 | O9: 17.033115 | P9: #DIV/0! | Q9: 17.033115
A10: =A9+1 -> 2003 | B10: -8.3645712 | C10: -7.6616576 | D10: -11.131755 | E10: 11.522265 | F10: 13.97498 | G10: -2.6324821 | H10: 6.4365649 | I10: 11.386552 | J10: 11.91633 | K10: 12.558865 | L10: 10.274543 | M10: 14.807432 | N10: 6.483402 | O10: 9.0708137 | P10: #DIV/0! | Q10: 9.0708137
A11: =A10+1 -> 2004 | B11: 1.8956221 | C11: 0.9204815 | D11: 5.8843901 | E11: 10.724183 | F11: 10.496893 | G11: 1.2771655 | H11: 32.378242 | I11: 10.771436 | J11: 10.669205 | K11: 10.698465 | L11: 11.552238 | M11: 12.384012 | N11: 4.6583531 | O11: 9.8667053 | P11: #DIV/0! | Q11: 9.8666774
A12: =A11+1 -> 2005 | B12: -7.5798651 | C12: -12.953837 | D12: 13.371599 | E12: 7.3274724 | F12: 5.2488172 | G12: 10.398433 | H12: 29.227194 | I12: 13.557382 | J12: 10.618956 | K12: 13.634695 | L12: 16.206934 | M12: 12.835138 | N12: 10.586547 | O12: 9.6277191 | P12: #DIV/0! | Q12: 9.6276407
A13: =A12+1 -> 2006 | B13: 33.994437 | C13: 36.868945 | D13: 25.389891 | E13: 4.2887556 | F13: 1.4338265 | G13: 12.266481 | H13: 23.805843 | I13: 12.187283 | J13: 10.889647 | K13: 12.183435 | L13: 13.325323 | M13: 10.832905 | N13: 12.3378 | O13: 11.458901 | P13: #DIV/0! | Q13: 11.459033
A14: =A13+1 -> 2007 | B14: 22.151442 | C14: 22.186927 | D14: 22.035496 | E14: 8.8091839 | F14: 7.8327943 | G14: 14.158875 | H14: 10.98565 | I14: 14.560691 | J14: 13.517704 | K14: 7.3216216 | L14: 21.280438 | M14: 10.699616 | N14: 15.001766 | O14: 13.615066 | P14: #DIV/0! | Q14: 13.615103
A15: =A14+1 -> 2008 | B15: 14.587357 | C15: 10.815219 | D15: 26.927862 | E15: 11.942503 | F15: 9.7747744 | G15: 4.8875361 | H15: 38.090188 | I15: 12.783086 | J15: 15.818474 | K15: 20.805842 | L15: 5.9748132 | M15: 6.7650254 | N15: 18.173406 | O15: 12.733104 | P15: #DIV/0! | Q15: 12.733426
A16: =A15+1 -> 2009 | B16: 0.49850112 | C16: 2.3859306 | D16: -4.8923638 | E16: -1.0611272 | F16: -11.265101 | G16: 43.091549 | H16: 26.420692 | I16: 9.5021645 | J16: 12.7746 | K16: 5.2664523 | L16: 8.3406218 | M16: 21.906165 | N16: 8.6441521 | O16: 6.1734766 | P16: #DIV/0! | Q16: 5.674324
A17: 2010 | B17: 0.54346682 | C17: -4.8866018 | D17: 17.239677 | E17: -1.1921885 | F17: -3.3700882 | G17: 0.87096159 | H17: 6.7407766 | I17: 14.123621 | J17: 28.059686 | K17: 11.26109 | L17: 7.0701644 | M17: 15.547194 | N17: 6.6232162 | O17: 8.5898086 | P17: #DIV/0! | Q17: 8.8556843
A18: 2011 | B18: 7.6291128 | C18: 1.2670413 | D18: 23.49916 | E18: -7.1791078 | F18: -16.182038 | G18: 17.473615 | H18: 6.7868038 | I18: 8.6393432 | J18: 12.458342 | K18: 9.92237 | L18: 5.9344813 | M18: 1.528783 | N18: 8.6599435 | O18: 6.2310133 | P18: 50 | Q18: 4.8563583
A19: 2012 | B19: 2.4859469 | C19: 7.9361588 | D19: -8.6620588 | E19: -3.8378037 | F19: -13.222179 | G19: 16.708597 | H19: 5.2684573 | I19: 9.457663 | J19: 15.032255 | K19: 3.5383844 | L19: 9.2857866 | M19: 8.6693718 | N19: 8.7283578 | Q19: 6.0636174
A20: 2013 | B20: -1.8343279 | C20: -2.2595779 | D20: -0.80644456 | E20: -2.6383674 | F20: -11.317132 | G20: 7.9880253 | H20: 8.3776957 | I20: 8.9764435 | J20: 12.571495 | K20: 3.2707419 | L20: 10.719877 | M20: 4.6808921 | N20: 8.4162283 | O20: 8.6031317 | P20: 33.333333 | Q20: 5.830484
A21: Average Year on Year Growth Rate | B21: =AVERAGE(B3:B20) -> 8.6673209 | C21: =AVERAGE(C3:C20) -> 7.6493725 | D21: =AVERAGE(D3:D20) -> 13.442273 | E21: =AVERAGE(E3:E20) -> 6.3323058 | F21: =AVERAGE(F3:F20) -> 4.2086099 | G21: =AVERAGE(G3:G20) -> 9.4727531 | H21: =AVERAGE(H3:H20) -> 14.799348 | I21: =AVERAGE(I3:I20) -> 12.192851 | ... Q21: =AVERAGE(Q3:Q20) -> 10.224385

Sheet Growth Rates Annualised
A1: Annualised Quarterly Rates per Sector
B2: Primary Industries | C2: Agriculture, forestry and fishing | D2: Mining and quarrying | E2: Secondary Industries | F2: Manufacturing | G2: Electricity, gas and water | H2: Construction | I2: Tertiary industries | J2: Wholesale & retail trade; hotels & restaurants | K2: Transport , storage and communication | L2: Finance, real estate and business services | M2: Personal services | N2: General government services | O2: All industries at basic prices | P2: Taxes less subsidies on products | Q2: Annual Gross Operating Surplus
A3: 1996q1 | B3: 8.4372203 | C3: -1.8182528 | D3: 54.895463 | E3: 11.633859 | F3: 12.602969 | G3: -0.022496828 | H3: 28.327897 | I3: 16.579606 | J3: 10.080925 | K3: 26.349672 | L3: 16.28136 | M3: 14.012397 | N3: 13.300829 | O3: 14.06282 | Q3: 14.06282
A4: 1996q2 | B4: 67.425965 | C4: 67.832277 | D4: 64.933776 | E4: 9.2750731 | F4: 9.5156708 | G4: 1.0515852 | H4: 24.834363 | I4: 15.031899 | J4: 11.611342 | K4: 17.237279 | L4: 16.196053 | M4: 14.639549 | N4: 14.709786 | O4: 20.542689 | Q4: 20.542689
A5: 1996q3 | B5: 14.830668 | C5: 7.2128896 | D5: 60.35707 | E5: 5.150294 | F5: 4.9851957 | G5: 2.1364173 | H5: 15.557259 | I5: 13.883897 | J5: 10.059944 | K5: 14.533715 | L5: 16.010719 | M5: 13.959993 | N5: 15.816203 | O5: 10.947332 | Q5: 10.947332
A6: 1996q4 | B6: 9.7127743 | C6: 0.17214916 | D6: 63.816852 | E6: 9.8847599 | F6: 11.189767 | G6: -1.1579583 | H6: 22.686022 | I6: 13.211276 | J6: 12.434799 | K6: 12.343924 | L6: 14.158338 | M6: 14.074746 | N6: 14.784695 | O6: 11.767456 | Q6: 11.767456
A7: 1997q1 | B7: 21.769241 | C7: 28.119464 | D7: 3.5349808 | E7: 12.347559 | F7: 13.851335 | G7: 1.1380488 | H7: 19.05375 | I7: 10.517496 | J7: 7.9328053 | K7: 7.2603012 | L7: 14.889829 | M7: 9.8766283 | N7: 9.1145256 | O7: 12.184746 | Q7: 12.184746
A8: 1997q2 | B8: 4.4563928 | C8: 5.7979499 | D8: -3.9168972 | E8: 14.237117 | F8: 15.059879 | G8: 9.0086493 | H8: 15.988249 | I8: 14.673115 | J8: 11.305964 | K8: 16.474664 | L8: 17.487071 | M8: 9.6554002 | N8: 9.5192609 | O8: 12.507062 | Q8: 12.507062
A9: 1997q3 | B9: -1.6747407 | C9: -1.1826382 | D9: -3.6410393 | E9: 12.782485 | F9: 12.767299 | G9: 4.1607889 | H9: 33.617495 | I9: 14.139979 | J9: 7.8658491 | K9: 15.500558 | L9: 18.69761 | M9: 9.4862432 | N9: 12.901608 | O9: 11.477097 | Q9: 11.477097
A10: 1997q4 | B10: -9.1459939 | C10: -10.526657 | D10: -4.3582681 | E10: 10.492806 | F10: 9.2496031 | G10: 8.4790978 | H10: 31.588306 | I10: 10.603092 | J10: 1.1533149 | K10: 10.25695 | L10: 19.45158 | M10: 9.2996011 | N10: 10.459359 | O10: 8.5428216 | Q10: 8.5428216
A11: 1998q1 | B11: 15.233179 | C11: 20.341371 | D11: -2.9175637 | E11: 2.1953546 | F11: 2.3132329 | G11: 5.0703252 | H11: -3.0431566 | I11: 9.2964513 | J11: 3.2042747 | K11: 8.8656767 | L11: 11.526723 | M11: 17.312606 | N11: 15.330764 | O11: 7.4699998 | Q11: 7.4699998
A12: 1998q2 | B12: 4.6940823 | C12: 2.9856395 | D12: 16.435422 | E12: -3.2697572 | F12: -4.7055356 | G12: 5.2690276 | H12: -4.4753922 | I12: 10.991226 | J12: 8.9207067 | K12: 11.537667 | L12: 10.52098 | M12: 14.014547 | N12: 17.827169 | O12: 5.3060074 | Q12: 5.3060074
A13: 1998q3 | B13: 11.881032 | C13: 7.9532348 | D13: 27.975778 | E13: -3.2566315 | F13: -3.9172208 | G13: 1.6643744 | H13: -5.569355 | I13: 5.9809142 | J13: 2.1144552 | K13: 8.0826226 | L13: 4.199225 | M13: 13.990071 | N13: 16.692869 | O13: 3.6007019 | Q13: 3.6007019
A14: 1998q4 | B14: -10.853026 | C14: -25.464451 | D14: 36.547196 | E14: -7.9409628 | F14: -9.623136 | G14: 3.1581692 | H14: -10.736107 | I14: 6.8594708 | J14: -4.2597963 | K14: 14.036054 | L14: 7.3477414 | M14: 12.357243 | N14: 20.156661 | O14: 0.53740028 | Q14: 0.53740028
... A70: 2012q4 | B70: -13.828834 | C70: -9.7550403 | D70: -17.159209 | E70: -8.9818114 | F70: -21.085059 | G70: 18.786358 | H70: 2.2069733 | I70: 8.6978322 | J70: 14.222224 | K70: 1.0455603 | L70: 10.015138 | M70: 6.3666521 | N70: 6.1198213 | O70: 7.1196793 | Q70: 4.3835183
A71: 2013q1 | B71: 2.7472556 | C71: 4.0892033 | D71: 0.54786669 | E71: -7.002429 | F71: -15.683368 | G71: 9.0071693 | H71: 2.8944532 | I71: 10.287897 | J71: 14.129812 | K71: 3.6956613 | L71: 12.189496 | M71: 10.488052 | N71: 6.4121682 | Q71: 6.0937319
A72: 2013q2 | B72: 4.6256708 | C72: 7.5599745 | D72: -9.1258114 | E72: -2.3383284 | F72: -11.82927 | G72: 9.4451425 | H72: 7.4285326 | I72: 9.5073712 | J72: 12.175155 | K72: 1.8231275 | L72: 13.890523 | M72: 5.1517698 | N72: 8.9416463 | Q72: 6.6518555
A73: 2013q3 | B73: -7.3884126 | C73: -11.004542 | D73: 0.68728722 | E73: -0.43969021 | F73: -9.290116 | G73: 9.1730876 | H73: 12.186232 | I73: 9.4140201 | J73: 14.001265 | K73: 2.9410598 | L73: 11.839605 | M73: 2.0713425 | N73: 7.9962775 | Q73: 5.8732773
A74: 2013q4 | B74: -8.1678872 | C74: -27.842256 | D74: 9.353709 | E74: 1.3091253 | F74: -6.4807308 | G74: 8.4475725 | H74: 12.592996 | I74: 6.5946543 | J74: 10.207777 | K74: 3.8480684 | L74: 5.2487845 | M74: 2.5869102 | N74: 8.7074442 | Q74: 5.1014564
A75: 2014q1 | B75: 4.1887734 | C75: 3.2483812 | D75: 5.7843155 | E75: 5.8408133 | F75: 1.6631064 | G75: 7.8416921 | H75: 13.301908 | I75: 8.7400742 | J75: 11.137444 | K75: 6.1914321 | L75: 8.334884 | M75: 7.1349901 | N75: 10.326636 | O75: 7.1196793 | Q75: 7.9034466
A76: Average Year on Year Growth Rate | B76: =AVERAGE(B3:B75) -> 8.8360179 | C76: =AVERAGE(C3:C75) -> 7.7348183 | D76: =AVERAGE(D3:D75) -> 13.639937 | E76: =AVERAGE(E3:E75) -> 6.3580419 | F76: =AVERAGE(F3:F75) -> 4.2341721 | G76: =AVERAGE(G3:G75) -> 9.4299512 | H76: =AVERAGE(H3:H75) -> 14.957521 | I76: =AVERAGE(I3:I75) -> 12.173792 | ... Q76: =AVERAGE(Q3:Q75) -> 10.234737

Sheet Prov Contributions
A1: Yearly Provincial Contribution Rates per Sector
B2: Primary Industries | C2: Agriculture, forestry and fishing | D2: Mining and quarrying | E2: Secondary Industries | F2: Manufacturing | G2: Electricity, gas and water | H2: Construction | I2: Tertiary industries | J2: Wholesale & retail trade; hotels & restaurants | K2: Transport , storage and communication | L2: Finance, real estate and business services | M2: Personal services | N2: General government services
A3: 1996 | B3: 13.529078 | C3: 10.962043 | D3: 2.5670354 | E3: 32.569156 | F3: 25.31324 | G3: 4.8535632 | H3: 2.4023525 | I3: 53.901766 | J3: 14.614297 | K3: 13.528758 | L3: 19.421709 | M3: 3.265461 | N3: 3.0715418
A4: =A3+1 -> 1997 | B4: 12.525827 | C4: 10.271263 | D4: 2.2545648 | E4: 32.952948 | F4: 25.661572 | G4: 4.6113895 | H4: 2.6799873 | I4: 54.521224 | J4: 14.024857 | K4: 13.671161 | L4: 20.553129 | M4: 3.2183161 | N4: 3.0537617
A5: =A4+1 -> 1998 | B5: 12.72946 | C5: 10.139216 | D5: 2.5902441 | E5: 30.649477 | F5: 23.631603 | G5: 4.5920001 | H5: 2.425874 | I5: 56.621063 | J5: 13.75803 | K5: 14.519016 | L5: 21.36666 | M5: 3.5322053 | N5: 3.4451525
A6: =A5+1 -> 1999 | B6: 10.812437 | C6: 8.7491386 | D6: 2.0632983 | E6: 29.519331 | F6: 23.124567 | G6: 4.1914585 | H6: 2.2033051 | I6: 59.668233 | J6: 13.802033 | K6: 15.252352 | L6: 23.331226 | M6: 3.7534636 | N6: 3.5291585
A7: =A6+1 -> 2000 | B7: 10.034454 | C7: 7.7002657 | D7: 2.334188 | E7: 30.635442 | F7: 24.637476 | G7: 4.0032164 | H7: 1.9947502 | I7: 59.330104 | J7: 14.83514 | K7: 15.535753 | L7: 21.632125 | M7: 3.8772449 | N7: 3.449841
A8: =A7+1 -> 2001 | B8: 11.170698 | C8: 8.6494289 | D8: 2.5212693 | E8: 30.927388 | F8: 24.773703 | G8: 3.6579045 | H8: 2.4957803 | I8: 57.901914 | J8: 15.256222 | K8: 15.010256 | L8: 20.543355 | M8: 3.6853582 | N8: 3.4067229
A9: =A8+1 -> 2002 | B9: 11.934812 | C9: 9.5172603 | D9: 2.4175522 | E9: 30.594841 | F9: 25.112146 | G9: 3.7169954 | H9: 1.7656991 | I9: 57.470347 | J9: 14.555688 | K9: 15.296089 | L9: 20.334504 | M9: 3.9264542 | N9: 3.3576106
A10: =A9+1 -> 2003 | B10: 10.026987 | C10: 8.0572245 | D10: 1.9697627 | E10: 31.282484 | F10: 26.241267 | G10: 3.3181619 | H10: 1.7230544 | I10: 58.690529 | J10: 14.935427 | K10: 15.785253 | L10: 20.558921 | M10: 4.1329674 | N10: 3.2779604
A11: =A10+1 -> 2004 | B11: 9.2995085 | C11: 7.4011429 | D11: 1.8983656 | E11: 31.526643 | F11: 26.391792 | G11: 3.0587439 | H11: 2.0761065 | I11: 59.173849 | J11: 15.044524 | K11: 15.904762 | L11: 20.874333 | M11: 4.2276645 | N11: 3.1225658
A12: =A11+1 -> 2005 | B12: 7.8398278 | C12: 5.8766301 | D12: 1.9631978 | E12: 30.865162 | F12: 25.337633 | G12: 3.0802499 | H12: 2.4472789 | I12: 61.29501 | J12: 15.180565 | K12: 16.486104 | L12: 22.127104 | M12: 4.351358 | N12: 3.1498787
A13: =A12+1 -> 2006 | B13: 9.4249276 | C13: 7.2163569 | D13: 2.2085707 | E13: 28.879573 | F13: 23.058634 | G13: 3.1025643 | H13: 2.7183748 | I13: 61.695499 | J13: 15.103016 | K13: 16.593252 | L13: 22.497604 | M13: 4.326914 | N13: 3.1747131
A14: =A13+1 -> 2007 | B14: 10.133059 | C14: 7.7608033 | D14: 2.3722552 | E14: 27.657967 | F14: 21.885092 | G14: 3.1174135 | H14: 2.6554621 | I14: 62.208974 | J14: 15.090068 | K14: 15.674102 | L14: 24.015463 | M14: 4.2158807 | N14: 3.2134602
A15: =A14+1 -> 2008 | B15: 10.299699 | C15: 7.6287499 | D15: 2.6709495 | E15: 27.463923 | F15: 21.310725 | G15: 2.9004514 | H15: 3.2527465 | I15: 62.236378 | J15: 15.503021 | K15: 16.796465 | L15: 22.575684 | M15: 3.992681 | N15: 3.3685265
... A17: =A16+1 -> 2010 | B17: 9.0472669 | C17: 6.4582488 | D17: 2.5890181 | E17: 23.339966 | F17: 15.88487 | G17: 3.639361 | H17: 3.8157345 | I17: 67.611717 | J17: 19.463434 | K17: 17.101358 | L17: 22.765654 | M17: 4.8891019 | N17: 3.3921692
A18: 2011 | B18: 9.286507 | C18: 6.2371777 | D18: 3.0493293 | E18: 20.660993 | F18: 12.697727 | G18: 4.0772816 | H18: 3.8859836 | I18: 70.050998 | J18: 20.874514 | K18: 17.92759 | L18: 22.999728 | M18: 4.7339482 | N18: 3.5152176
A19: 2012 | B19: 8.9732605 | C19: 6.3472944 | D19: 2.625966 | E19: 18.732214 | F19: 10.38887 | G19: 4.4864943 | H19: 3.8568503 | I19: 72.292637 | J19: 22.639643 | K19: 17.500758 | L19: 23.69845 | M19: 4.8502511 | N19: 3.6035339
A20: 2013 | B20: 8.3233687 | C20: 5.8620845 | D20: 2.4612843 | E20: 17.23321 | F20: 8.7055707 | G20: 4.5779594 | H20: 3.94968 | I20: 74.441637 | J20: 24.081705 | K20: 17.077464 | L20: 24.793324 | M20: 4.7975649 | N20: 3.6915786
A21: Average Yearly Contributions | B21: =AVERAGE(B3:B20) -> 10.288134 | C21: =AVERAGE(C3:C20) -> 7.9014269 | D21: =AVERAGE(D3:D20) -> 2.3867069 | E21: =AVERAGE(E3:E20) -> 27.844675 | F21: =AVERAGE(F3:F20) -> 21.225063 | G21: =AVERAGE(G3:G20) -> 3.8284808 | H21: =AVERAGE(H3:H20) -> 2.791131 | I21: =AVERAGE(I3:I20) -> 61.866814 | ... N21: =AVERAGE(N3:N20) -> 3.3492549
I23: \

Sheet National Contributions
A1: Yearly Provincial Sector as a % of National Sector GOS
B2: Primary Industries | C2: Agriculture, forestry and fishing | D2: Mining and quarrying | E2: Secondary Industries | F2: Manufacturing | G2: Electricity, gas and water | H2: Construction | I2: Tertiary industries | J2: Wholesale & retail trade; hotels & restaurants | K2: Transport , storage and communication | L2: Finance, real estate and business services | M2: Personal services | N2: General government services
A3: 1995 | B3: 16.204962 | C3: 31.219885 | D3: 4.3687653 | E3: 20.056898 | F3: 20.924039 | G3: 17.394424 | H3: 18.021026 | I3: 16.332378 | J3: 16.221638 | K3: 23.298916 | L3: 13.96367 | M3: 16.393128 | N3: 13.657639
A4: =A3+1 -> 1996 | B4: 17.066425 | C4: 29.289638 | D4: 6.1343776 | E4: 20.075138 | F4: 20.995847 | G4: 17.437449 | H4: 17.359219 | I4: 16.266164 | J4: 15.994351 | K4: 22.940362 | L4: 13.971525 | M4: 16.383734 | N4: 13.905927
A5: =A4+1 -> 1997 | B5: 17.281792 | C5: 28.924531 | D5: 6.0984701 | E5: 20.099561 | F5: 20.985825 | G5: 17.360777 | H5: 17.741225 | I5: 16.111352 | J5: 16.01892 | K5: 22.505408 | L5: 13.909302 | M5: 16.372374 | N5: 13.463214
A6: =A5+1 -> 1998 | B6: 16.769092 | C6: 30.820293 | D6: 6.0220877 | E6: 19.929786 | F6: 20.933221 | G6: 17.395692 | H6: 16.730718 | I6: 16.118731 | J6: 15.952653 | K6: 22.298198 | L6: 13.926272 | M6: 16.373799 | N6: 13.824964
A7: =A6+1 -> 1999 | B7: 13.935882 | C7: 28.257792 | D7: 4.4252885 | E7: 20.065757 | F7: 21.141974 | G7: 17.493377 | H7: 15.994737 | I7: 16.05905 | J7: 15.886446 | K7: 21.948787 | L7: 14.054892 | M7: 16.346474 | N7: 13.458472
A8: =A7+1 -> 2000 | B8: 12.381136 | C8: 28.002507 | D8: 4.3590716 | E8: 20.292422 | F8: 21.237798 | G8: 17.962971 | H8: 15.736125 | I8: 15.974087 | J8: 15.907644 | K8: 21.574756 | L8: 13.784243 | M8: 16.329207 | N8: 13.544797
A9: =A8+1 -> 2001 | B9: 12.293161 | C9: 28.855299 | D9: 4.1404213 | E9: 20.763286 | F9: 21.191726 | G9: 18.624138 | H9: 20.112824 | I9: 16.03804 | J9: 16.83056 | K9: 21.251603 | L9: 13.469804 | M9: 16.342479 | N9: 13.799913
A10: =A9+1 -> 2002 | B10: 11.985477 | C10: 28.355032 | D10: 3.6622552 | E10: 20.495195 | F10: 21.157837 | G10: 19.740468 | H10: 15.015439 | I10: 15.996842 | J10: 16.855168 | K10: 21.320844 | L10: 13.314982 | M10: 16.334138 | N10: 13.758766
A11: =A10+1 -> 2003 | B11: 12.576547 | C11: 29.622369 | D11: 3.7499384 | E11: 20.228871 | F11: 21.284184 | G11: 16.967711 | H11: 14.605836 | I11: 16.122888 | J11: 16.98696 | K11: 21.449795 | L11: 13.415399 | M11: 16.336224 | N11: 13.682483
A12: =A11+1 -> 2004 | B12: 12.316721 | C12: 29.458493 | D12: 3.7681573 | E12: 20.165051 | F12: 21.244725 | G12: 17.052466 | H12: 14.642919 | I12: 16.117273 | J12: 16.993237 | K12: 21.366281 | L12: 13.436771 | M12: 16.339684 | N12: 13.606768
A13: =A12+1 -> 2005 | B13: 10.060298 | C13: 26.981005 | D13: 3.4964845 | E13: 20.088837 | F13: 21.237649 | G13: 17.241025 | H13: 14.856965 | I13: 16.397882 | J13: 16.901343 | K13: 21.492347 | L13: 14.055377 | M13: 16.273577 | N13: 13.632321
A14: =A13+1 -> 2006 | B14: 10.458846 | C14: 28.69121 | D14: 3.3997567 | E14: 19.810196 | F14: 21.157434 | G14: 17.2214 | H14: 14.475115 | I14: 16.27991 | J14: 16.971881 | K14: 21.509594 | L14: 13.805498 | M14: 16.286643 | N14: 13.621477
A15: =A14+1 -> 2007 | B15: 10.695444 | C15: 29.088604 | D15: 3.4854353 | E15: 19.765042 | F15: 21.168502 | G15: 17.213097 | H15: 14.402204 | I15: 16.168072 | J15: 17.017461 | K15: 21.616175 | L15: 13.791428 | M15: 16.278713 | N15: 13.646462
... A18: =A17+1 -> 2010 | B18: 9.0843568 | C18: 27.922456 | D18: 3.3859977 | E18: 18.909453 | F18: 21.123006 | G18: 16.727066 | H18: 14.41473 | I18: 16.390118 | J18: 17.054819 | K18: 21.741298 | L18: 13.799166 | M18: 16.204635 | N18: 13.798017
A19: 2011 | B19: 8.1747289 | C19: 27.53374 | D19: 3.3528519 | E19: 18.493413 | F19: 21.10784 | G19: 16.565055 | H19: 14.418905 | I19: 16.448022 | J19: 17.067271 | K19: 21.783006 | L19: 13.801746 | M19: 16.179942 | N19: 13.848535
A20: 2012 | B20: 8.7556588 | C20: 27.145023 | D20: 3.3197061 | E20: 18.125751 | F20: 21.092674 | G20: 16.403045 | H20: 14.42308 | I20: 16.416568 | J20: 17.079724 | K20: 21.824713 | L20: 13.804325 | M20: 16.155249 | N20: 13.899053
A21: 2013 | B21: 8.5986511 | C21: 26.756307 | D21: 3.2865602 | E21: 17.790629 | F21: 21.077509 | G21: 16.241034 | H21: 14.427255 | I21: 16.369076 | J21: 17.092177 | K21: 21.866421 | L21: 13.806904 | M21: 16.130556 | N21: 13.949571
A22: Average Yearly Contributions | B22: =AVERAGE(B3:B21) -> 12.037221 | C22: =AVERAGE(C3:C21) -> 28.628171 | D22: =AVERAGE(D3:D21) -> 4.0698452 | E22: =AVERAGE(E3:E21) -> 19.672898 | F22: =AVERAGE(F3:F21) -> 21.123858 | G22: =AVERAGE(G3:G21) -> 17.314808 | H22: =AVERAGE(H3:H21) -> 15.589224 | I22: =AVERAGE(I3:I21) -> 16.222598 | ... N22: =AVERAGE(N3:N21) -> 13.712782

Sheet GOS Durban
D1: Ethekwini Municipal Area GOS
C2: SA GDP | D2: SA Quarterly GOS | E2: KZN Quarterly GOS | F2: SA Fuel Consumption | G2: KZN Fuel Consumption | H2: SA KZN GDP Ratio | I2: SA KZN Fuel Ratio | J2: SA Usage | K2: KZN Usage | L2: Durban Fuel Usage | M2: Durban Quarterly GOS | N2: Durban Quarterly Rate | O2: Durban Annual Rate
A3: 2001q1 | B3: 17410.491 | C3: 105984.23 | D3: =C3*1000000 -> 105984228000 | E3: =B3*1000000 -> 1.7410491e+10
A4: 2001q2 | B4: 19474.828 | C4: 115470.57 | D4: =C4*1000000 -> 115470571000 | E4: =B4*1000000 -> 1.9474828e+10
A5: 2001q3 | B5: 19469.147 | C5: 116423.08 | D5: =C5*1000000 -> 116423083000 | E5: =B5*1000000 -> 1.9469147e+10
A6: 2001q4 | B6: 19075.263 | C6: 115341.72 | D6: =C6*1000000 -> 1.1534172e+11 | E6: =B6*1000000 -> 1.9075263e+10
A7: 2002q1 | B7: 19526.82 | C7: 120724.22 | D7: =C7*1000000 -> 120724220000 | E7: =B7*1000000 -> 1.952682e+10 | F7: 4118958622 | G7: 674878797 | H7: =E7/D7*100 -> 16.174733 | I7: =G7/F7*100 -> 16.384695 | J7: =D7/F7 -> 29.309403 | K7: =E7/G7 -> 28.933818 | M7: =E7*$L$26 -> 1.1175885e+10
A8: 2002q2 | B8: 22919.803 | C8: 136557.71 | D8: =C8*1000000 -> 1.3655771e+11 | E8: =B8*1000000 -> 2.2919803e+10 | F8: 4128329079 | G8: 697677279 | H8: =E8/D8*100 -> 16.783968 | I8: =G8/F8*100 -> 16.89975 | J8: =D8/F8 -> 33.078204 | K8: =E8/G8 -> 32.851583 | M8: =E8*$L$26 -> 1.3117808e+10 | N8: =(M8-M7)/M7*100 -> 17.376011
A9: 2002q3 | B9: 23199.951 | C9: 140796.35 | D9: =C9*1000000 -> 140796350000 | E9: =B9*1000000 -> 2.3199951e+10 | F9: 4479766142 | G9: 748604188 | H9: =E9/D9*100 -> 16.477665 | I9: =G9/F9*100 -> 16.710787 | J9: =D9/F9 -> 31.429397 | K9: =E9/G9 -> 30.990944 | M9: =E9*$L$26 -> 1.3278147e+10 | N9: =(M9-M8)/M8*100 -> 1.2222961
A10: 2002q4 | B10: 22631.385 | C10: 138753.9 | D10: =C10*1000000 -> 138753900000 | E10: =B10*1000000 -> 2.2631385e+10 | F10: 4393645140 | G10: 741841930 | H10: =E10/D10*100 -> 16.310449 | I10: =G10/F10*100 -> 16.88443 | J10: =D10/F10 -> 31.580589 | K10: =E10/G10 -> 30.507017 | M10: =E10*$L$26 -> 1.2952736e+10 | N10: =(M10-M9)/M9*100 -> -2.4507211
A11: 2003q1 | B11: 22704.416 | C11: 138160.61 | D11: =C11*1000000 -> 138160610000 | E11: =B11*1000000 -> 2.2704416e+10 | F11: 4.3245102e+09 | G11: 7.3345414e+08 | H11: =E11/D11*100 -> 16.43335 | I11: =G11/F11*100 -> 16.960398 | J11: =D11/F11 -> 31.948268 | K11: =E11/G11 -> 30.955468 | M11: =E11*$L$26 -> 1.2994535e+10 | N11: =(M11-M10)/M10*100 -> 0.32269876 | O11: =(M11-M7)/M7*100 -> 16.272979 | R11: Yearly Growth Rate %
A12: 2003q2 | B12: 25164.663 | C12: 147486.4 | D12: =C12*1000000 -> 147486400000 | E12: =B12*1000000 -> 2.5164663e+10 | F12: 4.3448327e+09 | G12: 7.3310499e+08 | H12: =E12/D12*100 -> 17.062362 | I12: =G12/F12*100 -> 16.873032 | J12: =D12/F12 -> 33.945243 | K12: =E12/G12 -> 34.326138 | M12: =E12*$L$26 -> 1.4402621e+10 | N12: =(M12-M11)/M11*100 -> 10.835986 | O12: =(M12-M8)/M8*100 -> 9.7944141 | R12: 2001
A13: 2003q3 | B13: 24905.523 | C13: 148659.8 | D13: =C13*1000000 -> 148659800000 | E13: =B13*1000000 -> 2.4905523e+10 | F13: 4.469508e+09 | G13: 7.5596579e+08 | H13: =E13/D13*100 -> 16.753367 | I13: =G13/F13*100 -> 16.913848 | J13: =D13/F13 -> 33.260887 | K13: =E13/G13 -> 32.945304 | M13: =E13*$L$26 -> 1.4254305e+10 | N13: =(M13-M12)/M12*100 -> -1.0297804 | O13: =(M13-M9)/M9*100 -> 7.3516181 | R13: =R12+1 -> 2002 | S13: =SUM(M7:M10) -> 5.0524577e+10
A14: 2003q4 | B14: 23510.671 | C14: 141854.99 | D14: =C14*1000000 -> 141854990000 | E14: =B14*1000000 -> 2.3510671e+10 | F14: 4.7924549e+09 | G14: 792421454 | H14: =E14/D14*100 -> 16.573736 | I14: =G14/F14*100 -> 16.534771 | J14: =D14/F14 -> 29.599651 | K14: =E14/G14 -> 29.669402 | M14: =E14*$L$26 -> 1.3455983e+10 | N14: =(M14-M13)/M13*100 -> -5.6005715 | O14: =(M14-M10)/M10*100 -> 3.8852518 | R14: =R13+1 -> 2003 | S14: =SUM(M11:M14) -> 5.5107443e+10 | T14: =(S14-S13)/S13*100 -> 9.0705698
A15: 2004q1 | B15: 24726.548 | C15: 149784.7 | D15: =C15*1000000 -> 1.497847e+11 | E15: =B15*1000000 -> 2.4726548e+10 | F15: 4.4993406e+09 | G15: 7.3594163e+08 | H15: =E15/D15*100 -> 16.50806 | I15: =G15/F15*100 -> 16.356655 | J15: =D15/F15 -> 33.290367 | K15: =E15/G15 -> 33.598518 | M15: =E15*$L$26 -> 1.4151872e+10 | N15: =(M15-M14)/M14*100 -> 5.171598 | O15: =(M15-M11)/M11*100 -> 8.90634 | R15: =R14+1 -> 2004 | S15: =SUM(M15:M18) -> 6.0544733e+10 | T15: =(S15-S14)/S14*100 -> 9.8667053
A16: 2004q2 | B16: 26662.677 | C16: 157415.71 | D16: =C16*1000000 -> 157415710000 | E16: =B16*1000000 -> 2.6662677e+10 | F16: 4.5436772e+09 | G16: 7.6518177e+08 | H16: =E16/D16*100 -> 16.937748 | I16: =G16/F16*100 -> 16.840584 | J16: =D16/F16 -> 34.645003 | K16: =E16/G16 -> 34.844893 | M16: =E16*$L$26 -> 1.5259987e+10 | N16: =(M16-M15)/M15*100 -> 7.8301613 | O16: =(M16-M12)/M12*100 -> 5.952846 | R16: =R15+1 -> 2005 | S16: =SUM(M19:M22) -> 6.6373809e+10 | T16: =(S16-S15)/S15*100 -> 9.6277191
A17: 2004q3 | B17: 28256.817 | C17: 167895.27 | D17: =C17*1000000 -> 1.6789527e+11 | E17: =B17*1000000 -> 2.8256817e+10 | F17: 4.7754909e+09 | G17: 7.9366597e+08 | H17: =E17/D17*100 -> 16.830026 | I17: =G17/F17*100 -> 16.619568 | J17: =D17/F17 -> 35.157699 | K17: =E17/G17 -> 35.602908 | M17: =E17*$L$26 -> 1.6172369e+10 | N17: =(M17-M16)/M16*100 -> 5.9789189 | O17: =(M17-M13)/M13*100 -> 13.456029 | R17: =R16+1 -> 2006 | S17: =SUM(M23:M26) -> 7.3979518e+10 | T17: =(S17-S16)/S16*100 -> 11.458901
A18: 2004q4 | B18: 26139.415 | C18: 158550.42 | D18: =C18*1000000 -> 1.5855042e+11 | E18: =B18*1000000 -> 2.6139415e+10 | F18: 4.830257e+09 | G18: 826240651 | H18: =E18/D18*100 -> 16.4865 | I18: =G18/F18*100 -> 17.105521 | J18: =D18/F18 -> 32.824427 | K18: =E18/G18 -> 31.636563 | L18: =L31/G31 -> 0.58440942 | M18: =E18*$L$26 -> 1.4960505e+10 | N18: =(M18-M17)/M17*100 -> -7.4934204 | O18: =(M18-M14)/M14*100 -> 11.181067 | R18: =R17+1 -> 2007 | S18: =SUM(M27:M30) -> 8.4051878e+10 | T18: =(S18-S17)/S17*100 -> 13.615066
A19: 2005q1 | B19: 27386.172 | C19: 165156.1 | D19: =C19*1000000 -> 1.651561e+11 | E19: =B19*1000000 -> 2.7386172e+10 | F19: 4690209425 | G19: 774740717 | H19: =E19/D19*100 -> 16.581993 | I19: =G19/F19*100 -> 16.518254 | J19: =D19/F19 -> 35.212948 | K19: =E19/G19 -> 35.348823 | L19: =L32/G32 -> 0.58543455 | M19: =E19*$L$26 -> 1.5674068e+10 | N19: =(M19-M18)/M18*100 -> 4.7696464 | O19: =(M19-M15)/M15*100 -> 10.756148 | R19: =R18+1 -> 2008 | S19: =SUM(M31:M34) -> 9.5790484e+10 | T19: =(S19-S18)/S18*100 -> 13.965906
A20: 2005q2 | B20: 28973.225 | C20: 175844 | D20: =C20*1000000 -> 175843999000 | E20: =B20*1000000 -> 2.8973225e+10 | F20: 4760343407 | G20: 805551748 | H20: =E20/D20*100 -> 16.476664 | I20: =G20/F20*100 -> 16.922135 | J20: =D20/F20 -> 36.939352 | K20: =E20/G20 -> 35.966932 | L20: =L33/G33 -> 0.58087082 | M20: =E20*$L$26 -> 1.6582394e+10 | N20: =(M20-M19)/M19*100 -> 5.7950881 | O20: =(M20-M16)/M16*100 -> 8.6658523 | R20: =R19+1 -> 2009 | S20: =SUM(M35:M38) -> 9.8494683e+10 | T20: =(S20-S19)/S19*100 -> 2.8230342
A21: 2005q3 | B21: 30666.297 | C21: 184694.95 | D21: =C21*1000000 -> 184694949000 | E21: =B21*1000000 -> 3.0666297e+10 | F21: 4824982237 | G21: 802738840 | H21: =E21/D21*100 -> 16.603755 | I21: =G21/F21*100 -> 16.637136 | J21: =D21/F21 -> 38.278887 | K21: =E21/G21 -> 38.202084 | L21: =L34/G34 -> 0.5631147 | M21: =E21*$L$26 -> 1.7551399e+10 | N21: =(M21-M20)/M20*100 -> 5.843573 | O21: =(M21-M17)/M17*100 -> 8.5270749 | R21: =R20+1 -> 2010 | S21: =SUM(M39:M42) -> 1.088017e+11 | T21: =(S21-S20)/S20*100 -> 10.464539
A22: 2005q4 | B22: 28944.489 | C22: 176353.85 | D22: =C22*1000000 -> 176353849000 | E22: =B22*1000000 -> 2.8944489e+10 | F22: 5011501336 | G22: 832010091 | H22: =E22/D22*100 -> 16.412735 | I22: =G22/F22*100 -> 16.602013 | J22: =D22/F22 -> 35.189824 | K22: =E22/G22 -> 34.788628 | L22: =L35/G35 -> 0.56498434 | M22: =E22*$L$26 -> 1.6565948e+10 | N22: =(M22-M21)/M21*100 -> -5.6146576 | O22: =(M22-M18)/M18*100 -> 10.731206 | R22: =R21+1 -> 2011 | S22: =SUM(M43:M46) -> 1.1396606e+11 | T22: =(S22-S21)/S21*100 -> 4.7465827
A23: 2006q1 | B23: 29702.039 | C23: 181177.75 | D23: =C23*1000000 -> 181177750000 | E23: =B23*1000000 -> 2.9702039e+10 | F23: 4675546289 | G23: 750919883 | H23: =E23/D23*100 -> 16.393867 | I23: =G23/F23*100 -> 16.060581 | J23: =D23/F23 -> 38.750071 | K23: =E23/G23 -> 39.554205 | L23: =L36/G36 -> 0.56386607 | M23: =E23*$L$26 -> 1.699952e+10 | N23: =(M23-M22)/M22*100 -> 2.6172515 | O23: =(M23-M19)/M19*100 -> 8.4563366 | R23: =R22+1 -> 2012 | S23: =SUM(M47:M50) -> 1.2025908e+11 | T23: =(S23-S22)/S22*100 -> 5.5218375
A24: 2006q2 | B24: 31710.226 | C24: 193375.75 | D24: =C24*1000000 -> 193375750000 | E24: =B24*1000000 -> 3.1710226e+10 | F24: 4859349229 | G24: 811777848 | H24: =E24/D24*100 -> 16.398244 | I24: =G24/F24*100 -> 16.705485 | J24: =D24/F24 -> 39.794578 | K24: =E24/G24 -> 39.06269 | L24: =L37/G37 -> 0.56366596 | M24: =E24*$L$26 -> 1.8148876e+10 | N24: =(M24-M23)/M23*100 -> 6.7611085 | O24: =(M24-M20)/M20*100 -> 9.446657 | R24: 2013 | S24: =SUM(M51:M54) -> 1.2781949e+11 | T24: =(S24-S23)/S23*100 -> 6.2867671
A25: 2006q3 | B25: 35101.363 | C25: 216043.95 | D25: =C25*1000000 -> 216043950000 | E25: =B25*1000000 -> 3.5101363e+10 | F25: 4906222423 | G25: 827883368 | H25: =E25/D25*100 -> 16.247325 | I25: =G25/F25*100 -> 16.874151 | J25: =D25/F25 -> 44.034683 | K25: =E25/G25 -> 42.398923 | M25: =E25*$L$26 -> 2.0089743e+10 | N25: =(M25-M24)/M24*100 -> 10.694142 | O25: =(M25-M21)/M21*100 -> 14.462347
A26: 2006q4 | B26: 32745.463 | C26: 204168.65 | D26: =C26*1000000 -> 204168650000 | E26: =B26*1000000 -> 3.2745463e+10 | F26: 5280826192 | G26: 873224453 | H26: =E26/D26*100 -> 16.038438 | I26: =G26/F26*100 -> 16.535754 | J26: =D26/F26 -> 38.662255 | K26: =E26/G26 -> 37.49948 | L26: =AVERAGE(L18:L24) -> 0.57233512 | M26: =E26*$L$26 -> 1.8741379e+10 | N26: =(M26-M25)/M25*100 -> -6.7117045 | O26: =(M26-M22)/M22*100 -> 13.131944 | Q26: =M26/E26 -> 0.57233512
A27: 2007q1 | B27: 35072.137 | C27: 217528.41 | D27: =C27*1000000 -> 217528410000 | E27: =B27*1000000 -> 3.5072137e+10 | F27: 5154329343 | G27: 833477953 | H27: =E27/D27*100 -> 16.123014 | I27: =G27/F27*100 -> 16.170444 | J27: =D27/F27 -> 42.203048 | K27: =E27/G27 -> 42.079262 | M27: =E27*$L$26 -> 2.0073016e+10 | N27: =(M27-M26)/M26*100 -> 7.1053308 | O27: =(M27-M23)/M23*100 -> 18.079895 | Q27: =M27/E27 -> 0.57233512
A28: 2007q2 | B28: 36869.266 | C28: 225344.55 | D28: =C28*1000000 -> 2.2534455e+11 | E28: =B28*1000000 -> 3.6869266e+10 | F28: 5056692012 | G28: 821281896 | H28: =E28/D28*100 -> 16.361286 | I28: =G28/F28*100 -> 16.241485 | J28: =D28/F28 -> 44.56363 | K28: =E28/G28 -> 44.89234 | M28: =E28*$L$26 -> 2.1101576e+10 | N28: =(M28-M27)/M27*100 -> 5.1240935 | O28: =(M28-M24)/M24*100 -> 16.269324 | Q28: =M28/E28 -> 0.57233512
A29: 2007q3 | B29: 38410.488 | C29: 237205.45 | D29: =C29*1000000 -> 237205450000 | E29: =B29*1000000 -> 3.8410488e+10 | F29: 5400223668 | G29: 898105429 | H29: =E29/D29*100 -> 16.19292 | I29: =G29/F29*100 -> 16.630893 | J29: =D29/F29 -> 43.925116 | K29: =E29/G29 -> 42.768351 | M29: =E29*$L$26 -> 2.1983671e+10 | N29: =(M29-M28)/M28*100 -> 4.1802361 | O29: =(M29-M25)/M25*100 -> 9.427341 | Q29: =M29/E29 -> 0.57233512
A30: 2007q4 | B30: 36505.912 | C30: 229616.83 | D30: =C30*1000000 -> 2.2961683e+11 | E30: =B30*1000000 -> 3.6505912e+10 | F30: 5579296845 | G30: 902642355 | H30: =E30/D30*100 -> 15.898622 | I30: =G30/F30*100 -> 16.178425 | J30: =D30/F30 -> 41.155156 | K30: =E30/G30 -> 40.443384 | M30: =E30*$L$26 -> 2.0893615e+10 | N30: =(M30-M29)/M29*100 -> -4.9584805 | O30: =(M30-M26)/M26*100 -> 11.483876 | Q30: =M30/E30 -> 0.57233512
A31: 2008q1 | B31: 38889.265 | C31: 242697.91 | D31: =C31*1000000 -> 242697907000 | E31: =B31*1000000 -> 3.8889265e+10 | F31: 5543646776 | G31: 903773016 | H31: =E31/D31*100 -> 16.023733 | I31: =G31/F31*100 -> 16.302861 | J31: =D31/F31 -> 43.779468 | K31: =E31/G31 -> 43.029902 | L31: 528173464 | M31: =L31*K31 -> 2.2727253e+10 | N31: =(M31-M30)/M30*100 -> 8.7760645 | O31: =(M31-M27)/M27*100 -> 13.22291 | Q31: =M31/E31 -> 0.58440942
A32: 2008q2 | B32: 42903.74 | C32: 264941.91 | D32: =C32*1000000 -> 2.6494191e+11 | E32: =B32*1000000 -> 4.290374e+10 | F32: 5265926862 | G32: 890535459 | H32: =E32/D32*100 -> 16.19364 | I32: =G32/F32*100 -> 16.911277 | J32: =D32/F32 -> 50.312493 | K32: =E32/G32 -> 48.177464 | L32: 521350226 | M32: =L32*K32 -> 2.5117332e+10 | N32: =(M32-M31)/M31*100 -> 10.516358 | O32: =(M32-M28)/M28*100 -> 19.030598 | Q32: =M32/E32 -> 0.58543455
A33: 2008q3 | B33: 43757.364 | C33: 273600.38 | D33: =C33*1000000 -> 2.7360038e+11 | E33: =B33*1000000 -> 4.3757364e+10 | F33: 5202135900 | G33: 869534795 | H33: =E33/D33*100 -> 15.993166 | I33: =G33/F33*100 -> 16.714957 | J33: =D33/F33 -> 52.593854 | K33: =E33/G33 -> 50.322729 | L33: 505087388 | M33: =L33*K33 -> 2.5417376e+10 | N33: =(M33-M32)/M32*100 -> 1.1945685 | O33: =(M33-M29)/M29*100 -> 15.619339 | Q33: =M33/E33 -> 0.58087082
A34: 2008q4 | B34: 40006.99 | C34: 254636.09 | D34: =C34*1000000 -> 2.5463609e+11 | E34: =B34*1000000 -> 4.000699e+10 | F34: 5460259824 | G34: 899511198 | H34: =E34/D34*100 -> 15.711438 | I34: =G34/F34*100 -> 16.47378 | J34: =D34/F34 -> 46.634426 | K34: =E34/G34 -> 44.476367 | L34: 506527974 | M34: =L34*K34 -> 2.2528524e+10 | N34: =(M34-M33)/M33*100 -> -11.365656 | O34: =(M34-M30)/M30*100 -> 7.8249205 | Q34: =M34/E34 -> 0.5631147
A35: 2009q1 | B35: 42606.843 | C35: 265676.79 | D35: =C35*1000000 -> 2.6567679e+11 | E35: =B35*1000000 -> 4.2606843e+10 | F35: 5083035776 | G35: 823636857 | H35: =E35/D35*100 -> 16.037097 | I35: =G35/F35*100 -> 16.203641 | J35: =D35/F35 -> 52.267345 | K35: =E35/G35 -> 51.730132 | L35: 465341929 | M35: =L35*K35 -> 2.4072199e+10 | N35: =(M35-M34)/M34*100 -> 6.8520917 | O35: =(M35-M31)/M31*100 -> 5.9177711 | Q35: =M35/E35 -> 0.56498434
A36: 2009q2 | B36: 45836.137 | C36: 282054.91 | D36: =C36*1000000 -> 282054913000 | E36: =B36*1000000 -> 4.5836137e+10 | F36: 4994646966 | G36: 831381344 | H36: =E36/D36*100 -> 16.250785 | I36: =G36/F36*100 -> 16.645448 | J36: =D36/F36 -> 56.471441 | K36: =E36/G36 -> 55.132506 | L36: 468787734 | M36: =L36*K36 -> 2.5845443e+10 | N36: =(M36-M35)/M35*100 -> 7.3663532 | O36: =(M36-M32)/M32*100 -> 2.8988377 | Q36: =M36/E36 -> 0.56386607
A37: 2009q3 | B37: 44685.032 | C37: 281726.54 | D37: =C37*1000000 -> 2.8172654e+11 | E37: =B37*1000000 -> 4.4685032e+10 | F37: 5002707417 | G37: 835393434 | H37: =E37/D37*100 -> 15.861136 | I37: =G37/F37*100 -> 16.698827 | J37: =D37/F37 -> 56.314815 | K37: =E37/G37 -> 53.489805 | L37: 470882842 | M37: =L37*K37 -> 2.5187431e+10 | N37: =(M37-M36)/M36*100 -> -2.5459473 | O37: =(M37-M33)/M33*100 -> -0.90467411 | Q37: =M37/E37 -> 0.56366596
A38: 2009q4 | B38: 41823.203 | C38: 267222.11 | D38: =C38*1000000 -> 267222109000 | E38: =B38*1000000 -> 4.1823203e+10 | F38: 5074816265 | G38: 901763015 | H38: =E38/D38*100 -> 15.651101 | I38: =G38/F38*100 -> 17.769373 | J38: =D38/F38 -> 52.656509 | K38: =E38/G38 -> 46.379373 | L38: 504310603 | M38: =L38*K38 -> 2.3389609e+10 | N38: =(M38-M37)/M37*100 -> -7.1377739 | O38: =(M38-M34)/M34*100 -> 3.8221994 | Q38: =M38/E38 -> 0.5592496
A39: 2010q1 | B39: 45300.036 | C39: 282406.33 | D39: =C39*1000000 -> 282406332000 | E39: =B39*1000000 -> 4.5300036e+10 | H39: =E39/D39*100 -> 16.04073 | I39: =G39/F39*100 -> #DIV/0! | J39: =D39/F39 -> #DIV/0! | K39: =E39/G39 -> #DIV/0! | M39: =E39*Q39 -> 2.5998127e+10 | N39: =(M39-M38)/M38*100 -> 11.152464 | O39: =(M39-M35)/M35*100 -> 8.0006306 | Q39: =(Q27+Q31+Q35)/3 -> 0.57390963
A40: 2010q2 | B40: 50786.982 | C40: 314801.41 | D40: =C40*1000000 -> 314801409000 | E40: =B40*1000000 -> 5.0786982e+10 | H40: =E40/D40*100 -> 16.133022 | M40: =E40*Q40 -> 2.9145561e+10 | N40: =(M40-M39)/M39*100 -> 12.106388 | O40: =(M40-M36)/M36*100 -> 12.768668 | Q40: =(Q28+Q32+Q36)/3 -> 0.57387858
A41: 2010q3 | B41: 48179.903 | C41: 309965.53 | D41: =C41*1000000 -> 309965532000 | E41: =B41*1000000 -> 4.8179903e+10 | H41: =E41/D41*100 -> 15.543632 | M41: =E41*Q41 -> 2.7572907e+10 | N41: =(M41-M40)/M40*100 -> -5.3958614 | O41: =(M41-M37)/M37*100 -> 9.4708982 | Q41: =(Q29+Q33+Q37)/3 -> 0.57229063
A42: 2010q4 | B42: 46176.509 | C42: 303177.92 | D42: =C42*1000000 -> 303177919000 | E42: =B42*1000000 -> 4.6176509e+10 | H42: =E42/D42*100 -> 15.230829 | M42: =E42*Q42 -> 2.6085101e+10 | N42: =(M42-M41)/M41*100 -> -5.3958992 | O42: =(M42-M38)/M38*100 -> 11.524312 | Q42: =(Q30+Q34+Q38)/3 -> 0.56489981
A43: 2011q1 | B43: 46881.002 | C43: 303878.34 | D43: =C43*1000000 -> 303878345000 | E43: =B43*1000000 -> 4.6881002e+10 | H43: =E43/D43*100 -> 15.427556 | M43: =E43*Q43 -> 2.6930063e+10 | N43: =(M43-M42)/M42*100 -> 3.2392528 | O43: =(M43-M39)/M39*100 -> 3.5846281 | Q43: =(Q31+Q35+Q39)/3 -> 0.57443446
A44: 2011q2 | B44: 51896.559 | C44: 330940.07 | D44: =C44*1000000 -> 330940066000 | E44: =B44*1000000 -> 5.1896559e+10 | H44: =E44/D44*100 -> 15.681558 | M44: =E44*Q44 -> 2.9809024e+10 | N44: =(M44-M43)/M43*100 -> 10.690508 | O44: =(M44-M40)/M40*100 -> 2.2763756 | Q44: =(Q32+Q36+Q40)/3 -> 0.57439307
A45: 2011q3 | B45: 51775.023 | C45: 338374.47 | D45: =C45*1000000 -> 338374473000 | E45: =B45*1000000 -> 5.1775023e+10 | H45: =E45/D45*100 -> 15.301102 | M45: =E45*Q45 -> 2.9629593e+10 | N45: =(M45-M44)/M44*100 -> -0.6019353 | O45: =(M45-M41)/M41*100 -> 7.4590811 | Q45: =(Q33+Q37+Q41)/3 -> 0.5722758
A46: 2011q4 | B46: 49068.867 | C46: 327243.63 | D46: =C46*1000000 -> 327243627000 | E46: =B46*1000000 -> 4.9068867e+10 | H46: =E46/D46*100 -> 14.994598 | M46: =E46*Q46 -> 2.7597379e+10 | N46: =(M46-M45)/M45*100 -> -6.8587287 | O46: =(M46-M42)/M42*100 -> 5.7974795 | Q46: =(Q34+Q38+Q42)/3 -> 0.56242137
A47: 2012q1 | B47: 50306.037 | C47: 326306.83 | D47: =C47*1000000 -> 3.2630683e+11 | E47: =B47*1000000 -> 5.0306037e+10 | H47: =E47/D47*100 -> 15.416789 | M47: =E47*Q47 -> 2.8730255e+10 | N47: =(M47-M46)/M46*100 -> 4.1050102 | O47: =(M47-M43)/M43*100 -> 6.68469 | Q47: =(Q35+Q39+Q43)/3 -> 0.57110948
A48: 2012q2 | B48: 55943.467 | C48: 353579.68 | D48: =C48*1000000 -> 353579676000 | E48: =B48*1000000 -> 5.5943467e+10 | H48: =E48/D48*100 -> 15.822026 | M48: =E48*Q48 -> 3.192764e+10 | N48: =(M48-M47)/M47*100 -> 11.128985 | O48: =(M48-M44)/M44*100 -> 7.107299 | Q48: =(Q36+Q40+Q44)/3 -> 0.57071257
A49: 2012q3 | B49: 54101.374 | C49: 352137.43 | D49: =C49*1000000 -> 352137430000 | E49: =B49*1000000 -> 5.4101374e+10 | H49: =E49/D49*100 -> 15.36371 | M49: =E49*Q49 -> 3.0805907e+10 | N49: =(M49-M48)/M48*100 -> -3.5133613 | O49: =(M49-M45)/M45*100 -> 3.9700651 | Q49: =(Q37+Q41+Q45)/3 -> 0.5694108
A50: 2012q4 | B50: 51219.81 | C50: 336635.39 | D50: =C50*1000000 -> 336635393000 | E50: =B50*1000000 -> 5.121981e+10 | H50: =E50/D50*100 -> 15.215218 | M50: =E50*Q50 -> 2.8795278e+10 | N50: =(M50-M49)/M49*100 -> -6.5267637 | O50: =(M50-M46)/M46*100 -> 4.3406251 | Q50: =(Q38+Q42+Q46)/3 -> 0.56219026
A51: 2013q1 | B51: 53371.552 | C51: 347376.51 | D51: =C51*1000000 -> 347376506000 | E51: =B51*1000000 -> 5.3371552e+10 | H51: =E51/D51*100 -> 15.36418 | M51: =E51*Q51 -> 3.0589969e+10 | N51: =(M51-M50)/M50*100 -> 6.232586 | O51: =(M51-M47)/M47*100 -> 6.4730161 | Q51: =(Q39+Q43+Q47)/3 -> 0.57315119
... A55: 2014q1 | B55: 57589.744 | C55: 375738.28 | D55: =C55*1000000 -> 3.7573828e+11 | E55: =B55*1000000 -> 5.7589744e+10 | H55: =E55/D55*100 -> 15.32709 | M55: =E55*Q55 -> 3.2993071e+10 | N55: =(M55-M54)/M54*100 -> 8.8268767 | O55: =(M55-M51)/M51*100 -> 7.8558512 | Q55: =(Q43+Q47+Q51)/3 -> 0.57289838
B61: 76650.248

Sheet GOS PMB
D1: Msunduzi Municipal Area GOS
C2: SA GDP | D2: SA Quarterly GOS | E2: KZN Quarterly GOS | F2: SA Fuel Consumption | G2: KZN Fuel Consumption | H2: KZN GDP Ratio | I2: KZN Fuel Ratio | J2: SA Usage | K2: KZN Usage | L2: PMB Fuel Usage | M2: Pietermaritzburg Quarterly GOS | N2: PMB Quarterly Rate | O2: PMB Annual Rate
A3: 2001g1 | B3: 37676.736 | C3: 228114.65 | D3: ='GOS Durban'!D3 -> 105984228000 | E3: ='GOS Durban'!E3 -> 1.7410491e+10
A4: 2001g2 | B4: 39785.999 | C4: 237077.62 | D4: ='GOS Durban'!D4 -> 115470571000 | E4: ='GOS Durban'!E4 -> 1.9474828e+10
A5: 2001g3 | B5: 40039.788 | C5: 239764.67 | D5: ='GOS Durban'!D5 -> 116423083000 | E5: ='GOS Durban'!E5 -> 1.9469147e+10
A6: 2001g4 | B6: 40074.592 | C6: 242416.26 | D6: ='GOS Durban'!D6 -> 1.1534172e+11 | E6: ='GOS Durban'!E6 -> 1.9075263e+10
A7: 2002g1 | B7: 38164.554 | C7: 234422.23 | D7: ='GOS Durban'!D7 -> 120724220000 | E7: ='GOS Durban'!E7 -> 1.952682e+10 | F7: 4118958622 | G7: 674878797 | H7: =E7/D7*100 -> 16.174733 | I7: =G7/F7*100 -> 16.384695 | J7: =D7/F7 -> 29.309403 | K7: =E7/G7 -> 28.933818 | M7: =E7*$L$23 -> 1.5682551e+09
A8: 2002g2 | B8: 40899.51 | C8: 246692 | D8: ='GOS Durban'!D8 -> 1.3655771e+11 | E8: ='GOS Durban'!E8 -> 2.2919803e+10 | F8: 4128329079 | G8: 697677279 | H8: =E8/D8*100 -> 16.783968 | I8: =G8/F8*100 -> 16.89975 | J8: =D8/F8 -> 33.078204 | K8: =E8/G8 -> 32.851583 | M8: =E8*$L$23 -> 1.8407553e+09 | N8: =(M8-M7)/M7*100 -> 17.376011
A9: 2002g3 | B9: 40843.516 | C9: 248774.74 | D9: ='GOS Durban'!D9 -> 140796350000 | E9: ='GOS Durban'!E9 -> 2.3199951e+10 | F9: 4479766142 | G9: 748604188 | H9: =E9/D9*100 -> 16.477665 | I9: =G9/F9*100 -> 16.710787 | J9: =D9/F9 -> 31.429397 | K9: =E9/G9 -> 30.990944 | M9: =E9*$L$23 -> 1.8632547e+09 | N9: =(M9-M8)/M8*100 -> 1.2222961
A10: 2002g4 | B10: 41049.653 | C10: 252232.95 | D10: ='GOS Durban'!D10 -> 138753900000 | E10: ='GOS Durban'!E10 -> 2.2631385e+10 | F10: 4393645140 | G10: 741841930 | H10: =E10/D10*100 -> 16.310449 | I10: =G10/F10*100 -> 16.88443 | J10: =D10/F10 -> 31.580589 | K10: =E10/G10 -> 30.507017 | M10: =E10*$L$23 -> 1.8175916e+09 | N10: =(M10-M9)/M9*100 -> -2.4507211
A11: ='GOS Durban'!A11 -> 2003q1 | B11: 39679.286 | C11: 242968.68 | D11: ='GOS Durban'!D11 -> 138160610000 | E11: ='GOS Durban'!E11 -> 2.2704416e+10 | F11: 4.3245102e+09 | G11: 7.3345414e+08 | H11: =E11/D11*100 -> 16.43335 | I11: =G11/F11*100 -> 16.960398 | J11: =D11/F11 -> 31.948268 | K11: =E11/G11 -> 30.955468 | M11: =E11*$L$23 -> 1.8234569e+09 | N11: =(M11-M10)/M10*100 -> 0.32269876 | O11: =(M11-M7)/M7*100 -> 16.272979 | R11: Yearly Growth Rate %
A12: ='GOS Durban'!A12 -> 2003q2 | B12: 42428.908 | C12: 254647.49 | D12: ='GOS Durban'!D12 -> 147486400000 | E12: ='GOS Durban'!E12 -> 2.5164663e+10 | F12: 4.3448327e+09 | G12: 7.3310499e+08 | H12: =E12/D12*100 -> 17.062362 | I12: =G12/F12*100 -> 16.873032 | J12: =D12/F12 -> 33.945243 | K12: =E12/G12 -> 34.326138 | M12: =E12*$L$23 -> 2.0210465e+09 | N12: =(M12-M11)/M11*100 -> 10.835986 | O12: =(M12-M8)/M8*100 -> 9.7944141 | R12: 2001
A13: ='GOS Durban'!A13 -> 2003q3 | B13: 42149.481 | C13: 256275.03 | D13: ='GOS Durban'!D13 -> 148659800000 | E13: ='GOS Durban'!E13 -> 2.4905523e+10 | F13: 4.469508e+09 | G13: 7.5596579e+08 | H13: =E13/D13*100 -> 16.753367 | I13: =G13/F13*100 -> 16.913848 | J13: =D13/F13 -> 33.260887 | K13: =E13/G13 -> 32.945304 | M13: =E13*$L$23 -> 2.0002341e+09 | N13: =(M13-M12)/M12*100 -> -1.0297804 | O13: =(M13-M9)/M9*100 -> 7.3516181 | R13: =R12+1 -> 2002 | S13: =SUM(M7:M10) -> 7.0898567e+09
A14: ='GOS Durban'!A14 -> 2003q4 | B14: 42100.347 | C14: 258872.64 | D14: ='GOS Durban'!D14 -> 141854990000 | E14: ='GOS Durban'!E14 -> 2.3510671e+10 | F14: 4.7924549e+09 | G14: 792421454 | H14: =E14/D14*100 -> 16.573736 | I14: =G14/F14*100 -> 16.534771 | J14: =D14/F14 -> 29.599651 | K14: =E14/G14 -> 29.669402 | L14: =L31/G31 -> 0.081954277 | M14: =E14*$L$23 -> 1.8882096e+09 | N14: =(M14-M13)/M13*100 -> -5.6005715 | O14: =(M14-M10)/M10*100 -> 3.8852518 | R14: =R13+1 -> 2003 | S14: =SUM(M11:M14) -> 7.7329471e+09 | T14: =(S14-S13)/S13*100 -> 9.0705698
A15: ='GOS Durban'!A15 -> 2004q1 | B15: 40825.253 | C15: 251444.38 | D15: ='GOS Durban'!D15 -> 1.497847e+11 | E15: ='GOS Durban'!E15 -> 2.4726548e+10 | F15: 4.4993406e+09 | G15: 7.3594163e+08 | H15: =E15/D15*100 -> 16.50806 | I15: =G15/F15*100 -> 16.356655 | J15: =D15/F15 -> 33.290367 | K15: =E15/G15 -> 33.598518 | L15: =L32/G32 -> 0.075731592 | M15: =E15*$L$23 -> 1.9858602e+09 | N15: =(M15-M14)/M14*100 -> 5.171598 | O15: =(M15-M11)/M11*100 -> 8.90634 | R15: =R14+1 -> 2004 | S15: =SUM(M15:M18) -> 8.4959342e+09 | T15: =(S15-S14)/S14*100 -> 9.8667053
A16: ='GOS Durban'!A16 -> 2004q2 | B16: 43839.245 | C16: 264778.95 | D16: ='GOS Durban'!D16 -> 157415710000 | E16: ='GOS Durban'!E16 -> 2.6662677e+10 | F16: 4.5436772e+09 | G16: 7.6518177e+08 | H16: =E16/D16*100 -> 16.937748 | I16: =G16/F16*100 -> 16.840584 | J16: =D16/F16 -> 34.645003 | K16: =E16/G16 -> 34.844893 | L16: =L33/G33 -> 0.077303872 | M16: =E16*$L$23 -> 2.1413562e+09 | N16: =(M16-M15)/M15*100 -> 7.8301613 | O16: =(M16-M12)/M12*100 -> 5.952846 | R16: =R15+1 -> 2005 | S16: =SUM(M19:M22) -> 9.3138988e+09 | T16: =(S16-S15)/S15*100 -> 9.6277191
A17: ='GOS Durban'!A17 -> 2004q3 | B17: 44543.657 | C17: 270547.83 | D17: ='GOS Durban'!D17 -> 1.6789527e+11 | E17: ='GOS Durban'!E17 -> 2.8256817e+10 | F17: 4.7754909e+09 | G17: 7.9366597e+08 | H17: =E17/D17*100 -> 16.830026 | I17: =G17/F17*100 -> 16.619568 | J17: =D17/F17 -> 35.157699 | K17: =E17/G17 -> 35.602908 | L17: =L34/G34 -> 0.08154082 | M17: =E17*$L$23 -> 2.2693862e+09 | N17: =(M17-M16)/M16*100 -> 5.9789189 | O17: =(M17-M13)/M13*100 -> 13.456029 | R17: =R16+1 -> 2006 | S17: =SUM(M23:M26) -> 1.0381169e+10 | T17: =(S17-S16)/S16*100 -> 11.458901
A18: ='GOS Durban'!A18 -> 2004q4 | B18: 44924.846 | C18: 275256.89 | D18: ='GOS Durban'!D18 -> 1.5855042e+11 | E18: ='GOS Durban'!E18 -> 2.6139415e+10 | F18: 4.830257e+09 | G18: 826240651 | H18: =E18/D18*100 -> 16.4865 | I18: =G18/F18*100 -> 17.105521 | J18: =D18/F18 -> 32.824427 | K18: =E18/G18 -> 31.636563 | L18: =L35/G35 -> 0.080220365 | M18: =E18*$L$23 -> 2.0993315e+09 | N18: =(M18-M17)/M17*100 -> -7.4934204 | O18: =(M18-M14)/M14*100 -> 11.181067 | R18: =R17+1 -> 2007 | S18: =SUM(M27:M30) -> 1.1794572e+10 | T18: =(S18-S17)/S17*100 -> 13.615066
A19: ='GOS Durban'!A19 -> 2005q1 | B19: 43267.605 | C19: 265766.29 | D19: ='GOS Durban'!D19 -> 1.651561e+11 | E19: ='GOS Durban'!E19 -> 2.7386172e+10 | F19: 4690209425 | G19: 774740717 | H19: =E19/D19*100 -> 16.581993 | I19: =G19/F19*100 -> 16.518254 | J19: =D19/F19 -> 35.212948 | K19: =E19/G19 -> 35.348823 | L19: =L36/G36 -> 0.083003445 | M19: =E19*$L$23 -> 2.1994622e+09 | N19: =(M19-M18)/M18*100 -> 4.7696464 | O19: =(M19-M15)/M15*100 -> 10.756148 | R19: =R18+1 -> 2008 | S19: =SUM(M31:M34) -> 1.3081127e+10 | T19: =(S19-S18)/S18*100 -> 10.90802
A20: ='GOS Durban'!A20 -> 2005q2 | B20: 45920.175 | C20: 277268.9 | D20: ='GOS Durban'!D20 -> 175843999000 | E20: ='GOS Durban'!E20 -> 2.8973225e+10 | F20: 4760343407 | G20: 805551748 | H20: =E20/D20*100 -> 16.476664 | I20: =G20/F20*100 -> 16.922135 | J20: =D20/F20 -> 36.939352 | K20: =E20/G20 -> 35.966932 | L20: =L37/G37 -> 0.082435751 | M20: =E20*$L$23 -> 2.326923e+09 | N20: =(M20-M19)/M19*100 -> 5.7950881 | O20: =(M20-M16)/M16*100 -> 8.6658523 | R20: =R19+1 -> 2009 | S20: =SUM(M35:M38) -> 1.4736251e+10 | T20: =(S20-S19)/S19*100 -> 12.652765
A21: ='GOS Durban'!A21 -> 2005q3 | B21: 47037.654 | C21: 283831.22 | D21: ='GOS Durban'!D21 -> 184694949000 | E21: ='GOS Durban'!E21 -> 3.0666297e+10 | F21: 4824982237 | G21: 802738840 | H21: =E21/D21*100 -> 16.603755 | I21: =G21/F21*100 -> 16.637136 | J21: =D21/F21 -> 38.278887 | K21: =E21/G21 -> 38.202084 | M21: =E21*$L$23 -> 2.4628985e+09 | N21: =(M21-M20)/M20*100 -> 5.843573 | O21: =(M21-M17)/M17*100 -> 8.5270749 | R21: =R20+1 -> 2010 | S21: =SUM(M39:M42) -> 1.5464514e+10 | T21: =(S21-S20)/S20*100 -> 4.9419861
A22: ='GOS Durban'!A22 -> 2005q4 | B22: 47137.581 | C22: 287892.13 | D22: ='GOS Durban'!D22 -> 176353849000 | E22: ='GOS Durban'!E22 -> 2.8944489e+10 | F22: 5011501336 | G22: 832010091 | H22: =E22/D22*100 -> 16.412735 | I22: =G22/F22*100 -> 16.602013 | J22: =D22/F22 -> 35.189824 | K22: =E22/G22 -> 34.788628 | M22: =E22*$L$23 -> 2.3246151e+09 | N22: =(M22-M21)/M21*100 -> -5.6146576 | O22: =(M22-M18)/M18*100 -> 10.731206 | R22: =R21+1 -> 2011 | S22: =SUM(M43:M46) -> 1.6272913e+10 | T22: =(S22-S21)/S21*100 -> 5.2274439
A23: ='GOS Durban'!A23 -> 2006q1 | B23: 45515.077 | C23: 278720.46 | D23: ='GOS Durban'!D23 -> 181177750000 | E23: ='GOS Durban'!E23 -> 2.9702039e+10 | F23: 4675546289 | G23: 750919883 | H23: =E23/D23*100 -> 16.393867 | I23: =G23/F23*100 -> 16.060581 | J23: =D23/F23 -> 38.750071 | K23: =E23/G23 -> 39.554205 | L23: =AVERAGE(L14:L20) -> 0.080312875 | M23: =E23*$L$23 -> 2.3854562e+09 | N23: =(M23-M22)/M22*100 -> 2.6172515 | O23: =(M23-M19)/M19*100 -> 8.4563366 | R23: =R22+1 -> 2012 | S23: =SUM(M47:M50) -> 1.7417356e+10 | T23: =(S23-S22)/S22*100 -> 7.032808
A24: ='GOS Durban'!A24 -> 2006q2 | B24: 48049.393 | C24: 290944.86 | D24: ='GOS Durban'!D24 -> 193375750000 | E24: ='GOS Durban'!E24 -> 3.1710226e+10 | F24: 4859349229 | G24: 811777848 | H24: =E24/D24*100 -> 16.398244 | I24: =G24/F24*100 -> 16.705485 | J24: =D24/F24 -> 39.794578 | K24: =E24/G24 -> 39.06269 | M24: =E24*$L$23 -> 2.5467394e+09 | N24: =(M24-M23)/M23*100 -> 6.7611085 | O24: =(M24-M20)/M20*100 -> 9.446657 | R24: =R23+1 -> 2013 | S24: =SUM(M51:M54) -> 1.8304681e+10 | T24: =(S24-S23)/S23*100 -> 5.0944868
A25: ='GOS Durban'!A25 -> 2006q3 | B25: 49171.99 | C25: 297456.97 | D25: ='GOS Durban'!D25 -> 216043950000 | E25: ='GOS Durban'!E25 -> 3.5101363e+10 | F25: 4906222423 | G25: 827883368 | H25: =E25/D25*100 -> 16.247325 | I25: =G25/F25*100 -> 16.874151 | J25: =D25/F25 -> 44.034683 | K25: =E25/G25 -> 42.398923 | M25: =E25*$L$23 -> 2.8190914e+09 | N25: =(M25-M24)/M24*100 -> 10.694142 | O25: =(M25-M21)/M21*100 -> 14.462347
A26: ='GOS Durban'!A26 -> 2006q4 | B26: 50201.911 | C26: 306956.06 | D26: ='GOS Durban'!D26 -> 204168650000 | E26: ='GOS Durban'!E26 -> 3.2745463e+10 | F26: 5280826192 | G26: 873224453 | H26: =E26/D26*100 -> 16.038438 | I26: =G26/F26*100 -> 16.535754 | J26: =D26/F26 -> 38.662255 | K26: =E26/G26 -> 37.49948 | M26: =E26*$L$23 -> 2.6298823e+09 | N26: =(M26-M25)/M25*100 -> -6.7117045 | O26: =(M26-M22)/M22*100 -> 13.131944 | Q26: =M26/E26 -> 0.080312875
A27: ='GOS Durban'!A27 -> 2007q1 | B27: 48194.137 | C27: 294828.76 | D27: ='GOS Durban'!D27 -> 217528410000 | E27: ='GOS Durban'!E27 -> 3.5072137e+10 | F27: 5154329343 | G27: 833477953 | H27: =E27/D27*100 -> 16.123014 | I27: =G27/F27*100 -> 16.170444 | J27: =D27/F27 -> 42.203048 | K27: =E27/G27 -> 42.079262 | M27: =E27*$L$23 -> 2.8167441e+09 | N27: =(M27-M26)/M26*100 -> 7.1053308 | O27: =(M27-M23)/M23*100 -> 18.079895 | Q27: =M27/E27 -> 0.080312875
A28: ='GOS Durban'!A28 -> 2007q2 | B28: 50488.786 | C28: 305341.24 | D28: ='GOS Durban'!D28 -> 2.2534455e+11 | E28: ='GOS Durban'!E28 -> 3.6869266e+10 | F28: 5056692012 | G28: 821281896 | H28: =E28/D28*100 -> 16.361286 | I28: =G28/F28*100 -> 16.241485 | J28: =D28/F28 -> 44.56363 | K28: =E28/G28 -> 44.89234 | M28: =E28*$L$23 -> 2.9610767e+09 | N28: =(M28-M27)/M27*100 -> 5.1240935 | O28: =(M28-M24)/M24*100 -> 16.269324 | Q28: =M28/E28 -> 0.080312875
A29: ='GOS Durban'!A29 -> 2007q3 | B29: 51623.877 | C29: 312536.95 | D29: ='GOS Durban'!D29 -> 237205450000 | E29: ='GOS Durban'!E29 -> 3.8410488e+10 | F29: 5400223668 | G29: 898105429 | H29: =E29/D29*100 -> 16.19292 | I29: =G29/F29*100 -> 16.630893 | J29: =D29/F29 -> 43.925116 | K29: =E29/G29 -> 42.768351 | M29: =E29*$L$23 -> 3.0848567e+09 | N29: =(M29-M28)/M28*100 -> 4.1802361 | O29: =(M29-M25)/M25*100 -> 9.427341 | Q29: =M29/E29 -> 0.080312875
A30: ='GOS Durban'!A30 -> 2007q4 | B30: 52621.553 | C30: 321222.87 | D30: ='GOS Durban'!D30 -> 2.2961683e+11 | E30: ='GOS Durban'!E30 -> 3.6505912e+10 | F30: 5579296845 | G30: 902642355 | H30: =E30/D30*100 -> 15.898622 | I30: =G30/F30*100 -> 16.178425 | J30: =D30/F30 -> 41.155156 | K30: =E30/G30 -> 40.443384 | M30: =E30*$L$23 -> 2.9318947e+09 | N30: =(M30-M29)/M29*100 -> -4.9584805 | O30: =(M30-M26)/M26*100 -> 11.483876 | Q30: =M30/E30 -> 0.080312875
A31: ='GOS Durban'!A31 -> 2008q1 | B31: 50304.132 | C31: 306287.39 | D31: ='GOS Durban'!D31 -> 242697907000 | E31: ='GOS Durban'!E31 -> 3.8889265e+10 | F31: 5543646776 | G31: 903654581 | H31: =E31/D31*100 -> 16.023733 | I31: =G31/F31*100 -> 16.300724 | J31: =D31/F31 -> 43.779468 | K31: =E31/G31 -> 43.035542 | L31: 74058358 | M31: =L31*K31 -> 3.1871416e+09 | N31: =(M31-M30)/M30*100 -> 8.7058674 | O31: =(M31-M27)/M27*100 -> 13.149844 | Q31: =M31/E31 -> 0.081954277
A32: ='GOS Durban'!A32 -> 2008q2 | B32: 52106.987 | C32: 319011.07 | D32: ='GOS Durban'!D32 -> 2.6494191e+11 | E32: ='GOS Durban'!E32 -> 4.290374e+10 | F32: 5265926862 | G32: 890416751 | H32: =E32/D32*100 -> 16.19364 | I32: =G32/F32*100 -> 16.909022 | J32: =D32/F32 -> 50.312493 | K32: =E32/G32 -> 48.183887 | L32: 67432678 | M32: =L32*K32 -> 3.2491686e+09 | N32: =(M32-M31)/M31*100 -> 1.9461632 | O32: =(M32-M28)/M28*100 -> 9.7292927 | Q32: =M32/E32 -> 0.075731592
A33: ='GOS Durban'!A33 -> 2008q3 | B33: 53105.277 | C33: 322043.51 | D33: ='GOS Durban'!D33 -> 2.7360038e+11 | E33: ='GOS Durban'!E33 -> 4.3757364e+10 | F33: 5202135900 | G33: 869415812 | H33: =E33/D33*100 -> 15.993166 | I33: =G33/F33*100 -> 16.71267 | J33: =D33/F33 -> 52.593854 | K33: =E33/G33 -> 50.329616 | L33: 67209209 | M33: =L33*K33 -> 3.3826137e+09 | N33: =(M33-M32)/M32*100 -> 4.107054 | O33: =(M33-M29)/M29*100 -> 9.6522127 | Q33: =M33/E33 -> 0.077303872
A34: ='GOS Durban'!A34 -> 2008q4 | B34: 54606.741 | C34: 324375.43 | D34: ='GOS Durban'!D34 -> 2.5463609e+11 | E34: ='GOS Durban'!E34 -> 4.000699e+10 | F34: 5460259824 | G34: 899391940 | H34: =E34/D34*100 -> 15.711438 | I34: =G34/F34*100 -> 16.471596 | J34: =D34/F34 -> 46.634426 | K34: =E34/G34 -> 44.482265 | L34: 73337156 | M34: =L34*K34 -> 3.2622028e+09 | N34: =(M34-M33)/M33*100 -> -3.559699 | O34: =(M34-M30)/M30*100 -> 11.266028 | Q34: =M34/E34 -> 0.08154082
A35: ='GOS Durban'!A35 -> 2009q1 | B35: 49513.613 | C35: 302489.23 | D35: ='GOS Durban'!D35 -> 2.6567679e+11 | E35: ='GOS Durban'!E35 -> 4.2606843e+10 | F35: 5206564996 | G35: 842784368 | H35: =E35/D35*100 -> 16.037097 | I35: =G35/F35*100 -> 16.186956 | J35: =D35/F35 -> 51.027268 | K35: =E35/G35 -> 50.554857 | L35: 67608470 | M35: =L35*K35 -> 3.4179365e+09 | N35: =(M35-M34)/M34*100 -> 4.773883 | O35: =(M35-M31)/M31*100 -> 7.2414406 | Q35: =M35/E35 -> 0.080220365
A36: ='GOS Durban'!A36 -> 2009q2 | B36: 51361.106 | C36: 310058.43 | D36: ='GOS Durban'!D36 -> 282054913000 | E36: ='GOS Durban'!E36 -> 4.5836137e+10 | F36: 4994646966 | G36: 831381344 | H36: =E36/D36*100 -> 16.250785 | I36: =G36/F36*100 -> 16.645448 | J36: =D36/F36 -> 56.471441 | K36: =E36/G36 -> 55.132506 | L36: 69007516 | M36: =L36*K36 -> 3.8045573e+09 | N36: =(M36-M35)/M35*100 -> 11.311525 | O36: =(M36-M32)/M32*100 -> 17.093257 | Q36: =M36/E36 -> 0.083003445
A37: ='GOS Durban'!A37 -> 2009q3 | D37: ='GOS Durban'!D37 -> 2.8172654e+11 | E37: ='GOS Durban'!E37 -> 4.4685032e+10 | F37: 5002707417 | G37: 835393434 | H37: =E37/D37*100 -> 15.861136 | I37: =G37/F37*100 -> 16.698827 | J37: =D37/F37 -> 56.314815 | K37: =E37/G37 -> 53.489805 | L37: 68866285 | M37: =L37*K37 -> 3.6836441e+09 | N37: =(M37-M36)/M36*100 -> -3.1781139 | O37: =(M37-M33)/M33*100 -> 8.8993454 | Q37: =M37/E37 -> 0.082435751
A38: ='GOS Durban'!A38 -> 2009q4 | D38: ='GOS Durban'!D38 -> 267222109000 | E38: ='GOS Durban'!E38 -> 4.1823203e+10 | F38: 5074816265 | G38: 901763015 | H38: =E38/D38*100 -> 15.651101 | I38: =G38/F38*100 -> 17.769373 | J38: =D38/F38 -> 52.656509 | K38: =E38/G38 -> 46.379373 | L38: 82582248 | M38: =L38*K38 -> 3.8301128e+09 | N38: =(M38-M37)/M37*100 -> 3.9761907 | O38: =(M38-M34)/M34*100 -> 17.408791 | Q38: =M38/E38 -> 0.091578659
A39: ='GOS Durban'!A39 -> 2010q1 | D39: ='GOS Durban'!D39 -> 282406332000 | E39: ='GOS Durban'!E39 -> 4.5300036e+10 | H39: =E39/D39*100 -> 16.04073 | M39: =E39*Q39 -> 3.6615645e+09 | N39: =(M39-M38)/M38*100 -> -4.4006115 | O39: =(M39-M35)/M35*100 -> 7.1279242 | Q39: =(Q27+Q31+Q35)/3 -> 0.080829172
A40: ='GOS Durban'!A40 -> 2010q2 | D40: ='GOS Durban'!D40 -> 314801409000 | E40: ='GOS Durban'!E40 -> 5.0786982e+10 | H40: =E40/D40*100 -> 16.133022 | M40: =E40*Q40 -> 4.0468407e+09 | N40: =(M40-M39)/M39*100 -> 10.522175 | O40: =(M40-M36)/M36*100 -> 6.3682411 | Q40: =(Q28+Q32+Q36)/3 -> 0.079682637
A41: ='GOS Durban'!A41 -> 2010q3 | D41: ='GOS Durban'!D41 -> 309965532000 | E41: ='GOS Durban'!E41 -> 4.8179903e+10 | M41: =E41*Q41 -> 3.8552354e+09 | N41: =(M41-M40)/M40*100 -> -4.7346891 | O41: =(M41-M37)/M37*100 -> 4.6581921 | Q41: =(Q29+Q33+Q37)/3 -> 0.080017499
A42: ='GOS Durban'!A42 -> 2010q4 | D42: ='GOS Durban'!D42 -> 303177919000 | E42: ='GOS Durban'!E42 -> 4.6176509e+10 | M42: =E42*Q42 -> 3.9008738e+09 | N42: =(M42-M41)/M41*100 -> 1.1838041 | O42: =(M42-M38)/M38*100 -> 1.8474897 | Q42: =(Q30+Q34+Q38)/3 -> 0.084477451
A43: ='GOS Durban'!A43 -> 2011q1 | D43: ='GOS Durban'!D43 -> 303878345000 | E43: ='GOS Durban'!E43 -> 4.6881002e+10 | M43: =E43*Q43 -> 3.7974208e+09 | N43: =(M43-M42)/M42*100 -> -2.6520469 | O43: =(M43-M39)/M39*100 -> 3.7103354 | Q43: =(Q31+Q35+Q39)/3 -> 0.081001272
A44: ='GOS Durban'!A44 -> 2011q2 | D44: ='GOS Durban'!D44 -> 330940066000 | E44: ='GOS Durban'!E44 -> 5.1896559e+10 | M44: =E44*Q44 -> 4.1243523e+09 | N44: =(M44-M43)/M43*100 -> 8.6093044 | O44: =(M44-M40)/M40*100 -> 1.9153614 | Q44: =(Q32+Q36+Q40)/3 -> 0.079472558
A45: ='GOS Durban'!A45 -> 2011q3 | D45: ='GOS Durban'!D45 -> 338374473000 | E45: ='GOS Durban'!E45 -> 5.1775023e+10 | M45: =E45*Q45 -> 4.1378101e+09 | N45: =(M45-M44)/M44*100 -> 0.3263021 | O45: =(M45-M41)/M41*100 -> 7.329638 | Q45: =(Q33+Q37+Q41)/3 -> 0.079919041
A46: ='GOS Durban'!A46 -> 2011q4 | D46: ='GOS Durban'!D46 -> 327243627000 | E46: ='GOS Durban'!E46 -> 4.9068867e+10 | M46: =E46*Q46 -> 4.2133299e+09 | N46: =(M46-M45)/M45*100 -> 1.8251129 | O46: =(M46-M42)/M42*100 -> 8.0098994 | Q46: =(Q34+Q38+Q42)/3 -> 0.085865643
A47: ='GOS Durban'!A47 -> 2012q1 | D47: ='GOS Durban'!D47 -> 3.2630683e+11 | E47: ='GOS Durban'!E47 -> 5.0306037e+10 | M47: =E47*Q47 -> 4.0588723e+09 | N47: =(M47-M46)/M46*100 -> -3.6659255 | O47: =(M47-M43)/M43*100 -> 6.8849768 | Q47: =(Q35+Q39+Q43)/3 -> 0.080683603
A48: ='GOS Durban'!A48 -> 2012q2 | D48: ='GOS Durban'!D48 -> 353579676000 | E48: ='GOS Durban'!E48 -> 5.5943467e+10 | M48: =E48*Q48 -> 4.5157313e+09 | N48: =(M48-M47)/M47*100 -> 11.255811 | O48: =(M48-M44)/M44*100 -> 9.4894664 | Q48: =(Q36+Q40+Q44)/3 -> 0.080719547
A49: ='GOS Durban'!A49 -> 2012q3 | D49: ='GOS Durban'!D49 -> 352137430000 | E49: ='GOS Durban'!E49 -> 5.4101374e+10 | M49: =E49*Q49 -> 4.3708914e+09 | N49: =(M49-M48)/M48*100 -> -3.2074533 | O49: =(M49-M45)/M45*100 -> 5.6329603 | Q49: =(Q37+Q41+Q45)/3 -> 0.080790764
A50: ='GOS Durban'!A50 -> 2012q4 | D50: ='GOS Durban'!D50 -> 336635393000 | E50: ='GOS Durban'!E50 -> 5.121981e+10 | M50: =E50*Q50 -> 4.4718608e+09 | N50: =(M50-M49)/M49*100 -> 2.3100431 | O50: =(M50-M46)/M46*100 -> 6.1360249 | Q50: =(Q38+Q42+Q46)/3 -> 0.087307251
A51: ='GOS Durban'!A51 -> 2013q1 | D51: ='GOS Durban'!D51 -> 347376506000 | E51: ='GOS Durban'!E51 -> 5.3371552e+10 | M51: =E51*Q51 -> 4.3144504e+09 | N51: =(M51-M50)/M50*100 -> -3.5200216 | O51: =(M51-M47)/M47*100 -> 6.2967745 | Q51: =(Q39+Q43+Q47)/3 -> 0.080838016
A52: ='GOS Durban'!A52 -> 2013q2 | D52: ='GOS Durban'!D52 -> 3.7450345e+11 | E52: ='GOS Durban'!E52 -> 5.9664746e+10 | M52: =E52*Q52 -> 4.7706885e+09 | N52: =(M52-M51)/M51*100 -> 10.574653 | O52: =(M52-M48)/M48*100 -> 5.6459777 | Q52: =(Q40+Q44+Q48)/3 -> 0.079958248
... A55: ='GOS Durban'!A55 -> 2014q1 | D55: ='GOS Durban'!D55 -> 3.7573828e+11 | E55: ='GOS Durban'!E55 -> 5.7589744e+10 | M55: =E55*Q55 -> 4.6556104e+09 | N55: =(M55-M54)/M54*100 -> 0.69791013 | O55: =(M55-M51)/M51*100 -> 7.9073814 | Q55: =(Q43+Q47+Q51)/3 -> 0.080840964

Sheet GOS RBay
D1: Mthlatuze Municipal Area GOS
C2: SA GDP | D2: SA Quarterly GOS | E2: KZN Quarterly GOS | F2: SA Fuel Consumption | G2: KZN Fuel Consumption | H2: KZN GDP Ratio | I2: KZN Fuel Ratio | J2: SA Usage | K2: KZN Usage | L2: RBay Fuel Usage | M2: Richards Bay Quarterly GOS | N2: RBay Quarterly Rate | O2: RBay Annual Rate
A3: 2001g1 | B3: 37676.736 | C3: 228114.65 | D3: ='GOS Durban'!D3 -> 105984228000 | E3: ='GOS Durban'!E3 -> 1.7410491e+10
A4: 2001g2 | B4: 39785.999 | C4: 237077.62 | D4: ='GOS Durban'!D4 -> 115470571000 | E4: ='GOS Durban'!E4 -> 1.9474828e+10
A5: 2001g3 | B5: 40039.788 | C5: 239764.67 | D5: ='GOS Durban'!D5 -> 116423083000 | E5: ='GOS Durban'!E5 -> 1.9469147e+10
A6: 2001g4 | B6: 40074.592 | C6: 242416.26 | D6: ='GOS Durban'!D6 -> 1.1534172e+11 | E6: ='GOS Durban'!E6 -> 1.9075263e+10
A7: 2002g1 | B7: 38164.554 | C7: 234422.23 | D7: ='GOS Durban'!D7 -> 120724220000 | E7: ='GOS Durban'!E7 -> 1.952682e+10 | F7: 4118958622 | G7: 674878797 | H7: =E7/D7*100 -> 16.174733 | I7: =G7/F7*100 -> 16.384695 | J7: =D7/F7 -> 29.309403 | K7: =E7/G7 -> 28.933818 | M7: =E7*$L$26 -> 1.2100986e+09
A8: 2002g2 | B8: 40899.51 | C8: 246692 | D8: ='GOS Durban'!D8 -> 1.3655771e+11 | E8: ='GOS Durban'!E8 -> 2.2919803e+10 | F8: 4128329079 | G8: 697677279 | H8: =E8/D8*100 -> 16.783968 | I8: =G8/F8*100 -> 16.89975 | J8: =D8/F8 -> 33.078204 | K8: =E8/G8 -> 32.851583 | M8: =E8*$L$26 -> 1.4203655e+09 | N8: =(M8-M7)/M7*100 -> 17.376011
A9: 2002g3 | B9: 40843.516 | C9: 248774.74 | D9: ='GOS Durban'!D9 -> 140796350000 | E9: ='GOS Durban'!E9 -> 2.3199951e+10 | F9: 4479766142 | G9: 748604188 | H9: =E9/D9*100 -> 16.477665 | I9: =G9/F9*100 -> 16.710787 | J9: =D9/F9 -> 31.429397 | K9: =E9/G9 -> 30.990944 | M9: =E9*$L$26 -> 1.4377265e+09 | N9: =(M9-M8)/M8*100 -> 1.2222961
A10: 2002g4 | B10: 41049.653 | C10: 252232.95 | D10: ='GOS Durban'!D10 -> 138753900000 | E10: ='GOS Durban'!E10 -> 2.2631385e+10 | F10: 4393645140 | G10: 741841930 | H10: =E10/D10*100 -> 16.310449 | I10: =G10/F10*100 -> 16.88443 | J10: =D10/F10 -> 31.580589 | K10: =E10/G10 -> 30.507017 | M10: =E10*$L$26 -> 1.4024919e+09 | N10: =(M10-M9)/M9*100 -> -2.4507211
A11: ='GOS Durban'!A11 -> 2003q1 | B11: 39679.286 | C11: 242968.68 | D11: ='GOS Durban'!D11 -> 138160610000 | E11: ='GOS Durban'!E11 -> 2.2704416e+10 | F11: 4.3245102e+09 | G11: 7.3345414e+08 | H11: =E11/D11*100 -> 16.43335 | I11: =G11/F11*100 -> 16.960398 | J11: =D11/F11 -> 31.948268 | K11: =E11/G11 -> 30.955468 | M11: =E11*$L$26 -> 1.4070177e+09 | N11: =(M11-M10)/M10*100 -> 0.32269876 | O11: =(M11-M7)/M7*100 -> 16.272979 | R11: Yearly Growth Rate %
A12: ='GOS Durban'!A12 -> 2003q2 | B12: 39679.286 | C12: 242968.68 | D12: ='GOS Durban'!D12 -> 147486400000 | E12: ='GOS Durban'!E12 -> 2.5164663e+10 | F12: 4.3448327e+09 | G12: 7.3310499e+08 | H12: =E12/D12*100 -> 17.062362 | I12: =G12/F12*100 -> 16.873032 | J12: =D12/F12 -> 33.945243 | K12: =E12/G12 -> 34.326138 | M12: =E12*$L$26 -> 1.5594819e+09 | N12: =(M12-M11)/M11*100 -> 10.835986 | O12: =(M12-M8)/M8*100 -> 9.7944141 | R12: 2001
A13: ='GOS Durban'!A13 -> 2003q3 | B13: 39679.286 | C13: 242968.68 | D13: ='GOS Durban'!D13 -> 148659800000 | E13: ='GOS Durban'!E13 -> 2.4905523e+10 | F13: 4.469508e+09 | G13: 7.5596579e+08 | H13: =E13/D13*100 -> 16.753367 | I13: =G13/F13*100 -> 16.913848 | J13: =D13/F13 -> 33.260887 | K13: =E13/G13 -> 32.945304 | M13: =E13*$L$26 -> 1.5434227e+09 | N13: =(M13-M12)/M12*100 -> -1.0297804 | O13: =(M13-M9)/M9*100 -> 7.3516181 | R13: =R12+1 -> 2002 | S13: =SUM(M7:M10) -> 5.4706825e+09
A14: ='GOS Durban'!A14 -> 2003q4 | B14: 39679.286 | C14: 242968.68 | D14: ='GOS Durban'!D14 -> 141854990000 | E14: ='GOS Durban'!E14 -> 2.3510671e+10 | F14: 4.7924549e+09 | G14: 792421454 | H14: =E14/D14*100 -> 16.573736 | I14: =G14/F14*100 -> 16.534771 | J14: =D14/F14 -> 29.599651 | K14: =E14/G14 -> 29.669402 | M14: =E14*$L$26 -> 1.4569822e+09 | N14: =(M14-M13)/M13*100 -> -5.6005715 | O14: =(M14-M10)/M10*100 -> 3.8852518 | R14: =R13+1 -> 2003 | S14: =SUM(M11:M14) -> 5.9669045e+09 | T14: =(S14-S13)/S13*100 -> 9.0705698
A15: ='GOS Durban'!A15 -> 2004q1 | B15: 39679.286 | C15: 242968.68 | D15: ='GOS Durban'!D15 -> 1.497847e+11 | E15: ='GOS Durban'!E15 -> 2.4726548e+10 | F15: 4.4993406e+09 | G15: 7.3594163e+08 | H15: =E15/D15*100 -> 16.50806 | I15: =G15/F15*100 -> 16.356655 | J15: =D15/F15 -> 33.290367 | K15: =E15/G15 -> 33.598518 | M15: =E15*$L$26 -> 1.5323315e+09 | N15: =(M15-M14)/M14*100 -> 5.171598 | O15: =(M15-M11)/M11*100 -> 8.90634 | R15: =R14+1 -> 2004 | S15: =SUM(M15:M18) -> 6.5556414e+09 | T15: =(S15-S14)/S14*100 -> 9.8667053
A16: ='GOS Durban'!A16 -> 2004q2 | B16: 39679.286 | C16: 242968.68 | D16: ='GOS Durban'!D16 -> 157415710000 | E16: ='GOS Durban'!E16 -> 2.6662677e+10 | F16: 4.5436772e+09 | G16: 7.6518177e+08 | H16: =E16/D16*100 -> 16.937748 | I16: =G16/F16*100 -> 16.840584 | J16: =D16/F16 -> 34.645003 | K16: =E16/G16 -> 34.844893 | M16: =E16*$L$26 -> 1.6523155e+09 | N16: =(M16-M15)/M15*100 -> 7.8301613 | O16: =(M16-M12)/M12*100 -> 5.952846 | R16: =R15+1 -> 2005 | S16: =SUM(M19:M22) -> 7.1868002e+09 | T16: =(S16-S15)/S15*100 -> 9.6277191
A17: ='GOS Durban'!A17 -> 2004q3 | B17: 39679.286 | C17: 242968.68 | D17: ='GOS Durban'!D17 -> 1.6789527e+11 | E17: ='GOS Durban'!E17 -> 2.8256817e+10 | F17: 4.7754909e+09 | G17: 7.9366597e+08 | H17: =E17/D17*100 -> 16.830026 | I17: =G17/F17*100 -> 16.619568 | J17: =D17/F17 -> 35.157699 | K17: =E17/G17 -> 35.602908 | M17: =E17*$L$26 -> 1.7511061e+09 | N17: =(M17-M16)/M16*100 -> 5.9789189 | O17: =(M17-M13)/M13*100 -> 13.456029 | R17: =R16+1 -> 2006 | S17: =SUM(M23:M26) -> 8.0103285e+09 | T17: =(S17-S16)/S16*100 -> 11.458901
A18: ='GOS Durban'!A18 -> 2004q4 | B18: 39679.286 | C18: 242968.68 | D18: ='GOS Durban'!D18 -> 1.5855042e+11 | E18: ='GOS Durban'!E18 -> 2.6139415e+10 | F18: 4.830257e+09 | G18: 826240651 | H18: =E18/D18*100 -> 16.4865 | I18: =G18/F18*100 -> 17.105521 | J18: =D18/F18 -> 32.824427 | K18: =E18/G18 -> 31.636563 | M18: =E18*$L$26 -> 1.6198884e+09 | N18: =(M18-M17)/M17*100 -> -7.4934204 | O18: =(M18-M14)/M14*100 -> 11.181067 | R18: =R17+1 -> 2007 | S18: =SUM(M27:M30) -> 9.10094e+09 | T18: =(S18-S17)/S17*100 -> 13.615066
A19: ='GOS Durban'!A19 -> 2005q1 | B19: 39679.286 | C19: 242968.68 | D19: ='GOS Durban'!D19 -> 1.651561e+11 | E19: ='GOS Durban'!E19 -> 2.7386172e+10 | F19: 4690209425 | G19: 774740717 | H19: =E19/D19*100 -> 16.581993 | I19: =G19/F19*100 -> 16.518254 | J19: =D19/F19 -> 35.212948 | K19: =E19/G19 -> 35.348823 | L19: =M31/E31 -> 0.063044421 | M19: =E19*$L$26 -> 1.6971513e+09 | N19: =(M19-M18)/M18*100 -> 4.7696464 | O19: =(M19-M15)/M15*100 -> 10.756148 | R19: =R18+1 -> 2008 | S19: =SUM(M31:M34) -> 1.0855329e+10 | T19: =(S19-S18)/S18*100 -> 19.27701
A20: ='GOS Durban'!A20 -> 2005q2 | B20: 39679.286 | C20: 242968.68 | D20: ='GOS Durban'!D20 -> 175843999000 | E20: ='GOS Durban'!E20 -> 2.8973225e+10 | F20: 4760343407 | G20: 805551748 | H20: =E20/D20*100 -> 16.476664 | I20: =G20/F20*100 -> 16.922135 | J20: =D20/F20 -> 36.939352 | K20: =E20/G20 -> 35.966932 | L20: =M32/E32 -> 0.068349777 | M20: =E20*$L$26 -> 1.7955027e+09 | N20: =(M20-M19)/M19*100 -> 5.7950881 | O20: =(M20-M16)/M16*100 -> 8.6658523 | R20: =R19+1 -> 2009 | S20: =SUM(M35:M38) -> 1.0103058e+10 | T20: =(S20-S19)/S19*100 -> -6.9299737
A21: ='GOS Durban'!A21 -> 2005q3 | B21: 39679.286 | C21: 242968.68 | D21: ='GOS Durban'!D21 -> 184694949000 | E21: ='GOS Durban'!E21 -> 3.0666297e+10 | F21: 4824982237 | G21: 802738840 | H21: =E21/D21*100 -> 16.603755 | I21: =G21/F21*100 -> 16.637136 | J21: =D21/F21 -> 38.278887 | K21: =E21/G21 -> 38.202084 | L21: =M33/E33 -> 0.067743762 | M21: =E21*$L$26 -> 1.9004242e+09 | N21: =(M21-M20)/M20*100 -> 5.843573 | O21: =(M21-M17)/M17*100 -> 8.5270749 | R21: =R20+1 -> 2010 | S21: =SUM(M39:M42) -> 1.1761677e+10 | T21: =(S21-S20)/S20*100 -> 16.417006
A22: ='GOS Durban'!A22 -> 2005q4 | B22: 39679.286 | C22: 242968.68 | D22: ='GOS Durban'!D22 -> 176353849000 | E22: ='GOS Durban'!E22 -> 2.8944489e+10 | F22: 5011501336 | G22: 832010091 | H22: =E22/D22*100 -> 16.412735 | I22: =G22/F22*100 -> 16.602013 | J22: =D22/F22 -> 35.189824 | K22: =E22/G22 -> 34.788628 | L22: =M34/E34 -> 0.062659759 | M22: =E22*$L$26 -> 1.7937219e+09 | N22: =(M22-M21)/M21*100 -> -5.6146576 | O22: =(M22-M18)/M18*100 -> 10.731206 | R22: =R21+1 -> 2011 | S22: =SUM(M43:M46) -> 1.2316203e+10 | T22: =(S22-S21)/S21*100 -> 4.714682
A23: ='GOS Durban'!A23 -> 2006q1 | B23: 39679.286 | C23: 242968.68 | D23: ='GOS Durban'!D23 -> 181177750000 | E23: ='GOS Durban'!E23 -> 2.9702039e+10 | F23: 4675546289 | G23: 750919883 | H23: =E23/D23*100 -> 16.393867 | I23: =G23/F23*100 -> 16.060581 | J23: =D23/F23 -> 38.750071 | K23: =E23/G23 -> 39.554205 | L23: =M35/E35 -> 0.05623937 | M23: =E23*$L$26 -> 1.8406681e+09 | N23: =(M23-M22)/M22*100 -> 2.6172515 | O23: =(M23-M19)/M19*100 -> 8.4563366 | R23: =R22+1 -> 2012 | S23: =SUM(M47:M50) -> 1.2779736e+10 | T23: =(S23-S22)/S22*100 -> 3.7636075
A24: ='GOS Durban'!A24 -> 2006q2 | B24: 39679.286 | C24: 242968.68 | D24: ='GOS Durban'!D24 -> 193375750000 | E24: ='GOS Durban'!E24 -> 3.1710226e+10 | F24: 4859349229 | G24: 811777848 | H24: =E24/D24*100 -> 16.398244 | I24: =G24/F24*100 -> 16.705485 | J24: =D24/F24 -> 39.794578 | K24: =E24/G24 -> 39.06269 | L24: =M36/E36 -> 0.056442926 | M24: =E24*$L$26 -> 1.9651177e+09 | N24: =(M24-M23)/M23*100 -> 6.7611085 | O24: =(M24-M20)/M20*100 -> 9.446657 | R24: =R23+1 -> 2013 | S24: =SUM(M51:M54) -> 1.3737231e+10 | T24: =(S24-S23)/S23*100 -> 7.4922862
A25: ='GOS Durban'!A25 -> 2006q3 | B25: 39679.286 | C25: 242968.68 | D25: ='GOS Durban'!D25 -> 216043950000 | E25: ='GOS Durban'!E25 -> 3.5101363e+10 | F25: 4906222423 | G25: 827883368 | H25: =E25/D25*100 -> 16.247325 | I25: =G25/F25*100 -> 16.874151 | J25: =D25/F25 -> 44.034683 | K25: =E25/G25 -> 42.398923 | L25: 0.059317703 | M25: =E25*$L$26 -> 2.1752702e+09 | N25: =(M25-M24)/M24*100 -> 10.694142 | O25: =(M25-M21)/M21*100 -> 14.462347
A26: ='GOS Durban'!A26 -> 2006q4 | B26: 39679.286 | C26: 242968.68 | D26: ='GOS Durban'!D26 -> 204168650000 | E26: ='GOS Durban'!E26 -> 3.2745463e+10 | F26: 5280826192 | G26: 873224453 | H26: =E26/D26*100 -> 16.038438 | I26: =G26/F26*100 -> 16.535754 | J26: =D26/F26 -> 38.662255 | K26: =E26/G26 -> 37.49948 | L26: =AVERAGE(L19:L25) -> 0.061971103 | M26: =E26*$L$26 -> 2.0292725e+09 | N26: =(M26-M25)/M25*100 -> -6.7117045 | O26: =(M26-M22)/M22*100 -> 13.131944 | Q26: =M26/E26 -> 0.061971103
A27: ='GOS Durban'!A27 -> 2007q1 | B27: 39679.286 | C27: 242968.68 | D27: ='GOS Durban'!D27 -> 217528410000 | E27: ='GOS Durban'!E27 -> 3.5072137e+10 | F27: 5154329343 | G27: 833477953 | H27: =E27/D27*100 -> 16.123014 | I27: =G27/F27*100 -> 16.170444 | J27: =D27/F27 -> 42.203048 | K27: =E27/G27 -> 42.079262 | M27: =E27*$L$26 -> 2.173459e+09 | N27: =(M27-M26)/M26*100 -> 7.1053308 | O27: =(M27-M23)/M23*100 -> 18.079895 | Q27: =M27/E27 -> 0.061971103
A28: ='GOS Durban'!A28 -> 2007q2 | B28: 39679.286 | C28: 242968.68 | D28: ='GOS Durban'!D28 -> 2.2534455e+11 | E28: ='GOS Durban'!E28 -> 3.6869266e+10 | F28: 5056692012 | G28: 821281896 | H28: =E28/D28*100 -> 16.361286 | I28: =G28/F28*100 -> 16.241485 | J28: =D28/F28 -> 44.56363 | K28: =E28/G28 -> 44.89234 | M28: =E28*$L$26 -> 2.2848291e+09 | N28: =(M28-M27)/M27*100 -> 5.1240935 | O28: =(M28-M24)/M24*100 -> 16.269324 | Q28: =M28/E28 -> 0.061971103
A29: ='GOS Durban'!A29 -> 2007q3 | B29: 39679.286 | C29: 242968.68 | D29: ='GOS Durban'!D29 -> 237205450000 | E29: ='GOS Durban'!E29 -> 3.8410488e+10 | F29: 5400223668 | G29: 898105429 | H29: =E29/D29*100 -> 16.19292 | I29: =G29/F29*100 -> 16.630893 | J29: =D29/F29 -> 43.925116 | K29: =E29/G29 -> 42.768351 | M29: =E29*$L$26 -> 2.3803403e+09 | N29: =(M29-M28)/M28*100 -> 4.1802361 | O29: =(M29-M25)/M25*100 -> 9.427341 | Q29: =M29/E29 -> 0.061971103
A30: ='GOS Durban'!A30 -> 2007q4 | B30: 39679.286 | C30: 242968.68 | D30: ='GOS Durban'!D30 -> 2.2961683e+11 | E30: ='GOS Durban'!E30 -> 3.6505912e+10 | F30: 5579296845 | G30: 902642355 | H30: =E30/D30*100 -> 15.898622 | I30: =G30/F30*100 -> 16.178425 | J30: =D30/F30 -> 41.155156 | K30: =E30/G30 -> 40.443384 | M30: =E30*$L$26 -> 2.2623116e+09 | N30: =(M30-M29)/M29*100 -> -4.9584805 | O30: =(M30-M26)/M26*100 -> 11.483876 | Q30: =M30/E30 -> 0.061971103
A31: ='GOS Durban'!A31 -> 2008q1 | B31: 39679.286 | C31: 242968.68 | D31: ='GOS Durban'!D31 -> 242697907000 | E31: ='GOS Durban'!E31 -> 3.8889265e+10 | F31: 5543646776 | G31: 903654581 | H31: =E31/D31*100 -> 16.023733 | I31: =G31/F31*100 -> 16.300724 | J31: =D31/F31 -> 43.779468 | K31: =E31/G31 -> 43.035542 | L31: 56970380 | M31: =L31*K31 -> 2.4517512e+09 | N31: =(M31-M30)/M30*100 -> 8.3737174 | O31: =(M31-M27)/M27*100 -> 12.804115 | Q31: =M31/E31 -> 0.063044421
A32: ='GOS Durban'!A32 -> 2008q2 | B32: 39679.286 | C32: 242968.68 | D32: ='GOS Durban'!D32 -> 2.6494191e+11 | E32: ='GOS Durban'!E32 -> 4.290374e+10 | F32: 5265926862 | G32: 890416751 | H32: =E32/D32*100 -> 16.19364 | I32: =G32/F32*100 -> 16.909022 | J32: =D32/F32 -> 50.312493 | K32: =E32/G32 -> 48.183887 | L32: 60859786 | M32: =L32*K32 -> 2.9324611e+09 | N32: =(M32-M31)/M31*100 -> 19.606797 | O32: =(M32-M28)/M28*100 -> 28.344878 | Q32: =M32/E32 -> 0.068349777
A33: ='GOS Durban'!A33 -> 2008q3 | B33: 39679.286 | C33: 242968.68 | D33: ='GOS Durban'!D33 -> 2.7360038e+11 | E33: ='GOS Durban'!E33 -> 4.3757364e+10 | F33: 5202135900 | G33: 869415812 | H33: =E33/D33*100 -> 15.993166 | I33: =G33/F33*100 -> 16.71267 | J33: =D33/F33 -> 52.593854 | K33: =E33/G33 -> 50.329616 | L33: 58897498 | M33: =L33*K33 -> 2.9642884e+09 | N33: =(M33-M32)/M32*100 -> 1.0853469 | O33: =(M33-M29)/M29*100 -> 24.532128 | Q33: =M33/E33 -> 0.067743762
A34: ='GOS Durban'!A34 -> 2008q4 | B34: 39679.286 | C34: 242968.68 | D34: ='GOS Durban'!D34 -> 2.5463609e+11 | E34: ='GOS Durban'!E34 -> 4.000699e+10 | F34: 5460259824 | G34: 899391940 | H34: =E34/D34*100 -> 15.711438 | I34: =G34/F34*100 -> 16.471596 | J34: =D34/F34 -> 46.634426 | K34: =E34/G34 -> 44.482265 | L34: 56355682 | M34: =L34*K34 -> 2.5068284e+09 | N34: =(M34-M33)/M33*100 -> -15.432374 | O34: =(M34-M30)/M30*100 -> 10.808271 | Q34: =M34/E34 -> 0.062659759
A35: ='GOS Durban'!A35 -> 2009q1 | B35: 39679.286 | C35: 242968.68 | D35: ='GOS Durban'!D35 -> 2.6567679e+11 | E35: ='GOS Durban'!E35 -> 4.2606843e+10 | F35: 5206564996 | G35: 842784368 | H35: =E35/D35*100 -> 16.037097 | I35: =G35/F35*100 -> 16.186956 | J35: =D35/F35 -> 51.027268 | K35: =E35/G35 -> 50.554857 | L35: 47397662 | M35: =L35*K35 -> 2.396182e+09 | N35: =(M35-M34)/M34*100 -> -4.4137981 | O35: =(M35-M31)/M31*100 -> -2.2665086 | Q35: =M35/E35 -> 0.05623937
A36: ='GOS Durban'!A36 -> 2009q2 | B36: 39679.286 | C36: 242968.68 | D36: ='GOS Durban'!D36 -> 282054913000 | E36: ='GOS Durban'!E36 -> 4.5836137e+10 | F36: 4994646966 | G36: 831381344 | H36: =E36/D36*100 -> 16.250785 | I36: =G36/F36*100 -> 16.645448 | J36: =D36/F36 -> 56.471441 | K36: =E36/G36 -> 55.132506 | L36: 46925596 | M36: =L36*K36 -> 2.5871257e+09 | N36: =(M36-M35)/M35*100 -> 7.9686634 | O36: =(M36-M32)/M32*100 -> -11.776298 | Q36: =M36/E36 -> 0.056442926
A37: ='GOS Durban'!A37 -> 2009q3 | B37: 39679.286 | C37: 242968.68 | D37: ='GOS Durban'!D37 -> 2.8172654e+11 | E37: ='GOS Durban'!E37 -> 4.4685032e+10 | F37: 5002707417 | G37: 835393434 | H37: =E37/D37*100 -> 15.861136 | I37: =G37/F37*100 -> 16.698827 | J37: =D37/F37 -> 56.314815 | K37: =E37/G37 -> 53.489805 | L37: 49355219 | M37: =L37*K37 -> 2.640001e+09 | N37: =(M37-M36)/M36*100 -> 2.0437862 | O37: =(M37-M33)/M33*100 -> -10.939806 | Q37: =M37/E37 -> 0.059080209
A38: ='GOS Durban'!A38 -> 2009q4 | B38: 39679.286 | C38: 242968.68 | D38: ='GOS Durban'!D38 -> 267222109000 | E38: ='GOS Durban'!E38 -> 4.1823203e+10 | F38: 5074816265 | G38: 901763015 | H38: =E38/D38*100 -> 15.651101 | I38: =G38/F38*100 -> 17.769373 | J38: =D38/F38 -> 52.656509 | K38: =E38/G38 -> 46.379373 | L38: 53466632 | M38: =L38*K38 -> 2.4797488e+09 | N38: =(M38-M37)/M37*100 -> -6.0701559 | O38: =(M38-M34)/M34*100 -> -1.0802305 | Q38: =M38/E38 -> 0.059291223
A39: ='GOS Durban'!A39 -> 2010q1 | B39: 39679.286 | C39: 242968.68 | D39: ='GOS Durban'!D39 -> 282406332000 | E39: ='GOS Durban'!E39 -> 4.5300036e+10 | M39: =E39*Q39 -> 2.7369511e+09 | N39: =(M39-M38)/M38*100 -> 10.372109 | O39: =(M39-M35)/M35*100 -> 14.221335 | Q39: =(Q27+Q31+Q35)/3 -> 0.060418298
A40: ='GOS Durban'!A40 -> 2010q2 | B40: 39679.286 | C40: 242968.68 | D40: ='GOS Durban'!D40 -> 314801409000 | E40: ='GOS Durban'!E40 -> 5.0786982e+10 | M40: =E40*Q40 -> 3.1617234e+09 | N40: =(M40-M39)/M39*100 -> 15.519906 | O40: =(M40-M36)/M36*100 -> 22.209885 | Q40: =(Q28+Q32+Q36)/3 -> 0.062254602
A41: ='GOS Durban'!A41 -> 2010q3 | B41: 39679.286 | C41: 242968.68 | D41: ='GOS Durban'!D41 -> 309965532000 | E41: ='GOS Durban'!E41 -> 4.8179903e+10 | M41: =E41*Q41 -> 3.0320428e+09 | N41: =(M41-M40)/M40*100 -> -4.1015786 | O41: =(M41-M37)/M37*100 -> 14.850061 | Q41: =(Q29+Q33+Q37)/3 -> 0.062931691
A42: ='GOS Durban'!A42 -> 2010q4 | B42: 39679.286 | C42: 242968.68 | D42: ='GOS Durban'!D42 -> 303177919000 | E42: ='GOS Durban'!E42 -> 4.6176509e+10 | M42: =E42*Q42 -> 2.8309599e+09 | N42: =(M42-M41)/M41*100 -> -6.6319267 | O42: =(M42-M38)/M38*100 -> 14.163172 | Q42: =(Q30+Q34+Q38)/3 -> 0.061307361
A43: ='GOS Durban'!A43 -> 2011q1 | B43: 39679.286 | C43: 242968.68 | D43: ='GOS Durban'!D43 -> 303878345000 | E43: ='GOS Durban'!E43 -> 4.6881002e+10 | M43: =E43*Q43 -> 2.8082047e+09 | N43: =(M43-M42)/M42*100 -> -0.80380002 | O43: =(M43-M39)/M39*100 -> 2.6033921 | Q43: =(Q31+Q35+Q39)/3 -> 0.059900696
A44: ='GOS Durban'!A44 -> 2011q2 | B44: 39679.286 | C44: 242968.68 | D44: ='GOS Durban'!D44 -> 330940066000 | E44: ='GOS Durban'!E44 -> 5.1896559e+10 | M44: =E44*Q44 -> 3.2357038e+09 | N44: =(M44-M43)/M43*100 -> 15.223219 | O44: =(M44-M40)/M40*100 -> 2.3398782 | Q44: =(Q32+Q36+Q40)/3 -> 0.062349102
A45: ='GOS Durban'!A45 -> 2011q3 | B45: 39679.286 | C45: 242968.68 | D45: ='GOS Durban'!D45 -> 338374473000 | E45: ='GOS Durban'!E45 -> 5.1775023e+10 | M45: =E45*Q45 -> 3.2748679e+09 | N45: =(M45-M44)/M44*100 -> 1.2103731 | O45: =(M45-M41)/M41*100 -> 8.0086314 | Q45: =(Q33+Q37+Q41)/3 -> 0.063251888
A46: ='GOS Durban'!A46 -> 2011q4 | B46: 39679.286 | C46: 242968.68 | D46: ='GOS Durban'!D46 -> 327243627000 | E46: ='GOS Durban'!E46 -> 4.9068867e+10 | M46: =E46*Q46 -> 2.9974264e+09 | N46: =(M46-M45)/M45*100 -> -8.4718372 | O46: =(M46-M42)/M42*100 -> 5.8802142 | Q46: =(Q34+Q38+Q42)/3 -> 0.061086114
A47: ='GOS Durban'!A47 -> 2012q1 | B47: 39679.286 | C47: 242968.68 | D47: ='GOS Durban'!D47 -> 3.2630683e+11 | E47: ='GOS Durban'!E47 -> 5.0306037e+10 | M47: =E47*Q47 -> 2.9606505e+09 | N47: =(M47-M46)/M46*100 -> -1.2269158 | O47: =(M47-M43)/M43*100 -> 5.4285881 | Q47: =(Q35+Q39+Q43)/3 -> 0.058852788
A48: ='GOS Durban'!A48 -> 2012q2 | B48: 39679.286 | C48: 242968.68 | D48: ='GOS Durban'!D48 -> 353579676000 | E48: ='GOS Durban'!E48 -> 5.5943467e+10 | M48: =E48*Q48 -> 3.3761254e+09 | N48: =(M48-M47)/M47*100 -> 14.033229 | O48: =(M48-M44)/M44*100 -> 4.3397535 | Q48: =(Q36+Q40+Q44)/3 -> 0.060348877
A49: ='GOS Durban'!A49 -> 2012q3 | B49: 39679.286 | C49: 242968.68 | D49: ='GOS Durban'!D49 -> 352137430000 | E49: ='GOS Durban'!E49 -> 5.4101374e+10 | M49: =E49*Q49 -> 3.3410085e+09 | N49: =(M49-M48)/M48*100 -> -1.040153 | O49: =(M49-M45)/M45*100 -> 2.0196421 | Q49: =(Q37+Q41+Q45)/3 -> 0.061754596
A50: ='GOS Durban'!A50 -> 2012q4 | B50: 39679.286 | C50: 242968.68 | D50: ='GOS Durban'!D50 -> 336635393000 | E50: ='GOS Durban'!E50 -> 5.121981e+10 | M50: =E50*Q50 -> 3.1019519e+09 | N50: =(M50-M49)/M49*100 -> -7.1552229 | O50: =(M50-M46)/M46*100 -> 3.4871742 | Q50: =(Q38+Q42+Q46)/3 -> 0.060561566
... A55: ='GOS Durban'!A55 -> 2014q1 | B55: 39679.286 | C55: 242968.68 | D55: ='GOS Durban'!D55 -> 3.7573828e+11 | E55: ='GOS Durban'!E55 -> 5.7589744e+10 | M55: =E55*Q55 -> 3.4261562e+09 | N55: =(M55-M54)/M54*100 -> 4.360783 | O55: =(M55-M51)/M51*100 -> 7.4852727 | Q55: =(Q43+Q47+Q51)/3 -> 0.059492471

Sheet GOS Port Shepstone
D1: Hibiscus Coast Municipal Area GOS
C2: SA GDP | D2: SA Quarterly GOS | E2: KZN Quarterly GOS | F2: SA Fuel Consumption | G2: KZN Fuel Consumption | H2: KZN GDP Ratio | I2: KZN Fuel Ratio | J2: SA Usage | K2: KZN Usage | L2: PS Fuel Usage | M2: Port Shepstone Quarterly GOS | N2: Port Shepstone Quarterly Rate | O2: Port Shepstone Annual Rate
A3: 2001g1 | B3: 37676.736 | C3: 228114.65 | D3: ='GOS Durban'!D3 -> 105984228000 | E3: ='GOS Durban'!E3 -> 1.7410491e+10
A4: 2001g2 | B4: 39785.999 | C4: 237077.62 | D4: ='GOS Durban'!D4 -> 115470571000 | E4: ='GOS Durban'!E4 -> 1.9474828e+10
A5: 2001g3 | B5: 40039.788 | C5: 239764.67 | D5: ='GOS Durban'!D5 -> 116423083000 | E5: ='GOS Durban'!E5 -> 1.9469147e+10
A6: 2001g4 | B6: 40074.592 | C6: 242416.26 | D6: ='GOS Durban'!D6 -> 1.1534172e+11 | E6: ='GOS Durban'!E6 -> 1.9075263e+10
A7: 2002g1 | B7: 38164.554 | C7: 234422.23 | D7: ='GOS Durban'!D7 -> 120724220000 | E7: ='GOS Durban'!E7 -> 1.952682e+10 | F7: 4118958622 | G7: 674878797 | H7: =E7/D7*100 -> 16.174733 | I7: =G7/F7*100 -> 16.384695 | J7: =D7/F7 -> 29.309403 | K7: =E7/G7 -> 28.933818 | M7: =E7*$L$26 -> 5.9629902e+08
A8: 2002g2 | B8: 40899.51 | C8: 246692 | D8: ='GOS Durban'!D8 -> 1.3655771e+11 | E8: ='GOS Durban'!E8 -> 2.2919803e+10 | F8: 4128329079 | G8: 697677279 | H8: =E8/D8*100 -> 16.783968 | I8: =G8/F8*100 -> 16.89975 | J8: =D8/F8 -> 33.078204 | K8: =E8/G8 -> 32.851583 | M8: =E8*$L$26 -> 6.99912e+08 | N8: =(M8-M7)/M7*100 -> 17.376011
A9: 2002g3 | B9: 40843.516 | C9: 248774.74 | D9: ='GOS Durban'!D9 -> 140796350000 | E9: ='GOS Durban'!E9 -> 2.3199951e+10 | F9: 4479766142 | G9: 748604188 | H9: =E9/D9*100 -> 16.477665 | I9: =G9/F9*100 -> 16.710787 | J9: =D9/F9 -> 31.429397 | K9: =E9/G9 -> 30.990944 | M9: =E9*$L$26 -> 7.08467e+08 | N9: =(M9-M8)/M8*100 -> 1.2222961
A10: 2002g4 | B10: 41049.653 | C10: 252232.95 | D10: ='GOS Durban'!D10 -> 138753900000 | E10: ='GOS Durban'!E10 -> 2.2631385e+10 | F10: 4393645140 | G10: 741841930 | H10: =E10/D10*100 -> 16.310449 | I10: =G10/F10*100 -> 16.88443 | J10: =D10/F10 -> 31.580589 | K10: =E10/G10 -> 30.507017 | M10: =E10*$L$26 -> 6.9110445e+08 | N10: =(M10-M9)/M9*100 -> -2.4507211
A11: ='GOS Durban'!A11 -> 2003q1 | B11: 39679.286 | C11: 242968.68 | D11: ='GOS Durban'!D11 -> 138160610000 | E11: ='GOS Durban'!E11 -> 2.2704416e+10 | F11: 4.3245102e+09 | G11: 7.3345414e+08 | H11: =E11/D11*100 -> 16.43335 | I11: =G11/F11*100 -> 16.960398 | J11: =D11/F11 -> 31.948268 | K11: =E11/G11 -> 30.955468 | M11: =E11*$L$26 -> 6.9333464e+08 | N11: =(M11-M10)/M10*100 -> 0.32269876 | O11: =(M11-M7)/M7*100 -> 16.272979 | R11: Yearly Growth Rate %
A12: ='GOS Durban'!A12 -> 2003q2 | B12: 39679.286 | C12: 242968.68 | D12: ='GOS Durban'!D12 -> 147486400000 | E12: ='GOS Durban'!E12 -> 2.5164663e+10 | F12: 4.3448327e+09 | G12: 7.3310499e+08 | H12: =E12/D12*100 -> 17.062362 | I12: =G12/F12*100 -> 16.873032 | J12: =D12/F12 -> 33.945243 | K12: =E12/G12 -> 34.326138 | M12: =E12*$L$26 -> 7.6846428e+08 | N12: =(M12-M11)/M11*100 -> 10.835986 | O12: =(M12-M8)/M8*100 -> 9.7944141 | R12: 2001
A13: ='GOS Durban'!A13 -> 2003q3 | B13: 39679.286 | C13: 242968.68 | D13: ='GOS Durban'!D13 -> 148659800000 | E13: ='GOS Durban'!E13 -> 2.4905523e+10 | F13: 4.469508e+09 | G13: 7.5596579e+08 | H13: =E13/D13*100 -> 16.753367 | I13: =G13/F13*100 -> 16.913848 | J13: =D13/F13 -> 33.260887 | K13: =E13/G13 -> 32.945304 | M13: =E13*$L$26 -> 7.6055079e+08 | N13: =(M13-M12)/M12*100 -> -1.0297804 | O13: =(M13-M9)/M9*100 -> 7.3516181 | R13: =R12+1 -> 2002 | S13: =SUM(M7:M10) -> 2.6957825e+09
A14: ='GOS Durban'!A14 -> 2003q4 | B14: 39679.286 | C14: 242968.68 | D14: ='GOS Durban'!D14 -> 141854990000 | E14: ='GOS Durban'!E14 -> 2.3510671e+10 | F14: 4.7924549e+09 | G14: 792421454 | H14: =E14/D14*100 -> 16.573736 | I14: =G14/F14*100 -> 16.534771 | J14: =D14/F14 -> 29.599651 | K14: =E14/G14 -> 29.669402 | M14: =E14*$L$26 -> 7.179556e+08 | N14: =(M14-M13)/M13*100 -> -5.6005715 | O14: =(M14-M10)/M10*100 -> 3.8852518 | R14: =R13+1 -> 2003 | S14: =SUM(M11:M14) -> 2.9403053e+09 | T14: =(S14-S13)/S13*100 -> 9.0705698
A15: ='GOS Durban'!A15 -> 2004q1 | B15: 39679.286 | C15: 242968.68 | D15: ='GOS Durban'!D15 -> 1.497847e+11 | E15: ='GOS Durban'!E15 -> 2.4726548e+10 | F15: 4.4993406e+09 | G15: 7.3594163e+08 | H15: =E15/D15*100 -> 16.50806 | I15: =G15/F15*100 -> 16.356655 | J15: =D15/F15 -> 33.290367 | K15: =E15/G15 -> 33.598518 | M15: =E15*$L$26 -> 7.5508538e+08 | N15: =(M15-M14)/M14*100 -> 5.171598 | O15: =(M15-M11)/M11*100 -> 8.90634 | R15: =R14+1 -> 2004 | S15: =SUM(M15:M18) -> 3.2304166e+09 | T15: =(S15-S14)/S14*100 -> 9.8667053
A16: ='GOS Durban'!A16 -> 2004q2 | B16: 39679.286 | C16: 242968.68 | D16: ='GOS Durban'!D16 -> 157415710000 | E16: ='GOS Durban'!E16 -> 2.6662677e+10 | F16: 4.5436772e+09 | G16: 7.6518177e+08 | H16: =E16/D16*100 -> 16.937748 | I16: =G16/F16*100 -> 16.840584 | J16: =D16/F16 -> 34.645003 | K16: =E16/G16 -> 34.844893 | M16: =E16*$L$26 -> 8.1420978e+08 | N16: =(M16-M15)/M15*100 -> 7.8301613 | O16: =(M16-M12)/M12*100 -> 5.952846 | R16: =R15+1 -> 2005 | S16: =SUM(M19:M22) -> 3.541432e+09 | T16: =(S16-S15)/S15*100 -> 9.6277191
A17: ='GOS Durban'!A17 -> 2004q3 | B17: 39679.286 | C17: 242968.68 | D17: ='GOS Durban'!D17 -> 1.6789527e+11 | E17: ='GOS Durban'!E17 -> 2.8256817e+10 | F17: 4.7754909e+09 | G17: 7.9366597e+08 | H17: =E17/D17*100 -> 16.830026 | I17: =G17/F17*100 -> 16.619568 | J17: =D17/F17 -> 35.157699 | K17: =E17/G17 -> 35.602908 | M17: =E17*$L$26 -> 8.6289072e+08 | N17: =(M17-M16)/M16*100 -> 5.9789189 | O17: =(M17-M13)/M13*100 -> 13.456029 | R17: =R16+1 -> 2006 | S17: =SUM(M23:M26) -> 3.9472412e+09 | T17: =(S17-S16)/S16*100 -> 11.458901
A18: ='GOS Durban'!A18 -> 2004q4 | B18: 39679.286 | C18: 242968.68 | D18: ='GOS Durban'!D18 -> 1.5855042e+11 | E18: ='GOS Durban'!E18 -> 2.6139415e+10 | F18: 4.830257e+09 | G18: 826240651 | H18: =E18/D18*100 -> 16.4865 | I18: =G18/F18*100 -> 17.105521 | J18: =D18/F18 -> 32.824427 | K18: =E18/G18 -> 31.636563 | M18: =E18*$L$26 -> 7.9823069e+08 | N18: =(M18-M17)/M17*100 -> -7.4934204 | O18: =(M18-M14)/M14*100 -> 11.181067 | R18: =R17+1 -> 2007 | S18: =SUM(M27:M30) -> 4.4846607e+09 | T18: =(S18-S17)/S17*100 -> 13.615066
A19: ='GOS Durban'!A19 -> 2005q1 | B19: 39679.286 | C19: 242968.68 | D19: ='GOS Durban'!D19 -> 1.651561e+11 | E19: ='GOS Durban'!E19 -> 2.7386172e+10 | F19: 4690209425 | G19: 774740717 | H19: =E19/D19*100 -> 16.581993 | I19: =G19/F19*100 -> 16.518254 | J19: =D19/F19 -> 35.212948 | K19: =E19/G19 -> 35.348823 | L19: =M31/E31 -> 0.029382039 | M19: =E19*$L$26 -> 8.3630347e+08 | N19: =(M19-M18)/M18*100 -> 4.7696464 | O19: =(M19-M15)/M15*100 -> 10.756148 | R19: =R18+1 -> 2008 | S19: =SUM(M31:M34) -> 4.8949967e+09 | T19: =(S19-S18)/S18*100 -> 9.1497673
A20: ='GOS Durban'!A20 -> 2005q2 | B20: 39679.286 | C20: 242968.68 | D20: ='GOS Durban'!D20 -> 175843999000 | E20: ='GOS Durban'!E20 -> 2.8973225e+10 | F20: 4760343407 | G20: 805551748 | H20: =E20/D20*100 -> 16.476664 | I20: =G20/F20*100 -> 16.922135 | J20: =D20/F20 -> 36.939352 | K20: =E20/G20 -> 35.966932 | L20: =M32/E32 -> 0.028210021 | M20: =E20*$L$26 -> 8.84768e+08 | N20: =(M20-M19)/M19*100 -> 5.7950881 | O20: =(M20-M16)/M16*100 -> 8.6658523 | R20: =R19+1 -> 2009 | S20: =SUM(M35:M38) -> 5.5302615e+09 | T20: =(S20-S19)/S19*100 -> 12.977839
A21: ='GOS Durban'!A21 -> 2005q3 | B21: 39679.286 | C21: 242968.68 | D21: ='GOS Durban'!D21 -> 184694949000 | E21: ='GOS Durban'!E21 -> 3.0666297e+10 | F21: 4824982237 | G21: 802738840 | H21: =E21/D21*100 -> 16.603755 | I21: =G21/F21*100 -> 16.637136 | J21: =D21/F21 -> 38.278887 | K21: =E21/G21 -> 38.202084 | L21: =M33/E33 -> 0.028348993 | M21: =E21*$L$26 -> 9.3647006e+08 | N21: =(M21-M20)/M20*100 -> 5.843573 | O21: =(M21-M17)/M17*100 -> 8.5270749 | R21: =R20+1 -> 2010 | S21: =SUM(M39:M42) -> 5.8222795e+09 | T21: =(S21-S20)/S20*100 -> 5.2803645
A22: ='GOS Durban'!A22 -> 2005q4 | B22: 39679.286 | C22: 242968.68 | D22: ='GOS Durban'!D22 -> 176353849000 | E22: ='GOS Durban'!E22 -> 2.8944489e+10 | F22: 5011501336 | G22: 832010091 | H22: =E22/D22*100 -> 16.412735 | I22: =G22/F22*100 -> 16.602013 | J22: =D22/F22 -> 35.189824 | K22: =E22/G22 -> 34.788628 | L22: =M34/E34 -> 0.032533269 | M22: =E22*$L$26 -> 8.8389047e+08 | N22: =(M22-M21)/M21*100 -> -5.6146576 | O22: =(M22-M18)/M18*100 -> 10.731206 | R22: =R21+1 -> 2011 | S22: =SUM(M43:M46) -> 6.1058236e+09 | T22: =(S22-S21)/S21*100 -> 4.869985
A23: ='GOS Durban'!A23 -> 2006q1 | B23: 39679.286 | C23: 242968.68 | D23: ='GOS Durban'!D23 -> 181177750000 | E23: ='GOS Durban'!E23 -> 2.9702039e+10 | F23: 4675546289 | G23: 750919883 | H23: =E23/D23*100 -> 16.393867 | I23: =G23/F23*100 -> 16.060581 | J23: =D23/F23 -> 38.750071 | K23: =E23/G23 -> 39.554205 | L23: =M35/E35 -> 0.032067124 | M23: =E23*$L$26 -> 9.0702411e+08 | N23: =(M23-M22)/M22*100 -> 2.6172515 | O23: =(M23-M19)/M19*100 -> 8.4563366 | R23: =R22+1 -> 2012 | S23: =SUM(M47:M50) -> 6.5418452e+09 | T23: =(S23-S22)/S22*100 -> 7.141077
A24: ='GOS Durban'!A24 -> 2006q2 | B24: 39679.286 | C24: 242968.68 | D24: ='GOS Durban'!D24 -> 193375750000 | E24: ='GOS Durban'!E24 -> 3.1710226e+10 | F24: 4859349229 | G24: 811777848 | H24: =E24/D24*100 -> 16.398244 | I24: =G24/F24*100 -> 16.705485 | J24: =D24/F24 -> 39.794578 | K24: =E24/G24 -> 39.06269 | L24: =M36/E36 -> 0.031738317 | M24: =E24*$L$26 -> 9.6834899e+08 | N24: =(M24-M23)/M23*100 -> 6.7611085 | O24: =(M24-M20)/M20*100 -> 9.446657 | R24: =R23+1 -> 2013 | S24: =SUM(M51:M54) -> 6.8789896e+09 | T24: =(S24-S23)/S23*100 -> 5.1536598
A25: ='GOS Durban'!A25 -> 2006q3 | B25: 39679.286 | C25: 242968.68 | D25: ='GOS Durban'!D25 -> 216043950000 | E25: ='GOS Durban'!E25 -> 3.5101363e+10 | F25: 4906222423 | G25: 827883368 | H25: =E25/D25*100 -> 16.247325 | I25: =G25/F25*100 -> 16.874151 | J25: =D25/F25 -> 44.034683 | K25: =E25/G25 -> 42.398923 | L25: =L37/G37 -> 0.031482285 | M25: =E25*$L$26 -> 1.0719056e+09 | N25: =(M25-M24)/M24*100 -> 10.694142 | O25: =(M25-M21)/M21*100 -> 14.462347
A26: ='GOS Durban'!A26 -> 2006q4 | B26: 39679.286 | C26: 242968.68 | D26: ='GOS Durban'!D26 -> 204168650000 | E26: ='GOS Durban'!E26 -> 3.2745463e+10 | F26: 5280826192 | G26: 873224453 | H26: =E26/D26*100 -> 16.038438 | I26: =G26/F26*100 -> 16.535754 | J26: =D26/F26 -> 38.662255 | K26: =E26/G26 -> 37.49948 | L26: =AVERAGE(L19:L25) -> 0.030537435 | M26: =E26*$L$26 -> 9.9996247e+08 | N26: =(M26-M25)/M25*100 -> -6.7117045 | O26: =(M26-M22)/M22*100 -> 13.131944 | Q26: =M26/E26 -> 0.030537435
A27: ='GOS Durban'!A27 -> 2007q1 | B27: 39679.286 | C27: 242968.68 | D27: ='GOS Durban'!D27 -> 217528410000 | E27: ='GOS Durban'!E27 -> 3.5072137e+10 | F27: 5154329343 | G27: 833477953 | H27: =E27/D27*100 -> 16.123014 | I27: =G27/F27*100 -> 16.170444 | J27: =D27/F27 -> 42.203048 | K27: =E27/G27 -> 42.079262 | M27: =E27*$L$26 -> 1.0710131e+09 | N27: =(M27-M26)/M26*100 -> 7.1053308 | O27: =(M27-M23)/M23*100 -> 18.079895 | Q27: =M27/E27 -> 0.030537435
A28: ='GOS Durban'!A28 -> 2007q2 | B28: 39679.286 | C28: 242968.68 | D28: ='GOS Durban'!D28 -> 2.2534455e+11 | E28: ='GOS Durban'!E28 -> 3.6869266e+10 | F28: 5056692012 | G28: 821281896 | H28: =E28/D28*100 -> 16.361286 | I28: =G28/F28*100 -> 16.241485 | J28: =D28/F28 -> 44.56363 | K28: =E28/G28 -> 44.89234 | M28: =E28*$L$26 -> 1.1258928e+09 | N28: =(M28-M27)/M27*100 -> 5.1240935 | O28: =(M28-M24)/M24*100 -> 16.269324 | Q28: =M28/E28 -> 0.030537435
A29: ='GOS Durban'!A29 -> 2007q3 | B29: 39679.286 | C29: 242968.68 | D29: ='GOS Durban'!D29 -> 237205450000 | E29: ='GOS Durban'!E29 -> 3.8410488e+10 | F29: 5400223668 | G29: 898105429 | H29: =E29/D29*100 -> 16.19292 | I29: =G29/F29*100 -> 16.630893 | J29: =D29/F29 -> 43.925116 | K29: =E29/G29 -> 42.768351 | M29: =E29*$L$26 -> 1.1729578e+09 | N29: =(M29-M28)/M28*100 -> 4.1802361 | O29: =(M29-M25)/M25*100 -> 9.427341 | Q29: =M29/E29 -> 0.030537435
A30: ='GOS Durban'!A30 -> 2007q4 | B30: 39679.286 | C30: 242968.68 | D30: ='GOS Durban'!D30 -> 2.2961683e+11 | E30: ='GOS Durban'!E30 -> 3.6505912e+10 | F30: 5579296845 | G30: 902642355 | H30: =E30/D30*100 -> 15.898622 | I30: =G30/F30*100 -> 16.178425 | J30: =D30/F30 -> 41.155156 | K30: =E30/G30 -> 40.443384 | M30: =E30*$L$26 -> 1.1147969e+09 | N30: =(M30-M29)/M29*100 -> -4.9584805 | O30: =(M30-M26)/M26*100 -> 11.483876 | Q30: =M30/E30 -> 0.030537435
A31: ='GOS Durban'!A31 -> 2008q1 | B31: 39679.286 | C31: 242968.68 | D31: ='GOS Durban'!D31 -> 242697907000 | E31: ='GOS Durban'!E31 -> 3.8889265e+10 | F31: 5543646776 | G31: 903654581 | H31: =E31/D31*100 -> 16.023733 | I31: =G31/F31*100 -> 16.300724 | J31: =D31/F31 -> 43.779468 | K31: =E31/G31 -> 43.035542 | L31: 26551214 | M31: =L31*K31 -> 1.1426459e+09 | N31: =(M31-M30)/M30*100 -> 2.4981198 | O31: =(M31-M27)/M27*100 -> 6.6883187 | Q31: =M31/E31 -> 0.029382039
A32: ='GOS Durban'!A32 -> 2008q2 | B32: 39679.286 | C32: 242968.68 | D32: ='GOS Durban'!D32 -> 2.6494191e+11 | E32: ='GOS Durban'!E32 -> 4.290374e+10 | F32: 5265926862 | G32: 890416751 | H32: =E32/D32*100 -> 16.19364 | I32: =G32/F32*100 -> 16.909022 | J32: =D32/F32 -> 50.312493 | K32: =E32/G32 -> 48.183887 | L32: 25118675 | M32: =L32*K32 -> 1.2103154e+09 | N32: =(M32-M31)/M31*100 -> 5.9221776 | O32: =(M32-M28)/M28*100 -> 7.4982781 | Q32: =M32/E32 -> 0.028210021
A33: ='GOS Durban'!A33 -> 2008q3 | B33: 39679.286 | C33: 242968.68 | D33: ='GOS Durban'!D33 -> 2.7360038e+11 | E33: ='GOS Durban'!E33 -> 4.3757364e+10 | F33: 5202135900 | G33: 869415812 | H33: =E33/D33*100 -> 15.993166 | I33: =G33/F33*100 -> 16.71267 | J33: =D33/F33 -> 52.593854 | K33: =E33/G33 -> 50.329616 | L33: 24647063 | M33: =L33*K33 -> 1.2404772e+09 | N33: =(M33-M32)/M32*100 -> 2.4920616 | O33: =(M33-M29)/M29*100 -> 5.7563369 | Q33: =M33/E33 -> 0.028348993
A34: ='GOS Durban'!A34 -> 2008q4 | B34: 39679.286 | C34: 242968.68 | D34: ='GOS Durban'!D34 -> 2.5463609e+11 | E34: ='GOS Durban'!E34 -> 4.000699e+10 | F34: 5460259824 | G34: 899391940 | H34: =E34/D34*100 -> 15.711438 | I34: =G34/F34*100 -> 16.471596 | J34: =D34/F34 -> 46.634426 | K34: =E34/G34 -> 44.482265 | L34: 29260160 | M34: =L34*K34 -> 1.3015582e+09 | N34: =(M34-M33)/M33*100 -> 4.9239903 | O34: =(M34-M30)/M30*100 -> 16.75294 | Q34: =M34/E34 -> 0.032533269
A35: ='GOS Durban'!A35 -> 2009q1 | B35: 39679.286 | C35: 242968.68 | D35: ='GOS Durban'!D35 -> 2.6567679e+11 | E35: ='GOS Durban'!E35 -> 4.2606843e+10 | F35: 5206564996 | G35: 842784368 | H35: =E35/D35*100 -> 16.037097 | I35: =G35/F35*100 -> 16.186956 | J35: =D35/F35 -> 51.027268 | K35: =E35/G35 -> 50.554857 | L35: 27025671 | M35: =L35*K35 -> 1.3662789e+09 | N35: =(M35-M34)/M34*100 -> 4.972559 | O35: =(M35-M31)/M31*100 -> 19.57151 | Q35: =M35/E35 -> 0.032067124
