Workbook

Sheet cover page
J2: TIME USE SURVEY
A3: Click on the Variable Links to view Data and Statistics | J3: 2010
A5: Clink on to view cover page
E10: INCOME | N10: ASSETS
H18: EXPENDITURE ON ITEM
E26: EXPENDITURE | N26: TIME USE

Sheet Income
I1: INCOME
A2: 2005
A3: Number of People per Source of Income
A4: Province | B4: Wage/salary/piecework pay/commission | C4: Earnings from own business or farm | D4: State old age pension or disability | E4: Child support / foster care grant | F4: Other state welfare grants | G4: Private Pensions | H4: Unemployment Insurance Fund | I4: Investments | J4: Remittance from people outside the household | K4: Private maintenance (from ex-spouse or father of children) | L4: Income from other sources; specify | M4: Total
A7: Western Cape | B7: 2342558 | C7: 295293 | D7: 595599 | E7: 227293 | F7: 18174 | G7: 114957 | H7: 10744 | I7: 32592 | J7: 99136 | K7: 38244 | L7: 38594 | M7: =SUM(B7:L7) -> 3813184
A8: Eastern Cape | B8: 1786555 | C8: 362150 | D8: 1036343 | E8: 933119 | F8: 29184 | G8: 112802 | H8: 18235 | I8: 13576 | J8: 377186 | K8: 21844 | L8: 6811 | M8: =SUM(B8:L8) -> 4697805
A9: Northern Cape | B9: 382217 | C9: 44292 | D9: 176078 | E9: 133733 | F9: 1462 | G9: 22107 | H9: 2157 | I9: 2471 | J9: 46716 | K9: 7868 | L9: 3869 | M9: =SUM(B9:L9) -> 822970
A10: Free State | B10: 864882 | C10: 141523 | D10: 301720 | E10: 237196 | F10: 20557 | G10: 48581 | H10: 3111 | I10: 2901 | J10: 175383 | K10: 14478 | L10: 11760 | M10: =SUM(B10:L10) -> 1822092
A11: KwaZulu-Natal | B11: 3420776 | C11: 503414 | D11: 1362048 | E11: 1100214 | F11: 11952 | G11: 114659 | H11: 10696 | I11: 21921 | J11: 651299 | K11: 61552 | L11: 24675 | M11: =SUM(B11:L11) -> 7283206
A12: North West | B12: 1058446 | C12: 212057 | D12: 400436 | E12: 293078 | F12: 18670 | G12: 52365 | H12: 6891 | I12: 3665 | J12: 150286 | K12: 8280 | L12: 8757 | M12: =SUM(B12:L12) -> 2212931
A13: Gauteng | B13: 4769683 | C13: 1209615 | D13: 828531 | E13: 558076 | F13: 30466 | G13: 246073 | H13: 34081 | I13: 48297 | J13: 479765 | K13: 47311 | L13: 77114 | M13: =SUM(B13:L13) -> 8329012
A14: Mpumalanga | B14: 1216972 | C14: 249479 | D14: 329491 | E14: 359362 | F14: 12988 | G14: 30997 | H14: 6416 | I14: 3640 | J14: 277383 | K14: 18494 | L14: 52858 | M14: =SUM(B14:L14) -> 2558080
A15: Limpopo | B15: 1007272 | C15: 235047 | D15: 536293 | E15: 496565 | F15: 3524 | G15: 22950 | H15: 3571 | I15: 16394 | J15: 432567 | K15: 4063 | L15: 7602 | M15: =SUM(B15:L15) -> 2765848
A17: Total | B17: =SUM(B7:B15) -> 16849361 | C17: =SUM(C7:C15) -> 3252870 | D17: =SUM(D7:D15) -> 5566539 | E17: =SUM(E7:E15) -> 4338636 | F17: =SUM(F7:F15) -> 146977 | G17: =SUM(G7:G15) -> 765491 | H17: =SUM(H7:H15) -> 95902 | I17: =SUM(I7:I15) -> 145457 | ... L17: =SUM(L7:L15) -> 232040 | M17: =SUM(B17:L17) -> 34305128
I20: INCOME
A21: 2010
A22: =A3 -> Number of People per Source of Income
A23: Province | B23: Salaries/wages/commission | C23: Earnings from own business or farm | D23: State old age or disability grant | E23: Child support/foster care/care dependency grant | F23: Other state welfare grants | G23: Private pensions (including ex-government employees) | H23: Unemployment insurance fund | I23: Investments | J23: Remittance from people outside the household | K23: Private maintenance (from ex-spouse or father of children) | L23: Income from other sources; specify | M23: Total
A25: Western Cape | B25: 2912451 | C25: 349547 | D25: 458370 | E25: 125659 | F25: 3550 | G25: 151947 | H25: 17758 | I25: 27475 | J25: 72255 | K25: 10502 | L25: 29465 | M25: =SUM(B25:L25) -> 4158979
A26: Eastern Cape | B26: 1943633 | C26: 347215 | D26: 1544328 | E26: 806621 | F26: 20989 | G26: 135917 | H26: 6245 | I26: 7309 | J26: 404081 | K26: 14532 | L26: 6999 | M26: =SUM(B26:L26) -> 5237869
A27: Northern Cape | B27: 444506 | C27: 42998 | D27: 241021 | E27: 81152 | F27: 3401 | G27: 22779 | H27: 1525 | I27: 3000 | J27: 52957 | K27: 1784 | L27: 2119 | M27: =SUM(B27:L27) -> 897242
A28: Free State | B28: 1116336 | C28: 119267 | D28: 561517 | E28: 209530 | F28: 9064 | G28: 81809 | H28: 2302 | I28: 6011 | J28: 157539 | K28: 16431 | L28: 10748 | M28: =SUM(B28:L28) -> 2290554
A29: KwaZulu-Natal | B29: 4014704 | C29: 557902 | D29: 2000289 | E29: 812396 | F29: 7281 | G29: 131108 | H29: 25766 | I29: 22840 | J29: 683874 | K29: 6551 | L29: 8029 | M29: =SUM(B29:L29) -> 8270740
A30: North West | B30: 1232353 | C30: 177485 | D30: 526552 | E30: 260476 | F30: 12524 | G30: 71867 | H30: 3975 | I30: 4320 | J30: 149688 | K30: 3945 | L30: 6489 | M30: =SUM(B30:L30) -> 2449674
A31: Gauteng | B31: 6059828 | C31: 1087378 | D31: 660984 | E31: 345854 | F31: 83645 | G31: 252982 | H31: 26024 | I31: 43109 | J31: 322918 | K31: 15315 | L31: 68567 | M31: =SUM(B31:L31) -> 8966604
A32: Mpumalanga | B32: 1445738 | C32: 224865 | D32: 510695 | E32: 295937 | F32: 14145 | G32: 26063 | H32: 4462 | I32: 5719 | J32: 295826 | K32: 5550 | L32: 17099 | M32: =SUM(B32:L32) -> 2846099
A33: Limpopo | B33: 1483195 | C33: 277263 | D33: 1158675 | E33: 652283 | F33: 6591 | G33: 43422 | H33: 9459 | I33: 10720 | J33: 545881 | K33: 9384 | L33: 8680 | M33: =SUM(B33:L33) -> 4205553
A35: Total | B35: =SUM(B25:B33) -> 20652744 | C35: =SUM(C25:C33) -> 3183920 | D35: =SUM(D25:D33) -> 7662431 | E35: =SUM(E25:E33) -> 3589908 | F35: =SUM(F25:F33) -> 161190 | G35: =SUM(G25:G33) -> 917894 | H35: =SUM(H25:H33) -> 97516 | I35: =SUM(I25:I33) -> 130503 | ... M35: =SUM(M25:M33) -> 39323314
I37: INCOME
A39: =A2 -> 2005
A40: Main Source of Income Per Person
A41: Province | B41: Wage/salary/piecework pay/commission | C41: Earnings from own business or farm | D41: State old age pension or disability | E41: Child support / foster care grant | F41: Other state welfare grants | G41: Private Pensions | H41: Unemployment Insurance Fund | I41: Investments | J41: Remittance from people outside the household | K41: Private maintenance (from ex-spouse or father of children) | L41: Income from other sources; specify | M41: Total
A44: Western Cape | B44: =B7/$M7*100 -> 61.433123 | C44: =C7/$M7*100 -> 7.7440008 | D44: =D7/$M7*100 -> 15.619467 | E44: =E7/$M7*100 -> 5.9607142 | F44: =F7/$M7*100 -> 0.47660957 | G44: =G7/$M7*100 -> 3.0147247 | H44: =H7/$M7*100 -> 0.28175929 | I44: =I7/$M7*100 -> 0.85471879 | ... M44: =M7/$M7*100 -> 100
A45: Eastern Cape | B45: =B8/$M8*100 -> 38.029569 | C45: =C8/$M8*100 -> 7.7089194 | D45: =D8/$M8*100 -> 22.060154 | E45: =E8/$M8*100 -> 19.862872 | F45: =F8/$M8*100 -> 0.6212263 | G45: =G8/$M8*100 -> 2.4011639 | H45: =H8/$M8*100 -> 0.38816 | I45: =I8/$M8*100 -> 0.28898603 | ... M45: =M8/$M8*100 -> 100
A46: Northern Cape | B46: =B9/$M9*100 -> 46.443613 | C46: =C9/$M9*100 -> 5.3819702 | D46: =D9/$M9*100 -> 21.395434 | E46: =E9/$M9*100 -> 16.250046 | F46: =F9/$M9*100 -> 0.17764925 | G46: =G9/$M9*100 -> 2.6862462 | H46: =H9/$M9*100 -> 0.26209947 | I46: =I9/$M9*100 -> 0.30025396 | ... M46: =M9/$M9*100 -> 100
A47: Free State | B47: =B10/$M10*100 -> 47.466429 | C47: =C10/$M10*100 -> 7.7670612 | D47: =D10/$M10*100 -> 16.558988 | E47: =E10/$M10*100 -> 13.017784 | F47: =F10/$M10*100 -> 1.1282087 | G47: =G10/$M10*100 -> 2.666221 | H47: =H10/$M10*100 -> 0.17073781 | I47: =I10/$M10*100 -> 0.1592126 | ... M47: =M10/$M10*100 -> 100
A48: KwaZulu-Natal | B48: =B11/$M11*100 -> 46.967997 | C48: =C11/$M11*100 -> 6.9119835 | D48: =D11/$M11*100 -> 18.701215 | E48: =E11/$M11*100 -> 15.106177 | F48: =F11/$M11*100 -> 0.16410356 | G48: =G11/$M11*100 -> 1.574293 | H48: =H11/$M11*100 -> 0.1468584 | I48: =I11/$M11*100 -> 0.30098009 | ... M48: =M11/$M11*100 -> 100
A49: North West | B49: =B12/$M12*100 -> 47.83005 | C49: =C12/$M12*100 -> 9.5826305 | D49: =D12/$M12*100 -> 18.095277 | E49: =E12/$M12*100 -> 13.243883 | F49: =F12/$M12*100 -> 0.84367746 | G49: =G12/$M12*100 -> 2.3663187 | H49: =H12/$M12*100 -> 0.31139697 | I49: =I12/$M12*100 -> 0.16561745 | ... M49: =M12/$M12*100 -> 100
A50: Gauteng | B50: =B13/$M13*100 -> 57.265892 | C50: =C13/$M13*100 -> 14.522911 | D50: =D13/$M13*100 -> 9.9475304 | E50: =E13/$M13*100 -> 6.7003866 | F50: =F13/$M13*100 -> 0.36578168 | G50: =G13/$M13*100 -> 2.954408 | H50: =H13/$M13*100 -> 0.40918419 | I50: =I13/$M13*100 -> 0.57986469 | ... M50: =M13/$M13*100 -> 100
A51: Mpumalanga | B51: =B14/$M14*100 -> 47.573649 | C51: =C14/$M14*100 -> 9.7525879 | D51: =D14/$M14*100 -> 12.880402 | E51: =E14/$M14*100 -> 14.048114 | F51: =F14/$M14*100 -> 0.50772454 | G51: =G14/$M14*100 -> 1.2117291 | H51: =H14/$M14*100 -> 0.25081311 | I51: =I14/$M14*100 -> 0.14229422 | ... M51: =M14/$M14*100 -> 100
...

Sheet monthly income
E1: INCOME
A3: 2005
A4: Monthly Income Per Person
A5: Province | B5: None | C5: R1 - R200 | D5: R201 - R500 | E5: R501 - R1 000 | F5: R1 001 - R1 500 | G5: R1 501 - R2 500 | H5: R2 501 - R3 500 | I5: R3 501 - R4 500 | J5: R4 501 - R6 000 | K5: R6 001 - R8 000 | L5: R8 001 - R11 000 | M5: R11 001 or more | N5: Do not know | O5: Refuse | P5: Total
A8: Western Cape | B8: 1099 | C8: 143405 | D8: 387850 | E8: 267438 | F8: 883787 | G8: 472476 | H8: 294546 | I8: 303844 | J8: 218871 | K8: 198765 | L8: 182265 | M8: 312233 | N8: 156611 | O8: 299345 | P8: =SUM(B8:O8) -> 4122535
A9: Eastern Cape | B9: 26188 | C9: 411932 | D9: 1325789 | E9: 689820 | F9: 1353547 | G9: 353668 | H9: 193507 | I9: 139078 | J9: 201734 | K9: 175618 | L9: 138125 | M9: 130104 | N9: 6362 | O9: 58434 | P9: =SUM(B9:O9) -> 5203906
A10: Northern Cape | B10: 0 | C10: 29067 | D10: 156915 | E10: 109559 | F10: 279625 | G10: 70027 | H10: 42143 | I10: 32692 | J10: 46743 | K10: 29634 | L10: 35487 | M10: 37014 | N10: 313 | O10: 19538 | P10: =SUM(B10:O10) -> 888757
A11: Free State | B11: 21660 | C11: 319259 | D11: 482354 | E11: 274574 | F11: 506946 | G11: 195398 | H11: 103248 | I11: 80381 | J11: 65873 | K11: 48712 | L11: 52927 | M11: 106987 | N11: 4202 | O11: 10681 | P11: =SUM(B11:O11) -> 2273202
A12: KwaZulu-Natal | B12: 47573 | C12: 302391 | D12: 1727469 | E12: 1184112 | F12: 2107247 | G12: 765447 | H12: 422381 | I12: 284089 | J12: 274106 | K12: 306195 | L12: 270501 | M12: 281210 | N12: 22169 | O12: 211237 | P12: =SUM(B12:O12) -> 8206127
A13: North West | B13: 14879 | C13: 143315 | D13: 437982 | E13: 276436 | F13: 591708 | G13: 235410 | H13: 106884 | I13: 159880 | J13: 138352 | K13: 84233 | L13: 75212 | M13: 113672 | N13: 0 | O13: 11397 | P13: =SUM(B13:O13) -> 2389360
A14: Gauteng | B14: 41535 | C14: 179182 | D14: 923142 | E14: 1012008 | F14: 1443385 | G14: 1059022 | H14: 763741 | I14: 759146 | J14: 548936 | K14: 473731 | L14: 491845 | M14: 836132 | N14: 70297 | O14: 272398 | P14: =SUM(B14:O14) -> 8874500
A15: Mpumalanga | B15: 6085 | C15: 219416 | D15: 585734 | E15: 363409 | F15: 604243 | G15: 305150 | H15: 150535 | I15: 133422 | J15: 99543 | K15: 86136 | L15: 92183 | M15: 147005 | N15: 0 | O15: 2749 | P15: =SUM(B15:O15) -> 2795610
A16: Limpopo | B16: 85528 | C16: 657481 | D16: 1088063 | E16: 592353 | F16: 858681 | G16: 276200 | H16: 150202 | I16: 136218 | J16: 129241 | K16: 51457 | L16: 56164 | M16: 77799 | N16: 15131 | O16: 15859 | P16: =SUM(B16:O16) -> 4190377
A18: Total | B18: =SUM(B8:B16) -> 244547 | C18: =SUM(C8:C16) -> 2405448 | D18: =SUM(D8:D16) -> 7115298 | E18: =SUM(E8:E16) -> 4769709 | F18: =SUM(F8:F16) -> 8629169 | G18: =SUM(G8:G16) -> 3732798 | H18: =SUM(H8:H16) -> 2227187 | I18: =SUM(I8:I16) -> 2028750 | ... P18: =SUM(P8:P16) -> 38944374
E21: INCOME
A22: 2010
A23: Monthly Income Per Household
A24: Province | B24: None | C24: R1 - R200 | D24: R201 - R500 | E24: R501 - R1 000 | F24: R1 001 - R1 500 | G24: R1 501 - R2 500 | H24: R2 501 - R3 500 | I24: R3 501 - R4 500 | J24: R4 501 - R6 000 | K24: R6 001 - R8 000 | L24: R8 001 - R11 000 | M24: R11 001 or more | N24: Do not know | O24: Refuse | P24: Total
A26: Western Cape | B26: 1966 | C26: 6230 | D26: 61133 | E26: 146542 | F26: 367293 | G26: 526273 | H26: 450561 | I26: 403262 | J26: 377733 | K26: 260422 | L26: 233035 | M26: 905433 | N26: 166564 | O26: 252532 | P26: =SUM(B26:O26) -> 4158979
A27: Eastern Cape | B27: 0 | C27: 47764 | D27: 347194 | E27: 629852 | F27: 1050399 | G27: 1172312 | H27: 525002 | I27: 300706 | J27: 225901 | K27: 184646 | L27: 256579 | M27: 436467 | N27: 14439 | O27: 46608 | P27: =SUM(B27:O27) -> 5237869
A28: Northern Cape | B28: 0 | C28: 4597 | D28: 42007 | E28: 49660 | F28: 176404 | G28: 173532 | H28: 106861 | I28: 65074 | J28: 56819 | K28: 40816 | L28: 55300 | M28: 97012 | N28: 8764 | O28: 20396 | P28: =SUM(B28:O28) -> 897242
A29: Free State | B29: 0 | C29: 14767 | D29: 162103 | E29: 221914 | F29: 402706 | G29: 504651 | H29: 205909 | I29: 184210 | J29: 143308 | K29: 100072 | L29: 78431 | M29: 234351 | N29: 15430 | O29: 22701 | P29: =SUM(B29:O29) -> 2290553
A30: KwaZulu-Natal | B30: 1655 | C30: 48583 | D30: 441739 | E30: 825413 | F30: 1564143 | G30: 1599536 | H30: 945241 | I30: 548481 | J30: 469416 | K30: 386140 | L30: 432015 | M30: 686186 | N30: 60452 | O30: 261742 | P30: =SUM(B30:O30) -> 8270742
A31: North West | B31: 561 | C31: 15366 | D31: 158294 | E31: 249099 | F31: 433412 | G31: 455835 | H31: 250381 | I31: 239350 | J31: 161850 | K31: 98597 | L31: 94519 | M31: 240841 | N31: 42441 | O31: 9128 | P31: =SUM(B31:O31) -> 2449674
A32: Gauteng | B32: 6968 | C32: 72339 | D32: 248232 | E32: 596053 | F32: 913605 | G32: 958339 | H32: 723190 | I32: 997807 | J32: 762140 | K32: 669515 | L32: 737977 | M32: 1615595 | N32: 405960 | O32: 258883 | P32: =SUM(B32:O32) -> 8966603
A33: Mpumalanga | B33: 2745 | C33: 22198 | D33: 157084 | E33: 300629 | F33: 524233 | G33: 542868 | H33: 304173 | I33: 261895 | J33: 170914 | K33: 109256 | L33: 147473 | M33: 287679 | N33: 11465 | O33: 3489 | P33: =SUM(B33:O33) -> 2846101
A34: Limpopo | B34: 3851 | C34: 34612 | D34: 400577 | E34: 641095 | F34: 979853 | G34: 793936 | H34: 374481 | I34: 273925 | J34: 233608 | K34: 121630 | L34: 121983 | M34: 177913 | N34: 30635 | O34: 17453 | P34: =SUM(B34:O34) -> 4205552
A36: Total | B36: =SUM(B26:B34) -> 17746 | C36: =SUM(C26:C34) -> 266456 | D36: =SUM(D26:D34) -> 2018363 | E36: =SUM(E26:E34) -> 3660257 | F36: =SUM(F26:F34) -> 6412048 | G36: =SUM(G26:G34) -> 6727282 | H36: =SUM(H26:H34) -> 3885799 | I36: =SUM(I26:I34) -> 3274710 | ... P36: =SUM(P26:P34) -> 39323315
E39: INCOME
A40: 2005
A41: Monthly Income Per Person
A42: Province | B42: None | C42: R1 - R200 | D42: R201 - R500 | E42: R501 - R1 000 | F42: R1 001 - R1 500 | G42: R1 501 - R2 500 | H42: R2 501 - R3 500 | I42: R3 501 - R4 500 | J42: R4 501 - R6 000 | K42: R6 001 - R8 000 | L42: R8 001 - R11 000 | M42: R11 001 or more | N42: Do not know | O42: Refuse | P42: Total
A45: Western Cape | B45: ='monthly income'!B8/'monthly income'!$P8*100 -> 0.026658355 | C45: ='monthly income'!C8/'monthly income'!$P8*100 -> 3.4785636 | D45: ='monthly income'!D8/'monthly income'!$P8*100 -> 9.4080463 | E45: ='monthly income'!E8/'monthly income'!$P8*100 -> 6.4872221 | F45: ='monthly income'!F8/'monthly income'!$P8*100 -> 21.43795 | G45: ='monthly income'!G8/'monthly income'!$P8*100 -> 11.460812 | H45: ='monthly income'!H8/'monthly income'!$P8*100 -> 7.1447786 | I45: ='monthly income'!I8/'monthly income'!$P8*100 -> 7.3703195 | ... P45: ='monthly income'!P8/'monthly income'!$P8*100 -> 100
A46: Eastern Cape | B46: ='monthly income'!B9/'monthly income'!$P9*100 -> 0.50323738 | C46: ='monthly income'!C9/'monthly income'!$P9*100 -> 7.9158232 | D46: ='monthly income'!D9/'monthly income'!$P9*100 -> 25.476805 | E46: ='monthly income'!E9/'monthly income'!$P9*100 -> 13.255812 | F46: ='monthly income'!F9/'monthly income'!$P9*100 -> 26.010212 | G46: ='monthly income'!G9/'monthly income'!$P9*100 -> 6.7962027 | H46: ='monthly income'!H9/'monthly income'!$P9*100 -> 3.7184953 | I46: ='monthly income'!I9/'monthly income'!$P9*100 -> 2.6725694 | ... P46: ='monthly income'!P9/'monthly income'!$P9*100 -> 100
A47: Northern Cape | B47: ='monthly income'!B10/'monthly income'!$P10*100 -> 0 | C47: ='monthly income'!C10/'monthly income'!$P10*100 -> 3.2705228 | D47: ='monthly income'!D10/'monthly income'!$P10*100 -> 17.655557 | E47: ='monthly income'!E10/'monthly income'!$P10*100 -> 12.327217 | F47: ='monthly income'!F10/'monthly income'!$P10*100 -> 31.462481 | G47: ='monthly income'!G10/'monthly income'!$P10*100 -> 7.8792066 | H47: ='monthly income'!H10/'monthly income'!$P10*100 -> 4.7417911 | I47: ='monthly income'!I10/'monthly income'!$P10*100 -> 3.6783958 | ... P47: ='monthly income'!P10/'monthly income'!$P10*100 -> 100
A48: Free State | B48: ='monthly income'!B11/'monthly income'!$P11*100 -> 0.95284097 | C48: ='monthly income'!C11/'monthly income'!$P11*100 -> 14.044462 | D48: ='monthly income'!D11/'monthly income'!$P11*100 -> 21.219144 | E48: ='monthly income'!E11/'monthly income'!$P11*100 -> 12.078733 | F48: ='monthly income'!F11/'monthly income'!$P11*100 -> 22.300966 | G48: ='monthly income'!G11/'monthly income'!$P11*100 -> 8.5957165 | H48: ='monthly income'!H11/'monthly income'!$P11*100 -> 4.5419633 | I48: ='monthly income'!I11/'monthly income'!$P11*100 -> 3.5360254 | ... P48: ='monthly income'!P11/'monthly income'!$P11*100 -> 100
A49: KwaZulu-Natal | B49: ='monthly income'!B12/'monthly income'!$P12*100 -> 0.57972537 | C49: ='monthly income'!C12/'monthly income'!$P12*100 -> 3.6849418 | D49: ='monthly income'!D12/'monthly income'!$P12*100 -> 21.050966 | E49: ='monthly income'!E12/'monthly income'!$P12*100 -> 14.429609 | F49: ='monthly income'!F12/'monthly income'!$P12*100 -> 25.678947 | G49: ='monthly income'!G12/'monthly income'!$P12*100 -> 9.3277499 | H49: ='monthly income'!H12/'monthly income'!$P12*100 -> 5.1471419 | I49: ='monthly income'!I12/'monthly income'!$P12*100 -> 3.4619133 | ... P49: ='monthly income'!P12/'monthly income'!$P12*100 -> 100
A50: North West | B50: ='monthly income'!B13/'monthly income'!$P13*100 -> 0.62271905 | C50: ='monthly income'!C13/'monthly income'!$P13*100 -> 5.9980497 | D50: ='monthly income'!D13/'monthly income'!$P13*100 -> 18.330515 | E50: ='monthly income'!E13/'monthly income'!$P13*100 -> 11.569458 | F50: ='monthly income'!F13/'monthly income'!$P13*100 -> 24.764288 | G50: ='monthly income'!G13/'monthly income'!$P13*100 -> 9.8524291 | H50: ='monthly income'!H13/'monthly income'!$P13*100 -> 4.4733318 | I50: ='monthly income'!I13/'monthly income'!$P13*100 -> 6.6913316 | ... P50: ='monthly income'!P13/'monthly income'!$P13*100 -> 100
A51: Gauteng | B51: ='monthly income'!B14/'monthly income'!$P14*100 -> 0.46802637 | C51: ='monthly income'!C14/'monthly income'!$P14*100 -> 2.0190659 | D51: ='monthly income'!D14/'monthly income'!$P14*100 -> 10.402186 | E51: ='monthly income'!E14/'monthly income'!$P14*100 -> 11.403549 | F51: ='monthly income'!F14/'monthly income'!$P14*100 -> 16.264409 | G51: ='monthly income'!G14/'monthly income'!$P14*100 -> 11.933315 | H51: ='monthly income'!H14/'monthly income'!$P14*100 -> 8.6060172 | I51: ='monthly income'!I14/'monthly income'!$P14*100 -> 8.5542397 | ... P51: ='monthly income'!P14/'monthly income'!$P14*100 -> 100
A52: Mpumalanga | B52: ='monthly income'!B15/'monthly income'!$P15*100 -> 0.21766269 | C52: ='monthly income'!C15/'monthly income'!$P15*100 -> 7.8485912 | D52: ='monthly income'!D15/'monthly income'!$P15*100 -> 20.951921 | E52: ='monthly income'!E15/'monthly income'!$P15*100 -> 12.999274 | F52: ='monthly income'!F15/'monthly income'!$P15*100 -> 21.613995 | G52: ='monthly income'!G15/'monthly income'!$P15*100 -> 10.915328 | H52: ='monthly income'!H15/'monthly income'!$P15*100 -> 5.3846924 | I52: ='monthly income'!I15/'monthly income'!$P15*100 -> 4.7725541 | ... P52: ='monthly income'!P15/'monthly income'!$P15*100 -> 100
...

Sheet expenditure
A1: EXPENDITURE
A2: 2010/11
A3: COICOP code (Classification of individual consumption according to purpose) in Rands
A4: Province | B4: Consumption | C4: Other Products not Consumption | D4: In kind Consumption | E4: Income | F4: In kind Income | G4: Savings | H4: Taxes | I4: Debts 12 months | J4: Debts outstanding | K4: Transfers to others | L4: Total
A6: Western Cape | B6: 180189065277 | C6: 40431412790 | D6: 4911718041 | E6: 228920486934 | F6: 7128914417 | G6: 26992933372 | H6: 940830213 | I6: 116366547561 | J6: 29820554120 | K6: 4585857683 | L6: =SUM(B6:K6) -> 640288320408
A7: Eastern Cape | B7: 101890773697 | C7: 26390774983 | D7: 3130117613 | E7: 126093743002 | F7: 3718356422 | G7: 10731747566 | H7: 280924245 | I7: 32593257684 | J7: 14822703175 | K7: 2158831086 | L7: =SUM(B7:K7) -> 321811229473
A8: Northern Cape | B8: 18607433148 | C8: 3770548387 | D8: 660087352 | E8: 25348314501 | F8: 734301594 | G8: 2117323656 | H8: 55427401 | I8: 8407681568 | J8: 1028297051 | K8: 408591473 | L8: =SUM(B8:K8) -> 61138006131
A9: Free State | B9: 57627543408 | C9: 11219780147 | D9: 2423286855 | E9: 72559576318 | F9: 4691449327 | G9: 8497219340 | H9: 254091330 | I9: 21727646537 | J9: 12639168775 | K9: 1728582956 | L9: =SUM(B9:K9) -> 193368344993
A10: KwaZulu-Natal | B10: 191968329611 | C10: 49516693288 | D10: 4697712388 | E10: 243197771438 | F10: 6173725951 | G10: 21563533862 | H10: 738264782 | I10: 54958518252 | J10: 30221742447 | K10: 4405908950 | L10: =SUM(B10:K10) -> 607442200969
A11: North West | B11: 75394636538 | C11: 13862962334 | D11: 2028463317 | E11: 98083666450 | F11: 2844281607 | G11: 8552121703 | H11: 380864299 | I11: 43080918195 | J11: 20651182072 | K11: 2083803483 | L11: =SUM(B11:K11) -> 266962899998
A12: Gauteng | B12: 483744075864 | C12: 101186758031 | D12: 15077089108 | E12: 606114293078 | F12: 18382176921 | G12: 85184028790 | H12: 1994015517 | I12: 215312222366 | J12: 94159767321 | K12: 10182716882 | L12: =SUM(B12:K12) -> 1631337143878
A13: Mpumalanga | B13: 68842143727 | C13: 11997668218 | D13: 2170188097 | E13: 87967189288 | F13: 2602721351 | G13: 7434067270 | H13: 335366549 | I13: 19394899744 | J13: 7676816919 | K13: 2231930334 | L13: =SUM(B13:K13) -> 210652991497
A14: Limpopo | B14: 69795585318 | C14: 17120643522 | D14: 1426214010 | E14: 79170279412 | F14: 1997265650 | G14: 11194998121 | H14: 192421658 | I14: 7677942804 | J14: 6785863938 | K14: 1665482289 | L14: =SUM(B14:K14) -> 197026696722
A16: Total | B16: =SUM(B6:B14) -> 1248059586588 | C16: =SUM(C6:C14) -> 275497241700 | D16: =SUM(D6:D14) -> 36524876781 | E16: =SUM(E6:E14) -> 1567455320421 | F16: =SUM(F6:F14) -> 48273193240 | G16: =SUM(G6:G14) -> 182267973680 | H16: =SUM(H6:H14) -> 5172205994 | I16: =SUM(I6:I14) -> 519519634711 | ... L16: =SUM(L6:L14) -> 4130027834069
F18: EXPENDITURE
A19: 2005/06
A20: COICOP code (Classification of individual consumption according to purpose) in Rands
A21: Province | B21: Consumption | C21: Other products not consumption | D21: In kind consumption | E21: Income | F21: In kind Income | G21: Savings | H21: Taxes | I21: Debts | J21: Loss | K21: Transfers to others | L21: Total
A23: Eastern Cape | B23: 67470336956 | C23: 13565194181 | D23: 2049500253 | E23: 82620529411 | F23: 2049500253 | G23: 14235159279 | H23: 5179400771 | I23: 31325543113 | J23: 1673813277 | K23: 3585756938 | L23: =SUM(B23:K23) -> 223754734432
A24: Free State | B24: 45120259500 | C24: 9228760267 | D24: 1535927487 | E24: 54578523802 | F24: 1535927487 | G24: 17374980787 | H24: 3705360585 | I24: 24958521092 | J24: 2342630050 | K24: 2584601640 | L24: =SUM(B24:K24) -> 162965492697
A25: Gauteng | B25: 230588381000 | C25: 48961741094 | D25: 5639310453 | E25: 329649656238 | F25: 5639310453 | G25: 74746668178 | H25: 22836320411 | I25: 161547179427 | J25: 6906877315 | K25: 8704187651 | L25: =SUM(B25:K25) -> 895219632220
A26: KwaZulu-Natal | B26: 98788068868 | C26: 19548302387 | D26: 3059832903 | E26: 129655999357 | F26: 3059832903 | G26: 44251184799 | H26: 7779363637 | I26: 35475452953 | J26: 1207045878 | K26: 4425149217 | L26: =SUM(B26:K26) -> 347250232902
A27: Limpopo | B27: 37768886327 | C27: 6971196109 | D27: 839521995 | E27: 47320623618 | F27: 839521995 | G27: 11559604947 | H27: 2583177714 | I27: 9396029520 | J27: 1284478850 | K27: 2886550643 | L27: =SUM(B27:K27) -> 121449591718
A28: Mpumalanga | B28: 37850238885 | C28: 6579591554 | D28: 797741123 | E28: 47998733118 | F28: 797741123 | G28: 17075062929 | H28: 4514427911 | I28: 16541471078 | J28: 2021613578 | K28: 1965499123 | L28: =SUM(B28:K28) -> 136142120422
A29: North West | B29: 39732967941 | C29: 8129358639 | D29: 1937127121 | E29: 51099555312 | F29: 1937127121 | G29: 11197131624 | H29: 3876274825 | I29: 16583888692 | J29: 637115197 | K29: 2599046580 | L29: =SUM(B29:K29) -> 137729593052
A30: Northern Cape | B30: 11259660470 | C30: 1963669433 | D30: 283638955 | E30: 14576439221 | F30: 283638955 | G30: 2085329006 | H30: 881041892 | I30: 4299610119 | J30: 445073166 | K30: 639403704 | L30: =SUM(B30:K30) -> 36717504921
A31: Western Cape | B31: 130939138139 | C31: 31622697996 | D31: 3152030175 | E31: 171694329835 | F31: 3152030175 | G31: 51326774401 | H31: 17367753870 | I31: 108375419673 | J31: 6397386250 | K31: 2962637722 | L31: =SUM(B31:K31) -> 526990198236
A33: Total | B33: =SUM(B23:B31) -> 699517938086 | C33: =SUM(C23:C31) -> 146570511660 | D33: =SUM(D23:D31) -> 19294630465 | E33: =SUM(E23:E31) -> 929194389912 | F33: =SUM(F23:F31) -> 19294630465 | G33: =SUM(G23:G31) -> 243851895950 | H33: =SUM(H23:H31) -> 68723121616 | I33: =SUM(I23:I31) -> 408503115667 | ... L33: =SUM(L23:L31) -> 2588219100600
F35: EXPENDITURE
A36: 2010/11
A37: COICOP code (Classification of individual consumption according to purpose) in Rands
A38: Province | B38: Consumption | C38: Other Products not Consumption | D38: In kind Consumption | E38: Income | F38: In kind Income | G38: Savings | H38: Taxes | I38: Debts 12 months | J38: Debts outstanding | K38: Transfers to others | L38: Total
A40: Western Cape | B40: =B6/$L6*100 -> 28.141864 | C40: =C6/$L6*100 -> 6.3145635 | D40: =D6/$L6*100 -> 0.76711036 | E40: =E6/$L6*100 -> 35.752719 | F40: =F6/$L6*100 -> 1.1133913 | G40: =G6/$L6*100 -> 4.2157466 | H40: =H6/$L6*100 -> 0.14693852 | I40: =I6/$L6*100 -> 18.174086 | ... K40: =K6/$L6*100 -> 0.71621761 | L40: =SUM(B40:K40) -> 100
A41: Eastern Cape | B41: =B7/$L7*100 -> 31.661659 | C41: =C7/$L7*100 -> 8.2007005 | D41: =D7/$L7*100 -> 0.97265643 | E41: =E7/$L7*100 -> 39.182518 | F41: =F7/$L7*100 -> 1.1554464 | G41: =G7/$L7*100 -> 3.3347959 | H41: =H7/$L7*100 -> 0.08729473 | I41: =I7/$L7*100 -> 10.128067 | ... K41: =K7/$L7*100 -> 0.67083771 | L41: =SUM(B41:K41) -> 100
A42: Northern Cape | B42: =B8/$L8*100 -> 30.435132 | C42: =C8/$L8*100 -> 6.1672741 | D42: =D8/$L8*100 -> 1.0796678 | E42: =E8/$L8*100 -> 41.460813 | F42: =F8/$L8*100 -> 1.2010558 | G42: =G8/$L8*100 -> 3.4631873 | H42: =H8/$L8*100 -> 0.090659484 | I42: =I8/$L8*100 -> 13.751972 | ... K42: =K8/$L8*100 -> 0.66831011 | L42: =SUM(B42:K42) -> 100
A43: Free State | B43: =B9/$L9*100 -> 29.801953 | C43: =C9/$L9*100 -> 5.8022838 | D43: =D9/$L9*100 -> 1.2531973 | E43: =E9/$L9*100 -> 37.52402 | F43: =F9/$L9*100 -> 2.4261724 | G43: =G9/$L9*100 -> 4.3943177 | H43: =H9/$L9*100 -> 0.13140275 | I43: =I9/$L9*100 -> 11.236403 | ... K43: =K9/$L9*100 -> 0.89393275 | L43: =SUM(B43:K43) -> 100
A44: KwaZulu-Natal | B44: =B10/$L10*100 -> 31.602732 | C44: =C10/$L10*100 -> 8.1516716 | D44: =D10/$L10*100 -> 0.77335957 | E44: =E10/$L10*100 -> 40.036364 | F44: =F10/$L10*100 -> 1.0163479 | G44: =G10/$L10*100 -> 3.5498906 | H44: =H10/$L10*100 -> 0.12153663 | I44: =I10/$L10*100 -> 9.0475305 | ... K44: =K10/$L10*100 -> 0.72532151 | L44: =SUM(B44:K44) -> 100
A45: North West | B45: =B11/$L11*100 -> 28.241616 | C45: =C11/$L11*100 -> 5.1928423 | D45: =D11/$L11*100 -> 0.75982967 | E45: =E11/$L11*100 -> 36.740561 | F45: =F11/$L11*100 -> 1.0654221 | G45: =G11/$L11*100 -> 3.203487 | H45: =H11/$L11*100 -> 0.14266563 | I45: =I11/$L11*100 -> 16.137418 | ... K45: =K11/$L11*100 -> 0.7805592 | L45: =SUM(B45:K45) -> 100
A46: Gauteng | B46: =B12/$L12*100 -> 29.653225 | C46: =C12/$L12*100 -> 6.2026883 | D46: =D12/$L12*100 -> 0.92421663 | E46: =E12/$L12*100 -> 37.154447 | F46: =F12/$L12*100 -> 1.1268165 | G46: =G12/$L12*100 -> 5.2217305 | H46: =H12/$L12*100 -> 0.12223197 | I46: =I12/$L12*100 -> 13.198512 | ... K46: =K12/$L12*100 -> 0.62419451 | L46: =SUM(B46:K46) -> 100
A47: Mpumalanga | B47: =B13/$L13*100 -> 32.680354 | C47: =C13/$L13*100 -> 5.6954654 | D47: =D13/$L13*100 -> 1.0302195 | E47: =E13/$L13*100 -> 41.759288 | F47: =F13/$L13*100 -> 1.2355492 | G47: =G13/$L13*100 -> 3.5290585 | H47: =H13/$L13*100 -> 0.15920332 | I47: =I13/$L13*100 -> 9.2070374 | ... K47: =K13/$L13*100 -> 1.0595294 | L47: =SUM(B47:K47) -> 100
...

Sheet expenditure on item
A1: EXPENDITURE ON ITEM
A2: 2010
A3: Main group name In Rands
A4: Province | B4: Food and non-alcoholic beverages | C4: Alcoholic beverages, tobacco and narcotics | D4: Clothing and footwear | E4: Housing, water, electricity, gas and other fuels | F4: Furnishings, househould equipment and routine maintenance of the house | G4: Health | H4: Transport | I4: Communication | J4: Recreation and culture | K4: Education | L4: Restaurants and hotels | M4: Miscellaneous goods and services | N4: Total
A6: Western Cape | B6: 25366627219 | C6: 3386059515 | D6: 7423074937 | E6: 55158913430 | F6: 8300038719 | G6: 3350344985 | H6: 29154129162 | I6: 6079889608 | J6: 7160579628 | K6: 4804028098 | L6: 5310573115 | M6: 24584829117 | N6: =SUM(B6:M6) -> 180079087533
A7: Eastern Cape | B7: 18169199468 | C7: 992230242 | D7: 5250830186 | E7: 33778670657 | F7: 6014262912 | G7: 935619779 | H7: 12289194789 | I7: 2782917804 | J7: 2301554427 | K7: 2075301144 | L7: 1650746211 | M7: 15544740159 | N7: =SUM(B7:M7) -> 101785267778
A8: Northern Cape | B8: 2949177124 | C8: 281338374 | D8: 929003405 | E8: 5429281757 | F8: 1114355445 | G8: 219276105 | H8: 2877585799 | I8: 510441966 | J8: 480043453 | K8: 324994827 | L8: 315563600 | M8: 3166719470 | N8: =SUM(B8:M8) -> 18597781325
A9: Free State | B9: 8003242639 | C9: 1014706821 | D9: 3617864099 | E9: 14738500175 | F9: 4062088240 | G9: 1039117922 | H9: 9212178483 | I9: 1609114376 | J9: 1902903443 | K9: 1481710386 | L9: 1632310926 | M9: 9283815763 | N9: =SUM(B9:M9) -> 57597553273
A10: KwaZulu-Natal | B10: 26564939565 | C10: 1330938880 | D10: 10201883165 | E10: 62502588205 | F10: 8802485880 | G10: 2533296286 | H10: 33322304532 | I10: 5529566753 | J10: 6049703293 | K10: 5790433766 | L10: 3482850815 | M10: 25784243229 | N10: =SUM(B10:M10) -> 191895234369
A11: North West | B11: 12580418472 | C11: 724915271 | D11: 4028153431 | E11: 19278680141 | F11: 4717419759 | G11: 714217042 | H11: 13530377019 | I11: 2383535111 | J11: 2368702317 | K11: 1361575891 | L11: 1664779362 | M11: 11432849570 | N11: =SUM(B11:M11) -> 74785623386
A12: Gauteng | B12: 41144280682 | C12: 4723242541 | D12: 16737709222 | E12: 169884518550 | F12: 21800753933 | G12: 7485763118 | H12: 90491626201 | I12: 13212103475 | J12: 14179503625 | K12: 14794660199 | L12: 13596665778 | M12: 75473711566 | N12: =SUM(B12:M12) -> 483524538890
A13: Mpumalanga | B13: 10343379485 | C13: 674562579 | D13: 3890955801 | E13: 21156194630 | F13: 4281539853 | G13: 999806384 | H13: 11375484194 | I13: 1790296573 | J13: 1913988226 | K13: 1128689944 | L13: 1302955445 | M13: 9756705166 | N13: =SUM(B13:M13) -> 68614558280
A14: Limpopo | B14: 14854360586 | C14: 569116928 | D14: 4089126255 | E14: 18064160678 | F14: 4851395314 | G14: 516593673 | H14: 11724255342 | I14: 1390484785 | J14: 1663595409 | K14: 1593831999 | L14: 1375329583 | M14: 8728026044 | N14: =SUM(B14:M14) -> 69420276596
A16: Total | B16: =SUM(B6:B14) -> 159975625240 | C16: =SUM(C6:C14) -> 13697111151 | D16: =SUM(D6:D14) -> 56168600501 | E16: =SUM(E6:E14) -> 399991508223 | F16: =SUM(F6:F14) -> 63944340055 | G16: =SUM(G6:G14) -> 17794035294 | H16: =SUM(H6:H14) -> 213977135521 | I16: =SUM(I6:I14) -> 35288350451 | ... N16: =SUM(N6:N14) -> 1246299921430
A19: 2010
A20: Main group name In Rands
A21: Province | B21: Food and non-alcoholic beverages | C21: Alcoholic beverages, tobacco and narcotics | D21: Clothing and footwear | E21: Housing, water, electricity, gas and other fuels | F21: Furnishings, househould equipment and routine maintenance of the house | G21: Health | H21: Transport | I21: Communication | J21: Recreation and culture | K21: Education | L21: Restaurants and hotels | M21: Miscellaneous goods and services | N21: Total
A23: Western Cape | B23: =B6/$N6*100 -> 14.086381 | C23: =C6/$N6*100 -> 1.880318 | D23: =D6/$N6*100 -> 4.1221194 | E23: =E6/$N6*100 -> 30.630383 | F23: =F6/$N6*100 -> 4.6091075 | G23: =G6/$N6*100 -> 1.8604853 | H23: =H6/$N6*100 -> 16.189625 | I23: =I6/$N6*100 -> 3.376233 | ... N23: =N6/$N6*100 -> 100
A24: Eastern Cape | B24: =B7/$N7*100 -> 17.85052 | C24: =C7/$N7*100 -> 0.97482697 | D24: =D7/$N7*100 -> 5.158733 | E24: =E7/$N7*100 -> 33.186208 | F24: =F7/$N7*100 -> 5.9087754 | G24: =G7/$N7*100 -> 0.91920943 | H24: =H7/$N7*100 -> 12.073648 | I24: =I7/$N7*100 -> 2.7341067 | ... N24: =N7/$N7*100 -> 100
A25: Northern Cape | B25: =B8/$N8*100 -> 15.857683 | C25: =C8/$N8*100 -> 1.5127523 | D25: =D8/$N8*100 -> 4.9952378 | E25: =E8/$N8*100 -> 29.193169 | F25: =F8/$N8*100 -> 5.991873 | G25: =G8/$N8*100 -> 1.1790444 | H25: =H8/$N8*100 -> 15.472737 | I25: =I8/$N8*100 -> 2.744639 | ... N25: =N8/$N8*100 -> 100
A26: Free State | B26: =B9/$N9*100 -> 13.895109 | C26: =C9/$N9*100 -> 1.7617186 | D26: =D9/$N9*100 -> 6.2812809 | E26: =E9/$N9*100 -> 25.588761 | F26: =F9/$N9*100 -> 7.0525361 | G26: =G9/$N9*100 -> 1.8041008 | H26: =H9/$N9*100 -> 15.994045 | I26: =I9/$N9*100 -> 2.79372 | ... N26: =N9/$N9*100 -> 100
A27: KwaZulu-Natal | B27: =B10/$N10*100 -> 13.84346 | C27: =C10/$N10*100 -> 0.69357579 | D27: =D10/$N10*100 -> 5.3163817 | E27: =E10/$N10*100 -> 32.571204 | F27: =F10/$N10*100 -> 4.5871311 | G27: =G10/$N10*100 -> 1.3201455 | H27: =H10/$N10*100 -> 17.364842 | I27: =I10/$N10*100 -> 2.881555 | ... N27: =N10/$N10*100 -> 100
A28: North West | B28: =B11/$N11*100 -> 16.821974 | C28: =C11/$N11*100 -> 0.96932437 | D28: =D11/$N11*100 -> 5.3862671 | E28: =E11/$N11*100 -> 25.778591 | F28: =F11/$N11*100 -> 6.3079233 | G28: =G11/$N11*100 -> 0.95501917 | H28: =H11/$N11*100 -> 18.092217 | I28: =I11/$N11*100 -> 3.1871568 | ... N28: =N11/$N11*100 -> 100
A29: Gauteng | B29: =B12/$N12*100 -> 8.5092436 | C29: =C12/$N12*100 -> 0.97683616 | D29: =D12/$N12*100 -> 3.4616049 | E29: =E12/$N12*100 -> 35.134622 | F29: =F12/$N12*100 -> 4.5087172 | G29: =G12/$N12*100 -> 1.5481661 | H29: =H12/$N12*100 -> 18.715002 | I29: =I12/$N12*100 -> 2.7324577 | ... N29: =N12/$N12*100 -> 100
A30: Mpumalanga | B30: =B13/$N13*100 -> 15.074614 | C30: =C13/$N13*100 -> 0.98311874 | D30: =D13/$N13*100 -> 5.6707438 | E30: =E13/$N13*100 -> 30.83339 | F30: =F13/$N13*100 -> 6.2399875 | G30: =G13/$N13*100 -> 1.4571345 | H30: =H13/$N13*100 -> 16.57882 | I30: =I13/$N13*100 -> 2.609208 | ... N30: =N13/$N13*100 -> 100
A31: Limpopo | B31: =B14/$N14*100 -> 21.397726 | C31: =C14/$N14*100 -> 0.81981369 | D31: =D14/$N14*100 -> 5.8903918 | E31: =E14/$N14*100 -> 26.021447 | F31: =F14/$N14*100 -> 6.9884413 | G31: =G14/$N14*100 -> 0.74415387 | H31: =H14/$N14*100 -> 16.888805 | I31: =I14/$N14*100 -> 2.0029952 | ... N31: =N14/$N14*100 -> 100
A33: Total | B33: =B16/$N16*100 -> 12.836046 | C33: =C16/$N16*100 -> 1.0990221 | D33: =D16/$N16*100 -> 4.5068285 | E33: =E16/$N16*100 -> 32.094322 | F33: =F16/$N16*100 -> 5.1307345 | G33: =G16/$N16*100 -> 1.4277491 | H33: =H16/$N16*100 -> 17.168992 | I33: =I16/$N16*100 -> 2.8314493 | ... M33: =M16/$N16*100 -> 14.744095

Sheet assets
A1: ASSETS
A2: 2010
A3: Classification of individual consumption according to purpose In Rands
A4: Province | B4: Refrigerators, deep freezers and refrigerator/deep-freeze combinations | C4: Washing machines, dishwashers and tumble dryers | D4: Stoves and ovens, including microwave ovens | E4: Heaters and air conditioners | F4: Vacuum cleaners, polishers and carpet cleaning machines | G4: Sewing machines, over-lockers and knitting machines | H4: Irons | I4: Kettles and percolators, coffee makers | J4: Food mixers, processors and similar accessories | K4: Frying pans and woks | L4: Toaster, waffle pans and sandwich toasters | M4: Other electrical appliances (eg electric blankets, water pumps and fans) specify | N4: Glass and crystal ware, tableware (including household or toilet articles of porcelain, ceramic stoneware, china etc) | O4: Kitchen and domestic utensils | P4: Power driven garden tools | Q4: Power drills | R4: light bulbs | S4: Dry cells | T4: Hand tools (such as screwdrivers) | U4: Garden hand tools (such as spades) | V4: Garden water sprinkler | W4: New motor cars | X4: New bicycles | Y4: Cellular phones | Z4: Telephones, cordless telephones, motor telephones | AA4: Fax machines and telephone answering machines for household purposes | AB4: Radios (including motor car radios) tape recorders, compact disk players and similar equipment) | AC4: Television sets, decoders, video recorders/DVDs | AD4: Aerials and satellite dishes | AE4: Cameras, video cameras, projectors and flashes | AF4: Personal desktop computers (excluding laptops) | AG4: Laptops and palm tops | AH4: Calculators | AI4: Printers/scanners/copiers | AJ4: Modems | AK4: flash disks and portable external hard drives | AL4: TOTAL
A6: Western Cape | B6: 381027906 | C6: 249115620 | D6: 284530527 | E6: 16663025 | F6: 14781701 | G6: 5383671 | H6: 44210346 | I6: 56581163 | J6: 12855456 | K6: 9380781 | L6: 16545457 | M6: 35757599 | N6: 103951610 | O6: 52568736 | P6: 18337853 | Q6: 15569617 | R6: 37472706 | S6: 46721638 | T6: 3999549 | U6: 10677147 | V6: 34288419 | W6: 5848840463 | X6: 6685676 | Y6: 356831549 | Z6: 829439 | AA6: 414016 | AB6: 58816849 | AC6: 706751888 | AD6: 35244141 | AE6: 196822934 | AF6: 286534842 | AG6: 295748063 | AH6: 5429031 | AI6: 23411957 | AJ6: 16936779 | AK6: 9740114 | AL6: =SUM(B6:AK6) -> 9299458268
A7: Eastern Cape | B7: 272052730 | C7: 71198183 | D7: 181701409 | E7: 13341152 | F7: 7025628 | G7: 2941525 | H7: 34711507 | I7: 43893665 | J7: 5489140 | K7: 3326561 | L7: 7152204 | M7: 34632282 | N7: 91673703 | O7: 52570997 | P7: 9239183 | Q7: 8368620 | R7: 13555709 | S7: 16712187 | T7: 3427837 | U7: 6448721 | V7: 1029244 | W7: 1350344987 | X7: 0 | Y7: 289166521 | Z7: 1059189 | AA7: 907877 | AB7: 25354982 | AC7: 347308079 | AD7: 31972994 | AE7: 43691175 | AF7: 60134640 | AG7: 119678568 | AH7: 24174976 | AI7: 5558765 | AJ7: 6515085 | AK7: 3733193 | AL7: =SUM(B7:AK7) -> 3190093218
A8: Northern Cape | B8: 62185541 | C8: 31054002 | D8: 39731661 | E8: 6371052 | F8: 1732842 | G8: 310242 | H8: 8275789 | I8: 7301474 | J8: 1278767 | K8: 1903489 | L8: 1596005 | M8: 2592543 | N8: 16933833 | O8: 2401477 | P8: 1684860 | Q8: 1095482 | R8: 1118925 | S8: 2503961 | T8: 160647 | U8: 1547792 | V8: 4069602 | W8: 340222951 | X8: 0 | Y8: 44056322 | Z8: 149090 | AA8: 7321 | AB8: 8057799 | AC8: 97456166 | AD8: 15145425 | AE8: 4935591 | AF8: 20613221 | AG8: 20738561 | AH8: 607473 | AI8: 1365130 | AJ8: 1095120 | AK8: 203651 | AL8: =SUM(B8:AK8) -> 750503807
A9: Free State | B9: 247020244 | C9: 101882015 | D9: 139375581 | E9: 7427726 | F9: 3953946 | G9: 2351391 | H9: 20080148 | I9: 24606618 | J9: 4659990 | K9: 3620856 | L9: 3858587 | M9: 7973063 | N9: 54629038 | O9: 35441680 | P9: 21711578 | Q9: 4478434 | R9: 13835108 | S9: 10779094 | T9: 843284 | U9: 7409901 | V9: 4466374 | W9: 1160768259 | X9: 11108850 | Y9: 152229604 | Z9: 1585235 | AA9: 338525 | AB9: 47062455 | AC9: 273837800 | AD9: 24321474 | AE9: 38118891 | AF9: 87648326 | AG9: 114021105 | AH9: 6190891 | AI9: 6426094 | AJ9: 1434441 | AK9: 6583836 | AL9: =SUM(B9:AK9) -> 2652080442
A10: KwaZulu-Natal | B10: 534783046 | C10: 84626802 | D10: 290702742 | E10: 23665916 | F10: 17581106 | G10: 14356393 | H10: 58696896 | I10: 40932986 | J10: 12333966 | K10: 6399594 | L10: 10414583 | M10: 37643305 | N10: 100404711 | O10: 79998091 | P10: 14156634 | Q10: 16290695 | R10: 31658829 | S10: 11263171 | T10: 4956495 | U10: 39008566 | V10: 4445864 | W10: 7252649579 | X10: 1244634 | Y10: 430415421 | Z10: 1528248 | AA10: 846188 | AB10: 97229619 | AC10: 704226054 | AD10: 103612003 | AE10: 132911136 | AF10: 104036640 | AG10: 317413434 | AH10: 20778051 | AI10: 21081866 | AJ10: 17065498 | AK10: 5581406 | AL10: =SUM(B10:AK10) -> 10644940168
A11: North West | B11: 324525583 | C11: 98327180 | D11: 130395990 | E11: 9011865 | F11: 4483827 | G11: 1770993 | H11: 21352005 | I11: 26706719 | J11: 9723214 | K11: 2504900 | L11: 3481011 | M11: 16024503 | N11: 63238081 | O11: 35425125 | P11: 4323703 | Q11: 8906096 | R11: 6905192 | S11: 4941952 | T11: 1127086 | U11: 9285919 | V11: 11111839 | W11: 859876752 | X11: 1809285 | Y11: 160117678 | Z11: 12177 | AA11: 153667 | AB11: 31157235 | AC11: 467497268 | AD11: 30448775 | AE11: 57981013 | AF11: 93726042 | AG11: 83434384 | AH11: 6609441 | AI11: 4871859 | AJ11: 8118106 | AK11: 2585418 | AL11: =SUM(B11:AK11) -> 2601971883
A12: Gauteng | B12: 697472189 | C12: 329168376 | D12: 464894559 | E12: 105434594 | F12: 40080167 | G12: 17668525 | H12: 116274419 | I12: 88053647 | J12: 31113042 | K12: 23209314 | L12: 26397775 | M12: 96033219 | N12: 226416103 | O12: 97940008 | P12: 55185801 | Q12: 24565672 | R12: 48477475 | S12: 17428165 | T12: 12943137 | U12: 35530073 | V12: 26897158 | W12: 24713381316 | X12: 27060963 | Y12: 648269447 | Z12: 8319504 | AA12: 5082407 | AB12: 111016176 | AC12: 1064067062 | AD12: 258925218 | AE12: 258489915 | AF12: 566849007 | AG12: 921027911 | AH12: 22723064 | AI12: 68271025 | AJ12: 71093042 | AK12: 38156795 | AL12: =SUM(B12:AK12) -> 31363916270
A13: Mpumalanga | B13: 288830262 | C13: 89040271 | D13: 156951605 | E13: 13680978 | F13: 3929247 | G13: 344265 | H13: 22804381 | I13: 20429083 | J13: 3219997 | K13: 3954991 | L13: 3729774 | M13: 18984767 | N13: 70592816 | O13: 39419624 | P13: 10356551 | Q13: 6669080 | R13: 14441585 | S13: 5217533 | T13: 1180900 | U13: 7691577 | V13: 2904503 | W13: 1707584330 | X13: 942251 | Y13: 197581230 | Z13: 758573 | AA13: 1613002 | AB13: 34590044 | AC13: 330178642 | AD13: 28935809 | AE13: 42708916 | AF13: 80016722 | AG13: 131427540 | AH13: 4287364 | AI13: 8801828 | AJ13: 5339468 | AK13: 4443234 | AL13: =SUM(B13:AK13) -> 3363582743
A14: Limpopo | B14: 445060166 | C14: 61510535 | D14: 181366634 | E14: 7413486 | F14: 1428715 | G14: 3421075 | H14: 25921936 | I14: 24872617 | J14: 2448523 | K14: 5317542 | L14: 3749845 | M14: 30024799 | N14: 87639163 | O14: 44870480 | P14: 1339818 | Q14: 1657114 | R14: 13159183 | S14: 4577641 | T14: 1065415 | U14: 16794620 | V14: 2681500 | W14: 2332117538 | X14: 1678129 | Y14: 151339968 | Z14: 2979911 | AA14: 63811 | AB14: 45727476 | AC14: 327883300 | AD14: 35903222 | AE14: 50280834 | AF14: 77138761 | AG14: 77209826 | AH14: 19843521 | AI14: 12889415 | AJ14: 8600031 | AK14: 890456 | AL14: =SUM(B14:AK14) -> 4110867006
A16: Total | B16: =SUM(B6:B14) -> 3252957667 | C16: =SUM(C6:C14) -> 1115922984 | D16: =SUM(D6:D14) -> 1869650708 | E16: =SUM(E6:E14) -> 203009794 | F16: =SUM(F6:F14) -> 94997179 | G16: =SUM(G6:G14) -> 48548080 | H16: =SUM(H6:H14) -> 352327427 | I16: =SUM(I6:I14) -> 333377972 | ... AL16: =SUM(AL6:AL14) -> 67977413805
G18: ASSETS
A19: 2010
A20: Classification of individual consumption according to purpose
A21: Province | B21: Refrigerators, deep freezers and refrigerator/deep-freeze combinations | C21: Washing machines, dishwashers and tumble dryers | D21: Stoves and ovens, including microwave ovens | E21: Heaters and air conditioners | F21: Vacuum cleaners, polishers and carpet cleaning machines | G21: Sewing machines, over-lockers and knitting machines | H21: Irons | I21: Kettles and percolators, coffee makers | J21: Food mixers, processors and similar accessories | K21: Frying pans and woks | L21: Toaster, waffle pans and sandwich toasters | M21: Other electrical appliances (eg electric blankets, water pumps and fans) specify | N21: Glass and crystal ware, tableware (including household or toilet articles of porcelain, ceramic stoneware, china etc) | O21: Kitchen and domestic utensils | P21: Power driven garden tools | Q21: Power drills | R21: light bulbs | S21: Dry cells | T21: Hand tools (such as screwdrivers) | U21: Garden hand tools (such as spades) | V21: Garden water sprinkler | W21: New motor cars | X21: New bicycles | Y21: Cellular phones | Z21: Telephones, cordless telephones, motor telephones | AA21: Fax machines and telephone answering machines for household purposes | AB21: Radios (including motor car radios) tape recorders, compact disk players and similar equipment) | AC21: Television sets, decoders, video recorders/DVDs | AD21: Aerials and satellite dishes | AE21: Cameras, video cameras, projectors and flashes | AF21: Personal desktop computers (excluding laptops) | AG21: Laptops and palm tops | AH21: Calculators | AI21: Printers/scanners/copiers | AJ21: Modems | AK21: flash disks and portable external hard drives | AL21: TOTAL
A23: Western Cape | B23: =B6/$AL6*100 -> 4.0973129 | C23: =C6/$AL6*100 -> 2.6788186 | D23: =D6/$AL6*100 -> 3.0596463 | E23: =E6/$AL6*100 -> 0.17918275 | F23: =F6/$AL6*100 -> 0.15895228 | G23: =G6/$AL6*100 -> 0.057892308 | H23: =H6/$AL6*100 -> 0.47540776 | I23: =I6/$AL6*100 -> 0.60843504 | ... AL23: =AL6/$AL6*100 -> 100
A24: Eastern Cape | B24: =B7/$AL7*100 -> 8.5280495 | C24: =C7/$AL7*100 -> 2.2318527 | D24: =D7/$AL7*100 -> 5.6958025 | E24: =E7/$AL7*100 -> 0.41820571 | F24: =F7/$AL7*100 -> 0.22023269 | G24: =G7/$AL7*100 -> 0.092208121 | H24: =H7/$AL7*100 -> 1.0881032 | I24: =I7/$AL7*100 -> 1.3759368 | ... AL24: =AL7/$AL7*100 -> 100
A25: Northern Cape | B25: =B8/$AL8*100 -> 8.2858395 | C25: =C8/$AL8*100 -> 4.1377541 | D25: =D8/$AL8*100 -> 5.2939986 | E25: =E8/$AL8*100 -> 0.84890336 | F25: =F8/$AL8*100 -> 0.2308905 | G25: =G8/$AL8*100 -> 0.041337832 | H25: =H8/$AL8*100 -> 1.1026978 | I25: =I8/$AL8*100 -> 0.97287634 | ... AL25: =AL8/$AL8*100 -> 100
A26: Free State | B26: =B9/$AL9*100 -> 9.3142063 | C26: =C9/$AL9*100 -> 3.8415884 | D26: =D9/$AL9*100 -> 5.2553301 | E26: =E9/$AL9*100 -> 0.28007167 | F26: =F9/$AL9*100 -> 0.14908846 | G26: =G9/$AL9*100 -> 0.08866213 | H26: =H9/$AL9*100 -> 0.75714702 | I26: =I9/$AL9*100 -> 0.92782321 | ... AL26: =AL9/$AL9*100 -> 100
A27: KwaZulu-Natal | B27: =B10/$AL10*100 -> 5.0238239 | C27: =C10/$AL10*100 -> 0.79499556 | D27: =D10/$AL10*100 -> 2.7309007 | E27: =E10/$AL10*100 -> 0.2223208 | F27: =F10/$AL10*100 -> 0.16515927 | G27: =G10/$AL10*100 -> 0.13486589 | H27: =H10/$AL10*100 -> 0.55140654 | I27: =I10/$AL10*100 -> 0.38452998 | ... AL27: =AL10/$AL10*100 -> 100
A28: North West | B28: =B11/$AL11*100 -> 12.472294 | C28: =C11/$AL11*100 -> 3.7789486 | D28: =D11/$AL11*100 -> 5.0114296 | E28: =E11/$AL11*100 -> 0.34634752 | F28: =F11/$AL11*100 -> 0.17232419 | G28: =G11/$AL11*100 -> 0.068063495 | H28: =H11/$AL11*100 -> 0.8206086 | I28: =I11/$AL11*100 -> 1.0264031 | ... AL28: =AL11/$AL11*100 -> 100
A29: Gauteng | B29: =B12/$AL12*100 -> 2.2238045 | C29: =C12/$AL12*100 -> 1.049513 | D29: =D12/$AL12*100 -> 1.4822593 | E29: =E12/$AL12*100 -> 0.33616527 | F29: =F12/$AL12*100 -> 0.1277907 | G29: =G12/$AL12*100 -> 0.056333925 | H29: =H12/$AL12*100 -> 0.37072672 | I29: =I12/$AL12*100 -> 0.28074825 | ... AL29: =AL12/$AL12*100 -> 100
A30: Mpumalanga | B30: =B13/$AL13*100 -> 8.5869825 | C30: =C13/$AL13*100 -> 2.6471854 | D30: =D13/$AL13*100 -> 4.6662032 | E30: =E13/$AL13*100 -> 0.40673826 | F30: =F13/$AL13*100 -> 0.11681731 | G30: =G13/$AL13*100 -> 0.010235069 | H30: =H13/$AL13*100 -> 0.67797889 | I30: =I13/$AL13*100 -> 0.6073608 | ... AL30: =AL13/$AL13*100 -> 100
A31: Limpopo | B31: =B14/$AL14*100 -> 10.826431 | C31: =C14/$AL14*100 -> 1.496291 | D31: =D14/$AL14*100 -> 4.4118828 | E31: =E14/$AL14*100 -> 0.18033875 | F31: =F14/$AL14*100 -> 0.034754591 | G31: =G14/$AL14*100 -> 0.083220279 | H31: =H14/$AL14*100 -> 0.63057102 | I31: =I14/$AL14*100 -> 0.60504553 | ... AL31: =AL14/$AL14*100 -> 100
A33: Total | B33: =B16/$AL16*100 -> 4.7853507 | C33: =C16/$AL16*100 -> 1.6416085 | D33: =D16/$AL16*100 -> 2.7503999 | E33: =E16/$AL16*100 -> 0.29864301 | F33: =F16/$AL16*100 -> 0.13974815 | G33: =G16/$AL16*100 -> 0.071417957 | H33: =H16/$AL16*100 -> 0.51830072 | I33: =I16/$AL16*100 -> 0.49042462 | ... AK33: =AK16/$AL16*100 -> 0.10579706

Sheet time use
A1: TIME USE
A2: 2010
A3: Time Use on Activities (Number of Individuals Per Province)
A4: Province | B4: Sleep and related activities | C4: Eating and drinking | D4: Personal hygiene and health | E4: Waiting for medical and personal care | F4: Doing nothing; rest and relaxation | G4: Individual religious practices and meditation | H4: Working in apprenticeship; internship and related positions | I4: Seeking employment and related activities | J4: Cleaning and upkeep of dwelling and surroundings | K4: Shopping for personal and household goods | L4: Waiting to access government service | M4: Pet care | N4: Volunteering with or for an organisation | O4: School; technikon; college or university attendance | P4: Homework; studies and course review | Q4: Work-related training | R4: Socialising with both family and non-family | S4: Games and other pastime activities | T4: Reading | U4: Watching television and video | V4: Listening to music/radio | W4: Accessing information by computer | X4: Visiting library | Y4: Total
A6: Western Cape | B6: 4182049 | C6: 4145200 | D6: 4157959 | E6: 53925 | F6: 2420350 | G6: 441912 | H6: 49977 | I6: 98764 | J6: 2789652 | K6: 1096586 | L6: 90767 | M6: 295790 | N6: 36502 | O6: 740642 | P6: 750311 | Q6: 33038 | R6: 151413 | S6: 1149629 | T6: 751330 | U6: 3693325 | V6: 636221 | W6: 215450 | X6: 33293 | Y6: =SUM(B6:X6) -> 28014085
A7: Eastern Cape | B7: 5290621 | C7: 5275112 | D7: 5230663 | E7: 118921 | F7: 3816833 | G7: 317274 | H7: 18918 | I7: 140840 | J7: 4207295 | K7: 888000 | L7: 56651 | M7: 201045 | N7: 6240 | O7: 1504274 | P7: 1224027 | Q7: 7204 | R7: 223936 | S7: 1250209 | T7: 517789 | U7: 3647216 | V7: 1348331 | W7: 46629 | X7: 21448 | Y7: =SUM(B7:X7) -> 35359476
A8: Northern Cape | B8: 911289 | C8: 908148 | D8: 902088 | E8: 17777 | F8: 659166 | G8: 67658 | H8: 2364 | I8: 24941 | J8: 683519 | K8: 149507 | L8: 13751 | M8: 35635 | N8: 1551 | O8: 278466 | P8: 237074 | Q8: 4007 | R8: 34261 | S8: 206189 | T8: 120769 | U8: 799642 | V8: 149301 | W8: 11458 | X8: 4905 | Y8: =SUM(B8:X8) -> 6223466
A9: Free State | B9: 2299167 | C9: 2291753 | D9: 2272665 | E9: 83154 | F9: 1581466 | G9: 196115 | H9: 10549 | I9: 72192 | J9: 1881807 | K9: 440475 | L9: 29195 | M9: 78839 | N9: 10297 | O9: 639588 | P9: 510975 | Q9: 1077 | R9: 72203 | S9: 495821 | T9: 279713 | U9: 1929104 | V9: 599848 | W9: 30385 | X9: 28117 | Y9: =SUM(B9:X9) -> 15834505
A10: KwaZulu-Natal | B10: 8362019 | C10: 8342834 | D10: 8313687 | E10: 131699 | F10: 4796462 | G10: 575621 | H10: 76496 | I10: 159222 | J10: 6398262 | K10: 1129756 | L10: 51859 | M10: 237830 | N10: 24556 | O10: 2750207 | P10: 2094953 | Q10: 18214 | R10: 476744 | S10: 1685451 | T10: 868178 | U10: 6356242 | V10: 1924404 | W10: 117535 | X10: 36914 | Y10: =SUM(B10:X10) -> 54929145
A11: North West | B11: 2508936 | C11: 2501003 | D11: 2462894 | E11: 38678 | F11: 1754925 | G11: 119965 | H11: 25985 | I11: 42777 | J11: 1732301 | K11: 384345 | L11: 23927 | M11: 80008 | N11: 8165 | O11: 492460 | P11: 513147 | Q11: 3473 | R11: 90796 | S11: 539694 | T11: 212906 | U11: 2018778 | V11: 552159 | W11: 7002 | X11: 32148 | Y11: =SUM(B11:X11) -> 16146472
A12: Gauteng | B12: 9217778 | C12: 9191592 | D12: 9159517 | E12: 133481 | F12: 5908407 | G12: 868050 | H12: 43445 | I12: 242178 | J12: 6812118 | K12: 2083599 | L12: 40684 | M12: 270113 | N12: 57679 | O12: 1595932 | P12: 2044383 | Q12: 49967 | R12: 303751 | S12: 1833832 | T12: 1567069 | U12: 8108439 | V12: 2433735 | W12: 326682 | X12: 103659 | Y12: =SUM(B12:X12) -> 62396090
A13: Mpumalanga | B13: 2883142 | C13: 2879899 | D13: 2873825 | E13: 26036 | F13: 1550673 | G13: 164481 | H13: 6264 | I13: 53709 | J13: 2307110 | K13: 476345 | L13: 12476 | M13: 104880 | N13: 8594 | O13: 996212 | P13: 877384 | Q13: 11174 | R13: 123806 | S13: 715969 | T13: 307530 | U13: 2420729 | V13: 898166 | W13: 18172 | X13: 24877 | Y13: =SUM(B13:X13) -> 19741453
A14: Limpopo | B14: 4237125 | C14: 4227355 | D14: 4191140 | E14: 40003 | F14: 2785324 | G14: 636014 | H14: 26938 | I14: 73874 | J14: 3397737 | K14: 580890 | L14: 59990 | M14: 59841 | N14: 15113 | O14: 890829 | P14: 755771 | Q14: 10955 | R14: 158500 | S14: 1275105 | T14: 318299 | U14: 3168257 | V14: 827712 | W14: 14308 | X14: 29943 | Y14: =SUM(B14:X14) -> 27781023
A16: Total | B16: =SUM(B6:B14) -> 39892126 | C16: =SUM(C6:C14) -> 39762896 | D16: =SUM(D6:D14) -> 39564438 | E16: =SUM(E6:E14) -> 643674 | F16: =SUM(F6:F14) -> 25273606 | G16: =SUM(G6:G14) -> 3387090 | H16: =SUM(H6:H14) -> 260936 | I16: =SUM(I6:I14) -> 908497 | ... Y16: =SUM(Y6:Y14) -> 266425715
I19: TIME USE
A20: 2010
A21: Time Use on Activities (Number of Individuals Per Province)
A22: Province | B22: Sleep and related activities | C22: Eating and drinking | D22: Personal hygiene and health | E22: Waiting for medical and personal care | F22: Doing nothing; rest and relaxation | G22: Individual religious practices and meditation | H22: Working in apprenticeship; internship and related positions | I22: Seeking employment and related activities | J22: Cleaning and upkeep of dwelling and surroundings | K22: Shopping for personal and household goods | L22: Waiting to access government service | M22: Pet care | N22: Volunteering with or for an organisation | O22: School; technikon; college or university attendance | P22: Homework; studies and course review | Q22: Work-related training | R22: Socialising with both family and non-family | S22: Games and other pastime activities | T22: Reading | U22: Watching television and video | V22: Listening to music/radio | W22: Accessing information by computer | X22: Visiting library | Y22: Total
A24: Western Cape | B24: =B6/$Y6*100 -> 14.92838 | C24: =C6/$Y6*100 -> 14.796842 | D24: =D6/$Y6*100 -> 14.842387 | E24: =E6/$Y6*100 -> 0.19249246 | F24: =F6/$Y6*100 -> 8.639761 | G24: =G6/$Y6*100 -> 1.5774636 | H24: =H6/$Y6*100 -> 0.17839954 | I24: =I6/$Y6*100 -> 0.35255123 | ... Y24: =Y6/$Y6*100 -> 100
A25: Eastern Cape | B25: =B7/$Y7*100 -> 14.962385 | C25: =C7/$Y7*100 -> 14.918524 | D25: =D7/$Y7*100 -> 14.792818 | E25: =E7/$Y7*100 -> 0.33632003 | F25: =F7/$Y7*100 -> 10.794371 | G25: =G7/$Y7*100 -> 0.8972814 | H25: =H7/$Y7*100 -> 0.053501924 | I25: =I7/$Y7*100 -> 0.39830907 | ... Y25: =Y7/$Y7*100 -> 100
A26: Northern Cape | B26: =B8/$Y8*100 -> 14.642789 | C26: =C8/$Y8*100 -> 14.592319 | D26: =D8/$Y8*100 -> 14.494945 | E26: =E8/$Y8*100 -> 0.28564469 | F26: =F8/$Y8*100 -> 10.591622 | G26: =G8/$Y8*100 -> 1.0871434 | H26: =H8/$Y8*100 -> 0.037985264 | I26: =I8/$Y8*100 -> 0.40075739 | ... Y26: =Y8/$Y8*100 -> 100
A27: Free State | B27: =B9/$Y9*100 -> 14.51998 | C27: =C9/$Y9*100 -> 14.473158 | D27: =D9/$Y9*100 -> 14.352612 | E27: =E9/$Y9*100 -> 0.5251443 | F27: =F9/$Y9*100 -> 9.9874672 | G27: =G9/$Y9*100 -> 1.2385294 | H27: =H9/$Y9*100 -> 0.066620333 | I27: =I9/$Y9*100 -> 0.45591574 | ... Y27: =Y9/$Y9*100 -> 100
A28: KwaZulu-Natal | B28: =B10/$Y10*100 -> 15.223283 | C28: =C10/$Y10*100 -> 15.188356 | D28: =D10/$Y10*100 -> 15.135293 | E28: =E10/$Y10*100 -> 0.23976161 | F28: =F10/$Y10*100 -> 8.7320893 | G28: =G10/$Y10*100 -> 1.0479337 | H28: =H10/$Y10*100 -> 0.13926305 | I28: =I10/$Y10*100 -> 0.28986797 | ... Y28: =Y10/$Y10*100 -> 100
A29: North West | B29: =B11/$Y11*100 -> 15.538602 | C29: =C11/$Y11*100 -> 15.48947 | D29: =D11/$Y11*100 -> 15.25345 | E29: =E11/$Y11*100 -> 0.23954459 | F29: =F11/$Y11*100 -> 10.868783 | G29: =G11/$Y11*100 -> 0.74297964 | H29: =H11/$Y11*100 -> 0.16093299 | I29: =I11/$Y11*100 -> 0.26493094 | ... Y29: =Y11/$Y11*100 -> 100
A30: Gauteng | B30: =B12/$Y12*100 -> 14.773006 | C30: =C12/$Y12*100 -> 14.731038 | D30: =D12/$Y12*100 -> 14.679633 | E30: =E12/$Y12*100 -> 0.21392526 | F30: =F12/$Y12*100 -> 9.4691943 | G30: =G12/$Y12*100 -> 1.3911929 | H30: =H12/$Y12*100 -> 0.06962776 | I30: =I12/$Y12*100 -> 0.38813009 | ... Y30: =Y12/$Y12*100 -> 100
A31: Mpumalanga | B31: =B13/$Y13*100 -> 14.604508 | C31: =C13/$Y13*100 -> 14.58808 | D31: =D13/$Y13*100 -> 14.557312 | E31: =E13/$Y13*100 -> 0.13188492 | F31: =F13/$Y13*100 -> 7.8549081 | G31: =G13/$Y13*100 -> 0.83317575 | H31: =H13/$Y13*100 -> 0.031730187 | I31: =I13/$Y13*100 -> 0.27206204 | ... Y31: =Y13/$Y13*100 -> 100
A32: Limpopo | B32: =B14/$Y14*100 -> 15.251868 | C32: =C14/$Y14*100 -> 15.2167 | D32: =D14/$Y14*100 -> 15.086341 | E32: =E14/$Y14*100 -> 0.14399398 | F32: =F14/$Y14*100 -> 10.025995 | G32: =G14/$Y14*100 -> 2.2893829 | H32: =H14/$Y14*100 -> 0.096965472 | I32: =I14/$Y14*100 -> 0.26591533 | ... Y32: =Y14/$Y14*100 -> 100
A34: Total | B34: =B16/$Y16*100 -> 14.973076 | C34: =C16/$Y16*100 -> 14.924571 | D34: =D16/$Y16*100 -> 14.850082 | E34: =E16/$Y16*100 -> 0.24159605 | F34: =F16/$Y16*100 -> 9.4861737 | G34: =G16/$Y16*100 -> 1.2713075 | H34: =H16/$Y16*100 -> 0.097939495 | I34: =I16/$Y16*100 -> 0.34099449 | ... X34: =X16/$Y16*100 -> 0.11834593
