Workbook

Sheet Total Fuel
A1: Total Fuel Consumption (liters) | B1: 39448 | C1: 39479 | D1: 39508 | E1: 39539 | F1: 39569 | G1: 39600 | H1: 39630 | I1: 39661 | J1: 39692 | K1: 39722 | L1: 39753 | M1: 39783 | N1: 39814 | O1: 39845 | P1: 39873 | Q1: 39904 | R1: 39934 | S1: 39965 | T1: 39995 | U1: 40026 | V1: 40057 | W1: 40087 | X1: 40118 | Y1: 40148 | Z1: 40179 | AA1: 40210 | AB1: 40238 | AC1: 40269 | AD1: 40299 | AE1: 40330 | AF1: 40360 | AG1: 40391 | AH1: 40422 | AI1: 40452 | AJ1: 40483 | AK1: 40513 | AL1: 40544 | AM1: 40575 | AN1: 40603 | AO1: 40634 | AP1: 40664 | AQ1: 40695 | AR1: 40725 | AS1: 40756 | AT1: 40787 | AU1: 40817 | AV1: 40848 | AW1: 40878 | AX1: 40909 | AY1: 40940 | AZ1: 40969 | BA1: 41000 | BB1: 41030 | BC1: 41061 | BD1: 41091 | BE1: 41122 | BF1: 41153 | BG1: 41183 | BH1: 41214 | BI1: 41244 | BJ1: 41275 | BK1: 41306 | BL1: 41334 | BM1: 41365 | BN1: 41395 | BO1: 41426 | BP1: Average | BQ1: Increase/ Decrease in Contribution | BR1: Range
A3: Total SA Consumption | B3: =Petrol!C53+Diesel!C55 -> 1786615846 | C3: =Petrol!D53+Diesel!D55 -> 1864814710 | D3: =Petrol!E53+Diesel!E55 -> 1892216220 | E3: =Petrol!F53+Diesel!F55 -> 1703050713 | F3: =Petrol!G53+Diesel!G55 -> 1811890599 | G3: =Petrol!H53+Diesel!H55 -> 1750985550 | H3: =Petrol!I53+Diesel!I55 -> 1724182488 | I3: =Petrol!J53+Diesel!J55 -> 1687500009 | ... BO3: =Petrol!BP53+Diesel!BP55 -> 2.0398814e+09 | BP3: =AVERAGE(B3:BO3) -> 1.8515717e+09 | BQ3: =BO3-G3 -> 2.8889587e+08 | BR3: =MAX(B3:BO3)-MIN(B3:BO3) -> 5.9084087e+08
A4: Total KZN Consumption | B4: =Petrol!C54+Diesel!C54 -> 288531168 | C4: =Petrol!D54+Diesel!D54 -> 302005096 | D4: =Petrol!E54+Diesel!E54 -> 313236752 | E4: =Petrol!F54+Diesel!F54 -> 289862814 | F4: =Petrol!G54+Diesel!G54 -> 308470833 | G4: =Petrol!H54+Diesel!H54 -> 292201812 | H4: =Petrol!I54+Diesel!I54 -> 296271547 | I4: =Petrol!J54+Diesel!J54 -> 284240145 | ... BO4: =Petrol!BP54+Diesel!BP54 -> 3.3809132e+08 | BP4: =AVERAGE(B4:BO4) -> 3.0977909e+08 | BQ4: =BO4-G4 -> 45889510 | BR4: =MAX(B4:BO4)-MIN(B4:BO4) -> 1.7355535e+08
A6: KZN Consumption as a % of SA Consumption | B6: =B4/B3*100 -> 16.149592 | C6: =C4/C3*100 -> 16.194912 | D6: =D4/D3*100 -> 16.553962 | E6: =E4/E3*100 -> 17.02021 | F6: =F4/F3*100 -> 17.024805 | G6: =G4/G3*100 -> 16.687848 | H6: =H4/H3*100 -> 17.183306 | I6: =I4/I3*100 -> 16.84386 | ... BR6: =BR4/BR3*100 -> 29.374297
A8: Urban KZN Consumption | B8: =Petrol!C59+Diesel!C60 -> 222125045 | C8: =Petrol!D59+Diesel!D60 -> 237497995 | D8: =Petrol!E59+Diesel!E60 -> 246139152 | E8: =Petrol!F59+Diesel!F60 -> 227292103 | F8: =Petrol!G59+Diesel!G60 -> 241691178 | G8: =Petrol!H59+Diesel!H60 -> 226260328 | H8: =Petrol!I59+Diesel!I60 -> 231238606 | I8: =Petrol!J59+Diesel!J60 -> 220836188 | ... BO8: =Petrol!BP59+Diesel!BP60 -> 2.7023461e+08 | BP8: =AVERAGE(B8:BO8) -> 2.4028111e+08 | BQ8: =BO8-G8 -> 43974278 | BR8: =MAX(B8:BO8)-MIN(B8:BO8) -> 1.3643814e+08
A9: Rural KZN Consumption | B9: =Petrol!C60+Diesel!C61 -> 66406123 | C9: =Petrol!D60+Diesel!D61 -> 64507101 | D9: =Petrol!E60+Diesel!E61 -> 67097600 | E9: =Petrol!F60+Diesel!F61 -> 62570711 | F9: =Petrol!G60+Diesel!G61 -> 66779655 | G9: =Petrol!H60+Diesel!H61 -> 65941484 | H9: =Petrol!I60+Diesel!I61 -> 65032941 | I9: =Petrol!J60+Diesel!J61 -> 63403957 | ... BO9: =Petrol!BP60+Diesel!BP61 -> 67856716 | BP9: =AVERAGE(B9:BO9) -> 69497981 | BQ9: =BO9-G9 -> 1915231.5 | BR9: =MAX(B9:BO9)-MIN(B9:BO9) -> 37982256
A11: Urban Consumption as a % of KZN Consumption | B11: =B8/B4*100 -> 76.984766 | C11: =C8/C4*100 -> 78.640393 | D11: =D8/D4*100 -> 78.57927 | E11: =E8/E4*100 -> 78.413681 | F11: =F8/F4*100 -> 78.351388 | G11: =G8/G4*100 -> 77.432897 | H11: =H8/H4*100 -> 78.049549 | I11: =I8/I4*100 -> 77.693525 | ... BR11: =BR8/BR4*100 -> 78.613618
A12: Rural Consumption as a % of KZN Consumption | B12: =B9/B4*100 -> 23.015234 | C12: =C9/C4*100 -> 21.359607 | D12: =D9/D4*100 -> 21.42073 | E12: =E9/E4*100 -> 21.586319 | F12: =F9/F4*100 -> 21.648612 | G12: =G9/G4*100 -> 22.567103 | H12: =H9/H4*100 -> 21.950451 | I12: =I9/I4*100 -> 22.306475 | ... BR12: =BR9/BR4*100 -> 21.884809
A14: Durban Total Consumption | B14: =Petrol!C65+Diesel!C66 -> 165102340 | C14: =Petrol!D65+Diesel!D66 -> 179980320 | D14: =Petrol!E65+Diesel!E66 -> 187264889 | E14: =Petrol!F65+Diesel!F66 -> 169259751 | F14: =Petrol!G65+Diesel!G66 -> 185233962 | G14: =Petrol!H65+Diesel!H66 -> 170468669 | H14: =Petrol!I65+Diesel!I66 -> 175362621 | I14: =Petrol!J65+Diesel!J66 -> 167065867 | ... BO14: =Petrol!BP65+Diesel!BP66 -> 2.1244053e+08 | BP14: =AVERAGE(B14:BO14) -> 1.8303061e+08 | BQ14: =BO14-G14 -> 41971858 | BR14: =MAX(B14:BO14)-MIN(B14:BO14) -> 1.2180066e+08
A15: Pietermaritzburg Total Consumption | B15: =Petrol!C66+Diesel!C67 -> 20533207 | C15: =Petrol!D66+Diesel!D67 -> 20997676 | D15: =Petrol!E66+Diesel!E67 -> 22594627 | E15: =Petrol!F66+Diesel!F67 -> 19666120 | F15: =Petrol!G66+Diesel!G67 -> 19774623 | G15: =Petrol!H66+Diesel!H67 -> 20317138 | H15: =Petrol!I66+Diesel!I67 -> 20108126 | I15: =Petrol!J66+Diesel!J67 -> 19140380 | ... BO15: =Petrol!BP66+Diesel!BP67 -> 24845246 | BP15: =AVERAGE(B15:BO15) -> 23839987 | BQ15: =BO15-G15 -> 4528107.8 | BR15: =MAX(B15:BO15)-MIN(B15:BO15) -> 11342492
A16: Richards Bay Total Consumption | B16: =Petrol!C67+Diesel!C68 -> 19425046 | C16: =Petrol!D67+Diesel!D68 -> 18724777 | D16: =Petrol!E67+Diesel!E68 -> 18820557 | E16: =Petrol!F67+Diesel!F68 -> 22042593 | F16: =Petrol!G67+Diesel!G68 -> 19712984 | G16: =Petrol!H67+Diesel!H68 -> 19104209 | H16: =Petrol!I67+Diesel!I68 -> 19411982 | I16: =Petrol!J67+Diesel!J68 -> 18745324 | ... BO16: =Petrol!BP67+Diesel!BP68 -> 19007054 | BP16: =AVERAGE(B16:BO16) -> 17446335 | BQ16: =BO16-G16 -> -97155.17 | BR16: =MAX(B16:BO16)-MIN(B16:BO16) -> 8081821
A17: Port Shepstone Total Consumption | B17: =Petrol!C68+Diesel!C69 -> 9067890 | C17: =Petrol!D68+Diesel!D69 -> 8512460 | D17: =Petrol!E68+Diesel!E69 -> 8970864 | E17: =Petrol!F68+Diesel!F69 -> 8376167 | F17: =Petrol!G68+Diesel!G69 -> 8567157 | G17: =Petrol!H68+Diesel!H69 -> 8175351 | H17: =Petrol!I68+Diesel!I69 -> 8385650 | I17: =Petrol!J68+Diesel!J69 -> 8080199 | ... BO17: =Petrol!BP68+Diesel!BP69 -> 7101505.7 | BP17: =AVERAGE(B17:BO17) -> 8348818.2 | BQ17: =BO17-G17 -> -1073845.3 | BR17: =MAX(B17:BO17)-MIN(B17:BO17) -> 4759966.2
A18: New Castle Total Consumption | B18: =Petrol!C69+Diesel!C70 -> 7996562 | C18: =Petrol!D69+Diesel!D70 -> 9282762 | D18: =Petrol!E69+Diesel!E70 -> 8488215 | E18: =Petrol!F69+Diesel!F70 -> 7947472 | F18: =Petrol!G69+Diesel!G70 -> 8402452 | G18: =Petrol!H69+Diesel!H70 -> 8194961 | H18: =Petrol!I69+Diesel!I70 -> 7970227 | I18: =Petrol!J69+Diesel!J70 -> 7804418 | ... BO18: =Petrol!BP69+Diesel!BP70 -> 6840273.5 | BP18: =AVERAGE(B18:BO18) -> 7615355.3 | BQ18: =BO18-G18 -> -1354687.5 | BR18: =MAX(B18:BO18)-MIN(B18:BO18) -> 3167692.2
A20: Durban as a % of Total KZN Consumption | B20: =B14/B$4*100 -> 57.221666 | C20: =C14/C$4*100 -> 59.595127 | D20: =D14/D$4*100 -> 59.783818 | E20: =E14/E$4*100 -> 58.393055 | F20: =F14/F$4*100 -> 60.049101 | G20: =G14/G$4*100 -> 58.339361 | H20: =H14/H$4*100 -> 59.189829 | I20: =I14/I$4*100 -> 58.776309 | ... BP20: =BP14/BP$4*100 -> 59.084237 | BQ20: =BO20-B20 -> 5.6135845 | BR20: =MAX(B20:BO20)-MIN(B20:BO20) -> 10.027477
A21: Pietermaritzburg as a % of Total KZN Consumption | B21: =B15/B$4*100 -> 7.1164606 | C21: =C15/C$4*100 -> 6.9527555 | D21: =D15/D$4*100 -> 7.2132746 | E21: =E15/E$4*100 -> 6.7846302 | F21: =F15/F$4*100 -> 6.4105325 | G21: =G15/G$4*100 -> 6.9531184 | H21: =H15/H$4*100 -> 6.7870594 | I21: =I15/I$4*100 -> 6.7338764 | ... BP21: =BP15/BP$4*100 -> 7.6958027 | BQ21: =BO21-B21 -> 0.23221832 | BR21: =MAX(B21:BO21)-MIN(B21:BO21) -> 2.327294
A22: Richards Bay as a % of Total KZN Consumption | B22: =B16/B$4*100 -> 6.7323909 | C22: =C16/C$4*100 -> 6.2001527 | D22: =D16/D$4*100 -> 6.0084128 | E22: =E16/E$4*100 -> 7.6044915 | F22: =F16/F$4*100 -> 6.3905504 | G22: =G16/G$4*100 -> 6.5380187 | H22: =H16/H$4*100 -> 6.5520912 | I22: =I16/I$4*100 -> 6.5948897 | ... BP22: =BP16/BP$4*100 -> 5.6318633 | BQ22: =BO22-B22 -> -1.1105211 | BR22: =MAX(B22:BO22)-MIN(B22:BO22) -> 2.9441163
A23: Port Shepstone as a % of Total KZN Consumption | B23: =B17/B$4*100 -> 3.1427766 | C23: =C17/C$4*100 -> 2.8186478 | D23: =D17/D$4*100 -> 2.8639245 | E23: =E17/E$4*100 -> 2.8897004 | F23: =F17/F$4*100 -> 2.7772989 | G23: =G17/G$4*100 -> 2.797844 | H23: =H17/H$4*100 -> 2.8303933 | I23: =I17/I$4*100 -> 2.8427367 | ... BP23: =BP17/BP$4*100 -> 2.6950878 | BQ23: =BO23-B23 -> -1.0423069 | BR23: =MAX(B23:BO23)-MIN(B23:BO23) -> 1.9859749
A24: New Castle as a % of Total KZN Consumption | B24: =B18/B$4*100 -> 2.7714725 | C24: =C18/C$4*100 -> 3.0737104 | D24: =D18/D$4*100 -> 2.7098401 | E24: =E18/E$4*100 -> 2.7418046 | F24: =F18/F$4*100 -> 2.7239049 | G24: =G18/G$4*100 -> 2.8045552 | H24: =H18/H$4*100 -> 2.6901763 | I24: =I18/I$4*100 -> 2.7457128 | ... BP24: =BP18/BP$4*100 -> 2.4583181 | BQ24: =BO24-B24 -> -0.74826958 | BR24: =MAX(B24:BO24)-MIN(B24:BO24) -> 1.1969338
A26: Durban Total Consumption m % Change | C26: =(C14-B14)/B14*100 -> 9.0113683 | D26: =(D14-C14)/C14*100 -> 4.0474253 | E26: =(E14-D14)/D14*100 -> -9.6147965 | F26: =(F14-E14)/E14*100 -> 9.4376902 | G26: =(G14-F14)/F14*100 -> -7.9711587 | H26: =(H14-G14)/G14*100 -> 2.8708806 | I26: =(I14-H14)/H14*100 -> -4.7311987 | J26: =(J14-I14)/I14*100 -> -0.28258735 | ... BP26: =(BP14-BO14)/BO14*100 -> -13.843836 | BQ26: =BO26-B26 -> 1.6807051 | BR26: =MAX(B26:BO26)-MIN(B26:BO26) -> 40.308196
A27: Pietermaritzburg Total Consumption m % Change | C27: =(C15-B15)/B15*100 -> 2.2620383 | D27: =(D15-C15)/C15*100 -> 7.6053702 | E27: =(E15-D15)/D15*100 -> -12.961077 | F27: =(F15-E15)/E15*100 -> 0.55172551 | G27: =(G15-F15)/F15*100 -> 2.743491 | H27: =(H15-G15)/G15*100 -> -1.0287473 | I27: =(I15-H15)/H15*100 -> -4.812711 | J27: =(J15-I15)/I15*100 -> 6.9958695 | ... BP27: =(BP15-BO15)/BO15*100 -> -4.0460804 | BQ27: =BO27-B27 -> 1.6298236 | BR27: =MAX(B27:BO27)-MIN(B27:BO27) -> 47.998609
A28: Richards Bay Total Consumption m % Change | C28: =(C16-B16)/B16*100 -> -3.6049799 | D28: =(D16-C16)/C16*100 -> 0.51151477 | E28: =(E16-D16)/D16*100 -> 17.11977 | F28: =(F16-E16)/E16*100 -> -10.56867 | G28: =(G16-F16)/F16*100 -> -3.088193 | H28: =(H16-G16)/G16*100 -> 1.6110219 | I28: =(I16-H16)/H16*100 -> -3.4342603 | J28: =(J16-I16)/I16*100 -> 10.64195 | ... BP28: =(BP16-BO16)/BO16*100 -> -8.2112621 | BQ28: =BO28-B28 -> 1.9047583 | BR28: =MAX(B28:BO28)-MIN(B28:BO28) -> 52.465869
A29: Port Shepstone Total Consumption m % Change | C29: =(C17-B17)/B17*100 -> -6.1252397 | D29: =(D17-C17)/C17*100 -> 5.3850943 | E29: =(E17-D17)/D17*100 -> -6.6292054 | F29: =(F17-E17)/E17*100 -> 2.2801599 | G29: =(G17-F17)/F17*100 -> -4.5733491 | H29: =(H17-G17)/G17*100 -> 2.5723544 | I29: =(I17-H17)/H17*100 -> -3.6425441 | J29: =(J17-I17)/I17*100 -> 1.2501549 | ... BP29: =(BP17-BO17)/BO17*100 -> 17.564057 | BQ29: =BO29-B29 -> 1.360563 | BR29: =MAX(B29:BO29)-MIN(B29:BO29) -> 64.126376
A30: New Castle Total Consumption m % Change | C30: =(C18-B18)/B18*100 -> 16.084412 | D30: =(D18-C18)/C18*100 -> -8.5593814 | E30: =(E18-D18)/D18*100 -> -6.3705149 | F30: =(F18-E18)/E18*100 -> 5.7248393 | G30: =(G18-F18)/F18*100 -> -2.4694101 | H30: =(H18-G18)/G18*100 -> -2.7423437 | I30: =(I18-H18)/H18*100 -> -2.0803548 | J30: =(J18-I18)/I18*100 -> 7.2149262 | ... BP30: =(BP18-BO18)/BO18*100 -> 11.331151 | BQ30: =BO30-B30 -> 1.4637316 | BR30: =MAX(B30:BO30)-MIN(B30:BO30) -> 35.222964
A31: Urban Total Consumption m % Change | C31: =(C9-B9)/B9*100 -> -2.8597092 | D31: =(D9-C9)/C9*100 -> 4.0158354 | E31: =(E9-D9)/D9*100 -> -6.7467227 | F31: =(F9-E9)/E9*100 -> 6.7267 | G31: =(G9-F9)/F9*100 -> -1.2551293 | H31: =(H9-G9)/G9*100 -> -1.3778019 | I31: =(I9-H9)/H9*100 -> -2.5048598 | J31: =(J9-I9)/I9*100 -> 1.9826255 | ... BP31: =(BP9-BO9)/BO9*100 -> 2.4187224 | BQ31: =BO31-B31 -> 1.6027022 | BR31: =MAX(B31:BO31)-MIN(B31:BO31) -> 67.837728
A33: Durban Total Consumption pa % Change | N33: =(N14-B14)/B14*100 -> -6.7605511 | O33: =(O14-C14)/C14*100 -> -19.387573 | P33: =(P14-D14)/D14*100 -> -8.9678018 | Q33: =(Q14-E14)/E14*100 -> -7.1227625 | R33: =(R14-F14)/F14*100 -> -15.928451 | S33: =(S14-G14)/G14*100 -> -2.4166816 | T33: =(T14-H14)/H14*100 -> -9.5344606 | U33: =(U14-I14)/I14*100 -> 0.92537334 | ... AW33: =(AW14-AK14)/AK14*100 -> 21.099628 | BP33: =AVERAGE(T33:BO33) -> 6.6410435 | BQ33: =BO33-T33 -> 9.5344606 | BR33: =MAX(T33:BO33)-MIN(T33:BO33) -> 35.996327
A34: Pietermaritzburg Total Consumption pa % Change | N34: =(N15-B15)/B15*100 -> -2.3192334 | O34: =(O15-C15)/C15*100 -> -6.6829491 | P34: =(P15-D15)/D15*100 -> -1.8373085 | Q34: =(Q15-E15)/E15*100 -> 6.2111845 | R34: =(R15-F15)/F15*100 -> 2.3898306 | S34: =(S15-G15)/G15*100 -> 10.843855 | T34: =(T15-H15)/H15*100 -> 3.4751771 | U34: =(U15-I15)/I15*100 -> 22.173844 | ... AW34: =(AW15-AK15)/AK15*100 -> 11.953933 | BP34: =AVERAGE(T34:BO34) -> 10.094418 | BQ34: =BO34-T34 -> -3.4751771 | BR34: =MAX(T34:BO34)-MIN(T34:BO34) -> 35.40971
A35: Richards Bay Total Consumption pa % Change | N35: =(N16-B16)/B16*100 -> -18.146176 | O35: =(O16-C16)/C16*100 -> -25.442252 | P35: =(P16-D16)/D16*100 -> -6.8213178 | Q35: =(Q16-E16)/E16*100 -> -31.669518 | R35: =(R16-F16)/F16*100 -> -28.263717 | S35: =(S16-G16)/G16*100 -> -7.223806 | T35: =(T16-H16)/H16*100 -> -24.082945 | U35: =(U16-I16)/I16*100 -> 1.4833939 | ... AW35: =(AW16-AK16)/AK16*100 -> 1.8677359 | BP35: =AVERAGE(T35:BO35) -> 0.28467288 | BQ35: =BO35-T35 -> 24.082945 | BR35: =MAX(T35:BO35)-MIN(T35:BO35) -> 50.196689
A36: Port Shepstone Total Consumption pa % Change | N36: =(N17-B17)/B17*100 -> 7.9979025 | O36: =(O17-C17)/C17*100 -> -1.8297296 | P36: =(P17-D17)/D17*100 -> 5.2955211 | Q36: =(Q17-E17)/E17*100 -> 9.4212305 | R36: =(R17-F17)/F17*100 -> -0.081707386 | S36: =(S17-G17)/G17*100 -> 10.366723 | T36: =(T17-H17)/H17*100 -> 10.773309 | U36: =(U17-I17)/I17*100 -> 24.918767 | ... AW36: =(AW17-AK17)/AK17*100 -> 19.486893 | BP36: =AVERAGE(T36:BO36) -> 2.9771105 | BQ36: =BO36-T36 -> -10.773309 | BR36: =MAX(T36:BO36)-MIN(T36:BO36) -> 57.065234
A37: New Castle Total Consumption pa % Change | N37: =(N18-B18)/B18*100 -> 0.98613629 | O37: =(O18-C18)/C18*100 -> -21.665384 | P37: =(P18-D18)/D18*100 -> -7.8508968 | Q37: =(Q18-E18)/E18*100 -> 5.6372643 | R37: =(R18-F18)/F18*100 -> -11.734313 | S37: =(S18-G18)/G18*100 -> 3.5935497 | T37: =(T18-H18)/H18*100 -> -1.6847575 | U37: =(U18-I18)/I18*100 -> 12.972729 | ... AW37: =(AW18-AK18)/AK18*100 -> 3.0076858 | BP37: =AVERAGE(T37:BO37) -> -1.4508613 | BQ37: =BO37-T37 -> 1.6847575 | BR37: =MAX(T37:BO37)-MIN(T37:BO37) -> 32.04412
A38: Urban Total Consumption pa % Change | N38: =(N9-B9)/B9*100 -> 0.28253268 | O38: =(O9-C9)/C9*100 -> -9.0736429 | P38: =(P9-D9)/D9*100 -> 2.682707 | Q38: =(Q9-E9)/E9*100 -> 4.5731764 | R38: =(R9-F9)/F9*100 -> -5.2057082 | S38: =(S9-G9)/G9*100 -> 4.3192537 | T38: =(T9-H9)/H9*100 -> 2.1672494 | U38: =(U9-I9)/I9*100 -> 20.2635 | ... AW38: =(AW9-AK9)/AK9*100 -> 17.865722 | BP38: =AVERAGE(T38:BO38) -> 7.0453641 | BQ38: =BO38-T38 -> -2.1672494 | BR38: =MAX(T38:BO38)-MIN(T38:BO38) -> 43.048435
BP39: =AVERAGE(T39:BO39) -> #DIV/0! | BQ39: =BO39-T39 -> 0 | BR39: =MAX(T39:BO39)-MIN(T39:BO39) -> 0
BP40: =AVERAGE(T40:BO40) -> #DIV/0! | BQ40: =BO40-T40 -> 0 | BR40: =MAX(T40:BO40)-MIN(T40:BO40) -> 0
BP41: =AVERAGE(T41:BO41) -> #DIV/0! | BQ41: =BO41-T41 -> 0 | BR41: =MAX(T41:BO41)-MIN(T41:BO41) -> 0
BP42: =AVERAGE(T42:BO42) -> #DIV/0! | BQ42: =BO42-T42 -> 0 | BR42: =MAX(T42:BO42)-MIN(T42:BO42) -> 0
BP43: =AVERAGE(T43:BO43) -> #DIV/0! | BQ43: =BO43-T43 -> 0 | BR43: =MAX(T43:BO43)-MIN(T43:BO43) -> 0
BP44: =AVERAGE(T44:BO44) -> #DIV/0! | BQ44: =BO44-T44 -> 0 | BR44: =MAX(T44:BO44)-MIN(T44:BO44) -> 0
BP45: =AVERAGE(T45:BO45) -> #DIV/0! | BQ45: =BO45-T45 -> 0 | BR45: =MAX(T45:BO45)-MIN(T45:BO45) -> 0
BP46: =AVERAGE(T46:BO46) -> #DIV/0! | BQ46: =BO46-T46 -> 0 | BR46: =MAX(T46:BO46)-MIN(T46:BO46) -> 0
BP47: =AVERAGE(T47:BO47) -> #DIV/0! | BQ47: =BO47-T47 -> 0 | BR47: =MAX(T47:BO47)-MIN(T47:BO47) -> 0
BP48: =AVERAGE(T48:BO48) -> #DIV/0! | BQ48: =BO48-T48 -> 0 | BR48: =MAX(T48:BO48)-MIN(T48:BO48) -> 0
...

Sheet Petrol
A1: Petrol Consumption (liters) | B1: Munic | C1: 39448 | D1: 39479 | E1: 39508 | F1: 39539 | G1: 39569 | H1: 39600 | I1: 39630 | J1: 39661 | K1: 39692 | L1: 39722 | M1: 39753 | N1: 39783 | O1: 39814 | P1: 39845 | Q1: 39873 | R1: 39904 | S1: 39934 | T1: 39965 | U1: 39995 | V1: 40026 | W1: 40057 | X1: 40087 | Y1: 40118 | Z1: 40148 | AA1: 40179 | AB1: 40210 | AC1: 40238 | AD1: 40269 | AE1: 40299 | AF1: 40330 | AG1: 40360 | AH1: 40391 | AI1: 40422 | AJ1: 40452 | AK1: 40483 | AL1: 40513 | AM1: 40544 | AN1: 40575 | AO1: 40603 | AP1: 40634 | AQ1: 40664 | AR1: 40695 | AS1: 40725 | AT1: 40756 | AU1: 40787 | AV1: 40817 | AW1: 40848 | AX1: 40878 | AY1: 40909 | AZ1: 40940 | BA1: 40969 | BB1: 41000 | BC1: 41030 | BD1: 41061 | BE1: 41091 | BF1: 41122 | BG1: 41153 | BH1: 41183 | BI1: 41214 | BJ1: 41257 | BK1: 41275 | BL1: 41306 | BM1: 41334 | BN1: 41365 | BO1: 41395 | BP1: 41426
A2: Alfred | B2: uMuziwabantu | C2: 763775 | D2: 731213 | E2: 786223 | F2: 697978 | G2: 703589 | H2: 656755 | I2: 698172 | J2: 683700 | K2: 664266 | L2: 780426 | M2: 714991 | N2: 825008 | O2: 751581 | P2: 748765 | Q2: 804698 | R2: 765318 | S2: 741546 | T2: 780014 | U2: 779389 | V2: 902323 | W2: 869812.66 | X2: 849505.72 | Y2: 913186.88 | Z2: 902323 | AA2: 869812.66 | AB2: 849505.72 | AC2: 913186.88 | AD2: 819969.35 | AE2: 795519.96 | AF2: 838540.9 | AG2: 827133.19 | AH2: 928223.9 | AI2: 742913.58 | AJ2: 725569.28 | AK2: 779959.84 | AL2: 703847.96 | AM2: 690674.3 | AN2: 695863.74 | AO2: 742469.19 | AP2: 715555.93 | AQ2: 694219.89 | AR2: 789940.79 | AS2: 756499.27 | AT2: 874425.94 | AU2: 694219.89 | AV2: 789940.79 | AW2: 756499.27 | AX2: 874425.94 | AY2: =2197249*33/100 -> 725092.17 | AZ2: =2197249*32/100 -> 703119.68 | BA2: =2197249*35/100 -> 769037.15 | BB2: =1509419*34/100 -> 513202.46 | BC2: =1509419*33/100 -> 498108.27 | BD2: =1509419*33/100 -> 498108.27 | BE2: =1673262*34/100 -> 568909.08 | BF2: =1673262*33/100 -> 552176.46 | BG2: =1673262*32/100 -> 535443.84 | BH2: =963018*32/100 -> 308165.76 | BI2: =963018*32/100 -> 308165.76 | BJ2: =963018*34/100 -> 327426.12 | BK2: =1517444*33/100 -> 500756.52 | BL2: =1517444*32/100 -> 485582.08 | BM2: =1517444*35/100 -> 531105.4 | BN2: =1471208*34/100 -> 500210.72 | BO2: =1471208*33/100 -> 485498.64 | BP2: =1471208*33/100 -> 485498.64
A3: Babanango | B3: Ulundi | C3: 27652 | D3: 19835 | E3: 19746 | F3: 23973 | G3: 23989 | H3: 15855 | I3: 28025 | J3: 23575 | K3: 15903 | L3: 31987 | M3: 15872 | N3: 31742 | O3: 27719 | P3: 11881 | Q3: 31795 | R3: 0 | S3: 0 | T3: 0 | U3: 0 | V3: 0 | W3: 0 | X3: 0 | Y3: 0 | Z3: 0 | AA3: 0 | AB3: 0 | AC3: 0 | AD3: 0 | AE3: 0 | AF3: 0 | AG3: 0 | AH3: 0 | AI3: 0 | AJ3: 0 | AK3: 0 | AL3: 0 | AM3: 0 | AN3: 0 | AO3: 0 | AP3: 0 | AQ3: 0 | AR3: 0 | AS3: 0 | AT3: 0 | AU3: 0 | AV3: 0 | AW3: 0 | AX3: 0 | AY3: 0 | AZ3: 0 | BA3: 0 | BB3: 0 | BC3: 0 | BD3: 0 | BE3: 0 | BF3: 0 | BG3: 0 | BH3: 0 | BI3: 0 | BJ3: 0 | BK3: 0 | BL3: 0 | BM3: 0 | BN3: 0 | BO3: 0 | BP3: 0
A4: Bergville | B4: Okhahlamba | C4: 713502 | D4: 560609 | E4: 650628 | F4: 649707 | G4: 630947 | H4: 599918 | I4: 671053 | J4: 555000 | K4: 609915 | L4: 713240 | M4: 549474 | N4: 848031 | O4: 773060 | P4: 602463 | Q4: 632962 | R4: 679777 | S4: 632804 | T4: 644619 | U4: 673030 | V4: 867305 | W4: 692177 | X4: 676017.21 | Y4: 726693.22 | Z4: 867305 | AA4: 692177 | AB4: 676017.21 | AC4: 726693.22 | AD4: 707030.24 | AE4: 685948.42 | AF4: 748062.09 | AG4: 737885.27 | AH4: 828068.26 | AI4: 684882.43 | AJ4: 668892.94 | AK4: 719034.89 | AL4: 678869.01 | AM4: 666162.86 | AN4: 671168.13 | AO4: 733164.89 | AP4: 706588.89 | AQ4: 685520.22 | AR4: 685151.84 | AS4: 656146.48 | AT4: 758429.68 | AU4: 685520.22 | AV4: 685151.84 | AW4: 656146.48 | AX4: 758429.68 | AY4: =1710763*33/100 -> 564551.79 | AZ4: =1710763*32/100 -> 547444.16 | BA4: =1710763*35/100 -> 598767.05 | BB4: =807852*34/100 -> 274669.68 | BC4: =807852*33/100 -> 266591.16 | BD4: =807852*33/100 -> 266591.16 | BE4: =54310097*34/100 -> 18465433 | BF4: =54310097*33/100 -> 17922332 | BG4: =54310097*33/100 -> 17922332 | BH4: =945823*32/100 -> 302663.36 | BI4: =945823*32/100 -> 302663.36 | BJ4: =945823*34/100 -> 321579.82 | BK4: =846047*33/100 -> 279195.51 | BL4: =846047*32/100 -> 270735.04 | BM4: =846047*35/100 -> 296116.45 | BN4: =801696*34/100 -> 272576.64 | BO4: =801696*33/100 -> 264559.68 | BP4: =801696*33/100 -> 264559.68
A5: Camperdown | B5: Mkhambathini | C5: 2009160 | D5: 1857003 | E5: 2121322 | F5: 1872045 | G5: 1903648 | H5: 1798941 | I5: 1687889 | J5: 1703703 | K5: 1804608 | L5: 1929637 | M5: 1725096 | N5: 2486651 | O5: 1943011 | P5: 1794127 | Q5: 2196835 | R5: 2076517 | S5: 1908844 | T5: 2051563 | U5: 1971892 | V5: 2403084 | W5: 2695800.3 | X5: 2632863.2 | Y5: 2830229.5 | Z5: 2403084 | AA5: 2695800.3 | AB5: 2632863.2 | AC5: 2830229.5 | AD5: 2664430.7 | AE5: 2584984.2 | AF5: 2792729.5 | AG5: 2754736.5 | AH5: 3091415.4 | AI5: 2404335.7 | AJ5: 2348203.3 | AK5: 2524230.8 | AL5: 2320634.3 | AM5: 2277199.9 | AN5: 2294309.8 | AO5: 2371656.8 | AP5: 2285688.3 | AQ5: 2217534.9 | AR5: 2495823.8 | AS5: 2390165 | AT5: 2762755.2 | AU5: 2217534.9 | AV5: 2495823.8 | AW5: 2390165 | AX5: 2762755.2 | AY5: =6894427*33/100 -> 2275160.9 | AZ5: =6894427*32/100 -> 2206216.6 | BA5: =6894427*35/100 -> 2413049.5 | BB5: =5679214*34/100 -> 1930932.8 | BC5: =5679214*33/100 -> 1874140.6 | BD5: =5679214*33/100 -> 1874140.6 | BE5: =5773548*34/100 -> 1963006.3 | BF5: =5773548*33/100 -> 1905270.8 | BG5: =5773548*33/100 -> 1905270.8 | BH5: =6464024*32/100 -> 2068487.7 | BI5: =6464024*32/100 -> 2068487.7 | BJ5: =6464024*34/100 -> 2197768.2 | BK5: =5781501*33/100 -> 1907895.3 | BL5: =5781501*32/100 -> 1850080.3 | BM5: =5781501*35/100 -> 2023525.4 | BN5: =5833592*34/100 -> 1983421.3 | BO5: =5833592*33/100 -> 1925085.4 | BP5: =5833592*33/100 -> 1925085.4
A6: Chatsworth | B6: eThekwini | C6: 4341957 | D6: 4359314 | E6: 4623960 | F6: 3912663 | G6: 4328228 | H6: 4052338 | I6: 3759568 | J6: 4106373 | K6: 3889950 | L6: 4338006 | M6: 3921940 | N6: 4818626 | O6: 4325410 | P6: 3896722 | Q6: 4417093 | R6: 4477452 | S6: 3917486 | T6: 4069071 | U6: 4195473 | V6: 4497144 | W6: 4840916.1 | X6: 4727898.5 | Y6: 5082314.1 | Z6: 4497144 | AA6: 4840916.1 | AB6: 4727898.5 | AC6: 5082314.1 | AD6: 4775390.7 | AE6: 4633000.8 | AF6: 4786967.1 | AG6: 4721844.1 | AH6: 5298939.2 | AI6: 4157238.6 | AJ6: 4060182.4 | AK6: 4364544.2 | AL6: 4058663.6 | AM6: 3982699.1 | AN6: 4012623.4 | AO6: 4218272.5 | AP6: 4065367.2 | AQ6: 3944148.4 | AR6: 4183099.8 | AS6: 4006011.6 | AT6: 4630487.6 | AU6: 3944148.4 | AV6: 4183099.8 | AW6: 4006011.6 | AX6: 4630487.6 | AY6: =12239237*33/100 -> 4038948.2 | AZ6: =12239237*32/100 -> 3916555.8 | BA6: =12239237*35/100 -> 4283733 | BB6: =11664587*34/100 -> 3965959.6 | BC6: =11664587*33/100 -> 3849313.7 | BD6: =11664587*33/100 -> 3849313.7 | BE6: =14026746*34/100 -> 4769093.6 | BF6: =14026746*33/100 -> 4628826.2 | BG6: =14026746*33/100 -> 4628826.2 | BH6: =12497492*32/100 -> 3999197.4 | BI6: =12497492*32/100 -> 3999197.4 | BJ6: =12497492*34/100 -> 4249147.3 | BK6: =11645266*33/100 -> 3842937.8 | BL6: =11645266*32/100 -> 3726485.1 | BM6: =11645266*35/100 -> 4075843.1 | BN6: =11763956*34/100 -> 3999745 | BO6: =11763956*33/100 -> 3882105.5 | BP6: =11763956*33/100 -> 3882105.5
A7: Dannhauser | B7: Dannhouser | C7: 167348 | D7: 163234 | E7: 181194 | F7: 168883 | G7: 165096 | H7: 164644 | I7: 118478 | J7: 138759 | K7: 138842 | L7: 199275 | M7: 150445 | N7: 188108 | O7: 226657 | P7: 130848 | Q7: 190392 | R7: 149097 | S7: 101044 | T7: 172702 | U7: 112733 | V7: 160441 | W7: 158073.61 | X7: 154383.17 | Y7: 165956.13 | Z7: 160441 | AA7: 158073.61 | AB7: 154383.17 | AC7: 165956.13 | AD7: 166516.24 | AE7: 161551.15 | AF7: 176662.61 | AG7: 174259.25 | AH7: 195556.89 | AI7: 144339.79 | AJ7: 140969.99 | AK7: 151537.47 | AL7: 142019.72 | AM7: 139361.59 | AN7: 140408.69 | AO7: 146480.22 | AP7: 141170.56 | AQ7: 136961.22 | AR7: 108415.83 | AS7: 103826.13 | AT7: 120011.04 | AU7: 136961.22 | AV7: 108415.83 | AW7: 103826.13 | AX7: 120011.04 | AY7: =286058*33/100 -> 94399.14 | AZ7: =286058*32/100 -> 91538.56 | BA7: =286058*35/100 -> 100120.3 | BB7: =313586*34/100 -> 106619.24 | BC7: =313586*33/100 -> 103483.38 | BD7: =313586*33/100 -> 103483.38 | BE7: =469008*34/100 -> 159462.72 | BF7: =469008*33/100 -> 154772.64 | BG7: =469008*33/100 -> 154772.64 | BH7: =335535*32/100 -> 107371.2 | BI7: =335535*32/100 -> 107371.2 | BJ7: =335535*34/100 -> 114081.9 | BK7: =305117*33/100 -> 100688.61 | BL7: =305117*32/100 -> 97637.44 | BM7: =305117*35/100 -> 106790.95 | BN7: =324286*34/100 -> 110257.24 | BO7: =324286*33/100 -> 107014.38 | BP7: =324286*33/100 -> 107014.38
A8: Dundee | B8: Endumeni | C8: 1124979 | D8: 911119 | E8: 1124885 | F8: 901150 | G8: 1085592 | H8: 940598 | I8: 1025441 | J8: 893772 | K8: 910650 | L8: 1028481 | M8: 831753 | N8: 1271044 | O8: 1116903 | P8: 1028267 | Q8: 1052672 | R8: 1095772 | S8: 964353 | T8: 1111360 | U8: 1028207 | V8: 1317615 | W8: 1208950.2 | X8: 1180725.7 | Y8: 1269235.9 | Z8: 1317615 | AA8: 1208950.2 | AB8: 1180725.7 | AC8: 1269235.9 | AD8: 1226913.6 | AE8: 1190330.2 | AF8: 1296812.5 | AG8: 1279170.3 | AH8: 1435508.2 | AI8: 1089637.2 | AJ8: 1064198.1 | AK8: 1143973.2 | AL8: 1099513.6 | AM8: 1078934.4 | AN8: 1087041 | AO8: 1103540.3 | AP8: 1063538.8 | AQ8: 1031826.8 | AR8: 597612.03 | AS8: 572312.59 | AT8: 661527.38 | AU8: 1031826.8 | AV8: 597612.03 | AW8: 572312.59 | AX8: 661527.38 | AY8: =1708401*33/100 -> 563772.33 | AZ8: =1708401*32/100 -> 546688.32 | BA8: =1708401*35/100 -> 597940.35 | BB8: =1550780*34/100 -> 527265.2 | BC8: =1550780*33/100 -> 511757.4 | BD8: =1550780*33/100 -> 511757.4 | BE8: =1840070*34/100 -> 625623.8 | BF8: =1840070*33/100 -> 607223.1 | BG8: =1840070*33/100 -> 607223.1 | BH8: =1861357*32/100 -> 595634.24 | BI8: =1861357*32/100 -> 595634.24 | BJ8: =1861357*34/100 -> 632861.38 | BK8: =1671843*33/100 -> 551708.19 | BL8: =1671843*32/100 -> 534989.76 | BM8: =1671843*35/100 -> 585145.05 | BN8: =1712927*34/100 -> 582395.18 | BO8: =1712927*33/100 -> 565265.91 | BP8: =1712927*33/100 -> 565265.91
A9: Durban | B9: eThekwini | C9: 48194981 | D9: 50561268 | E9: 50737237 | F9: 44569972 | G9: 48770181 | H9: 45942217 | I9: 44170000 | J9: 45391030 | K9: 44339606 | L9: 50321315 | M9: 44291498 | N9: 53296413 | O9: 47731071 | P9: 45463374 | Q9: 50620279 | R9: 51769062 | S9: 45635914 | T9: 50144443 | U9: 49802938 | V9: 50667753 | W9: 48373026 | X9: 47243693 | Y9: 50785203 | Z9: 50667753 | AA9: 48373026 | AB9: 47243693 | AC9: 50785203 | AD9: 48567636 | AE9: 47119474 | AF9: 45993897 | AG9: 45368185 | AH9: 50913002 | AI9: 57534259 | AJ9: 56191045 | AK9: 60403272 | AL9: 54316440 | AM9: 53299820 | AN9: 53700292 | AO9: 60049522 | AP9: 57872828 | AQ9: 56147209 | AR9: 59775323 | AS9: 57244782 | AT9: 60168369 | AU9: 56147209 | AV9: 59775323 | AW9: 57244782 | AX9: 60168369 | AY9: =191289719*33/100 -> 63125607 | AZ9: =191289719*32/100 -> 61212710 | BA9: =191289719*35/100 -> 66951402 | BB9: =194551891*34/100 -> 66147643 | BC9: =194551891*33/100 -> 64202124 | BD9: =194551891*33/100 -> 64202124 | BE9: =209736968*34/100 -> 71310569 | BF9: =209736968*33/100 -> 69213199 | BG9: =209736968*33/100 -> 69213199 | BH9: =205596068*32/100 -> 65790742 | BI9: =205596068*32/100 -> 65790742 | BJ9: =205596068*34/100 -> 69902663 | BK9: =178105098*33/100 -> 58774682 | BL9: =178105098*32/100 -> 56993631 | BM9: =178105098*35/100 -> 62336784 | BN9: =180121329*34/100 -> 61241252 | BO9: =180121329*33/100 -> 59440039 | BP9: =180121329*33/100 -> 59440039
A10: Eshowe | B10: Umtshezi | C10: 1420266 | D10: 1377000 | E10: 1445868 | F10: 1348806 | G10: 1376484 | H10: 1296506 | I10: 1343484 | J10: 1301640 | K10: 1292482 | L10: 1386714 | M10: 1367922 | N10: 1684885 | O10: 1538931 | P10: 1330935 | Q10: 1455011 | R10: 1476184 | S10: 1342929 | T10: 1512634 | U10: 1515182 | V10: 1680539 | W10: 1396605.1 | X10: 1363999.5 | Y10: 1466248.5 | Z10: 1680539 | AA10: 1396605.1 | AB10: 1363999.5 | AC10: 1466248.5 | AD10: 1251372.8 | AE10: 1214060.1 | AF10: 1447035.2 | AG10: 1427349.4 | AH10: 1601797.5 | AI10: 1488896.8 | AJ10: 1454136.6 | AK10: 1563142.4 | AL10: 1536560.5 | AM10: 1507801.3 | AN10: 1519130.2 | AO10: 1499598.1 | AP10: 1445240.1 | AQ10: 1402146.8 | AR10: 1522154.6 | AS10: 1457715.4 | AT10: 1684951 | AU10: 1402146.8 | AV10: 1522154.6 | AW10: 1457715.4 | AX10: 1684951 | AY10: =4199322*33/100 -> 1385776.3 | AZ10: =4199322*32/100 -> 1343783 | BA10: =4199322*35/100 -> 1469762.7 | BB10: =3936232*34/100 -> 1338318.9 | BC10: =3936232*33/100 -> 1298956.6 | BD10: =3936232*33/100 -> 1298956.6 | BE10: =4738164*34/100 -> 1610975.8 | BF10: =4738164*33/100 -> 1563594.1 | BG10: =4738164*33/100 -> 1563594.1 | BH10: =4894099*32/100 -> 1566111.7 | BI10: =4894099*32/100 -> 1566111.7 | BJ10: =4894099*34/100 -> 1663993.7 | BK10: =9881537*33/100 -> 3260907.2 | BL10: =9881537*32/100 -> 3162091.8 | BM10: =9881537*35/100 -> 3458538 | BN10: =9624380*34/100 -> 3272289.2 | BO10: =9624380*33/100 -> 3176045.4 | BP10: =9624380*33/100 -> 3176045.4
A11: Estcourt | B11: uMlalazi | C11: 2618057 | D11: 2485438 | E11: 2592021 | F11: 2227496 | G11: 2376475 | H11: 2131297 | I11: 2002865 | J11: 1903203 | K11: 2114402 | L11: 2361687 | M11: 2048717 | N11: 3057662 | O11: 2715021 | P11: 1953512 | Q11: 2312126 | R11: 2449686 | S11: 2196374 | T11: 2244891 | U11: 2285305 | V11: 3053729 | W11: 2446624.1 | X11: 2389504.4 | Y11: 2568627.9 | Z11: 3053729 | AA11: 2446624.1 | AB11: 2389504.4 | AC11: 2568627.9 | AD11: 2410340.5 | AE11: 2338470.3 | AF11: 2558232.3 | AG11: 2523429.5 | AH11: 2831838.4 | AI11: 2277451.2 | AJ11: 2224281.1 | AK11: 2391019 | AL11: 2203997.6 | AM11: 2162746.2 | AN11: 2178996.2 | AO11: 2313275.1 | AP11: 2229422.8 | AQ11: 2162947.1 | AR11: 2307692.9 | AS11: 2209998.5 | AT11: 2554503.5 | AU11: 2162947.1 | AV11: 2307692.9 | AW11: 2209998.5 | AX11: 2554503.5 | AY11: =6399389*33/100 -> 2111798.4 | AZ11: =6399389*32/100 -> 2047804.5 | BA11: =6399389*35/100 -> 2239786.1 | BB11: =5605813*34/100 -> 1905976.4 | BC11: =5605813*33/100 -> 1849918.3 | BD11: =5605813*33/100 -> 1849918.3 | BE11: =6572202*34/100 -> 2234548.7 | BF11: =6572202*33/100 -> 2168826.7 | BG11: =6572202*33/100 -> 2168826.7 | BH11: =6092767*32/100 -> 1949685.4 | BI11: =6092767*32/100 -> 1949685.4 | BJ11: =6092767*34/100 -> 2071540.8 | BK11: =5399550*33/100 -> 1781851.5 | BL11: =5399550*32/100 -> 1727856 | BM11: =5399550*35/100 -> 1889842.5 | BN11: =5362013*34/100 -> 1823084.4 | BO11: =5362013*33/100 -> 1769464.3 | BP11: =5362013*33/100 -> 1769464.3
A12: Glencoe | B12: Endumeni | C12: 186747 | D12: 166969 | E12: 173270 | F12: 163084 | G12: 174422 | H12: 157056 | I12: 156105 | J12: 151461 | K12: 155287 | L12: 172333 | M12: 142684 | N12: 215571 | O12: 180850 | P12: 170502 | Q12: 190146 | R12: 179096 | S12: 173121 | T12: 178663 | U12: 179981 | V12: 203823 | W12: 141131.22 | X12: 137836.32 | Y12: 148168.89 | Z12: 203823 | AA12: 141131.22 | AB12: 137836.32 | AC12: 148168.89 | AD12: 127937.58 | AE12: 124122.81 | AF12: 130023.57 | AG12: 128254.7 | AH12: 143929.76 | AI12: 180259.17 | AJ12: 176050.78 | AK12: 189248 | AL12: 165917.17 | AM12: 162811.76 | AN12: 164035.06 | AO12: 193270.12 | AP12: 186264.4 | AQ12: 180710.48 | AR12: 179331.05 | AS12: 171739.21 | AT12: 198510.73 | AU12: 180710.48 | AV12: 179331.05 | AW12: 171739.21 | AX12: 198510.73 | AY12: =535581*33/100 -> 176741.73 | AZ12: =535581*32/100 -> 171385.92 | BA12: =535581*35/100 -> 187453.35 | BB12: =490875*34/100 -> 166897.5 | BC12: =490875*33/100 -> 161988.75 | BD12: =490875*33/100 -> 161988.75 | BE12: =642041*34/100 -> 218293.94 | BF12: =642041*33/100 -> 211873.53 | BG12: =642041*33/100 -> 211873.53 | BH12: =519726*32/100 -> 166312.32 | BI12: =519726*32/100 -> 166312.32 | BJ12: =519726*34/100 -> 176706.84 | BK12: =463319*33/100 -> 152895.27 | BL12: =463319*32/100 -> 148262.08 | BM12: =463319*35/100 -> 162161.65 | BN12: =444560*34/100 -> 151150.4 | BO12: =444560*33/100 -> 146704.8 | BP12: =444560*33/100 -> 146704.8
A13: Hlabisa | B13: Hlabisa | C13: 2508297 | D13: 2192907 | E13: 2405949 | F13: 2088428 | G13: 2219241 | H13: 2235713 | I13: 2154621 | J13: 2382071 | K13: 2276946 | L13: 2474014 | M13: 2397328 | N13: 3060007 | O13: 2765805 | P13: 2358037 | Q13: 2537076 | R13: 2625068 | S13: 2379873 | T13: 2573427 | U13: 2425281 | V13: 3073011 | W13: 2064737.3 | X13: 2016533.3 | Y13: 2167697.9 | Z13: 3073011 | AA13: 2064737.3 | AB13: 2016533.3 | AC13: 2167697.9 | AD13: 1989261.9 | AE13: 1929947.2 | AF13: 2081313.5 | AG13: 2052998.8 | AH13: 2303912.6 | AI13: 2252531.7 | AJ13: 2199943.3 | AK13: 2364856.8 | AL13: 2123828.7 | AM13: 2084077.7 | AN13: 2099736.6 | AO13: 2258206.9 | AP13: 2176350.7 | AQ13: 2111457.5 | AR13: 2006351.5 | AS13: 1921414.2 | AT13: 2220933.3 | AU13: 2111457.5 | AV13: 2006351.5 | AW13: 1921414.2 | AX13: 2220933.3 | AY13: =5351914*33/100 -> 1766131.6 | AZ13: =5351914*32/100 -> 1712612.5 | BA13: =5351914*35/100 -> 1873169.9 | BB13: =4937880*34/100 -> 1678879.2 | BC13: =4937880*33/100 -> 1629500.4 | BD13: =4937880*33/100 -> 1629500.4 | BE13: =5636139*34/100 -> 1916287.3 | BF13: =5636139*33/100 -> 1859925.9 | BG13: =5636139*33/100 -> 1859925.9 | BH13: =5609536*32/100 -> 1795051.5 | BI13: =5609536*32/100 -> 1795051.5 | BJ13: =5609536*34/100 -> 1907242.2 | BK13: =4683249*33/100 -> 1545472.2 | BL13: =4683249*32/100 -> 1498639.7 | BM13: =4683249*35/100 -> 1639137.1 | BN13: =4597467*34/100 -> 1563138.8 | BO13: =4597467*33/100 -> 1517164.1 | BP13: =4597467*33/100 -> 1517164.1
A14: Impendle | B14: Impendle | C14: 189156 | D14: 175191 | E14: 248613 | F14: 159084 | G14: 141391 | H14: 124189 | I14: 132624 | J14: 139199 | K14: 126616 | L14: 152219 | M14: 136606 | N14: 214219 | O14: 129193 | P14: 159985 | Q14: 175724 | R14: 159939 | S14: 126230 | T14: 136224 | U14: 121959 | V14: 160255 | W14: 125014.98 | X14: 122096.34 | Y14: 131249 | Z14: 160255 | AA14: 125014.98 | AB14: 122096.34 | AC14: 131249 | AD14: 153614.38 | AE14: 149033.99 | AF14: 137672.55 | AG14: 135799.62 | AH14: 152396.8 | AI14: 155684.16 | AJ14: 152049.51 | AK14: 163447.53 | AL14: 55898.105 | AM14: 54851.881 | AN14: 55264.014 | AO14: 61597.919 | AP14: 59365.098 | AQ14: 57594.983 | AR14: 56049.418 | AS14: 53676.61 | AT14: 62043.973 | AU14: 57594.983 | AV14: 56049.418 | AW14: 53676.61 | AX14: 62043.973 | AY14: =135107*33/100 -> 44585.31 | AZ14: =135107*32/100 -> 43234.24 | BA14: =135107*35/100 -> 47287.45 | BB14: 0 | BC14: 0 | BD14: 0 | BE14: 0 | BF14: 0 | BG14: 0 | BH14: 0 | BI14: 0 | BJ14: 0 | BK14: 0 | BL14: 0 | BM14: 0 | BN14: 0 | BO14: 0 | BP14: 0
A15: Inanda | B15: eThekwini | C15: 10182236 | D15: 10025030 | E15: 10893362 | F15: 9355076 | G15: 10216055 | H15: 9394717 | I15: 9433382 | J15: 9253308 | K15: 9094919 | L15: 10257633 | M15: 9381008 | N15: 11452431 | O15: 10691591 | P15: 9612750 | Q15: 10920471 | R15: 11268730 | S15: 10591225 | T15: 10533151 | U15: 10546909 | V15: 11367425 | W15: 12107411 | X15: 11824748 | Y15: 12711161 | Z15: 11367425 | AA15: 12107411 | AB15: 11824748 | AC15: 12711161 | AD15: 12355219 | AE15: 11986818 | AF15: 12733991 | AG15: 12560754 | AH15: 14095907 | AI15: 11793619 | AJ15: 11518281 | AK15: 12381721 | AL15: 11356350 | AM15: 11143797 | AN15: 11227527 | AO15: 12109642 | AP15: 11670688 | AQ15: 11322698 | AR15: 11733580 | AS15: 11236848 | AT15: 12988501 | AU15: 11322698 | AV15: 11733580 | AW15: 11236848 | AX15: 12988501 | AY15: =34763411*33/100 -> 11471926 | AZ15: =34763411*32/100 -> 11124292 | BA15: =34763411*35/100 -> 12167194 | BB15: =33531440*33/100 -> 11065375 | BC15: =33531440*32/100 -> 10730061 | BD15: =33531440*35/100 -> 11736004 | BE15: =39372330*34/100 -> 13386592 | BF15: =39372330*33/100 -> 12992869 | BG15: =39372330*33/100 -> 12992869 | BH15: =35447349*32/100 -> 11343152 | BI15: =35447349*32/100 -> 11343152 | BJ15: =35447349*34/100 -> 12052099 | BK15: =33292511*33/100 -> 10986529 | BL15: =33292511*32/100 -> 10653604 | BM15: =33292511*35/100 -> 11652379 | BN15: =33562939*34/100 -> 11411399 | BO15: =33562939*33/100 -> 11075770 | BP15: =33562939*33/100 -> 11075770
A16: Ingwavuma | B16: Jozini | C16: 891681 | D16: 794253 | E16: 875680 | F16: 790651 | G16: 821476 | H16: 791328 | I16: 809257 | J16: 812964 | K16: 803468 | L16: 843174 | M16: 766248 | N16: 1089578 | O16: 981851 | P16: 780852 | Q16: 960923 | R16: 926213 | S16: 780215 | T16: 924072 | U16: 824758 | V16: 1030884 | W16: 493341.78 | X16: 481824.06 | Y16: 517942.84 | Z16: 1030884 | AA16: 493341.78 | AB16: 481824.06 | AC16: 517942.84 | AD16: 484538.29 | AE16: 470090.6 | AF16: 470983.96 | AG16: 464576.58 | AH16: 521356.28 | AI16: 803669.21 | AJ16: 784906.48 | AK16: 843745.11 | AL16: 700233.75 | AM16: 687127.73 | AN16: 692290.52 | AO16: 800768.46 | AP16: 771741.95 | AQ16: 748730.59 | AR16: 803401.85 | AS16: 769390.47 | AT16: 889326.68 | AU16: 748730.59 | AV16: 803401.85 | AW16: 769390.47 | AX16: 889326.68 | AY16: =2238227*33/100 -> 738614.91 | AZ16: =2238227*32/100 -> 716232.64 | BA16: =2238227*35/100 -> 783379.45 | BB16: =2128357*34/100 -> 723641.38 | BC16: =2128357*33/100 -> 702357.81 | BD16: =2128357*33/100 -> 702357.81 | BE16: =2210495*34/100 -> 751568.3 | BF16: =2210495*33/100 -> 729463.35 | BG16: =2210495*33/100 -> 729463.35 | BH16: =2646244*32/100 -> 846798.08 | BI16: =2646244*32/100 -> 846798.08 | BJ16: =2646244*34/100 -> 899722.96 | BK16: =2308807*33/100 -> 761906.31 | BL16: =2308807*32/100 -> 738818.24 | BM16: =2308807*35/100 -> 808082.45 | BN16: =2336548*34/100 -> 794426.32 | BO16: =2336548*33/100 -> 771060.84 | BP16: =2336548*33/100 -> 771060.84
A17: Ixopo | B17: Ubuhlebezwe | C17: -50390 | D17: 121196 | E17: 12044 | F17: 60114 | G17: 27547 | H17: 487345 | I17: 13697 | J17: 171949 | K17: 131506 | L17: 210455 | M17: 25960 | N17: -78565 | O17: -59034 | P17: 35203 | Q17: -35148 | R17: -27263 | S17: 71142 | T17: 65080 | U17: 74057 | V17: 59223 | W17: -22667.515 | X17: -22138.312 | Y17: -23797.857 | Z17: 59223 | AA17: -22667.515 | AB17: -22138.312 | AC17: -23797.857 | AD17: -8650.7564 | AE17: -8392.813 | AF17: 706460.34 | AG17: 696849.48 | AH17: 782017.15 | AI17: 985192.6 | AJ17: 962191.97 | AK17: 1034320.4 | AL17: 989806.63 | AM17: 971280.79 | AN17: 978578.58 | AO17: 1026390.3 | AP17: 989185.35 | AQ17: 959690.38 | AR17: 1006794 | AS17: 964172.16 | AT17: 1114471.9 | AU17: 959690.38 | AV17: 1006794 | AW17: 964172.16 | AX17: 1114471.9 | AY17: =2946546*33/100 -> 972360.18 | AZ17: =2946546*32/100 -> 942894.72 | BA17: =2946546*35/100 -> 1031291.1 | BB17: =2933426*34/100 -> 997364.84 | BC17: =2933426*33/100 -> 968030.58 | BD17: =2933426*33/100 -> 968030.58 | BE17: =3181529*34/100 -> 1081719.9 | BF17: =3181529*33/100 -> 1049904.6 | BG17: =3181529*33/100 -> 1049904.6 | BH17: =3200542*32/100 -> 1024173.4 | BI17: =3200542*32/100 -> 1024173.4 | BJ17: =3200542*34/100 -> 1088184.3 | BK17: =1994074*33/100 -> 658044.42 | BL17: =1994074*32/100 -> 638103.68 | BM17: =1994074*35/100 -> 697925.9 | BN17: =3010350*34/100 -> 1023519 | BO17: =3010350*33/100 -> 993415.5 | BP17: =3010350*33/100 -> 993415.5
A18: Kliprivier | B18: Emnambithi | C18: 4172766 | D18: 3796482 | E18: 4065758 | F18: 3788739 | G18: 3802250 | H18: 3809021 | I18: 3814697 | J18: 3611335 | K18: 3775477 | L18: 4464301 | M18: 3663440 | N18: 5229900 | O18: 4422831 | P18: 3843421 | Q18: 4383918 | R18: 4538270 | S18: 3972300 | T18: 4396427 | U18: 4292580 | V18: 5342023 | W18: 4357607.2 | X18: 4255873.1 | Y18: 4574904.4 | Z18: 5342023 | AA18: 4357607.2 | AB18: 4255873.1 | AC18: 4574904.4 | AD18: 4426972.3 | AE18: 4294971.4 | AF18: 4503096.2 | AG18: 4441835 | AH18: 4984707.9 | AI18: 4521676.3 | AJ18: 4416111.7 | AK18: 4747154.9 | AL18: 4382001.1 | AM18: 4299984.8 | AN18: 4332293.1 | AO18: 5145057.3 | AP18: 4958557.6 | AQ18: 4810706.1 | AR18: 5166661.2 | AS18: 4947934.7 | AT18: 5719242.1 | AU18: 4810706.1 | AV18: 5166661.2 | AW18: 4947934.7 | AX18: 5719242.1 | AY18: =12847670*33/100 -> 4239731.1 | AZ18: =12847670*32/100 -> 4111254.4 | BA18: =12847670*35/100 -> 4496684.5 | BB18: =10269623*34/100 -> 3491671.8 | BC18: =10269623*33/100 -> 3388975.6 | BD18: =10269623*33/100 -> 3388975.6 | BE18: =10269623*34/100 -> 3491671.8 | BF18: =11648358*33/100 -> 3843958.1 | BG18: =11648358*33/100 -> 3843958.1 | BH18: =11546282*32/100 -> 3694810.2 | BI18: =11546282*32/100 -> 3694810.2 | BJ18: =11546282*34/100 -> 3925735.9 | BK18: =11353789*33/100 -> 3746750.4 | BL18: =11353789*32/100 -> 3633212.5 | BM18: =11353789*35/100 -> 3973826.1 | BN18: =1153254*34/100 -> 392106.36 | BO18: =1153254*33/100 -> 380573.82 | BP18: =1153254*33/100 -> 380573.82
A19: Kranskop | B19: Umvoti | C19: 164248 | D19: 140411 | E19: 113390 | F19: 219060 | G19: 190466 | H19: 225370 | I19: 125596 | J19: 122757 | K19: 123816 | L19: 142052 | M19: 120013 | N19: 185932 | O19: 162605 | P19: 121620 | Q19: 120086 | R19: 184557 | S19: 128926 | T19: 143312 | U19: 157078 | V19: 169775 | W19: 180185.68 | X19: 175979.01 | Y19: 189170.85 | Z19: 169775 | AA19: 180185.68 | AB19: 175979.01 | AC19: 189170.85 | AD19: 170267.16 | AE19: 165190.23 | AF19: 198274.86 | AG19: 195577.48 | AH19: 219480.6 | AI19: 166363.8 | AJ19: 162479.82 | AK19: 174659.73 | AL19: 187857.35 | AM19: 184341.29 | AN19: 185726.36 | AO19: 135356.18 | AP19: 130449.75 | AQ19: 126560.07 | AR19: 0 | AS19: 0 | AT19: 0 | AU19: 126560.07 | AV19: 0 | AW19: 0 | AX19: 0 | AY19: =1149490*33/100 -> 379331.7 | AZ19: =1149490*32/100 -> 367836.8 | BA19: =1149490*35/100 -> 402321.5 | BB19: =1078733*34/100 -> 366769.22 | BC19: =1078733*33/100 -> 355981.89 | BD19: =1078733*33/100 -> 355981.89 | BE19: =1289866*34/100 -> 438554.44 | BF19: =1289866*33/100 -> 425655.78 | BG19: =1289866*33/100 -> 425655.78 | BH19: =1121493*32/100 -> 358877.76 | BI19: =1121493*32/100 -> 358877.76 | BJ19: =1121493*34/100 -> 381307.62 | BK19: =1145460*33/100 -> 378001.8 | BL19: =1145460*32/100 -> 366547.2 | BM19: =1145460*35/100 -> 400911 | BN19: =1072140*34/100 -> 364527.6 | BO19: =1072140*33/100 -> 353806.2 | BP19: =1072140*33/100 -> 353806.2
A20: Lions River | B20: uMngeni | C20: 1000395 | D20: 1013084 | E20: 1087858 | F20: 922212 | G20: 998562 | H20: 951580 | I20: 906427 | J20: 937180 | K20: 993689 | L20: 1027984 | M20: 1060179 | N20: 1423897 | O20: 1101430 | P20: 1082633 | Q20: 1176625 | R20: 1049285 | S20: 1085459 | T20: 1091993 | U20: 1044507 | V20: 1264028 | W20: 1252146.7 | X20: 1222913.7 | Y20: 1314586.5 | Z20: 1264028 | AA20: 1252146.7 | AB20: 1222913.7 | AC20: 1314586.5 | AD20: 1168622.5 | AE20: 1133777.2 | AF20: 1250768 | AG20: 1233752.3 | AH20: 1384539.2 | AI20: 1098412.5 | AJ20: 1072768.6 | AK20: 1153186.1 | AL20: 1049425.7 | AM20: 1029784 | AN20: 1037521.3 | AO20: 1039062.6 | AP20: 1001398.3 | AQ20: 971539.16 | AR20: 974569.41 | AS20: 933311.78 | AT20: 1078800.8 | AU20: 971539.16 | AV20: 974569.41 | AW20: 933311.78 | AX20: 1078800.8 | AY20: =2962578*33/100 -> 977650.74 | AZ20: =2962578*32/100 -> 948024.96 | BA20: =2962578*35/100 -> 1036902.3 | BB20: =2701169*34/100 -> 918397.46 | BC20: =2701169*33/100 -> 891385.77 | BD20: =2701169*33/100 -> 891385.77 | BE20: =3138807*34/100 -> 1067194.4 | BF20: =3138807*33/100 -> 1035806.3 | BG20: =3138807*33/100 -> 1035806.3 | BH20: =3018006*32/100 -> 965761.92 | BI20: =3018006*32/100 -> 965761.92 | BJ20: =3018006*34/100 -> 1026122 | BK20: =2776344*33/100 -> 916193.52 | BL20: =2776344*32/100 -> 888430.08 | BM20: =2776344*35/100 -> 971720.4 | BN20: =2560017*34/100 -> 870405.78 | BO20: =2560017*33/100 -> 844805.61 | BP20: =2560017*33/100 -> 844805.61
A21: Lower Tugela | B21: Kwadukuza | C21: 4572866 | D21: 4238010 | E21: 4534212 | F21: 3984518 | G21: 4254218 | H21: 4053306 | I21: 3996538 | J21: 4113338 | K21: 3978685 | L21: 4499396 | M21: 4152309 | N21: 5423917 | O21: 4744951 | P21: 4192820 | Q21: 4563158 | R21: 4803587 | S21: 4498858 | T21: 4599924 | U21: 4623958 | V21: 5343277 | W21: 4824689.4 | X21: 4712050.6 | Y21: 5065278.2 | Z21: 5343277 | AA21: 4824689.4 | AB21: 4712050.6 | AC21: 5065278.2 | AD21: 4352444.3 | AE21: 4222665.5 | AF21: 4786444.7 | AG21: 4721328.8 | AH21: 5298360.9 | AI21: 4708041.5 | AJ21: 4598126 | AK21: 4942813.5 | AL21: 4626764 | AM21: 4540166.6 | AN21: 4574279.4 | AO21: 4695363.6 | AP21: 4525164.6 | AQ21: 4390235.8 | AR21: 4539981.9 | AS21: 4347785.4 | AT21: 5025538.7 | AU21: 4390235.8 | AV21: 4539981.9 | AW21: 4347785.4 | AX21: 5025538.7 | AY21: =13053800*33/100 -> 4307754 | AZ21: =13053800*32/100 -> 4177216 | BA21: =13053800*35/100 -> 4568830 | BB21: =12358133*34/100 -> 4201765.2 | BC21: =12358133*33/100 -> 4078183.9 | BD21: =12358133*33/100 -> 4078183.9 | BE21: =15330526*34/100 -> 5212378.8 | BF21: =15330526*33/100 -> 5059073.6 | BG21: =15330526*33/100 -> 5059073.6 | BH21: =14200908*32/100 -> 4544290.6 | BI21: =14200908*32/100 -> 4544290.6 | BJ21: =14200908*34/100 -> 4828308.7 | BK21: =13140324*33/100 -> 4336306.9 | BL21: =13140324*32/100 -> 4204903.7 | BM21: =13140324*35/100 -> 4599113.4 | BN21: =12864997*34/100 -> 4374099 | BO21: =12864997*33/100 -> 4245449 | BP21: =12864997*33/100 -> 4245449
A22: Lower Umfolozi | B22: uMhlathuze | C22: 7359227 | D22: 7087899 | E22: 7339706 | F22: 6910606 | G22: 7033321 | H22: 6610146 | I22: 6832476 | J22: 6735186 | K22: 6999609 | L22: 7525923 | M22: 6559411 | N22: 8293911 | O22: 7474660 | P22: 6528121 | Q22: 7443578 | R22: 7367989 | S22: 6473564 | T22: 7268694 | U22: 6905479 | V22: 7616777 | W22: 7008067 | X22: 6844454.4 | Y22: 7357532.5 | Z22: 7616777 | AA22: 7008067 | AB22: 6844454.4 | AC22: 7357532.5 | AD22: 6858823.3 | AE22: 6654310.7 | AF22: 7652901 | AG22: 7548789.1 | AH22: 8471388.3 | AI22: 8317488.3 | AJ22: 8123305.5 | AK22: 8732249.6 | AL22: 7760616.9 | AM22: 7615364.3 | AN22: 7672582.9 | AO22: 7964611.5 | AP22: 7675907.7 | AQ22: 7447031.8 | AR22: 6754071.3 | AS22: 6468143 | AT22: 7476427.7 | AU22: 7447031.8 | AV22: 6754071.3 | AW22: 6468143 | AX22: 7476427.7 | AY22: =20130508*33/100 -> 6643067.6 | AZ22: =20130508*32/100 -> 6441762.6 | BA22: =20130508*35/100 -> 7045677.8 | BB22: =18536845*34/100 -> 6302527.3 | BC22: =18536845*33/100 -> 6117158.8 | BD22: =18536845*33/100 -> 6117158.8 | BE22: =21748330*34/100 -> 7394432.2 | BF22: =21748330*33/100 -> 7176948.9 | BG22: =21748330*33/100 -> 7176948.9 | BH22: =20758432*32/100 -> 6642698.2 | BI22: =20758432*32/100 -> 6642698.2 | BJ22: =20758432*34/100 -> 7057866.9 | BK22: =20055390*33/100 -> 6618278.7 | BL22: =20055390*32/100 -> 6417724.8 | BM22: =20055390*35/100 -> 7019386.5 | BN22: =19916836*34/100 -> 6771724.2 | BO22: =19916836*33/100 -> 6572555.9 | BP22: =19916836*33/100 -> 6572555.9
A23: Mahlabatini | B23: Ulundi | C23: 1230902 | D23: 970280 | E23: 1280618 | F23: 995273 | G23: 1048835 | H23: 1190319 | I23: 1072309 | J23: 1038957 | K23: 1093429 | L23: 1066384 | M23: 1010921 | N23: 1451247 | O23: 1150113 | P23: 1048396 | Q23: 1172561 | R23: 1196134 | S23: 1086431 | T23: 1223588 | U23: 1154224 | V23: 1297393 | W23: 781775.09 | X23: 763523.51 | Y23: 820759.22 | Z23: 1297393 | AA23: 781775.09 | AB23: 763523.51 | AC23: 820759.22 | AD23: 529206.74 | AE23: 513427.15 | AF23: 679329.75 | AG23: 670087.99 | AH23: 751984.91 | AI23: 1410223.5 | AJ23: 1377300 | AK23: 1480545.9 | AL23: 1290629.6 | AM23: 1266473.3 | AN23: 1275989.1 | AO23: 1482290 | AP23: 1428559.5 | AQ23: 1385963.5 | AR23: 1104613.1 | AS23: 1057850.1 | AT23: 1222752.8 | AU23: 1385963.5 | AV23: 1104613.1 | AW23: 1057850.1 | AX23: 1222752.8 | AY23: =2810217*33/100 -> 927371.61 | AZ23: =2810217*32/100 -> 899269.44 | BA23: =2810217*35/100 -> 983575.95 | BB23: =3646574*34/100 -> 1239835.2 | BC23: =3646574*33/100 -> 1203369.4 | BD23: =3646574*33/100 -> 1203369.4 | BE23: =4073411*34/100 -> 1384959.7 | BF23: =4073411*33/100 -> 1344225.6 | BG23: =4073411*33/100 -> 1344225.6 | BH23: =3611178*32/100 -> 1155577 | BI23: =3611178*32/100 -> 1155577 | BJ23: =3611178*34/100 -> 1227800.5 | BK23: =3259260*33/100 -> 1075555.8 | BL23: =3259260*32/100 -> 1042963.2 | BM23: =3259260*35/100 -> 1140741 | BN23: =3259260*34/100 -> 1108148.4 | BO23: =3259260*33/100 -> 1075555.8 | BP23: =3259260*33/100 -> 1075555.8
A24: Mapumulo | B24: Maphumulo | C24: 77942 | D24: 80367 | E24: 85266 | F24: 82105 | G24: 85190 | H24: 92589 | I24: 71009 | J24: 91597 | K24: 78977 | L24: 88491 | M24: 95615 | N24: 85075 | O24: 98129 | P24: 105682 | Q24: 102278 | R24: 121937 | S24: 116588 | T24: 112754 | U24: 116555 | V24: 111966 | W24: 105951.58 | X24: 103478 | Y24: 111234.98 | Z24: 111966 | AA24: 105951.58 | AB24: 103478 | AC24: 111234.98 | AD24: 0 | AE24: 0 | AF24: 0 | AG24: 0 | AH24: 0 | AI24: 8334.0276 | AJ24: 8139.4587 | AK24: 8749.6137 | AL24: 5380.9174 | AM24: 5280.2047 | AN24: 5319.8779 | AO24: 5556.1559 | AP24: 5354.7546 | AQ24: 5195.0895 | AR24: 0 | AS24: 0 | AT24: 0 | AU24: 5195.0895 | AV24: 0 | AW24: 0 | AX24: 0
A25: Mooirivier | B25: Mpofana | C25: 408009 | D25: 479782 | E25: 606599 | F25: 483205 | G25: 425487 | H25: 545479 | I25: 340912 | J25: 489699 | K25: 453559 | L25: 492620 | M25: 419278 | N25: 697831 | O25: 516785 | P25: 426473 | Q25: 499272 | R25: 535512 | S25: 386016 | T25: 445489 | U25: 560488 | V25: 558732 | W25: 575688.45 | X25: 562248.24 | Y25: 604395.83 | Z25: 558732 | AA25: 575688.45 | AB25: 562248.24 | AC25: 604395.83 | AD25: 540614.04 | AE25: 524494.32 | AF25: 560441.17 | AG25: 552816.79 | AH25: 620381.05 | AI25: 513097.45 | AJ25: 501118.5 | AK25: 538683.65 | AL25: 482545.15 | AM25: 473513.53 | AN25: 477071.31 | AO25: 472072.82 | AP25: 454960.97 | AQ25: 441395.21 | AR25: 515997.26 | AS25: 494152.92 | AT25: 571183.81 | AU25: 441395.21 | AV25: 515997.26 | AW25: 494152.92 | AX25: 571183.81 | AY25: =1318462*33/100 -> 435092.46 | AZ25: =1318462*32/100 -> 421907.84 | BA25: =1318462*35/100 -> 461461.7 | BB25: =1167782*34/100 -> 397045.88 | BC25: =1167782*33/100 -> 385368.06 | BD25: =1167782*33/100 -> 385368.06 | BE25: =1225486*34/100 -> 416665.24 | BF25: =1225486*33/100 -> 404410.38 | BG25: =1225486*33/100 -> 404410.38 | BH25: =1214207*32/100 -> 388546.24 | BI25: =1214207*32/100 -> 388546.24 | BJ25: =1214207*34/100 -> 412830.38 | BK25: =1080070*33/100 -> 356423.1 | BL25: =1080070*32/100 -> 345622.4 | BM25: =1080070*35/100 -> 378024.5 | BN25: =1079982*34/100 -> 367193.88 | BO25: =1079982*33/100 -> 356394.06 | BP25: =1079982*33/100 -> 356394.06
A26: Mount Currie | B26: Greater Kokstad | C26: 2133306 | D26: 1696655 | E26: 1791604 | F26: 1659969 | G26: 1664376 | H26: 1636508 | I26: 1863544 | J26: 1637401 | K26: 1681978 | L26: 1809930 | M26: 1655026 | N26: 2340286 | O26: 2074412 | P26: 1667779 | Q26: 1957803 | R26: 1939822 | S26: 1837508 | T26: 1976205 | U26: 1957538 | V26: 2476400 | W26: 2108509.5 | X26: 2059283.5 | Y26: 2213652.8 | Z26: 2476400 | AA26: 2108509.5 | AB26: 2059283.5 | AC26: 2213652.8 | AD26: 1555017.5 | AE26: 1508650.9 | AF26: 2145695.3 | AG26: 2116504.8 | AH26: 2375180.1 | AI26: 1967533.8 | AJ26: 1921599.1 | AK26: 2065647.1 | AL26: 1861004.1 | AM26: 1826172.4 | AN26: 1839893.5 | AO26: 1992926.8 | AP26: 1920686.6 | AQ26: 1863416.6 | AR26: 2061648.8 | AS26: 1974370.5 | AT26: 2282144.7 | AU26: 1863416.6 | AV26: 2061648.8 | AW26: 1974370.5 | AX26: 2282144.7 | AY26: =5720948*33/100 -> 1887912.8 | AZ26: =5720948*32/100 -> 1830703.4 | BA26: =5720948*35/100 -> 2002331.8 | BB26: =5195734*34/100 -> 1766549.6 | BC26: =5195734*33/100 -> 1714592.2 | BD26: =5195734*33/100 -> 1714592.2 | BE26: =3500881*34/100 -> 1190299.5 | BF26: =3500881*33/100 -> 1155290.7 | BG26: =3500881*33/100 -> 1155290.7 | BH26: =5881839*32/100 -> 1882188.5 | BI26: =5881839*32/100 -> 1882188.5 | BJ26: =5881839*34/100 -> 1999825.3 | BK26: =4485894*33/100 -> 1480345 | BL26: =4485894*32/100 -> 1435486.1 | BM26: =4485894*35/100 -> 1570062.9 | BN26: =4328526*34/100 -> 1471698.8 | BO26: =4328526*33/100 -> 1428413.6 | BP26: =4328526*33/100 -> 1428413.6
A27: Msinga | B27: Msinga | C27: 437895 | D27: 319186 | E27: 341483 | F27: 322735 | G27: 294414 | H27: 292880 | I27: 338363 | J27: 312757 | K27: 291693 | L27: 323881 | M27: 259201 | N27: 402796 | O27: 426575 | P27: 338529 | Q27: 364645 | R27: 369206 | S27: 416664 | T27: 356471 | U27: 223790 | V27: 359619 | W27: 285833.88 | X27: 279160.71 | Y27: 300087.32 | Z27: 359619 | AA27: 285833.88 | AB27: 279160.71 | AC27: 300087.32 | AD27: 390005.93 | AE27: 378376.95 | AF27: 338829.74 | AG27: 334220.22 | AH27: 375068 | AI27: 235392.05 | AJ27: 229896.51 | AK27: 247130.15 | AL27: 211068.93 | AM27: 207118.43 | AN27: 208674.63 | AO27: 319627.3 | AP27: 308041.35 | AQ27: 298856.35 | AR27: 207210.88 | AS27: 198438.77 | AT27: 229372.34 | AU27: 298856.35 | AV27: 207210.88 | AW27: 198438.77 | AX27: 229372.34 | AY27: =608498*33/100 -> 200804.34 | AZ27: =608498*32/100 -> 194719.36 | BA27: =608498*35/100 -> 212974.3 | BB27: =667786*34/100 -> 227047.24 | BC27: =667786*33/100 -> 220369.38 | BD27: =667786*33/100 -> 220369.38 | BE27: =888239*34/100 -> 302001.26 | BF27: =888239*33/100 -> 293118.87 | BG27: =888239*33/100 -> 293118.87 | BH27: =599385*32/100 -> 191803.2 | BI27: =599385*32/100 -> 191803.2 | BJ27: =599385*34/100 -> 203790.9 | BK27: =501102*33/100 -> 165363.66 | BL27: =501102*32/100 -> 160352.64 | BM27: =501102*35/100 -> 175385.7 | BN27: =543021*34/100 -> 184627.14 | BO27: =543021*33/100 -> 179196.93 | BP27: =543021*33/100 -> 179196.93
A28: Mtonjaneni | B28: uMlalazi | C28: 677635 | D28: 681779 | E28: 656658 | F28: 623904 | G28: 625606 | H28: 615780 | I28: 659860 | J28: 608742 | K28: 608280 | L28: 692746 | M28: 601340 | N28: 790660 | O28: 732075 | P28: 601729 | Q28: 705272 | R28: 744633 | S28: 639695 | T28: 683384 | U28: 678140 | V28: 790605 | W28: 261897.57 | X28: 255783.22 | Y28: 274957.4 | Z28: 790605 | AA28: 261897.57 | AB28: 255783.22 | AC28: 274957.4 | AD28: 251130.61 | AE28: 243642.54 | AF28: 302304.82 | AG28: 298192.19 | AH28: 334636.69 | AI28: 616398.52 | AJ28: 602007.88 | AK28: 647135.95 | AL28: 603910.24 | AM28: 592607.08 | AN28: 597059.68 | AO28: 631961.5 | AP28: 609053.96 | AQ28: 590893.53 | AR28: 636324.21 | AS28: 609385.92 | AT28: 704379.87 | AU28: 590893.53 | AV28: 636324.21 | AW28: 609385.92 | AX28: 704379.87 | AY28: =1722937*33/100 -> 568569.21 | AZ28: =1722937*32/100 -> 551339.84 | BA28: =1722937*35/100 -> 603027.95 | BB28: =1764620*34/100 -> 599970.8 | BC28: =1764620*33/100 -> 582324.6 | BD28: =1764620*33/100 -> 582324.6 | BE28: =1804611*34/100 -> 613567.74 | BF28: =1804611*33/100 -> 595521.63 | BG28: =1804611*33/100 -> 595521.63 | BH28: =1878159*32/100 -> 601010.88 | BI28: =1878159*32/100 -> 601010.88 | BJ28: =1878159*34/100 -> 638574.06 | BK28: =1657560*33/100 -> 546994.8 | BL28: =1657560*32/100 -> 530419.2 | BM28: =1657560*35/100 -> 580146 | BN28: =1674092*34/100 -> 569191.28 | BO28: =1674092*33/100 -> 552450.36 | BP28: =1674092*33/100 -> 552450.36
A29: Mtunzini | B29: Mthonjaneni | C29: 1223662 | D29: 1177777 | E29: 1249378 | F29: 1074412 | G29: 1218677 | H29: 1058142 | I29: 1092061 | J29: 1059216 | K29: 1072200 | L29: 1205431 | M29: 1096845 | N29: 1435071 | O29: 1168889 | P29: 1154778 | Q29: 1156867 | R29: 1199502 | S29: 1167367 | T29: 1122337 | U29: 1199979 | V29: 1426031 | W29: 1080434.6 | X29: 1055210.4 | Y29: 1134311.7 | Z29: 1426031 | AA29: 1080434.6 | AB29: 1055210.4 | AC29: 1134311.7 | AD29: 1079215.5 | AE29: 1047036 | AF29: 1118628 | AG29: 1103409.9 | AH29: 1238266.6 | AI29: 1284932.1 | AJ29: 1254933.6 | AK29: 1349006.7 | AL29: 1218651.7 | AM29: 1195842.6 | AN29: 1204827.7 | AO29: 1308815.2 | AP29: 1261372.9 | AQ29: 1223761.9 | AR29: 1325917.1 | AS29: 1269785.4 | AT29: 1467725.5 | AU29: 1223761.9 | AV29: 1325917.1 | AW29: 1269785.4 | AX29: 1467725.5 | AY29: =3822721*33/100 -> 1261497.9 | AZ29: =3822721*32/100 -> 1223270.7 | BA29: =3822721*35/100 -> 1337952.4 | BB29: =3638219*34/100 -> 1236994.5 | BC29: =3638219*33/100 -> 1200612.3 | BD29: =3638219*33/100 -> 1200612.3 | BE29: =3871353*34/100 -> 1316260 | BF29: =3871353*33/100 -> 1277546.5 | BG29: =3871353*33/100 -> 1277546.5 | BH29: =3633039*32/100 -> 1162572.5 | BI29: =3633039*32/100 -> 1162572.5 | BJ29: =3633039*34/100 -> 1235233.3 | BK29: =3316154*33/100 -> 1094330.8 | BL29: =3316154*32/100 -> 1061169.3 | BM29: =3316154*35/100 -> 1160653.9 | BN29: =3336519*34/100 -> 1134416.5 | BO29: =3336519*33/100 -> 1101051.3 | BP29: =3336519*33/100 -> 1101051.3
A30: New Hanover | B30: Umshwathi | C30: 431303 | D30: 474356 | E30: 453459 | F30: 396867 | G30: 448334 | H30: 438483 | I30: 421527 | J30: 440168 | K30: 438055 | L30: 465278 | M30: 453806 | N30: 515416 | O30: 500869 | P30: 401405 | Q30: 520777 | R30: 473842 | S30: 470495 | T30: 487276 | U30: 501476 | V30: 544284 | W30: 387720.03 | X30: 378668.2 | Y30: 407054.15 | Z30: 544284 | AA30: 387720.03 | AB30: 378668.2 | AC30: 407054.15 | AD30: 385088.18 | AE30: 373605.84 | AF30: 411632.18 | AG30: 406032.23 | AH30: 455656.75 | AI30: 457912.53 | AJ30: 447221.95 | AK30: 480746.87 | AL30: 447165.31 | AM30: 438795.88 | AN30: 442092.81 | AO30: 454910 | AP30: 438420.28 | AQ30: 425347.71 | AR30: 382380.89 | AS30: 366193.1 | AT30: 423277.01 | AU30: 425347.71 | AV30: 382380.89 | AW30: 366193.1 | AX30: 423277.01 | AY30: =1219457*33/100 -> 402420.81 | AZ30: =1219457*32/100 -> 390226.24 | BA30: =1219457*35/100 -> 426809.95 | BB30: =1098999*34/100 -> 373659.66 | BC30: =1098999*33/100 -> 362669.67 | BD30: =1098999*33/100 -> 362669.67 | BE30: =1207046*34/100 -> 410395.64 | BF30: =1207046*33/100 -> 398325.18 | BG30: =1207046*33/100 -> 398325.18 | BH30: =1209825*32/100 -> 387144 | BI30: =1209825*32/100 -> 387144 | BJ30: =1209825*34/100 -> 411340.5 | BK30: =1088895*33/100 -> 359335.35 | BL30: =1088895*32/100 -> 348446.4 | BM30: =1088895*35/100 -> 381113.25 | BN30: =1035948*34/100 -> 352222.32 | BO30: =1035948*33/100 -> 341862.84 | BP30: =1035948*33/100 -> 341862.84
A31: Newcastle | B31: New Castle | C31: 4371340 | D31: 4282034 | E31: 4464781 | F31: 3976178 | G31: 4404323 | H31: 4096810 | I31: 4161906 | J31: 3970893 | K31: 4109561 | L31: 4585383 | M31: 4086298 | N31: 5348831 | O31: 4764521 | P31: 4058297 | Q31: 4322515 | R31: 4314500 | S31: 4071865 | T31: 4367771 | U31: 4243337 | V31: 5127261 | W31: 3874823 | X31: 3784360.1 | Y31: 4068045.6 | Z31: 5127261 | AA31: 3874823 | AB31: 3784360.1 | AC31: 4068045.6 | AD31: 3984417.2 | AE31: 3865612.1 | AF31: 4028957.8 | AG31: 3974146.9 | AH31: 4459859.9 | AI31: 4548771.4 | AJ31: 4442574.3 | AK31: 4775601.2 | AL31: 4170266.2 | AM31: 4092212.8 | AN31: 4122960 | AO31: 4610474.1 | AP31: 4443352.1 | AQ31: 4310862.8 | AR31: 4074117.2 | AS31: 3901642.7 | AT31: 4509849.1 | AU31: 4310862.8 | AV31: 4074117.2 | AW31: 3901642.7 | AX31: 4509849.1 | AY31: =11120946*33/100 -> 3669912.2 | AZ31: =11120946*32/100 -> 3558702.7 | BA31: =11120946*35/100 -> 3892331.1 | BB31: =10822199*34/100 -> 3679547.7 | BC31: =10822199*33/100 -> 3571325.7 | BD31: =10822199*33/100 -> 3571325.7 | BE31: =12334410*34/100 -> 4193699.4 | BF31: =12334410*33/100 -> 4070355.3 | BG31: =12334410*33/100 -> 4070355.3 | BH31: =11168911*32/100 -> 3574051.5 | BI31: =11168911*32/100 -> 3574051.5 | BJ31: =11168911*34/100 -> 3797429.7 | BK31: =10715966*33/100 -> 3536268.8 | BL31: =10715966*32/100 -> 3429109.1 | BM31: =10715966*35/100 -> 3750588.1 | BN31: =10262163*34/100 -> 3489135.4 | BO31: =10262163*33/100 -> 3386513.8 | BP31: =10262163*33/100 -> 3386513.8
