Workbook

Sheet Total Fuel
A1: Total Fuel Consumption (liters) | B1: 39448 | C1: 39479 | D1: 39508 | E1: 39539 | F1: 39569 | G1: 39600 | H1: 39630 | I1: 39661 | J1: 39692 | K1: 39722 | L1: 39753 | M1: 39783 | N1: 39814 | O1: 39845 | P1: 39873 | Q1: 39904 | R1: 39934 | S1: 39965 | T1: 39995 | U1: 40026 | V1: 40057 | W1: 40087 | X1: 40118 | Y1: 40148 | Z1: 40179 | AA1: 40210 | AB1: 40238 | AC1: 40269 | AD1: 40299 | AE1: 40330 | AF1: 40360 | AG1: 40391 | AH1: 40422 | AI1: 40452 | AJ1: 40483 | AK1: 40513 | AL1: 40544 | AM1: 40575 | AN1: 40603 | AO1: 40634 | AP1: 40664 | AQ1: 40695 | AR1: 40725 | AS1: 40756 | AT1: 40787 | AU1: 40817 | AV1: 40848 | AW1: 40878 | AX1: 40909 | AY1: 40940 | AZ1: 40969 | BA1: 41000 | BB1: 41030 | BC1: 41061 | BD1: 41091 | BE1: 41122 | BF1: 41153 | BG1: 41183 | BH1: 41214 | BI1: 41244 | BJ1: 41275 | BK1: 41306 | BL1: 41334 | BM1: 41365 | BN1: 41395 | BO1: 41426 | BP1: Average | BQ1: Increase/ Decrease in Contribution | BR1: Range
A3: Total SA Consumption | B3: =Petrol!C53+Diesel!C55 -> 1786615846 | C3: =Petrol!D53+Diesel!D55 -> 1864814710 | D3: =Petrol!E53+Diesel!E55 -> 1892216220 | E3: =Petrol!F53+Diesel!F55 -> 1703050713 | F3: =Petrol!G53+Diesel!G55 -> 1811890599 | G3: =Petrol!H53+Diesel!H55 -> 1750985550 | H3: =Petrol!I53+Diesel!I55 -> 1724182488 | I3: =Petrol!J53+Diesel!J55 -> 1687500009 | ... BO3: =Petrol!BP53+Diesel!BP55 -> 2.0398814e+09 | BP3: =AVERAGE(B3:BO3) -> 1.8515717e+09 | BQ3: =BO3-G3 -> 2.8889587e+08 | BR3: =MAX(B3:BO3)-MIN(B3:BO3) -> 5.9084087e+08
A4: Total KZN Consumption | B4: =Petrol!C54+Diesel!C54 -> 288531168 | C4: =Petrol!D54+Diesel!D54 -> 302005096 | D4: =Petrol!E54+Diesel!E54 -> 313236752 | E4: =Petrol!F54+Diesel!F54 -> 289862814 | F4: =Petrol!G54+Diesel!G54 -> 308470833 | G4: =Petrol!H54+Diesel!H54 -> 292201812 | H4: =Petrol!I54+Diesel!I54 -> 296271547 | I4: =Petrol!J54+Diesel!J54 -> 284240145 | ... BO4: =Petrol!BP54+Diesel!BP54 -> 3.3809132e+08 | BP4: =AVERAGE(B4:BO4) -> 3.0977909e+08 | BQ4: =BO4-G4 -> 45889510 | BR4: =MAX(B4:BO4)-MIN(B4:BO4) -> 1.7355535e+08
A6: KZN Consumption as a % of SA Consumption | B6: =B4/B3*100 -> 16.149592 | C6: =C4/C3*100 -> 16.194912 | D6: =D4/D3*100 -> 16.553962 | E6: =E4/E3*100 -> 17.02021 | F6: =F4/F3*100 -> 17.024805 | G6: =G4/G3*100 -> 16.687848 | H6: =H4/H3*100 -> 17.183306 | I6: =I4/I3*100 -> 16.84386 | ... BR6: =BR4/BR3*100 -> 29.374297
A8: Urban KZN Consumption | B8: =Petrol!C59+Diesel!C60 -> 222125045 | C8: =Petrol!D59+Diesel!D60 -> 237497995 | D8: =Petrol!E59+Diesel!E60 -> 246139152 | E8: =Petrol!F59+Diesel!F60 -> 227292103 | F8: =Petrol!G59+Diesel!G60 -> 241691178 | G8: =Petrol!H59+Diesel!H60 -> 226260328 | H8: =Petrol!I59+Diesel!I60 -> 231238606 | I8: =Petrol!J59+Diesel!J60 -> 220836188 | ... BO8: =Petrol!BP59+Diesel!BP60 -> 2.7023461e+08 | BP8: =AVERAGE(B8:BO8) -> 2.4028111e+08 | BQ8: =BO8-G8 -> 43974278 | BR8: =MAX(B8:BO8)-MIN(B8:BO8) -> 1.3643814e+08
A9: Rural KZN Consumption | B9: =Petrol!C60+Diesel!C61 -> 66406123 | C9: =Petrol!D60+Diesel!D61 -> 64507101 | D9: =Petrol!E60+Diesel!E61 -> 67097600 | E9: =Petrol!F60+Diesel!F61 -> 62570711 | F9: =Petrol!G60+Diesel!G61 -> 66779655 | G9: =Petrol!H60+Diesel!H61 -> 65941484 | H9: =Petrol!I60+Diesel!I61 -> 65032941 | I9: =Petrol!J60+Diesel!J61 -> 63403957 | ... BO9: =Petrol!BP60+Diesel!BP61 -> 67856716 | BP9: =AVERAGE(B9:BO9) -> 69497981 | BQ9: =BO9-G9 -> 1915231.5 | BR9: =MAX(B9:BO9)-MIN(B9:BO9) -> 37982256
A11: Urban Consumption as a % of KZN Consumption | B11: =B8/B4*100 -> 76.984766 | C11: =C8/C4*100 -> 78.640393 | D11: =D8/D4*100 -> 78.57927 | E11: =E8/E4*100 -> 78.413681 | F11: =F8/F4*100 -> 78.351388 | G11: =G8/G4*100 -> 77.432897 | H11: =H8/H4*100 -> 78.049549 | I11: =I8/I4*100 -> 77.693525 | ... BR11: =BR8/BR4*100 -> 78.613618
A12: Rural Consumption as a % of KZN Consumption | B12: =B9/B4*100 -> 23.015234 | C12: =C9/C4*100 -> 21.359607 | D12: =D9/D4*100 -> 21.42073 | E12: =E9/E4*100 -> 21.586319 | F12: =F9/F4*100 -> 21.648612 | G12: =G9/G4*100 -> 22.567103 | H12: =H9/H4*100 -> 21.950451 | I12: =I9/I4*100 -> 22.306475 | ... BR12: =BR9/BR4*100 -> 21.884809
A14: Durban Total Consumption | B14: =Petrol!C65+Diesel!C66 -> 165102340 | C14: =Petrol!D65+Diesel!D66 -> 179980320 | D14: =Petrol!E65+Diesel!E66 -> 187264889 | E14: =Petrol!F65+Diesel!F66 -> 169259751 | F14: =Petrol!G65+Diesel!G66 -> 185233962 | G14: =Petrol!H65+Diesel!H66 -> 170468669 | H14: =Petrol!I65+Diesel!I66 -> 175362621 | I14: =Petrol!J65+Diesel!J66 -> 167065867 | ... BO14: =Petrol!BP65+Diesel!BP66 -> 2.1244053e+08 | BP14: =AVERAGE(B14:BO14) -> 1.8303061e+08 | BQ14: =BO14-G14 -> 41971858 | BR14: =MAX(B14:BO14)-MIN(B14:BO14) -> 1.2180066e+08
A15: Pietermaritzburg Total Consumption | B15: =Petrol!C66+Diesel!C67 -> 20533207 | C15: =Petrol!D66+Diesel!D67 -> 20997676 | D15: =Petrol!E66+Diesel!E67 -> 22594627 | E15: =Petrol!F66+Diesel!F67 -> 19666120 | F15: =Petrol!G66+Diesel!G67 -> 19774623 | G15: =Petrol!H66+Diesel!H67 -> 20317138 | H15: =Petrol!I66+Diesel!I67 -> 20108126 | I15: =Petrol!J66+Diesel!J67 -> 19140380 | ... BO15: =Petrol!BP66+Diesel!BP67 -> 24845246 | BP15: =AVERAGE(B15:BO15) -> 23839987 | BQ15: =BO15-G15 -> 4528107.8 | BR15: =MAX(B15:BO15)-MIN(B15:BO15) -> 11342492
A16: Richards Bay Total Consumption | B16: =Petrol!C67+Diesel!C68 -> 19425046 | C16: =Petrol!D67+Diesel!D68 -> 18724777 | D16: =Petrol!E67+Diesel!E68 -> 18820557 | E16: =Petrol!F67+Diesel!F68 -> 22042593 | F16: =Petrol!G67+Diesel!G68 -> 19712984 | G16: =Petrol!H67+Diesel!H68 -> 19104209 | H16: =Petrol!I67+Diesel!I68 -> 19411982 | I16: =Petrol!J67+Diesel!J68 -> 18745324 | ... BO16: =Petrol!BP67+Diesel!BP68 -> 19007054 | BP16: =AVERAGE(B16:BO16) -> 17446335 | BQ16: =BO16-G16 -> -97155.17 | BR16: =MAX(B16:BO16)-MIN(B16:BO16) -> 8081821
A17: Port Shepstone Total Consumption | B17: =Petrol!C68+Diesel!C69 -> 9067890 | C17: =Petrol!D68+Diesel!D69 -> 8512460 | D17: =Petrol!E68+Diesel!E69 -> 8970864 | E17: =Petrol!F68+Diesel!F69 -> 8376167 | F17: =Petrol!G68+Diesel!G69 -> 8567157 | G17: =Petrol!H68+Diesel!H69 -> 8175351 | H17: =Petrol!I68+Diesel!I69 -> 8385650 | I17: =Petrol!J68+Diesel!J69 -> 8080199 | ... BO17: =Petrol!BP68+Diesel!BP69 -> 7101505.7 | BP17: =AVERAGE(B17:BO17) -> 8348818.2 | BQ17: =BO17-G17 -> -1073845.3 | BR17: =MAX(B17:BO17)-MIN(B17:BO17) -> 4759966.2
A18: New Castle Total Consumption | B18: =Petrol!C69+Diesel!C70 -> 7996562 | C18: =Petrol!D69+Diesel!D70 -> 9282762 | D18: =Petrol!E69+Diesel!E70 -> 8488215 | E18: =Petrol!F69+Diesel!F70 -> 7947472 | F18: =Petrol!G69+Diesel!G70 -> 8402452 | G18: =Petrol!H69+Diesel!H70 -> 8194961 | H18: =Petrol!I69+Diesel!I70 -> 7970227 | I18: =Petrol!J69+Diesel!J70 -> 7804418 | ... BO18: =Petrol!BP69+Diesel!BP70 -> 6840273.5 | BP18: =AVERAGE(B18:BO18) -> 7615355.3 | BQ18: =BO18-G18 -> -1354687.5 | BR18: =MAX(B18:BO18)-MIN(B18:BO18) -> 3167692.2
A20: Durban as a % of Total KZN Consumption | B20: =B14/B$4*100 -> 57.221666 | C20: =C14/C$4*100 -> 59.595127 | D20: =D14/D$4*100 -> 59.783818 | E20: =E14/E$4*100 -> 58.393055 | F20: =F14/F$4*100 -> 60.049101 | G20: =G14/G$4*100 -> 58.339361 | H20: =H14/H$4*100 -> 59.189829 | I20: =I14/I$4*100 -> 58.776309 | ... BP20: =BP14/BP$4*100 -> 59.084237 | BQ20: =BO20-B20 -> 5.6135845 | BR20: =MAX(B20:BO20)-MIN(B20:BO20) -> 10.027477
A21: Pietermaritzburg as a % of Total KZN Consumption | B21: =B15/B$4*100 -> 7.1164606 | C21: =C15/C$4*100 -> 6.9527555 | D21: =D15/D$4*100 -> 7.2132746 | E21: =E15/E$4*100 -> 6.7846302 | F21: =F15/F$4*100 -> 6.4105325 | G21: =G15/G$4*100 -> 6.9531184 | H21: =H15/H$4*100 -> 6.7870594 | I21: =I15/I$4*100 -> 6.7338764 | ... BP21: =BP15/BP$4*100 -> 7.6958027 | BQ21: =BO21-B21 -> 0.23221832 | BR21: =MAX(B21:BO21)-MIN(B21:BO21) -> 2.327294
A22: Richards Bay as a % of Total KZN Consumption | B22: =B16/B$4*100 -> 6.7323909 | C22: =C16/C$4*100 -> 6.2001527 | D22: =D16/D$4*100 -> 6.0084128 | E22: =E16/E$4*100 -> 7.6044915 | F22: =F16/F$4*100 -> 6.3905504 | G22: =G16/G$4*100 -> 6.5380187 | H22: =H16/H$4*100 -> 6.5520912 | I22: =I16/I$4*100 -> 6.5948897 | ... BP22: =BP16/BP$4*100 -> 5.6318633 | BQ22: =BO22-B22 -> -1.1105211 | BR22: =MAX(B22:BO22)-MIN(B22:BO22) -> 2.9441163
A23: Port Shepstone as a % of Total KZN Consumption | B23: =B17/B$4*100 -> 3.1427766 | C23: =C17/C$4*100 -> 2.8186478 | D23: =D17/D$4*100 -> 2.8639245 | E23: =E17/E$4*100 -> 2.8897004 | F23: =F17/F$4*100 -> 2.7772989 | G23: =G17/G$4*100 -> 2.797844 | H23: =H17/H$4*100 -> 2.8303933 | I23: =I17/I$4*100 -> 2.8427367 | ... BP23: =BP17/BP$4*100 -> 2.6950878 | BQ23: =BO23-B23 -> -1.0423069 | BR23: =MAX(B23:BO23)-MIN(B23:BO23) -> 1.9859749
A24: New Castle as a % of Total KZN Consumption | B24: =B18/B$4*100 -> 2.7714725 | C24: =C18/C$4*100 -> 3.0737104 | D24: =D18/D$4*100 -> 2.7098401 | E24: =E18/E$4*100 -> 2.7418046 | F24: =F18/F$4*100 -> 2.7239049 | G24: =G18/G$4*100 -> 2.8045552 | H24: =H18/H$4*100 -> 2.6901763 | I24: =I18/I$4*100 -> 2.7457128 | ... BP24: =BP18/BP$4*100 -> 2.4583181 | BQ24: =BO24-B24 -> -0.74826958 | BR24: =MAX(B24:BO24)-MIN(B24:BO24) -> 1.1969338
A26: Durban Total Consumption m % Change | C26: =(C14-B14)/B14*100 -> 9.0113683 | D26: =(D14-C14)/C14*100 -> 4.0474253 | E26: =(E14-D14)/D14*100 -> -9.6147965 | F26: =(F14-E14)/E14*100 -> 9.4376902 | G26: =(G14-F14)/F14*100 -> -7.9711587 | H26: =(H14-G14)/G14*100 -> 2.8708806 | I26: =(I14-H14)/H14*100 -> -4.7311987 | J26: =(J14-I14)/I14*100 -> -0.28258735 | ... BP26: =(BP14-BO14)/BO14*100 -> -13.843836 | BQ26: =BO26-B26 -> 1.6807051 | BR26: =MAX(B26:BO26)-MIN(B26:BO26) -> 40.308196
A27: Pietermaritzburg Total Consumption m % Change | C27: =(C15-B15)/B15*100 -> 2.2620383 | D27: =(D15-C15)/C15*100 -> 7.6053702 | E27: =(E15-D15)/D15*100 -> -12.961077 | F27: =(F15-E15)/E15*100 -> 0.55172551 | G27: =(G15-F15)/F15*100 -> 2.743491 | H27: =(H15-G15)/G15*100 -> -1.0287473 | I27: =(I15-H15)/H15*100 -> -4.812711 | J27: =(J15-I15)/I15*100 -> 6.9958695 | ... BP27: =(BP15-BO15)/BO15*100 -> -4.0460804 | BQ27: =BO27-B27 -> 1.6298236 | BR27: =MAX(B27:BO27)-MIN(B27:BO27) -> 47.998609
A28: Richards Bay Total Consumption m % Change | C28: =(C16-B16)/B16*100 -> -3.6049799 | D28: =(D16-C16)/C16*100 -> 0.51151477 | E28: =(E16-D16)/D16*100 -> 17.11977 | F28: =(F16-E16)/E16*100 -> -10.56867 | G28: =(G16-F16)/F16*100 -> -3.088193 | H28: =(H16-G16)/G16*100 -> 1.6110219 | I28: =(I16-H16)/H16*100 -> -3.4342603 | J28: =(J16-I16)/I16*100 -> 10.64195 | ... BP28: =(BP16-BO16)/BO16*100 -> -8.2112621 | BQ28: =BO28-B28 -> 1.9047583 | BR28: =MAX(B28:BO28)-MIN(B28:BO28) -> 52.465869
A29: Port Shepstone Total Consumption m % Change | C29: =(C17-B17)/B17*100 -> -6.1252397 | D29: =(D17-C17)/C17*100 -> 5.3850943 | E29: =(E17-D17)/D17*100 -> -6.6292054 | F29: =(F17-E17)/E17*100 -> 2.2801599 | G29: =(G17-F17)/F17*100 -> -4.5733491 | H29: =(H17-G17)/G17*100 -> 2.5723544 | I29: =(I17-H17)/H17*100 -> -3.6425441 | J29: =(J17-I17)/I17*100 -> 1.2501549 | ... BP29: =(BP17-BO17)/BO17*100 -> 17.564057 | BQ29: =BO29-B29 -> 1.360563 | BR29: =MAX(B29:BO29)-MIN(B29:BO29) -> 64.126376
A30: New Castle Total Consumption m % Change | C30: =(C18-B18)/B18*100 -> 16.084412 | D30: =(D18-C18)/C18*100 -> -8.5593814 | E30: =(E18-D18)/D18*100 -> -6.3705149 | F30: =(F18-E18)/E18*100 -> 5.7248393 | G30: =(G18-F18)/F18*100 -> -2.4694101 | H30: =(H18-G18)/G18*100 -> -2.7423437 | I30: =(I18-H18)/H18*100 -> -2.0803548 | J30: =(J18-I18)/I18*100 -> 7.2149262 | ... BP30: =(BP18-BO18)/BO18*100 -> 11.331151 | BQ30: =BO30-B30 -> 1.4637316 | BR30: =MAX(B30:BO30)-MIN(B30:BO30) -> 35.222964
A31: Urban Total Consumption m % Change | C31: =(C9-B9)/B9*100 -> -2.8597092 | D31: =(D9-C9)/C9*100 -> 4.0158354 | E31: =(E9-D9)/D9*100 -> -6.7467227 | F31: =(F9-E9)/E9*100 -> 6.7267 | G31: =(G9-F9)/F9*100 -> -1.2551293 | H31: =(H9-G9)/G9*100 -> -1.3778019 | I31: =(I9-H9)/H9*100 -> -2.5048598 | J31: =(J9-I9)/I9*100 -> 1.9826255 | ... BP31: =(BP9-BO9)/BO9*100 -> 2.4187224 | BQ31: =BO31-B31 -> 1.6027022 | BR31: =MAX(B31:BO31)-MIN(B31:BO31) -> 67.837728
A33: Durban Total Consumption pa % Change | N33: =(N14-B14)/B14*100 -> -6.7605511 | O33: =(O14-C14)/C14*100 -> -19.387573 | P33: =(P14-D14)/D14*100 -> -8.9678018 | Q33: =(Q14-E14)/E14*100 -> -7.1227625 | R33: =(R14-F14)/F14*100 -> -15.928451 | S33: =(S14-G14)/G14*100 -> -2.4166816 | T33: =(T14-H14)/H14*100 -> -9.5344606 | U33: =(U14-I14)/I14*100 -> 0.92537334 | ... AW33: =(AW14-AK14)/AK14*100 -> 21.099628 | BP33: =AVERAGE(T33:BO33) -> 6.6410435 | BQ33: =BO33-T33 -> 9.5344606 | BR33: =MAX(T33:BO33)-MIN(T33:BO33) -> 35.996327
A34: Pietermaritzburg Total Consumption pa % Change | N34: =(N15-B15)/B15*100 -> -2.3192334 | O34: =(O15-C15)/C15*100 -> -6.6829491 | P34: =(P15-D15)/D15*100 -> -1.8373085 | Q34: =(Q15-E15)/E15*100 -> 6.2111845 | R34: =(R15-F15)/F15*100 -> 2.3898306 | S34: =(S15-G15)/G15*100 -> 10.843855 | T34: =(T15-H15)/H15*100 -> 3.4751771 | U34: =(U15-I15)/I15*100 -> 22.173844 | ... AW34: =(AW15-AK15)/AK15*100 -> 11.953933 | BP34: =AVERAGE(T34:BO34) -> 10.094418 | BQ34: =BO34-T34 -> -3.4751771 | BR34: =MAX(T34:BO34)-MIN(T34:BO34) -> 35.40971
A35: Richards Bay Total Consumption pa % Change | N35: =(N16-B16)/B16*100 -> -18.146176 | O35: =(O16-C16)/C16*100 -> -25.442252 | P35: =(P16-D16)/D16*100 -> -6.8213178 | Q35: =(Q16-E16)/E16*100 -> -31.669518 | R35: =(R16-F16)/F16*100 -> -28.263717 | S35: =(S16-G16)/G16*100 -> -7.223806 | T35: =(T16-H16)/H16*100 -> -24.082945 | U35: =(U16-I16)/I16*100 -> 1.4833939 | ... AW35: =(AW16-AK16)/AK16*100 -> 1.8677359 | BP35: =AVERAGE(T35:BO35) -> 0.28467288 | BQ35: =BO35-T35 -> 24.082945 | BR35: =MAX(T35:BO35)-MIN(T35:BO35) -> 50.196689
A36: Port Shepstone Total Consumption pa % Change | N36: =(N17-B17)/B17*100 -> 7.9979025 | O36: =(O17-C17)/C17*100 -> -1.8297296 | P36: =(P17-D17)/D17*100 -> 5.2955211 | Q36: =(Q17-E17)/E17*100 -> 9.4212305 | R36: =(R17-F17)/F17*100 -> -0.081707386 | S36: =(S17-G17)/G17*100 -> 10.366723 | T36: =(T17-H17)/H17*100 -> 10.773309 | U36: =(U17-I17)/I17*100 -> 24.918767 | ... AW36: =(AW17-AK17)/AK17*100 -> 19.486893 | BP36: =AVERAGE(T36:BO36) -> 2.9771105 | BQ36: =BO36-T36 -> -10.773309 | BR36: =MAX(T36:BO36)-MIN(T36:BO36) -> 57.065234
A37: New Castle Total Consumption pa % Change | N37: =(N18-B18)/B18*100 -> 0.98613629 | O37: =(O18-C18)/C18*100 -> -21.665384 | P37: =(P18-D18)/D18*100 -> -7.8508968 | Q37: =(Q18-E18)/E18*100 -> 5.6372643 | R37: =(R18-F18)/F18*100 -> -11.734313 | S37: =(S18-G18)/G18*100 -> 3.5935497 | T37: =(T18-H18)/H18*100 -> -1.6847575 | U37: =(U18-I18)/I18*100 -> 12.972729 | ... AW37: =(AW18-AK18)/AK18*100 -> 3.0076858 | BP37: =AVERAGE(T37:BO37) -> -1.4508613 | BQ37: =BO37-T37 -> 1.6847575 | BR37: =MAX(T37:BO37)-MIN(T37:BO37) -> 32.04412
A38: Urban Total Consumption pa % Change | N38: =(N9-B9)/B9*100 -> 0.28253268 | O38: =(O9-C9)/C9*100 -> -9.0736429 | P38: =(P9-D9)/D9*100 -> 2.682707 | Q38: =(Q9-E9)/E9*100 -> 4.5731764 | R38: =(R9-F9)/F9*100 -> -5.2057082 | S38: =(S9-G9)/G9*100 -> 4.3192537 | T38: =(T9-H9)/H9*100 -> 2.1672494 | U38: =(U9-I9)/I9*100 -> 20.2635 | ... AW38: =(AW9-AK9)/AK9*100 -> 17.865722 | BP38: =AVERAGE(T38:BO38) -> 7.0453641 | BQ38: =BO38-T38 -> -2.1672494 | BR38: =MAX(T38:BO38)-MIN(T38:BO38) -> 43.048435
BP39: =AVERAGE(T39:BO39) -> #DIV/0! | BQ39: =BO39-T39 -> 0 | BR39: =MAX(T39:BO39)-MIN(T39:BO39) -> 0
BP40: =AVERAGE(T40:BO40) -> #DIV/0! | BQ40: =BO40-T40 -> 0 | BR40: =MAX(T40:BO40)-MIN(T40:BO40) -> 0
BP41: =AVERAGE(T41:BO41) -> #DIV/0! | BQ41: =BO41-T41 -> 0 | BR41: =MAX(T41:BO41)-MIN(T41:BO41) -> 0
BP42: =AVERAGE(T42:BO42) -> #DIV/0! | BQ42: =BO42-T42 -> 0 | BR42: =MAX(T42:BO42)-MIN(T42:BO42) -> 0
BP43: =AVERAGE(T43:BO43) -> #DIV/0! | BQ43: =BO43-T43 -> 0 | BR43: =MAX(T43:BO43)-MIN(T43:BO43) -> 0
BP44: =AVERAGE(T44:BO44) -> #DIV/0! | BQ44: =BO44-T44 -> 0 | BR44: =MAX(T44:BO44)-MIN(T44:BO44) -> 0
BP45: =AVERAGE(T45:BO45) -> #DIV/0! | BQ45: =BO45-T45 -> 0 | BR45: =MAX(T45:BO45)-MIN(T45:BO45) -> 0
BP46: =AVERAGE(T46:BO46) -> #DIV/0! | BQ46: =BO46-T46 -> 0 | BR46: =MAX(T46:BO46)-MIN(T46:BO46) -> 0
BP47: =AVERAGE(T47:BO47) -> #DIV/0! | BQ47: =BO47-T47 -> 0 | BR47: =MAX(T47:BO47)-MIN(T47:BO47) -> 0
BP48: =AVERAGE(T48:BO48) -> #DIV/0! | BQ48: =BO48-T48 -> 0 | BR48: =MAX(T48:BO48)-MIN(T48:BO48) -> 0
BP49: =AVERAGE(T49:BO49) -> #DIV/0! | BQ49: =BO49-T49 -> 0 | BR49: =MAX(T49:BO49)-MIN(T49:BO49) -> 0
BP50: =AVERAGE(T50:BO50) -> #DIV/0! | BQ50: =BO50-T50 -> 0 | BR50: =MAX(T50:BO50)-MIN(T50:BO50) -> 0
... BP57: =AVERAGE(T57:BO57) -> #DIV/0! | BQ57: =BO57-T57 -> 0 | BR57: =MAX(T57:BO57)-MIN(T57:BO57) -> 0
D58: =SUM(B14:D14) -> 532347549 | G58: =SUM(E14:G14) -> 524962382 | J58: =SUM(H14:J14) -> 509022248 | M58: =SUM(K14:M14) -> 511456918 | P58: =SUM(N14:P14) -> 469498361 | S58: =SUM(Q14:S14) -> 479281827 | BP58: =AVERAGE(T58:BO58) -> #DIV/0! | BQ58: =BO58-T58 -> 0 | BR58: =MAX(T58:BO58)-MIN(T58:BO58) -> 0
D59: =SUM(B15:D15) -> 64125510 | BP59: =AVERAGE(T59:BO59) -> #DIV/0! | BQ59: =BO59-T59 -> 0 | BR59: =MAX(T59:BO59)-MIN(T59:BO59) -> 0
D60: =SUM(B16:D16) -> 56970380 | BP60: =AVERAGE(T60:BO60) -> #DIV/0! | BQ60: =BO60-T60 -> 0 | BR60: =MAX(T60:BO60)-MIN(T60:BO60) -> 0
D61: =SUM(B17:D17) -> 26551214 | BP61: =AVERAGE(T61:BO61) -> #DIV/0! | BQ61: =BO61-T61 -> 0 | BR61: =MAX(T61:BO61)-MIN(T61:BO61) -> 0
D62: =SUM(B18:D18) -> 25767539 | BP62: =AVERAGE(T62:BO62) -> #DIV/0! | BQ62: =BO62-T62 -> 0 | BR62: =MAX(T62:BO62)-MIN(T62:BO62) -> 0
BP63: =AVERAGE(T63:BO63) -> #DIV/0! | BQ63: =BO63-T63 -> 0 | BR63: =MAX(T63:BO63)-MIN(T63:BO63) -> 0
D64: 520829424 | BP64: =AVERAGE(T64:BO64) -> #DIV/0! | BQ64: =BO64-T64 -> 0 | BR64: =MAX(T64:BO64)-MIN(T64:BO64) -> 0
D65: 514294067 | BP65: =AVERAGE(T65:BO65) -> #DIV/0! | BQ65: =BO65-T65 -> 0 | BR65: =MAX(T65:BO65)-MIN(T65:BO65) -> 0
D66: 498548341 | BP66: =AVERAGE(T66:BO66) -> #DIV/0! | BQ66: =BO66-T66 -> 0 | BR66: =MAX(T66:BO66)-MIN(T66:BO66) -> 0
D67: 499491099 | BP67: =AVERAGE(T67:BO67) -> #DIV/0! | BQ67: =BO67-T67 -> 0 | BR67: =MAX(T67:BO67)-MIN(T67:BO67) -> 0
D68: 471761575 | BP68: =AVERAGE(T68:BO68) -> #DIV/0! | BQ68: =BO68-T68 -> 0 | BR68: =MAX(T68:BO68)-MIN(T68:BO68) -> 0
D69: 479990606 | BP69: =AVERAGE(T69:BO69) -> #DIV/0! | BQ69: =BO69-T69 -> 0 | BR69: =MAX(T69:BO69)-MIN(T69:BO69) -> 0
BP70: =AVERAGE(T70:BO70) -> #DIV/0! | BQ70: =BO70-T70 -> 0 | BR70: =MAX(T70:BO70)-MIN(T70:BO70) -> 0
BP71: =AVERAGE(T71:BO71) -> #DIV/0! | BQ71: =BO71-T71 -> 0 | BR71: =MAX(T71:BO71)-MIN(T71:BO71) -> 0
BP72: =AVERAGE(T72:BO72) -> #DIV/0! | BQ72: =BO72-T72 -> 0 | BR72: =MAX(T72:BO72)-MIN(T72:BO72) -> 0
BP73: =AVERAGE(T73:BO73) -> #DIV/0! | BQ73: =BO73-T73 -> 0 | BR73: =MAX(T73:BO73)-MIN(T73:BO73) -> 0
BP74: =AVERAGE(T74:BO74) -> #DIV/0! | BQ74: =BO74-T74 -> 0 | BR74: =MAX(T74:BO74)-MIN(T74:BO74) -> 0
BP75: =AVERAGE(T75:BO75) -> #DIV/0! | BQ75: =BO75-T75 -> 0 | BR75: =MAX(T75:BO75)-MIN(T75:BO75) -> 0
BP76: =AVERAGE(T76:BO76) -> #DIV/0! | BQ76: =BO76-T76 -> 0 | BR76: =MAX(T76:BO76)-MIN(T76:BO76) -> 0
BP77: =AVERAGE(T77:BO77) -> #DIV/0! | BQ77: =BO77-T77 -> 0 | BR77: =MAX(T77:BO77)-MIN(T77:BO77) -> 0
BP78: =AVERAGE(T78:BO78) -> #DIV/0! | BQ78: =BO78-T78 -> 0 | BR78: =MAX(T78:BO78)-MIN(T78:BO78) -> 0
BP79: =AVERAGE(T79:BO79) -> #DIV/0! | BQ79: =BO79-T79 -> 0 | BR79: =MAX(T79:BO79)-MIN(T79:BO79) -> 0
BP80: =AVERAGE(T80:BO80) -> #DIV/0! | BQ80: =BO80-T80 -> 0 | BR80: =MAX(T80:BO80)-MIN(T80:BO80) -> 0
BP81: =AVERAGE(T81:BO81) -> #DIV/0! | BQ81: =BO81-T81 -> 0 | BR81: =MAX(T81:BO81)-MIN(T81:BO81) -> 0
... BP85: =AVERAGE(T85:BO85) -> #DIV/0! | BQ85: =BO85-T85 -> 0 | BR85: =MAX(T85:BO85)-MIN(T85:BO85) -> 0
C86: #N/A | D86: #N/A | E86: =AVERAGE(C26:E26) -> 1.147999 | F86: =AVERAGE(D26:F26) -> 1.2901063 | G86: =AVERAGE(E26:G26) -> -2.7160883 | H86: =AVERAGE(F26:H26) -> 1.4458041 | I86: =AVERAGE(G26:I26) -> -3.2771589 | J86: =AVERAGE(H26:J26) -> -0.7143018 | K86: =AVERAGE(I26:K26) -> 2.0913841 | L86: =AVERAGE(J26:L26) -> -0.73395501 | ... AW86: =AVERAGE(AU26:AW26) -> -0.2801677 | BP86: =AVERAGE(T86:BO86) -> 1.0565931 | BQ86: =BO86-T86 -> -0.41627216 | BR86: =MAX(T86:BO86)-MIN(T86:BO86) -> 14.445861
A87: Durban Total Consumption pa % Change | N87: =(N14-B14)/B14*100 -> -6.7605511 | O87: =(O14-C14)/C14*100 -> -19.387573 | P87: =(P14-D14)/D14*100 -> -8.9678018 | Q87: =(Q14-E14)/E14*100 -> -7.1227625 | R87: =(R14-F14)/F14*100 -> -15.928451 | S87: =(S14-G14)/G14*100 -> -2.4166816 | T87: =(T14-H14)/H14*100 -> -9.5344606 | U87: =(U14-I14)/I14*100 -> 0.92537334 | ... BP87: =(BP14-BD14)/BD14*100 -> -30.847432 | BQ87: =BO87-B87 -> -0.22381537 | BR87: =MAX(B87:BO87)-MIN(B87:BO87) -> 53.952003
A88: Pietermaritzburg Total Consumption pa % Change | N88: =(N15-B15)/B15*100 -> -2.3192334 | O88: =(O15-C15)/C15*100 -> -6.6829491 | P88: =(P15-D15)/D15*100 -> -1.8373085 | Q88: =(Q15-E15)/E15*100 -> 6.2111845 | R88: =(R15-F15)/F15*100 -> 2.3898306 | S88: =(S15-G15)/G15*100 -> 10.843855 | T88: =(T15-H15)/H15*100 -> 3.4751771 | U88: =(U15-I15)/I15*100 -> 22.173844 | ... BP88: =(BP15-BD15)/BD15*100 -> -21.792187 | BQ88: =BO88-B88 -> 3.4426728 | BR88: =MAX(B88:BO88)-MIN(B88:BO88) -> 37.387826
A89: Richards Bay Total Consumption pa % Change | N89: =(N16-B16)/B16*100 -> -18.146176 | O89: =(O16-C16)/C16*100 -> -25.442252 | P89: =(P16-D16)/D16*100 -> -6.8213178 | Q89: =(Q16-E16)/E16*100 -> -31.669518 | R89: =(R16-F16)/F16*100 -> -28.263717 | S89: =(S16-G16)/G16*100 -> -7.223806 | T89: =(T16-H16)/H16*100 -> -24.082945 | U89: =(U16-I16)/I16*100 -> 1.4833939 | ... BP89: =(BP16-BD16)/BD16*100 -> -13.124564 | BQ89: =BO89-B89 -> 15.478929 | BR89: =MAX(B89:BO89)-MIN(B89:BO89) -> 57.783262
A90: Port Shepstone Total Consumption pa % Change | N90: =(N17-B17)/B17*100 -> 7.9979025 | O90: =(O17-C17)/C17*100 -> -1.8297296 | P90: =(P17-D17)/D17*100 -> 5.2955211 | Q90: =(Q17-E17)/E17*100 -> 9.4212305 | R90: =(R17-F17)/F17*100 -> -0.081707386 | S90: =(S17-G17)/G17*100 -> 10.366723 | T90: =(T17-H17)/H17*100 -> 10.773309 | U90: =(U17-I17)/I17*100 -> 24.918767 | ... BP90: =(BP17-BD17)/BD17*100 -> 12.245552 | BQ90: =BO90-B90 -> 3.6960026 | BR90: =MAX(B90:BO90)-MIN(B90:BO90) -> 57.97856
A91: New Castle Total Consumption pa % Change | N91: =(N18-B18)/B18*100 -> 0.98613629 | O91: =(O18-C18)/C18*100 -> -21.665384 | P91: =(P18-D18)/D18*100 -> -7.8508968 | Q91: =(Q18-E18)/E18*100 -> 5.6372643 | R91: =(R18-F18)/F18*100 -> -11.734313 | S91: =(S18-G18)/G18*100 -> 3.5935497 | T91: =(T18-H18)/H18*100 -> -1.6847575 | U91: =(U18-I18)/I18*100 -> 12.972729 | ... BP91: =(BP18-BD18)/BD18*100 -> -5.1489372 | BQ91: =BO91-B91 -> 0.63625922 | BR91: =MAX(B91:BO91)-MIN(B91:BO91) -> 36.228164
A92: Urban Total Consumption pa % Change | N92: =(N8-B8)/B8*100 -> -6.4643075 | O92: =(O8-C8)/C8*100 -> -18.201411 | P92: =(P8-D8)/D8*100 -> -7.5907607 | Q92: =(Q8-E8)/E8*100 -> -7.2937404 | R92: =(R8-F8)/F8*100 -> -14.728263 | S92: =(S8-G8)/G8*100 -> -0.95225222 | T92: =(T8-H8)/H8*100 -> -8.6174758 | U92: =(U8-I8)/I8*100 -> 4.1180479 | ... BP92: =(BP8-BD8)/BD8*100 -> -27.343458 | BQ92: =BO92-B92 -> 1.1962333 | BR92: =MAX(B92:BO92)-MIN(B92:BO92) -> 44.887586
N98: 2008 | O98: 2009 | P98: 2010 | Q98: 2011 | R98: 2012 | S98: 2013 | U98: =O98 -> 2009 | V98: =P98 -> 2010 | W98: =Q98 -> 2011 | X98: =R98 -> 2012 | Y98: =S98 -> 2013
M99: SA | N99: =SUM(B3:M3) -> 21471969362 | O99: =SUM(N3:Y3) -> 20325350543 | P99: =SUM(Z3:AK3) -> 2.2196528e+10 | Q99: =SUM(AL3:AW3) -> 2.3335361e+10 | R99: =SUM(AX3:BI3) -> 2.3206219e+10 | S99: =SUM(BJ3:BO3)/6*12 -> 23336602062 | T99: =M99 -> SA | U99: =(O99-N99)/N99*100 -> -5.3400729 | V99: =(P99-O99)/O99*100 -> 9.2061242 | W99: =(Q99-P99)/P99*100 -> 5.1306845 | X99: =(R99-Q99)/Q99*100 -> -0.55341821 | Y99: =(S99-R99)/R99*100 -> 0.56184444
M100: KZN | N100: =SUM(B4:M4) -> 3563354468 | O100: =SUM(N4:X4) -> 3.1348855e+09 | P100: =SUM(Z4:AK4) -> 3.3625811e+09 | Q100: =SUM(AL4:AW4) -> 3.9315627e+09 | R100: =SUM(AX4:BI4) -> 4.1583066e+09 | S100: =SUM(BJ4:BO4)/6*12 -> 4.0090451e+09 | T100: =M100 -> KZN | U100: =(O100-N100)/N100*100 -> -12.024316 | V100: =(P100-O100)/O100*100 -> 7.2632825 | W100: =(Q100-P100)/P100*100 -> 16.92098 | X100: =(R100-Q100)/Q100*100 -> 5.7672715 | Y100: =(S100-R100)/R100*100 -> -3.5894795
M101: Ethekwini | N101: =SUM(B14:M14) -> 2077789097 | O101: =SUM(N14:Y14) -> 1.9496149e+09 | P101: =SUM(Z14:AK14) -> 1.9172425e+09 | Q101: =SUM(AL14:AW14) -> 2.2790027e+09 | R101: =SUM(AX14:BI14) -> 2.5830476e+09 | S101: =SUM(BJ14:BO14)/6*12 -> 2546647070 | T101: =M101 -> Ethekwini | U101: =(O101-N101)/N101*100 -> -6.1687773 | V101: =(P101-O101)/O101*100 -> -1.6604531 | W101: =(Q101-P101)/P101*100 -> 18.868776 | X101: =(R101-Q101)/Q101*100 -> 13.341138 | Y101: =(S101-R101)/R101*100 -> -1.409207
M102: Msunduzi | N102: =SUM(B15:M15) -> 249333393 | O102: =SUM(N15:Y15) -> 2.6605188e+08 | P102: =SUM(Z15:AK15) -> 2.8560079e+08 | Q102: =SUM(AL15:AW15) -> 3.1730098e+08 | R102: =SUM(AX15:BI15) -> 3.0976196e+08 | S102: =SUM(BJ15:BO15)/6*12 -> 290780310 | T102: =M102 -> Msunduzi | U102: =(O102-N102)/N102*100 -> 6.7052743 | V102: =(P102-O102)/O102*100 -> 7.3477802 | W102: =(Q102-P102)/P102*100 -> 11.099476 | X102: =(R102-Q102)/Q102*100 -> -2.3759835 | Y102: =(S102-R102)/R102*100 -> -6.1278183
M103: Umthlathuze | N103: =SUM(B16:M16) -> 233083346 | O103: =SUM(N16:Y16) -> 1.9824566e+08 | P103: =SUM(Z16:AK16) -> 2.0287505e+08 | Q103: =SUM(AL16:AW16) -> 2.065629e+08 | R103: =SUM(AX16:BI16) -> 2.0437269e+08 | S103: =SUM(BJ16:BO16)/6*12 -> 2.1263691e+08 | T103: =M103 -> Umthlathuze | U103: =(O103-N103)/N103*100 -> -14.946451 | V103: =(P103-O103)/O103*100 -> 2.3351784 | W103: =(Q103-P103)/P103*100 -> 1.8177969 | X103: =(R103-Q103)/Q103*100 -> -1.0603136 | Y103: =(S103-R103)/R103*100 -> 4.0437035
M104: Port Shepstone | N104: =SUM(B17:M17) -> 105577112 | O104: =SUM(N17:Y17) -> 1.0797531e+08 | P104: =SUM(Z17:AK17) -> 94415721 | Q104: =SUM(AL17:AW17) -> 1.1149137e+08 | R104: =SUM(AX17:BI17) -> 89726715 | S104: =SUM(BJ17:BO17)/6*12 -> 83671542 | T104: =M104 -> Port Shepstone | U104: =(O104-N104)/N104*100 -> 2.2715127 | V104: =(P104-O104)/O104*100 -> -12.558046 | W104: =(Q104-P104)/P104*100 -> 18.085605 | X104: =(R104-Q104)/Q104*100 -> -19.521385 | Y104: =(S104-R104)/R104*100 -> -6.7484616
M105: Newcastle | N105: =SUM(B18:M18) -> 100677229 | O105: =SUM(N18:Y18) -> 96101720 | P105: =SUM(Z18:AK18) -> 89957460 | Q105: =SUM(AL18:AW18) -> 93139766 | R105: =SUM(AX18:BI18) -> 82756791 | S105: =SUM(BJ18:BO18)/6*12 -> 79960966 | T105: =M105 -> Newcastle | U105: =(O105-N105)/N105*100 -> -4.544731 | V105: =(P105-O105)/O105*100 -> -6.3934964 | W105: =(Q105-P105)/P105*100 -> 3.5375675 | X105: =(R105-Q105)/Q105*100 -> -11.147736 | Y105: =(S105-R105)/R105*100 -> -3.378363
N107: =N98 -> 2008 | O107: =O98 -> 2009 | P107: =P98 -> 2010 | Q107: =Q98 -> 2011 | R107: =R98 -> 2012 | S107: =S98 -> 2013
M108: =M100 -> KZN | N108: =N100/N$99*100 -> 16.595378 | O108: =O100/O$99*100 -> 15.423525 | P108: =P100/P$99*100 -> 15.149131 | Q108: =Q100/Q$99*100 -> 16.84809 | R108: =R100/R$99*100 -> 17.918932 | S108: =S100/S$99*100 -> 17.179215
M109: =M101 -> Ethekwini | N109: =N101/N$99*100 -> 9.6767514 | O109: =O101/O$99*100 -> 9.5920359 | P109: =P101/P$99*100 -> 8.6375784 | Q109: =Q101/Q$99*100 -> 9.7663054 | R109: =R101/R$99*100 -> 11.130842 | S109: =S101/S$99*100 -> 10.912673
M110: =M102 -> Msunduzi | N110: =N102/N$99*100 -> 1.1612041 | O110: =O102/O$99*100 -> 1.3089658 | P110: =P102/P$99*100 -> 1.2866913 | Q110: =Q102/Q$99*100 -> 1.3597432 | R110: =R102/R$99*100 -> 1.334823 | S110: =S102/S$99*100 -> 1.2460268
M111: =M103 -> Umthlathuze | N111: =N103/N$99*100 -> 1.0855238 | O111: =O103/O$99*100 -> 0.97536156 | P111: =P103/P$99*100 -> 0.91399452 | Q111: =Q103/Q$99*100 -> 0.88519265 | R111: =R103/R$99*100 -> 0.88068068 | S111: =S103/S$99*100 -> 0.91117342
M112: =M104 -> Port Shepstone | N112: =N104/N$99*100 -> 0.49169739 | O112: =O104/O$99*100 -> 0.53123467 | P112: =P104/P$99*100 -> 0.42536257 | Q112: =Q104/Q$99*100 -> 0.47777865 | R112: =R104/R$99*100 -> 0.38664943 | S112: =S104/S$99*100 -> 0.3585421
M113: =M105 -> Newcastle | N113: =N105/N$99*100 -> 0.46887748 | O113: =O105/O$99*100 -> 0.47281703 | P113: =P105/P$99*100 -> 0.40527717 | Q113: =Q105/Q$99*100 -> 0.39913573 | R113: =R105/R$99*100 -> 0.35661471 | S113: =S105/S$99*100 -> 0.34264185

Sheet Petrol
A1: Petrol Consumption (liters) | B1: Munic | C1: 39448 | D1: 39479 | E1: 39508 | F1: 39539 | G1: 39569 | H1: 39600 | I1: 39630 | J1: 39661 | K1: 39692 | L1: 39722 | M1: 39753 | N1: 39783 | O1: 39814 | P1: 39845 | Q1: 39873 | R1: 39904 | S1: 39934 | T1: 39965 | U1: 39995 | V1: 40026 | W1: 40057 | X1: 40087 | Y1: 40118 | Z1: 40148 | AA1: 40179 | AB1: 40210 | AC1: 40238 | AD1: 40269 | AE1: 40299 | AF1: 40330 | AG1: 40360 | AH1: 40391 | AI1: 40422 | AJ1: 40452 | AK1: 40483 | AL1: 40513 | AM1: 40544 | AN1: 40575 | AO1: 40603 | AP1: 40634 | AQ1: 40664 | AR1: 40695 | AS1: 40725 | AT1: 40756 | AU1: 40787 | AV1: 40817 | AW1: 40848 | AX1: 40878 | AY1: 40909 | AZ1: 40940 | BA1: 40969 | BB1: 41000 | BC1: 41030 | BD1: 41061 | BE1: 41091 | BF1: 41122 | BG1: 41153 | BH1: 41183 | BI1: 41214 | BJ1: 41257 | BK1: 41275 | BL1: 41306 | BM1: 41334 | BN1: 41365 | BO1: 41395 | BP1: 41426
A2: Alfred | B2: uMuziwabantu | C2: 763775 | D2: 731213 | E2: 786223 | F2: 697978 | G2: 703589 | H2: 656755 | I2: 698172 | J2: 683700 | K2: 664266 | L2: 780426 | M2: 714991 | N2: 825008 | O2: 751581 | P2: 748765 | Q2: 804698 | R2: 765318 | S2: 741546 | T2: 780014 | U2: 779389 | V2: 902323 | W2: 869812.66 | X2: 849505.72 | Y2: 913186.88 | Z2: 902323 | AA2: 869812.66 | AB2: 849505.72 | AC2: 913186.88 | AD2: 819969.35 | AE2: 795519.96 | AF2: 838540.9 | AG2: 827133.19 | AH2: 928223.9 | AI2: 742913.58 | AJ2: 725569.28 | AK2: 779959.84 | AL2: 703847.96 | AM2: 690674.3 | AN2: 695863.74 | AO2: 742469.19 | AP2: 715555.93 | AQ2: 694219.89 | AR2: 789940.79 | AS2: 756499.27 | AT2: 874425.94 | AU2: 694219.89 | AV2: 789940.79 | AW2: 756499.27 | AX2: 874425.94 | AY2: =2197249*33/100 -> 725092.17 | AZ2: =2197249*32/100 -> 703119.68 | BA2: =2197249*35/100 -> 769037.15 | BB2: =1509419*34/100 -> 513202.46 | BC2: =1509419*33/100 -> 498108.27 | BD2: =1509419*33/100 -> 498108.27 | BE2: =1673262*34/100 -> 568909.08 | BF2: =1673262*33/100 -> 552176.46 | BG2: =1673262*32/100 -> 535443.84 | BH2: =963018*32/100 -> 308165.76 | BI2: =963018*32/100 -> 308165.76 | BJ2: =963018*34/100 -> 327426.12 | BK2: =1517444*33/100 -> 500756.52 | BL2: =1517444*32/100 -> 485582.08 | BM2: =1517444*35/100 -> 531105.4 | BN2: =1471208*34/100 -> 500210.72 | BO2: =1471208*33/100 -> 485498.64 | BP2: =1471208*33/100 -> 485498.64
A3: Babanango | B3: Ulundi | C3: 27652 | D3: 19835 | E3: 19746 | F3: 23973 | G3: 23989 | H3: 15855 | I3: 28025 | J3: 23575 | K3: 15903 | L3: 31987 | M3: 15872 | N3: 31742 | O3: 27719 | P3: 11881 | Q3: 31795 | R3: 0 | S3: 0 | T3: 0 | U3: 0 | V3: 0 | W3: 0 | X3: 0 | Y3: 0 | Z3: 0 | AA3: 0 | AB3: 0 | AC3: 0 | AD3: 0 | AE3: 0 | AF3: 0 | AG3: 0 | AH3: 0 | AI3: 0 | AJ3: 0 | AK3: 0 | AL3: 0 | AM3: 0 | AN3: 0 | AO3: 0 | AP3: 0 | AQ3: 0 | AR3: 0 | AS3: 0 | AT3: 0 | AU3: 0 | AV3: 0 | AW3: 0 | AX3: 0 | AY3: 0 | AZ3: 0 | BA3: 0 | BB3: 0 | BC3: 0 | BD3: 0 | BE3: 0 | BF3: 0 | BG3: 0 | BH3: 0 | BI3: 0 | BJ3: 0 | BK3: 0 | BL3: 0 | BM3: 0 | BN3: 0 | BO3: 0 | BP3: 0
A4: Bergville | B4: Okhahlamba | C4: 713502 | D4: 560609 | E4: 650628 | F4: 649707 | G4: 630947 | H4: 599918 | I4: 671053 | J4: 555000 | K4: 609915 | L4: 713240 | M4: 549474 | N4: 848031 | O4: 773060 | P4: 602463 | Q4: 632962 | R4: 679777 | S4: 632804 | T4: 644619 | U4: 673030 | V4: 867305 | W4: 692177 | X4: 676017.21 | Y4: 726693.22 | Z4: 867305 | AA4: 692177 | AB4: 676017.21 | AC4: 726693.22 | AD4: 707030.24 | AE4: 685948.42 | AF4: 748062.09 | AG4: 737885.27 | AH4: 828068.26 | AI4: 684882.43 | AJ4: 668892.94 | AK4: 719034.89 | AL4: 678869.01 | AM4: 666162.86 | AN4: 671168.13 | AO4: 733164.89 | AP4: 706588.89 | AQ4: 685520.22 | AR4: 685151.84 | AS4: 656146.48 | AT4: 758429.68 | AU4: 685520.22 | AV4: 685151.84 | AW4: 656146.48 | AX4: 758429.68 | AY4: =1710763*33/100 -> 564551.79 | AZ4: =1710763*32/100 -> 547444.16 | BA4: =1710763*35/100 -> 598767.05 | BB4: =807852*34/100 -> 274669.68 | BC4: =807852*33/100 -> 266591.16 | BD4: =807852*33/100 -> 266591.16 | BE4: =54310097*34/100 -> 18465433 | BF4: =54310097*33/100 -> 17922332 | BG4: =54310097*33/100 -> 17922332 | BH4: =945823*32/100 -> 302663.36 | BI4: =945823*32/100 -> 302663.36 | BJ4: =945823*34/100 -> 321579.82 | BK4: =846047*33/100 -> 279195.51 | BL4: =846047*32/100 -> 270735.04 | BM4: =846047*35/100 -> 296116.45 | BN4: =801696*34/100 -> 272576.64 | BO4: =801696*33/100 -> 264559.68 | BP4: =801696*33/100 -> 264559.68
A5: Camperdown | B5: Mkhambathini | C5: 2009160 | D5: 1857003 | E5: 2121322 | F5: 1872045 | G5: 1903648 | H5: 1798941 | I5: 1687889 | J5: 1703703 | K5: 1804608 | L5: 1929637 | M5: 1725096 | N5: 2486651 | O5: 1943011 | P5: 1794127 | Q5: 2196835 | R5: 2076517 | S5: 1908844 | T5: 2051563 | U5: 1971892 | V5: 2403084 | W5: 2695800.3 | X5: 2632863.2 | Y5: 2830229.5 | Z5: 2403084 | AA5: 2695800.3 | AB5: 2632863.2 | AC5: 2830229.5 | AD5: 2664430.7 | AE5: 2584984.2 | AF5: 2792729.5 | AG5: 2754736.5 | AH5: 3091415.4 | AI5: 2404335.7 | AJ5: 2348203.3 | AK5: 2524230.8 | AL5: 2320634.3 | AM5: 2277199.9 | AN5: 2294309.8 | AO5: 2371656.8 | AP5: 2285688.3 | AQ5: 2217534.9 | AR5: 2495823.8 | AS5: 2390165 | AT5: 2762755.2 | AU5: 2217534.9 | AV5: 2495823.8 | AW5: 2390165 | AX5: 2762755.2 | AY5: =6894427*33/100 -> 2275160.9 | AZ5: =6894427*32/100 -> 2206216.6 | BA5: =6894427*35/100 -> 2413049.5 | BB5: =5679214*34/100 -> 1930932.8 | BC5: =5679214*33/100 -> 1874140.6 | BD5: =5679214*33/100 -> 1874140.6 | BE5: =5773548*34/100 -> 1963006.3 | BF5: =5773548*33/100 -> 1905270.8 | BG5: =5773548*33/100 -> 1905270.8 | BH5: =6464024*32/100 -> 2068487.7 | BI5: =6464024*32/100 -> 2068487.7 | BJ5: =6464024*34/100 -> 2197768.2 | BK5: =5781501*33/100 -> 1907895.3 | BL5: =5781501*32/100 -> 1850080.3 | BM5: =5781501*35/100 -> 2023525.4 | BN5: =5833592*34/100 -> 1983421.3 | BO5: =5833592*33/100 -> 1925085.4 | BP5: =5833592*33/100 -> 1925085.4
A6: Chatsworth | B6: eThekwini | C6: 4341957 | D6: 4359314 | E6: 4623960 | F6: 3912663 | G6: 4328228 | H6: 4052338 | I6: 3759568 | J6: 4106373 | K6: 3889950 | L6: 4338006 | M6: 3921940 | N6: 4818626 | O6: 4325410 | P6: 3896722 | Q6: 4417093 | R6: 4477452 | S6: 3917486 | T6: 4069071 | U6: 4195473 | V6: 4497144 | W6: 4840916.1 | X6: 4727898.5 | Y6: 5082314.1 | Z6: 4497144 | AA6: 4840916.1 | AB6: 4727898.5 | AC6: 5082314.1 | AD6: 4775390.7 | AE6: 4633000.8 | AF6: 4786967.1 | AG6: 4721844.1 | AH6: 5298939.2 | AI6: 4157238.6 | AJ6: 4060182.4 | AK6: 4364544.2 | AL6: 4058663.6 | AM6: 3982699.1 | AN6: 4012623.4 | AO6: 4218272.5 | AP6: 4065367.2 | AQ6: 3944148.4 | AR6: 4183099.8 | AS6: 4006011.6 | AT6: 4630487.6 | AU6: 3944148.4 | AV6: 4183099.8 | AW6: 4006011.6 | AX6: 4630487.6 | AY6: =12239237*33/100 -> 4038948.2 | AZ6: =12239237*32/100 -> 3916555.8 | BA6: =12239237*35/100 -> 4283733 | BB6: =11664587*34/100 -> 3965959.6 | BC6: =11664587*33/100 -> 3849313.7 | BD6: =11664587*33/100 -> 3849313.7 | BE6: =14026746*34/100 -> 4769093.6 | BF6: =14026746*33/100 -> 4628826.2 | BG6: =14026746*33/100 -> 4628826.2 | BH6: =12497492*32/100 -> 3999197.4 | BI6: =12497492*32/100 -> 3999197.4 | BJ6: =12497492*34/100 -> 4249147.3 | BK6: =11645266*33/100 -> 3842937.8 | BL6: =11645266*32/100 -> 3726485.1 | BM6: =11645266*35/100 -> 4075843.1 | BN6: =11763956*34/100 -> 3999745 | BO6: =11763956*33/100 -> 3882105.5 | BP6: =11763956*33/100 -> 3882105.5
A7: Dannhauser | B7: Dannhouser | C7: 167348 | D7: 163234 | E7: 181194 | F7: 168883 | G7: 165096 | H7: 164644 | I7: 118478 | J7: 138759 | K7: 138842 | L7: 199275 | M7: 150445 | N7: 188108 | O7: 226657 | P7: 130848 | Q7: 190392 | R7: 149097 | S7: 101044 | T7: 172702 | U7: 112733 | V7: 160441 | W7: 158073.61 | X7: 154383.17 | Y7: 165956.13 | Z7: 160441 | AA7: 158073.61 | AB7: 154383.17 | AC7: 165956.13 | AD7: 166516.24 | AE7: 161551.15 | AF7: 176662.61 | AG7: 174259.25 | AH7: 195556.89 | AI7: 144339.79 | AJ7: 140969.99 | AK7: 151537.47 | AL7: 142019.72 | AM7: 139361.59 | AN7: 140408.69 | AO7: 146480.22 | AP7: 141170.56 | AQ7: 136961.22 | AR7: 108415.83 | AS7: 103826.13 | AT7: 120011.04 | AU7: 136961.22 | AV7: 108415.83 | AW7: 103826.13 | AX7: 120011.04 | AY7: =286058*33/100 -> 94399.14 | AZ7: =286058*32/100 -> 91538.56 | BA7: =286058*35/100 -> 100120.3 | BB7: =313586*34/100 -> 106619.24 | BC7: =313586*33/100 -> 103483.38 | BD7: =313586*33/100 -> 103483.38 | BE7: =469008*34/100 -> 159462.72 | BF7: =469008*33/100 -> 154772.64 | BG7: =469008*33/100 -> 154772.64 | BH7: =335535*32/100 -> 107371.2 | BI7: =335535*32/100 -> 107371.2 | BJ7: =335535*34/100 -> 114081.9 | BK7: =305117*33/100 -> 100688.61 | BL7: =305117*32/100 -> 97637.44 | BM7: =305117*35/100 -> 106790.95 | BN7: =324286*34/100 -> 110257.24 | BO7: =324286*33/100 -> 107014.38 | BP7: =324286*33/100 -> 107014.38
A8: Dundee | B8: Endumeni | C8: 1124979 | D8: 911119 | E8: 1124885 | F8: 901150 | G8: 1085592 | H8: 940598 | I8: 1025441 | J8: 893772 | K8: 910650 | L8: 1028481 | M8: 831753 | N8: 1271044 | O8: 1116903 | P8: 1028267 | Q8: 1052672 | R8: 1095772 | S8: 964353 | T8: 1111360 | U8: 1028207 | V8: 1317615 | W8: 1208950.2 | X8: 1180725.7 | Y8: 1269235.9 | Z8: 1317615 | AA8: 1208950.2 | AB8: 1180725.7 | AC8: 1269235.9 | AD8: 1226913.6 | AE8: 1190330.2 | AF8: 1296812.5 | AG8: 1279170.3 | AH8: 1435508.2 | AI8: 1089637.2 | AJ8: 1064198.1 | AK8: 1143973.2 | AL8: 1099513.6 | AM8: 1078934.4 | AN8: 1087041 | AO8: 1103540.3 | AP8: 1063538.8 | AQ8: 1031826.8 | AR8: 597612.03 | AS8: 572312.59 | AT8: 661527.38 | AU8: 1031826.8 | AV8: 597612.03 | AW8: 572312.59 | AX8: 661527.38 | AY8: =1708401*33/100 -> 563772.33 | AZ8: =1708401*32/100 -> 546688.32 | BA8: =1708401*35/100 -> 597940.35 | BB8: =1550780*34/100 -> 527265.2 | BC8: =1550780*33/100 -> 511757.4 | BD8: =1550780*33/100 -> 511757.4 | BE8: =1840070*34/100 -> 625623.8 | BF8: =1840070*33/100 -> 607223.1 | BG8: =1840070*33/100 -> 607223.1 | BH8: =1861357*32/100 -> 595634.24 | BI8: =1861357*32/100 -> 595634.24 | BJ8: =1861357*34/100 -> 632861.38 | BK8: =1671843*33/100 -> 551708.19 | BL8: =1671843*32/100 -> 534989.76 | BM8: =1671843*35/100 -> 585145.05 | BN8: =1712927*34/100 -> 582395.18 | BO8: =1712927*33/100 -> 565265.91 | BP8: =1712927*33/100 -> 565265.91
A9: Durban | B9: eThekwini | C9: 48194981 | D9: 50561268 | E9: 50737237 | F9: 44569972 | G9: 48770181 | H9: 45942217 | I9: 44170000 | J9: 45391030 | K9: 44339606 | L9: 50321315 | M9: 44291498 | N9: 53296413 | O9: 47731071 | P9: 45463374 | Q9: 50620279 | R9: 51769062 | S9: 45635914 | T9: 50144443 | U9: 49802938 | V9: 50667753 | W9: 48373026 | X9: 47243693 | Y9: 50785203 | Z9: 50667753 | AA9: 48373026 | AB9: 47243693 | AC9: 50785203 | AD9: 48567636 | AE9: 47119474 | AF9: 45993897 | AG9: 45368185 | AH9: 50913002 | AI9: 57534259 | AJ9: 56191045 | AK9: 60403272 | AL9: 54316440 | AM9: 53299820 | AN9: 53700292 | AO9: 60049522 | AP9: 57872828 | AQ9: 56147209 | AR9: 59775323 | AS9: 57244782 | AT9: 60168369 | AU9: 56147209 | AV9: 59775323 | AW9: 57244782 | AX9: 60168369 | AY9: =191289719*33/100 -> 63125607 | AZ9: =191289719*32/100 -> 61212710 | BA9: =191289719*35/100 -> 66951402 | BB9: =194551891*34/100 -> 66147643 | BC9: =194551891*33/100 -> 64202124 | BD9: =194551891*33/100 -> 64202124 | BE9: =209736968*34/100 -> 71310569 | BF9: =209736968*33/100 -> 69213199 | BG9: =209736968*33/100 -> 69213199 | BH9: =205596068*32/100 -> 65790742 | BI9: =205596068*32/100 -> 65790742 | BJ9: =205596068*34/100 -> 69902663 | BK9: =178105098*33/100 -> 58774682 | BL9: =178105098*32/100 -> 56993631 | BM9: =178105098*35/100 -> 62336784 | BN9: =180121329*34/100 -> 61241252 | BO9: =180121329*33/100 -> 59440039 | BP9: =180121329*33/100 -> 59440039
A10: Eshowe | B10: Umtshezi | C10: 1420266 | D10: 1377000 | E10: 1445868 | F10: 1348806 | G10: 1376484 | H10: 1296506 | I10: 1343484 | J10: 1301640 | K10: 1292482 | L10: 1386714 | M10: 1367922 | N10: 1684885 | O10: 1538931 | P10: 1330935 | Q10: 1455011 | R10: 1476184 | S10: 1342929 | T10: 1512634 | U10: 1515182 | V10: 1680539 | W10: 1396605.1 | X10: 1363999.5 | Y10: 1466248.5 | Z10: 1680539 | AA10: 1396605.1 | AB10: 1363999.5 | AC10: 1466248.5 | AD10: 1251372.8 | AE10: 1214060.1 | AF10: 1447035.2 | AG10: 1427349.4 | AH10: 1601797.5 | AI10: 1488896.8 | AJ10: 1454136.6 | AK10: 1563142.4 | AL10: 1536560.5 | AM10: 1507801.3 | AN10: 1519130.2 | AO10: 1499598.1 | AP10: 1445240.1 | AQ10: 1402146.8 | AR10: 1522154.6 | AS10: 1457715.4 | AT10: 1684951 | AU10: 1402146.8 | AV10: 1522154.6 | AW10: 1457715.4 | AX10: 1684951 | AY10: =4199322*33/100 -> 1385776.3 | AZ10: =4199322*32/100 -> 1343783 | BA10: =4199322*35/100 -> 1469762.7 | BB10: =3936232*34/100 -> 1338318.9 | BC10: =3936232*33/100 -> 1298956.6 | BD10: =3936232*33/100 -> 1298956.6 | BE10: =4738164*34/100 -> 1610975.8 | BF10: =4738164*33/100 -> 1563594.1 | BG10: =4738164*33/100 -> 1563594.1 | BH10: =4894099*32/100 -> 1566111.7 | BI10: =4894099*32/100 -> 1566111.7 | BJ10: =4894099*34/100 -> 1663993.7 | BK10: =9881537*33/100 -> 3260907.2 | BL10: =9881537*32/100 -> 3162091.8 | BM10: =9881537*35/100 -> 3458538 | BN10: =9624380*34/100 -> 3272289.2 | BO10: =9624380*33/100 -> 3176045.4 | BP10: =9624380*33/100 -> 3176045.4
A11: Estcourt | B11: uMlalazi | C11: 2618057 | D11: 2485438 | E11: 2592021 | F11: 2227496 | G11: 2376475 | H11: 2131297 | I11: 2002865 | J11: 1903203 | K11: 2114402 | L11: 2361687 | M11: 2048717 | N11: 3057662 | O11: 2715021 | P11: 1953512 | Q11: 2312126 | R11: 2449686 | S11: 2196374 | T11: 2244891 | U11: 2285305 | V11: 3053729 | W11: 2446624.1 | X11: 2389504.4 | Y11: 2568627.9 | Z11: 3053729 | AA11: 2446624.1 | AB11: 2389504.4 | AC11: 2568627.9 | AD11: 2410340.5 | AE11: 2338470.3 | AF11: 2558232.3 | AG11: 2523429.5 | AH11: 2831838.4 | AI11: 2277451.2 | AJ11: 2224281.1 | AK11: 2391019 | AL11: 2203997.6 | AM11: 2162746.2 | AN11: 2178996.2 | AO11: 2313275.1 | AP11: 2229422.8 | AQ11: 2162947.1 | AR11: 2307692.9 | AS11: 2209998.5 | AT11: 2554503.5 | AU11: 2162947.1 | AV11: 2307692.9 | AW11: 2209998.5 | AX11: 2554503.5 | AY11: =6399389*33/100 -> 2111798.4 | AZ11: =6399389*32/100 -> 2047804.5 | BA11: =6399389*35/100 -> 2239786.1 | BB11: =5605813*34/100 -> 1905976.4 | BC11: =5605813*33/100 -> 1849918.3 | BD11: =5605813*33/100 -> 1849918.3 | BE11: =6572202*34/100 -> 2234548.7 | BF11: =6572202*33/100 -> 2168826.7 | BG11: =6572202*33/100 -> 2168826.7 | BH11: =6092767*32/100 -> 1949685.4 | BI11: =6092767*32/100 -> 1949685.4 | BJ11: =6092767*34/100 -> 2071540.8 | BK11: =5399550*33/100 -> 1781851.5 | BL11: =5399550*32/100 -> 1727856 | BM11: =5399550*35/100 -> 1889842.5 | BN11: =5362013*34/100 -> 1823084.4 | BO11: =5362013*33/100 -> 1769464.3 | BP11: =5362013*33/100 -> 1769464.3
A12: Glencoe | B12: Endumeni | C12: 186747 | D12: 166969 | E12: 173270 | F12: 163084 | G12: 174422 | H12: 157056 | I12: 156105 | J12: 151461 | K12: 155287 | L12: 172333 | M12: 142684 | N12: 215571 | O12: 180850 | P12: 170502 | Q12: 190146 | R12: 179096 | S12: 173121 | T12: 178663 | U12: 179981 | V12: 203823 | W12: 141131.22 | X12: 137836.32 | Y12: 148168.89 | Z12: 203823 | AA12: 141131.22 | AB12: 137836.32 | AC12: 148168.89 | AD12: 127937.58 | AE12: 124122.81 | AF12: 130023.57 | AG12: 128254.7 | AH12: 143929.76 | AI12: 180259.17 | AJ12: 176050.78 | AK12: 189248 | AL12: 165917.17 | AM12: 162811.76 | AN12: 164035.06 | AO12: 193270.12 | AP12: 186264.4 | AQ12: 180710.48 | AR12: 179331.05 | AS12: 171739.21 | AT12: 198510.73 | AU12: 180710.48 | AV12: 179331.05 | AW12: 171739.21 | AX12: 198510.73 | AY12: =535581*33/100 -> 176741.73 | AZ12: =535581*32/100 -> 171385.92 | BA12: =535581*35/100 -> 187453.35 | BB12: =490875*34/100 -> 166897.5 | BC12: =490875*33/100 -> 161988.75 | BD12: =490875*33/100 -> 161988.75 | BE12: =642041*34/100 -> 218293.94 | BF12: =642041*33/100 -> 211873.53 | BG12: =642041*33/100 -> 211873.53 | BH12: =519726*32/100 -> 166312.32 | BI12: =519726*32/100 -> 166312.32 | BJ12: =519726*34/100 -> 176706.84 | BK12: =463319*33/100 -> 152895.27 | BL12: =463319*32/100 -> 148262.08 | BM12: =463319*35/100 -> 162161.65 | BN12: =444560*34/100 -> 151150.4 | BO12: =444560*33/100 -> 146704.8 | BP12: =444560*33/100 -> 146704.8
A13: Hlabisa | B13: Hlabisa | C13: 2508297 | D13: 2192907 | E13: 2405949 | F13: 2088428 | G13: 2219241 | H13: 2235713 | I13: 2154621 | J13: 2382071 | K13: 2276946 | L13: 2474014 | M13: 2397328 | N13: 3060007 | O13: 2765805 | P13: 2358037 | Q13: 2537076 | R13: 2625068 | S13: 2379873 | T13: 2573427 | U13: 2425281 | V13: 3073011 | W13: 2064737.3 | X13: 2016533.3 | Y13: 2167697.9 | Z13: 3073011 | AA13: 2064737.3 | AB13: 2016533.3 | AC13: 2167697.9 | AD13: 1989261.9 | AE13: 1929947.2 | AF13: 2081313.5 | AG13: 2052998.8 | AH13: 2303912.6 | AI13: 2252531.7 | AJ13: 2199943.3 | AK13: 2364856.8 | AL13: 2123828.7 | AM13: 2084077.7 | AN13: 2099736.6 | AO13: 2258206.9 | AP13: 2176350.7 | AQ13: 2111457.5 | AR13: 2006351.5 | AS13: 1921414.2 | AT13: 2220933.3 | AU13: 2111457.5 | AV13: 2006351.5 | AW13: 1921414.2 | AX13: 2220933.3 | AY13: =5351914*33/100 -> 1766131.6 | AZ13: =5351914*32/100 -> 1712612.5 | BA13: =5351914*35/100 -> 1873169.9 | BB13: =4937880*34/100 -> 1678879.2 | BC13: =4937880*33/100 -> 1629500.4 | BD13: =4937880*33/100 -> 1629500.4 | BE13: =5636139*34/100 -> 1916287.3 | BF13: =5636139*33/100 -> 1859925.9 | BG13: =5636139*33/100 -> 1859925.9 | BH13: =5609536*32/100 -> 1795051.5 | BI13: =5609536*32/100 -> 1795051.5 | BJ13: =5609536*34/100 -> 1907242.2 | BK13: =4683249*33/100 -> 1545472.2 | BL13: =4683249*32/100 -> 1498639.7 | BM13: =4683249*35/100 -> 1639137.1 | BN13: =4597467*34/100 -> 1563138.8 | BO13: =4597467*33/100 -> 1517164.1 | BP13: =4597467*33/100 -> 1517164.1
A14: Impendle | B14: Impendle | C14: 189156 | D14: 175191 | E14: 248613 | F14: 159084 | G14: 141391 | H14: 124189 | I14: 132624 | J14: 139199 | K14: 126616 | L14: 152219 | M14: 136606 | N14: 214219 | O14: 129193 | P14: 159985 | Q14: 175724 | R14: 159939 | S14: 126230 | T14: 136224 | U14: 121959 | V14: 160255 | W14: 125014.98 | X14: 122096.34 | Y14: 131249 | Z14: 160255 | AA14: 125014.98 | AB14: 122096.34 | AC14: 131249 | AD14: 153614.38 | AE14: 149033.99 | AF14: 137672.55 | AG14: 135799.62 | AH14: 152396.8 | AI14: 155684.16 | AJ14: 152049.51 | AK14: 163447.53 | AL14: 55898.105 | AM14: 54851.881 | AN14: 55264.014 | AO14: 61597.919 | AP14: 59365.098 | AQ14: 57594.983 | AR14: 56049.418 | AS14: 53676.61 | AT14: 62043.973 | AU14: 57594.983 | AV14: 56049.418 | AW14: 53676.61 | AX14: 62043.973 | AY14: =135107*33/100 -> 44585.31 | AZ14: =135107*32/100 -> 43234.24 | BA14: =135107*35/100 -> 47287.45 | BB14: 0 | BC14: 0 | BD14: 0 | BE14: 0 | BF14: 0 | BG14: 0 | BH14: 0 | BI14: 0 | BJ14: 0 | BK14: 0 | BL14: 0 | BM14: 0 | BN14: 0 | BO14: 0 | BP14: 0
A15: Inanda | B15: eThekwini | C15: 10182236 | D15: 10025030 | E15: 10893362 | F15: 9355076 | G15: 10216055 | H15: 9394717 | I15: 9433382 | J15: 9253308 | K15: 9094919 | L15: 10257633 | M15: 9381008 | N15: 11452431 | O15: 10691591 | P15: 9612750 | Q15: 10920471 | R15: 11268730 | S15: 10591225 | T15: 10533151 | U15: 10546909 | V15: 11367425 | W15: 12107411 | X15: 11824748 | Y15: 12711161 | Z15: 11367425 | AA15: 12107411 | AB15: 11824748 | AC15: 12711161 | AD15: 12355219 | AE15: 11986818 | AF15: 12733991 | AG15: 12560754 | AH15: 14095907 | AI15: 11793619 | AJ15: 11518281 | AK15: 12381721 | AL15: 11356350 | AM15: 11143797 | AN15: 11227527 | AO15: 12109642 | AP15: 11670688 | AQ15: 11322698 | AR15: 11733580 | AS15: 11236848 | AT15: 12988501 | AU15: 11322698 | AV15: 11733580 | AW15: 11236848 | AX15: 12988501 | AY15: =34763411*33/100 -> 11471926 | AZ15: =34763411*32/100 -> 11124292 | BA15: =34763411*35/100 -> 12167194 | BB15: =33531440*33/100 -> 11065375 | BC15: =33531440*32/100 -> 10730061 | BD15: =33531440*35/100 -> 11736004 | BE15: =39372330*34/100 -> 13386592 | BF15: =39372330*33/100 -> 12992869 | BG15: =39372330*33/100 -> 12992869 | BH15: =35447349*32/100 -> 11343152 | BI15: =35447349*32/100 -> 11343152 | BJ15: =35447349*34/100 -> 12052099 | BK15: =33292511*33/100 -> 10986529 | BL15: =33292511*32/100 -> 10653604 | BM15: =33292511*35/100 -> 11652379 | BN15: =33562939*34/100 -> 11411399 | BO15: =33562939*33/100 -> 11075770 | BP15: =33562939*33/100 -> 11075770
A16: Ingwavuma | B16: Jozini | C16: 891681 | D16: 794253 | E16: 875680 | F16: 790651 | G16: 821476 | H16: 791328 | I16: 809257 | J16: 812964 | K16: 803468 | L16: 843174 | M16: 766248 | N16: 1089578 | O16: 981851 | P16: 780852 | Q16: 960923 | R16: 926213 | S16: 780215 | T16: 924072 | U16: 824758 | V16: 1030884 | W16: 493341.78 | X16: 481824.06 | Y16: 517942.84 | Z16: 1030884 | AA16: 493341.78 | AB16: 481824.06 | AC16: 517942.84 | AD16: 484538.29 | AE16: 470090.6 | AF16: 470983.96 | AG16: 464576.58 | AH16: 521356.28 | AI16: 803669.21 | AJ16: 784906.48 | AK16: 843745.11 | AL16: 700233.75 | AM16: 687127.73 | AN16: 692290.52 | AO16: 800768.46 | AP16: 771741.95 | AQ16: 748730.59 | AR16: 803401.85 | AS16: 769390.47 | AT16: 889326.68 | AU16: 748730.59 | AV16: 803401.85 | AW16: 769390.47 | AX16: 889326.68 | AY16: =2238227*33/100 -> 738614.91 | AZ16: =2238227*32/100 -> 716232.64 | BA16: =2238227*35/100 -> 783379.45 | BB16: =2128357*34/100 -> 723641.38 | BC16: =2128357*33/100 -> 702357.81 | BD16: =2128357*33/100 -> 702357.81 | BE16: =2210495*34/100 -> 751568.3 | BF16: =2210495*33/100 -> 729463.35 | BG16: =2210495*33/100 -> 729463.35 | BH16: =2646244*32/100 -> 846798.08 | BI16: =2646244*32/100 -> 846798.08 | BJ16: =2646244*34/100 -> 899722.96 | BK16: =2308807*33/100 -> 761906.31 | BL16: =2308807*32/100 -> 738818.24 | BM16: =2308807*35/100 -> 808082.45 | BN16: =2336548*34/100 -> 794426.32 | BO16: =2336548*33/100 -> 771060.84 | BP16: =2336548*33/100 -> 771060.84
A17: Ixopo | B17: Ubuhlebezwe | C17: -50390 | D17: 121196 | E17: 12044 | F17: 60114 | G17: 27547 | H17: 487345 | I17: 13697 | J17: 171949 | K17: 131506 | L17: 210455 | M17: 25960 | N17: -78565 | O17: -59034 | P17: 35203 | Q17: -35148 | R17: -27263 | S17: 71142 | T17: 65080 | U17: 74057 | V17: 59223 | W17: -22667.515 | X17: -22138.312 | Y17: -23797.857 | Z17: 59223 | AA17: -22667.515 | AB17: -22138.312 | AC17: -23797.857 | AD17: -8650.7564 | AE17: -8392.813 | AF17: 706460.34 | AG17: 696849.48 | AH17: 782017.15 | AI17: 985192.6 | AJ17: 962191.97 | AK17: 1034320.4 | AL17: 989806.63 | AM17: 971280.79 | AN17: 978578.58 | AO17: 1026390.3 | AP17: 989185.35 | AQ17: 959690.38 | AR17: 1006794 | AS17: 964172.16 | AT17: 1114471.9 | AU17: 959690.38 | AV17: 1006794 | AW17: 964172.16 | AX17: 1114471.9 | AY17: =2946546*33/100 -> 972360.18 | AZ17: =2946546*32/100 -> 942894.72 | BA17: =2946546*35/100 -> 1031291.1 | BB17: =2933426*34/100 -> 997364.84 | BC17: =2933426*33/100 -> 968030.58 | BD17: =2933426*33/100 -> 968030.58 | BE17: =3181529*34/100 -> 1081719.9 | BF17: =3181529*33/100 -> 1049904.6 | BG17: =3181529*33/100 -> 1049904.6 | BH17: =3200542*32/100 -> 1024173.4 | BI17: =3200542*32/100 -> 1024173.4 | BJ17: =3200542*34/100 -> 1088184.3 | BK17: =1994074*33/100 -> 658044.42 | BL17: =1994074*32/100 -> 638103.68 | BM17: =1994074*35/100 -> 697925.9 | BN17: =3010350*34/100 -> 1023519 | BO17: =3010350*33/100 -> 993415.5 | BP17: =3010350*33/100 -> 993415.5
A18: Kliprivier | B18: Emnambithi | C18: 4172766 | D18: 3796482 | E18: 4065758 | F18: 3788739 | G18: 3802250 | H18: 3809021 | I18: 3814697 | J18: 3611335 | K18: 3775477 | L18: 4464301 | M18: 3663440 | N18: 5229900 | O18: 4422831 | P18: 3843421 | Q18: 4383918 | R18: 4538270 | S18: 3972300 | T18: 4396427 | U18: 4292580 | V18: 5342023 | W18: 4357607.2 | X18: 4255873.1 | Y18: 4574904.4 | Z18: 5342023 | AA18: 4357607.2 | AB18: 4255873.1 | AC18: 4574904.4 | AD18: 4426972.3 | AE18: 4294971.4 | AF18: 4503096.2 | AG18: 4441835 | AH18: 4984707.9 | AI18: 4521676.3 | AJ18: 4416111.7 | AK18: 4747154.9 | AL18: 4382001.1 | AM18: 4299984.8 | AN18: 4332293.1 | AO18: 5145057.3 | AP18: 4958557.6 | AQ18: 4810706.1 | AR18: 5166661.2 | AS18: 4947934.7 | AT18: 5719242.1 | AU18: 4810706.1 | AV18: 5166661.2 | AW18: 4947934.7 | AX18: 5719242.1 | AY18: =12847670*33/100 -> 4239731.1 | AZ18: =12847670*32/100 -> 4111254.4 | BA18: =12847670*35/100 -> 4496684.5 | BB18: =10269623*34/100 -> 3491671.8 | BC18: =10269623*33/100 -> 3388975.6 | BD18: =10269623*33/100 -> 3388975.6 | BE18: =10269623*34/100 -> 3491671.8 | BF18: =11648358*33/100 -> 3843958.1 | BG18: =11648358*33/100 -> 3843958.1 | BH18: =11546282*32/100 -> 3694810.2 | BI18: =11546282*32/100 -> 3694810.2 | BJ18: =11546282*34/100 -> 3925735.9 | BK18: =11353789*33/100 -> 3746750.4 | BL18: =11353789*32/100 -> 3633212.5 | BM18: =11353789*35/100 -> 3973826.1 | BN18: =1153254*34/100 -> 392106.36 | BO18: =1153254*33/100 -> 380573.82 | BP18: =1153254*33/100 -> 380573.82
A19: Kranskop | B19: Umvoti | C19: 164248 | D19: 140411 | E19: 113390 | F19: 219060 | G19: 190466 | H19: 225370 | I19: 125596 | J19: 122757 | K19: 123816 | L19: 142052 | M19: 120013 | N19: 185932 | O19: 162605 | P19: 121620 | Q19: 120086 | R19: 184557 | S19: 128926 | T19: 143312 | U19: 157078 | V19: 169775 | W19: 180185.68 | X19: 175979.01 | Y19: 189170.85 | Z19: 169775 | AA19: 180185.68 | AB19: 175979.01 | AC19: 189170.85 | AD19: 170267.16 | AE19: 165190.23 | AF19: 198274.86 | AG19: 195577.48 | AH19: 219480.6 | AI19: 166363.8 | AJ19: 162479.82 | AK19: 174659.73 | AL19: 187857.35 | AM19: 184341.29 | AN19: 185726.36 | AO19: 135356.18 | AP19: 130449.75 | AQ19: 126560.07 | AR19: 0 | AS19: 0 | AT19: 0 | AU19: 126560.07 | AV19: 0 | AW19: 0 | AX19: 0 | AY19: =1149490*33/100 -> 379331.7 | AZ19: =1149490*32/100 -> 367836.8 | BA19: =1149490*35/100 -> 402321.5 | BB19: =1078733*34/100 -> 366769.22 | BC19: =1078733*33/100 -> 355981.89 | BD19: =1078733*33/100 -> 355981.89 | BE19: =1289866*34/100 -> 438554.44 | BF19: =1289866*33/100 -> 425655.78 | BG19: =1289866*33/100 -> 425655.78 | BH19: =1121493*32/100 -> 358877.76 | BI19: =1121493*32/100 -> 358877.76 | BJ19: =1121493*34/100 -> 381307.62 | BK19: =1145460*33/100 -> 378001.8 | BL19: =1145460*32/100 -> 366547.2 | BM19: =1145460*35/100 -> 400911 | BN19: =1072140*34/100 -> 364527.6 | BO19: =1072140*33/100 -> 353806.2 | BP19: =1072140*33/100 -> 353806.2
A20: Lions River | B20: uMngeni | C20: 1000395 | D20: 1013084 | E20: 1087858 | F20: 922212 | G20: 998562 | H20: 951580 | I20: 906427 | J20: 937180 | K20: 993689 | L20: 1027984 | M20: 1060179 | N20: 1423897 | O20: 1101430 | P20: 1082633 | Q20: 1176625 | R20: 1049285 | S20: 1085459 | T20: 1091993 | U20: 1044507 | V20: 1264028 | W20: 1252146.7 | X20: 1222913.7 | Y20: 1314586.5 | Z20: 1264028 | AA20: 1252146.7 | AB20: 1222913.7 | AC20: 1314586.5 | AD20: 1168622.5 | AE20: 1133777.2 | AF20: 1250768 | AG20: 1233752.3 | AH20: 1384539.2 | AI20: 1098412.5 | AJ20: 1072768.6 | AK20: 1153186.1 | AL20: 1049425.7 | AM20: 1029784 | AN20: 1037521.3 | AO20: 1039062.6 | AP20: 1001398.3 | AQ20: 971539.16 | AR20: 974569.41 | AS20: 933311.78 | AT20: 1078800.8 | AU20: 971539.16 | AV20: 974569.41 | AW20: 933311.78 | AX20: 1078800.8 | AY20: =2962578*33/100 -> 977650.74 | AZ20: =2962578*32/100 -> 948024.96 | BA20: =2962578*35/100 -> 1036902.3 | BB20: =2701169*34/100 -> 918397.46 | BC20: =2701169*33/100 -> 891385.77 | BD20: =2701169*33/100 -> 891385.77 | BE20: =3138807*34/100 -> 1067194.4 | BF20: =3138807*33/100 -> 1035806.3 | BG20: =3138807*33/100 -> 1035806.3 | BH20: =3018006*32/100 -> 965761.92 | BI20: =3018006*32/100 -> 965761.92 | BJ20: =3018006*34/100 -> 1026122 | BK20: =2776344*33/100 -> 916193.52 | BL20: =2776344*32/100 -> 888430.08 | BM20: =2776344*35/100 -> 971720.4 | BN20: =2560017*34/100 -> 870405.78 | BO20: =2560017*33/100 -> 844805.61 | BP20: =2560017*33/100 -> 844805.61
A21: Lower Tugela | B21: Kwadukuza | C21: 4572866 | D21: 4238010 | E21: 4534212 | F21: 3984518 | G21: 4254218 | H21: 4053306 | I21: 3996538 | J21: 4113338 | K21: 3978685 | L21: 4499396 | M21: 4152309 | N21: 5423917 | O21: 4744951 | P21: 4192820 | Q21: 4563158 | R21: 4803587 | S21: 4498858 | T21: 4599924 | U21: 4623958 | V21: 5343277 | W21: 4824689.4 | X21: 4712050.6 | Y21: 5065278.2 | Z21: 5343277 | AA21: 4824689.4 | AB21: 4712050.6 | AC21: 5065278.2 | AD21: 4352444.3 | AE21: 4222665.5 | AF21: 4786444.7 | AG21: 4721328.8 | AH21: 5298360.9 | AI21: 4708041.5 | AJ21: 4598126 | AK21: 4942813.5 | AL21: 4626764 | AM21: 4540166.6 | AN21: 4574279.4 | AO21: 4695363.6 | AP21: 4525164.6 | AQ21: 4390235.8 | AR21: 4539981.9 | AS21: 4347785.4 | AT21: 5025538.7 | AU21: 4390235.8 | AV21: 4539981.9 | AW21: 4347785.4 | AX21: 5025538.7 | AY21: =13053800*33/100 -> 4307754 | AZ21: =13053800*32/100 -> 4177216 | BA21: =13053800*35/100 -> 4568830 | BB21: =12358133*34/100 -> 4201765.2 | BC21: =12358133*33/100 -> 4078183.9 | BD21: =12358133*33/100 -> 4078183.9 | BE21: =15330526*34/100 -> 5212378.8 | BF21: =15330526*33/100 -> 5059073.6 | BG21: =15330526*33/100 -> 5059073.6 | BH21: =14200908*32/100 -> 4544290.6 | BI21: =14200908*32/100 -> 4544290.6 | BJ21: =14200908*34/100 -> 4828308.7 | BK21: =13140324*33/100 -> 4336306.9 | BL21: =13140324*32/100 -> 4204903.7 | BM21: =13140324*35/100 -> 4599113.4 | BN21: =12864997*34/100 -> 4374099 | BO21: =12864997*33/100 -> 4245449 | BP21: =12864997*33/100 -> 4245449
A22: Lower Umfolozi | B22: uMhlathuze | C22: 7359227 | D22: 7087899 | E22: 7339706 | F22: 6910606 | G22: 7033321 | H22: 6610146 | I22: 6832476 | J22: 6735186 | K22: 6999609 | L22: 7525923 | M22: 6559411 | N22: 8293911 | O22: 7474660 | P22: 6528121 | Q22: 7443578 | R22: 7367989 | S22: 6473564 | T22: 7268694 | U22: 6905479 | V22: 7616777 | W22: 7008067 | X22: 6844454.4 | Y22: 7357532.5 | Z22: 7616777 | AA22: 7008067 | AB22: 6844454.4 | AC22: 7357532.5 | AD22: 6858823.3 | AE22: 6654310.7 | AF22: 7652901 | AG22: 7548789.1 | AH22: 8471388.3 | AI22: 8317488.3 | AJ22: 8123305.5 | AK22: 8732249.6 | AL22: 7760616.9 | AM22: 7615364.3 | AN22: 7672582.9 | AO22: 7964611.5 | AP22: 7675907.7 | AQ22: 7447031.8 | AR22: 6754071.3 | AS22: 6468143 | AT22: 7476427.7 | AU22: 7447031.8 | AV22: 6754071.3 | AW22: 6468143 | AX22: 7476427.7 | AY22: =20130508*33/100 -> 6643067.6 | AZ22: =20130508*32/100 -> 6441762.6 | BA22: =20130508*35/100 -> 7045677.8 | BB22: =18536845*34/100 -> 6302527.3 | BC22: =18536845*33/100 -> 6117158.8 | BD22: =18536845*33/100 -> 6117158.8 | BE22: =21748330*34/100 -> 7394432.2 | BF22: =21748330*33/100 -> 7176948.9 | BG22: =21748330*33/100 -> 7176948.9 | BH22: =20758432*32/100 -> 6642698.2 | BI22: =20758432*32/100 -> 6642698.2 | BJ22: =20758432*34/100 -> 7057866.9 | BK22: =20055390*33/100 -> 6618278.7 | BL22: =20055390*32/100 -> 6417724.8 | BM22: =20055390*35/100 -> 7019386.5 | BN22: =19916836*34/100 -> 6771724.2 | BO22: =19916836*33/100 -> 6572555.9 | BP22: =19916836*33/100 -> 6572555.9
A23: Mahlabatini | B23: Ulundi | C23: 1230902 | D23: 970280 | E23: 1280618 | F23: 995273 | G23: 1048835 | H23: 1190319 | I23: 1072309 | J23: 1038957 | K23: 1093429 | L23: 1066384 | M23: 1010921 | N23: 1451247 | O23: 1150113 | P23: 1048396 | Q23: 1172561 | R23: 1196134 | S23: 1086431 | T23: 1223588 | U23: 1154224 | V23: 1297393 | W23: 781775.09 | X23: 763523.51 | Y23: 820759.22 | Z23: 1297393 | AA23: 781775.09 | AB23: 763523.51 | AC23: 820759.22 | AD23: 529206.74 | AE23: 513427.15 | AF23: 679329.75 | AG23: 670087.99 | AH23: 751984.91 | AI23: 1410223.5 | AJ23: 1377300 | AK23: 1480545.9 | AL23: 1290629.6 | AM23: 1266473.3 | AN23: 1275989.1 | AO23: 1482290 | AP23: 1428559.5 | AQ23: 1385963.5 | AR23: 1104613.1 | AS23: 1057850.1 | AT23: 1222752.8 | AU23: 1385963.5 | AV23: 1104613.1 | AW23: 1057850.1 | AX23: 1222752.8 | AY23: =2810217*33/100 -> 927371.61 | AZ23: =2810217*32/100 -> 899269.44 | BA23: =2810217*35/100 -> 983575.95 | BB23: =3646574*34/100 -> 1239835.2 | BC23: =3646574*33/100 -> 1203369.4 | BD23: =3646574*33/100 -> 1203369.4 | BE23: =4073411*34/100 -> 1384959.7 | BF23: =4073411*33/100 -> 1344225.6 | BG23: =4073411*33/100 -> 1344225.6 | BH23: =3611178*32/100 -> 1155577 | BI23: =3611178*32/100 -> 1155577 | BJ23: =3611178*34/100 -> 1227800.5 | BK23: =3259260*33/100 -> 1075555.8 | BL23: =3259260*32/100 -> 1042963.2 | BM23: =3259260*35/100 -> 1140741 | BN23: =3259260*34/100 -> 1108148.4 | BO23: =3259260*33/100 -> 1075555.8 | BP23: =3259260*33/100 -> 1075555.8
A24: Mapumulo | B24: Maphumulo | C24: 77942 | D24: 80367 | E24: 85266 | F24: 82105 | G24: 85190 | H24: 92589 | I24: 71009 | J24: 91597 | K24: 78977 | L24: 88491 | M24: 95615 | N24: 85075 | O24: 98129 | P24: 105682 | Q24: 102278 | R24: 121937 | S24: 116588 | T24: 112754 | U24: 116555 | V24: 111966 | W24: 105951.58 | X24: 103478 | Y24: 111234.98 | Z24: 111966 | AA24: 105951.58 | AB24: 103478 | AC24: 111234.98 | AD24: 0 | AE24: 0 | AF24: 0 | AG24: 0 | AH24: 0 | AI24: 8334.0276 | AJ24: 8139.4587 | AK24: 8749.6137 | AL24: 5380.9174 | AM24: 5280.2047 | AN24: 5319.8779 | AO24: 5556.1559 | AP24: 5354.7546 | AQ24: 5195.0895 | AR24: 0 | AS24: 0 | AT24: 0 | AU24: 5195.0895 | AV24: 0 | AW24: 0 | AX24: 0
A25: Mooirivier | B25: Mpofana | C25: 408009 | D25: 479782 | E25: 606599 | F25: 483205 | G25: 425487 | H25: 545479 | I25: 340912 | J25: 489699 | K25: 453559 | L25: 492620 | M25: 419278 | N25: 697831 | O25: 516785 | P25: 426473 | Q25: 499272 | R25: 535512 | S25: 386016 | T25: 445489 | U25: 560488 | V25: 558732 | W25: 575688.45 | X25: 562248.24 | Y25: 604395.83 | Z25: 558732 | AA25: 575688.45 | AB25: 562248.24 | AC25: 604395.83 | AD25: 540614.04 | AE25: 524494.32 | AF25: 560441.17 | AG25: 552816.79 | AH25: 620381.05 | AI25: 513097.45 | AJ25: 501118.5 | AK25: 538683.65 | AL25: 482545.15 | AM25: 473513.53 | AN25: 477071.31 | AO25: 472072.82 | AP25: 454960.97 | AQ25: 441395.21 | AR25: 515997.26 | AS25: 494152.92 | AT25: 571183.81 | AU25: 441395.21 | AV25: 515997.26 | AW25: 494152.92 | AX25: 571183.81 | AY25: =1318462*33/100 -> 435092.46 | AZ25: =1318462*32/100 -> 421907.84 | BA25: =1318462*35/100 -> 461461.7 | BB25: =1167782*34/100 -> 397045.88 | BC25: =1167782*33/100 -> 385368.06 | BD25: =1167782*33/100 -> 385368.06 | BE25: =1225486*34/100 -> 416665.24 | BF25: =1225486*33/100 -> 404410.38 | BG25: =1225486*33/100 -> 404410.38 | BH25: =1214207*32/100 -> 388546.24 | BI25: =1214207*32/100 -> 388546.24 | BJ25: =1214207*34/100 -> 412830.38 | BK25: =1080070*33/100 -> 356423.1 | BL25: =1080070*32/100 -> 345622.4 | BM25: =1080070*35/100 -> 378024.5 | BN25: =1079982*34/100 -> 367193.88 | BO25: =1079982*33/100 -> 356394.06 | BP25: =1079982*33/100 -> 356394.06
A26: Mount Currie | B26: Greater Kokstad | C26: 2133306 | D26: 1696655 | E26: 1791604 | F26: 1659969 | G26: 1664376 | H26: 1636508 | I26: 1863544 | J26: 1637401 | K26: 1681978 | L26: 1809930 | M26: 1655026 | N26: 2340286 | O26: 2074412 | P26: 1667779 | Q26: 1957803 | R26: 1939822 | S26: 1837508 | T26: 1976205 | U26: 1957538 | V26: 2476400 | W26: 2108509.5 | X26: 2059283.5 | Y26: 2213652.8 | Z26: 2476400 | AA26: 2108509.5 | AB26: 2059283.5 | AC26: 2213652.8 | AD26: 1555017.5 | AE26: 1508650.9 | AF26: 2145695.3 | AG26: 2116504.8 | AH26: 2375180.1 | AI26: 1967533.8 | AJ26: 1921599.1 | AK26: 2065647.1 | AL26: 1861004.1 | AM26: 1826172.4 | AN26: 1839893.5 | AO26: 1992926.8 | AP26: 1920686.6 | AQ26: 1863416.6 | AR26: 2061648.8 | AS26: 1974370.5 | AT26: 2282144.7 | AU26: 1863416.6 | AV26: 2061648.8 | AW26: 1974370.5 | AX26: 2282144.7 | AY26: =5720948*33/100 -> 1887912.8 | AZ26: =5720948*32/100 -> 1830703.4 | BA26: =5720948*35/100 -> 2002331.8 | BB26: =5195734*34/100 -> 1766549.6 | BC26: =5195734*33/100 -> 1714592.2 | BD26: =5195734*33/100 -> 1714592.2 | BE26: =3500881*34/100 -> 1190299.5 | BF26: =3500881*33/100 -> 1155290.7 | BG26: =3500881*33/100 -> 1155290.7 | BH26: =5881839*32/100 -> 1882188.5 | BI26: =5881839*32/100 -> 1882188.5 | BJ26: =5881839*34/100 -> 1999825.3 | BK26: =4485894*33/100 -> 1480345 | BL26: =4485894*32/100 -> 1435486.1 | BM26: =4485894*35/100 -> 1570062.9 | BN26: =4328526*34/100 -> 1471698.8 | BO26: =4328526*33/100 -> 1428413.6 | BP26: =4328526*33/100 -> 1428413.6
A27: Msinga | B27: Msinga | C27: 437895 | D27: 319186 | E27: 341483 | F27: 322735 | G27: 294414 | H27: 292880 | I27: 338363 | J27: 312757 | K27: 291693 | L27: 323881 | M27: 259201 | N27: 402796 | O27: 426575 | P27: 338529 | Q27: 364645 | R27: 369206 | S27: 416664 | T27: 356471 | U27: 223790 | V27: 359619 | W27: 285833.88 | X27: 279160.71 | Y27: 300087.32 | Z27: 359619 | AA27: 285833.88 | AB27: 279160.71 | AC27: 300087.32 | AD27: 390005.93 | AE27: 378376.95 | AF27: 338829.74 | AG27: 334220.22 | AH27: 375068 | AI27: 235392.05 | AJ27: 229896.51 | AK27: 247130.15 | AL27: 211068.93 | AM27: 207118.43 | AN27: 208674.63 | AO27: 319627.3 | AP27: 308041.35 | AQ27: 298856.35 | AR27: 207210.88 | AS27: 198438.77 | AT27: 229372.34 | AU27: 298856.35 | AV27: 207210.88 | AW27: 198438.77 | AX27: 229372.34 | AY27: =608498*33/100 -> 200804.34 | AZ27: =608498*32/100 -> 194719.36 | BA27: =608498*35/100 -> 212974.3 | BB27: =667786*34/100 -> 227047.24 | BC27: =667786*33/100 -> 220369.38 | BD27: =667786*33/100 -> 220369.38 | BE27: =888239*34/100 -> 302001.26 | BF27: =888239*33/100 -> 293118.87 | BG27: =888239*33/100 -> 293118.87 | BH27: =599385*32/100 -> 191803.2 | BI27: =599385*32/100 -> 191803.2 | BJ27: =599385*34/100 -> 203790.9 | BK27: =501102*33/100 -> 165363.66 | BL27: =501102*32/100 -> 160352.64 | BM27: =501102*35/100 -> 175385.7 | BN27: =543021*34/100 -> 184627.14 | BO27: =543021*33/100 -> 179196.93 | BP27: =543021*33/100 -> 179196.93
A28: Mtonjaneni | B28: uMlalazi | C28: 677635 | D28: 681779 | E28: 656658 | F28: 623904 | G28: 625606 | H28: 615780 | I28: 659860 | J28: 608742 | K28: 608280 | L28: 692746 | M28: 601340 | N28: 790660 | O28: 732075 | P28: 601729 | Q28: 705272 | R28: 744633 | S28: 639695 | T28: 683384 | U28: 678140 | V28: 790605 | W28: 261897.57 | X28: 255783.22 | Y28: 274957.4 | Z28: 790605 | AA28: 261897.57 | AB28: 255783.22 | AC28: 274957.4 | AD28: 251130.61 | AE28: 243642.54 | AF28: 302304.82 | AG28: 298192.19 | AH28: 334636.69 | AI28: 616398.52 | AJ28: 602007.88 | AK28: 647135.95 | AL28: 603910.24 | AM28: 592607.08 | AN28: 597059.68 | AO28: 631961.5 | AP28: 609053.96 | AQ28: 590893.53 | AR28: 636324.21 | AS28: 609385.92 | AT28: 704379.87 | AU28: 590893.53 | AV28: 636324.21 | AW28: 609385.92 | AX28: 704379.87 | AY28: =1722937*33/100 -> 568569.21 | AZ28: =1722937*32/100 -> 551339.84 | BA28: =1722937*35/100 -> 603027.95 | BB28: =1764620*34/100 -> 599970.8 | BC28: =1764620*33/100 -> 582324.6 | BD28: =1764620*33/100 -> 582324.6 | BE28: =1804611*34/100 -> 613567.74 | BF28: =1804611*33/100 -> 595521.63 | BG28: =1804611*33/100 -> 595521.63 | BH28: =1878159*32/100 -> 601010.88 | BI28: =1878159*32/100 -> 601010.88 | BJ28: =1878159*34/100 -> 638574.06 | BK28: =1657560*33/100 -> 546994.8 | BL28: =1657560*32/100 -> 530419.2 | BM28: =1657560*35/100 -> 580146 | BN28: =1674092*34/100 -> 569191.28 | BO28: =1674092*33/100 -> 552450.36 | BP28: =1674092*33/100 -> 552450.36
A29: Mtunzini | B29: Mthonjaneni | C29: 1223662 | D29: 1177777 | E29: 1249378 | F29: 1074412 | G29: 1218677 | H29: 1058142 | I29: 1092061 | J29: 1059216 | K29: 1072200 | L29: 1205431 | M29: 1096845 | N29: 1435071 | O29: 1168889 | P29: 1154778 | Q29: 1156867 | R29: 1199502 | S29: 1167367 | T29: 1122337 | U29: 1199979 | V29: 1426031 | W29: 1080434.6 | X29: 1055210.4 | Y29: 1134311.7 | Z29: 1426031 | AA29: 1080434.6 | AB29: 1055210.4 | AC29: 1134311.7 | AD29: 1079215.5 | AE29: 1047036 | AF29: 1118628 | AG29: 1103409.9 | AH29: 1238266.6 | AI29: 1284932.1 | AJ29: 1254933.6 | AK29: 1349006.7 | AL29: 1218651.7 | AM29: 1195842.6 | AN29: 1204827.7 | AO29: 1308815.2 | AP29: 1261372.9 | AQ29: 1223761.9 | AR29: 1325917.1 | AS29: 1269785.4 | AT29: 1467725.5 | AU29: 1223761.9 | AV29: 1325917.1 | AW29: 1269785.4 | AX29: 1467725.5 | AY29: =3822721*33/100 -> 1261497.9 | AZ29: =3822721*32/100 -> 1223270.7 | BA29: =3822721*35/100 -> 1337952.4 | BB29: =3638219*34/100 -> 1236994.5 | BC29: =3638219*33/100 -> 1200612.3 | BD29: =3638219*33/100 -> 1200612.3 | BE29: =3871353*34/100 -> 1316260 | BF29: =3871353*33/100 -> 1277546.5 | BG29: =3871353*33/100 -> 1277546.5 | BH29: =3633039*32/100 -> 1162572.5 | BI29: =3633039*32/100 -> 1162572.5 | BJ29: =3633039*34/100 -> 1235233.3 | BK29: =3316154*33/100 -> 1094330.8 | BL29: =3316154*32/100 -> 1061169.3 | BM29: =3316154*35/100 -> 1160653.9 | BN29: =3336519*34/100 -> 1134416.5 | BO29: =3336519*33/100 -> 1101051.3 | BP29: =3336519*33/100 -> 1101051.3
A30: New Hanover | B30: Umshwathi | C30: 431303 | D30: 474356 | E30: 453459 | F30: 396867 | G30: 448334 | H30: 438483 | I30: 421527 | J30: 440168 | K30: 438055 | L30: 465278 | M30: 453806 | N30: 515416 | O30: 500869 | P30: 401405 | Q30: 520777 | R30: 473842 | S30: 470495 | T30: 487276 | U30: 501476 | V30: 544284 | W30: 387720.03 | X30: 378668.2 | Y30: 407054.15 | Z30: 544284 | AA30: 387720.03 | AB30: 378668.2 | AC30: 407054.15 | AD30: 385088.18 | AE30: 373605.84 | AF30: 411632.18 | AG30: 406032.23 | AH30: 455656.75 | AI30: 457912.53 | AJ30: 447221.95 | AK30: 480746.87 | AL30: 447165.31 | AM30: 438795.88 | AN30: 442092.81 | AO30: 454910 | AP30: 438420.28 | AQ30: 425347.71 | AR30: 382380.89 | AS30: 366193.1 | AT30: 423277.01 | AU30: 425347.71 | AV30: 382380.89 | AW30: 366193.1 | AX30: 423277.01 | AY30: =1219457*33/100 -> 402420.81 | AZ30: =1219457*32/100 -> 390226.24 | BA30: =1219457*35/100 -> 426809.95 | BB30: =1098999*34/100 -> 373659.66 | BC30: =1098999*33/100 -> 362669.67 | BD30: =1098999*33/100 -> 362669.67 | BE30: =1207046*34/100 -> 410395.64 | BF30: =1207046*33/100 -> 398325.18 | BG30: =1207046*33/100 -> 398325.18 | BH30: =1209825*32/100 -> 387144 | BI30: =1209825*32/100 -> 387144 | BJ30: =1209825*34/100 -> 411340.5 | BK30: =1088895*33/100 -> 359335.35 | BL30: =1088895*32/100 -> 348446.4 | BM30: =1088895*35/100 -> 381113.25 | BN30: =1035948*34/100 -> 352222.32 | BO30: =1035948*33/100 -> 341862.84 | BP30: =1035948*33/100 -> 341862.84
A31: Newcastle | B31: New Castle | C31: 4371340 | D31: 4282034 | E31: 4464781 | F31: 3976178 | G31: 4404323 | H31: 4096810 | I31: 4161906 | J31: 3970893 | K31: 4109561 | L31: 4585383 | M31: 4086298 | N31: 5348831 | O31: 4764521 | P31: 4058297 | Q31: 4322515 | R31: 4314500 | S31: 4071865 | T31: 4367771 | U31: 4243337 | V31: 5127261 | W31: 3874823 | X31: 3784360.1 | Y31: 4068045.6 | Z31: 5127261 | AA31: 3874823 | AB31: 3784360.1 | AC31: 4068045.6 | AD31: 3984417.2 | AE31: 3865612.1 | AF31: 4028957.8 | AG31: 3974146.9 | AH31: 4459859.9 | AI31: 4548771.4 | AJ31: 4442574.3 | AK31: 4775601.2 | AL31: 4170266.2 | AM31: 4092212.8 | AN31: 4122960 | AO31: 4610474.1 | AP31: 4443352.1 | AQ31: 4310862.8 | AR31: 4074117.2 | AS31: 3901642.7 | AT31: 4509849.1 | AU31: 4310862.8 | AV31: 4074117.2 | AW31: 3901642.7 | AX31: 4509849.1 | AY31: =11120946*33/100 -> 3669912.2 | AZ31: =11120946*32/100 -> 3558702.7 | BA31: =11120946*35/100 -> 3892331.1 | BB31: =10822199*34/100 -> 3679547.7 | BC31: =10822199*33/100 -> 3571325.7 | BD31: =10822199*33/100 -> 3571325.7 | BE31: =12334410*34/100 -> 4193699.4 | BF31: =12334410*33/100 -> 4070355.3 | BG31: =12334410*33/100 -> 4070355.3 | BH31: =11168911*32/100 -> 3574051.5 | BI31: =11168911*32/100 -> 3574051.5 | BJ31: =11168911*34/100 -> 3797429.7 | BK31: =10715966*33/100 -> 3536268.8 | BL31: =10715966*32/100 -> 3429109.1 | BM31: =10715966*35/100 -> 3750588.1 | BN31: =10262163*34/100 -> 3489135.4 | BO31: =10262163*33/100 -> 3386513.8 | BP31: =10262163*33/100 -> 3386513.8
A32: Ngotshe | B32: Abaqulusi | C32: 17768 | D32: 11362 | E32: 0 | F32: 24019 | G32: 11906 | H32: 19838 | I32: 7984 | J32: 8038 | K32: 11870 | L32: 15939 | M32: 3981 | N32: 15861 | O32: 7899 | P32: 19755 | Q32: 7900 | R32: 7850 | S32: 11981 | T32: 7931 | U32: 15950 | V32: 0 | W32: 1538.7321 | X32: 1502.8083 | Y32: 1615.4628 | Z32: 0 | AA32: 1538.7321 | AB32: 1502.8083 | AC32: 1615.4628 | AD32: 0 | AE32: 0 | AF32: 0 | AG32: 0 | AH32: 0 | AI32: 6737.0944 | AJ32: 6579.808 | AK32: 7073.0475 | AL32: 9434.8717 | AM32: 9258.2827 | AN32: 9327.8455 | AO32: 6506.2151 | AP32: 6270.3757 | AQ32: 6083.4092 | AR32: 2893.3468 | AS32: 2770.8593 | AT32: 3202.7939 | AU32: 6083.4092 | AV32: 2893.3468 | AW32: 2770.8593 | AX32: 3202.7939 | AY32: =18026*33/100 -> 5948.58 | AZ32: =18026*32/100 -> 5768.32 | BA32: =18026*35/100 -> 6309.1 | BB32: =18082*34/100 -> 6147.88 | BC32: =18082*33/100 -> 5967.06 | BD32: =18082*33/100 -> 5967.06 | BE32: =4473*34/100 -> 1520.82 | BF32: =4473*33/100 -> 1476.09 | BG32: =4473*33/100 -> 1476.09 | BH32: =15024*32/100 -> 4807.68 | BI32: =15024*32/100 -> 4807.68 | BJ32: =15024*34/100 -> 5108.16 | BK32: =9234*33/100 -> 3047.22 | BL32: =9234*32/100 -> 2954.88 | BM32: =9234*35/100 -> 3231.9 | BN32: =13577*34/100 -> 4616.18 | BO32: =13577*33/100 -> 4480.41 | BP32: =13577*33/100 -> 4480.41
A33: Nkandla | B33: Nkandla | C33: 251979 | D33: 207686 | E33: 237158 | F33: 208658 | G33: 212125 | H33: 223463 | I33: 193085 | J33: 208551 | K33: 225084 | L33: 234186 | M33: 195313 | N33: 253332 | O33: 239875 | P33: 223724 | Q33: 297534 | R33: 254798 | S33: 221440 | T33: 219415 | U33: 222263 | V33: 253487 | W33: 290790.8 | X33: 284001.91 | Y33: 305291.43 | Z33: 253487 | AA33: 290790.8 | AB33: 284001.91 | AC33: 305291.43 | AD33: 284981.13 | AE33: 276483.73 | AF33: 259663.68 | AG33: 256131.15 | AH33: 287435.03 | AI33: 251220.52 | AJ33: 245355.45 | AK33: 263747.93 | AL33: 224214.65 | AM33: 220018.11 | AN33: 221671.23 | AO33: 280001.83 | AP33: 269852.24 | AQ33: 261805.93 | AR33: 251954.81 | AS33: 241288.5 | AT33: 278901.69 | AU33: 261805.93 | AV33: 251954.81 | AW33: 241288.5 | AX33: 278901.69 | AY33: =681741*33/100 -> 224974.53 | AZ33: =681741*32/100 -> 218157.12 | BA33: =681741*35/100 -> 238609.35 | BB33: =725274*34/100 -> 246593.16 | BC33: =725274*33/100 -> 239340.42 | BD33: =725274*33/100 -> 239340.42 | BE33: =690725*34/100 -> 234846.5 | BF33: =690725*33/100 -> 227939.25 | BG33: =690725*33/100 -> 227939.25 | BH33: =792895*32/100 -> 253726.4 | BI33: =792895*32/100 -> 253726.4 | BJ33: =792895*34/100 -> 269584.3 | BK33: =663272*33/100 -> 218879.76 | BL33: =663272*32/100 -> 212247.04 | BM33: =663272*35/100 -> 232145.2 | BN33: =783923*34/100 -> 266533.82 | BO33: =783923*33/100 -> 258694.59 | BP33: =783923*33/100 -> 258694.59
A34: Nongoma | B34: Nongoma | C34: 983434 | D34: 762864 | E34: 892608 | F34: 701689 | G34: 847481 | H34: 821547 | I34: 785427 | J34: 883349 | K34: 783047 | L34: 754615 | M34: 748412 | N34: 969944 | O34: 877947 | P34: 787949 | Q34: 790887 | R34: 966728 | S34: 864514 | T34: 829494 | U34: 867702 | V34: 1052828 | W34: 1005076.8 | X34: 981611.92 | Y34: 1055196.1 | Z34: 1052828 | AA34: 1005076.8 | AB34: 981611.92 | AC34: 1055196.1 | AD34: 1024768.6 | AE34: 994212.64 | AF34: 865489.37 | AG34: 853715.05 | AH34: 958054.54 | AI34: 754673.58 | AJ34: 737054.72 | AK34: 792306.26 | AL34: 788227.79 | AM34: 773474.82 | AN34: 779286.38 | AO34: 838345.82 | AP34: 807957.19 | AQ34: 783865.98 | AR34: 783238.81 | AS34: 750081.01 | AT34: 867007.18 | AU34: 783865.98 | AV34: 783238.81 | AW34: 750081.01 | AX34: 867007.18 | AY34: =1579990*33/100 -> 521396.7 | AZ34: =1579990*32/100 -> 505596.8 | BA34: =1579990*35/100 -> 552996.5 | BB34: =1324840*34/100 -> 450445.6 | BC34: =1324840*33/100 -> 437197.2 | BD34: =1324840*33/100 -> 437197.2 | BE34: =1964462*34/100 -> 667917.08 | BF34: =1964462*33/100 -> 648272.46 | BG34: =1964462*33/100 -> 648272.46 | BH34: =1354961*32/100 -> 433587.52 | BI34: =1354961*32/100 -> 433587.52 | BJ34: =1354961*34/100 -> 460686.74 | BK34: =1476766*33/100 -> 487332.78 | BL34: =1476766*32/100 -> 472565.12 | BM34: =1476766*35/100 -> 516868.1 | BN34: =1502457*34/100 -> 510835.38 | BO34: =1502457*33/100 -> 495810.81 | BP34: =1502457*33/100 -> 495810.81
A35: Nqutu | B35: Nquthu | C35: 750354 | D35: 638401 | E35: 752347 | F35: 637011 | G35: 700372 | H35: 656430 | I35: 703515 | J35: 675888 | K35: 633804 | L35: 667206 | M35: 604841 | N35: 858321 | O35: 710379 | P35: 553574 | Q35: 503703 | R35: 683089 | S35: 655817 | T35: 648958 | U35: 593618 | V35: 873275 | W35: 197366.51 | X35: 192758.72 | Y35: 207208.42 | Z35: 873275 | AA35: 197366.51 | AB35: 192758.72 | AC35: 207208.42 | AD35: 535726.9 | AE35: 519752.9 | AF35: 583213.97 | AG35: 575279.78 | AH35: 645589.43 | AI35: 878052.02 | AJ35: 857552.73 | AK35: 921837.11 | AL35: 908206.66 | AM35: 891208.09 | AN35: 897904.25 | AO35: 949184.34 | AP35: 914778 | AQ35: 887501.67 | AR35: 943426.85 | AS35: 903487.62 | AT35: 1044327.5 | AU35: 887501.67 | AV35: 943426.85 | AW35: 903487.62 | AX35: 1044327.5 | AY35: =2641550*33/100 -> 871711.5 | AZ35: =2641550*32/100 -> 845296 | BA35: =2641550*35/100 -> 924542.5 | BB35: =2683855*34/100 -> 912510.7 | BC35: =2683855*33/100 -> 885672.15 | BD35: =2683855*33/100 -> 885672.15 | BE35: =2822574*34/100 -> 959675.16 | BF35: =2822574*33/100 -> 931449.42 | BG35: =2822574*33/100 -> 931449.42 | BH35: =2920415*32/100 -> 934532.8 | BI35: =2920415*32/100 -> 934532.8 | BJ35: =2920415*34/100 -> 992941.1 | BK35: =2640261*33/100 -> 871286.13 | BL35: =2640261*32/100 -> 844883.52 | BM35: =2640261*35/100 -> 924091.35 | BN35: =2646091*34/100 -> 899670.94 | BO35: =2646091*33/100 -> 873210.03 | BP35: =2646091*33/100 -> 873210.03
A36: Paulpietersburg | B36: Edumbe | C36: 230254 | D36: 139623 | E36: 185628 | F36: 160987 | G36: 164899 | H36: 139895 | I36: 172930 | J36: 168683 | K36: 135078 | L36: 165575 | M36: 177882 | N36: 220318 | O36: 190388 | P36: 141097 | Q36: 171135 | R36: 180449 | S36: 174740 | T36: 188739 | U36: 180931 | V36: 165197 | W36: 208990.62 | X36: 204111.46 | Y36: 219412.19 | Z36: 165197 | AA36: 208990.62 | AB36: 204111.46 | AC36: 219412.19 | AD36: 220384.14 | AE36: 213812.85 | AF36: 224366.06 | AG36: 221313.73 | AH36: 248362.29 | AI36: 188182.08 | AJ36: 183788.72 | AK36: 197566 | AL36: 194020.44 | AM36: 190389.03 | AN36: 191819.53 | AO36: 185520.27 | AP36: 178795.47 | AQ36: 173464.25 | AR36: 187926.25 | AS36: 179970.54 | AT36: 208025.2 | AU36: 173464.25 | AV36: 187926.25 | AW36: 179970.54 | AX36: 208025.2 | AY36: =554434*33/100 -> 182963.22 | AZ36: =554434*32/100 -> 177418.88 | BA36: =554434*35/100 -> 194051.9 | BB36: =523885*34/100 -> 178120.9 | BC36: =523885*33/100 -> 172882.05 | BD36: =523885*33/100 -> 172882.05 | BE36: =722120*34/100 -> 245520.8 | BF36: =722120*33/100 -> 238299.6 | BG36: =722120*33/100 -> 238299.6 | BH36: =557277*32/100 -> 178328.64 | BI36: =557277*32/100 -> 178328.64 | BJ36: =557277*3/100 -> 16718.31 | BK36: =525223*33/100 -> 173323.59 | BL36: =525223*32/100 -> 168071.36 | BM36: =525223*35/100 -> 183828.05 | BN36: =520237*34/100 -> 176880.58 | BO36: =520237*33/100 -> 171678.21 | BP36: =520237*33/100 -> 171678.21
A37: Pietermaritzburg | B37: Msunduzi | C37: 12720671 | D37: 12508229 | E37: 13201787 | F37: 11707121 | G37: 12776629 | H37: 12214905 | I37: 11552504 | J37: 11635848 | K37: 11669145 | L37: 13258277 | M37: 11861730 | N37: 14623257 | O37: 13014889 | P37: 12382798 | Q37: 13394303 | R37: 13648808 | S37: 12176589 | T37: 13687867 | U37: 13071323 | V37: 14747490 | W37: 13162044 | X37: 12854758 | Y37: 13818384 | Z37: 14747490 | AA37: 13162044 | AB37: 12854758 | AC37: 13818384 | AD37: 12336151 | AE37: 11968319 | AF37: 13353633 | AG37: 13171967 | AH37: 14781820 | AI37: 13453222 | AJ37: 13139138 | AK37: 14124082 | AL37: 13362836 | AM37: 13112729 | AN37: 13211252 | AO37: 13802832 | AP37: 13302502 | AQ37: 12905856 | AR37: 13376066 | AS37: 12809801 | AT37: 13806653 | AU37: 12905856 | AV37: 13376066 | AW37: 12809801 | AX37: 13806653 | AY37: =38619602*33/100 -> 12744469 | AZ37: =38619602*32/100 -> 12358273 | BA37: =38619602*35/100 -> 13516861 | BB37: =31105336*34/100 -> 10575814 | BC37: =31105336*33/100 -> 10264761 | BD37: =31105336*33/100 -> 10264761 | BE37: =35954546*34/100 -> 12224546 | BF37: =35954546*33/100 -> 11865000 | BG37: =35954546*33/100 -> 11865000 | BH37: =34333049*32/100 -> 10986576 | BI37: =34333049*32/100 -> 10986576 | BJ37: =34333049*34/100 -> 11673237 | BK37: =33435014*33/100 -> 11033555 | BL37: =33435014*32/100 -> 10699204 | BM37: =33435014*35/100 -> 11702255 | BN37: =33029856*34/100 -> 11230151 | BO37: =33029856*33/100 -> 10899852 | BP37: =33029856*33/100 -> 10899852
A38: Pinetown | B38: eThekwini | C38: 11918015 | D38: 12667833 | E38: 12940459 | F38: 11145344 | G38: 12589385 | H38: 11576090 | I38: 11188225 | J38: 11572073 | K38: 11275424 | L38: 12349238 | M38: 11437311 | N38: 12925681 | O38: 12071371 | P38: 11450266 | Q38: 12892369 | R38: 12617622 | S38: 11274204 | T38: 12008591 | U38: 11973646 | V38: 12550529 | W38: 12157612 | X38: 11873777 | Y38: 12763866 | Z38: 12550529 | AA38: 12157612 | AB38: 11873777 | AC38: 12763866 | AD38: 11605784 | AE38: 11259730 | AF38: 11925354 | AG38: 11763118 | AH38: 13200785 | AI38: 12380785 | AJ38: 12091739 | AK38: 12998167 | AL38: 11706641 | AM38: 11487532 | AN38: 11573844 | AO38: 12550324 | AP38: 12095396 | AQ38: 11734742 | AR38: 11955139 | AS38: 11449028 | AT38: 13233756 | AU38: 11734742 | AV38: 11955139 | AW38: 11449028 | AX38: 13233756 | AY38: =35813869*33/100 -> 11818577 | AZ38: =35813869*32/100 -> 11460438 | BA38: =35813869*35/100 -> 12534854 | BB38: =33736553*34/100 -> 11470428 | BC38: =33736553*33/100 -> 11133062 | BD38: =33736553*33/100 -> 11133062 | BE38: =38615867*34/100 -> 13129395 | BF38: =38615867*33/100 -> 12743236 | BG38: =38615867*33/100 -> 12743236 | BH38: =35632550*32/100 -> 11402416 | BI38: =35632550*32/100 -> 11402416 | BJ38: =35632550*34/100 -> 12115067 | BK38: =35199697*33/100 -> 11615900 | BL38: =35199697*32/100 -> 11263903 | BM38: =35199697*35/100 -> 12319894 | BN38: =35434271*34/100 -> 12047652 | BO38: =35434271*33/100 -> 11693309 | BP38: =35434271*33/100 -> 11693309
A39: Polela | B39: Ingwe | C39: 180385 | D39: 138768 | E39: 172298 | F39: 149596 | G39: 162657 | H39: 164955 | I39: 167932 | J39: 161103 | K39: 161265 | L39: 139581 | M39: 155003 | N39: 272829 | O39: 165522 | P39: 158275 | Q39: 198526 | R39: 195276 | S39: 172105 | T39: 187430 | U39: 170036 | V39: 243025 | W39: 212049.42 | X39: 207098.84 | Y39: 222623.51 | Z39: 243025 | AA39: 212049.42 | AB39: 207098.84 | AC39: 222623.51 | AD39: 202581.33 | AE39: 196540.88 | AF39: 224090.34 | AG39: 221041.76 | AH39: 248057.08 | AI39: 203442.28 | AJ39: 198692.65 | AK39: 213587.17 | AL39: 192007.94 | AM39: 188414.2 | AN39: 189829.86 | AO39: 198822.83 | AP39: 191615.83 | AQ39: 185902.34 | AR39: 194717.32 | AS39: 186474.11 | AT39: 215542.57 | AU39: 185902.34 | AV39: 194717.32 | AW39: 186474.11 | AX39: 215542.57 | AY39: =562677*33/100 -> 185683.41 | AZ39: =562677*32/100 -> 180056.64 | BA39: =562677*35/100 -> 196936.95 | BB39: =530856*34/100 -> 180491.04 | BC39: =530856*33/100 -> 175182.48 | BD39: =530856*33/100 -> 175182.48 | BE39: =570234*34/100 -> 193879.56 | BF39: =570234*33/100 -> 188177.22 | BG39: =570234*33/100 -> 188177.22 | BH39: =585729*32/100 -> 187433.28 | BI39: =585729*32/100 -> 187433.28 | BJ39: =585729*34/100 -> 199147.86 | BK39: =480979*33/100 -> 158723.07 | BL39: =480979*32/100 -> 153913.28 | BM39: =480979*35/100 -> 168342.65 | BN39: =575072*34/100 -> 195524.48 | BO39: =575072*33/100 -> 189773.76 | BP39: =575072*33/100 -> 189773.76
A40: Port Shepstone | B40: Hibiscus Coast | C40: 5740227 | D40: 5123848 | E40: 5680665 | F40: 4982362 | G40: 5209004 | H40: 5029480 | I40: 4932130 | J40: 4853315 | K40: 4824845 | L40: 5393877 | M40: 4906820 | N40: 6909651 | O40: 6169316 | P40: 4974612 | Q40: 5515182 | R40: 5799149 | S40: 5110776 | T40: 5442000 | U40: 5613321 | V40: 6851297 | W40: 4635389.6 | X40: 4527170.2 | Y40: 4866538.7 | Z40: 6851297 | AA40: 4635389.6 | AB40: 4527170.2 | AC40: 4866538.7 | AD40: 4100472 | AE40: 3978206.4 | AF40: 4832279.5 | AG40: 4766540 | AH40: 5349097.8 | AI40: 5548216.7 | AJ40: 5418686.2 | AK40: 5824885 | AL40: 5449763.9 | AM40: 5347762.7 | AN40: 5387943.5 | AO40: 5487411.8 | AP40: 5288502.4 | AQ40: 5130812.8 | AR40: 5697764.8 | AS40: 5456554.4 | AT40: 6307147.8 | AU40: 5130812.8 | AV40: 5697764.8 | AW40: 5456554.4 | AX40: 6307147.8 | AY40: =15707603*33/100 -> 5183509 | AZ40: =15707603*32/100 -> 5026433 | BA40: =15707603*35/100 -> 5497661 | BB40: =11183568*34/100 -> 3802413.1 | BC40: =11183568*33/100 -> 3690577.4 | BD40: =11183568*33/100 -> 3690577.4 | BE40: =11711837*34/100 -> 3982024.6 | BF40: =11711837*33/100 -> 3864906.2 | BG40: =11711837*33/100 -> 3864906.2 | BH40: =12505357*32/100 -> 4001714.2 | BI40: =12505357*32/100 -> 4001714.2 | BJ40: =12505357*34/100 -> 4251821.4 | BK40: =11762580*33/100 -> 3881651.4 | BL40: =11762580*32/100 -> 3764025.6 | BM40: =11762580*35/100 -> 4116903 | BN40: =11409644*34/100 -> 3879279 | BO40: =11409644*33/100 -> 3765182.5 | BP40: =11409644*33/100 -> 3765182.5
A41: Richmond (KZN) | B41: Richmond | C41: 224408 | D41: 204026 | E41: 186884 | F41: 193403 | G41: 199206 | H41: 171134 | I41: 210341 | J41: 182205 | K41: 181377 | L41: 175290 | M41: 165261 | N41: 237394 | O41: 176656 | P41: 198900 | Q41: 184737 | R41: 113597 | S41: 128494 | T41: 112562 | U41: 154769 | V41: 149582 | W41: 178990.79 | X41: 174812.02 | Y41: 187916.38 | Z41: 149582 | AA41: 178990.79 | AB41: 174812.02 | AC41: 187916.38 | AD41: 218102.38 | AE41: 211599.13 | AF41: 236249.48 | AG41: 233035.48 | AH41: 261516.65 | AI41: 197520.83 | AJ41: 192909.44 | AK41: 207370.43 | AL41: 194092.49 | AM41: 190459.74 | AN41: 191890.77 | AO41: 207393.02 | AP41: 199875.37 | AQ41: 193915.6 | AR41: 185049.88 | AS41: 177215.93 | AT41: 204841.19 | AU41: 193915.6 | AV41: 185049.88 | AW41: 177215.93 | AX41: 204841.19 | AY41: =477706*33/100 -> 157642.98 | AZ41: =477706*32/100 -> 152865.92 | BA41: =477706*35/100 -> 167197.1 | BB41: =158394*34/100 -> 53853.96 | BC41: =158394*33/100 -> 52270.02 | BD41: =158394*33/100 -> 52270.02 | BE41: =214784*34/100 -> 73026.56 | BF41: =214784*33/100 -> 70878.72 | BG41: =214784*33/100 -> 70878.72 | BH41: =174107*32/100 -> 55714.24 | BI41: =174107*32/100 -> 55714.24 | BJ41: =174107*34/100 -> 59196.38 | BK41: =178098*33/100 -> 58772.34 | BL41: =178098*32/100 -> 56991.36 | BM41: =178098*35/100 -> 62334.3 | BN41: =160581*34/100 -> 54597.54 | BO41: =160581*33/100 -> 52991.73 | BP41: =160581*33/100 -> 52991.73
A42: Simdlangentsha | B42: Edumbe | C42: 277489 | D42: 145419 | E42: 200128 | F42: 277590 | G42: 187160 | H42: 203761 | I42: 223145 | J42: 186910 | K42: 195385 | L42: 237322 | M42: 193269 | N42: 318328 | O42: 240011 | P42: 190762 | Q42: 222112 | R42: 211364 | S42: 199708 | T42: 203517 | U42: 187222 | V42: 272050 | W42: 265730.4 | X42: 259526.57 | Y42: 278981.35 | Z42: 272050 | AA42: 265730.4 | AB42: 259526.57 | AC42: 278981.35 | AD42: 243720.58 | AE42: 236453.46 | AF42: 267182.78 | AG42: 263547.96 | AH42: 295758.31 | AI42: 226070.65 | AJ42: 220792.73 | AK42: 237343.92 | AL42: 221047.92 | AM42: 216910.65 | AN42: 218540.43 | AO42: 200323.81 | AP42: 193062.41 | AQ42: 187305.78 | AR42: 0 | AS42: 0 | AT42: 0 | AU42: 187305.78 | AV42: 0 | AW42: 0 | AX42: 0 | AY42: 0 | AZ42: 0 | BA42: 0 | BB42: 0 | BC42: 0 | BD42: 0 | BE42: 0 | BF42: 0 | BG42: 0 | BH42: 0 | BI42: 0 | BK42: 0 | BL42: 0 | BM42: 0 | BN42: 0 | BO42: 0 | BP42: 0
A43: Ubombo | B43: Jozini | C43: 1215643 | D43: 983111 | E43: 1074428 | F43: 959127 | G43: 1014266 | H43: 1017017 | I43: 986958 | J43: 990382 | K43: 1005081 | L43: 1099254 | M43: 991965 | N43: 1353903 | O43: 1192031 | P43: 999290 | Q43: 1195372 | R43: 1133718 | S43: 1094141 | T43: 1123863 | U43: 1095604 | V43: 1474870 | W43: 1216027.8 | X43: 1187638 | Y43: 1276666.4 | Z43: 1474870 | AA43: 1216027.8 | AB43: 1187638 | AC43: 1276666.4 | AD43: 1149055.7 | AE43: 1114793.8 | AF43: 1259996.2 | AG43: 1242854.9 | AH43: 1394754.4 | AI43: 1173196.7 | AJ43: 1145806.9 | AK43: 1231699.5 | AL43: 1107235.3 | AM43: 1086511.6 | AN43: 1094675.2 | AO43: 1200594.7 | AP43: 1157075.2 | AQ43: 1122574.1 | AR43: 1242905.7 | AS43: 1190288.3 | AT43: 1375836 | AU43: 1122574.1 | AV43: 1242905.7 | AW43: 1190288.3 | AX43: 1375836 | AY43: =3262545*33/100 -> 1076639.9 | AZ43: =3262545*32/100 -> 1044014.4 | BA43: =3262545*35/100 -> 1141890.8 | BB43: =3210169*34/100 -> 1091457.5 | BC43: =3210169*33/100 -> 1059355.8 | BD43: =3210169*33/100 -> 1059355.8 | BE43: =3398805*34/100 -> 1155593.7 | BF43: =3398805*33/100 -> 1121605.6 | BG43: =3398805*33/100 -> 1121605.6 | BH43: =3609134*32/100 -> 1154922.9 | BI43: =3609134*32/100 -> 1154922.9 | BJ43: =3609134*34/100 -> 1227105.6 | BK43: =3228564*33/100 -> 1065426.1 | BL43: =3228564*32/100 -> 1033140.5 | BM43: =3228564*35/100 -> 1129997.4 | BN43: =3316121*34/100 -> 1127481.1 | BO43: =3316121*33/100 -> 1094319.9 | BP43: =3316121*33/100 -> 1094319.9
A44: Umbumbulu | B44: eThekwini | C44: 1050026 | D44: 782344 | E44: 1051663 | F44: 819398 | G44: 879073 | H44: 841154 | I44: 870289 | J44: 844234 | K44: 909482 | L44: 930492 | M44: 883274 | N44: 1528329 | O44: 1140330 | P44: 851061 | Q44: 903984 | R44: 1103108 | S44: 1084450 | T44: 1053677 | U44: 1049662 | V44: 1508090 | W44: 1246732.4 | X44: 1217625.8 | Y44: 1308902.2 | Z44: 1508090 | AA44: 1246732.4 | AB44: 1217625.8 | AC44: 1308902.2 | AD44: 1196192.1 | AE44: 1160524.8 | AF44: 1342679.5 | AG44: 1324413.4 | AH44: 1486280.8 | AI44: 1102285.7 | AJ44: 1076551.3 | AK44: 1157252.4 | AL44: 1146568.7 | AM44: 1125108.8 | AN44: 1133562.4 | AO44: 1158563 | AP44: 1116567.1 | AQ44: 1083273.9 | AR44: 1208541.5 | AS44: 1157378.9 | AT44: 1337796.6 | AU44: 1083273.9 | AV44: 1208541.5 | AW44: 1157378.9 | AX44: 1337796.6 | AY44: =3188040*33/100 -> 1052053.2 | AZ44: =3188040*32/100 -> 1020172.8 | BA44: =3188040*35/100 -> 1115814 | BB44: =2991810*34/100 -> 1017215.4 | BC44: =2991810*33/100 -> 987297.3 | BD44: =2991810*33/100 -> 987297.3 | BE44: =3881596*34/100 -> 1319742.6 | BF44: =3881596*33/100 -> 1280926.7 | BG44: =3881596*33/100 -> 1280926.7 | BH44: =3209604*32/100 -> 1027073.3 | BI44: =3209604*32/100 -> 1027073.3 | BJ44: =3209604*34/100 -> 1091265.4 | BK44: =2940390*33/100 -> 970328.7 | BL44: =2940390*32/100 -> 940924.8 | BM44: =2940390*35/100 -> 1029136.5 | BN44: =2941564*34/100 -> 1000131.8 | BO44: =2941564*33/100 -> 970716.12 | BP44: =2941564*33/100 -> 970716.12
A45: Umlazi | B45: eThekwini | C45: 2244729 | D45: 2228913 | E45: 2309620 | F45: 2158147 | G45: 2204221 | H45: 2129920 | I45: 1948301 | J45: 2107552 | K45: 1952583 | L45: 2169387 | M45: 1897557 | N45: 2404813 | O45: 2230461 | P45: 1958225 | Q45: 2296372 | R45: 1884030 | S45: 1984964 | T45: 2220109 | U45: 2189235 | V45: 2469785 | W45: 2342721.2 | X45: 2288027.2 | Y45: 2459543.7 | Z45: 2469785 | AA45: 2342721.2 | AB45: 2288027.2 | AC45: 2459543.7 | AD45: 2449160.3 | AE45: 2376132.6 | AF45: 2599131.3 | AG45: 2563772.1 | AH45: 2877111.7 | AI45: 2742918.9 | AJ45: 2678881.8 | AK45: 2879697.8 | AL45: 2681387.8 | AM45: 2631201.2 | AN45: 2650971 | AO45: 2889941.7 | AP45: 2785186.2 | AQ45: 2702139.1 | AR45: 2831641.6 | AS45: 2711766.3 | AT45: 3134489.2 | AU45: 2702139.1 | AV45: 2831641.6 | AW45: 2711766.3 | AX45: 3134489.2 | AY45: =8097416*33/100 -> 2672147.3 | AZ45: =8097416*32/100 -> 2591173.1 | BA45: =8097416*35/100 -> 2834095.6 | BB45: =7837886*34/100 -> 2664881.2 | BC45: =7837886*33/100 -> 2586502.4 | BD45: =7837886*33/100 -> 2586502.4 | BE45: =8795474*34/100 -> 2990461.2 | BF45: =8795474*33/100 -> 2902506.4 | BG45: =8795474*33/100 -> 2902506.4 | BH45: =8500590*32/100 -> 2720188.8 | BI45: =8500590*32/100 -> 2720188.8 | BJ45: =8500590*34/100 -> 2890200.6 | BK45: =7520401*33/100 -> 2481732.3 | BL45: =7520401*32/100 -> 2406528.3 | BM45: =7520401*35/100 -> 2632140.4 | BN45: =7505295*34/100 -> 2551800.3 | BO45: =7505295*33/100 -> 2476747.4 | BP45: =7505295*33/100 -> 2476747.4
A46: Umvoti | B46: Umvoti | C46: 723428 | D46: 668357 | E46: 793274 | F46: 692652 | G46: 675306 | H46: 664247 | I46: 666830 | J46: 646640 | K46: 712732 | L46: 788319 | M46: 716401 | N46: 911815 | O46: 817388 | P46: 721779 | Q46: 762214 | R46: 836600 | S46: 647846 | T46: 812851 | U46: 734508 | V46: 959271 | W46: 767973.56 | X46: 750044.2 | Y46: 806269.46 | Z46: 959271 | AA46: 767973.56 | AB46: 750044.2 | AC46: 806269.46 | AD46: 784026.68 | AE46: 760649.01 | AF46: 892862.3 | AG46: 880715.58 | AH46: 988355.03 | AI46: 759755.11 | AJ46: 742017.61 | AK46: 797641.18 | AL46: 781949.21 | AM46: 767313.76 | AN46: 773079.03 | AO46: 725351.91 | AP46: 699059.12 | AQ46: 678214.97 | AR46: 415507.38 | AS46: 397917.2 | AT46: 459946.41 | AU46: 678214.97 | AV46: 415507.38 | AW46: 397917.2 | AX46: 459946.41 | AY46: =1149490*33/100 -> 379331.7 | AZ46: =1149490*32/100 -> 367836.8 | BA46: =1149490*35/100 -> 402321.5 | BB46: =1078733*34/100 -> 366769.22 | BC46: =1078733*33/100 -> 355981.89 | BD46: =1078733*33/100 -> 355981.89 | BE46: =1289866*34/100 -> 438554.44 | BF46: =1289866*33/100 -> 425655.78 | BG46: =1289866*33/100 -> 425655.78 | BH46: =1121493*32/100 -> 358877.76 | BI46: =1121493*32/100 -> 358877.76 | BJ46: =1121493*34/100 -> 381307.62 | BK46: =1145460*33/100 -> 378001.8 | BL46: =1145460*32/100 -> 366547.2 | BM46: =1145460*35/100 -> 400911 | BN46: =1072140*34/100 -> 364527.6 | BO46: =1072140*33/100 -> 353806.2 | BP46: =1072140*33/100 -> 353806.2
A47: Umzinto | B47: Umndoni | C47: 2797551 | D47: 2746037 | E47: 2981510 | F47: 2623231 | G47: 2824463 | H47: 2571301 | I47: 2550012 | J47: 2449833 | K47: 2462247 | L47: 2730407 | M47: 2577443 | N47: 3414603 | O47: 3042402 | P47: 2547070 | Q47: 2960806 | R47: 2752521 | S47: 2489335 | T47: 2685734 | U47: 2714231 | V47: 3143635 | W47: 2304909 | X47: 2251097.9 | Y47: 2419846 | Z47: 3143635 | AA47: 2304909 | AB47: 2251097.9 | AC47: 2419846 | AD47: 2165221.3 | AE47: 2100660 | AF47: 2517231.3 | AG47: 2482986.3 | AH47: 2786452.3 | AI47: 2527905 | AJ47: 2468887.7 | AK47: 2653961.9 | AL47: 2500817.1 | AM47: 2454010.2 | AN47: 2472448.6 | AO47: 2456591.9 | AP47: 2367544.6 | AQ47: 2296950.5 | AR47: 2565276.8 | AS47: 2456677.8 | AT47: 2839636.4 | AU47: 2296950.5 | AV47: 2565276.8 | AW47: 2456677.8 | AX47: 2839636.4 | AY47: =7134470*33/100 -> 2354375.1 | AZ47: =7134470*32/100 -> 2283030.4 | BA47: =7134470*35/100 -> 2497064.5 | BB47: =6667966*34/100 -> 2267108.4 | BC47: =6667966*33/100 -> 2200428.8 | BD47: =6667966*33/100 -> 2200428.8 | BE47: =7528561*34/100 -> 2559710.7 | BF47: =7528561*33/100 -> 2484425.1 | BG47: =7528561*33/100 -> 2484425.1 | BH47: =7345720*32/100 -> 2350630.4 | BI47: =7345720*32/100 -> 2350630.4 | BJ47: =7345720*34/100 -> 2497544.8 | BK47: =6737802*33/100 -> 2223474.7 | BL47: =6737802*32/100 -> 2156096.6 | BM47: =6737802*35/100 -> 2358230.7 | BN47: =6727929*34/100 -> 2287495.9 | BO47: =6727929*33/100 -> 2220216.6 | BP47: =6727929*33/100 -> 2220216.6
A48: Underberg | B48: KwaSani | C48: 313973 | D48: 215858 | E48: 294972 | F48: 240649 | G48: 219471 | H48: 269577 | I48: 266733 | J48: 214659 | K48: 242925 | L48: 232416 | M48: 221594 | N48: 270386 | O48: 322419 | P48: 219060 | Q48: 254900 | R48: 270922 | S48: 213959 | T48: 208357 | U48: 240439 | V48: 267399 | W48: 247948.63 | X48: 242159.94 | Y48: 260312.88 | Z48: 267399 | AA48: 247948.63 | AB48: 242159.94 | AC48: 260312.88 | AD48: 235068.33 | AE48: 228059.19 | AF48: 257351.28 | AG48: 253850.21 | AH48: 284875.32 | AI48: 156107.42 | AJ48: 152462.88 | AK48: 163891.9 | AL48: 192476.3 | AM48: 188873.79 | AN48: 190292.91 | AO48: 221240.29 | AP48: 213220.7 | AQ48: 206863.01 | AR48: 225510.07 | AS48: 215963.28 | AT48: 249628.65 | AU48: 206863.01 | AV48: 225510.07 | AW48: 215963.28 | AX48: 249628.65 | AY48: =657558*33/100 -> 216994.14 | AZ48: =657558*32/100 -> 210418.56 | BA48: =657558*35/100 -> 230145.3 | BB48: =706416*34/100 -> 240181.44 | BC48: =706416*33/100 -> 233117.28 | BD48: =706416*33/100 -> 233117.28 | BE48: =781421*34/100 -> 265683.14 | BF48: =781421*33/100 -> 257868.93 | BG48: =781421*33/100 -> 257868.93 | BH48: =703597*32/100 -> 225151.04 | BI48: =703597*32/100 -> 225151.04 | BJ48: =703597*34/100 -> 239222.98 | BK48: =672242*33/100 -> 221839.86 | BL48: =672242*32/100 -> 215117.44 | BM48: =672242*35/100 -> 235284.7 | BN48: =690906*34/100 -> 234908.04 | BO48: =690906*33/100 -> 227998.98 | BP48: =690906*33/100 -> 227998.98
A49: Utrecht | B49: Emadlangeni | C49: 216674 | D49: 213699 | E49: 253034 | F49: 227386 | G49: 272622 | H49: 225234 | I49: 263876 | J49: 228665 | K49: 261459 | L49: 283411 | M49: 233590 | N49: 356938 | O49: 304707 | P49: 235346 | Q49: 284688 | R49: 291496 | S49: 233282 | T49: 270009 | U49: 265002 | V49: 364661 | W49: 284191.68 | X49: 277556.85 | Y49: 298363.23 | Z49: 364661 | AA49: 284191.68 | AB49: 277556.85 | AC49: 298363.23 | AD49: 282881.9 | AE49: 274447.09 | AF49: 317691.29 | AG49: 313369.34 | AH49: 351668.77 | AI49: 246732.94 | AJ49: 240972.64 | AK49: 259036.57 | AL49: 257853.38 | AM49: 253027.24 | AN49: 254928.38 | AO49: 305481.29 | AP49: 294408.1 | AQ49: 285629.61 | AR49: 109299.46 | AS49: 104672.36 | AT49: 120989.18 | AU49: 285629.61 | AV49: 109299.46 | AW49: 104672.36 | AX49: 120989.18 | AY49: =281005*33/100 -> 92731.65 | AZ49: =281005*32/100 -> 89921.6 | BA49: =281005*35/100 -> 98351.75 | BB49: =99767*34/100 -> 33920.78 | BC49: =99767*33/100 -> 32923.11 | BD49: =99767*33/100 -> 32923.11 | BE49: 0 | BF49: 0 | BG49: 0 | BH49: 0 | BI49: 0 | BJ49: 0 | BK49: 0 | BL49: 0 | BM49: 0
A50: Vryheid | B50: Abaqulusi | C50: 2109845 | D50: 1929249 | E50: 2117038 | F50: 1756717 | G50: 2178496 | H50: 2248180 | I50: 1768265 | J50: 1859942 | K50: 1947870 | L50: 2198934 | M50: 1751203 | N50: 2760228 | O50: 2722170 | P50: 1927450 | Q50: 2377928 | R50: 2636661 | S50: 1953817 | T50: 2500164 | U50: 2403124 | V50: 2576195 | W50: 2039336.2 | X50: 1991725.2 | Y50: 2141030.1 | Z50: 2576195 | AA50: 2039336.2 | AB50: 1991725.2 | AC50: 2141030.1 | AD50: 2065431.5 | AE50: 2003845.7 | AF50: 2290806.4 | AG50: 2259641.8 | AH50: 2535811 | AI50: 2122161.5 | AJ50: 2072616.8 | AK50: 2227985.6 | AL50: 2178897.1 | AM50: 2138115.5 | AN50: 2154180.4 | AO50: 2349369.4 | AP50: 2264208.7 | AQ50: 2196695.8 | AR50: 2298945.3 | AS50: 2201621.3 | AT50: 2544820.4 | AU50: 2196695.8 | AV50: 2298945.3 | AW50: 2201621.3 | AX50: 2544820.4 | AY50: =5953626*33/100 -> 1964696.6 | AZ50: =5953626*32/100 -> 1905160.3 | BA50: =5953626*35/100 -> 2083769.1 | BB50: =6334306*34/100 -> 2153664 | BC50: =6334306*33/100 -> 2090321 | BD50: =6334306*33/100 -> 2090321 | BE50: =6827131*34/100 -> 2321224.5 | BF50: =6827131*33/100 -> 2252953.2 | BG50: =6827131*33/100 -> 2252953.2 | BH50: =5751230*32/100 -> 1840393.6 | BI50: =5751230*32/100 -> 1840393.6 | BJ50: =5751230*34/100 -> 1955418.2 | BK50: =5492314*33/100 -> 1812463.6 | BL50: =5492314*32/100 -> 1757540.5 | BM50: =5492314*35/100 -> 1922309.9 | BN50: =5444529*34/100 -> 1851139.9 | BO50: =5444529*33/100 -> 1796694.6 | BP50: =5444529*33/100 -> 1796694.6
A51: Weenen | B51: Umtshezi | C51: 161919 | D51: 140947 | E51: 144433 | F51: 130334 | G51: 144018 | H51: 128601 | I51: 118738 | J51: 128418 | K51: 140068 | L51: 125962 | M51: 113364 | N51: 202788 | O51: 165806 | P51: 116726 | Q51: 152192 | R51: 154572 | S51: 122800 | T51: 131808 | U51: 129393 | V51: 206024 | W51: 163481.34 | X51: 159664.65 | Y51: 171633.53 | Z51: 206024 | AA51: 163481.34 | AB51: 159664.65 | AC51: 171633.53 | AD51: 170135.4 | AE51: 165062.4 | AF51: 176993.83 | AG51: 174585.97 | AH51: 195923.54 | AI51: 154162.51 | AJ51: 150563.38 | AK51: 161850.01 | AL51: 147474.04 | AM51: 144713.82 | AN51: 145801.14 | AO51: 166546.69 | AP51: 160509.65 | AQ51: 155723.66 | AR51: 101153.59 | AS51: 96871.328 | AT51: 111972.09 | AU51: 155723.66 | AV51: 101153.59 | AW51: 96871.328 | AX51: 111972.09 | AY51: =210766*33/100 -> 69552.78 | AZ51: =210766*32/100 -> 67445.12 | BA51: =210766*35/100 -> 73768.1 | BB51: =186330*34/100 -> 63352.2 | BC51: =186330*33/100 -> 61488.9 | BD51: =186330*33/100 -> 61488.9 | BE51: =297026*34/100 -> 100988.84 | BF51: =297026*33/100 -> 98018.58 | BG51: =297026*33/100 -> 98018.58 | BH51: =201937*32/100 -> 64619.84 | BI51: =201937*32/100 -> 64619.84 | BJ51: =201937*34/100 -> 68658.58 | BK51: =217595*33/100 -> 71806.35 | BL51: =217595*32/100 -> 69630.4 | BM51: =217595*35/100 -> 76158.25 | BN51: =220279*34/100 -> 74894.86 | BO51: =220279*33/100 -> 72692.07 | BP51: =220279*33/100 -> 72692.07
A53: Total SA Consumption | C53: 927371044 | D53: 942889332 | E53: 984396871 | F53: 873565100 | G53: 929519172 | H53: 904118158 | I53: 859617453 | J53: 873841167 | K53: 885255709 | L53: 976091526 | M53: 880706585 | N53: 1049566290 | O53: 955510427 | P53: 886402514 | Q53: 986893637 | R53: 939770402 | S53: 895897148 | T53: 979418649 | U53: 968327898 | V53: 1026138320 | W53: 9.3650486e+08 | X53: 9.0985053e+08 | Y53: 9.8047762e+08 | Z53: 1026138320 | AA53: 9.3650486e+08 | AB53: 9.0985053e+08 | AC53: 9.8047762e+08 | AD53: 9.4093884e+08 | AE53: 9.2409859e+08 | AF53: 1.1012796e+09 | AG53: 1.0413159e+09 | AH53: 1.1689692e+09 | AI53: 1.0134932e+09 | AJ53: 9.846477e+08 | AK53: 1.0610809e+09 | AL53: 9.6340421e+08 | AM53: 1.0283112e+09 | AN53: 1.0150751e+09 | AO53: 9.977173e+08 | AP53: 1.0208125e+09 | AQ53: 1.0025427e+09 | AR53: 1.004951e+09 | AS53: 9.502324e+08 | AT53: 1.0667198e+09 | AU53: 1.0025427e+09 | AV53: 1.004951e+09 | AW53: 9.502324e+08 | AX53: 1.0667198e+09 | AY53: =2919022418*33/100 -> 9.632774e+08 | AZ53: =2919022418*32/100 -> 9.3408717e+08 | BA53: =2919022418*35/100 -> 1.0216578e+09 | BB53: =2694276043*34/100 -> 9.1605385e+08 | BC53: =2694276043*33/100 -> 8.8911109e+08 | BD53: =2694276043*33/100 -> 8.8911109e+08 | BE53: =3124622899*34/100 -> 1.0623718e+09 | BF53: =3124622899*33/100 -> 1.0311256e+09 | BG53: =3124622899*33/100 -> 1.0311256e+09 | BH53: =2995159299*32/100 -> 9.5845098e+08 | BI53: =2995159299*32/100 -> 9.5845098e+08 | BJ53: =2995159299*34/100 -> 1.0183542e+09 | BK53: =2866953214*33/100 -> 9.4609456e+08 | BL53: =2866953214*32/100 -> 9.1742503e+08 | BM53: =2866953214*35/100 -> 1.0034336e+09 | BN53: =2866953214*33/100 -> 9.4609456e+08 | BO53: =2866953214*32/100 -> 9.1742503e+08 | BP53: =2866953214*35/100 -> 1.0034336e+09
A54: Total KZN Consumption | C54: =SUM(C2:C51) -> 147679672 | D54: =SUM(D2:D51) -> 145396255 | E54: =SUM(E2:E51) -> 152432706 | F54: =SUM(F2:F51) -> 134224314 | G54: =SUM(G2:G51) -> 144931180 | H54: =SUM(H2:H51) -> 137722559 | I54: =SUM(I2:I51) -> 133479106 | J54: =SUM(J2:J51) -> 134787221 | ... BP54: =SUM(BP2:BP51) -> 1.44556e+08
A55: SA | C55: 927371044 | D55: 942889332 | E55: 984396871 | F55: 873565100 | G55: 929519172 | H55: 904118158 | I55: 859617453 | J55: 873841167 | K55: 885255709 | L55: 976091526 | M55: 880706585 | N55: 1049566290 | O55: 955510427 | P55: 886402514 | Q55: 986893637 | R55: =R53 -> 939770402 | S55: =S53 -> 895897148 | T55: =T53 -> 979418649 | U55: =U53 -> 968327898 | V55: =V53 -> 1026138320 | W55: =W53 -> 9.3650486e+08 | X55: =X53 -> 9.0985053e+08 | Y55: =Y53 -> 9.8047762e+08 | ... AX55: =AX53 -> 1.0667198e+09
A57: KZN Consumption as a % of SA Consumption | C57: =C54/C55*100 -> 15.924551 | D57: =D54/D55*100 -> 15.420288 | E57: =E54/E55*100 -> 15.484883 | F57: =F54/F55*100 -> 15.365119 | G57: =G54/G55*100 -> 15.592059 | H57: =H54/H55*100 -> 15.232805 | I57: =I54/I55*100 -> 15.527733 | J57: =J54/J55*100 -> 15.424682 | ... AX57: =AX54/AX55*100 -> 16.006495 | AY57: =AY54/AY53*100 -> 16.374513 | AZ57: =AZ54/AZ53*100 -> 16.374513 | BA57: =BA54/BA53*100 -> 16.374513 | BB57: =BB54/BB53*100 -> 16.802494 | BC57: =BC54/BC53*100 -> 16.801385 | BD57: =BD54/BD53*100 -> 16.914525 | BE57: =BE54/BE53*100 -> 17.824125 | BF57: =BF54/BF53*100 -> 17.86825 | ... BP57: =BP54/BP53*100 -> 14.406135
A59: Urban KZN Consumption | C59: =SUM(C65:C69) -> 108123409 | D59: =SUM(D65:D69) -> 109626712 | E59: =SUM(E65:E69) -> 113243240 | F59: =SUM(F65:F69) -> 99536867 | G59: =SUM(G65:G69) -> 108410420 | H59: =SUM(H65:H69) -> 101887777 | I59: =SUM(I65:I69) -> 98848781 | J59: =SUM(J65:J69) -> 100469812 | ... BP59: =SUM(BP65:BP69) -> 1.1416279e+08
A60: Rural KZN Consumption | C60: =C54-C59 -> 39556263 | D60: =D54-D59 -> 35769543 | E60: =E54-E59 -> 39189466 | F60: =F54-F59 -> 34687447 | G60: =G54-G59 -> 36520760 | H60: =H54-H59 -> 35834782 | I60: =I54-I59 -> 34630325 | J60: =J54-J59 -> 34317409 | ... BP60: =BP54-BP59 -> 30393206
A62: Urban Consumption as a % of KZN Consumption | C62: =C59/C54*100 -> 73.214822 | D62: =D59/D54*100 -> 75.39858 | E62: =E59/E54*100 -> 74.290645 | F62: =F59/F54*100 -> 74.157106 | G62: =G59/G54*100 -> 74.801309 | H62: =H59/H54*100 -> 73.980456 | I62: =I59/I54*100 -> 74.055621 | J62: =J59/J54*100 -> 74.539568 | ... BP62: =BP59/BP54*100 -> 78.974787
A63: Rural Consumption as a % of KZN Consumption | C63: =C60/C54*100 -> 26.785178 | D63: =D60/D54*100 -> 24.60142 | E63: =E60/E54*100 -> 25.709355 | F63: =F60/F54*100 -> 25.842894 | G63: =G60/G54*100 -> 25.198691 | H63: =H60/H54*100 -> 26.019544 | I63: =I60/I54*100 -> 25.944379 | J63: =J60/J54*100 -> 25.460432 | ... BP63: =BP60/BP54*100 -> 21.025213
A65: Durban Total Consumption | C65: =C9+C38+C6+C15+C45+C44 -> 77931944 | D65: =D9+D38+D6+D15+D45+D44 -> 80624702 | E65: =E9+E38+E6+E15+E45+E44 -> 82556301 | F65: =F9+F38+F6+F15+F45+F44 -> 71960600 | G65: =G9+G38+G6+G15+G45+G44 -> 78987143 | H65: =H9+H38+H6+H15+H45+H44 -> 73936436 | I65: =I9+I38+I6+I15+I45+I44 -> 71369765 | J65: =J9+J38+J6+J15+J45+J44 -> 73274570 | ... BP65: =BP9+BP38+BP6+BP15+BP45+BP44 -> 89538687
A66: Pietermaritzburg Total Consumption | C66: =C37 -> 12720671 | D66: =D37 -> 12508229 | E66: =E37 -> 13201787 | F66: =F37 -> 11707121 | G66: =G37 -> 12776629 | H66: =H37 -> 12214905 | I66: =I37 -> 11552504 | J66: =J37 -> 11635848 | ... BP66: =BP37 -> 10899852
A67: Richards Bay Total Consumption | C67: =C22 -> 7359227 | D67: =D22 -> 7087899 | E67: =E22 -> 7339706 | F67: =F22 -> 6910606 | G67: =G22 -> 7033321 | H67: =H22 -> 6610146 | I67: =I22 -> 6832476 | J67: =J22 -> 6735186 | ... BP67: =BP22 -> 6572555.9
A68: Port Shepstone Total Consumption | C68: =C40 -> 5740227 | D68: =D40 -> 5123848 | E68: =E40 -> 5680665 | F68: =F40 -> 4982362 | G68: =G40 -> 5209004 | H68: =H40 -> 5029480 | I68: =I40 -> 4932130 | J68: =J40 -> 4853315 | ... BP68: =BP40 -> 3765182.5
A69: New Castle Total Consumption | C69: =C31 -> 4371340 | D69: =D31 -> 4282034 | E69: =E31 -> 4464781 | F69: =F31 -> 3976178 | G69: =G31 -> 4404323 | H69: =H31 -> 4096810 | I69: =I31 -> 4161906 | J69: =J31 -> 3970893 | ... BP69: =BP31 -> 3386513.8
A71: Durban as a % of Total KZN Consumption | C71: =C65/C$54*100 -> 52.770935 | D71: =D65/D$54*100 -> 55.451705 | E71: =E65/E$54*100 -> 54.159178 | F71: =F65/F$54*100 -> 53.612194 | G71: =G65/G$54*100 -> 54.499758 | H71: =H65/H$54*100 -> 53.685058 | I71: =I65/I$54*100 -> 53.468867 | J71: =J65/J$54*100 -> 54.363143 | ... BP71: =BP65/BP$54*100 -> 61.940486
A72: Pietermaritzburg as a % of Total KZN Consumption | C72: =C66/C$54*100 -> 8.6136913 | D72: =D66/D$54*100 -> 8.602855 | E72: =E66/E$54*100 -> 8.6607312 | F72: =F66/F$54*100 -> 8.7220569 | G72: =G66/G$54*100 -> 8.8156524 | H72: =H66/H$54*100 -> 8.8692115 | I72: =I66/I$54*100 -> 8.6549156 | J72: =J66/J$54*100 -> 8.6327531 | ... BP72: =BP66/BP$54*100 -> 7.5402285
A73: Richards Bay as a % of Total KZN Consumption | C73: =C67/C$54*100 -> 4.9832363 | D73: =D67/D$54*100 -> 4.8748842 | E73: =E67/E$54*100 -> 4.8150467 | F73: =F67/F$54*100 -> 5.1485501 | G73: =G67/G$54*100 -> 4.8528695 | H73: =H67/H$54*100 -> 4.7996102 | I73: =I67/I$54*100 -> 5.1187607 | J73: =J67/J$54*100 -> 4.9969025 | ... BP73: =BP67/BP$54*100 -> 4.5467196
A74: Port Shepstone as a % of Total KZN Consumption | C74: =C68/C$54*100 -> 3.8869446 | D74: =D68/D$54*100 -> 3.5240578 | E74: =E68/E$54*100 -> 3.7266707 | F74: =F68/F$54*100 -> 3.7119668 | G74: =G68/G$54*100 -> 3.5941224 | H74: =H68/H$54*100 -> 3.6518926 | I74: =I68/I$54*100 -> 3.6950577 | J74: =J68/J$54*100 -> 3.6007234 | ... BP74: =BP68/BP$54*100 -> 2.6046533
A75: New Castle as a % of Total KZN Consumption | C75: =C69/C$54*100 -> 2.9600147 | D75: =D69/D$54*100 -> 2.9450786 | E75: =E69/E$54*100 -> 2.9290177 | F75: =F69/F$54*100 -> 2.9623381 | G75: =G69/G$54*100 -> 3.0389065 | H75: =H69/H$54*100 -> 2.9746833 | I75: =I69/I$54*100 -> 3.1180206 | J75: =J69/J$54*100 -> 2.9460456 | ... BP75: =BP69/BP$54*100 -> 2.3427003
A77: Durban Total Consumption m % Change | D77: =(D65-C65)/C65*100 -> 3.4552686 | E77: =(E65-D65)/D65*100 -> 2.3957906 | F77: =(F65-E65)/E65*100 -> -12.834515 | G77: =(G65-F65)/F65*100 -> 9.7644308 | H77: =(H65-G65)/G65*100 -> -6.3943407 | I77: =(I65-H65)/H65*100 -> -3.4714562 | J77: =(J65-I65)/I65*100 -> 2.6689243 | K77: =(K65-J65)/J65*100 -> -2.4737177 | ... BP77: =(BP65-BO65)/BO65*100 -> 0
A78: Pietermaritzburg Total Consumption m % Change | D78: =(D66-C66)/C66*100 -> -1.6700534 | E78: =(E66-D66)/D66*100 -> 5.5448137 | F78: =(F66-E66)/E66*100 -> -11.321695 | G78: =(G66-F66)/F66*100 -> 9.1355338 | H78: =(H66-G66)/G66*100 -> -4.3964961 | I78: =(I66-H66)/H66*100 -> -5.4228911 | J78: =(J66-I66)/I66*100 -> 0.72143667 | K78: =(K66-J66)/J66*100 -> 0.28615877 | ... BP78: =(BP66-BO66)/BO66*100 -> 0
A79: Richards Bay Total Consumption m % Change | D79: =(D67-C67)/C67*100 -> -3.686909 | E79: =(E67-D67)/D67*100 -> 3.5526325 | F79: =(F67-E67)/E67*100 -> -5.8462832 | G79: =(G67-F67)/F67*100 -> 1.7757488 | H79: =(H67-G67)/G67*100 -> -6.0167167 | I79: =(I67-H67)/H67*100 -> 3.3634658 | J79: =(J67-I67)/I67*100 -> -1.4239347 | K79: =(K67-J67)/J67*100 -> 3.925994 | ... BP79: =(BP67-BO67)/BO67*100 -> 0
A80: Port Shepstone Total Consumption m % Change | D80: =(D68-C68)/C68*100 -> -10.737885 | E80: =(E68-D68)/D68*100 -> 10.867165 | F80: =(F68-E68)/E68*100 -> -12.292628 | G80: =(G68-F68)/F68*100 -> 4.5488867 | H80: =(H68-G68)/G68*100 -> -3.446417 | I80: =(I68-H68)/H68*100 -> -1.9355878 | J80: =(J68-I68)/I68*100 -> -1.5979911 | K80: =(K68-J68)/J68*100 -> -0.58660936 | ... BP80: =(BP68-BO68)/BO68*100 -> 0
A81: New Castle Total Consumption m % Change | D81: =(D69-C69)/C69*100 -> -2.0429891 | E81: =(E69-D69)/D69*100 -> 4.2677615 | F81: =(F69-E69)/E69*100 -> -10.943493 | G81: =(G69-F69)/F69*100 -> 10.767752 | H81: =(H69-G69)/G69*100 -> -6.9820719 | I81: =(I69-H69)/H69*100 -> 1.5889436 | J81: =(J69-I69)/I69*100 -> -4.5895558 | K81: =(K69-J69)/J69*100 -> 3.4921112 | ... BP81: =(BP69-BO69)/BO69*100 -> 0
A82: Urban Total Consumption m % Change | D82: =(D60-C60)/C60*100 -> -9.5729973 | E82: =(E60-D60)/D60*100 -> 9.5609916 | F82: =(F60-E60)/E60*100 -> -11.487829 | G82: =(G60-F60)/F60*100 -> 5.2852347 | H82: =(H60-G60)/G60*100 -> -1.8783235 | I82: =(I60-H60)/H60*100 -> -3.3611395 | J82: =(J60-I60)/I60*100 -> -0.90358956 | K82: =(K60-J60)/J60*100 -> 1.2139961 | ... BP82: =(BP60-BO60)/BO60*100 -> 0
A85: Durban Total Consumption pa % Change | O85: =(O65-C65)/C65*100 -> 0.3314302 | P85: =(P65-D65)/D65*100 -> -9.168783 | Q85: =(Q65-E65)/E65*100 -> -0.61259164 | R85: =(R65-F65)/F65*100 -> 15.507658 | S85: =(S65-G65)/G65*100 -> -5.6957371 | T85: =(T65-H65)/H65*100 -> 8.2403296 | U85: =(U65-I65)/I65*100 -> 11.753013 | V85: =(V65-J65)/J65*100 -> 13.35546 | ... BP85: =(BP65-BD65)/BD65*100 -> -5.2443554
A86: Pietermaritzburg Total Consumption pa % Change | O86: =(O66-C66)/C66*100 -> 2.3129126 | P86: =(P66-D66)/D66*100 -> -1.0027878 | Q86: =(Q66-E66)/E66*100 -> 1.4582571 | R86: =(R66-F66)/F66*100 -> 16.585521 | S86: =(S66-G66)/G66*100 -> -4.6963874 | T86: =(T66-H66)/H66*100 -> 12.058727 | U86: =(U66-I66)/I66*100 -> 13.147098 | V86: =(V66-J66)/J66*100 -> 26.741858 | ... BP86: =(BP66-BD66)/BD66*100 -> 6.1871056
A87: Richards Bay Total Consumption pa % Change | O87: =(O67-C67)/C67*100 -> 1.5685479 | P87: =(P67-D67)/D67*100 -> -7.8976577 | Q87: =(Q67-E67)/E67*100 -> 1.4152065 | R87: =(R67-F67)/F67*100 -> 6.6185657 | S87: =(S67-G67)/G67*100 -> -7.9586443 | T87: =(T67-H67)/H67*100 -> 9.9626846 | U87: =(U67-I67)/I67*100 -> 1.0684706 | V87: =(V67-J67)/J67*100 -> 13.089334 | ... BP87: =(BP67-BD67)/BD67*100 -> 7.444584
A88: Port Shepstone Total Consumption pa % Change | O88: =(O68-C68)/C68*100 -> 7.4751225 | P88: =(P68-D68)/D68*100 -> -2.9125766 | Q88: =(Q68-E68)/E68*100 -> -2.913092 | R88: =(R68-F68)/F68*100 -> 16.39357 | S88: =(S68-G68)/G68*100 -> -1.8857348 | T88: =(T68-H68)/H68*100 -> 8.2020408 | U88: =(U68-I68)/I68*100 -> 13.811295 | V88: =(V68-J68)/J68*100 -> 41.167367 | ... BP88: =(BP68-BD68)/BD68*100 -> 2.0215015
A89: New Castle Total Consumption pa % Change | O89: =(O69-C69)/C69*100 -> 8.9945188 | P89: =(P69-D69)/D69*100 -> -5.2250169 | Q89: =(Q69-E69)/E69*100 -> -3.1864049 | R89: =(R69-F69)/F69*100 -> 8.5087237 | S89: =(S69-G69)/G69*100 -> -7.5484473 | T89: =(T69-H69)/H69*100 -> 6.6139509 | U89: =(U69-I69)/I69*100 -> 1.9565795 | V89: =(V69-J69)/J69*100 -> 29.121107 | ... BP89: =(BP69-BD69)/BD69*100 -> -5.1748817
A90: Urban Total Consumption pa % Change | O90: =(O59-C59)/C59*100 -> 1.3782501 | P90: =(P59-D59)/D59*100 -> -7.7084187 | Q90: =(Q59-E59)/E59*100 -> -0.4566224 | R90: =(R59-F59)/F59*100 -> 14.782044 | S90: =(S59-G59)/G59*100 -> -5.6169721 | T90: =(T59-H59)/H59*100 -> 8.742557 | U90: =(U59-I59)/I59*100 -> 10.867652 | V90: =(V59-J59)/J59*100 -> 16.854554 | ... BP90: =(BP59-BD59)/BD59*100 -> -3.3649892

Sheet Petrol Structure
A1: Structural Relationship. As a % of KZN Consumption | B1: 39448 | C1: 39479 | D1: 39508 | E1: 39539 | F1: 39569 | G1: 39600 | H1: 39630 | I1: 39661 | J1: 39692 | K1: 39722 | L1: 39753 | M1: 39783 | N1: 39814 | O1: 39845 | P1: 39873 | Q1: 39904 | R1: 39934 | S1: 39965 | T1: 39995 | U1: 40026 | V1: 40057 | W1: 40087 | X1: 40118 | Y1: 40148 | Z1: 40179 | AA1: 40210 | AB1: 40238 | AC1: 40269 | AD1: 40299 | AE1: 40330 | AF1: 40360 | AG1: 40391 | AH1: 40422 | AI1: 40452 | AJ1: 40483 | AK1: 40513 | AL1: 40544 | AM1: 40575 | AN1: 40603 | AO1: 40634 | AP1: 40664 | AQ1: 40695 | AR1: 40725 | AS1: 40756 | AT1: 40787 | AU1: 40817 | AV1: 40848 | AW1: 40878 | AX1: 40909 | AY1: 40940 | AZ1: 40969 | BA1: 41000 | BB1: 41030 | BC1: 41061 | BD1: 41091 | BE1: 41122 | BF1: 41153 | BG1: 41183 | BH1: 41214 | BI1: 41244 | BJ1: 41275 | BK1: 41306 | BL1: 41334 | BM1: 41365 | BN1: 41395 | BO1: 41426 | BP1: Average | BQ1: Increase/ Decrease in Contribution | BR1: Range
A2: Durban | B2: =Petrol!C9/Petrol!C$54*100 -> 32.63481 | C2: =Petrol!D9/Petrol!D$54*100 -> 34.774808 | D2: =Petrol!E9/Petrol!E$54*100 -> 33.285007 | E2: =Petrol!F9/Petrol!F$54*100 -> 33.205587 | F2: =Petrol!G9/Petrol!G$54*100 -> 33.650579 | G2: =Petrol!H9/Petrol!H$54*100 -> 33.358527 | H2: =Petrol!I9/Petrol!I$54*100 -> 33.091321 | I2: =Petrol!J9/Petrol!J$54*100 -> 33.676063 | ... U2: =Petrol!V9/Petrol!V$54*100 -> 30.894705 | V2: =Petrol!V9/Petrol!V$54*100 -> 30.894705 | W2: =Petrol!W9/Petrol!W$54*100 -> 32.771901 | X2: =Petrol!X9/Petrol!X$54*100 -> 32.771901 | Y2: =Petrol!Y9/Petrol!Y$54*100 -> 32.771901 | Z2: =Petrol!Z9/Petrol!Z$54*100 -> 30.894705 | AA2: =Petrol!AA9/Petrol!AA$54*100 -> 32.771901 | AB2: =Petrol!AB9/Petrol!AB$54*100 -> 32.771901 | AC2: =Petrol!AC9/Petrol!AC$54*100 -> 32.771901 | ... AW2: =Petrol!AW9/Petrol!AW$54*100 -> 37.226684 | AX2: =Petrol!AU9/Petrol!AU$54*100 -> 36.159972 | AY2: =Petrol!AV9/Petrol!AV$54*100 -> 37.226684 | AZ2: =Petrol!AW9/Petrol!AW$54*100 -> 37.226684 | BA2: =Petrol!AX9/Petrol!AX$54*100 -> 35.238841 | BB2: =Petrol!AY9/Petrol!AY$54*100 -> 40.020804 | BC2: =Petrol!AZ9/Petrol!AZ$54*100 -> 40.020804 | BD2: =Petrol!BA9/Petrol!BA$54*100 -> 40.020804 | BE2: =Petrol!BB9/Petrol!BB$54*100 -> 42.975369 | ... BL2: =Petrol!BI9/Petrol!BI$54*100 -> 42.283714 | BM2: =Petrol!BK9/Petrol!BK$54*100 -> 39.862603 | BN2: =Petrol!BL9/Petrol!BL$54*100 -> 39.862603 | BO2: =Petrol!BM9/Petrol!BM$54*100 -> 39.862603 | BP2: =AVERAGE(B2:BO2) -> 35.332384 | BQ2: =BO2-B2 -> 7.2277924 | BR2: =MAX(B2:BO2)-MIN(B2:BO2) -> 12.172454
A3: Pietermaritzburg | B3: =Petrol!C37/Petrol!C$54*100 -> 8.6136913 | C3: =Petrol!D37/Petrol!D$54*100 -> 8.602855 | D3: =Petrol!E37/Petrol!E$54*100 -> 8.6607312 | E3: =Petrol!F37/Petrol!F$54*100 -> 8.7220569 | F3: =Petrol!G37/Petrol!G$54*100 -> 8.8156524 | G3: =Petrol!H37/Petrol!H$54*100 -> 8.8692115 | H3: =Petrol!I37/Petrol!I$54*100 -> 8.6549156 | I3: =Petrol!J37/Petrol!J$54*100 -> 8.6327531 | ... U3: =Petrol!V37/Petrol!V$54*100 -> 8.9922944 | V3: =Petrol!V37/Petrol!V$54*100 -> 8.9922944 | W3: =Petrol!W37/Petrol!W$54*100 -> 8.9170605 | X3: =Petrol!X37/Petrol!X$54*100 -> 8.9170605 | Y3: =Petrol!Y37/Petrol!Y$54*100 -> 8.9170605 | Z3: =Petrol!Z37/Petrol!Z$54*100 -> 8.9922944 | AA3: =Petrol!AA37/Petrol!AA$54*100 -> 8.9170605 | AB3: =Petrol!AB37/Petrol!AB$54*100 -> 8.9170605 | AC3: =Petrol!AC37/Petrol!AC$54*100 -> 8.9170605 | ... AW3: =Petrol!AW37/Petrol!AW$54*100 -> 8.3303034 | AX3: =Petrol!AU37/Petrol!AU$54*100 -> 8.3116399 | AY3: =Petrol!AV37/Petrol!AV$54*100 -> 8.3303034 | AZ3: =Petrol!AW37/Petrol!AW$54*100 -> 8.3303034 | BA3: =Petrol!AX37/Petrol!AX$54*100 -> 8.0861498 | BB3: =Petrol!AY37/Petrol!AY$54*100 -> 8.0798254 | BC3: =Petrol!AZ37/Petrol!AZ$54*100 -> 8.0798254 | BD3: =Petrol!BA37/Petrol!BA$54*100 -> 8.0798254 | BE3: =Petrol!BB37/Petrol!BB$54*100 -> 6.8709858 | ... BL3: =Petrol!BI37/Petrol!BI$54*100 -> 7.061073 | BM3: =Petrol!BK37/Petrol!BK$54*100 -> 7.4832596 | BN3: =Petrol!BL37/Petrol!BL$54*100 -> 7.4832596 | BO3: =Petrol!BM37/Petrol!BM$54*100 -> 7.4832596 | BP3: =AVERAGE(B3:BO3) -> 8.3392064 | BQ3: =BO3-B3 -> -1.1304317 | BR3: =MAX(B3:BO3)-MIN(B3:BO3) -> 2.6878145
A4: Pinetown | B4: =Petrol!C38/Petrol!C$54*100 -> 8.0701798 | C4: =Petrol!D38/Petrol!D$54*100 -> 8.7126267 | D4: =Petrol!E38/Petrol!E$54*100 -> 8.489293 | E4: =Petrol!F38/Petrol!F$54*100 -> 8.3035209 | F4: =Petrol!G38/Petrol!G$54*100 -> 8.6864573 | G4: =Petrol!H38/Petrol!H$54*100 -> 8.4053695 | H4: =Petrol!I38/Petrol!I$54*100 -> 8.3820047 | I4: =Petrol!J38/Petrol!J$54*100 -> 8.5854378 | ... U4: =Petrol!V38/Petrol!V$54*100 -> 7.6526956 | V4: =Petrol!V38/Petrol!V$54*100 -> 7.6526956 | W4: =Petrol!W38/Petrol!W$54*100 -> 8.2365755 | X4: =Petrol!X38/Petrol!X$54*100 -> 8.2365755 | Y4: =Petrol!Y38/Petrol!Y$54*100 -> 8.2365755 | Z4: =Petrol!Z38/Petrol!Z$54*100 -> 7.6526956 | AA4: =Petrol!AA38/Petrol!AA$54*100 -> 8.2365755 | AB4: =Petrol!AB38/Petrol!AB$54*100 -> 8.2365755 | AC4: =Petrol!AC38/Petrol!AC$54*100 -> 8.2365755 | ... AW4: =Petrol!AW38/Petrol!AW$54*100 -> 7.4453831 | AX4: =Petrol!AU38/Petrol!AU$54*100 -> 7.5574183 | AY4: =Petrol!AV38/Petrol!AV$54*100 -> 7.4453831 | AZ4: =Petrol!AW38/Petrol!AW$54*100 -> 7.4453831 | BA4: =Petrol!AX38/Petrol!AX$54*100 -> 7.750621 | BB4: =Petrol!AY38/Petrol!AY$54*100 -> 7.4928222 | BC4: =Petrol!AZ38/Petrol!AZ$54*100 -> 7.4928222 | BD4: =Petrol!BA38/Petrol!BA$54*100 -> 7.4928222 | BE4: =Petrol!BB38/Petrol!BB$54*100 -> 7.4522062 | ... BL4: =Petrol!BI38/Petrol!BI$54*100 -> 7.3283336 | BM4: =Petrol!BK38/Petrol!BK$54*100 -> 7.8782222 | BN4: =Petrol!BL38/Petrol!BL$54*100 -> 7.8782222 | BO4: =Petrol!BM38/Petrol!BM$54*100 -> 7.8782222 | BP4: =AVERAGE(B4:BO4) -> 7.8425558 | BQ4: =BO4-B4 -> -0.19195754 | BR4: =MAX(B4:BO4)-MIN(B4:BO4) -> 1.7961302
A5: Inanda | B5: =Petrol!C15/Petrol!C$54*100 -> 6.8948122 | C5: =Petrol!D15/Petrol!D$54*100 -> 6.8949713 | D5: =Petrol!E15/Petrol!E$54*100 -> 7.1463417 | E5: =Petrol!F15/Petrol!F$54*100 -> 6.9697328 | F5: =Petrol!G15/Petrol!G$54*100 -> 7.0489007 | G5: =Petrol!H15/Petrol!H$54*100 -> 6.8214801 | H5: =Petrol!I15/Petrol!I$54*100 -> 7.0673098 | I5: =Petrol!J15/Petrol!J$54*100 -> 6.8651226 | ... U5: =Petrol!V15/Petrol!V$54*100 -> 6.9312969 | V5: =Petrol!V15/Petrol!V$54*100 -> 6.9312969 | W5: =Petrol!W15/Petrol!W$54*100 -> 8.2025649 | X5: =Petrol!X15/Petrol!X$54*100 -> 8.2025649 | Y5: =Petrol!Y15/Petrol!Y$54*100 -> 8.2025649 | Z5: =Petrol!Z15/Petrol!Z$54*100 -> 6.9312969 | AA5: =Petrol!AA15/Petrol!AA$54*100 -> 8.2025649 | AB5: =Petrol!AB15/Petrol!AB$54*100 -> 8.2025649 | AC5: =Petrol!AC15/Petrol!AC$54*100 -> 8.2025649 | ... AW5: =Petrol!AW15/Petrol!AW$54*100 -> 7.3074012 | AX5: =Petrol!AU15/Petrol!AU$54*100 -> 7.2920531 | AY5: =Petrol!AV15/Petrol!AV$54*100 -> 7.3074012 | AZ5: =Petrol!AW15/Petrol!AW$54*100 -> 7.3074012 | BA5: =Petrol!AX15/Petrol!AX$54*100 -> 7.6069823 | BB5: =Petrol!AY15/Petrol!AY$54*100 -> 7.2730499 | BC5: =Petrol!AZ15/Petrol!AZ$54*100 -> 7.2730499 | BD5: =Petrol!BA15/Petrol!BA$54*100 -> 7.2730499 | BE5: =Petrol!BB15/Petrol!BB$54*100 -> 7.189048 | ... BL5: =Petrol!BI15/Petrol!BI$54*100 -> 7.2902444 | BM5: =Petrol!BK15/Petrol!BK$54*100 -> 7.4513653 | BN5: =Petrol!BL15/Petrol!BL$54*100 -> 7.4513653 | BO5: =Petrol!BM15/Petrol!BM$54*100 -> 7.4513653 | BP5: =AVERAGE(B5:BO5) -> 7.3896217 | BQ5: =BO5-B5 -> 0.5565531 | BR5: =MAX(B5:BO5)-MIN(B5:BO5) -> 1.7604661
A6: Lower Umfolozi | B6: =Petrol!C22/Petrol!C$54*100 -> 4.9832363 | C6: =Petrol!D22/Petrol!D$54*100 -> 4.8748842 | D6: =Petrol!E22/Petrol!E$54*100 -> 4.8150467 | E6: =Petrol!F22/Petrol!F$54*100 -> 5.1485501 | F6: =Petrol!G22/Petrol!G$54*100 -> 4.8528695 | G6: =Petrol!H22/Petrol!H$54*100 -> 4.7996102 | H6: =Petrol!I22/Petrol!I$54*100 -> 5.1187607 | I6: =Petrol!J22/Petrol!J$54*100 -> 4.9969025 | ... U6: =Petrol!V22/Petrol!V$54*100 -> 4.6443361 | V6: =Petrol!V22/Petrol!V$54*100 -> 4.6443361 | W6: =Petrol!W22/Petrol!W$54*100 -> 4.7478461 | X6: =Petrol!X22/Petrol!X$54*100 -> 4.7478461 | Y6: =Petrol!Y22/Petrol!Y$54*100 -> 4.7478461 | Z6: =Petrol!Z22/Petrol!Z$54*100 -> 4.6443361 | AA6: =Petrol!AA22/Petrol!AA$54*100 -> 4.7478461 | AB6: =Petrol!AB22/Petrol!AB$54*100 -> 4.7478461 | AC6: =Petrol!AC22/Petrol!AC$54*100 -> 4.7478461 | ... AW6: =Petrol!AW22/Petrol!AW$54*100 -> 4.2062788 | AX6: =Petrol!AU22/Petrol!AU$54*100 -> 4.7960436 | AY6: =Petrol!AV22/Petrol!AV$54*100 -> 4.2062788 | AZ6: =Petrol!AW22/Petrol!AW$54*100 -> 4.2062788 | BA6: =Petrol!AX22/Petrol!AX$54*100 -> 4.3787234 | BB6: =Petrol!AY22/Petrol!AY$54*100 -> 4.2116175 | BC6: =Petrol!AZ22/Petrol!AZ$54*100 -> 4.2116175 | BD6: =Petrol!BA22/Petrol!BA$54*100 -> 4.2116175 | BE6: =Petrol!BB22/Petrol!BB$54*100 -> 4.0946801 | ... BL6: =Petrol!BI22/Petrol!BI$54*100 -> 4.2692626 | BM6: =Petrol!BK22/Petrol!BK$54*100 -> 4.4886983 | BN6: =Petrol!BL22/Petrol!BL$54*100 -> 4.4886983 | BO6: =Petrol!BM22/Petrol!BM$54*100 -> 4.4886983 | BP6: =AVERAGE(B6:BO6) -> 4.6598962 | BQ6: =BO6-B6 -> -0.49453801 | BR6: =MAX(B6:BO6)-MIN(B6:BO6) -> 1.3360821
A7: Port Shepstone | B7: =Petrol!C40/Petrol!C$54*100 -> 3.8869446 | C7: =Petrol!D40/Petrol!D$54*100 -> 3.5240578 | D7: =Petrol!E40/Petrol!E$54*100 -> 3.7266707 | E7: =Petrol!F40/Petrol!F$54*100 -> 3.7119668 | F7: =Petrol!G40/Petrol!G$54*100 -> 3.5941224 | G7: =Petrol!H40/Petrol!H$54*100 -> 3.6518926 | H7: =Petrol!I40/Petrol!I$54*100 -> 3.6950577 | I7: =Petrol!J40/Petrol!J$54*100 -> 3.6007234 | ... U7: =Petrol!V40/Petrol!V$54*100 -> 4.1775841 | V7: =Petrol!V40/Petrol!V$54*100 -> 4.1775841 | W7: =Petrol!W40/Petrol!W$54*100 -> 3.1403975 | X7: =Petrol!X40/Petrol!X$54*100 -> 3.1403975 | Y7: =Petrol!Y40/Petrol!Y$54*100 -> 3.1403975 | Z7: =Petrol!Z40/Petrol!Z$54*100 -> 4.1775841 | AA7: =Petrol!AA40/Petrol!AA$54*100 -> 3.1403975 | AB7: =Petrol!AB40/Petrol!AB$54*100 -> 3.1403975 | AC7: =Petrol!AC40/Petrol!AC$54*100 -> 3.1403975 | ... AW7: =Petrol!AW40/Petrol!AW$54*100 -> 3.5484356 | AX7: =Petrol!AU40/Petrol!AU$54*100 -> 3.3043503 | AY7: =Petrol!AV40/Petrol!AV$54*100 -> 3.5484356 | AZ7: =Petrol!AW40/Petrol!AW$54*100 -> 3.5484356 | BA7: =Petrol!AX40/Petrol!AX$54*100 -> 3.6939106 | BB7: =Petrol!AY40/Petrol!AY$54*100 -> 3.2862765 | BC7: =Petrol!AZ40/Petrol!AZ$54*100 -> 3.2862765 | BD7: =Petrol!BA40/Petrol!BA$54*100 -> 3.2862765 | BE7: =Petrol!BB40/Petrol!BB$54*100 -> 2.4703844 | ... BL7: =Petrol!BI40/Petrol!BI$54*100 -> 2.571902 | BM7: =Petrol!BK40/Petrol!BK$54*100 -> 2.6326425 | BN7: =Petrol!BL40/Petrol!BL$54*100 -> 2.6326425 | BO7: =Petrol!BM40/Petrol!BM$54*100 -> 2.6326425 | BP7: =AVERAGE(B7:BO7) -> 3.3329617 | BQ7: =BO7-B7 -> -1.2543021 | BR7: =MAX(B7:BO7)-MIN(B7:BO7) -> 2.0798743
A8: Lower Tugela | B8: =Petrol!C21/Petrol!C$54*100 -> 3.0964763 | C8: =Petrol!D21/Petrol!D$54*100 -> 2.9148 | D8: =Petrol!E21/Petrol!E$54*100 -> 2.9745664 | E8: =Petrol!F21/Petrol!F$54*100 -> 2.9685516 | F8: =Petrol!G21/Petrol!G$54*100 -> 2.9353366 | G8: =Petrol!H21/Petrol!H$54*100 -> 2.9430952 | H8: =Petrol!I21/Petrol!I$54*100 -> 2.99413 | I8: =Petrol!J21/Petrol!J$54*100 -> 3.051727 | ... U8: =Petrol!V21/Petrol!V$54*100 -> 3.2580676 | V8: =Petrol!V21/Petrol!V$54*100 -> 3.2580676 | W8: =Petrol!W21/Petrol!W$54*100 -> 3.2686449 | X8: =Petrol!X21/Petrol!X$54*100 -> 3.2686449 | Y8: =Petrol!Y21/Petrol!Y$54*100 -> 3.2686449 | Z8: =Petrol!Z21/Petrol!Z$54*100 -> 3.2580676 | AA8: =Petrol!AA21/Petrol!AA$54*100 -> 3.2686449 | AB8: =Petrol!AB21/Petrol!AB$54*100 -> 3.2686449 | AC8: =Petrol!AC21/Petrol!AC$54*100 -> 3.2686449 | ... AW8: =Petrol!AW21/Petrol!AW$54*100 -> 2.8273954 | AX8: =Petrol!AU21/Petrol!AU$54*100 -> 2.8274033 | AY8: =Petrol!AV21/Petrol!AV$54*100 -> 2.8273954 | AZ8: =Petrol!AW21/Petrol!AW$54*100 -> 2.8273954 | BA8: =Petrol!AX21/Petrol!AX$54*100 -> 2.9433099 | BB8: =Petrol!AY21/Petrol!AY$54*100 -> 2.7310594 | BC8: =Petrol!AZ21/Petrol!AZ$54*100 -> 2.7310594 | BD8: =Petrol!BA21/Petrol!BA$54*100 -> 2.7310594 | BE8: =Petrol!BB21/Petrol!BB$54*100 -> 2.7298389 | ... BL8: =Petrol!BI21/Petrol!BI$54*100 -> 2.9206159 | BM8: =Petrol!BK21/Petrol!BK$54*100 -> 2.9410024 | BN8: =Petrol!BL21/Petrol!BL$54*100 -> 2.9410024 | BO8: =Petrol!BM21/Petrol!BM$54*100 -> 2.9410024 | BP8: =AVERAGE(B8:BO8) -> 2.9835322 | BQ8: =BO8-B8 -> -0.1554739 | BR8: =MAX(B8:BO8)-MIN(B8:BO8) -> 0.55688674
A9: Newcastle | B9: =Petrol!C31/Petrol!C$54*100 -> 2.9600147 | C9: =Petrol!D31/Petrol!D$54*100 -> 2.9450786 | D9: =Petrol!E31/Petrol!E$54*100 -> 2.9290177 | E9: =Petrol!F31/Petrol!F$54*100 -> 2.9623381 | F9: =Petrol!G31/Petrol!G$54*100 -> 3.0389065 | G9: =Petrol!H31/Petrol!H$54*100 -> 2.9746833 | H9: =Petrol!I31/Petrol!I$54*100 -> 3.1180206 | I9: =Petrol!J31/Petrol!J$54*100 -> 2.9460456 | ... U9: =Petrol!V31/Petrol!V$54*100 -> 3.1263517 | V9: =Petrol!V31/Petrol!V$54*100 -> 3.1263517 | W9: =Petrol!W31/Petrol!W$54*100 -> 2.6251266 | X9: =Petrol!X31/Petrol!X$54*100 -> 2.6251266 | Y9: =Petrol!Y31/Petrol!Y$54*100 -> 2.6251266 | Z9: =Petrol!Z31/Petrol!Z$54*100 -> 3.1263517 | AA9: =Petrol!AA31/Petrol!AA$54*100 -> 2.6251266 | AB9: =Petrol!AB31/Petrol!AB$54*100 -> 2.6251266 | AC9: =Petrol!AC31/Petrol!AC$54*100 -> 2.6251266 | ... AW9: =Petrol!AW31/Petrol!AW$54*100 -> 2.5372656 | AX9: =Petrol!AU31/Petrol!AU$54*100 -> 2.7762854 | AY9: =Petrol!AV31/Petrol!AV$54*100 -> 2.5372656 | AZ9: =Petrol!AW31/Petrol!AW$54*100 -> 2.5372656 | BA9: =Petrol!AX31/Petrol!AX$54*100 -> 2.6412857 | BB9: =Petrol!AY31/Petrol!AY$54*100 -> 2.326676 | BC9: =Petrol!AZ31/Petrol!AZ$54*100 -> 2.326676 | BD9: =Petrol!BA31/Petrol!BA$54*100 -> 2.326676 | BE9: =Petrol!BB31/Petrol!BB$54*100 -> 2.3905601 | ... BL9: =Petrol!BI31/Petrol!BI$54*100 -> 2.2970432 | BM9: =Petrol!BK31/Petrol!BK$54*100 -> 2.3983945 | BN9: =Petrol!BL31/Petrol!BL$54*100 -> 2.3983945 | BO9: =Petrol!BM31/Petrol!BM$54*100 -> 2.3983945 | BP9: =AVERAGE(B9:BO9) -> 2.7107359 | BQ9: =BO9-B9 -> -0.56162015 | BR9: =MAX(B9:BO9)-MIN(B9:BO9) -> 0.95773935
A10: Chatsworth | B10: =Petrol!C6/Petrol!C$54*100 -> 2.9401183 | C10: =Petrol!D6/Petrol!D$54*100 -> 2.9982299 | D10: =Petrol!E6/Petrol!E$54*100 -> 3.0334435 | E10: =Petrol!F6/Petrol!F$54*100 -> 2.9150181 | F10: =Petrol!G6/Petrol!G$54*100 -> 2.9864022 | G10: =Petrol!H6/Petrol!H$54*100 -> 2.9423923 | H10: =Petrol!I6/Petrol!I$54*100 -> 2.8165966 | I10: =Petrol!J6/Petrol!J$54*100 -> 3.0465596 | ... U10: =Petrol!V6/Petrol!V$54*100 -> 2.7421373 | V10: =Petrol!V6/Petrol!V$54*100 -> 2.7421373 | W10: =Petrol!W6/Petrol!W$54*100 -> 3.2796383 | X10: =Petrol!X6/Petrol!X$54*100 -> 3.2796383 | Y10: =Petrol!Y6/Petrol!Y$54*100 -> 3.2796383 | Z10: =Petrol!Z6/Petrol!Z$54*100 -> 2.7421373 | AA10: =Petrol!AA6/Petrol!AA$54*100 -> 3.2796383 | AB10: =Petrol!AB6/Petrol!AB$54*100 -> 3.2796383 | AC10: =Petrol!AC6/Petrol!AC$54*100 -> 3.2796383 | ... AW10: =Petrol!AW6/Petrol!AW$54*100 -> 2.6051375 | AX10: =Petrol!AU6/Petrol!AU$54*100 -> 2.5401137 | AY10: =Petrol!AV6/Petrol!AV$54*100 -> 2.6051375 | AZ10: =Petrol!AW6/Petrol!AW$54*100 -> 2.6051375 | BA10: =Petrol!AX6/Petrol!AX$54*100 -> 2.7119401 | BB10: =Petrol!AY6/Petrol!AY$54*100 -> 2.56064 | BC10: =Petrol!AZ6/Petrol!AZ$54*100 -> 2.56064 | BD10: =Petrol!BA6/Petrol!BA$54*100 -> 2.56064 | BE10: =Petrol!BB6/Petrol!BB$54*100 -> 2.5766387 | ... BL10: =Petrol!BI6/Petrol!BI$54*100 -> 2.5702845 | BM10: =Petrol!BK6/Petrol!BK$54*100 -> 2.6063859 | BN10: =Petrol!BL6/Petrol!BL$54*100 -> 2.6063859 | BO10: =Petrol!BM6/Petrol!BM$54*100 -> 2.6063859 | BP10: =AVERAGE(B10:BO10) -> 2.7957196 | BQ10: =BO10-B10 -> -0.33373238 | BR10: =MAX(B10:BO10)-MIN(B10:BO10) -> 0.78893522
A11: Kliprivier | B11: =Petrol!C18/Petrol!C$54*100 -> 2.8255521 | C11: =Petrol!D18/Petrol!D$54*100 -> 2.6111278 | D11: =Petrol!E18/Petrol!E$54*100 -> 2.6672478 | E11: =Petrol!F18/Petrol!F$54*100 -> 2.822692 | F11: =Petrol!G18/Petrol!G$54*100 -> 2.6234865 | G11: =Petrol!H18/Petrol!H$54*100 -> 2.7657205 | H11: =Petrol!I18/Petrol!I$54*100 -> 2.8578982 | I11: =Petrol!J18/Petrol!J$54*100 -> 2.6792859 | ... U11: =Petrol!V18/Petrol!V$54*100 -> 3.257303 | V11: =Petrol!V18/Petrol!V$54*100 -> 3.257303 | W11: =Petrol!W18/Petrol!W$54*100 -> 2.9522047 | X11: =Petrol!X18/Petrol!X$54*100 -> 2.9522047 | Y11: =Petrol!Y18/Petrol!Y$54*100 -> 2.9522047 | Z11: =Petrol!Z18/Petrol!Z$54*100 -> 3.257303 | AA11: =Petrol!AA18/Petrol!AA$54*100 -> 2.9522047 | AB11: =Petrol!AB18/Petrol!AB$54*100 -> 2.9522047 | AC11: =Petrol!AC18/Petrol!AC$54*100 -> 2.9522047 | ... AW11: =Petrol!AW18/Petrol!AW$54*100 -> 3.2176767 | AX11: =Petrol!AU18/Petrol!AU$54*100 -> 3.0981949 | AY11: =Petrol!AV18/Petrol!AV$54*100 -> 3.2176767 | AZ11: =Petrol!AW18/Petrol!AW$54*100 -> 3.2176767 | BA11: =Petrol!AX18/Petrol!AX$54*100 -> 3.3495916 | BB11: =Petrol!AY18/Petrol!AY$54*100 -> 2.6879337 | BC11: =Petrol!AZ18/Petrol!AZ$54*100 -> 2.6879337 | BD11: =Petrol!BA18/Petrol!BA$54*100 -> 2.6879337 | BE11: =Petrol!BB18/Petrol!BB$54*100 -> 2.2684993 | ... BL11: =Petrol!BI18/Petrol!BI$54*100 -> 2.3746548 | BM11: =Petrol!BK18/Petrol!BK$54*100 -> 2.5411489 | BN11: =Petrol!BL18/Petrol!BL$54*100 -> 2.5411489 | BO11: =Petrol!BM18/Petrol!BM$54*100 -> 2.5411489 | BP11: =AVERAGE(B11:BO11) -> 2.848861 | BQ11: =BO11-B11 -> -0.28440311 | BR11: =MAX(B11:BO11)-MIN(B11:BO11) -> 1.5056436
A12: Umzinto | B12: =Petrol!C47/Petrol!C$54*100 -> 1.8943372 | C12: =Petrol!D47/Petrol!D$54*100 -> 1.8886573 | D12: =Petrol!E47/Petrol!E$54*100 -> 1.9559516 | E12: =Petrol!F47/Petrol!F$54*100 -> 1.9543635 | F12: =Petrol!G47/Petrol!G$54*100 -> 1.9488305 | G12: =Petrol!H47/Petrol!H$54*100 -> 1.8670151 | H12: =Petrol!I47/Petrol!I$54*100 -> 1.9104203 | I12: =Petrol!J47/Petrol!J$54*100 -> 1.8175558 | ... U12: =Petrol!V47/Petrol!V$54*100 -> 1.9168341 | V12: =Petrol!V47/Petrol!V$54*100 -> 1.9168341 | W12: =Petrol!W47/Petrol!W$54*100 -> 1.5615366 | X12: =Petrol!X47/Petrol!X$54*100 -> 1.5615366 | Y12: =Petrol!Y47/Petrol!Y$54*100 -> 1.5615366 | Z12: =Petrol!Z47/Petrol!Z$54*100 -> 1.9168341 | AA12: =Petrol!AA47/Petrol!AA$54*100 -> 1.5615366 | AB12: =Petrol!AB47/Petrol!AB$54*100 -> 1.5615366 | AC12: =Petrol!AC47/Petrol!AC$54*100 -> 1.5615366 | ... AW12: =Petrol!AW47/Petrol!AW$54*100 -> 1.5975948 | AX12: =Petrol!AU47/Petrol!AU$54*100 -> 1.4792839 | AY12: =Petrol!AV47/Petrol!AV$54*100 -> 1.5975948 | AZ12: =Petrol!AW47/Petrol!AW$54*100 -> 1.5975948 | BA12: =Petrol!AX47/Petrol!AX$54*100 -> 1.6630913 | BB12: =Petrol!AY47/Petrol!AY$54*100 -> 1.4926428 | BC12: =Petrol!AZ47/Petrol!AZ$54*100 -> 1.4926428 | BD12: =Petrol!BA47/Petrol!BA$54*100 -> 1.4926428 | BE12: =Petrol!BB47/Petrol!BB$54*100 -> 1.4729145 | ... BL12: =Petrol!BI47/Petrol!BI$54*100 -> 1.5107503 | BM12: =Petrol!BK47/Petrol!BK$54*100 -> 1.5080215 | BN12: =Petrol!BL47/Petrol!BL$54*100 -> 1.5080215 | BO12: =Petrol!BM47/Petrol!BM$54*100 -> 1.5080215 | BP12: =AVERAGE(B12:BO12) -> 1.657189 | BQ12: =BO12-B12 -> -0.38631568 | BR12: =MAX(B12:BO12)-MIN(B12:BO12) -> 0.67329021
A13: Hlabisa | B13: =Petrol!C13/Petrol!C$54*100 -> 1.6984714 | C13: =Petrol!D13/Petrol!D$54*100 -> 1.508228 | D13: =Petrol!E13/Petrol!E$54*100 -> 1.578368 | E13: =Petrol!F13/Petrol!F$54*100 -> 1.5559238 | F13: =Petrol!G13/Petrol!G$54*100 -> 1.5312378 | G13: =Petrol!H13/Petrol!H$54*100 -> 1.6233455 | H13: =Petrol!I13/Petrol!I$54*100 -> 1.614201 | I13: =Petrol!J13/Petrol!J$54*100 -> 1.7672825 | ... U13: =Petrol!V13/Petrol!V$54*100 -> 1.873771 | V13: =Petrol!V13/Petrol!V$54*100 -> 1.873771 | W13: =Petrol!W13/Petrol!W$54*100 -> 1.3988244 | X13: =Petrol!X13/Petrol!X$54*100 -> 1.3988244 | Y13: =Petrol!Y13/Petrol!Y$54*100 -> 1.3988244 | Z13: =Petrol!Z13/Petrol!Z$54*100 -> 1.873771 | AA13: =Petrol!AA13/Petrol!AA$54*100 -> 1.3988244 | AB13: =Petrol!AB13/Petrol!AB$54*100 -> 1.3988244 | AC13: =Petrol!AC13/Petrol!AC$54*100 -> 1.3988244 | ... AW13: =Petrol!AW13/Petrol!AW$54*100 -> 1.2495091 | AX13: =Petrol!AU13/Petrol!AU$54*100 -> 1.3598226 | AY13: =Petrol!AV13/Petrol!AV$54*100 -> 1.2495091 | AZ13: =Petrol!AW13/Petrol!AW$54*100 -> 1.2495091 | BA13: =Petrol!AX13/Petrol!AX$54*100 -> 1.3007352 | BB13: =Petrol!AY13/Petrol!AY$54*100 -> 1.1197042 | BC13: =Petrol!AZ13/Petrol!AZ$54*100 -> 1.1197042 | BD13: =Petrol!BA13/Petrol!BA$54*100 -> 1.1197042 | BE13: =Petrol!BB13/Petrol!BB$54*100 -> 1.0907487 | ... BL13: =Petrol!BI13/Petrol!BI$54*100 -> 1.1536797 | BM13: =Petrol!BK13/Petrol!BK$54*100 -> 1.0481816 | BN13: =Petrol!BL13/Petrol!BL$54*100 -> 1.0481816 | BO13: =Petrol!BM13/Petrol!BM$54*100 -> 1.0481816 | BP13: =AVERAGE(B13:BO13) -> 1.4102728 | BQ13: =BO13-B13 -> -0.65028976 | BR13: =MAX(B13:BO13)-MIN(B13:BO13) -> 0.86428092
A14: Estcourt | B14: =Petrol!C11/Petrol!C$54*100 -> 1.7727944 | C14: =Petrol!D11/Petrol!D$54*100 -> 1.7094237 | D14: =Petrol!E11/Petrol!E$54*100 -> 1.7004363 | E14: =Petrol!F11/Petrol!F$54*100 -> 1.6595324 | F14: =Petrol!G11/Petrol!G$54*100 -> 1.6397265 | G14: =Petrol!H11/Petrol!H$54*100 -> 1.5475293 | H14: =Petrol!I11/Petrol!I$54*100 -> 1.5005083 | I14: =Petrol!J11/Petrol!J$54*100 -> 1.4120055 | ... U14: =Petrol!V11/Petrol!V$54*100 -> 1.8620138 | V14: =Petrol!V11/Petrol!V$54*100 -> 1.8620138 | W14: =Petrol!W11/Petrol!W$54*100 -> 1.6575462 | X14: =Petrol!X11/Petrol!X$54*100 -> 1.6575462 | Y14: =Petrol!Y11/Petrol!Y$54*100 -> 1.6575462 | Z14: =Petrol!Z11/Petrol!Z$54*100 -> 1.8620138 | AA14: =Petrol!AA11/Petrol!AA$54*100 -> 1.6575462 | AB14: =Petrol!AB11/Petrol!AB$54*100 -> 1.6575462 | AC14: =Petrol!AC11/Petrol!AC$54*100 -> 1.6575462 | ... AW14: =Petrol!AW11/Petrol!AW$54*100 -> 1.4371776 | AX14: =Petrol!AU11/Petrol!AU$54*100 -> 1.392983 | AY14: =Petrol!AV11/Petrol!AV$54*100 -> 1.4371776 | AZ14: =Petrol!AW11/Petrol!AW$54*100 -> 1.4371776 | BA14: =Petrol!AX11/Petrol!AX$54*100 -> 1.4960975 | BB14: =Petrol!AY11/Petrol!AY$54*100 -> 1.3388524 | BC14: =Petrol!AZ11/Petrol!AZ$54*100 -> 1.3388524 | BD14: =Petrol!BA11/Petrol!BA$54*100 -> 1.3388524 | BE14: =Petrol!BB11/Petrol!BB$54*100 -> 1.2382911 | ... BL14: =Petrol!BI11/Petrol!BI$54*100 -> 1.253063 | BM14: =Petrol!BK11/Petrol!BK$54*100 -> 1.2085006 | BN14: =Petrol!BL11/Petrol!BL$54*100 -> 1.2085006 | BO14: =Petrol!BM11/Petrol!BM$54*100 -> 1.2085006 | BP14: =AVERAGE(B14:BO14) -> 1.4980335 | BQ14: =BO14-B14 -> -0.56429384 | BR14: =MAX(B14:BO14)-MIN(B14:BO14) -> 0.68486525
A15: Vryheid | B15: =Petrol!C50/Petrol!C$54*100 -> 1.4286631 | C15: =Petrol!D50/Petrol!D$54*100 -> 1.3268904 | D15: =Petrol!E50/Petrol!E$54*100 -> 1.3888345 | E15: =Petrol!F50/Petrol!F$54*100 -> 1.3087919 | F15: =Petrol!G50/Petrol!G$54*100 -> 1.5031244 | G15: =Petrol!H50/Petrol!H$54*100 -> 1.6323978 | H15: =Petrol!I50/Petrol!I$54*100 -> 1.3247504 | I15: =Petrol!J50/Petrol!J$54*100 -> 1.3799097 | ... U15: =Petrol!V50/Petrol!V$54*100 -> 1.5708371 | V15: =Petrol!V50/Petrol!V$54*100 -> 1.5708371 | W15: =Petrol!W50/Petrol!W$54*100 -> 1.3816155 | X15: =Petrol!X50/Petrol!X$54*100 -> 1.3816155 | Y15: =Petrol!Y50/Petrol!Y$54*100 -> 1.3816155 | Z15: =Petrol!Z50/Petrol!Z$54*100 -> 1.5708371 | AA15: =Petrol!AA50/Petrol!AA$54*100 -> 1.3816155 | AB15: =Petrol!AB50/Petrol!AB$54*100 -> 1.3816155 | AC15: =Petrol!AC50/Petrol!AC$54*100 -> 1.3816155 | ... AW15: =Petrol!AW50/Petrol!AW$54*100 -> 1.4317298 | AX15: =Petrol!AU50/Petrol!AU$54*100 -> 1.4147179 | AY15: =Petrol!AV50/Petrol!AV$54*100 -> 1.4317298 | AZ15: =Petrol!AW50/Petrol!AW$54*100 -> 1.4317298 | BA15: =Petrol!AX50/Petrol!AX$54*100 -> 1.4904263 | BB15: =Petrol!AY50/Petrol!AY$54*100 -> 1.2455918 | BC15: =Petrol!AZ50/Petrol!AZ$54*100 -> 1.2455918 | BD15: =Petrol!BA50/Petrol!BA$54*100 -> 1.2455918 | BE15: =Petrol!BB50/Petrol!BB$54*100 -> 1.399211 | ... BL15: =Petrol!BI50/Petrol!BI$54*100 -> 1.1828211 | BM15: =Petrol!BK50/Petrol!BK$54*100 -> 1.2292626 | BN15: =Petrol!BL50/Petrol!BL$54*100 -> 1.2292626 | BO15: =Petrol!BM50/Petrol!BM$54*100 -> 1.2292626 | BP15: =AVERAGE(B15:BO15) -> 1.413021 | BQ15: =BO15-B15 -> -0.19940054 | BR15: =MAX(B15:BO15)-MIN(B15:BO15) -> 0.62017414
A16: Umlazi | B16: =Petrol!C45/Petrol!C$54*100 -> 1.5199986 | C16: =Petrol!D45/Petrol!D$54*100 -> 1.532992 | D16: =Petrol!E45/Petrol!E$54*100 -> 1.5151735 | E16: =Petrol!F45/Petrol!F$54*100 -> 1.6078659 | F16: =Petrol!G45/Petrol!G$54*100 -> 1.5208743 | G16: =Petrol!H45/Petrol!H$54*100 -> 1.5465295 | H16: =Petrol!I45/Petrol!I$54*100 -> 1.4596299 | I16: =Petrol!J45/Petrol!J$54*100 -> 1.5636141 | ... U16: =Petrol!V45/Petrol!V$54*100 -> 1.5059535 | V16: =Petrol!V45/Petrol!V$54*100 -> 1.5059535 | W16: =Petrol!W45/Petrol!W$54*100 -> 1.5871537 | X16: =Petrol!X45/Petrol!X$54*100 -> 1.5871537 | Y16: =Petrol!Y45/Petrol!Y$54*100 -> 1.5871537 | Z16: =Petrol!Z45/Petrol!Z$54*100 -> 1.5059535 | AA16: =Petrol!AA45/Petrol!AA$54*100 -> 1.5871537 | AB16: =Petrol!AB45/Petrol!AB$54*100 -> 1.5871537 | AC16: =Petrol!AC45/Petrol!AC$54*100 -> 1.5871537 | ... AW16: =Petrol!AW45/Petrol!AW$54*100 -> 1.7634806 | AX16: =Petrol!AU45/Petrol!AU$54*100 -> 1.7402338 | AY16: =Petrol!AV45/Petrol!AV$54*100 -> 1.7634806 | AZ16: =Petrol!AW45/Petrol!AW$54*100 -> 1.7634806 | BA16: =Petrol!AX45/Petrol!AX$54*100 -> 1.8357779 | BB16: =Petrol!AY45/Petrol!AY$54*100 -> 1.6941062 | BC16: =Petrol!AZ45/Petrol!AZ$54*100 -> 1.6941062 | BD16: =Petrol!BA45/Petrol!BA$54*100 -> 1.6941062 | BE16: =Petrol!BB45/Petrol!BB$54*100 -> 1.7313429 | ... BL16: =Petrol!BI45/Petrol!BI$54*100 -> 1.7482655 | BM16: =Petrol!BK45/Petrol!BK$54*100 -> 1.683179 | BN16: =Petrol!BL45/Petrol!BL$54*100 -> 1.683179 | BO16: =Petrol!BM45/Petrol!BM$54*100 -> 1.683179 | BP16: =AVERAGE(B16:BO16) -> 1.6284363 | BQ16: =BO16-B16 -> 0.16318035 | BR16: =MAX(B16:BO16)-MIN(B16:BO16) -> 0.61753786
A17: Camperdown | B17: =Petrol!C5/Petrol!C$54*100 -> 1.3604851 | C17: =Petrol!D5/Petrol!D$54*100 -> 1.2772014 | D17: =Petrol!E5/Petrol!E$54*100 -> 1.3916449 | E17: =Petrol!F5/Petrol!F$54*100 -> 1.3947138 | F17: =Petrol!G5/Petrol!G$54*100 -> 1.3134841 | G17: =Petrol!H5/Petrol!H$54*100 -> 1.3062065 | H17: =Petrol!I5/Petrol!I$54*100 -> 1.2645342 | I17: =Petrol!J5/Petrol!J$54*100 -> 1.2639945 | ... U17: =Petrol!V5/Petrol!V$54*100 -> 1.4652825 | V17: =Petrol!V5/Petrol!V$54*100 -> 1.4652825 | W17: =Petrol!W5/Petrol!W$54*100 -> 1.8263588 | X17: =Petrol!X5/Petrol!X$54*100 -> 1.8263588 | Y17: =Petrol!Y5/Petrol!Y$54*100 -> 1.8263588 | Z17: =Petrol!Z5/Petrol!Z$54*100 -> 1.4652825 | AA17: =Petrol!AA5/Petrol!AA$54*100 -> 1.8263588 | AB17: =Petrol!AB5/Petrol!AB$54*100 -> 1.8263588 | AC17: =Petrol!AC5/Petrol!AC$54*100 -> 1.8263588 | ... AW17: =Petrol!AW5/Petrol!AW$54*100 -> 1.5543411 | AX17: =Petrol!AU5/Petrol!AU$54*100 -> 1.4281387 | AY17: =Petrol!AV5/Petrol!AV$54*100 -> 1.5543411 | AZ17: =Petrol!AW5/Petrol!AW$54*100 -> 1.5543411 | BA17: =Petrol!AX5/Petrol!AX$54*100 -> 1.6180643 | BB17: =Petrol!AY5/Petrol!AY$54*100 -> 1.4424221 | BC17: =Petrol!AZ5/Petrol!AZ$54*100 -> 1.4424221 | BD17: =Petrol!BA5/Petrol!BA$54*100 -> 1.4424221 | BE17: =Petrol!BB5/Petrol!BB$54*100 -> 1.254505 | ... BL17: =Petrol!BI5/Petrol!BI$54*100 -> 1.3294172 | BM17: =Petrol!BK5/Petrol!BK$54*100 -> 1.293987 | BN17: =Petrol!BL5/Petrol!BL$54*100 -> 1.293987 | BO17: =Petrol!BM5/Petrol!BM$54*100 -> 1.293987 | BP17: =AVERAGE(B17:BO17) -> 1.4617361 | BQ17: =BO17-B17 -> -0.066498165 | BR17: =MAX(B17:BO17)-MIN(B17:BO17) -> 0.83641044
A18: Mount Currie | B18: =Petrol!C26/Petrol!C$54*100 -> 1.4445495 | C18: =Petrol!D26/Petrol!D$54*100 -> 1.166918 | D18: =Petrol!E26/Petrol!E$54*100 -> 1.1753409 | E18: =Petrol!F26/Petrol!F$54*100 -> 1.2367126 | F18: =Petrol!G26/Petrol!G$54*100 -> 1.1483906 | G18: =Petrol!H26/Petrol!H$54*100 -> 1.1882643 | H18: =Petrol!I26/Petrol!I$54*100 -> 1.3961316 | I18: =Petrol!J26/Petrol!J$54*100 -> 1.2148043 | ... U18: =Petrol!V26/Petrol!V$54*100 -> 1.509987 | V18: =Petrol!V26/Petrol!V$54*100 -> 1.509987 | W18: =Petrol!W26/Petrol!W$54*100 -> 1.4284793 | X18: =Petrol!X26/Petrol!X$54*100 -> 1.4284793 | Y18: =Petrol!Y26/Petrol!Y$54*100 -> 1.4284793 | Z18: =Petrol!Z26/Petrol!Z$54*100 -> 1.509987 | AA18: =Petrol!AA26/Petrol!AA$54*100 -> 1.4284793 | AB18: =Petrol!AB26/Petrol!AB$54*100 -> 1.4284793 | AC18: =Petrol!AC26/Petrol!AC$54*100 -> 1.4284793 | ... AW18: =Petrol!AW26/Petrol!AW$54*100 -> 1.283947 | AX18: =Petrol!AU26/Petrol!AU$54*100 -> 1.2000791 | AY18: =Petrol!AV26/Petrol!AV$54*100 -> 1.283947 | AZ18: =Petrol!AW26/Petrol!AW$54*100 -> 1.283947 | BA18: =Petrol!AX26/Petrol!AX$54*100 -> 1.3365849 | BB18: =Petrol!AY26/Petrol!AY$54*100 -> 1.1969119 | BC18: =Petrol!AZ26/Petrol!AZ$54*100 -> 1.1969119 | BD18: =Petrol!BA26/Petrol!BA$54*100 -> 1.1969119 | BE18: =Petrol!BB26/Petrol!BB$54*100 -> 1.1477071 | ... BL18: =Petrol!BI26/Petrol!BI$54*100 -> 1.2096827 | BM18: =Petrol!BK26/Petrol!BK$54*100 -> 1.0040106 | BN18: =Petrol!BL26/Petrol!BL$54*100 -> 1.0040106 | BO18: =Petrol!BM26/Petrol!BM$54*100 -> 1.0040106 | BP18: =AVERAGE(B18:BO18) -> 1.2378667 | BQ18: =BO18-B18 -> -0.4405389 | BR18: =MAX(B18:BO18)-MIN(B18:BO18) -> 0.8829434
A19: Eshowe | B19: =Petrol!C10/Petrol!C$54*100 -> 0.96172072 | C19: =Petrol!D10/Petrol!D$54*100 -> 0.94706703 | D19: =Petrol!E10/Petrol!E$54*100 -> 0.94852872 | E19: =Petrol!F10/Petrol!F$54*100 -> 1.0048895 | F19: =Petrol!G10/Petrol!G$54*100 -> 0.94975008 | G19: =Petrol!H10/Petrol!H$54*100 -> 0.94138971 | H19: =Petrol!I10/Petrol!I$54*100 -> 1.0065126 | I19: =Petrol!J10/Petrol!J$54*100 -> 0.96569986 | ... U19: =Petrol!V10/Petrol!V$54*100 -> 1.0247101 | V19: =Petrol!V10/Petrol!V$54*100 -> 1.0247101 | W19: =Petrol!W10/Petrol!W$54*100 -> 0.9461762 | X19: =Petrol!X10/Petrol!X$54*100 -> 0.9461762 | Y19: =Petrol!Y10/Petrol!Y$54*100 -> 0.9461762 | Z19: =Petrol!Z10/Petrol!Z$54*100 -> 1.0247101 | AA19: =Petrol!AA10/Petrol!AA$54*100 -> 0.9461762 | AB19: =Petrol!AB10/Petrol!AB$54*100 -> 0.9461762 | AC19: =Petrol!AC10/Petrol!AC$54*100 -> 0.9461762 | ... AW19: =Petrol!AW10/Petrol!AW$54*100 -> 0.94796257 | AX19: =Petrol!AU10/Petrol!AU$54*100 -> 0.90301174 | AY19: =Petrol!AV10/Petrol!AV$54*100 -> 0.94796257 | AZ19: =Petrol!AW10/Petrol!AW$54*100 -> 0.94796257 | BA19: =Petrol!AX10/Petrol!AX$54*100 -> 0.98682613 | BB19: =Petrol!AY10/Petrol!AY$54*100 -> 0.87856392 | BC19: =Petrol!AZ10/Petrol!AZ$54*100 -> 0.87856392 | BD19: =Petrol!BA10/Petrol!BA$54*100 -> 0.87856392 | BE19: =Petrol!BB10/Petrol!BB$54*100 -> 0.86949051 | ... BL19: =Petrol!BI10/Petrol!BI$54*100 -> 1.0065401 | BM19: =Petrol!BK10/Petrol!BK$54*100 -> 2.2116368 | BN19: =Petrol!BL10/Petrol!BL$54*100 -> 2.2116368 | BO19: =Petrol!BM10/Petrol!BM$54*100 -> 2.2116368 | BP19: =AVERAGE(B19:BO19) -> 1.0043039 | BQ19: =BO19-B19 -> 1.2499161 | BR19: =MAX(B19:BO19)-MIN(B19:BO19) -> 1.3629832
A20: Mtunzini | B20: =Petrol!C29/Petrol!C$54*100 -> 0.82859204 | C20: =Petrol!D29/Petrol!D$54*100 -> 0.81004631 | D20: =Petrol!E29/Petrol!E$54*100 -> 0.81962594 | E20: =Petrol!F29/Petrol!F$54*100 -> 0.80046004 | F20: =Petrol!G29/Petrol!G$54*100 -> 0.84086599 | G20: =Petrol!H29/Petrol!H$54*100 -> 0.76831422 | H20: =Petrol!I29/Petrol!I$54*100 -> 0.81815127 | I20: =Petrol!J29/Petrol!J$54*100 -> 0.78584304 | ... U20: =Petrol!V29/Petrol!V$54*100 -> 0.8695236 | V20: =Petrol!V29/Petrol!V$54*100 -> 0.8695236 | W20: =Petrol!W29/Petrol!W$54*100 -> 0.73197604 | X20: =Petrol!X29/Petrol!X$54*100 -> 0.73197604 | Y20: =Petrol!Y29/Petrol!Y$54*100 -> 0.73197604 | Z20: =Petrol!Z29/Petrol!Z$54*100 -> 0.8695236 | AA20: =Petrol!AA29/Petrol!AA$54*100 -> 0.73197604 | AB20: =Petrol!AB29/Petrol!AB$54*100 -> 0.73197604 | AC20: =Petrol!AC29/Petrol!AC$54*100 -> 0.73197604 | ... AW20: =Petrol!AW29/Petrol!AW$54*100 -> 0.82575036 | AX20: =Petrol!AU29/Petrol!AU$54*100 -> 0.78812818 | AY20: =Petrol!AV29/Petrol!AV$54*100 -> 0.82575036 | AZ20: =Petrol!AW29/Petrol!AW$54*100 -> 0.82575036 | BA20: =Petrol!AX29/Petrol!AX$54*100 -> 0.8596036 | BB20: =Petrol!AY29/Petrol!AY$54*100 -> 0.79977309 | BC20: =Petrol!AZ29/Petrol!AZ$54*100 -> 0.79977309 | BD20: =Petrol!BA29/Petrol!BA$54*100 -> 0.79977309 | BE20: =Petrol!BB29/Petrol!BB$54*100 -> 0.80366119 | ... BL20: =Petrol!BI29/Petrol!BI$54*100 -> 0.74718542 | BM20: =Petrol!BK29/Petrol!BK$54*100 -> 0.7422052 | BN20: =Petrol!BL29/Petrol!BL$54*100 -> 0.7422052 | BO20: =Petrol!BM29/Petrol!BM$54*100 -> 0.7422052 | BP20: =AVERAGE(B20:BO20) -> 0.78808549 | BQ20: =BO20-B20 -> -0.086386836 | BR20: =MAX(B20:BO20)-MIN(B20:BO20) -> 0.1761247
A21: Mahlabatini | B21: =Petrol!C23/Petrol!C$54*100 -> 0.83349454 | C21: =Petrol!D23/Petrol!D$54*100 -> 0.66733493 | D21: =Petrol!E23/Petrol!E$54*100 -> 0.84012023 | E21: =Petrol!F23/Petrol!F$54*100 -> 0.74149979 | F21: =Petrol!G23/Petrol!G$54*100 -> 0.72367796 | G21: =Petrol!H23/Petrol!H$54*100 -> 0.8642876 | H21: =Petrol!I23/Petrol!I$54*100 -> 0.80335345 | I21: =Petrol!J23/Petrol!J$54*100 -> 0.77081269 | ... U21: =Petrol!V23/Petrol!V$54*100 -> 0.79108647 | V21: =Petrol!V23/Petrol!V$54*100 -> 0.79108647 | W21: =Petrol!W23/Petrol!W$54*100 -> 0.52963931 | X21: =Petrol!X23/Petrol!X$54*100 -> 0.52963931 | Y21: =Petrol!Y23/Petrol!Y$54*100 -> 0.52963931 | Z21: =Petrol!Z23/Petrol!Z$54*100 -> 0.79108647 | AA21: =Petrol!AA23/Petrol!AA$54*100 -> 0.52963931 | AB21: =Petrol!AB23/Petrol!AB$54*100 -> 0.52963931 | AC21: =Petrol!AC23/Petrol!AC$54*100 -> 0.52963931 | ... AW21: =Petrol!AW23/Petrol!AW$54*100 -> 0.68792737 | AX21: =Petrol!AU23/Petrol!AU$54*100 -> 0.89258936 | AY21: =Petrol!AV23/Petrol!AV$54*100 -> 0.68792737 | AZ21: =Petrol!AW23/Petrol!AW$54*100 -> 0.68792737 | BA21: =Petrol!AX23/Petrol!AX$54*100 -> 0.71613029 | BB21: =Petrol!AY23/Petrol!AY$54*100 -> 0.5879414 | BC21: =Petrol!AZ23/Petrol!AZ$54*100 -> 0.5879414 | BD21: =Petrol!BA23/Petrol!BA$54*100 -> 0.5879414 | BE21: =Petrol!BB23/Petrol!BB$54*100 -> 0.80550676 | ... BL21: =Petrol!BI23/Petrol!BI$54*100 -> 0.7426894 | BM21: =Petrol!BK23/Petrol!BK$54*100 -> 0.72947147 | BN21: =Petrol!BL23/Petrol!BL$54*100 -> 0.72947147 | BO21: =Petrol!BM23/Petrol!BM$54*100 -> 0.72947147 | BP21: =AVERAGE(B21:BO21) -> 0.7222679 | BQ21: =BO21-B21 -> -0.10402307 | BR21: =MAX(B21:BO21)-MIN(B21:BO21) -> 0.52674418
A22: Ubombo | B22: =Petrol!C43/Petrol!C$54*100 -> 0.82316204 | C22: =Petrol!D43/Petrol!D$54*100 -> 0.67615978 | D22: =Petrol!E43/Petrol!E$54*100 -> 0.70485398 | E22: =Petrol!F43/Petrol!F$54*100 -> 0.71457024 | F22: =Petrol!G43/Petrol!G$54*100 -> 0.69982594 | G22: =Petrol!H43/Petrol!H$54*100 -> 0.73845346 | H22: =Petrol!I43/Petrol!I$54*100 -> 0.73941011 | I22: =Petrol!J43/Petrol!J$54*100 -> 0.7347744 | ... U22: =Petrol!V43/Petrol!V$54*100 -> 0.89930322 | V22: =Petrol!V43/Petrol!V$54*100 -> 0.89930322 | W22: =Petrol!W43/Petrol!W$54*100 -> 0.82383811 | X22: =Petrol!X43/Petrol!X$54*100 -> 0.82383811 | Y22: =Petrol!Y43/Petrol!Y$54*100 -> 0.82383811 | Z22: =Petrol!Z43/Petrol!Z$54*100 -> 0.89930322 | AA22: =Petrol!AA43/Petrol!AA$54*100 -> 0.82383811 | AB22: =Petrol!AB43/Petrol!AB$54*100 -> 0.82383811 | AC22: =Petrol!AC43/Petrol!AC$54*100 -> 0.82383811 | ... AW22: =Petrol!AW43/Petrol!AW$54*100 -> 0.77405282 | AX22: =Petrol!AU43/Petrol!AU$54*100 -> 0.72296113 | AY22: =Petrol!AV43/Petrol!AV$54*100 -> 0.77405282 | AZ22: =Petrol!AW43/Petrol!AW$54*100 -> 0.77405282 | BA22: =Petrol!AX43/Petrol!AX$54*100 -> 0.80578662 | BB22: =Petrol!AY43/Petrol!AY$54*100 -> 0.6825755 | BC22: =Petrol!AZ43/Petrol!AZ$54*100 -> 0.6825755 | BD22: =Petrol!BA43/Petrol!BA$54*100 -> 0.6825755 | BE22: =Petrol!BB43/Petrol!BB$54*100 -> 0.70910746 | ... BL22: =Petrol!BI43/Petrol!BI$54*100 -> 0.74226902 | BM22: =Petrol!BK43/Petrol!BK$54*100 -> 0.72260124 | BN22: =Petrol!BL43/Petrol!BL$54*100 -> 0.72260124 | BO22: =Petrol!BM43/Petrol!BM$54*100 -> 0.72260124 | BP22: =AVERAGE(B22:BO22) -> 0.75430219 | BQ22: =BO22-B22 -> -0.1005608 | BR22: =MAX(B22:BO22)-MIN(B22:BO22) -> 0.2905425
A23: Lions River | B23: =Petrol!C20/Petrol!C$54*100 -> 0.67740874 | C23: =Petrol!D20/Petrol!D$54*100 -> 0.69677448 | D23: =Petrol!E20/Petrol!E$54*100 -> 0.71366443 | E23: =Petrol!F20/Petrol!F$54*100 -> 0.68706777 | F23: =Petrol!G20/Petrol!G$54*100 -> 0.68899046 | G23: =Petrol!H20/Petrol!H$54*100 -> 0.69093982 | H23: =Petrol!I20/Petrol!I$54*100 -> 0.67907782 | I23: =Petrol!J20/Petrol!J$54*100 -> 0.6953033 | ... U23: =Petrol!V20/Petrol!V$54*100 -> 0.77074213 | V23: =Petrol!V20/Petrol!V$54*100 -> 0.77074213 | W23: =Petrol!W20/Petrol!W$54*100 -> 0.8483081 | X23: =Petrol!X20/Petrol!X$54*100 -> 0.8483081 | Y23: =Petrol!Y20/Petrol!Y$54*100 -> 0.8483081 | Z23: =Petrol!Z20/Petrol!Z$54*100 -> 0.77074213 | AA23: =Petrol!AA20/Petrol!AA$54*100 -> 0.8483081 | AB23: =Petrol!AB20/Petrol!AB$54*100 -> 0.8483081 | AC23: =Petrol!AC20/Petrol!AC$54*100 -> 0.8483081 | ... AW23: =Petrol!AW20/Petrol!AW$54*100 -> 0.6069392 | AX23: =Petrol!AU20/Petrol!AU$54*100 -> 0.62569145 | AY23: =Petrol!AV20/Petrol!AV$54*100 -> 0.6069392 | AZ23: =Petrol!AW20/Petrol!AW$54*100 -> 0.6069392 | BA23: =Petrol!AX20/Petrol!AX$54*100 -> 0.63182185 | BB23: =Petrol!AY20/Petrol!AY$54*100 -> 0.61981771 | BC23: =Petrol!AZ20/Petrol!AZ$54*100 -> 0.61981771 | BD23: =Petrol!BA20/Petrol!BA$54*100 -> 0.61981771 | BE23: =Petrol!BB20/Petrol!BB$54*100 -> 0.59667235 | ... BL23: =Petrol!BI20/Petrol!BI$54*100 -> 0.62069526 | BM23: =Petrol!BK20/Petrol!BK$54*100 -> 0.62138759 | BN23: =Petrol!BL20/Petrol!BL$54*100 -> 0.62138759 | BO23: =Petrol!BM20/Petrol!BM$54*100 -> 0.62138759 | BP23: =AVERAGE(B23:BO23) -> 0.69486443 | BQ23: =BO23-B23 -> -0.056021144 | BR23: =MAX(B23:BO23)-MIN(B23:BO23) -> 0.28611568
A24: Dundee | B24: =Petrol!C8/Petrol!C$54*100 -> 0.7617697 | C24: =Petrol!D8/Petrol!D$54*100 -> 0.62664544 | D24: =Petrol!E8/Petrol!E$54*100 -> 0.73795515 | E24: =Petrol!F8/Petrol!F$54*100 -> 0.67137613 | F24: =Petrol!G8/Petrol!G$54*100 -> 0.74903965 | G24: =Petrol!H8/Petrol!H$54*100 -> 0.68296582 | H24: =Petrol!I8/Petrol!I$54*100 -> 0.76824084 | I24: =Petrol!J8/Petrol!J$54*100 -> 0.66309847 | ... U24: =Petrol!V8/Petrol!V$54*100 -> 0.80341685 | V24: =Petrol!V8/Petrol!V$54*100 -> 0.80341685 | W24: =Petrol!W8/Petrol!W$54*100 -> 0.81904319 | X24: =Petrol!X8/Petrol!X$54*100 -> 0.81904319 | Y24: =Petrol!Y8/Petrol!Y$54*100 -> 0.81904319 | Z24: =Petrol!Z8/Petrol!Z$54*100 -> 0.80341685 | AA24: =Petrol!AA8/Petrol!AA$54*100 -> 0.81904319 | AB24: =Petrol!AB8/Petrol!AB$54*100 -> 0.81904319 | AC24: =Petrol!AC8/Petrol!AC$54*100 -> 0.81904319 | ... AW24: =Petrol!AW8/Petrol!AW$54*100 -> 0.3721789 | AX24: =Petrol!AU8/Petrol!AU$54*100 -> 0.66451797 | AY24: =Petrol!AV8/Petrol!AV$54*100 -> 0.3721789 | AZ24: =Petrol!AW8/Petrol!AW$54*100 -> 0.3721789 | BA24: =Petrol!AX8/Petrol!AX$54*100 -> 0.38743709 | BB24: =Petrol!AY8/Petrol!AY$54*100 -> 0.35742424 | BC24: =Petrol!AZ8/Petrol!AZ$54*100 -> 0.35742424 | BD24: =Petrol!BA8/Petrol!BA$54*100 -> 0.35742424 | BE24: =Petrol!BB8/Petrol!BB$54*100 -> 0.34255818 | ... BL24: =Petrol!BI8/Petrol!BI$54*100 -> 0.38281417 | BM24: =Petrol!BK8/Petrol!BK$54*100 -> 0.37418364 | BN24: =Petrol!BL8/Petrol!BL$54*100 -> 0.37418364 | BO24: =Petrol!BM8/Petrol!BM$54*100 -> 0.37418364 | BP24: =AVERAGE(B24:BO24) -> 0.61382745 | BQ24: =BO24-B24 -> -0.38758607 | BR24: =MAX(B24:BO24)-MIN(B24:BO24) -> 0.53900257
A25: Umbumbulu | B25: =Petrol!C44/Petrol!C$54*100 -> 0.71101593 | C25: =Petrol!D44/Petrol!D$54*100 -> 0.53807713 | D25: =Petrol!E44/Petrol!E$54*100 -> 0.68991952 | E25: =Petrol!F44/Petrol!F$54*100 -> 0.61046913 | F25: =Petrol!G44/Petrol!G$54*100 -> 0.60654512 | G25: =Petrol!H44/Petrol!H$54*100 -> 0.61075978 | H25: =Petrol!I44/Petrol!I$54*100 -> 0.65200392 | I25: =Petrol!J44/Petrol!J$54*100 -> 0.62634573 | ... U25: =Petrol!V44/Petrol!V$54*100 -> 0.91955914 | V25: =Petrol!V44/Petrol!V$54*100 -> 0.91955914 | W25: =Petrol!W44/Petrol!W$54*100 -> 0.84463997 | X25: =Petrol!X44/Petrol!X$54*100 -> 0.84463997 | Y25: =Petrol!Y44/Petrol!Y$54*100 -> 0.84463997 | Z25: =Petrol!Z44/Petrol!Z$54*100 -> 0.91955914 | AA25: =Petrol!AA44/Petrol!AA$54*100 -> 0.84463997 | AB25: =Petrol!AB44/Petrol!AB$54*100 -> 0.84463997 | AC25: =Petrol!AC44/Petrol!AC$54*100 -> 0.84463997 | ... AW25: =Petrol!AW44/Petrol!AW$54*100 -> 0.75265162 | AX25: =Petrol!AU44/Petrol!AU$54*100 -> 0.69765095 | AY25: =Petrol!AV44/Petrol!AV$54*100 -> 0.75265162 | AZ25: =Petrol!AW44/Petrol!AW$54*100 -> 0.75265162 | BA25: =Petrol!AX44/Petrol!AX$54*100 -> 0.78350803 | BB25: =Petrol!AY44/Petrol!AY$54*100 -> 0.66698789 | BC25: =Petrol!AZ44/Petrol!AZ$54*100 -> 0.66698789 | BD25: =Petrol!BA44/Petrol!BA$54*100 -> 0.66698789 | BE25: =Petrol!BB44/Petrol!BB$54*100 -> 0.66087324 | ... BL25: =Petrol!BI44/Petrol!BI$54*100 -> 0.66010007 | BM25: =Petrol!BK44/Petrol!BK$54*100 -> 0.65810356 | BN25: =Petrol!BL44/Petrol!BL$54*100 -> 0.65810356 | BO25: =Petrol!BM44/Petrol!BM$54*100 -> 0.65810356 | BP25: =AVERAGE(B25:BO25) -> 0.72983473 | BQ25: =BO25-B25 -> -0.052912377 | BR25: =MAX(B25:BO25)-MIN(B25:BO25) -> 0.38148201
A26: Ingwavuma | B26: =Petrol!C16/Petrol!C$54*100 -> 0.603794 | C26: =Petrol!D16/Petrol!D$54*100 -> 0.54626785 | D26: =Petrol!E16/Petrol!E$54*100 -> 0.57446989 | E26: =Petrol!F16/Petrol!F$54*100 -> 0.589052 | F26: =Petrol!G16/Petrol!G$54*100 -> 0.56680419 | G26: =Petrol!H16/Petrol!H$54*100 -> 0.57458125 | H26: =Petrol!I16/Petrol!I$54*100 -> 0.60627991 | I26: =Petrol!J16/Petrol!J$54*100 -> 0.6031462 | ... U26: =Petrol!V16/Petrol!V$54*100 -> 0.62858238 | V26: =Petrol!V16/Petrol!V$54*100 -> 0.62858238 | W26: =Petrol!W16/Petrol!W$54*100 -> 0.33423066 | X26: =Petrol!X16/Petrol!X$54*100 -> 0.33423066 | Y26: =Petrol!Y16/Petrol!Y$54*100 -> 0.33423066 | Z26: =Petrol!Z16/Petrol!Z$54*100 -> 0.62858238 | AA26: =Petrol!AA16/Petrol!AA$54*100 -> 0.33423066 | AB26: =Petrol!AB16/Petrol!AB$54*100 -> 0.33423066 | AC26: =Petrol!AC16/Petrol!AC$54*100 -> 0.33423066 | ... AW26: =Petrol!AW16/Petrol!AW$54*100 -> 0.50034002 | AX26: =Petrol!AU16/Petrol!AU$54*100 -> 0.48219809 | AY26: =Petrol!AV16/Petrol!AV$54*100 -> 0.50034002 | AZ26: =Petrol!AW16/Petrol!AW$54*100 -> 0.50034002 | BA26: =Petrol!AX16/Petrol!AX$54*100 -> 0.52085243 | BB26: =Petrol!AY16/Petrol!AY$54*100 -> 0.46827213 | BC26: =Petrol!AZ16/Petrol!AZ$54*100 -> 0.46827213 | BD26: =Petrol!BA16/Petrol!BA$54*100 -> 0.46827213 | BE26: =Petrol!BB16/Petrol!BB$54*100 -> 0.47014155 | ... BL26: =Petrol!BI16/Petrol!BI$54*100 -> 0.54423719 | BM26: =Petrol!BK16/Petrol!BK$54*100 -> 0.51674577 | BN26: =Petrol!BL16/Petrol!BL$54*100 -> 0.51674577 | BO26: =Petrol!BM16/Petrol!BM$54*100 -> 0.51674577 | BP26: =AVERAGE(B26:BO26) -> 0.4952293 | BQ26: =BO26-B26 -> -0.087048229 | BR26: =MAX(B26:BO26)-MIN(B26:BO26) -> 0.33486151
A27: Nongoma | B27: =Petrol!C34/Petrol!C$54*100 -> 0.66592374 | C27: =Petrol!D34/Petrol!D$54*100 -> 0.52467926 | D27: =Petrol!E34/Petrol!E$54*100 -> 0.58557512 | E27: =Petrol!F34/Petrol!F$54*100 -> 0.52277339 | F27: =Petrol!G34/Petrol!G$54*100 -> 0.58474719 | G27: =Petrol!H34/Petrol!H$54*100 -> 0.59652319 | H27: =Petrol!I34/Petrol!I$54*100 -> 0.58842693 | I27: =Petrol!J34/Petrol!J$54*100 -> 0.65536554 | ... U27: =Petrol!V34/Petrol!V$54*100 -> 0.64196275 | V27: =Petrol!V34/Petrol!V$54*100 -> 0.64196275 | W27: =Petrol!W34/Petrol!W$54*100 -> 0.6809224 | X27: =Petrol!X34/Petrol!X$54*100 -> 0.6809224 | Y27: =Petrol!Y34/Petrol!Y$54*100 -> 0.6809224 | Z27: =Petrol!Z34/Petrol!Z$54*100 -> 0.64196275 | AA27: =Petrol!AA34/Petrol!AA$54*100 -> 0.6809224 | AB27: =Petrol!AB34/Petrol!AB$54*100 -> 0.6809224 | AC27: =Petrol!AC34/Petrol!AC$54*100 -> 0.6809224 | ... AW27: =Petrol!AW34/Petrol!AW$54*100 -> 0.48778295 | AX27: =Petrol!AU34/Petrol!AU$54*100 -> 0.50482602 | AY27: =Petrol!AV34/Petrol!AV$54*100 -> 0.48778295 | AZ27: =Petrol!AW34/Petrol!AW$54*100 -> 0.48778295 | BA27: =Petrol!AX34/Petrol!AX$54*100 -> 0.50778056 | BB27: =Petrol!AY34/Petrol!AY$54*100 -> 0.33055865 | BC27: =Petrol!AZ34/Petrol!AZ$54*100 -> 0.33055865 | BD27: =Petrol!BA34/Petrol!BA$54*100 -> 0.33055865 | BE27: =Petrol!BB34/Petrol!BB$54*100 -> 0.29264937 | ... BL27: =Petrol!BI34/Petrol!BI$54*100 -> 0.27866673 | BM27: =Petrol!BK34/Petrol!BK$54*100 -> 0.33052247 | BN27: =Petrol!BL34/Petrol!BL$54*100 -> 0.33052247 | BO27: =Petrol!BM34/Petrol!BM$54*100 -> 0.33052247 | BP27: =AVERAGE(B27:BO27) -> 0.51588027 | BQ27: =BO27-B27 -> -0.33540128 | BR27: =MAX(B27:BO27)-MIN(B27:BO27) -> 0.42976466
A28: Alfred | B28: =Petrol!C2/Petrol!C$54*100 -> 0.51718357 | C28: =Petrol!D2/Petrol!D$54*100 -> 0.50291048 | D28: =Petrol!E2/Petrol!E$54*100 -> 0.51578367 | E28: =Petrol!F2/Petrol!F$54*100 -> 0.52000862 | F28: =Petrol!G2/Petrol!G$54*100 -> 0.4854642 | G28: =Petrol!H2/Petrol!H$54*100 -> 0.47686814 | H28: =Petrol!I2/Petrol!I$54*100 -> 0.52305714 | I28: =Petrol!J2/Petrol!J$54*100 -> 0.50724393 | ... U28: =Petrol!V2/Petrol!V$54*100 -> 0.5501922 | V28: =Petrol!V2/Petrol!V$54*100 -> 0.5501922 | W28: =Petrol!W2/Petrol!W$54*100 -> 0.58928327 | X28: =Petrol!X2/Petrol!X$54*100 -> 0.58928327 | Y28: =Petrol!Y2/Petrol!Y$54*100 -> 0.58928327 | Z28: =Petrol!Z2/Petrol!Z$54*100 -> 0.5501922 | AA28: =Petrol!AA2/Petrol!AA$54*100 -> 0.58928327 | AB28: =Petrol!AB2/Petrol!AB$54*100 -> 0.58928327 | AC28: =Petrol!AC2/Petrol!AC$54*100 -> 0.58928327 | ... AW28: =Petrol!AW2/Petrol!AW$54*100 -> 0.49195679 | AX28: =Petrol!AU2/Petrol!AU$54*100 -> 0.44709206 | AY28: =Petrol!AV2/Petrol!AV$54*100 -> 0.49195679 | AZ28: =Petrol!AW2/Petrol!AW$54*100 -> 0.49195679 | BA28: =Petrol!AX2/Petrol!AX$54*100 -> 0.51212551 | BB28: =Petrol!AY2/Petrol!AY$54*100 -> 0.4596989 | BC28: =Petrol!AZ2/Petrol!AZ$54*100 -> 0.4596989 | BD28: =Petrol!BA2/Petrol!BA$54*100 -> 0.4596989 | BE28: =Petrol!BB2/Petrol!BB$54*100 -> 0.33342178 | ... BL28: =Petrol!BI2/Petrol!BI$54*100 -> 0.19805816 | BM28: =Petrol!BK2/Petrol!BK$54*100 -> 0.33962682 | BN28: =Petrol!BL2/Petrol!BL$54*100 -> 0.33962682 | BO28: =Petrol!BM2/Petrol!BM$54*100 -> 0.33962682 | BP28: =AVERAGE(B28:BO28) -> 0.4754954 | BQ28: =BO28-B28 -> -0.17755675 | BR28: =MAX(B28:BO28)-MIN(B28:BO28) -> 0.39122511
A29: Umvoti | B29: =Petrol!C46/Petrol!C$54*100 -> 0.48986295 | C29: =Petrol!D46/Petrol!D$54*100 -> 0.45967965 | D29: =Petrol!E46/Petrol!E$54*100 -> 0.52040931 | E29: =Petrol!F46/Petrol!F$54*100 -> 0.51604063 | F29: =Petrol!G46/Petrol!G$54*100 -> 0.46594943 | G29: =Petrol!H46/Petrol!H$54*100 -> 0.48230806 | H29: =Petrol!I46/Petrol!I$54*100 -> 0.49957632 | I29: =Petrol!J46/Petrol!J$54*100 -> 0.47974874 | ... U29: =Petrol!V46/Petrol!V$54*100 -> 0.58491629 | V29: =Petrol!V46/Petrol!V$54*100 -> 0.58491629 | W29: =Petrol!W46/Petrol!W$54*100 -> 0.52028901 | X29: =Petrol!X46/Petrol!X$54*100 -> 0.52028901 | Y29: =Petrol!Y46/Petrol!Y$54*100 -> 0.52028901 | Z29: =Petrol!Z46/Petrol!Z$54*100 -> 0.58491629 | AA29: =Petrol!AA46/Petrol!AA$54*100 -> 0.52028901 | AB29: =Petrol!AB46/Petrol!AB$54*100 -> 0.52028901 | AC29: =Petrol!AC46/Petrol!AC$54*100 -> 0.52028901 | ... AW29: =Petrol!AW46/Petrol!AW$54*100 -> 0.25876835 | AX29: =Petrol!AU46/Petrol!AU$54*100 -> 0.43678457 | AY29: =Petrol!AV46/Petrol!AV$54*100 -> 0.25876835 | AZ29: =Petrol!AW46/Petrol!AW$54*100 -> 0.25876835 | BA29: =Petrol!AX46/Petrol!AX$54*100 -> 0.26937706 | BB29: =Petrol!AY46/Petrol!AY$54*100 -> 0.24049131 | BC29: =Petrol!AZ46/Petrol!AZ$54*100 -> 0.24049131 | BD29: =Petrol!BA46/Petrol!BA$54*100 -> 0.24049131 | BE29: =Petrol!BB46/Petrol!BB$54*100 -> 0.23828578 | ... BL29: =Petrol!BI46/Petrol!BI$54*100 -> 0.23065076 | BM29: =Petrol!BK46/Petrol!BK$54*100 -> 0.2563712 | BN29: =Petrol!BL46/Petrol!BL$54*100 -> 0.2563712 | BO29: =Petrol!BM46/Petrol!BM$54*100 -> 0.2563712 | BP29: =AVERAGE(B29:BO29) -> 0.42393292 | BQ29: =BO29-B29 -> -0.23349176 | BR29: =MAX(B29:BO29)-MIN(B29:BO29) -> 0.36736976
A30: Nqutu | B30: =Petrol!C35/Petrol!C$54*100 -> 0.50809566 | C30: =Petrol!D35/Petrol!D$54*100 -> 0.43907665 | D30: =Petrol!E35/Petrol!E$54*100 -> 0.49356009 | E30: =Petrol!F35/Petrol!F$54*100 -> 0.47458689 | F30: =Petrol!G35/Petrol!G$54*100 -> 0.48324453 | G30: =Petrol!H35/Petrol!H$54*100 -> 0.47663215 | H30: =Petrol!I35/Petrol!I$54*100 -> 0.52706002 | I30: =Petrol!J35/Petrol!J$54*100 -> 0.50144813 | ... U30: =Petrol!V35/Petrol!V$54*100 -> 0.53248016 | V30: =Petrol!V35/Petrol!V$54*100 -> 0.53248016 | W30: =Petrol!W35/Petrol!W$54*100 -> 0.13371245 | X30: =Petrol!X35/Petrol!X$54*100 -> 0.13371245 | Y30: =Petrol!Y35/Petrol!Y$54*100 -> 0.13371245 | Z30: =Petrol!Z35/Petrol!Z$54*100 -> 0.53248016 | AA30: =Petrol!AA35/Petrol!AA$54*100 -> 0.13371245 | AB30: =Petrol!AB35/Petrol!AB$54*100 -> 0.13371245 | AC30: =Petrol!AC35/Petrol!AC$54*100 -> 0.13371245 | ... AW30: =Petrol!AW35/Petrol!AW$54*100 -> 0.58754434 | AX30: =Petrol!AU35/Petrol!AU$54*100 -> 0.57156956 | AY30: =Petrol!AV35/Petrol!AV$54*100 -> 0.58754434 | AZ30: =Petrol!AW35/Petrol!AW$54*100 -> 0.58754434 | BA30: =Petrol!AX35/Petrol!AX$54*100 -> 0.61163186 | BB30: =Petrol!AY35/Petrol!AY$54*100 -> 0.55265362 | BC30: =Petrol!AZ35/Petrol!AZ$54*100 -> 0.55265362 | BD30: =Petrol!BA35/Petrol!BA$54*100 -> 0.55265362 | BE30: =Petrol!BB35/Petrol!BB$54*100 -> 0.59284779 | ... BL30: =Petrol!BI35/Petrol!BI$54*100 -> 0.6006243 | BM30: =Petrol!BK35/Petrol!BK$54*100 -> 0.59093017 | BN30: =Petrol!BL35/Petrol!BL$54*100 -> 0.59093017 | BO30: =Petrol!BM35/Petrol!BM$54*100 -> 0.59093017 | BP30: =AVERAGE(B30:BO30) -> 0.48441044 | BQ30: =BO30-B30 -> 0.082834511 | BR30: =MAX(B30:BO30)-MIN(B30:BO30) -> 0.47791941
A31: Mtonjaneni | B31: =Petrol!C28/Petrol!C$54*100 -> 0.45885462 | C31: =Petrol!D28/Petrol!D$54*100 -> 0.46891098 | D31: =Petrol!E28/Petrol!E$54*100 -> 0.4307855 | E31: =Petrol!F28/Petrol!F$54*100 -> 0.4648219 | F31: =Petrol!G28/Petrol!G$54*100 -> 0.43165729 | G31: =Petrol!H28/Petrol!H$54*100 -> 0.44711629 | H31: =Petrol!I28/Petrol!I$54*100 -> 0.49435452 | I31: =Petrol!J28/Petrol!J$54*100 -> 0.45163184 | ... U31: =Petrol!V28/Petrol!V$54*100 -> 0.48207206 | V31: =Petrol!V28/Petrol!V$54*100 -> 0.48207206 | W31: =Petrol!W28/Petrol!W$54*100 -> 0.17743114 | X31: =Petrol!X28/Petrol!X$54*100 -> 0.17743114 | Y31: =Petrol!Y28/Petrol!Y$54*100 -> 0.17743114 | Z31: =Petrol!Z28/Petrol!Z$54*100 -> 0.48207206 | AA31: =Petrol!AA28/Petrol!AA$54*100 -> 0.17743114 | AB31: =Petrol!AB28/Petrol!AB$54*100 -> 0.17743114 | AC31: =Petrol!AC28/Petrol!AC$54*100 -> 0.17743114 | ... AW31: =Petrol!AW28/Petrol!AW$54*100 -> 0.39628794 | AX31: =Petrol!AU28/Petrol!AU$54*100 -> 0.38054774 | AY31: =Petrol!AV28/Petrol!AV$54*100 -> 0.39628794 | AZ31: =Petrol!AW28/Petrol!AW$54*100 -> 0.39628794 | BA31: =Petrol!AX28/Petrol!AX$54*100 -> 0.41253454 | BB31: =Petrol!AY28/Petrol!AY$54*100 -> 0.3604654 | BC31: =Petrol!AZ28/Petrol!AZ$54*100 -> 0.3604654 | BD31: =Petrol!BA28/Petrol!BA$54*100 -> 0.3604654 | BE31: =Petrol!BB28/Petrol!BB$54*100 -> 0.38979418 | ... BL31: =Petrol!BI28/Petrol!BI$54*100 -> 0.38626974 | BM31: =Petrol!BK28/Petrol!BK$54*100 -> 0.37098689 | BN31: =Petrol!BL28/Petrol!BL$54*100 -> 0.37098689 | BO31: =Petrol!BM28/Petrol!BM$54*100 -> 0.37098689 | BP31: =AVERAGE(B31:BO31) -> 0.37452064 | BQ31: =BO31-B31 -> -0.087867734 | BR31: =MAX(B31:BO31)-MIN(B31:BO31) -> 0.32074577
A32: Bergville | B32: =Petrol!C4/Petrol!C$54*100 -> 0.48314165 | C32: =Petrol!D4/Petrol!D$54*100 -> 0.3855732 | D32: =Petrol!E4/Petrol!E$54*100 -> 0.42682966 | E32: =Petrol!F4/Petrol!F$54*100 -> 0.48404568 | F32: =Petrol!G4/Petrol!G$54*100 -> 0.43534248 | G32: =Petrol!H4/Petrol!H$54*100 -> 0.43559893 | H32: =Petrol!I4/Petrol!I$54*100 -> 0.50274011 | I32: =Petrol!J4/Petrol!J$54*100 -> 0.4117601 | ... U32: =Petrol!V4/Petrol!V$54*100 -> 0.52883995 | V32: =Petrol!V4/Petrol!V$54*100 -> 0.52883995 | W32: =Petrol!W4/Petrol!W$54*100 -> 0.46893814 | X32: =Petrol!X4/Petrol!X$54*100 -> 0.46893814 | Y32: =Petrol!Y4/Petrol!Y$54*100 -> 0.46893814 | Z32: =Petrol!Z4/Petrol!Z$54*100 -> 0.52883995 | AA32: =Petrol!AA4/Petrol!AA$54*100 -> 0.46893814 | AB32: =Petrol!AB4/Petrol!AB$54*100 -> 0.46893814 | AC32: =Petrol!AC4/Petrol!AC$54*100 -> 0.46893814 | ... AW32: =Petrol!AW4/Petrol!AW$54*100 -> 0.42669666 | AX32: =Petrol!AU4/Petrol!AU$54*100 -> 0.4414893 | AY32: =Petrol!AV4/Petrol!AV$54*100 -> 0.42669666 | AZ32: =Petrol!AW4/Petrol!AW$54*100 -> 0.42669666 | BA32: =Petrol!AX4/Petrol!AX$54*100 -> 0.44418992 | BB32: =Petrol!AY4/Petrol!AY$54*100 -> 0.35791841 | BC32: =Petrol!AZ4/Petrol!AZ$54*100 -> 0.35791841 | BD32: =Petrol!BA4/Petrol!BA$54*100 -> 0.35791841 | BE32: =Petrol!BB4/Petrol!BB$54*100 -> 0.17844976 | ... BL32: =Petrol!BI4/Petrol!BI$54*100 -> 0.19452176 | BM32: =Petrol!BK4/Petrol!BK$54*100 -> 0.18935806 | BN32: =Petrol!BL4/Petrol!BL$54*100 -> 0.18935806 | BO32: =Petrol!BM4/Petrol!BM$54*100 -> 0.18935806 | BP32: =AVERAGE(B32:BO32) -> 0.84023677 | BQ32: =BO32-B32 -> -0.29378359 | BR32: =MAX(B32:BO32)-MIN(B32:BO32) -> 9.5743068
A33: Mooirivier | B33: =Petrol!C25/Petrol!C$54*100 -> 0.27627973 | C33: =Petrol!D25/Petrol!D$54*100 -> 0.32998236 | D33: =Petrol!E25/Petrol!E$54*100 -> 0.39794544 | E33: =Petrol!F25/Petrol!F$54*100 -> 0.35999811 | F33: =Petrol!G25/Petrol!G$54*100 -> 0.29357865 | G33: =Petrol!H25/Petrol!H$54*100 -> 0.39607092 | H33: =Petrol!I25/Petrol!I$54*100 -> 0.25540477 | I33: =Petrol!J25/Petrol!J$54*100 -> 0.36331263 | ... U33: =Petrol!V25/Petrol!V$54*100 -> 0.3406873 | V33: =Petrol!V25/Petrol!V$54*100 -> 0.3406873 | W33: =Petrol!W25/Petrol!W$54*100 -> 0.39001912 | X33: =Petrol!X25/Petrol!X$54*100 -> 0.39001912 | Y33: =Petrol!Y25/Petrol!Y$54*100 -> 0.39001912 | Z33: =Petrol!Z25/Petrol!Z$54*100 -> 0.3406873 | AA33: =Petrol!AA25/Petrol!AA$54*100 -> 0.39001912 | AB33: =Petrol!AB25/Petrol!AB$54*100 -> 0.39001912 | AC33: =Petrol!AC25/Petrol!AC$54*100 -> 0.39001912 | ... AW33: =Petrol!AW25/Petrol!AW$54*100 -> 0.32135112 | AX33: =Petrol!AU25/Petrol!AU$54*100 -> 0.2842677 | AY33: =Petrol!AV25/Petrol!AV$54*100 -> 0.32135112 | AZ33: =Petrol!AW25/Petrol!AW$54*100 -> 0.32135112 | BA33: =Petrol!AX25/Petrol!AX$54*100 -> 0.33452553 | BB33: =Petrol!AY25/Petrol!AY$54*100 -> 0.27584289 | BC33: =Petrol!AZ25/Petrol!AZ$54*100 -> 0.27584289 | BD33: =Petrol!BA25/Petrol!BA$54*100 -> 0.27584289 | BE33: =Petrol!BB25/Petrol!BB$54*100 -> 0.25795618 | ... BL33: =Petrol!BI25/Petrol!BI$54*100 -> 0.2497187 | BM33: =Petrol!BK25/Petrol!BK$54*100 -> 0.24173593 | BN33: =Petrol!BL25/Petrol!BL$54*100 -> 0.24173593 | BO33: =Petrol!BM25/Petrol!BM$54*100 -> 0.24173593 | BP33: =AVERAGE(B33:BO33) -> 0.31780669 | BQ33: =BO33-B33 -> -0.034543801 | BR33: =MAX(B33:BO33)-MIN(B33:BO33) -> 0.19367763
A34: New Hanover | B34: =Petrol!C30/Petrol!C$54*100 -> 0.29205306 | C34: =Petrol!D30/Petrol!D$54*100 -> 0.32625049 | D34: =Petrol!E30/Petrol!E$54*100 -> 0.29748143 | E34: =Petrol!F30/Petrol!F$54*100 -> 0.29567445 | F34: =Petrol!G30/Petrol!G$54*100 -> 0.30934268 | G34: =Petrol!H30/Petrol!H$54*100 -> 0.31838139 | H34: =Petrol!I30/Petrol!I$54*100 -> 0.31579999 | I34: =Petrol!J30/Petrol!J$54*100 -> 0.32656508 | ... U34: =Petrol!V30/Petrol!V$54*100 -> 0.33187762 | V34: =Petrol!V30/Petrol!V$54*100 -> 0.33187762 | W34: =Petrol!W30/Petrol!W$54*100 -> 0.26267372 | X34: =Petrol!X30/Petrol!X$54*100 -> 0.26267372 | Y34: =Petrol!Y30/Petrol!Y$54*100 -> 0.26267372 | Z34: =Petrol!Z30/Petrol!Z$54*100 -> 0.33187762 | AA34: =Petrol!AA30/Petrol!AA$54*100 -> 0.26267372 | AB34: =Petrol!AB30/Petrol!AB$54*100 -> 0.26267372 | AC34: =Petrol!AC30/Petrol!AC$54*100 -> 0.26267372 | ... AW34: =Petrol!AW30/Petrol!AW$54*100 -> 0.23813794 | AX34: =Petrol!AU30/Petrol!AU$54*100 -> 0.27393279 | AY34: =Petrol!AV30/Petrol!AV$54*100 -> 0.23813794 | AZ34: =Petrol!AW30/Petrol!AW$54*100 -> 0.23813794 | BA34: =Petrol!AX30/Petrol!AX$54*100 -> 0.24790087 | BB34: =Petrol!AY30/Petrol!AY$54*100 -> 0.2551295 | BC34: =Petrol!AZ30/Petrol!AZ$54*100 -> 0.2551295 | BD34: =Petrol!BA30/Petrol!BA$54*100 -> 0.2551295 | BE34: =Petrol!BB30/Petrol!BB$54*100 -> 0.24276242 | ... BL34: =Petrol!BI30/Petrol!BI$54*100 -> 0.24881748 | BM34: =Petrol!BK30/Petrol!BK$54*100 -> 0.2437111 | BN34: =Petrol!BL30/Petrol!BL$54*100 -> 0.2437111 | BO34: =Petrol!BM30/Petrol!BM$54*100 -> 0.2437111 | BP34: =AVERAGE(B34:BO34) -> 0.2780809 | BQ34: =BO34-B34 -> -0.048341962 | BR34: =MAX(B34:BO34)-MIN(B34:BO34) -> 0.12570406
A35: Msinga | B35: =Petrol!C27/Petrol!C$54*100 -> 0.29651677 | C35: =Petrol!D27/Petrol!D$54*100 -> 0.21952835 | D35: =Petrol!E27/Petrol!E$54*100 -> 0.22402213 | E35: =Petrol!F27/Petrol!F$54*100 -> 0.24044451 | F35: =Petrol!G27/Petrol!G$54*100 -> 0.20314055 | G35: =Petrol!H27/Petrol!H$54*100 -> 0.21265942 | H35: =Petrol!I27/Petrol!I$54*100 -> 0.25349511 | I35: =Petrol!J27/Petrol!J$54*100 -> 0.23203758 | ... U35: =Petrol!V27/Petrol!V$54*100 -> 0.21927799 | V35: =Petrol!V27/Petrol!V$54*100 -> 0.21927799 | W35: =Petrol!W27/Petrol!W$54*100 -> 0.19364759 | X35: =Petrol!X27/Petrol!X$54*100 -> 0.19364759 | Y35: =Petrol!Y27/Petrol!Y$54*100 -> 0.19364759 | Z35: =Petrol!Z27/Petrol!Z$54*100 -> 0.21927799 | AA35: =Petrol!AA27/Petrol!AA$54*100 -> 0.19364759 | AB35: =Petrol!AB27/Petrol!AB$54*100 -> 0.19364759 | AC35: =Petrol!AC27/Petrol!AC$54*100 -> 0.19364759 | ... AW35: =Petrol!AW27/Petrol!AW$54*100 -> 0.12904613 | AX35: =Petrol!AU27/Petrol!AU$54*100 -> 0.19246971 | AY35: =Petrol!AV27/Petrol!AV$54*100 -> 0.12904613 | AZ35: =Petrol!AW27/Petrol!AW$54*100 -> 0.12904613 | BA35: =Petrol!AX27/Petrol!AX$54*100 -> 0.13433662 | BB35: =Petrol!AY27/Petrol!AY$54*100 -> 0.12730731 | BC35: =Petrol!AZ27/Petrol!AZ$54*100 -> 0.12730731 | BD35: =Petrol!BA27/Petrol!BA$54*100 -> 0.12730731 | BE35: =Petrol!BB27/Petrol!BB$54*100 -> 0.14751 | ... BL35: =Petrol!BI27/Petrol!BI$54*100 -> 0.12327193 | BM35: =Petrol!BK27/Petrol!BK$54*100 -> 0.11215417 | BN35: =Petrol!BL27/Petrol!BL$54*100 -> 0.11215417 | BO35: =Petrol!BM27/Petrol!BM$54*100 -> 0.11215417 | BP35: =AVERAGE(B35:BO35) -> 0.18518112 | BQ35: =BO35-B35 -> -0.1843626 | BR35: =MAX(B35:BO35)-MIN(B35:BO35) -> 0.18818794
A36: Utrecht | B36: =Petrol!C49/Petrol!C$54*100 -> 0.14671891 | C36: =Petrol!D49/Petrol!D$54*100 -> 0.14697696 | D36: =Petrol!E49/Petrol!E$54*100 -> 0.16599718 | E36: =Petrol!F49/Petrol!F$54*100 -> 0.16940746 | F36: =Petrol!G49/Petrol!G$54*100 -> 0.18810445 | G36: =Petrol!H49/Petrol!H$54*100 -> 0.16354183 | H36: =Petrol!I49/Petrol!I$54*100 -> 0.19769087 | I36: =Petrol!J49/Petrol!J$54*100 -> 0.16964887 | ... U36: =Petrol!V49/Petrol!V$54*100 -> 0.22235235 | V36: =Petrol!V49/Petrol!V$54*100 -> 0.22235235 | W36: =Petrol!W49/Petrol!W$54*100 -> 0.19253503 | X36: =Petrol!X49/Petrol!X$54*100 -> 0.19253503 | Y36: =Petrol!Y49/Petrol!Y$54*100 -> 0.19253503 | Z36: =Petrol!Z49/Petrol!Z$54*100 -> 0.22235235 | AA36: =Petrol!AA49/Petrol!AA$54*100 -> 0.19253503 | AB36: =Petrol!AB49/Petrol!AB$54*100 -> 0.19253503 | AC36: =Petrol!AC49/Petrol!AC$54*100 -> 0.19253503 | ... AW36: =Petrol!AW49/Petrol!AW$54*100 -> 0.068069169 | AX36: =Petrol!AU49/Petrol!AU$54*100 -> 0.18395142 | AY36: =Petrol!AV49/Petrol!AV$54*100 -> 0.068069169 | AZ36: =Petrol!AW49/Petrol!AW$54*100 -> 0.068069169 | BA36: =Petrol!AX49/Petrol!AX$54*100 -> 0.070859796 | BB36: =Petrol!AY49/Petrol!AY$54*100 -> 0.058790646 | BC36: =Petrol!AZ49/Petrol!AZ$54*100 -> 0.058790646 | BD36: =Petrol!BA49/Petrol!BA$54*100 -> 0.058790646 | BE36: =Petrol!BB49/Petrol!BB$54*100 -> 0.022037944 | ... BL36: =Petrol!BI49/Petrol!BI$54*100 -> 0 | BM36: =Petrol!BK49/Petrol!BK$54*100 -> 0 | BN36: =Petrol!BL49/Petrol!BL$54*100 -> 0 | BO36: =Petrol!BM49/Petrol!BM$54*100 -> 0 | BP36: =AVERAGE(B36:BO36) -> 0.13511153 | BQ36: =BO36-B36 -> -0.14671891 | BR36: =MAX(B36:BO36)-MIN(B36:BO36) -> 0.22235235
A37: Underberg | B37: =Petrol!C48/Petrol!C$54*100 -> 0.21260407 | C37: =Petrol!D48/Petrol!D$54*100 -> 0.14846187 | D37: =Petrol!E48/Petrol!E$54*100 -> 0.19350965 | E37: =Petrol!F48/Petrol!F$54*100 -> 0.17928868 | F37: =Petrol!G48/Petrol!G$54*100 -> 0.15143118 | G37: =Petrol!H48/Petrol!H$54*100 -> 0.19573917 | H37: =Petrol!I48/Petrol!I$54*100 -> 0.19983128 | I37: =Petrol!J48/Petrol!J$54*100 -> 0.15925768 | ... U37: =Petrol!V48/Petrol!V$54*100 -> 0.16304676 | V37: =Petrol!V48/Petrol!V$54*100 -> 0.16304676 | W37: =Petrol!W48/Petrol!W$54*100 -> 0.16798097 | X37: =Petrol!X48/Petrol!X$54*100 -> 0.16798097 | Y37: =Petrol!Y48/Petrol!Y$54*100 -> 0.16798097 | Z37: =Petrol!Z48/Petrol!Z$54*100 -> 0.16304676 | AA37: =Petrol!AA48/Petrol!AA$54*100 -> 0.16798097 | AB37: =Petrol!AB48/Petrol!AB$54*100 -> 0.16798097 | AC37: =Petrol!AC48/Petrol!AC$54*100 -> 0.16798097 | ... AW37: =Petrol!AW48/Petrol!AW$54*100 -> 0.14044244 | AX37: =Petrol!AU48/Petrol!AU$54*100 -> 0.13322408 | AY37: =Petrol!AV48/Petrol!AV$54*100 -> 0.14044244 | AZ37: =Petrol!AW48/Petrol!AW$54*100 -> 0.14044244 | BA37: =Petrol!AX48/Petrol!AX$54*100 -> 0.14620015 | BB37: =Petrol!AY48/Petrol!AY$54*100 -> 0.13757143 | BC37: =Petrol!AZ48/Petrol!AZ$54*100 -> 0.13757143 | BD37: =Petrol!BA48/Petrol!BA$54*100 -> 0.13757143 | BE37: =Petrol!BB48/Petrol!BB$54*100 -> 0.15604314 | ... BL37: =Petrol!BI48/Petrol!BI$54*100 -> 0.14470459 | BM37: =Petrol!BK48/Petrol!BK$54*100 -> 0.15045788 | BN37: =Petrol!BL48/Petrol!BL$54*100 -> 0.15045788 | BO37: =Petrol!BM48/Petrol!BM$54*100 -> 0.15045788 | BP37: =AVERAGE(B37:BO37) -> 0.15331737 | BQ37: =BO37-B37 -> -0.062146193 | BR37: =MAX(B37:BO37)-MIN(B37:BO37) -> 0.11696271
A38: Nkandla | B38: =Petrol!C33/Petrol!C$54*100 -> 0.17062538 | C38: =Petrol!D33/Petrol!D$54*100 -> 0.14284137 | D38: =Petrol!E33/Petrol!E$54*100 -> 0.1555821 | E38: =Petrol!F33/Petrol!F$54*100 -> 0.1554547 | F38: =Petrol!G33/Petrol!G$54*100 -> 0.14636257 | G38: =Petrol!H33/Petrol!H$54*100 -> 0.16225592 | H38: =Petrol!I33/Petrol!I$54*100 -> 0.1446556 | I38: =Petrol!J33/Petrol!J$54*100 -> 0.15472609 | ... U38: =Petrol!V33/Petrol!V$54*100 -> 0.15456391 | V38: =Petrol!V33/Petrol!V$54*100 -> 0.15456391 | W38: =Petrol!W33/Petrol!W$54*100 -> 0.19700582 | X38: =Petrol!X33/Petrol!X$54*100 -> 0.19700582 | Y38: =Petrol!Y33/Petrol!Y$54*100 -> 0.19700582 | Z38: =Petrol!Z33/Petrol!Z$54*100 -> 0.15456391 | AA38: =Petrol!AA33/Petrol!AA$54*100 -> 0.19700582 | AB38: =Petrol!AB33/Petrol!AB$54*100 -> 0.19700582 | AC38: =Petrol!AC33/Petrol!AC$54*100 -> 0.19700582 | ... AW38: =Petrol!AW33/Petrol!AW$54*100 -> 0.15691161 | AX38: =Petrol!AU33/Petrol!AU$54*100 -> 0.16860847 | AY38: =Petrol!AV33/Petrol!AV$54*100 -> 0.15691161 | AZ38: =Petrol!AW33/Petrol!AW$54*100 -> 0.15691161 | BA38: =Petrol!AX33/Petrol!AX$54*100 -> 0.1633445 | BB38: =Petrol!AY33/Petrol!AY$54*100 -> 0.14263089 | BC38: =Petrol!AZ33/Petrol!AZ$54*100 -> 0.14263089 | BD38: =Petrol!BA33/Petrol!BA$54*100 -> 0.14263089 | BE38: =Petrol!BB33/Petrol!BB$54*100 -> 0.16020876 | ... BL38: =Petrol!BI33/Petrol!BI$54*100 -> 0.16306998 | BM38: =Petrol!BK33/Petrol!BK$54*100 -> 0.14845026 | BN38: =Petrol!BL33/Petrol!BL$54*100 -> 0.14845026 | BO38: =Petrol!BM33/Petrol!BM$54*100 -> 0.14845026 | BP38: =AVERAGE(B38:BO38) -> 0.16085065 | BQ38: =BO38-B38 -> -0.022175118 | BR38: =MAX(B38:BO38)-MIN(B38:BO38) -> 0.073294009
A39: Simdlangentsha | B39: =Petrol!C42/Petrol!C$54*100 -> 0.18789925 | C39: =Petrol!D42/Petrol!D$54*100 -> 0.10001564 | D39: =Petrol!E42/Petrol!E$54*100 -> 0.13128941 | E39: =Petrol!F42/Petrol!F$54*100 -> 0.20681052 | F39: =Petrol!G42/Petrol!G$54*100 -> 0.12913715 | G39: =Petrol!H42/Petrol!H$54*100 -> 0.14795034 | H39: =Petrol!I42/Petrol!I$54*100 -> 0.16717598 | I39: =Petrol!J42/Petrol!J$54*100 -> 0.13867042 | ... U39: =Petrol!V42/Petrol!V$54*100 -> 0.16588272 | V39: =Petrol!V42/Petrol!V$54*100 -> 0.16588272 | W39: =Petrol!W42/Petrol!W$54*100 -> 0.18002782 | X39: =Petrol!X42/Petrol!X$54*100 -> 0.18002782 | Y39: =Petrol!Y42/Petrol!Y$54*100 -> 0.18002782 | Z39: =Petrol!Z42/Petrol!Z$54*100 -> 0.16588272 | AA39: =Petrol!AA42/Petrol!AA$54*100 -> 0.18002782 | AB39: =Petrol!AB42/Petrol!AB$54*100 -> 0.18002782 | AC39: =Petrol!AC42/Petrol!AC$54*100 -> 0.18002782 | ... AW39: =Petrol!AW42/Petrol!AW$54*100 -> 0 | AX39: =Petrol!AU42/Petrol!AU$54*100 -> 0.12062882 | AY39: =Petrol!AV42/Petrol!AV$54*100 -> 0 | AZ39: =Petrol!AW42/Petrol!AW$54*100 -> 0 | BA39: =Petrol!AX42/Petrol!AX$54*100 -> 0 | BB39: =Petrol!AY42/Petrol!AY$54*100 -> 0 | BC39: =Petrol!AZ42/Petrol!AZ$54*100 -> 0 | BD39: =Petrol!BA42/Petrol!BA$54*100 -> 0 | BE39: =Petrol!BB42/Petrol!BB$54*100 -> 0 | ... BL39: =Petrol!BI42/Petrol!BI$54*100 -> 0 | BM39: =Petrol!BK42/Petrol!BK$54*100 -> 0 | BN39: =Petrol!BL42/Petrol!BL$54*100 -> 0 | BO39: =Petrol!BM42/Petrol!BM$54*100 -> 0 | BP39: =AVERAGE(B39:BO39) -> 0.1020708 | BQ39: =BO39-B39 -> -0.18789925 | BR39: =MAX(B39:BO39)-MIN(B39:BO39) -> 0.20681052
A40: Richmond (KZN) | B40: =Petrol!C41/Petrol!C$54*100 -> 0.15195592 | C40: =Petrol!D41/Petrol!D$54*100 -> 0.14032411 | D40: =Petrol!E41/Petrol!E$54*100 -> 0.12260099 | E40: =Petrol!F41/Petrol!F$54*100 -> 0.14408939 | F40: =Petrol!G41/Petrol!G$54*100 -> 0.13744868 | G40: =Petrol!H41/Petrol!H$54*100 -> 0.12425996 | H40: =Petrol!I41/Petrol!I$54*100 -> 0.15758346 | I40: =Petrol!J41/Petrol!J$54*100 -> 0.13517973 | ... U40: =Petrol!V41/Petrol!V$54*100 -> 0.09120775 | V40: =Petrol!V41/Petrol!V$54*100 -> 0.09120775 | W40: =Petrol!W41/Petrol!W$54*100 -> 0.12126322 | X40: =Petrol!X41/Petrol!X$54*100 -> 0.12126322 | Y40: =Petrol!Y41/Petrol!Y$54*100 -> 0.12126322 | Z40: =Petrol!Z41/Petrol!Z$54*100 -> 0.09120775 | AA40: =Petrol!AA41/Petrol!AA$54*100 -> 0.12126322 | AB40: =Petrol!AB41/Petrol!AB$54*100 -> 0.12126322 | AC40: =Petrol!AC41/Petrol!AC$54*100 -> 0.12126322 | ... AW40: =Petrol!AW41/Petrol!AW$54*100 -> 0.11524477 | AX40: =Petrol!AU41/Petrol!AU$54*100 -> 0.12488569 | AY40: =Petrol!AV41/Petrol!AV$54*100 -> 0.11524477 | AZ40: =Petrol!AW41/Petrol!AW$54*100 -> 0.11524477 | BA40: =Petrol!AX41/Petrol!AX$54*100 -> 0.11996945 | BB40: =Petrol!AY41/Petrol!AY$54*100 -> 0.099943575 | BC40: =Petrol!AZ41/Petrol!AZ$54*100 -> 0.099943575 | BD40: =Petrol!BA41/Petrol!BA$54*100 -> 0.099943575 | BE40: =Petrol!BB41/Petrol!BB$54*100 -> 0.034988303 | ... BL40: =Petrol!BI41/Petrol!BI$54*100 -> 0.035807546 | BM40: =Petrol!BK41/Petrol!BK$54*100 -> 0.039861014 | BN40: =Petrol!BL41/Petrol!BL$54*100 -> 0.039861014 | BO40: =Petrol!BM41/Petrol!BM$54*100 -> 0.039861014 | BP40: =AVERAGE(B40:BO40) -> 0.10829214 | BQ40: =BO40-B40 -> -0.1120949 | BR40: =MAX(B40:BO40)-MIN(B40:BO40) -> 0.1234784
A41: Paulpietersburg | B41: =Petrol!C36/Petrol!C$54*100 -> 0.15591448 | C41: =Petrol!D36/Petrol!D$54*100 -> 0.096029296 | D41: =Petrol!E36/Petrol!E$54*100 -> 0.12177702 | E41: =Petrol!F36/Petrol!F$54*100 -> 0.11993878 | F41: =Petrol!G36/Petrol!G$54*100 -> 0.11377745 | G41: =Petrol!H36/Petrol!H$54*100 -> 0.1015774 | H41: =Petrol!I36/Petrol!I$54*100 -> 0.12955586 | I41: =Petrol!J36/Petrol!J$54*100 -> 0.12514762 | ... U41: =Petrol!V36/Petrol!V$54*100 -> 0.10072901 | V41: =Petrol!V36/Petrol!V$54*100 -> 0.10072901 | W41: =Petrol!W36/Petrol!W$54*100 -> 0.14158759 | X41: =Petrol!X36/Petrol!X$54*100 -> 0.14158759 | Y41: =Petrol!Y36/Petrol!Y$54*100 -> 0.14158759 | Z41: =Petrol!Z36/Petrol!Z$54*100 -> 0.10072901 | AA41: =Petrol!AA36/Petrol!AA$54*100 -> 0.14158759 | AB41: =Petrol!AB36/Petrol!AB$54*100 -> 0.14158759 | AC41: =Petrol!AC36/Petrol!AC$54*100 -> 0.14158759 | ... AW41: =Petrol!AW36/Petrol!AW$54*100 -> 0.11703611 | AX41: =Petrol!AU36/Petrol!AU$54*100 -> 0.11171459 | AY41: =Petrol!AV36/Petrol!AV$54*100 -> 0.11703611 | AZ41: =Petrol!AW36/Petrol!AW$54*100 -> 0.11703611 | BA41: =Petrol!AX36/Petrol!AX$54*100 -> 0.12183423 | BB41: =Petrol!AY36/Petrol!AY$54*100 -> 0.11599627 | BC41: =Petrol!AZ36/Petrol!AZ$54*100 -> 0.11599627 | BD41: =Petrol!BA36/Petrol!BA$54*100 -> 0.11599627 | BE41: =Petrol!BB36/Petrol!BB$54*100 -> 0.11572312 | ... BL41: =Petrol!BI36/Petrol!BI$54*100 -> 0.11461183 | BM41: =Petrol!BK36/Petrol!BK$54*100 -> 0.11755282 | BN41: =Petrol!BL36/Petrol!BL$54*100 -> 0.11755282 | BO41: =Petrol!BM36/Petrol!BM$54*100 -> 0.11755282 | BP41: =AVERAGE(B41:BO41) -> 0.12231635 | BQ41: =BO41-B41 -> -0.038361669 | BR41: =MAX(B41:BO41)-MIN(B41:BO41) -> 0.059885189
A42: Polela | B42: =Petrol!C39/Petrol!C$54*100 -> 0.12214613 | C42: =Petrol!D39/Petrol!D$54*100 -> 0.095441248 | D42: =Petrol!E39/Petrol!E$54*100 -> 0.11303217 | E42: =Petrol!F39/Petrol!F$54*100 -> 0.11145224 | F42: =Petrol!G39/Petrol!G$54*100 -> 0.11223051 | G42: =Petrol!H39/Petrol!H$54*100 -> 0.11977341 | H42: =Petrol!I39/Petrol!I$54*100 -> 0.12581145 | I42: =Petrol!J39/Petrol!J$54*100 -> 0.11952394 | ... U42: =Petrol!V39/Petrol!V$54*100 -> 0.1481847 | V42: =Petrol!V39/Petrol!V$54*100 -> 0.1481847 | W42: =Petrol!W39/Petrol!W$54*100 -> 0.14365987 | X42: =Petrol!X39/Petrol!X$54*100 -> 0.14365987 | Y42: =Petrol!Y39/Petrol!Y$54*100 -> 0.14365987 | Z42: =Petrol!Z39/Petrol!Z$54*100 -> 0.1481847 | AA42: =Petrol!AA39/Petrol!AA$54*100 -> 0.14365987 | AB42: =Petrol!AB39/Petrol!AB$54*100 -> 0.14365987 | AC42: =Petrol!AC39/Petrol!AC$54*100 -> 0.14365987 | ... AW42: =Petrol!AW39/Petrol!AW$54*100 -> 0.12126542 | AX42: =Petrol!AU39/Petrol!AU$54*100 -> 0.11972498 | AY42: =Petrol!AV39/Petrol!AV$54*100 -> 0.12126542 | AZ42: =Petrol!AW39/Petrol!AW$54*100 -> 0.12126542 | BA42: =Petrol!AX39/Petrol!AX$54*100 -> 0.12623693 | BB42: =Petrol!AY39/Petrol!AY$54*100 -> 0.11772084 | BC42: =Petrol!AZ39/Petrol!AZ$54*100 -> 0.11772084 | BD42: =Petrol!BA39/Petrol!BA$54*100 -> 0.11772084 | BE42: =Petrol!BB39/Petrol!BB$54*100 -> 0.11726297 | ... BL42: =Petrol!BI39/Petrol!BI$54*100 -> 0.12046338 | BM42: =Petrol!BK39/Petrol!BK$54*100 -> 0.10765034 | BN42: =Petrol!BL39/Petrol!BL$54*100 -> 0.10765034 | BO42: =Petrol!BM39/Petrol!BM$54*100 -> 0.10765034 | BP42: =AVERAGE(B42:BO42) -> 0.12419218 | BQ42: =BO42-B42 -> -0.014495785 | BR42: =MAX(B42:BO42)-MIN(B42:BO42) -> 0.068197546
A43: Glencoe | B43: =Petrol!C12/Petrol!C$54*100 -> 0.1264541 | C43: =Petrol!D12/Petrol!D$54*100 -> 0.11483721 | D43: =Petrol!E12/Petrol!E$54*100 -> 0.11366983 | E43: =Petrol!F12/Petrol!F$54*100 -> 0.12150109 | F43: =Petrol!G12/Petrol!G$54*100 -> 0.12034815 | G43: =Petrol!H12/Petrol!H$54*100 -> 0.11403796 | H43: =Petrol!I12/Petrol!I$54*100 -> 0.11695089 | I43: =Petrol!J12/Petrol!J$54*100 -> 0.11237044 | ... U43: =Petrol!V12/Petrol!V$54*100 -> 0.12428124 | V43: =Petrol!V12/Petrol!V$54*100 -> 0.12428124 | W43: =Petrol!W12/Petrol!W$54*100 -> 0.095613996 | X43: =Petrol!X12/Petrol!X$54*100 -> 0.095613996 | Y43: =Petrol!Y12/Petrol!Y$54*100 -> 0.095613996 | Z43: =Petrol!Z12/Petrol!Z$54*100 -> 0.12428124 | AA43: =Petrol!AA12/Petrol!AA$54*100 -> 0.095613996 | AB43: =Petrol!AB12/Petrol!AB$54*100 -> 0.095613996 | AC43: =Petrol!AC12/Petrol!AC$54*100 -> 0.095613996 | ... AW43: =Petrol!AW12/Petrol!AW$54*100 -> 0.11168322 | AX43: =Petrol!AU12/Petrol!AU$54*100 -> 0.11638131 | AY43: =Petrol!AV12/Petrol!AV$54*100 -> 0.11168322 | AZ43: =Petrol!AW12/Petrol!AW$54*100 -> 0.11168322 | BA43: =Petrol!AX12/Petrol!AX$54*100 -> 0.11626189 | BB43: =Petrol!AY12/Petrol!AY$54*100 -> 0.11205193 | BC43: =Petrol!AZ12/Petrol!AZ$54*100 -> 0.11205193 | BD43: =Petrol!BA12/Petrol!BA$54*100 -> 0.11205193 | BE43: =Petrol!BB12/Petrol!BB$54*100 -> 0.1084314 | ... BL43: =Petrol!BI12/Petrol!BI$54*100 -> 0.10688894 | BM43: =Petrol!BK12/Petrol!BK$54*100 -> 0.10369777 | BN43: =Petrol!BL12/Petrol!BL$54*100 -> 0.10369777 | BO43: =Petrol!BM12/Petrol!BM$54*100 -> 0.10369777 | BP43: =AVERAGE(B43:BO43) -> 0.11079974 | BQ43: =BO43-B43 -> -0.022756331 | BR43: =MAX(B43:BO43)-MIN(B43:BO43) -> 0.040549107
A44: Dannhauser | B44: =Petrol!C7/Petrol!C$54*100 -> 0.11331824 | C44: =Petrol!D7/Petrol!D$54*100 -> 0.11226837 | D44: =Petrol!E7/Petrol!E$54*100 -> 0.11886819 | E44: =Petrol!F7/Petrol!F$54*100 -> 0.12582147 | F44: =Petrol!G7/Petrol!G$54*100 -> 0.11391338 | G44: =Petrol!H7/Petrol!H$54*100 -> 0.11954759 | H44: =Petrol!I7/Petrol!I$54*100 -> 0.088761458 | I44: =Petrol!J7/Petrol!J$54*100 -> 0.1029467 | ... U44: =Petrol!V7/Petrol!V$54*100 -> 0.097829034 | V44: =Petrol!V7/Petrol!V$54*100 -> 0.097829034 | W44: =Petrol!W7/Petrol!W$54*100 -> 0.10709218 | X44: =Petrol!X7/Petrol!X$54*100 -> 0.10709218 | Y44: =Petrol!Y7/Petrol!Y$54*100 -> 0.10709218 | Z44: =Petrol!Z7/Petrol!Z$54*100 -> 0.097829034 | AA44: =Petrol!AA7/Petrol!AA$54*100 -> 0.10709218 | AB44: =Petrol!AB7/Petrol!AB$54*100 -> 0.10709218 | AC44: =Petrol!AC7/Petrol!AC$54*100 -> 0.10709218 | ... AW44: =Petrol!AW7/Petrol!AW$54*100 -> 0.067518862 | AX44: =Petrol!AU7/Petrol!AU$54*100 -> 0.088205876 | AY44: =Petrol!AV7/Petrol!AV$54*100 -> 0.067518862 | AZ44: =Petrol!AW7/Petrol!AW$54*100 -> 0.067518862 | BA44: =Petrol!AX7/Petrol!AX$54*100 -> 0.070286929 | BB44: =Petrol!AY7/Petrol!AY$54*100 -> 0.059847813 | BC44: =Petrol!AZ7/Petrol!AZ$54*100 -> 0.059847813 | BD44: =Petrol!BA7/Petrol!BA$54*100 -> 0.059847813 | BE44: =Petrol!BB7/Petrol!BB$54*100 -> 0.069269304 | ... BL44: =Petrol!BI7/Petrol!BI$54*100 -> 0.069007478 | BM44: =Petrol!BK7/Petrol!BK$54*100 -> 0.068289779 | BN44: =Petrol!BL7/Petrol!BL$54*100 -> 0.068289779 | BO44: =Petrol!BM7/Petrol!BM$54*100 -> 0.068289779 | BP44: =AVERAGE(B44:BO44) -> 0.092741543 | BQ44: =BO44-B44 -> -0.045028458 | BR44: =MAX(B44:BO44)-MIN(B44:BO44) -> 0.090275615
A45: Impendle | B45: =Petrol!C14/Petrol!C$54*100 -> 0.12808533 | C45: =Petrol!D14/Petrol!D$54*100 -> 0.1204921 | D45: =Petrol!E14/Petrol!E$54*100 -> 0.16309689 | E45: =Petrol!F14/Petrol!F$54*100 -> 0.118521 | F45: =Petrol!G14/Petrol!G$54*100 -> 0.097557337 | G45: =Petrol!H14/Petrol!H$54*100 -> 0.090173317 | H45: =Petrol!I14/Petrol!I$54*100 -> 0.099359371 | I45: =Petrol!J14/Petrol!J$54*100 -> 0.10327314 | ... U45: =Petrol!V14/Petrol!V$54*100 -> 0.09771562 | V45: =Petrol!V14/Petrol!V$54*100 -> 0.09771562 | W45: =Petrol!W14/Petrol!W$54*100 -> 0.084695521 | X45: =Petrol!X14/Petrol!X$54*100 -> 0.084695521 | Y45: =Petrol!Y14/Petrol!Y$54*100 -> 0.084695521 | Z45: =Petrol!Z14/Petrol!Z$54*100 -> 0.09771562 | AA45: =Petrol!AA14/Petrol!AA$54*100 -> 0.084695521 | AB45: =Petrol!AB14/Petrol!AB$54*100 -> 0.084695521 | AC45: =Petrol!AC14/Petrol!AC$54*100 -> 0.084695521 | ... AW45: =Petrol!AW14/Petrol!AW$54*100 -> 0.034906276 | AX45: =Petrol!AU14/Petrol!AU$54*100 -> 0.037092369 | AY45: =Petrol!AV14/Petrol!AV$54*100 -> 0.034906276 | AZ45: =Petrol!AW14/Petrol!AW$54*100 -> 0.034906276 | BA45: =Petrol!AX14/Petrol!AX$54*100 -> 0.036337327 | BB45: =Petrol!AY14/Petrol!AY$54*100 -> 0.0282665 | BC45: =Petrol!AZ14/Petrol!AZ$54*100 -> 0.0282665 | BD45: =Petrol!BA14/Petrol!BA$54*100 -> 0.0282665 | BE45: =Petrol!BB14/Petrol!BB$54*100 -> 0 | ... BL45: =Petrol!BI14/Petrol!BI$54*100 -> 0 | BM45: =Petrol!BK14/Petrol!BK$54*100 -> 0 | BN45: =Petrol!BL14/Petrol!BL$54*100 -> 0 | BO45: =Petrol!BM14/Petrol!BM$54*100 -> 0 | BP45: =AVERAGE(B45:BO45) -> 0.06472606 | BQ45: =BO45-B45 -> -0.12808533 | BR45: =MAX(B45:BO45)-MIN(B45:BO45) -> 0.16309689
A46: Kranskop | B46: =Petrol!C19/Petrol!C$54*100 -> 0.1112191 | C46: =Petrol!D19/Petrol!D$54*100 -> 0.096571263 | D46: =Petrol!E19/Petrol!E$54*100 -> 0.074386923 | E46: =Petrol!F19/Petrol!F$54*100 -> 0.16320441 | F46: =Petrol!G19/Petrol!G$54*100 -> 0.13141824 | G46: =Petrol!H19/Petrol!H$54*100 -> 0.16364058 | H46: =Petrol!I19/Petrol!I$54*100 -> 0.094094127 | I46: =Petrol!J19/Petrol!J$54*100 -> 0.091074658 | ... U46: =Petrol!V19/Petrol!V$54*100 -> 0.10352045 | V46: =Petrol!V19/Petrol!V$54*100 -> 0.10352045 | W46: =Petrol!W19/Petrol!W$54*100 -> 0.12207273 | X46: =Petrol!X19/Petrol!X$54*100 -> 0.12207273 | Y46: =Petrol!Y19/Petrol!Y$54*100 -> 0.12207273 | Z46: =Petrol!Z19/Petrol!Z$54*100 -> 0.10352045 | AA46: =Petrol!AA19/Petrol!AA$54*100 -> 0.12207273 | AB46: =Petrol!AB19/Petrol!AB$54*100 -> 0.12207273 | AC46: =Petrol!AC19/Petrol!AC$54*100 -> 0.12207273 | ... AW46: =Petrol!AW19/Petrol!AW$54*100 -> 0 | AX46: =Petrol!AU19/Petrol!AU$54*100 -> 0.081507321 | AY46: =Petrol!AV19/Petrol!AV$54*100 -> 0 | AZ46: =Petrol!AW19/Petrol!AW$54*100 -> 0 | BA46: =Petrol!AX19/Petrol!AX$54*100 -> 0 | BB46: =Petrol!AY19/Petrol!AY$54*100 -> 0.24049131 | BC46: =Petrol!AZ19/Petrol!AZ$54*100 -> 0.24049131 | BD46: =Petrol!BA19/Petrol!BA$54*100 -> 0.24049131 | BE46: =Petrol!BB19/Petrol!BB$54*100 -> 0.23828578 | ... BL46: =Petrol!BI19/Petrol!BI$54*100 -> 0.23065076 | BM46: =Petrol!BK19/Petrol!BK$54*100 -> 0.2563712 | BN46: =Petrol!BL19/Petrol!BL$54*100 -> 0.2563712 | BO46: =Petrol!BM19/Petrol!BM$54*100 -> 0.2563712 | BP46: =AVERAGE(B46:BO46) -> 0.12300609 | BQ46: =BO46-B46 -> 0.1451521 | BR46: =MAX(B46:BO46)-MIN(B46:BO46) -> 0.2563712
A47: Weenen | B47: =Petrol!C51/Petrol!C$54*100 -> 0.10964204 | C47: =Petrol!D51/Petrol!D$54*100 -> 0.096939911 | D47: =Petrol!E51/Petrol!E$54*100 -> 0.094751975 | E47: =Petrol!F51/Petrol!F$54*100 -> 0.097101632 | F47: =Petrol!G51/Petrol!G$54*100 -> 0.099369922 | G47: =Petrol!H51/Petrol!H$54*100 -> 0.093376859 | H47: =Petrol!I51/Petrol!I$54*100 -> 0.088956245 | I47: =Petrol!J51/Petrol!J$54*100 -> 0.095274611 | ... U47: =Petrol!V51/Petrol!V$54*100 -> 0.12562331 | V47: =Petrol!V51/Petrol!V$54*100 -> 0.12562331 | W47: =Petrol!W51/Petrol!W$54*100 -> 0.11075582 | X47: =Petrol!X51/Petrol!X$54*100 -> 0.11075582 | Y47: =Petrol!Y51/Petrol!Y$54*100 -> 0.11075582 | Z47: =Petrol!Z51/Petrol!Z$54*100 -> 0.12562331 | AA47: =Petrol!AA51/Petrol!AA$54*100 -> 0.11075582 | AB47: =Petrol!AB51/Petrol!AB$54*100 -> 0.11075582 | AC47: =Petrol!AC51/Petrol!AC$54*100 -> 0.11075582 | ... AW47: =Petrol!AW51/Petrol!AW$54*100 -> 0.062996105 | AX47: =Petrol!AU51/Petrol!AU$54*100 -> 0.10028928 | AY47: =Petrol!AV51/Petrol!AV$54*100 -> 0.062996105 | AZ47: =Petrol!AW51/Petrol!AW$54*100 -> 0.062996105 | BA47: =Petrol!AX51/Petrol!AX$54*100 -> 0.065578752 | BB47: =Petrol!AY51/Petrol!AY$54*100 -> 0.044095547 | BC47: =Petrol!AZ51/Petrol!AZ$54*100 -> 0.044095547 | BD47: =Petrol!BA51/Petrol!BA$54*100 -> 0.044095547 | BE47: =Petrol!BB51/Petrol!BB$54*100 -> 0.041159202 | ... BL47: =Petrol!BI51/Petrol!BI$54*100 -> 0.041531176 | BM47: =Petrol!BK51/Petrol!BK$54*100 -> 0.048701037 | BN47: =Petrol!BL51/Petrol!BL$54*100 -> 0.048701037 | BO47: =Petrol!BM51/Petrol!BM$54*100 -> 0.048701037 | BP47: =AVERAGE(B47:BO47) -> 0.086170623 | BQ47: =BO47-B47 -> -0.060940999 | BR47: =MAX(B47:BO47)-MIN(B47:BO47) -> 0.084736717
A48: Mapumulo | B48: =Petrol!C24/Petrol!C$54*100 -> 0.052777745 | C48: =Petrol!D24/Petrol!D$54*100 -> 0.055274464 | D48: =Petrol!E24/Petrol!E$54*100 -> 0.055936815 | E48: =Petrol!F24/Petrol!F$54*100 -> 0.06116999 | F48: =Petrol!G24/Petrol!G$54*100 -> 0.058779622 | G48: =Petrol!H24/Petrol!H$54*100 -> 0.067228638 | H48: =Petrol!I24/Petrol!I$54*100 -> 0.053198588 | I48: =Petrol!J24/Petrol!J$54*100 -> 0.067956739 | ... U48: =Petrol!V24/Petrol!V$54*100 -> 0.068271362 | V48: =Petrol!V24/Petrol!V$54*100 -> 0.068271362 | W48: =Petrol!W24/Petrol!W$54*100 -> 0.071780394 | X48: =Petrol!X24/Petrol!X$54*100 -> 0.071780394 | Y48: =Petrol!Y24/Petrol!Y$54*100 -> 0.071780394 | Z48: =Petrol!Z24/Petrol!Z$54*100 -> 0.068271362 | AA48: =Petrol!AA24/Petrol!AA$54*100 -> 0.071780394 | AB48: =Petrol!AB24/Petrol!AB$54*100 -> 0.071780394 | AC48: =Petrol!AC24/Petrol!AC$54*100 -> 0.071780394 | ... AW48: =Petrol!AW24/Petrol!AW$54*100 -> 0 | AX48: =Petrol!AU24/Petrol!AU$54*100 -> 0.0033457459 | AY48: =Petrol!AV24/Petrol!AV$54*100 -> 0 | AZ48: =Petrol!AW24/Petrol!AW$54*100 -> 0 | BA48: =Petrol!AX24/Petrol!AX$54*100 -> 0 | BB48: =Petrol!AY24/Petrol!AY$54*100 -> 0 | BC48: =Petrol!AZ24/Petrol!AZ$54*100 -> 0 | BD48: =Petrol!BA24/Petrol!BA$54*100 -> 0 | BE48: =Petrol!BB24/Petrol!BB$54*100 -> 0 | ... BL48: =Petrol!BI24/Petrol!BI$54*100 -> 0 | BM48: =Petrol!BK24/Petrol!BK$54*100 -> 0 | BN48: =Petrol!BL24/Petrol!BL$54*100 -> 0 | BO48: =Petrol!BM24/Petrol!BM$54*100 -> 0 | BP48: =AVERAGE(B48:BO48) -> 0.02904656 | BQ48: =BO48-B48 -> -0.052777745 | BR48: =MAX(B48:BO48)-MIN(B48:BO48) -> 0.084039624
A49: Ixopo | B49: =Petrol!C17/Petrol!C$54*100 -> -0.034121148 | C49: =Petrol!D17/Petrol!D$54*100 -> 0.083355655 | D49: =Petrol!E17/Petrol!E$54*100 -> 0.0079011915 | E49: =Petrol!F17/Petrol!F$54*100 -> 0.044786223 | F49: =Petrol!G17/Petrol!G$54*100 -> 0.019006952 | G49: =Petrol!H17/Petrol!H$54*100 -> 0.35385997 | H49: =Petrol!I17/Petrol!I$54*100 -> 0.010261531 | I49: =Petrol!J17/Petrol!J$54*100 -> 0.1275707 | ... U49: =Petrol!V17/Petrol!V$54*100 -> 0.036111274 | V49: =Petrol!V17/Petrol!V$54*100 -> 0.036111274 | W49: =Petrol!W17/Petrol!W$54*100 -> -0.015356856 | X49: =Petrol!X17/Petrol!X$54*100 -> -0.015356856 | Y49: =Petrol!Y17/Petrol!Y$54*100 -> -0.015356856 | Z49: =Petrol!Z17/Petrol!Z$54*100 -> 0.036111274 | AA49: =Petrol!AA17/Petrol!AA$54*100 -> -0.015356856 | AB49: =Petrol!AB17/Petrol!AB$54*100 -> -0.015356856 | AC49: =Petrol!AC17/Petrol!AC$54*100 -> -0.015356856 | ... AW49: =Petrol!AW17/Petrol!AW$54*100 -> 0.62700792 | AX49: =Petrol!AU17/Petrol!AU$54*100 -> 0.61806059 | AY49: =Petrol!AV17/Petrol!AV$54*100 -> 0.62700792 | AZ49: =Petrol!AW17/Petrol!AW$54*100 -> 0.62700792 | BA49: =Petrol!AX17/Petrol!AX$54*100 -> 0.65271333 | BB49: =Petrol!AY17/Petrol!AY$54*100 -> 0.61646356 | BC49: =Petrol!AZ17/Petrol!AZ$54*100 -> 0.61646356 | BD49: =Petrol!BA17/Petrol!BA$54*100 -> 0.61646356 | BE49: =Petrol!BB17/Petrol!BB$54*100 -> 0.64797656 | ... BL49: =Petrol!BI17/Petrol!BI$54*100 -> 0.65823634 | BM49: =Petrol!BK17/Petrol!BK$54*100 -> 0.44630379 | BN49: =Petrol!BL17/Petrol!BL$54*100 -> 0.44630379 | BO49: =Petrol!BM17/Petrol!BM$54*100 -> 0.44630379 | BP49: =AVERAGE(B49:BO49) -> 0.3393449 | BQ49: =BO49-B49 -> 0.48042494 | BR49: =MAX(B49:BO49)-MIN(B49:BO49) -> 0.70475344
A50: Babanango | B50: =Petrol!C3/Petrol!C$54*100 -> 0.01872431 | C50: =Petrol!D3/Petrol!D$54*100 -> 0.01364203 | D50: =Petrol!E3/Petrol!E$54*100 -> 0.012953913 | E50: =Petrol!F3/Petrol!F$54*100 -> 0.0178604 | F50: =Petrol!G3/Petrol!G$54*100 -> 0.016551994 | G50: =Petrol!H3/Petrol!H$54*100 -> 0.011512275 | H50: =Petrol!I3/Petrol!I$54*100 -> 0.020995795 | I50: =Petrol!J3/Petrol!J$54*100 -> 0.017490531 | ... U50: =Petrol!V3/Petrol!V$54*100 -> 0 | V50: =Petrol!V3/Petrol!V$54*100 -> 0 | W50: =Petrol!W3/Petrol!W$54*100 -> 0 | X50: =Petrol!X3/Petrol!X$54*100 -> 0 | Y50: =Petrol!Y3/Petrol!Y$54*100 -> 0 | Z50: =Petrol!Z3/Petrol!Z$54*100 -> 0 | AA50: =Petrol!AA3/Petrol!AA$54*100 -> 0 | AB50: =Petrol!AB3/Petrol!AB$54*100 -> 0 | AC50: =Petrol!AC3/Petrol!AC$54*100 -> 0 | ... AW50: =Petrol!AW3/Petrol!AW$54*100 -> 0 | AX50: =Petrol!AU3/Petrol!AU$54*100 -> 0 | AY50: =Petrol!AV3/Petrol!AV$54*100 -> 0 | AZ50: =Petrol!AW3/Petrol!AW$54*100 -> 0 | BA50: =Petrol!AX3/Petrol!AX$54*100 -> 0 | BB50: =Petrol!AY3/Petrol!AY$54*100 -> 0 | BC50: =Petrol!AZ3/Petrol!AZ$54*100 -> 0 | BD50: =Petrol!BA3/Petrol!BA$54*100 -> 0 | BE50: =Petrol!BB3/Petrol!BB$54*100 -> 0 | ... BL50: =Petrol!BI3/Petrol!BI$54*100 -> 0 | BM50: =Petrol!BK3/Petrol!BK$54*100 -> 0 | BN50: =Petrol!BL3/Petrol!BL$54*100 -> 0 | BO50: =Petrol!BM3/Petrol!BM$54*100 -> 0 | BP50: =AVERAGE(B50:BO50) -> 0.0036611596 | BQ50: =BO50-B50 -> -0.01872431 | BR50: =MAX(B50:BO50)-MIN(B50:BO50) -> 0.021390251
A51: Ngotshe | B51: =Petrol!C32/Petrol!C$54*100 -> 0.012031446 | C51: =Petrol!D32/Petrol!D$54*100 -> 0.0078145066 | D51: =Petrol!E32/Petrol!E$54*100 -> 0 | E51: =Petrol!F32/Petrol!F$54*100 -> 0.017894671 | F51: =Petrol!G32/Petrol!G$54*100 -> 0.0082149335 | G51: =Petrol!H32/Petrol!H$54*100 -> 0.014404321 | H51: =Petrol!I32/Petrol!I$54*100 -> 0.0059814605 | I51: =Petrol!J32/Petrol!J$54*100 -> 0.0059634733 | ... U51: =Petrol!V32/Petrol!V$54*100 -> 0 | V51: =Petrol!V32/Petrol!V$54*100 -> 0 | W51: =Petrol!W32/Petrol!W$54*100 -> 0.0010424648 | X51: =Petrol!X32/Petrol!X$54*100 -> 0.0010424648 | Y51: =Petrol!Y32/Petrol!Y$54*100 -> 0.0010424648 | Z51: =Petrol!Z32/Petrol!Z$54*100 -> 0 | AA51: =Petrol!AA32/Petrol!AA$54*100 -> 0.0010424648 | AB51: =Petrol!AB32/Petrol!AB$54*100 -> 0.0010424648 | AC51: =Petrol!AC32/Petrol!AC$54*100 -> 0.0010424648 | ... AW51: =Petrol!AW32/Petrol!AW$54*100 -> 0.0018019092 | AX51: =Petrol!AU32/Petrol!AU$54*100 -> 0.0039178422 | AY51: =Petrol!AV32/Petrol!AV$54*100 -> 0.0018019092 | AZ51: =Petrol!AW32/Petrol!AW$54*100 -> 0.0018019092 | BA51: =Petrol!AX32/Petrol!AX$54*100 -> 0.001875782 | BB51: =Petrol!AY32/Petrol!AY$54*100 -> 0.0037713215 | BC51: =Petrol!AZ32/Petrol!AZ$54*100 -> 0.0037713215 | BD51: =Petrol!BA32/Petrol!BA$54*100 -> 0.0037713215 | BE51: =Petrol!BB32/Petrol!BB$54*100 -> 0.0039942075 | ... BL51: =Petrol!BI32/Petrol!BI$54*100 -> 0.0030898963 | BM51: =Petrol!BK32/Petrol!BK$54*100 -> 0.0020667082 | BN51: =Petrol!BL32/Petrol!BL$54*100 -> 0.0020667082 | BO51: =Petrol!BM32/Petrol!BM$54*100 -> 0.0020667082 | BP51: =AVERAGE(B51:BO51) -> 0.0040624408 | BQ51: =BO51-B51 -> -0.0099647378 | BR51: =MAX(B51:BO51)-MIN(B51:BO51) -> 0.017894671
A52: Ndwedwe | B52: =Petrol!C52/Petrol!C$54*100 -> 0 | C52: =Petrol!D52/Petrol!D$54*100 -> 0 | D52: =Petrol!E52/Petrol!E$54*100 -> 0 | E52: =Petrol!F52/Petrol!F$54*100 -> 0 | F52: =Petrol!G52/Petrol!G$54*100 -> 0 | G52: =Petrol!H52/Petrol!H$54*100 -> 0 | H52: =Petrol!I52/Petrol!I$54*100 -> 0 | I52: =Petrol!J52/Petrol!J$54*100 -> 0 | ... U52: =Petrol!V52/Petrol!V$54*100 -> 0 | V52: =Petrol!V52/Petrol!V$54*100 -> 0 | W52: =Petrol!W52/Petrol!W$54*100 -> 0 | X52: =Petrol!X52/Petrol!X$54*100 -> 0 | Y52: =Petrol!Y52/Petrol!Y$54*100 -> 0 | Z52: =Petrol!Z52/Petrol!Z$54*100 -> 0 | AA52: =Petrol!AA52/Petrol!AA$54*100 -> 0 | AB52: =Petrol!AB52/Petrol!AB$54*100 -> 0 | AC52: =Petrol!AC52/Petrol!AC$54*100 -> 0 | ... AW52: =Petrol!AW52/Petrol!AW$54*100 -> 0 | AX52: =Petrol!AU52/Petrol!AU$54*100 -> 0 | AY52: =Petrol!AV52/Petrol!AV$54*100 -> 0 | AZ52: =Petrol!AW52/Petrol!AW$54*100 -> 0 | BA52: =Petrol!AX52/Petrol!AX$54*100 -> 0 | BB52: =Petrol!AY52/Petrol!AY$54*100 -> 0 | BC52: =Petrol!AZ52/Petrol!AZ$54*100 -> 0 | BD52: =Petrol!BA52/Petrol!BA$54*100 -> 0 | BE52: =Petrol!BB52/Petrol!BB$54*100 -> 0 | ... BL52: =Petrol!BI52/Petrol!BI$54*100 -> 0 | BM52: =Petrol!BK52/Petrol!BK$54*100 -> 0 | BN52: =Petrol!BL52/Petrol!BL$54*100 -> 0 | BO52: =Petrol!BM52/Petrol!BM$54*100 -> 0 | BP52: =AVERAGE(B52:BO52) -> 0 | BQ52: =BO52-B52 -> 0 | BR52: =MAX(B52:BO52)-MIN(B52:BO52) -> 0

Sheet Diesel
A1: Diesel Consumption (liters) | B1: Munic | C1: 39448 | D1: 39479 | E1: 39508 | F1: 39539 | G1: 39569 | H1: 39600 | I1: 39630 | J1: 39661 | K1: 39692 | L1: 39722 | M1: 39753 | N1: 39783 | O1: 39814 | P1: 39845 | Q1: 39873 | R1: 39904 | S1: 39934 | T1: 39965 | U1: 39995 | V1: 40026 | W1: 40057 | X1: 40087 | Y1: 40118 | Z1: 40148 | AA1: 40179 | AB1: 40210 | AC1: 40238 | AD1: 40269 | AE1: 40299 | AF1: 40330 | AG1: 40360 | AH1: 40391 | AI1: 40422 | AJ1: 40452 | AK1: 40483 | AL1: 40513 | AM1: 40544 | AN1: 40575 | AO1: 40603 | AP1: 40634 | AQ1: 40664 | AR1: 40695 | AS1: 40725 | AT1: 40756 | AU1: 40787 | AV1: 40817 | AW1: 40848 | AX1: 40878 | AY1: 40909 | AZ1: 40940 | BA1: 40969 | BB1: 41000 | BC1: 41030 | BD1: 41061 | BE1: 41091 | BF1: 41122 | BG1: 41153 | BH1: 41183 | BI1: 41214 | BJ1: 41244 | BK1: 41275 | BL1: 41306 | BM1: 41334 | BN1: 41365 | BO1: 41395 | BP1: 41426
A2: Alfred | B2: uMuziwabantu | C2: 427566 | D2: 582979 | E2: 476900 | F2: 450186 | G2: 499183 | H2: 557019 | I2: 640496 | J2: 499688 | K2: 645452 | L2: 706952 | M2: 596079 | N2: 431780 | O2: 420099 | P2: 438550 | Q2: 493432 | R2: 402831 | S2: 471611 | T2: 434307 | U2: 478422 | V2: 449379 | W2: 415043 | X2: 421942 | Y2: 523275 | Z2: 431345 | AA2: 357036.39 | AB2: 430267.89 | AC2: 408703.72 | AD2: 340312.68 | AE2: 387300.02 | AF2: 395491.3 | AG2: 422427.24 | AH2: 358303.07 | AI2: 400370.69 | AJ2: 515354.34 | AK2: 510999.21 | AL2: 394027.44 | AM2: 352263.3 | AN2: 424515.79 | AO2: 403239.91 | AP2: 373694.77 | AQ2: 425291.22 | AR2: 434286 | AS2: 551543.01 | AT2: 467819.15 | AU2: 522744.84 | AV2: 561121.5 | AW2: 556379.6 | AX2: 429019.9 | AY2: 439235 | AZ2: 481743 | BA2: 495911 | BB2: 284681 | BC2: 322638 | BD2: 341617 | BE2: 408938 | BF2: 352141 | BG2: 374860 | BH2: 246825 | BI2: 261344 | BJ2: 217787 | BK2: =981013*31/100 -> 304114.03 | BL2: =981013*34/100 -> 333544.42 | BM2: =981013*35/100 -> 343354.55 | BN2: =898397*31/100 -> 278503.07 | BO2: =898397*34/100 -> 305454.98 | BP2: =898397*35/100 -> 314438.95
A3: Babanango | B3: Ulundi | C3: 4007 | D3: 8323 | E3: 3954 | F3: 3895 | G3: 6817 | H3: 0 | I3: 7941 | J3: 0 | K3: 7984 | L3: 3983 | M3: 7956 | N3: 0 | O3: 0 | P3: 0 | Q3: 3927 | R3: 0 | S3: 0 | T3: 7957 | U3: 3993 | V3: 0 | W3: 0 | X3: 0 | Y3: 0 | Z3: 0 | AA3: 0 | AB3: 0 | AC3: 0 | AD3: 0 | AE3: 0 | AF3: 0 | AG3: 0 | AH3: 0 | AI3: 0 | AJ3: 0 | AK3: 0 | AL3: 0 | AM3: 0 | AN3: 0 | AO3: 0 | AP3: 0 | AQ3: 0 | AR3: 0 | AS3: 0 | AT3: 0 | AU3: 0 | AV3: 4887.2964 | AW3: 4845.9951 | AX3: 3736.7084 | AY3: 0 | AZ3: 0 | BA3: 0 | BB3: 0 | BC3: 0 | BD3: 0 | BE3: 0 | BF3: 0 | BG3: 0 | BH3: 0 | BI3: 0 | BJ3: 0 | BK3: 0 | BL3: 0 | BM3: 0 | BN3: 0 | BO3: 0 | BP3: 0
A4: Bergville | B4: Okhahlamba | C4: 311179 | D4: 286313 | E4: 320299 | F4: 318883 | G4: 300102 | H4: 295401 | I4: 410826 | J4: 305757 | K4: 345792 | L4: 478325 | M4: 323689 | N4: 347929 | O4: 247371 | P4: 262334 | Q4: 274332 | R4: 221580 | S4: 226655 | T4: 239680 | U4: 254103 | V4: 231396 | W4: 233143 | X4: 262107 | Y4: 246617 | Z4: 251731 | AA4: 135309.32 | AB4: 163062.52 | AC4: 154890.16 | AD4: 149511.91 | AE4: 170155.18 | AF4: 173753.91 | AG4: 184742.64 | AH4: 156698.83 | AI4: 175096.52 | AJ4: 202595.67 | AK4: 200883.59 | AL4: 154899.74 | AM4: 214199.8 | AN4: 258134.18 | AO4: 245197.01 | AP4: 211325.81 | AQ4: 240503.8 | AR4: 245590.38 | AS4: 276855.38 | AT4: 234828.92 | AU4: 262399.7 | AV4: 323689.96 | AW4: 320954.54 | AX4: 247485.5 | AY4: =586627*31/100 -> 181854.37 | AZ4: =586627*34/100 -> 199453.18 | BA4: =586627*35/100 -> 205319.45 | BB4: =303620*30/100 -> 91086 | BC4: =303620*34/100 -> 103230.8 | BD4: =303620*36/100 -> 109303.2 | BE4: =323950*36/100 -> 116622 | BF4: =323950*31/100 -> 100424.5 | BG4: =323950*33/100 -> 106903.5 | BH4: =383555*34/100 -> 130408.7 | BI4: =383555*36/100 -> 138079.8 | BJ4: =383555*30/100 -> 115066.5 | BK4: =283252*31/100 -> 87808.12 | BL4: =283252*34/100 -> 96305.68 | BM4: =283252*35/100 -> 99138.2 | BN4: =361564*31/100 -> 112084.84 | BO4: =361564*34/100 -> 122931.76 | BP4: =361564*35/100 -> 126547.4
