Workbook

Sheet Intro
J2: 2013 | L2: 2012 | N2: =PMB!F2 -> 2011 | P2: =PMB!H2 -> 2010 | R2: =PMB!J2 -> 2009 | T2: =PMB!L2 -> 2008 | V2: =PMB!N2 -> 2007
A3: YEARLY BUSINESS CONFIDENCE SURVEY AND INDEX
C4: Pietermaritzburg Business Confidence Index | J4: =PMB!B280 -> 49.95 | L4: =PMB!D280 -> 68.2 | N4: =PMB!F280 -> 63.45 | P4: =PMB!H280 -> 58.87944 | R4: =PMB!J280 -> 63.5 | T4: =PMB!L280 -> 65.95 | V4: =PMB!N280 -> 83
C6: Durban Business Confidence Index | J6: =Durban!B280 -> 69.65 | L6: =Durban!D280 -> 68.55 | N6: =Durban!F280 -> 74.95 | P6: =Durban!H280 -> 68.5 | R6: =Durban!J280 -> 65.75 | T6: =Durban!L280 -> 68.131868 | V6: =Durban!N280 -> 81.094527
C8: Richards Bay Business Confidence Index | J8: =RBay!B280 -> 41.65 | L8: =RBay!D280 -> 78.55 | N8: =RBay!F280 -> 73.7 | P8: =RBay!H280 -> 66.65 | R8: =RBay!J280 -> 69.05 | T8: =RBay!L280 -> 61.38069 | V8: =RBay!N280 -> 80.904523
C10: Port Shepstone Business Confidence Index | J10: ='Port Shepstone'!B280 -> 68.75 | L10: ='Port Shepstone'!D280 -> 66.65 | N10: ='Port Shepstone'!F280 -> 61.3
C12: Rest of KZN Business Confidence Index | J12: =Other!B280 -> 53.4 | L12: =Other!D280 -> 70.6 | N12: =Other!F280 -> 78.1
C14: Provincial Business Confidence Index | J14: =Regional!D280 -> 64.753247 | L14: =Regional!F280 -> 69.298701 | N14: =Regional!H280 -> 73.248701 | P14: =Regional!J280 -> 67.260127 | R14: =Regional!L280 -> 65.775352 | T14: =Regional!N280 -> 67.316407 | V14: =Regional!P280 -> 81.292541
C16: Product Business Confidence Index | J16: =Product2013!B280 -> 52 | L16: =Product2011!J280 -> 70.05 | N16: =Product2011!L280 -> 71.821429
C18: Services Business Confidence Index | J18: =Services2013!B280 -> 58.3 | L18: =Services2011!J280 -> 85.3 | N18: =Services2011!L280 -> 73.714935
C20: Regional Sales Multipliers | N20: How much of total sales?
C22: Regional Purchases Multipliers | N22: How much of total purchases?
C23: Demograpic | E23: Factors | G23: Financial

Sheet Durban
A1: Business Survey - Durban
B2: 2013 | D2: 2012 | F2: 2011 | H2: 2010 | J2: 2009 | L2: 2008 | N2: 2007 | P2: 2005
B3: =D3 -> As a percentage | C3: =E3 -> Less than Ogive | D3: =F3 -> As a percentage | E3: =G3 -> Less than Ogive | F3: =H3 -> As a percentage | G3: =I3 -> Less than Ogive | H3: =J3 -> As a percentage | I3: =K3 -> Less than Ogive | ... K3: =M3 -> Less than Ogive | L3: As a percentage | M3: Less than Ogive | N3: As a percentage | O3: Less than Ogive | P3: As a percentage | Q3: Less than Ogive
A4: Industry by sector in which your business operates?
A5: Agriculture, Forestry, Hunting (Processing of Farm Products) | F5: 1.6 | J5: 3.4 | L5: 1.1
A6: Farming (Basic production of agri products)
A7: Mining
A8: Quarrying
A9: Manufacturing | B9: 7.1 | D9: 24.2 | F9: 25.9 | H9: 24 | J9: 21.7 | L9: 27.5 | N9: 30 | P9: 21.43
A10: Electricity, Gas & Water | F10: 2.8 | L10: 1.1 | N10: 1
A11: Construction | D11: 3.2 | F11: 4.6 | H11: 8 | J11: 2.8 | L11: 3.3 | N11: 4 | P11: 7.14
A12: Educational Institutions | B12: 3.6 | D12: 4.8 | F12: 1.9 | H12: 4 | J12: 1.9 | L12: 3.3 | N12: 3
A13: Tourism, Catering & Accommodation | B13: 10.7 | D13: 6.5 | F13: 5.6 | H13: 3 | J13: 2.9 | L13: 6.6 | N13: 4
A14: Wholesale & Retail | D14: 11.3 | F14: 5.6 | H14: 9 | J14: 14.3 | L14: 7.7 | N14: 8 | P14: 21.43
A15: Vehicle Sales | J15: 1 | L15: 1.1 | N15: 1
A16: Transport, Storage & Communications | D16: 4.8 | F16: 7.4 | H16: 2 | J16: 9.6 | L16: 11 | N16: 11
A17: Banks & Financial | B17: 3.7 | D17: 3.3 | F17: 3.7 | H17: 7 | L17: 2.2 | N17: 4 | P17: 7.14
A18: Legal | B18: 3.6 | L18: 0
A19: Insurance , Pension & Medical Aid Funds | B19: 7.1 | H19: 1 | L19: 3.3 | N19: 1
A20: Real Estate | D20: 3.2 | F20: 2.8 | H20: 3 | N20: 6
A21: Business Services | B21: 32.1 | D21: 14.5 | F21: 13 | H21: 12 | J21: 14.3 | L21: 7.7 | N21: 5
A22: Central Government
A23: Local Government
A24: Provincial Government | D24: 1.6 | F24: 0.9
A25: Social & Personal Services | B25: 3.6 | D25: 3.2 | F25: 1.9 | J25: 2.9 | L25: 1.1
A26: IT | B26: 7.1 | D26: 6.5 | F26: 5.6 | H26: 4 | L26: 4.4 | N26: 5
A27: Taxis
A28: Other | B28: 21.4 | C28: =SUM(B5:B28) -> 100 | D28: 12.9 | E28: =SUM(D5:D28) -> 100 | F28: 16.7 | G28: =SUM(F5:F28) -> 100 | H28: 23 | I28: =SUM(H5:H28) -> 100 | J28: 25.3 | K28: =SUM(J5:J28) -> 100.1 | L28: 18.7 | N28: 16 | P28: 35.71
A30: How many employees do you have?
A31: 0 - 10 | B31: 67.8 | C31: =B31 -> 67.8 | D31: 46.7 | E31: =D31 -> 46.7 | F31: 32.4 | G31: =F31 -> 32.4 | H31: 37 | I31: =H31 -> 37 | J31: 14.3 | K31: =J31 -> 14.3 | L31: 34.1 | M31: =L31 -> 34.1 | N31: 39 | O31: =N31 -> 39 | P31: 33 | Q31: =P31 -> 33
A32: 11. - 30 | B32: 17.9 | C32: =C31+B32 -> 85.7 | D32: 29 | E32: =E31+D32 -> 75.7 | F32: 26.9 | G32: =G31+F32 -> 59.3 | H32: 30 | I32: =I31+H32 -> 67 | J32: 0 | K32: =K31+J32 -> 14.3 | L32: 33 | M32: =M31+L32 -> 67.1 | N32: 29 | O32: =O31+N32 -> 68 | P32: 17 | Q32: =Q31+P32 -> 50
A33: 31 - 50 | B33: 3.6 | C33: =C32+B33 -> 89.3 | D33: 6.5 | E33: =E32+D33 -> 82.2 | F33: 6.5 | G33: =G32+F33 -> 65.8 | H33: 7 | I33: =I32+H33 -> 74 | J33: 28.6 | K33: =K32+J33 -> 42.9 | L33: 4.4 | M33: =M32+L33 -> 71.5 | N33: 10 | O33: =O32+N33 -> 78 | P33: 10 | Q33: =Q32+P33 -> 60
A34: 51 - 100 | B34: 0 | C34: =C33+B34 -> 89.3 | D34: 4.8 | E34: =E33+D34 -> 87 | F34: 8.3 | G34: =G33+F34 -> 74.1 | H34: 8 | I34: =I33+H34 -> 82 | J34: 14.3 | K34: =K33+J34 -> 57.2 | L34: 8.8 | M34: =M33+L34 -> 80.3 | N34: 6 | O34: =O33+N34 -> 84 | P34: 7 | Q34: =Q33+P34 -> 67
A35: 101 - 200 | B35: 0 | C35: =C34+B35 -> 89.3 | D35: 6.5 | E35: =E34+D35 -> 93.5 | F35: 11.1 | G35: =G34+F35 -> 85.2 | H35: 1 | I35: =I34+H35 -> 83 | J35: 14.3 | K35: =K34+J35 -> 71.5 | L35: 8.8 | M35: =M34+L35 -> 89.1 | N35: 9 | O35: =O34+N35 -> 93 | P35: 20 | Q35: =Q34+P35 -> 87
A36: > 200 | B36: 10.7 | C36: =C35+B36 -> 100 | D36: 6.5 | E36: =E35+D36 -> 100 | F36: 14.8 | G36: =G35+F36 -> 100 | H36: 17 | I36: =I35+H36 -> 100 | J36: 28.6 | K36: =K35+J36 -> 100.1 | L36: 11 | M36: =M35+L36 -> 100.1 | N36: 6 | O36: =O35+N36 -> 99 | P36: 13 | Q36: =Q35+P36 -> 100
A38: Labour Relations? (1= least important & 10 = critical important)
A39: 1 | B39: 14.1 | C39: =B39 -> 14.1 | D39: 1.5 | E39: =D39 -> 1.5 | F39: 3.8 | G39: =F39 -> 3.8 | H39: 7 | I39: =H39 -> 7 | J39: 5.3 | K39: =J39 -> 5.3 | L39: 7.7 | M39: =L39 -> 7.7 | N39: 8 | O39: =N39 -> 8 | P39: 7.14 | Q39: =P39 -> 7.14
A40: 2 | B40: 0 | C40: =C39+B40 -> 14.1 | D40: 6.5 | E40: =E39+D40 -> 8 | F40: 7.4 | G40: =G39+F40 -> 11.2 | H40: 6 | I40: =I39+H40 -> 13 | J40: 6.1 | K40: =K39+J40 -> 11.4 | L40: 8.8 | M40: =M39+L40 -> 16.5 | N40: 10 | O40: =O39+N40 -> 18 | P40: 21.43 | Q40: =Q39+P40 -> 28.57
A41: 3 | B41: 14.3 | C41: =C40+B41 -> 28.4 | D41: 6.5 | E41: =E40+D41 -> 14.5 | F41: 5.6 | G41: =G40+F41 -> 16.8 | H41: 7 | I41: =I40+H41 -> 20 | J41: 4.3 | K41: =K40+J41 -> 15.7 | L41: 7.7 | M41: =M40+L41 -> 24.2 | N41: 9 | O41: =O40+N41 -> 27 | P41: 12 | Q41: =Q40+P41 -> 40.57
A42: 4 | B42: 3.6 | C42: =C41+B42 -> 32 | D42: 1.6 | E42: =E41+D42 -> 16.1 | F42: 4.6 | G42: =G41+F42 -> 21.4 | H42: 4 | I42: =I41+H42 -> 24 | J42: 5.5 | K42: =K41+J42 -> 21.2 | L42: 5.5 | M42: =M41+L42 -> 29.7 | N42: 1 | O42: =O41+N42 -> 28 | P42: 0 | Q42: =Q41+P42 -> 40.57
...

Sheet PMB
A1: Business Survey - PMB
B2: 2013 | D2: 2012 | F2: 2011 | H2: 2010 | J2: 2009 | L2: 2008 | N2: 2007 | P2: 2005 | R2: 2004
B3: =F3 -> As a percentage | C3: =G3 -> Less than Ogive | D3: =H3 -> As a percentage | E3: =I3 -> Less than Ogive | F3: =J3 -> As a percentage | G3: =K3 -> Less than Ogive | H3: =J3 -> As a percentage | I3: =K3 -> Less than Ogive | J3: =L3 -> As a percentage | K3: =M3 -> Less than Ogive | L3: As a percentage | M3: Less than Ogive | N3: As a percentage | O3: Less than Ogive | P3: As a percentage | Q3: Less than Ogive | R3: As a percentage | S3: Less than Ogive
A4: Industry by sector in which your business operates?
A5: Agriculture, Forestry, Hunting (Processing of Farm Products) | J5: 1.6 | N5: 5 | P5: 1.72 | R5: 3.85
A6: Farming (Basic production of agri products) | J6: 4.8
A7: Mining
A8: Quarrying
A9: Manufacturing | B9: 28.6 | D9: 31.8 | F9: 34.6 | H9: 6.2 | J9: 19 | L9: 19.1 | N9: 23 | P9: 32.76 | R9: 13.85
A10: Electricity, Gas & Water | D10: 4.5 | F10: 3.8 | J10: 3.2
A11: Construction | F11: 7.7 | H11: 6.2 | J11: 3.2 | L11: 6.4 | N11: 5 | P11: 5.17 | R11: 3
A12: Educational Institutions | B12: 14.3 | D12: 4.5 | F12: 7.7 | J12: 1.6 | L12: 4.3
A13: Tourism, Catering & Accommodation | D13: 9.1 | F13: 11.5 | H13: 6.2 | J13: 22.2 | L13: 6.4 | N13: 10 | R13: 24.8
A14: Wholesale & Retail | F14: 7.7 | H14: 12.5 | J14: 7.9 | L14: 2.1 | N14: 8 | P14: 7.8 | R14: 10.77
A15: Vehicle Sales | L15: 2.1 | N15: 3
A16: Transport, Storage & Communications | J16: 1.6 | P16: 5.17 | R16: 0.77
A17: Banks & Financial | J17: 4.8 | L17: 4.3 | P17: 15.97 | R17: 10.62
A18: Legal | D18: 4.5 | H18: 12.5 | J18: 1.6 | L18: 2.1 | N18: 5 | P18: 4 | R18: 4
A19: Insurance , Pension & Medical Aid Funds | J19: 1.6 | L19: 2.1 | N19: 3
A20: Real Estate | H20: 12.5 | J20: 1.6 | L20: 4.3 | P20: 3.45 | R20: 2.3
A21: Business Services | B21: 14.3 | D21: 4.7 | F21: 11.6 | H21: 12.5 | J21: 6.3 | L21: 14.9 | N21: 13 | P21: 2 | R21: 3.7
A22: Central Government
A23: Local Government
A24: Provincial Government
A25: Social & Personal Services | J25: 1.6 | N25: 5
A26: IT | D26: 4.5 | H26: 12.5 | L26: 2.1 | N26: 8
A27: Taxis | N27: 3
A28: Other | B28: 14.3 | D28: 36.4 | F28: 15.4 | H28: 18.8 | J28: 17.5 | L28: 29.8 | N28: 10 | P28: 22 | R28: 23.08
A30: How many employees do you have?
A31: 0 - 10 | B31: 28.5 | C31: =B31 -> 28.5 | D31: 41 | E31: =D31 -> 41 | F31: 46.3 | G31: =F31 -> 46.3 | H31: 41.3 | I31: =H31 -> 41.3 | J31: 47.6 | K31: =J31 -> 47.6 | L31: 34 | M31: =L31 -> 34 | N31: 44 | O31: =N31 -> 44 | P31: 20 | Q31: =P31 -> 20 | R31: 40 | S31: =R31 -> 40
A32: 11. - 30 | B32: 14.3 | C32: =C31+B32 -> 42.8 | D32: 22.7 | E32: =E31+D32 -> 63.7 | F32: 19.2 | G32: =G31+F32 -> 65.5 | H32: 23.5 | I32: =I31+H32 -> 64.8 | J32: 19 | K32: =K31+J32 -> 66.6 | L32: 21.3 | M32: =M31+L32 -> 55.3 | N32: 15 | O32: =O31+N32 -> 59 | P32: 24 | Q32: =Q31+P32 -> 44 | R32: 32 | S32: =S31+R32 -> 72
A33: 31 - 50 | B33: 28.6 | C33: =C32+B33 -> 71.4 | D33: 18.2 | E33: =E32+D33 -> 81.9 | F33: 7.7 | G33: =G32+F33 -> 73.2 | H33: 5.9 | I33: =I32+H33 -> 70.7 | J33: 11.1 | K33: =K32+J33 -> 77.7 | L33: 8.5 | M33: =M32+L33 -> 63.8 | N33: 15 | O33: =O32+N33 -> 74 | P33: 10.2 | Q33: =Q32+P33 -> 54.2 | R33: 9.1 | S33: =S32+R33 -> 81.1
A34: 51 - 100 | B34: 14.3 | C34: =C33+B34 -> 85.7 | D34: 13.6 | E34: =E33+D34 -> 95.5 | F34: 11.5 | G34: =G33+F34 -> 84.7 | H34: 11.8 | I34: =I33+H34 -> 82.5 | J34: 6.3 | K34: =K33+J34 -> 84 | L34: 10.6 | M34: =M33+L34 -> 74.4 | N34: 8 | O34: =O33+N34 -> 82 | P34: 8.5 | Q34: =Q33+P34 -> 62.7 | R34: 7.69 | S34: =S33+R34 -> 88.79
A35: 101 - 200 | B35: 0 | C35: =C34+B35 -> 85.7 | D35: 4.5 | E35: =E34+D35 -> 100 | F35: 11.5 | G35: =G34+F35 -> 96.2 | I35: =I34+H35 -> 82.5 | J35: 3.2 | K35: =K34+J35 -> 87.2 | L35: 17 | M35: =M34+L35 -> 91.4 | N35: 8 | O35: =O34+N35 -> 90 | P35: 21.6 | Q35: =Q34+P35 -> 84.3 | R35: 8.92 | S35: =S34+R35 -> 97.71
A36: > 200 | B36: 14.3 | C36: =C35+B36 -> 100 | D36: 0 | E36: =E35+D36 -> 100 | F36: 3.8 | G36: =G35+F36 -> 100 | H36: 17.6 | I36: =I35+H36 -> 100.1 | J36: 12.7 | K36: =K35+J36 -> 99.9 | L36: 8.6 | M36: =M35+L36 -> 100 | N36: 10 | O36: =O35+N36 -> 100 | P36: 16 | Q36: =Q35+P36 -> 100.3 | R36: 2.31 | S36: =S35+R36 -> 100.02
A38: Labour Relations? (1= least important & 10 = critical important)
A39: 1 | B39: 0 | C39: =B39 -> 0 | D39: 13.7 | E39: =D39 -> 13.7 | F39: 7.8 | G39: =F39 -> 7.8 | H39: 5.9 | I39: =H39 -> 5.9 | J39: 7.9 | K39: =J39 -> 7.9 | L39: 6.4 | M39: =L39 -> 6.4 | N39: 8 | O39: =N39 -> 8 | P39: 1.7241379 | Q39: =P39 -> 1.7241379 | R39: 7.87 | S39: =R39 -> 7.87
A40: 2 | B40: 0 | C40: =C39+B40 -> 0 | D40: 9.1 | E40: =E39+D40 -> 22.8 | F40: 0 | G40: =G39+F40 -> 7.8 | H40: 11.8 | I40: =I39+H40 -> 17.7 | J40: 7.9 | K40: =K39+J40 -> 15.8 | L40: 4.3 | M40: =M39+L40 -> 10.7 | N40: 5 | O40: =O39+N40 -> 13 | P40: 3.4482759 | Q40: =Q39+P40 -> 5.1724138 | R40: 6.74 | S40: =S39+R40 -> 14.61
A41: 3 | B41: 0 | C41: =C40+B41 -> 0 | D41: 9.1 | E41: =E40+D41 -> 31.9 | F41: 0 | G41: =G40+F41 -> 7.8 | I41: =I40+H41 -> 17.7 | J41: 7.9 | K41: =K40+J41 -> 23.7 | L41: 6.4 | M41: =M40+L41 -> 17.1 | N41: 5 | O41: =O40+N41 -> 18 | P41: 3.4482759 | Q41: =Q40+P41 -> 8.6206897 | R41: 8.99 | S41: =S40+R41 -> 23.6
A42: 4 | B42: 14.3 | C42: =C41+B42 -> 14.3 | D42: 0 | E42: =E41+D42 -> 31.9 | F42: 3.8 | G42: =G41+F42 -> 11.6 | H42: 5.9 | I42: =I41+H42 -> 23.6 | J42: 12.7 | K42: =K41+J42 -> 36.4 | L42: 4.3 | M42: =M41+L42 -> 21.4 | N42: 5 | O42: =O41+N42 -> 23 | P42: 6.8965517 | Q42: =Q41+P42 -> 15.517241 | R42: 1.12 | S42: =S41+R42 -> 24.72
...

Sheet RBay
A1: Business Survey - Richards Bay
B2: 2013 | D2: 2012 | F2: 2011 | H2: 2010 | J2: 2009 | L2: 2008 | N2: 2007 | P2: 2005
B3: =F3 -> As a percentage | C3: =G3 -> Less than Ogive | D3: =H3 -> As a percentage | E3: =I3 -> Less than Ogive | F3: =J3 -> As a percentage | G3: =K3 -> Less than Ogive | H3: =J3 -> As a percentage | I3: =K3 -> Less than Ogive | J3: =L3 -> As a percentage | K3: =M3 -> Less than Ogive | L3: As a percentage | M3: Less than Ogive | N3: As a percentage | O3: Less than Ogive | P3: As a percentage | Q3: Less than Ogive
A4: Industry by sector in which your business operates?
A5: Agriculture, Forestry, Hunting (Processing of Farm Products)
A6: Farming (Basic production of agri products)
A7: Mining | F7: 5.3
A8: Quarrying
A9: Manufacturing | B9: 16.7 | D9: 14.3 | F9: 10.5 | H9: 13.3 | L9: 13.6 | N9: 10
A10: Electricity, Gas & Water | H10: 6.7 | N10: 10
A11: Construction | B11: 12.5 | D11: 28.5 | F11: 10.5 | H11: 26.7 | J11: 9.5 | L11: 13.6 | N11: 24
A12: Educational Institutions | D12: 14.3 | J12: 4.8 | L12: 4.5
A13: Tourism, Catering & Accommodation | F13: 5.3 | L13: 9.1 | N13: 5
A14: Wholesale & Retail | B14: 16.7 | D14: 14.3 | F14: 15.8 | J14: 19 | L14: 13.6 | N14: 10 | P14: 28.57
A15: Vehicle Sales | F15: 5.3
A16: Transport, Storage & Communications | B16: 4.2 | J16: 4.8 | P16: 7.14
A17: Banks & Financial | B17: 4 | F17: 5.2 | H17: 6.7 | J17: 9.5 | L17: 4.5 | N17: 10 | P17: 15.97
A18: Legal | D18: 14.3 | H18: 6.7 | J18: 4.8 | L18: 4.5 | N18: 5 | P18: 4
A19: Insurance , Pension & Medical Aid Funds | L19: 2.1
A20: Real Estate | B20: 4.2 | P20: 7.14
A21: Business Services | B21: 12.5 | F21: 15.8 | H21: 6.7 | J21: 9.5 | L21: 9.1 | P21: 2
A22: Central Government
A23: Local Government | J23: 4.8
A24: Provincial Government
A25: Social & Personal Services | B25: 4.2 | D25: 14.3 | L25: 4.5 | N25: 5
A26: IT | F26: 10.5 | J26: 4.8 | N26: 5
A27: Taxis
A28: Other | B28: 20.8 | F28: 15.8 | H28: 33.3 | J28: 28.6 | L28: 22.7 | N28: 19 | P28: 28.57
A30: How many employees do you have?
A31: 0 - 10 | B31: 29.1 | C31: =B31 -> 29.1 | D31: 28.5 | E31: =D31 -> 28.5 | F31: 42.1 | G31: =F31 -> 42.1 | H31: 20 | I31: =H31 -> 20 | J31: 42.9 | K31: =J31 -> 42.9 | L31: 54.5 | M31: =L31 -> 54.5 | N31: 33 | O31: =N31 -> 33 | P31: 61 | Q31: =P31 -> 61
A32: 11. - 30 | B32: 29.2 | C32: =C31+B32 -> 58.3 | D32: 14.3 | E32: =E31+D32 -> 42.8 | F32: 10.5 | G32: =G31+F32 -> 52.6 | H32: 46.7 | I32: =I31+H32 -> 66.7 | J32: 33.3 | K32: =K31+J32 -> 76.2 | L32: 13.6 | M32: =M31+L32 -> 68.1 | N32: 33 | O32: =O31+N32 -> 66 | P32: 23 | Q32: =Q31+P32 -> 84
A33: 31 - 50 | B33: 16.7 | C33: =C32+B33 -> 75 | D33: 0 | E33: =E32+D33 -> 42.8 | F33: 15.8 | G33: =G32+F33 -> 68.4 | H33: 6.7 | I33: =I32+H33 -> 73.4 | J33: 9.5 | K33: =K32+J33 -> 85.7 | L33: 18.2 | M33: =M32+L33 -> 86.3 | N33: 10 | O33: =O32+N33 -> 76 | P33: 10 | Q33: =Q32+P33 -> 94
A34: 51 - 100 | B34: 4.2 | C34: =C33+B34 -> 79.2 | D34: 28.6 | E34: =E33+D34 -> 71.4 | F34: 15.8 | G34: =G33+F34 -> 84.2 | H34: 6.7 | I34: =I33+H34 -> 80.1 | J34: 14.3 | K34: =K33+J34 -> 100 | L34: 9.1 | M34: =M33+L34 -> 95.4 | N34: 5 | O34: =O33+N34 -> 81 | P34: 2.5 | Q34: =Q33+P34 -> 96.5
A35: 101 - 200 | B35: 12.5 | C35: =C34+B35 -> 91.7 | D35: 14.3 | E35: =E34+D35 -> 85.7 | F35: 0 | G35: =G34+F35 -> 84.2 | H35: 6.7 | I35: =I34+H35 -> 86.8 | J35: 0 | K35: =K34+J35 -> 100 | L35: 0 | M35: =M34+L35 -> 95.4 | N35: 14 | O35: =O34+N35 -> 95 | P35: 3.1 | Q35: =Q34+P35 -> 99.6
A36: > 200 | B36: 8.3 | C36: =C35+B36 -> 100 | D36: 14.3 | E36: =E35+D36 -> 100 | F36: 15.8 | G36: =G35+F36 -> 100 | H36: 13.3 | I36: =I35+H36 -> 100.1 | J36: 0 | K36: =K35+J36 -> 100 | L36: 4.5 | M36: =M35+L36 -> 99.9 | N36: 5 | O36: =O35+N36 -> 100 | P36: 1 | Q36: =Q35+P36 -> 100.6
A38: Labour Relations? (1= least important & 10 = critical important)
A39: 1 | B39: 4.3 | C39: =B39 -> 4.3 | D39: 0 | E39: =D39 -> 0 | F39: 10.5 | G39: =F39 -> 10.5 | H39: 0 | I39: =H39 -> 0 | J39: 4.8 | K39: =J39 -> 4.8 | L39: 4.5 | M39: =L39 -> 4.5 | N39: 5 | O39: =N39 -> 5 | P39: 13.33 | Q39: =P39 -> 13.33
A40: 2 | B40: 0 | C40: =C39+B40 -> 4.3 | D40: 14.2 | E40: =E39+D40 -> 14.2 | F40: 5.3 | G40: =G39+F40 -> 15.8 | H40: 20 | I40: =I39+H40 -> 20 | J40: 4.8 | K40: =K39+J40 -> 9.6 | L40: 4.5 | M40: =M39+L40 -> 9 | N40: 10 | O40: =O39+N40 -> 15 | P40: 6.67 | Q40: =Q39+P40 -> 20
A41: 3 | B41: 8.3 | C41: =C40+B41 -> 12.6 | D41: 0 | E41: =E40+D41 -> 14.2 | F41: 10.5 | G41: =G40+F41 -> 26.3 | H41: 6.7 | I41: =I40+H41 -> 26.7 | J41: 9.5 | K41: =K40+J41 -> 19.1 | L41: 13.6 | M41: =M40+L41 -> 22.6 | N41: 5 | O41: =O40+N41 -> 20 | P41: 0 | Q41: =Q40+P41 -> 20
A42: 4 | B42: 8.3 | C42: =C41+B42 -> 20.9 | D42: 0 | E42: =E41+D42 -> 14.2 | F42: 0 | G42: =G41+F42 -> 26.3 | H42: 13.3 | I42: =I41+H42 -> 40 | J42: 9.5 | K42: =K41+J42 -> 28.6 | L42: 4.5 | M42: =M41+L42 -> 27.1 | N42: 0 | O42: =O41+N42 -> 20 | P42: 0 | Q42: =Q41+P42 -> 20
...

Sheet Port Shepstone
A1: Business Survey - Port Shepstone
B2: 2013 | D2: 2012 | F2: 2011
B3: =D3 -> As a percentage | C3: =E3 -> Less than Ogive | D3: =F3 -> As a percentage | E3: =G3 -> Less than Ogive | F3: =RBay!D3 -> As a percentage | G3: =RBay!E3 -> Less than Ogive | H3: =J3 -> 0 | I3: =K3 -> 0
A4: Industry by sector in which your business operates?
A5: Agriculture, Forestry, Hunting (Processing of Farm Products)
A6: Farming (Basic production of agri products)
A7: Mining
A8: Quarrying
A9: Manufacturing
A10: Electricity, Gas & Water
A11: Construction
A12: Educational Institutions
A13: Tourism, Catering & Accommodation | B13: 72.9 | D13: 66.7 | F13: 67.7
A14: Wholesale & Retail | B14: 4.2 | F14: 6.5
A15: Vehicle Sales
A16: Transport, Storage & Communications | B16: 2.1
A17: Banks & Financial
A18: Legal | B18: 2.1
A19: Insurance , Pension & Medical Aid Funds | B19: 4.2 | F19: 3.2
A20: Real Estate | B20: 2.1
A21: Business Services | B21: 2 | D21: 16.6 | F21: 9.7
A22: Central Government
A23: Local Government
A24: Provincial Government
A25: Social & Personal Services
A26: IT | B26: 2.1
A27: Taxis
A28: Other | B28: 8.3 | D28: 16.7 | F28: 12.9
A30: How many employees do you have?
A31: 0 - 10 | B31: 81.2 | C31: =B31 -> 81.2 | D31: 100 | E31: =D31 -> 100 | F31: 83.8 | G31: =F31 -> 83.8
A32: 11. - 30 | B32: 10.4 | C32: =C31+B32 -> 91.6 | D32: 0 | E32: =E31+D32 -> 100 | F32: 6.5 | G32: =G31+F32 -> 90.3
A33: 31 - 50 | B33: 4.2 | C33: =C32+B33 -> 95.8 | D33: 0 | E33: =E32+D33 -> 100 | F33: 6.5 | G33: =G32+F33 -> 96.8
A34: 51 - 100 | B34: 2.1 | C34: =C33+B34 -> 97.9 | D34: 0 | E34: =E33+D34 -> 100 | F34: 3.2 | G34: =G33+F34 -> 100
A35: 101 - 200 | B35: 2.1 | C35: =C34+B35 -> 100 | D35: 0 | E35: =E34+D35 -> 100 | F35: 0 | G35: =G34+F35 -> 100
A36: > 200 | B36: 0 | C36: =C35+B36 -> 100 | D36: 0 | E36: =E35+D36 -> 100 | F36: 0 | G36: =G35+F36 -> 100
A38: Labour Relations? (1= least important & 10 = critical important)
A39: 1 | B39: 10.4 | C39: =B39 -> 10.4 | D39: 0 | E39: =D39 -> 0 | F39: 6.4 | G39: =F39 -> 6.4
A40: 2 | B40: 12.5 | C40: =C39+B40 -> 22.9 | D40: 0 | E40: =E39+D40 -> 0 | F40: 3.2 | G40: =G39+F40 -> 9.6
A41: 3 | B41: 4.2 | C41: =C40+B41 -> 27.1 | D41: 16.6 | E41: =E40+D41 -> 16.6 | F41: 12.9 | G41: =G40+F41 -> 22.5
A42: 4 | B42: 0 | C42: =C41+B42 -> 27.1 | D42: 16.7 | E42: =E41+D42 -> 33.3 | F42: 6.5 | G42: =G41+F42 -> 29
...

Sheet Other
A1: Business Survey - Rest of KZN
B2: 2013 | D2: 2012 | F2: 2011
B3: =D3 -> As a percentage | C3: =E3 -> Less than Ogive | D3: =F3 -> As a percentage | E3: =G3 -> Less than Ogive | F3: ='Port Shepstone'!F3 -> As a percentage | G3: ='Port Shepstone'!G3 -> Less than Ogive
A4: Industry by sector in which your business operates?
A5: Agriculture, Forestry, Hunting (Processing of Farm Products) | B5: 3.8 | D5: 5.9
A6: Farming (Basic production of agri products) | B6: 6.9 | F6: 3.1
A7: Mining
A8: Quarrying
A9: Manufacturing | B9: 3.4 | D9: 5.9 | F9: 9.4
A10: Electricity, Gas & Water | D10: 5.9
A11: Construction | D11: 5.9 | F11: 12.7
A12: Educational Institutions | F12: 3.1
A13: Tourism, Catering & Accommodation | B13: 17.2 | D13: 17.6 | F13: 12.5
A14: Wholesale & Retail | B14: 31 | D14: 23.5 | F14: 31.2
A15: Vehicle Sales | B15: 3.4 | D15: 5.9
A16: Transport, Storage & Communications | B16: 3.4
A17: Banks & Financial | B17: 3.4 | D17: 5.9
A18: Legal
A19: Insurance , Pension & Medical Aid Funds | F19: 3.1
A20: Real Estate | B20: 3.4 | F20: 3.1
A21: Business Services | B21: 3.4
A22: Central Government
A23: Local Government
A24: Provincial Government
A25: Social & Personal Services
A26: IT
A27: Taxis | F27: 3.1
A28: Other | B28: 31 | D28: 23.5 | F28: 15.6
A30: How many employees do you have?
A31: 0 - 10 | B31: 38 | C31: =B31 -> 38 | D31: 11.8 | E31: =D31 -> 11.8 | F31: 31.3 | G31: =F31 -> 31.3
A32: 11. - 30 | B32: 31 | C32: =C31+B32 -> 69 | D32: 35.3 | E32: =E31+D32 -> 47.1 | F32: 31.2 | G32: =G31+F32 -> 62.5
A33: 31 - 50 | B33: 6.9 | C33: =C32+B33 -> 75.9 | D33: 17.6 | E33: =E32+D33 -> 64.7 | F33: 9.4 | G33: =G32+F33 -> 71.9
A34: 51 - 100 | B34: 6.9 | C34: =C33+B34 -> 82.8 | D34: 5.9 | E34: =E33+D34 -> 70.6 | F34: 12.5 | G34: =G33+F34 -> 84.4
A35: 101 - 200 | B35: 3.9 | C35: =C34+B35 -> 86.7 | D35: 23.5 | E35: =E34+D35 -> 94.1 | F35: 12.5 | G35: =G34+F35 -> 96.9
A36: > 200 | B36: 29 | C36: =C35+B36 -> 115.7 | D36: 5.9 | E36: =E35+D36 -> 100 | F36: 3.1 | G36: =G35+F36 -> 100
A38: Labour Relations? (1= least important & 10 = critical important)
A39: 1 | B39: 17.4 | C39: =B39 -> 17.4 | D39: 0 | E39: =D39 -> 0 | F39: 6.2 | G39: =F39 -> 6.2
A40: 2 | B40: 0 | C40: =C39+B40 -> 17.4 | D40: 0 | E40: =E39+D40 -> 0 | F40: 6.2 | G40: =G39+F40 -> 12.4
A41: 3 | B41: 3.4 | C41: =C40+B41 -> 20.8 | D41: 5.8 | E41: =E40+D41 -> 5.8 | F41: 0 | G41: =G40+F41 -> 12.4
A42: 4 | B42: 3.4 | C42: =C41+B42 -> 24.2 | D42: 0 | E42: =E41+D42 -> 5.8 | F42: 9.4 | G42: =G41+F42 -> 21.8
...

Sheet Regional
A1: Business Survey - Provincial
D2: 2013 | F2: 2012 | H2: 2011 | J2: 2010 | L2: 2009 | N2: 2008 | P2: 2007 | R2: 2005
D3: =F3 -> As a percentage | E3: =G3 -> Less than Ogive | F3: =H3 -> As a percentage | G3: =I3 -> Less than Ogive | H3: =J3 -> As a percentage | I3: =K3 -> Less than Ogive | J3: =L3 -> As a percentage | K3: =M3 -> Less than Ogive | ... M3: =O3 -> Less than Ogive | N3: As a percentage | O3: Less than Ogive | P3: As a percentage | Q3: Less than Ogive | R3: As a percentage | S3: Less than Ogive
A4: Industry by sector in which your business operates?
A5: Agriculture, Forestry, Hunting (Processing of Farm Products) | H5: =(Durban!F5*0.57+PMB!F5*0.08+RBay!F5*0.06+'Port Shepstone'!F5*0.03+Other!F5*0.03)/71*100 -> 1.284507 | J5: =(Durban!H5*0.57+PMB!H5*0.08+RBay!H5*0.06+'Port Shepstone'!H5*0.03+Other!H5*0.03)/71*100 -> 0 | L5: =(Durban!J5*0.57+PMB!J5*0.08+RBay!J5*0.06+'Port Shepstone'!J5*0.03+Other!J5*0.03)/71*100 -> 2.9098592 | N5: =(Durban!L5*0.57+PMB!L5*0.08+RBay!L5*0.06+'Port Shepstone'!L5*0.03+Other!L5*0.03)/71*100 -> 0.88309859 | P5: =(Durban!N5*0.57+PMB!N5*0.08+RBay!N5*0.06+'Port Shepstone'!N5*0.03+Other!N5*0.03)/71*100 -> 0.56338028 | R5: =(Durban!P5*0.57+PMB!P5*0.08+RBay!P5*0.06+'Port Shepstone'!P5*0.03+Other!P5*0.03)/71*100 -> 0.19380282
A6: Farming (Basic production of agri products) | J6: =(Durban!H6*0.57+PMB!H6*0.08+RBay!H6*0.06+'Port Shepstone'!H6*0.03+Other!H6*0.03)/71*100 -> 0 | L6: =(Durban!J6*0.57+PMB!J6*0.08+RBay!J6*0.06+'Port Shepstone'!J6*0.03+Other!J6*0.03)/71*100 -> 0.54084507 | N6: =(Durban!L6*0.57+PMB!L6*0.08+RBay!L6*0.06+'Port Shepstone'!L6*0.03+Other!L6*0.03)/71*100 -> 0 | P6: =(Durban!N6*0.57+PMB!N6*0.08+RBay!N6*0.06+'Port Shepstone'!N6*0.03+Other!N6*0.03)/71*100 -> 0 | R6: =(Durban!P6*0.57+PMB!P6*0.08+RBay!P6*0.06+'Port Shepstone'!P6*0.03+Other!P6*0.03)/71*100 -> 0
A7: Mining | J7: =(Durban!H7*0.57+PMB!H7*0.08+RBay!H7*0.06+'Port Shepstone'!H7*0.03+Other!H7*0.03)/71*100 -> 0 | L7: =(Durban!J7*0.57+PMB!J7*0.08+RBay!J7*0.06+'Port Shepstone'!J7*0.03+Other!J7*0.03)/71*100 -> 0 | N7: =(Durban!L7*0.57+PMB!L7*0.08+RBay!L7*0.06+'Port Shepstone'!L7*0.03+Other!L7*0.03)/71*100 -> 0 | P7: =(Durban!N7*0.57+PMB!N7*0.08+RBay!N7*0.06+'Port Shepstone'!N7*0.03+Other!N7*0.03)/71*100 -> 0 | R7: =(Durban!P7*0.57+PMB!P7*0.08+RBay!P7*0.06+'Port Shepstone'!P7*0.03+Other!P7*0.03)/71*100 -> 0
A8: Quarrying | J8: =(Durban!H8*0.57+PMB!H8*0.08+RBay!H8*0.06+'Port Shepstone'!H8*0.03+Other!H8*0.03)/71*100 -> 0 | L8: =(Durban!J8*0.57+PMB!J8*0.08+RBay!J8*0.06+'Port Shepstone'!J8*0.03+Other!J8*0.03)/71*100 -> 0 | N8: =(Durban!L8*0.57+PMB!L8*0.08+RBay!L8*0.06+'Port Shepstone'!L8*0.03+Other!L8*0.03)/71*100 -> 0 | P8: =(Durban!N8*0.57+PMB!N8*0.08+RBay!N8*0.06+'Port Shepstone'!N8*0.03+Other!N8*0.03)/71*100 -> 0 | R8: =(Durban!P8*0.57+PMB!P8*0.08+RBay!P8*0.06+'Port Shepstone'!P8*0.03+Other!P8*0.03)/71*100 -> 0
A9: Manufacturing | D9: =(Durban!B9*0.57+PMB!B9*0.08+RBay!B9*0.06+'Port Shepstone'!B9*0.03+Other!B9*0.03)/71*100 -> 10.477465 | F9: =(Durban!D9*0.57+PMB!D9*0.08+RBay!D9*0.06+'Port Shepstone'!D9*0.03+Other!D9*0.03)/71*100 -> 24.469014 | H9: =(Durban!F9*0.57+PMB!F9*0.08+RBay!F9*0.06+'Port Shepstone'!F9*0.03+Other!F9*0.03)/71*100 -> 25.976056 | J9: =(Durban!H9*0.57+PMB!H9*0.08+RBay!H9*0.06+'Port Shepstone'!H9*0.03+Other!H9*0.03)/71*100 -> 21.090141 | L9: =(Durban!J9*0.57+PMB!J9*0.08+RBay!J9*0.06+'Port Shepstone'!J9*0.03+Other!J9*0.03)/71*100 -> 19.561972 | N9: =(Durban!L9*0.57+PMB!L9*0.08+RBay!L9*0.06+'Port Shepstone'!L9*0.03+Other!L9*0.03)/71*100 -> 25.378873 | P9: =(Durban!N9*0.57+PMB!N9*0.08+RBay!N9*0.06+'Port Shepstone'!N9*0.03+Other!N9*0.03)/71*100 -> 27.521127 | R9: =(Durban!P9*0.57+PMB!P9*0.08+RBay!P9*0.06+'Port Shepstone'!P9*0.03+Other!P9*0.03)/71*100 -> 20.895634
A10: Electricity, Gas & Water | F10: =(Durban!D10*0.57+PMB!D10*0.08+RBay!D10*0.06+'Port Shepstone'!D10*0.03+Other!D10*0.03)/71*100 -> 0.75633803 | H10: =(Durban!F10*0.57+PMB!F10*0.08+RBay!F10*0.06+'Port Shepstone'!F10*0.03+Other!F10*0.03)/71*100 -> 2.6760563 | J10: =(Durban!H10*0.57+PMB!H10*0.08+RBay!H10*0.06+'Port Shepstone'!H10*0.03+Other!H10*0.03)/71*100 -> 0.56619718 | L10: =(Durban!J10*0.57+PMB!J10*0.08+RBay!J10*0.06+'Port Shepstone'!J10*0.03+Other!J10*0.03)/71*100 -> 0.36056338 | N10: =(Durban!L10*0.57+PMB!L10*0.08+RBay!L10*0.06+'Port Shepstone'!L10*0.03+Other!L10*0.03)/71*100 -> 0.88309859 | P10: =(Durban!N10*0.57+PMB!N10*0.08+RBay!N10*0.06+'Port Shepstone'!N10*0.03+Other!N10*0.03)/71*100 -> 1.6478873 | R10: =(Durban!P10*0.57+PMB!P10*0.08+RBay!P10*0.06+'Port Shepstone'!P10*0.03+Other!P10*0.03)/71*100 -> 0
A11: Construction | D11: =(Durban!B11*0.57+PMB!B11*0.08+RBay!B11*0.06+'Port Shepstone'!B11*0.03+Other!B11*0.03)/71*100 -> 1.056338 | F11: =(Durban!D11*0.57+PMB!D11*0.08+RBay!D11*0.06+'Port Shepstone'!D11*0.03+Other!D11*0.03)/71*100 -> 5.2267606 | H11: =(Durban!F11*0.57+PMB!F11*0.08+RBay!F11*0.06+'Port Shepstone'!F11*0.03+Other!F11*0.03)/71*100 -> 5.984507 | J11: =(Durban!H11*0.57+PMB!H11*0.08+RBay!H11*0.06+'Port Shepstone'!H11*0.03+Other!H11*0.03)/71*100 -> 9.3774648 | L11: =(Durban!J11*0.57+PMB!J11*0.08+RBay!J11*0.06+'Port Shepstone'!J11*0.03+Other!J11*0.03)/71*100 -> 3.4112676 | N11: =(Durban!L11*0.57+PMB!L11*0.08+RBay!L11*0.06+'Port Shepstone'!L11*0.03+Other!L11*0.03)/71*100 -> 4.5197183 | P11: =(Durban!N11*0.57+PMB!N11*0.08+RBay!N11*0.06+'Port Shepstone'!N11*0.03+Other!N11*0.03)/71*100 -> 5.8028169 | R11: =(Durban!P11*0.57+PMB!P11*0.08+RBay!P11*0.06+'Port Shepstone'!P11*0.03+Other!P11*0.03)/71*100 -> 6.3146479
A12: Educational Institutions | D12: =(Durban!B12*0.57+PMB!B12*0.08+RBay!B12*0.06+'Port Shepstone'!B12*0.03+Other!B12*0.03)/71*100 -> 4.5014085 | F12: =(Durban!D12*0.57+PMB!D12*0.08+RBay!D12*0.06+'Port Shepstone'!D12*0.03+Other!D12*0.03)/71*100 -> 5.5690141 | H12: =(Durban!F12*0.57+PMB!F12*0.08+RBay!F12*0.06+'Port Shepstone'!F12*0.03+Other!F12*0.03)/71*100 -> 2.5239437 | J12: =(Durban!H12*0.57+PMB!H12*0.08+RBay!H12*0.06+'Port Shepstone'!H12*0.03+Other!H12*0.03)/71*100 -> 3.2112676 | L12: =(Durban!J12*0.57+PMB!J12*0.08+RBay!J12*0.06+'Port Shepstone'!J12*0.03+Other!J12*0.03)/71*100 -> 2.1112676 | N12: =(Durban!L12*0.57+PMB!L12*0.08+RBay!L12*0.06+'Port Shepstone'!L12*0.03+Other!L12*0.03)/71*100 -> 3.5140845 | P12: =(Durban!N12*0.57+PMB!N12*0.08+RBay!N12*0.06+'Port Shepstone'!N12*0.03+Other!N12*0.03)/71*100 -> 2.4084507 | R12: =(Durban!P12*0.57+PMB!P12*0.08+RBay!P12*0.06+'Port Shepstone'!P12*0.03+Other!P12*0.03)/71*100 -> 0
A13: Tourism, Catering & Accommodation | D13: =(Durban!B13*0.57+PMB!B13*0.08+RBay!B13*0.06+'Port Shepstone'!B13*0.03+Other!B13*0.03)/71*100 -> 12.397183 | F13: =(Durban!D13*0.57+PMB!D13*0.08+RBay!D13*0.06+'Port Shepstone'!D13*0.03+Other!D13*0.03)/71*100 -> 9.8056338 | H13: =(Durban!F13*0.57+PMB!F13*0.08+RBay!F13*0.06+'Port Shepstone'!F13*0.03+Other!F13*0.03)/71*100 -> 9.628169 | J13: =(Durban!H13*0.57+PMB!H13*0.08+RBay!H13*0.06+'Port Shepstone'!H13*0.03+Other!H13*0.03)/71*100 -> 3.1070423 | L13: =(Durban!J13*0.57+PMB!J13*0.08+RBay!J13*0.06+'Port Shepstone'!J13*0.03+Other!J13*0.03)/71*100 -> 4.8295775 | N13: =(Durban!L13*0.57+PMB!L13*0.08+RBay!L13*0.06+'Port Shepstone'!L13*0.03+Other!L13*0.03)/71*100 -> 6.7887324 | P13: =(Durban!N13*0.57+PMB!N13*0.08+RBay!N13*0.06+'Port Shepstone'!N13*0.03+Other!N13*0.03)/71*100 -> 4.7605634 | R13: =(Durban!P13*0.57+PMB!P13*0.08+RBay!P13*0.06+'Port Shepstone'!P13*0.03+Other!P13*0.03)/71*100 -> 0
A14: Wholesale & Retail | D14: =(Durban!B14*0.57+PMB!B14*0.08+RBay!B14*0.06+'Port Shepstone'!B14*0.03+Other!B14*0.03)/71*100 -> 2.8985915 | F14: =(Durban!D14*0.57+PMB!D14*0.08+RBay!D14*0.06+'Port Shepstone'!D14*0.03+Other!D14*0.03)/71*100 -> 11.273239 | H14: =(Durban!F14*0.57+PMB!F14*0.08+RBay!F14*0.06+'Port Shepstone'!F14*0.03+Other!F14*0.03)/71*100 -> 8.2915493 | J14: =(Durban!H14*0.57+PMB!H14*0.08+RBay!H14*0.06+'Port Shepstone'!H14*0.03+Other!H14*0.03)/71*100 -> 8.6338028 | L14: =(Durban!J14*0.57+PMB!J14*0.08+RBay!J14*0.06+'Port Shepstone'!J14*0.03+Other!J14*0.03)/71*100 -> 13.976056 | N14: =(Durban!L14*0.57+PMB!L14*0.08+RBay!L14*0.06+'Port Shepstone'!L14*0.03+Other!L14*0.03)/71*100 -> 7.5676056 | P14: =(Durban!N14*0.57+PMB!N14*0.08+RBay!N14*0.06+'Port Shepstone'!N14*0.03+Other!N14*0.03)/71*100 -> 8.1690141 | R14: =(Durban!P14*0.57+PMB!P14*0.08+RBay!P14*0.06+'Port Shepstone'!P14*0.03+Other!P14*0.03)/71*100 -> 20.497606
A15: Vehicle Sales | J15: =(Durban!H15*0.57+PMB!H15*0.08+RBay!H15*0.06+'Port Shepstone'!H15*0.03+Other!H15*0.03)/71*100 -> 0 | L15: =(Durban!J15*0.57+PMB!J15*0.08+RBay!J15*0.06+'Port Shepstone'!J15*0.03+Other!J15*0.03)/71*100 -> 0.8028169 | N15: =(Durban!L15*0.57+PMB!L15*0.08+RBay!L15*0.06+'Port Shepstone'!L15*0.03+Other!L15*0.03)/71*100 -> 1.1197183 | P15: =(Durban!N15*0.57+PMB!N15*0.08+RBay!N15*0.06+'Port Shepstone'!N15*0.03+Other!N15*0.03)/71*100 -> 1.1408451 | R15: =(Durban!P15*0.57+PMB!P15*0.08+RBay!P15*0.06+'Port Shepstone'!P15*0.03+Other!P15*0.03)/71*100 -> 0
A16: Transport, Storage & Communications | D16: =(Durban!B16*0.57+PMB!B16*0.08+RBay!B16*0.06+'Port Shepstone'!B16*0.03+Other!B16*0.03)/71*100 -> 0.58732394 | F16: =(Durban!D16*0.57+PMB!D16*0.08+RBay!D16*0.06+'Port Shepstone'!D16*0.03+Other!D16*0.03)/71*100 -> 3.8535211 | H16: =(Durban!F16*0.57+PMB!F16*0.08+RBay!F16*0.06+'Port Shepstone'!F16*0.03+Other!F16*0.03)/71*100 -> 5.9408451 | J16: =(Durban!H16*0.57+PMB!H16*0.08+RBay!H16*0.06+'Port Shepstone'!H16*0.03+Other!H16*0.03)/71*100 -> 1.6056338 | L16: =(Durban!J16*0.57+PMB!J16*0.08+RBay!J16*0.06+'Port Shepstone'!J16*0.03+Other!J16*0.03)/71*100 -> 8.2929577 | N16: =(Durban!L16*0.57+PMB!L16*0.08+RBay!L16*0.06+'Port Shepstone'!L16*0.03+Other!L16*0.03)/71*100 -> 8.8309859 | P16: =(Durban!N16*0.57+PMB!N16*0.08+RBay!N16*0.06+'Port Shepstone'!N16*0.03+Other!N16*0.03)/71*100 -> 8.8309859 | R16: =(Durban!P16*0.57+PMB!P16*0.08+RBay!P16*0.06+'Port Shepstone'!P16*0.03+Other!P16*0.03)/71*100 -> 1.1859155
A17: Banks & Financial | D17: =(Durban!B17*0.57+PMB!B17*0.08+RBay!B17*0.06+'Port Shepstone'!B17*0.03+Other!B17*0.03)/71*100 -> 3.4521127 | F17: =(Durban!D17*0.57+PMB!D17*0.08+RBay!D17*0.06+'Port Shepstone'!D17*0.03+Other!D17*0.03)/71*100 -> 2.8985915 | H17: =(Durban!F17*0.57+PMB!F17*0.08+RBay!F17*0.06+'Port Shepstone'!F17*0.03+Other!F17*0.03)/71*100 -> 3.4098592 | J17: =(Durban!H17*0.57+PMB!H17*0.08+RBay!H17*0.06+'Port Shepstone'!H17*0.03+Other!H17*0.03)/71*100 -> 6.1859155 | L17: =(Durban!J17*0.57+PMB!J17*0.08+RBay!J17*0.06+'Port Shepstone'!J17*0.03+Other!J17*0.03)/71*100 -> 1.343662 | N17: =(Durban!L17*0.57+PMB!L17*0.08+RBay!L17*0.06+'Port Shepstone'!L17*0.03+Other!L17*0.03)/71*100 -> 2.6309859 | P17: =(Durban!N17*0.57+PMB!N17*0.08+RBay!N17*0.06+'Port Shepstone'!N17*0.03+Other!N17*0.03)/71*100 -> 4.056338 | R17: =(Durban!P17*0.57+PMB!P17*0.08+RBay!P17*0.06+'Port Shepstone'!P17*0.03+Other!P17*0.03)/71*100 -> 8.8811268
A18: Legal | D18: =(Durban!B18*0.57+PMB!B18*0.08+RBay!B18*0.06+'Port Shepstone'!B18*0.03+Other!B18*0.03)/71*100 -> 2.9788732 | F18: =(Durban!D18*0.57+PMB!D18*0.08+RBay!D18*0.06+'Port Shepstone'!D18*0.03+Other!D18*0.03)/71*100 -> 1.715493 | J18: =(Durban!H18*0.57+PMB!H18*0.08+RBay!H18*0.06+'Port Shepstone'!H18*0.03+Other!H18*0.03)/71*100 -> 1.9746479 | L18: =(Durban!J18*0.57+PMB!J18*0.08+RBay!J18*0.06+'Port Shepstone'!J18*0.03+Other!J18*0.03)/71*100 -> 0.58591549 | N18: =(Durban!L18*0.57+PMB!L18*0.08+RBay!L18*0.06+'Port Shepstone'!L18*0.03+Other!L18*0.03)/71*100 -> 0.61690141 | P18: =(Durban!N18*0.57+PMB!N18*0.08+RBay!N18*0.06+'Port Shepstone'!N18*0.03+Other!N18*0.03)/71*100 -> 0.98591549 | R18: =(Durban!P18*0.57+PMB!P18*0.08+RBay!P18*0.06+'Port Shepstone'!P18*0.03+Other!P18*0.03)/71*100 -> 0.78873239
A19: Insurance , Pension & Medical Aid Funds | J19: =(Durban!H19*0.57+PMB!H19*0.08+RBay!H19*0.06+'Port Shepstone'!H19*0.03+Other!H19*0.03)/71*100 -> 0.8028169 | L19: =(Durban!J19*0.57+PMB!J19*0.08+RBay!J19*0.06+'Port Shepstone'!J19*0.03+Other!J19*0.03)/71*100 -> 0.18028169 | N19: =(Durban!L19*0.57+PMB!L19*0.08+RBay!L19*0.06+'Port Shepstone'!L19*0.03+Other!L19*0.03)/71*100 -> 3.0633803 | P19: =(Durban!N19*0.57+PMB!N19*0.08+RBay!N19*0.06+'Port Shepstone'!N19*0.03+Other!N19*0.03)/71*100 -> 1.1408451 | R19: =(Durban!P19*0.57+PMB!P19*0.08+RBay!P19*0.06+'Port Shepstone'!P19*0.03+Other!P19*0.03)/71*100 -> 0
A20: Real Estate | D20: =(Durban!B20*0.57+PMB!B20*0.08+RBay!B20*0.06+'Port Shepstone'!B20*0.03+Other!B20*0.03)/71*100 -> 0.58732394 | F20: =(Durban!D20*0.57+PMB!D20*0.08+RBay!D20*0.06+'Port Shepstone'!D20*0.03+Other!D20*0.03)/71*100 -> 2.5690141 | H20: =(Durban!F20*0.57+PMB!F20*0.08+RBay!F20*0.06+'Port Shepstone'!F20*0.03+Other!F20*0.03)/71*100 -> 2.3788732 | J20: =(Durban!H20*0.57+PMB!H20*0.08+RBay!H20*0.06+'Port Shepstone'!H20*0.03+Other!H20*0.03)/71*100 -> 3.8169014 | L20: =(Durban!J20*0.57+PMB!J20*0.08+RBay!J20*0.06+'Port Shepstone'!J20*0.03+Other!J20*0.03)/71*100 -> 0.18028169 | N20: =(Durban!L20*0.57+PMB!L20*0.08+RBay!L20*0.06+'Port Shepstone'!L20*0.03+Other!L20*0.03)/71*100 -> 0.48450704 | P20: =(Durban!N20*0.57+PMB!N20*0.08+RBay!N20*0.06+'Port Shepstone'!N20*0.03+Other!N20*0.03)/71*100 -> 4.8169014 | R20: =(Durban!P20*0.57+PMB!P20*0.08+RBay!P20*0.06+'Port Shepstone'!P20*0.03+Other!P20*0.03)/71*100 -> 0.99211268
A21: Business Services | D21: =(Durban!B21*0.57+PMB!B21*0.08+RBay!B21*0.06+'Port Shepstone'!B21*0.03+Other!B21*0.03)/71*100 -> 28.666197 | F21: =(Durban!D21*0.57+PMB!D21*0.08+RBay!D21*0.06+'Port Shepstone'!D21*0.03+Other!D21*0.03)/71*100 -> 12.871831 | H21: =(Durban!F21*0.57+PMB!F21*0.08+RBay!F21*0.06+'Port Shepstone'!F21*0.03+Other!F21*0.03)/71*100 -> 13.488732 | J21: =(Durban!H21*0.57+PMB!H21*0.08+RBay!H21*0.06+'Port Shepstone'!H21*0.03+Other!H21*0.03)/71*100 -> 11.608451 | L21: =(Durban!J21*0.57+PMB!J21*0.08+RBay!J21*0.06+'Port Shepstone'!J21*0.03+Other!J21*0.03)/71*100 -> 12.992958 | N21: =(Durban!L21*0.57+PMB!L21*0.08+RBay!L21*0.06+'Port Shepstone'!L21*0.03+Other!L21*0.03)/71*100 -> 8.6295775 | P21: =(Durban!N21*0.57+PMB!N21*0.08+RBay!N21*0.06+'Port Shepstone'!N21*0.03+Other!N21*0.03)/71*100 -> 5.4788732 | R21: =(Durban!P21*0.57+PMB!P21*0.08+RBay!P21*0.06+'Port Shepstone'!P21*0.03+Other!P21*0.03)/71*100 -> 0.3943662
A22: Central Government | J22: =(Durban!H22*0.57+PMB!H22*0.08+RBay!H22*0.06+'Port Shepstone'!H22*0.03+Other!H22*0.03)/71*100 -> 0 | L22: =(Durban!J22*0.57+PMB!J22*0.08+RBay!J22*0.06+'Port Shepstone'!J22*0.03+Other!J22*0.03)/71*100 -> 0 | N22: =(Durban!L22*0.57+PMB!L22*0.08+RBay!L22*0.06+'Port Shepstone'!L22*0.03+Other!L22*0.03)/71*100 -> 0 | P22: =(Durban!N22*0.57+PMB!N22*0.08+RBay!N22*0.06+'Port Shepstone'!N22*0.03+Other!N22*0.03)/71*100 -> 0 | R22: =(Durban!P22*0.57+PMB!P22*0.08+RBay!P22*0.06+'Port Shepstone'!P22*0.03+Other!P22*0.03)/71*100 -> 0
A23: Local Government | J23: =(Durban!H23*0.57+PMB!H23*0.08+RBay!H23*0.06+'Port Shepstone'!H23*0.03+Other!H23*0.03)/71*100 -> 0 | L23: =(Durban!J23*0.57+PMB!J23*0.08+RBay!J23*0.06+'Port Shepstone'!J23*0.03+Other!J23*0.03)/71*100 -> 0.4056338 | N23: =(Durban!L23*0.57+PMB!L23*0.08+RBay!L23*0.06+'Port Shepstone'!L23*0.03+Other!L23*0.03)/71*100 -> 0 | P23: =(Durban!N23*0.57+PMB!N23*0.08+RBay!N23*0.06+'Port Shepstone'!N23*0.03+Other!N23*0.03)/71*100 -> 0 | R23: =(Durban!P23*0.57+PMB!P23*0.08+RBay!P23*0.06+'Port Shepstone'!P23*0.03+Other!P23*0.03)/71*100 -> 0
A24: Provincial Government | D24: =(Durban!B24*0.57+PMB!B24*0.08+RBay!B24*0.06+'Port Shepstone'!B24*0.03+Other!B24*0.03)/71*100 -> 0 | F24: =(Durban!D24*0.57+PMB!D24*0.08+RBay!D24*0.06+'Port Shepstone'!D24*0.03+Other!D24*0.03)/71*100 -> 1.284507 | H24: =(Durban!F24*0.57+PMB!F24*0.08+RBay!F24*0.06+'Port Shepstone'!F24*0.03+Other!F24*0.03)/71*100 -> 0.72253521 | J24: =(Durban!H24*0.57+PMB!H24*0.08+RBay!H24*0.06+'Port Shepstone'!H24*0.03+Other!H24*0.03)/71*100 -> 0 | L24: =(Durban!J24*0.57+PMB!J24*0.08+RBay!J24*0.06+'Port Shepstone'!J24*0.03+Other!J24*0.03)/71*100 -> 0 | N24: =(Durban!L24*0.57+PMB!L24*0.08+RBay!L24*0.06+'Port Shepstone'!L24*0.03+Other!L24*0.03)/71*100 -> 0 | P24: =(Durban!N24*0.57+PMB!N24*0.08+RBay!N24*0.06+'Port Shepstone'!N24*0.03+Other!N24*0.03)/71*100 -> 0 | R24: =(Durban!P24*0.57+PMB!P24*0.08+RBay!P24*0.06+'Port Shepstone'!P24*0.03+Other!P24*0.03)/71*100 -> 0
A25: Social & Personal Services | D25: =(Durban!B25*0.57+PMB!B25*0.08+RBay!B25*0.06+'Port Shepstone'!B25*0.03+Other!B25*0.03)/71*100 -> 3.2450704 | F25: =(Durban!D25*0.57+PMB!D25*0.08+RBay!D25*0.06+'Port Shepstone'!D25*0.03+Other!D25*0.03)/71*100 -> 3.7774648 | H25: =(Durban!F25*0.57+PMB!F25*0.08+RBay!F25*0.06+'Port Shepstone'!F25*0.03+Other!F25*0.03)/71*100 -> 1.5253521 | J25: =(Durban!H25*0.57+PMB!H25*0.08+RBay!H25*0.06+'Port Shepstone'!H25*0.03+Other!H25*0.03)/71*100 -> 0 | L25: =(Durban!J25*0.57+PMB!J25*0.08+RBay!J25*0.06+'Port Shepstone'!J25*0.03+Other!J25*0.03)/71*100 -> 2.5084507 | N25: =(Durban!L25*0.57+PMB!L25*0.08+RBay!L25*0.06+'Port Shepstone'!L25*0.03+Other!L25*0.03)/71*100 -> 1.2633803 | P25: =(Durban!N25*0.57+PMB!N25*0.08+RBay!N25*0.06+'Port Shepstone'!N25*0.03+Other!N25*0.03)/71*100 -> 0.98591549 | R25: =(Durban!P25*0.57+PMB!P25*0.08+RBay!P25*0.06+'Port Shepstone'!P25*0.03+Other!P25*0.03)/71*100 -> 0
A26: IT | D26: =(Durban!B26*0.57+PMB!B26*0.08+RBay!B26*0.06+'Port Shepstone'!B26*0.03+Other!B26*0.03)/71*100 -> 5.7887324 | F26: =(Durban!D26*0.57+PMB!D26*0.08+RBay!D26*0.06+'Port Shepstone'!D26*0.03+Other!D26*0.03)/71*100 -> 5.7253521 | H26: =(Durban!F26*0.57+PMB!F26*0.08+RBay!F26*0.06+'Port Shepstone'!F26*0.03+Other!F26*0.03)/71*100 -> 5.3830986 | J26: =(Durban!H26*0.57+PMB!H26*0.08+RBay!H26*0.06+'Port Shepstone'!H26*0.03+Other!H26*0.03)/71*100 -> 4.6197183 | L26: =(Durban!J26*0.57+PMB!J26*0.08+RBay!J26*0.06+'Port Shepstone'!J26*0.03+Other!J26*0.03)/71*100 -> 0.4056338 | N26: =(Durban!L26*0.57+PMB!L26*0.08+RBay!L26*0.06+'Port Shepstone'!L26*0.03+Other!L26*0.03)/71*100 -> 3.7690141 | P26: =(Durban!N26*0.57+PMB!N26*0.08+RBay!N26*0.06+'Port Shepstone'!N26*0.03+Other!N26*0.03)/71*100 -> 5.3380282 | R26: =(Durban!P26*0.57+PMB!P26*0.08+RBay!P26*0.06+'Port Shepstone'!P26*0.03+Other!P26*0.03)/71*100 -> 0
A27: Taxis | J27: =(Durban!H27*0.57+PMB!H27*0.08+RBay!H27*0.06+'Port Shepstone'!H27*0.03+Other!H27*0.03)/71*100 -> 0 | L27: =(Durban!J27*0.57+PMB!J27*0.08+RBay!J27*0.06+'Port Shepstone'!J27*0.03+Other!J27*0.03)/71*100 -> 0 | N27: =(Durban!L27*0.57+PMB!L27*0.08+RBay!L27*0.06+'Port Shepstone'!L27*0.03+Other!L27*0.03)/71*100 -> 0 | P27: =(Durban!N27*0.57+PMB!N27*0.08+RBay!N27*0.06+'Port Shepstone'!N27*0.03+Other!N27*0.03)/71*100 -> 0.33802817 | R27: =(Durban!P27*0.57+PMB!P27*0.08+RBay!P27*0.06+'Port Shepstone'!P27*0.03+Other!P27*0.03)/71*100 -> 0
A28: Other | D28: =(Durban!B28*0.57+PMB!B28*0.08+RBay!B28*0.06+'Port Shepstone'!B28*0.03+Other!B28*0.03)/71*100 -> 22.209859 | F28: =(Durban!D28*0.57+PMB!D28*0.08+RBay!D28*0.06+'Port Shepstone'!D28*0.03+Other!D28*0.03)/71*100 -> 16.156338 | H28: =(Durban!F28*0.57+PMB!F28*0.08+RBay!F28*0.06+'Port Shepstone'!F28*0.03+Other!F28*0.03)/71*100 -> 17.68169 | J28: =(Durban!H28*0.57+PMB!H28*0.08+RBay!H28*0.06+'Port Shepstone'!H28*0.03+Other!H28*0.03)/71*100 -> 23.397183 | L28: =(Durban!J28*0.57+PMB!J28*0.08+RBay!J28*0.06+'Port Shepstone'!J28*0.03+Other!J28*0.03)/71*100 -> 24.7 | N28: =(Durban!L28*0.57+PMB!L28*0.08+RBay!L28*0.06+'Port Shepstone'!L28*0.03+Other!L28*0.03)/71*100 -> 20.288732 | P28: =(Durban!N28*0.57+PMB!N28*0.08+RBay!N28*0.06+'Port Shepstone'!N28*0.03+Other!N28*0.03)/71*100 -> 15.577465 | R28: =(Durban!P28*0.57+PMB!P28*0.08+RBay!P28*0.06+'Port Shepstone'!P28*0.03+Other!P28*0.03)/71*100 -> 33.561831
A30: How many employees do you have?
A31: 0 - 10 | D31: =(Durban!B31*0.57+PMB!B31*0.08+RBay!B31*0.06+'Port Shepstone'!B31*0.03+Other!B31*0.03)/71*100 -> 65.138028 | E31: =D31 -> 65.138028 | F31: =(Durban!D31*0.57+PMB!D31*0.08+RBay!D31*0.06+'Port Shepstone'!D31*0.03+Other!D31*0.03)/71*100 -> 49.243662 | G31: =F31 -> 49.243662 | H31: =(Durban!F31*0.57+PMB!F31*0.08+RBay!F31*0.06+'Port Shepstone'!F31*0.03+Other!F31*0.03)/71*100 -> 39.649296 | I31: =H31 -> 39.649296 | J31: =(Durban!H31*0.57+PMB!H31*0.08+RBay!H31*0.06+'Port Shepstone'!H31*0.03+Other!H31*0.03)/71*100 -> 36.047887 | K31: =J31 -> 36.047887 | L31: =(Durban!J31*0.57+PMB!J31*0.08+RBay!J31*0.06+'Port Shepstone'!J31*0.03+Other!J31*0.03)/71*100 -> 20.469014 | M31: =L31 -> 20.469014 | N31: =(Durban!L31*0.57+PMB!L31*0.08+RBay!L31*0.06+'Port Shepstone'!L31*0.03+Other!L31*0.03)/71*100 -> 35.812676 | O31: =N31 -> 35.812676 | P31: =(Durban!N31*0.57+PMB!N31*0.08+RBay!N31*0.06+'Port Shepstone'!N31*0.03+Other!N31*0.03)/71*100 -> 39.056338 | Q31: =P31 -> 39.056338 | R31: =(Durban!P31*0.57+PMB!P31*0.08+RBay!P31*0.06+'Port Shepstone'!P31*0.03+Other!P31*0.03)/71*100 -> 33.901408 | S31: =R31 -> 33.901408
A32: 11. - 30 | D32: =(Durban!B32*0.57+PMB!B32*0.08+RBay!B32*0.06+'Port Shepstone'!B32*0.03+Other!B32*0.03)/71*100 -> 20.198592 | E32: =E31+D32 -> 85.33662 | F32: =(Durban!D32*0.57+PMB!D32*0.08+RBay!D32*0.06+'Port Shepstone'!D32*0.03+Other!D32*0.03)/71*100 -> 28.539437 | G32: =G31+F32 -> 77.783099 | H32: =(Durban!F32*0.57+PMB!F32*0.08+RBay!F32*0.06+'Port Shepstone'!F32*0.03+Other!F32*0.03)/71*100 -> 26.239437 | I32: =I31+H32 -> 65.888732 | J32: =(Durban!H32*0.57+PMB!H32*0.08+RBay!H32*0.06+'Port Shepstone'!H32*0.03+Other!H32*0.03)/71*100 -> 30.678873 | K32: =K31+J32 -> 66.726761 | L32: =(Durban!J32*0.57+PMB!J32*0.08+RBay!J32*0.06+'Port Shepstone'!J32*0.03+Other!J32*0.03)/71*100 -> 4.9549296 | M32: =M31+L32 -> 25.423944 | N32: =(Durban!L32*0.57+PMB!L32*0.08+RBay!L32*0.06+'Port Shepstone'!L32*0.03+Other!L32*0.03)/71*100 -> 30.042254 | O32: =O31+N32 -> 65.85493 | P32: =(Durban!N32*0.57+PMB!N32*0.08+RBay!N32*0.06+'Port Shepstone'!N32*0.03+Other!N32*0.03)/71*100 -> 27.760563 | Q32: =Q31+P32 -> 66.816901 | R32: =(Durban!P32*0.57+PMB!P32*0.08+RBay!P32*0.06+'Port Shepstone'!P32*0.03+Other!P32*0.03)/71*100 -> 18.295775 | S32: =S31+R32 -> 52.197183
A33: 31 - 50 | D33: =(Durban!B33*0.57+PMB!B33*0.08+RBay!B33*0.06+'Port Shepstone'!B33*0.03+Other!B33*0.03)/71*100 -> 7.9929577 | E33: =E32+D33 -> 93.329577 | F33: =(Durban!D33*0.57+PMB!D33*0.08+RBay!D33*0.06+'Port Shepstone'!D33*0.03+Other!D33*0.03)/71*100 -> 8.0126761 | G33: =G32+F33 -> 85.795775 | H33: =(Durban!F33*0.57+PMB!F33*0.08+RBay!F33*0.06+'Port Shepstone'!F33*0.03+Other!F33*0.03)/71*100 -> 8.0929577 | I33: =I32+H33 -> 73.98169 | J33: =(Durban!H33*0.57+PMB!H33*0.08+RBay!H33*0.06+'Port Shepstone'!H33*0.03+Other!H33*0.03)/71*100 -> 6.8507042 | K33: =K32+J33 -> 73.577465 | L33: =(Durban!J33*0.57+PMB!J33*0.08+RBay!J33*0.06+'Port Shepstone'!J33*0.03+Other!J33*0.03)/71*100 -> 25.014085 | M33: =M32+L33 -> 50.438028 | N33: =(Durban!L33*0.57+PMB!L33*0.08+RBay!L33*0.06+'Port Shepstone'!L33*0.03+Other!L33*0.03)/71*100 -> 6.028169 | O33: =O32+N33 -> 71.883099 | P33: =(Durban!N33*0.57+PMB!N33*0.08+RBay!N33*0.06+'Port Shepstone'!N33*0.03+Other!N33*0.03)/71*100 -> 10.56338 | Q33: =Q32+P33 -> 77.380282 | R33: =(Durban!P33*0.57+PMB!P33*0.08+RBay!P33*0.06+'Port Shepstone'!P33*0.03+Other!P33*0.03)/71*100 -> 10.022535 | S33: =S32+R33 -> 62.219718
A34: 51 - 100 | D34: =(Durban!B34*0.57+PMB!B34*0.08+RBay!B34*0.06+'Port Shepstone'!B34*0.03+Other!B34*0.03)/71*100 -> 2.3464789 | E34: =E33+D34 -> 95.676056 | F34: =(Durban!D34*0.57+PMB!D34*0.08+RBay!D34*0.06+'Port Shepstone'!D34*0.03+Other!D34*0.03)/71*100 -> 8.0521127 | G34: =G33+F34 -> 93.847887 | H34: =(Durban!F34*0.57+PMB!F34*0.08+RBay!F34*0.06+'Port Shepstone'!F34*0.03+Other!F34*0.03)/71*100 -> 9.9577465 | I34: =I33+H34 -> 83.939437 | J34: =(Durban!H34*0.57+PMB!H34*0.08+RBay!H34*0.06+'Port Shepstone'!H34*0.03+Other!H34*0.03)/71*100 -> 8.3183099 | K34: =K33+J34 -> 81.895775 | L34: =(Durban!J34*0.57+PMB!J34*0.08+RBay!J34*0.06+'Port Shepstone'!J34*0.03+Other!J34*0.03)/71*100 -> 13.398592 | M34: =M33+L34 -> 63.83662 | N34: =(Durban!L34*0.57+PMB!L34*0.08+RBay!L34*0.06+'Port Shepstone'!L34*0.03+Other!L34*0.03)/71*100 -> 9.028169 | O34: =O33+N34 -> 80.911268 | P34: =(Durban!N34*0.57+PMB!N34*0.08+RBay!N34*0.06+'Port Shepstone'!N34*0.03+Other!N34*0.03)/71*100 -> 6.1408451 | Q34: =Q33+P34 -> 83.521127 | R34: =(Durban!P34*0.57+PMB!P34*0.08+RBay!P34*0.06+'Port Shepstone'!P34*0.03+Other!P34*0.03)/71*100 -> 6.7887324 | S34: =S33+R34 -> 69.008451
A35: 101 - 200 | D35: =(Durban!B35*0.57+PMB!B35*0.08+RBay!B35*0.06+'Port Shepstone'!B35*0.03+Other!B35*0.03)/71*100 -> 1.3098592 | E35: =E34+D35 -> 96.985915 | F35: =(Durban!D35*0.57+PMB!D35*0.08+RBay!D35*0.06+'Port Shepstone'!D35*0.03+Other!D35*0.03)/71*100 -> 7.9267606 | G35: =G34+F35 -> 101.77465 | H35: =(Durban!F35*0.57+PMB!F35*0.08+RBay!F35*0.06+'Port Shepstone'!F35*0.03+Other!F35*0.03)/71*100 -> 10.735211 | I35: =I34+H35 -> 94.674648 | J35: =(Durban!H35*0.57+PMB!H35*0.08+RBay!H35*0.06+'Port Shepstone'!H35*0.03+Other!H35*0.03)/71*100 -> 1.3690141 | K35: =K34+J35 -> 83.264789 | L35: =(Durban!J35*0.57+PMB!J35*0.08+RBay!J35*0.06+'Port Shepstone'!J35*0.03+Other!J35*0.03)/71*100 -> 11.840845 | M35: =M34+L35 -> 75.677465 | N35: =(Durban!L35*0.57+PMB!L35*0.08+RBay!L35*0.06+'Port Shepstone'!L35*0.03+Other!L35*0.03)/71*100 -> 8.9802817 | O35: =O34+N35 -> 89.891549 | P35: =(Durban!N35*0.57+PMB!N35*0.08+RBay!N35*0.06+'Port Shepstone'!N35*0.03+Other!N35*0.03)/71*100 -> 9.3098592 | Q35: =Q34+P35 -> 92.830986 | R35: =(Durban!P35*0.57+PMB!P35*0.08+RBay!P35*0.06+'Port Shepstone'!P35*0.03+Other!P35*0.03)/71*100 -> 18.752113 | S35: =S34+R35 -> 87.760563
A36: > 200 | D36: =(Durban!B36*0.57+PMB!B36*0.08+RBay!B36*0.06+'Port Shepstone'!B36*0.03+Other!B36*0.03)/71*100 -> 12.128169 | E36: =E35+D36 -> 109.11408 | F36: =(Durban!D36*0.57+PMB!D36*0.08+RBay!D36*0.06+'Port Shepstone'!D36*0.03+Other!D36*0.03)/71*100 -> 6.6760563 | G36: =G35+F36 -> 108.4507 | H36: =(Durban!F36*0.57+PMB!F36*0.08+RBay!F36*0.06+'Port Shepstone'!F36*0.03+Other!F36*0.03)/71*100 -> 13.776056 | I36: =I35+H36 -> 108.4507 | J36: =(Durban!H36*0.57+PMB!H36*0.08+RBay!H36*0.06+'Port Shepstone'!H36*0.03+Other!H36*0.03)/71*100 -> 16.75493 | K36: =K35+J36 -> 100.01972 | L36: =(Durban!J36*0.57+PMB!J36*0.08+RBay!J36*0.06+'Port Shepstone'!J36*0.03+Other!J36*0.03)/71*100 -> 24.391549 | M36: =M35+L36 -> 100.06901 | N36: =(Durban!L36*0.57+PMB!L36*0.08+RBay!L36*0.06+'Port Shepstone'!L36*0.03+Other!L36*0.03)/71*100 -> 10.180282 | O36: =O35+N36 -> 100.07183 | P36: =(Durban!N36*0.57+PMB!N36*0.08+RBay!N36*0.06+'Port Shepstone'!N36*0.03+Other!N36*0.03)/71*100 -> 6.3661972 | Q36: =Q35+P36 -> 99.197183 | R36: =(Durban!P36*0.57+PMB!P36*0.08+RBay!P36*0.06+'Port Shepstone'!P36*0.03+Other!P36*0.03)/71*100 -> 12.323944 | S36: =S35+R36 -> 100.08451
A38: Labour Relations? (1= least important & 10 = critical important)
A39: 1 | D39: =(Durban!B39*0.57+PMB!B39*0.08+RBay!B39*0.06+'Port Shepstone'!B39*0.03+Other!B39*0.03)/71*100 -> 12.857746 | E39: =D39 -> 12.857746 | F39: =(Durban!D39*0.57+PMB!D39*0.08+RBay!D39*0.06+'Port Shepstone'!D39*0.03+Other!D39*0.03)/71*100 -> 2.7478873 | G39: =F39 -> 2.7478873 | H39: =(Durban!F39*0.57+PMB!F39*0.08+RBay!F39*0.06+'Port Shepstone'!F39*0.03+Other!F39*0.03)/71*100 -> 5.3492958 | I39: =H39 -> 5.3492958 | J39: =(Durban!H39*0.57+PMB!H39*0.08+RBay!H39*0.06+'Port Shepstone'!H39*0.03+Other!H39*0.03)/71*100 -> 6.284507 | K39: =J39 -> 6.284507 | L39: =(Durban!J39*0.57+PMB!J39*0.08+RBay!J39*0.06+'Port Shepstone'!J39*0.03+Other!J39*0.03)/71*100 -> 5.5507042 | M39: =L39 -> 5.5507042 | N39: =(Durban!L39*0.57+PMB!L39*0.08+RBay!L39*0.06+'Port Shepstone'!L39*0.03+Other!L39*0.03)/71*100 -> 7.2830986 | O39: =N39 -> 7.2830986 | P39: =(Durban!N39*0.57+PMB!N39*0.08+RBay!N39*0.06+'Port Shepstone'!N39*0.03+Other!N39*0.03)/71*100 -> 7.7464789 | Q39: =P39 -> 7.7464789 | R39: =(Durban!P39*0.57+PMB!P39*0.08+RBay!P39*0.06+'Port Shepstone'!P39*0.03+Other!P39*0.03)/71*100 -> 7.0528606 | S39: =R39 -> 7.0528606
A40: 2 | D40: =(Durban!B40*0.57+PMB!B40*0.08+RBay!B40*0.06+'Port Shepstone'!B40*0.03+Other!B40*0.03)/71*100 -> 0.52816901 | E40: =E39+D40 -> 13.385915 | F40: =(Durban!D40*0.57+PMB!D40*0.08+RBay!D40*0.06+'Port Shepstone'!D40*0.03+Other!D40*0.03)/71*100 -> 7.443662 | G40: =G39+F40 -> 10.191549 | H40: =(Durban!F40*0.57+PMB!F40*0.08+RBay!F40*0.06+'Port Shepstone'!F40*0.03+Other!F40*0.03)/71*100 -> 6.7859155 | I40: =I39+H40 -> 12.135211 | J40: =(Durban!H40*0.57+PMB!H40*0.08+RBay!H40*0.06+'Port Shepstone'!H40*0.03+Other!H40*0.03)/71*100 -> 7.8366197 | K40: =K39+J40 -> 14.121127 | L40: =(Durban!J40*0.57+PMB!J40*0.08+RBay!J40*0.06+'Port Shepstone'!J40*0.03+Other!J40*0.03)/71*100 -> 6.1929577 | M40: =M39+L40 -> 11.743662 | N40: =(Durban!L40*0.57+PMB!L40*0.08+RBay!L40*0.06+'Port Shepstone'!L40*0.03+Other!L40*0.03)/71*100 -> 7.9295775 | O40: =O39+N40 -> 15.212676 | P40: =(Durban!N40*0.57+PMB!N40*0.08+RBay!N40*0.06+'Port Shepstone'!N40*0.03+Other!N40*0.03)/71*100 -> 9.4366197 | Q40: =Q39+P40 -> 17.183099 | R40: =(Durban!P40*0.57+PMB!P40*0.08+RBay!P40*0.06+'Port Shepstone'!P40*0.03+Other!P40*0.03)/71*100 -> 18.156566 | S40: =S39+R40 -> 25.209427
A41: 3 | D41: =(Durban!B41*0.57+PMB!B41*0.08+RBay!B41*0.06+'Port Shepstone'!B41*0.03+Other!B41*0.03)/71*100 -> 12.502817 | E41: =E40+D41 -> 25.888732 | F41: =(Durban!D41*0.57+PMB!D41*0.08+RBay!D41*0.06+'Port Shepstone'!D41*0.03+Other!D41*0.03)/71*100 -> 7.1901408 | G41: =G40+F41 -> 17.38169 | H41: =(Durban!F41*0.57+PMB!F41*0.08+RBay!F41*0.06+'Port Shepstone'!F41*0.03+Other!F41*0.03)/71*100 -> 5.928169 | I41: =I40+H41 -> 18.06338 | J41: =(Durban!H41*0.57+PMB!H41*0.08+RBay!H41*0.06+'Port Shepstone'!H41*0.03+Other!H41*0.03)/71*100 -> 6.1859155 | K41: =K40+J41 -> 20.307042 | L41: =(Durban!J41*0.57+PMB!J41*0.08+RBay!J41*0.06+'Port Shepstone'!J41*0.03+Other!J41*0.03)/71*100 -> 5.1450704 | M41: =M40+L41 -> 16.888732 | N41: =(Durban!L41*0.57+PMB!L41*0.08+RBay!L41*0.06+'Port Shepstone'!L41*0.03+Other!L41*0.03)/71*100 -> 8.0521127 | O41: =O40+N41 -> 23.264789 | P41: =(Durban!N41*0.57+PMB!N41*0.08+RBay!N41*0.06+'Port Shepstone'!N41*0.03+Other!N41*0.03)/71*100 -> 8.2112676 | Q41: =Q40+P41 -> 25.394366 | R41: =(Durban!P41*0.57+PMB!P41*0.08+RBay!P41*0.06+'Port Shepstone'!P41*0.03+Other!P41*0.03)/71*100 -> 10.022341 | S41: =S40+R41 -> 35.231768
A42: 4 | D42: =(Durban!B42*0.57+PMB!B42*0.08+RBay!B42*0.06+'Port Shepstone'!B42*0.03+Other!B42*0.03)/71*100 -> 5.3464789 | E42: =E41+D42 -> 31.235211 | F42: =(Durban!D42*0.57+PMB!D42*0.08+RBay!D42*0.06+'Port Shepstone'!D42*0.03+Other!D42*0.03)/71*100 -> 1.9901408 | G42: =G41+F42 -> 19.371831 | H42: =(Durban!F42*0.57+PMB!F42*0.08+RBay!F42*0.06+'Port Shepstone'!F42*0.03+Other!F42*0.03)/71*100 -> 4.7929577 | I42: =I41+H42 -> 22.856338 | J42: =(Durban!H42*0.57+PMB!H42*0.08+RBay!H42*0.06+'Port Shepstone'!H42*0.03+Other!H42*0.03)/71*100 -> 5 | K42: =K41+J42 -> 25.307042 | L42: =(Durban!J42*0.57+PMB!J42*0.08+RBay!J42*0.06+'Port Shepstone'!J42*0.03+Other!J42*0.03)/71*100 -> 6.6492958 | M42: =M41+L42 -> 23.538028 | N42: =(Durban!L42*0.57+PMB!L42*0.08+RBay!L42*0.06+'Port Shepstone'!L42*0.03+Other!L42*0.03)/71*100 -> 5.2802817 | O42: =O41+N42 -> 28.54507 | P42: =(Durban!N42*0.57+PMB!N42*0.08+RBay!N42*0.06+'Port Shepstone'!N42*0.03+Other!N42*0.03)/71*100 -> 1.3661972 | Q42: =Q41+P42 -> 26.760563 | R42: =(Durban!P42*0.57+PMB!P42*0.08+RBay!P42*0.06+'Port Shepstone'!P42*0.03+Other!P42*0.03)/71*100 -> 0.77707625 | S42: =S41+R42 -> 36.008844
...

Sheet Product2013
A1: Business Survey - Production Entities 2013
B2: PMB | D2: DURBAN | F2: RICHARDS BAY | H2: PORT SHEPSTONE | J2: REST OF KZN | L2: PROVINCIAL
B3: =D3 -> As a percentage | C3: =E3 -> Less than Ogive | D3: =F3 -> As a percentage | E3: =G3 -> Less than Ogive | F3: =H3 -> As a percentage | G3: =I3 -> Less than Ogive | H3: As a percentage | I3: Less than Ogive | J3: As a percentage | K3: Less than Ogive | L3: As a percentage | M3: Less than Ogive
A4: Industry by sector in which your business operates? | L4: =(0.08*B4+0.57*D4+0.06*F4+0.03*H4+0.03*J4)/77*100 -> 0
A5: Agriculture, Forestry, Hunting (Processing of Farm Products) | B5: 0 | D5: 0 | F5: 0 | H5: 0 | J5: 0 | L5: =(0.08*B5+0.57*D5+0.06*F5+0.03*H5+0.03*J5)/77*100 -> 0
A6: Farming (Basic production of agri products) | B6: 0 | D6: 0 | F6: 0 | H6: 0 | J6: 20 | L6: =(0.08*B6+0.57*D6+0.06*F6+0.03*H6+0.03*J6)/77*100 -> 0.77922078
A7: Mining | B7: 0 | D7: 0 | F7: 0 | H7: 0 | J7: 0 | L7: =(0.08*B7+0.57*D7+0.06*F7+0.03*H7+0.03*J7)/77*100 -> 0
A8: Quarrying | B8: 0 | F8: 0 | H8: 0 | J8: 0 | L8: =(0.08*B8+0.57*D8+0.06*F8+0.03*H8+0.03*J8)/77*100 -> 0
A9: Manufacturing | B9: 100 | D9: 25 | F9: 30 | H9: 0 | J9: 10 | L9: =(0.08*B9+0.57*D9+0.06*F9+0.03*H9+0.03*J9)/77*100 -> 31.623377
A10: Electricity, Gas & Water | B10: 0 | D10: 0 | F10: 0 | H10: 0 | J10: 0 | L10: =(0.08*B10+0.57*D10+0.06*F10+0.03*H10+0.03*J10)/77*100 -> 0
A11: Construction | B11: 0 | D11: 0 | F11: 0 | H11: 0 | J11: 0 | L11: =(0.08*B11+0.57*D11+0.06*F11+0.03*H11+0.03*J11)/77*100 -> 0
A12: Educational Institutions | B12: 0 | D12: 0 | F12: 0 | H12: 0 | J12: 0 | L12: =(0.08*B12+0.57*D12+0.06*F12+0.03*H12+0.03*J12)/77*100 -> 0
A13: Tourism, Catering & Accommodation | B13: 0 | D13: 0 | F13: 0 | H13: 50 | J13: 0 | L13: =(0.08*B13+0.57*D13+0.06*F13+0.03*H13+0.03*J13)/77*100 -> 1.9480519
A14: Wholesale & Retail | B14: 0 | D14: 0 | F14: 40 | H14: 50 | J14: 50 | L14: =(0.08*B14+0.57*D14+0.06*F14+0.03*H14+0.03*J14)/77*100 -> 7.012987
A15: Vehicle Sales | B15: 0 | D15: 0 | F15: 0 | H15: 0 | J15: 10 | L15: =(0.08*B15+0.57*D15+0.06*F15+0.03*H15+0.03*J15)/77*100 -> 0.38961039
A16: Transport, Storage & Communications | B16: 0 | D16: 0 | F16: 0 | H16: 0 | J16: 0 | L16: =(0.08*B16+0.57*D16+0.06*F16+0.03*H16+0.03*J16)/77*100 -> 0
A17: Banks & Financial | B17: 0 | D17: 0 | F17: 0 | H17: 0 | J17: 0 | L17: =(0.08*B17+0.57*D17+0.06*F17+0.03*H17+0.03*J17)/77*100 -> 0
A18: Legal | B18: 0 | D18: 0 | F18: 0 | H18: 0 | J18: 0 | L18: =(0.08*B18+0.57*D18+0.06*F18+0.03*H18+0.03*J18)/77*100 -> 0
A19: Insurance , Pension & Medical Aid Funds | B19: 0 | D19: 0 | F19: 0 | H19: 0 | J19: 0 | L19: =(0.08*B19+0.57*D19+0.06*F19+0.03*H19+0.03*J19)/77*100 -> 0
A20: Real Estate | B20: 0 | D20: 0 | F20: 10 | H20: 0 | J20: 0 | L20: =(0.08*B20+0.57*D20+0.06*F20+0.03*H20+0.03*J20)/77*100 -> 0.77922078
A21: Business Services | B21: 0 | D21: 0 | F21: 0 | H21: 0 | J21: 0 | L21: =(0.08*B21+0.57*D21+0.06*F21+0.03*H21+0.03*J21)/77*100 -> 0
A22: Central Government | B22: 0 | F22: 0 | H22: 0 | J22: 0 | L22: =(0.08*B22+0.57*D22+0.06*F22+0.03*H22+0.03*J22)/77*100 -> 0
A23: Local Government | B23: 0 | D23: 0 | F23: 0 | H23: 0 | J23: 0 | L23: =(0.08*B23+0.57*D23+0.06*F23+0.03*H23+0.03*J23)/77*100 -> 0
A24: Provincial Government | B24: 0 | D24: 0 | F24: 0 | H24: 0 | J24: 0 | L24: =(0.08*B24+0.57*D24+0.06*F24+0.03*H24+0.03*J24)/77*100 -> 0
A25: Social & Personal Services | B25: 0 | D25: 0 | F25: 0 | H25: 0 | J25: 0 | L25: =(0.08*B25+0.57*D25+0.06*F25+0.03*H25+0.03*J25)/77*100 -> 0
A26: IT | B26: 0 | D26: 0 | F26: 0 | H26: 0 | J26: 0 | L26: =(0.08*B26+0.57*D26+0.06*F26+0.03*H26+0.03*J26)/77*100 -> 0
A27: Taxis | B27: 0 | D27: 0 | F27: 0 | H27: 0 | J27: 0 | L27: =(0.08*B27+0.57*D27+0.06*F27+0.03*H27+0.03*J27)/77*100 -> 0
A28: Other | B28: 0 | D28: 75 | F28: 20 | H28: 0 | J28: 10 | L28: =(0.08*B28+0.57*D28+0.06*F28+0.03*H28+0.03*J28)/77*100 -> 57.467532
L30: 32.2
A31: 0 - 10 | B31: 0 | C31: =B31 -> 0 | D31: 50 | E31: =D31 -> 50 | F31: 20 | G31: =F31 -> 20 | H31: 100 | I31: =H31 -> 100 | J31: 20 | K31: =J31 -> 20 | L31: 25.8 | M31: =L31 -> 25.8
A32: 11. - 30 | B32: 100 | C32: =C31+B32 -> 100 | D32: 12.5 | E32: =E31+D32 -> 62.5 | F32: 40 | G32: =G31+F32 -> 60 | H32: 0 | I32: =I31+H32 -> 100 | J32: 20 | K32: =K31+J32 -> 40 | L32: 12.9 | M32: =M31+L32 -> 38.7
A33: 31 - 50 | B33: 0 | C33: =C32+B33 -> 100 | D33: 0 | E33: =E32+D33 -> 62.5 | F33: 20 | G33: =G32+F33 -> 80 | H33: 0 | I33: =I32+H33 -> 100 | J33: 20 | K33: =K32+J33 -> 60 | L33: 0 | M33: =M32+L33 -> 38.7
A34: 51 - 100 | B34: 0 | C34: =C33+B34 -> 100 | D34: 0 | E34: =E33+D34 -> 62.5 | F34: 0 | G34: =G33+F34 -> 80 | H34: 0 | I34: =I33+H34 -> 100 | J34: 0 | K34: =K33+J34 -> 60 | L34: 6.5 | M34: =M33+L34 -> 45.2
A35: 101 - 200 | B35: 0 | C35: =C34+B35 -> 100 | D35: 0 | E35: =E34+D35 -> 62.5 | F35: 10 | G35: =G34+F35 -> 90 | H35: 0 | I35: =I34+H35 -> 100 | J35: 10 | K35: =K34+J35 -> 70 | L35: 22.6 | M35: =M34+L35 -> 67.8
A36: > 200 | B36: 0 | C36: =C35+B36 -> 100 | D36: 37.5 | E36: =E35+D36 -> 100 | F36: 10 | G36: =G35+F36 -> 100 | H36: 0 | I36: =I35+H36 -> 100 | J36: 30 | K36: =K35+J36 -> 100 | M36: =M35+L36 -> 67.8
A38: Labour Relations? (1= least important & 10 = critical important) | L38: 9.7
A39: 1 | B39: 0 | C39: =B39 -> 0 | D39: 12.5 | E39: =D39 -> 12.5 | F39: 0 | G39: =F39 -> 0 | H39: 50 | I39: =H39 -> 50 | J39: 10 | K39: =J39 -> 10 | L39: 0 | M39: =L39 -> 0
A40: 2 | B40: 0 | C40: =C39+B40 -> 0 | D40: 0 | E40: =E39+D40 -> 12.5 | F40: 0 | G40: =G39+F40 -> 0 | H40: 0 | I40: =I39+H40 -> 50 | J40: 0 | K40: =K39+J40 -> 10 | L40: 3.2 | M40: =M39+L40 -> 3.2
A41: 3 | B41: 0 | C41: =C40+B41 -> 0 | D41: 0 | E41: =E40+D41 -> 12.5 | F41: 10 | G41: =G40+F41 -> 10 | H41: 0 | I41: =I40+H41 -> 50 | J41: 0 | K41: =K40+J41 -> 10 | L41: 6.5 | M41: =M40+L41 -> 9.7
A42: 4 | B42: 0 | C42: =C41+B42 -> 0 | D42: 0 | E42: =E41+D42 -> 12.5 | F42: 20 | G42: =G41+F42 -> 30 | H42: 0 | I42: =I41+H42 -> 50 | J42: 0 | K42: =K41+J42 -> 10 | L42: 3.2 | M42: =M41+L42 -> 12.9
...

Sheet Product2012
A1: Business Survey - Production Entities 2012
B2: PMB | D2: DURBAN | F2: RICHARDS BAY | H2: PORT SHEPSTONE | J2: REST OF KZN | L2: PROVINCIAL
B3: =D3 -> As a percentage | C3: =E3 -> Less than Ogive | D3: =F3 -> As a percentage | E3: =G3 -> Less than Ogive | F3: =H3 -> As a percentage | G3: =I3 -> Less than Ogive | H3: As a percentage | I3: Less than Ogive | J3: As a percentage | K3: Less than Ogive | L3: As a percentage | M3: Less than Ogive
A4: Industry by sector in which your business operates? | L4: =(0.08*B4+0.57*D4+0.06*F4+0.03*H4+0.03*J4)/77*100 -> 0
