Workbook

Sheet Eskom Data
A1: Electricity Stats | B1: Richards Bay/Empangeni | E1: Durban | H1: Pietermaritzburg | K1: Newcastle | N1: Portshepstone
B2: Residential | C2: Municipality | D2: Commercial | E2: Residential | F2: =C2 -> Municipality | G2: Commercial | H2: Residential | I2: =C2 -> Municipality | J2: Commercial | K2: Residential | L2: =F2 -> Municipality | M2: Commercial | N2: Residential | O2: =I2 -> Municipality | P2: Commercial
A3: 37622 | B3: 1 | C3: 1 | D3: 1 | E3: 1 | F3: 1 | G3: 1 | H3: 1 | I3: 1 | J3: 1 | K3: 1 | L3: 1 | M3: 1 | O3: 1
A4: 37653 | B4: 1.4165931 | C4: 0.91244885 | D4: 0.79069899 | E4: 1.020127 | F4: 0.95963069 | G4: 0.87546322 | H4: 1.1576129 | I4: 0.97746925 | J4: 0.86447117 | K4: 1.0835984 | L4: 0.78934748 | M4: 0.95695298 | O4: 0.97551115
A5: 37681 | B5: 1.1425591 | C5: 0.85964864 | D5: 0.96072818 | E5: 0.84580441 | F5: 1.0429759 | G5: 0.92917677 | H5: 0.87917486 | I5: 1.0733634 | J5: 1.1147201 | K5: 1 | L5: 0.6983224 | M5: 0.67736611 | O5: 0
A6: 37712 | B6: 0.85341067 | C6: 1.0644449 | D6: 0.87366911 | E6: 0.90506247 | F6: 0.9859019 | G6: 0.95352471 | H6: 0.82815644 | I6: 1.0223338 | J6: 0.93727989 | K6: 1.0835984 | L6: 0.96068778 | M6: 0.75592552 | O6: 0
A7: 37742 | B7: 0.9686514 | C7: 0.938211 | D7: 1.0315926 | E7: 0.81411961 | F7: 1.0158126 | G7: 0.92787134 | H7: 0.93776405 | I7: 1.1064138 | J7: 1.3092929 | K7: 1.1709808 | L7: 1.0410387 | M7: 0.7619223 | O7: 0.98438244
A8: 37773 | B8: 0.68520992 | C8: 0.93967112 | D8: 0.90413451 | E8: 0.76062427 | F8: 1.0057952 | G8: 0.80192699 | H8: 0.77361692 | I8: 1.129223 | J8: 1.346368 | K8: 0.61657212 | L8: 1.1002928 | M8: 0.7089999 | O8: 0.95685419
A9: 37803 | B9: 0.77993019 | C9: 0.96305996 | D9: 0.8144794 | E9: 1.0846594 | F9: 1.0557478 | G9: 0.87993911 | H9: 1.1720234 | I9: 1.1795946 | J9: 1.2304917 | K9: 1.3218636 | L9: 1.1783503 | M9: 0.90532909 | O9: 0.99555624
A10: 37834 | B10: 0.99265008 | C10: 0.97720994 | D10: 0.93960904 | E10: 1.1389433 | F10: 1.0451388 | G10: 0.89159725 | H10: 1.2336875 | I10: 1.1521601 | J10: 1.2830364 | K10: 1.4247803 | L10: 0.98240929 | M10: 1.0068267 | O10: 0.963141
A11: 37865 | B11: 1.3784234 | C11: 0.91749223 | D11: 0.98983267 | E11: 1.3953316 | F11: 0.99967951 | G11: 1.0084955 | H11: 1.2435635 | I11: 1.113528 | J11: 1.234558 | K11: 1.1898921 | L11: 0.99048725 | M11: 0.81498064 | O11: 0.94260965
A12: 37895 | B12: 1.1837636 | C12: 0.90190072 | D12: 1.0391529 | E12: 1.201032 | F12: 1.0457086 | G12: 0.86033274 | H12: 1.1524128 | I12: 1.1402149 | J12: 1.1151727 | K12: 1.3991793 | L12: 0.98332933 | M12: 0.78077431 | O12: 0.99537793
A13: 37926 | B13: 1.2495519 | C13: 0.9390526 | D13: 1.0131127 | E13: 1.1577205 | F13: 1.0093284 | G13: 0.98847831 | H13: 1.2863832 | I13: 1.0877517 | J13: 1.2773393 | K13: 1.2418873 | L13: 0.94857657 | M13: 0.9747103 | O13: 0.97074294
A14: 37956 | B14: 0.87621608 | C14: 0.96625043 | D14: 0.88145418 | E14: 0.88544038 | F14: 1.0121692 | G14: 0.88156404 | H14: 0.96692056 | I14: 0.98807988 | J14: 1.2338292 | K14: 0.84654114 | L14: 0.85051722 | M14: 0.69906124 | O14: 0.98654692
... A142: 41865 | B142: 1.2444634 | C142: 0.75901034 | D142: 1.502 | E142: 1.1115496 | F142: 1.0598994 | G142: 1.4134146 | H142: 1.37636 | I142: 1.2109024 | J142: 1.8516872 | K142: 1.4306923 | L142: 1.0531433 | M142: 1.2299652 | O142: 1.0856538
A144: Average 2003 | B144: =AVERAGE(B3:B14) -> 1.0439133 | C144: =AVERAGE(C3:C14) -> 0.94828253 | D144: =AVERAGE(D3:D14) -> 0.93653869 | E144: =AVERAGE(E3:E14) -> 1.0174054 | F144: =AVERAGE(F3:F14) -> 1.0148241 | G144: =AVERAGE(G3:G14) -> 0.91653083 | H144: =AVERAGE(H3:H14) -> 1.0526097 | I144: =AVERAGE(I3:I14) -> 1.0808444 | ... M144: =AVERAGE(M3:M14) -> 0.83690409 | O144: =AVERAGE(O3:O14) -> 0.81422687
A145: Average 2004 | B145: =AVERAGE(B15:B26) -> 0.93651797 | C145: =AVERAGE(C15:C26) -> 1.0115706 | D145: =AVERAGE(D15:D26) -> 0.98580346 | E145: =AVERAGE(E15:E26) -> 1.0131253 | F145: =AVERAGE(F15:F26) -> 1.0433943 | G145: =AVERAGE(G15:G26) -> 0.99111926 | H145: =AVERAGE(H15:H26) -> 1.0112628 | I145: =AVERAGE(I15:I26) -> 1.1244306 | ... M145: =AVERAGE(M15:M26) -> 0.95989739 | O145: =AVERAGE(O15:O26) -> 1.0172794
A146: Average 2005 | B146: =AVERAGE(B27:B38) -> 1.1358771 | C146: =AVERAGE(C27:C38) -> 0.97592061 | D146: =AVERAGE(D27:D38) -> 1.074348 | E146: =AVERAGE(E27:E38) -> 1.0748761 | F146: =AVERAGE(F27:F38) -> 1.0515546 | G146: =AVERAGE(G27:G38) -> 1.0497565 | H146: =AVERAGE(H27:H38) -> 1.109295 | I146: =AVERAGE(I27:I38) -> 1.1390262 | ... M146: =AVERAGE(M27:M38) -> 0.86311606 | O146: =AVERAGE(O27:O38) -> 1.0570175
A147: Average 2006 | B147: =AVERAGE(B39:B50) -> 1.1127162 | C147: =AVERAGE(C39:C50) -> 0.95869845 | D147: =AVERAGE(D39:D50) -> 1.1158646 | E147: =AVERAGE(E39:E50) -> 1.0953167 | F147: =AVERAGE(F39:F50) -> 1.0861986 | G147: =AVERAGE(G39:G50) -> 1.1377419 | H147: =AVERAGE(H39:H50) -> 1.1375684 | I147: =AVERAGE(I39:I50) -> 1.1847107 | ... M147: =AVERAGE(M39:M50) -> 0.80883494 | O147: =AVERAGE(O39:O50) -> 1.0959937
A148: Average 2007 | B148: =AVERAGE(B51:B62) -> 1.2377711 | C148: =AVERAGE(C51:C62) -> 0.97473184 | D148: =AVERAGE(D51:D62) -> 1.1912212 | E148: =AVERAGE(E51:E62) -> 1.1165747 | F148: =AVERAGE(F51:F62) -> 1.1185645 | G148: =AVERAGE(G51:G62) -> 1.1953714 | H148: =AVERAGE(H51:H62) -> 1.1364414 | I148: =AVERAGE(I51:I62) -> 1.1959061 | ... M148: =AVERAGE(M51:M62) -> 1.0090738 | O148: =AVERAGE(O51:O62) -> 1.1565403
A149: Average 2008 | B149: =AVERAGE(B63:B74) -> 1.2923966 | C149: =AVERAGE(C63:C74) -> 1.0870203 | D149: =AVERAGE(D63:D74) -> 1.2668903 | E149: =AVERAGE(E63:E74) -> 1.0646563 | F149: =AVERAGE(F63:F74) -> 1.097902 | G149: =AVERAGE(G63:G74) -> 1.1916217 | H149: =AVERAGE(H63:H74) -> 1.1138703 | I149: =AVERAGE(I63:I74) -> 1.1533013 | ... M149: =AVERAGE(M63:M74) -> 0.93112849 | O149: =AVERAGE(O63:O74) -> 1.1351451
A150: Average 2009 | B150: =AVERAGE(B75:B86) -> 1.1947748 | C150: =AVERAGE(C75:C86) -> 1.2905859 | D150: =AVERAGE(D75:D86) -> 1.3876459 | E150: =AVERAGE(E75:E86) -> 1.0973347 | F150: =AVERAGE(F75:F86) -> 1.0847079 | G150: =AVERAGE(G75:G86) -> 1.2383317 | H150: =AVERAGE(H75:H86) -> 1.1028927 | I150: =AVERAGE(I75:I86) -> 1.1281413 | ... M150: =AVERAGE(M75:M86) -> 1.0016571 | O150: =AVERAGE(O75:O86) -> 1.1579505
A151: Average 2010 | B151: =AVERAGE(B87:B89) -> 1.3020633 | C151: =AVERAGE(C87:C89) -> 1.4020785 | D151: =AVERAGE(D87:D89) -> 1.3694385 | E151: =AVERAGE(E87:E89) -> 1.0410553 | F151: =AVERAGE(F87:F89) -> 1.0905624 | G151: =AVERAGE(G87:G89) -> 1.2975407 | H151: =AVERAGE(H87:H89) -> 0.97601719 | I151: =AVERAGE(I87:I89) -> 1.115751 | J151: =AVERAGE(J87:J89) -> 1.3858124 | K151: =AVERAGE(K87:K98) -> 1.1439821 | L151: =AVERAGE(L87:L89) -> 1.0505376 | M151: =AVERAGE(M87:M89) -> 1.3655467 | O151: =AVERAGE(O87:O98) -> 1.1577803
A152: Average 2011 | B152: =AVERAGE(B99:B110) -> 1.3156502 | C152: =AVERAGE(C99:C110) -> 1.2296579 | D152: =AVERAGE(D99:D110) -> 1.366512 | E152: =AVERAGE(E99:E110) -> 0.99592494 | F152: =AVERAGE(F99:F110) -> 1.0810785 | G152: =AVERAGE(G99:G110) -> 1.3784235 | H152: =AVERAGE(H99:H110) -> 1.1261906 | I152: =AVERAGE(I99:I110) -> 1.1774375 | ... M152: =AVERAGE(M99:M110) -> 1.0331357 | O152: =AVERAGE(O99:O110) -> 1.1556641
A153: Average 2012 | B153: =AVERAGE(B111:B122) -> 1.2523877 | C153: =AVERAGE(C111:C122) -> 1.375709 | D153: =AVERAGE(D111:D122) -> 1.4238342 | E153: =AVERAGE(E111:E122) -> 0.95004126 | F153: =AVERAGE(F111:F122) -> 1.0957719 | G153: =AVERAGE(G111:G122) -> 1.4039641 | H153: =AVERAGE(H111:H122) -> 1.0843707 | I153: =AVERAGE(I111:I122) -> 1.1658281 | ... M153: =AVERAGE(M111:M122) -> 1.0944743 | O153: =AVERAGE(O111:O122) -> 1.1701477
A154: Average 2013 | B154: =AVERAGE(B123:B134) -> 1.1406403 | C154: =AVERAGE(C123:C134) -> 1.2185773 | D154: =AVERAGE(D123:D134) -> 1.4070724 | E154: =AVERAGE(E123:E134) -> 0.94744095 | F154: =AVERAGE(F123:F134) -> 1.0637614 | G154: =AVERAGE(G123:G134) -> 1.4055579 | H154: =AVERAGE(H123:H134) -> 1.0811334 | I154: =AVERAGE(I123:I134) -> 1.1577758 | ... M154: =AVERAGE(M123:M134) -> 1.1763481 | O154: =AVERAGE(O123:O134) -> 1.1399651
A155: Average 2014 | B155: =AVERAGE(B135:B142) -> 1.1314523 | C155: =AVERAGE(C135:C142) -> 1.4324997 | D155: =AVERAGE(D135:D142) -> 1.410875 | E155: =AVERAGE(E135:E142) -> 1.007141 | F155: =AVERAGE(F135:F142) -> 1.0643554 | G155: =AVERAGE(G135:G142) -> 1.4004861 | H155: =AVERAGE(H135:H142) -> 1.0511032 | I155: =AVERAGE(I135:I142) -> 1.1677836 | ... M155: =AVERAGE(M135:M142) -> 1.1529814 | O155: =AVERAGE(O135:O142) -> 1.1013821
A157: Cumulative % | B157: =(B155-B144)/B144*100 -> 8.3856572 | C157: =(C155-C144)/C144*100 -> 51.062537 | D157: =(D155-D144)/D144*100 -> 50.647807 | E157: =(E155-E144)/E144*100 -> -1.0088783 | F157: =(F155-F144)/F144*100 -> 4.8807787 | G157: =(G155-G144)/G144*100 -> 52.802951 | H157: =(H155-H144)/H144*100 -> -0.1431202 | I157: =(I155-I144)/I144*100 -> 8.0436383 | ... M157: =(M155-M144)/M144*100 -> 37.767445 | O157: =(O155-O144)/O144*100 -> 35.267226
A159: Average year on year increase
A160: 2004 | B160: =(B145-B144)/B144*100 -> -10.287763 | C160: =(C145-C144)/C144*100 -> 6.6739722 | D160: =(D145-D144)/D144*100 -> 5.2603027 | E160: =(E145-E144)/E144*100 -> -0.42068806 | F160: =(F145-F144)/F144*100 -> 2.8152919 | G160: =(G145-G144)/G144*100 -> 8.1381253 | H160: =(H145-H144)/H144*100 -> -3.9280354 | I160: =(I145-I144)/I144*100 -> 4.0326071 | ... M160: =(M145-M144)/M144*100 -> 14.696224 | O160: =(O145-O144)/O144*100 -> 24.938081
A161: 2005 | B161: =(B146-B145)/B145*100 -> 21.287267 | C161: =(C146-C145)/C145*100 -> -3.5242257 | D161: =(D146-D145)/D145*100 -> 8.9819631 | E161: =(E146-E145)/E145*100 -> 6.0950765 | F161: =(F146-F145)/F145*100 -> 0.7820942 | G161: =(G146-G145)/G145*100 -> 5.9162633 | H161: =(H146-H145)/H145*100 -> 9.6940362 | I161: =(I146-I145)/I145*100 -> 1.2980417 | ... M161: =(M146-M145)/M145*100 -> -10.082466 | O161: =(O146-O145)/O145*100 -> 3.9063085
A162: 2006 | B162: =(B147-B146)/B146*100 -> -2.0390284 | C162: =(C147-C146)/C146*100 -> -1.7647089 | D162: =(D147-D146)/D146*100 -> 3.8643556 | E162: =(E147-E146)/E146*100 -> 1.9016767 | F162: =(F147-F146)/F146*100 -> 3.2945451 | G162: =(G147-G146)/G146*100 -> 8.3815041 | H162: =(H147-H146)/H146*100 -> 2.5487751 | I162: =(I147-I146)/I146*100 -> 4.0108383 | ... M162: =(M147-M146)/M146*100 -> -6.2889715 | O162: =(O147-O146)/O146*100 -> 3.6873789
A163: 2007 | B163: =(B148-B147)/B147*100 -> 11.238708 | C163: =(C148-C147)/C147*100 -> 1.6724122 | D163: =(D148-D147)/D147*100 -> 6.7532024 | E163: =(E148-E147)/E147*100 -> 1.9408035 | F163: =(F148-F147)/F147*100 -> 2.9797442 | G163: =(G148-G147)/G147*100 -> 5.0652529 | H163: =(H148-H147)/H147*100 -> -0.09907176 | I163: =(I148-I147)/I147*100 -> 0.94499777 | ... M163: =(M148-M147)/M147*100 -> 24.756456 | O163: =(O148-O147)/O147*100 -> 5.52435
A164: 2008 | B164: =(B149-B148)/B148*100 -> 4.413213 | C164: =(C149-C148)/C148*100 -> 11.519935 | D164: =(D149-D148)/D148*100 -> 6.352227 | E164: =(E149-E148)/E148*100 -> -4.6497928 | F164: =(F149-F148)/F148*100 -> -1.8472392 | G164: =(G149-G148)/G148*100 -> -0.31367968 | H164: =(H149-H148)/H148*100 -> -1.9861174 | I164: =(I149-I148)/I148*100 -> -3.5625602 | ... M164: =(M149-M148)/M148*100 -> -7.7244413 | O164: =(O149-O148)/O148*100 -> -1.8499291
A165: 2009 | B165: =(B150-B149)/B149*100 -> -7.5535465 | C165: =(C150-C149)/C149*100 -> 18.726934 | D165: =(D150-D149)/D149*100 -> 9.5316614 | E165: =(E150-E149)/E149*100 -> 3.0693856 | F165: =(F150-F149)/F149*100 -> -1.2017479 | G165: =(G150-G149)/G149*100 -> 3.919866 | H165: =(H150-H149)/H149*100 -> -0.98553756 | I165: =(I150-I149)/I149*100 -> -2.1815635 | ... M165: =(M150-M149)/M149*100 -> 7.5745348 | O165: =(O150-O149)/O149*100 -> 2.0090292
A166: 2010 | B166: =(B151-B150)/B150*100 -> 8.9798047 | C166: =(C151-C150)/C150*100 -> 8.6389105 | D166: =(D151-D150)/D150*100 -> -1.3121106 | E166: =(E151-E150)/E150*100 -> -5.1287373 | F166: =(F151-F150)/F150*100 -> 0.53972338 | G166: =(G151-G150)/G150*100 -> 4.7813499 | H166: =(H151-H150)/H150*100 -> -11.503888 | I166: =(I151-I150)/I150*100 -> -1.0982907 | ... M166: =(M151-M150)/M150*100 -> 36.328755 | O166: =(O151-O150)/O150*100 -> -0.014700351
A167: 2011 | B167: =(B152-B151)/B151*100 -> 1.043489 | C167: =(C152-C151)/C151*100 -> -12.297497 | D167: =(D152-D151)/D151*100 -> -0.21369761 | E167: =(E152-E151)/E151*100 -> -4.3350558 | F167: =(F152-F151)/F151*100 -> -0.8696274 | G167: =(G152-G151)/G151*100 -> 6.2335506 | H167: =(H152-H151)/H151*100 -> 15.386347 | I167: =(I152-I151)/I151*100 -> 5.5287022 | ... M167: =(M152-M151)/M151*100 -> -24.342704 | O167: =(O152-O151)/O151*100 -> -0.18277801
A168: 2012 | B168: =(B153-B152)/B152*100 -> -4.8084546 | C168: =(C153-C152)/C152*100 -> 11.877378 | D168: =(D153-D152)/D152*100 -> 4.1947779 | E168: =(E153-E152)/E152*100 -> -4.6071424 | F168: =(F153-F152)/F152*100 -> 1.359143 | G168: =(G153-G152)/G152*100 -> 1.8528855 | H168: =(H153-H152)/H152*100 -> -3.7133968 | I168: =(I153-I152)/I152*100 -> -0.98599556 | ... M168: =(M153-M152)/M152*100 -> 5.9371223 | O168: =(O153-O152)/O152*100 -> 1.2532708
A169: 2013 | B169: =(B154-B153)/B153*100 -> -8.9227495 | C169: =(C154-C153)/C153*100 -> -11.42187 | D169: =(D154-D153)/D153*100 -> -1.1772254 | E169: =(E154-E153)/E153*100 -> -0.27370457 | F169: =(F154-F153)/F153*100 -> -2.9212806 | G169: =(G154-G153)/G153*100 -> 0.1135158 | H169: =(H154-H153)/H153*100 -> -0.29854022 | I169: =(I154-I153)/I153*100 -> -0.6906885 | ... M169: =(M154-M153)/M153*100 -> 7.4806595 | O169: =(O154-O153)/O153*100 -> -2.5793836
A170: 2014 | B170: =(B155-B154)/B154*100 -> -0.8055134 | C170: =(C155-C154)/C154*100 -> 17.555089 | D170: =(D155-D154)/D154*100 -> 0.27024586 | E170: =(E155-E154)/E154*100 -> 6.301192 | F170: =(F155-F154)/F154*100 -> 0.055839704 | G170: =(G155-G154)/G154*100 -> -0.36083254 | H170: =(H155-H154)/H154*100 -> -2.7776589 | I170: =(I155-I154)/I154*100 -> 0.86439521 | ... M170: =(M155-M154)/M154*100 -> -1.986382 | O170: =(O155-O154)/O154*100 -> -3.384578

Sheet Graphs
O2: ='Eskom Data'!B2 -> Residential
O34: ='Eskom Data'!C2 -> Municipality
O65: ='Eskom Data'!D2 -> Commercial

Sheet Graphs1

Sheet Descriptive statistics
A1: Descriptive statistics
C2: Standard Deviation | D2: Average | E2: Median | F2: Skewness
A3: Richards Bay/ Empangeni | B3: Residential | C3: =STDEV('Eskom Data'!B144:B155) -> 0.11384705 | D3: =AVERAGE('Eskom Data'!B144:B155) -> 1.1746801 | E3: =MEDIAN('Eskom Data'!B144:B155) -> 1.1677076 | F3: =SKEW('Eskom Data'!B144:B155) -> -0.66044824
B4: Municipality | C4: =STDEV('Eskom Data'!C144:C155) -> 0.18723347 | D4: =AVERAGE('Eskom Data'!C144:C155) -> 1.1587777 | E4: =MEDIAN('Eskom Data'!C144:C155) -> 1.1527988 | F4: =SKEW('Eskom Data'!C144:C155) -> 0.24490088
B5: Commercial | C5: =STDEV('Eskom Data'!D144:D155) -> 0.17783061 | D5: =AVERAGE('Eskom Data'!D144:D155) -> 1.2446704 | E5: =MEDIAN('Eskom Data'!D144:D155) -> 1.3167011 | F5: =SKEW('Eskom Data'!D144:D155) -> -0.63090188
A6: Durban | B6: Residential | C6: =STDEV('Eskom Data'!E144:E155) -> 0.056132938 | D6: =AVERAGE('Eskom Data'!E144:E155) -> 1.0350744 | E6: =MEDIAN('Eskom Data'!E144:E155) -> 1.0292303 | F6: =SKEW('Eskom Data'!E144:E155) -> -0.18210689
B7: Municipality | C7: =STDEV('Eskom Data'!F144:F155) -> 0.028215924 | D7: =AVERAGE('Eskom Data'!F144:F155) -> 1.0743896 | E7: =MEDIAN('Eskom Data'!F144:F155) -> 1.0828932 | F7: =SKEW('Eskom Data'!F144:F155) -> -0.67495166
B8: Commercial | C8: =STDEV('Eskom Data'!G144:G155) -> 0.16891193 | D8: =AVERAGE('Eskom Data'!G144:G155) -> 1.2172038 | E8: =MEDIAN('Eskom Data'!G144:G155) -> 1.2168515 | F8: =SKEW('Eskom Data'!G144:G155) -> -0.45025013
A9: Pietermaritzburg | B9: Residential | C9: =STDEV('Eskom Data'!H144:H155) -> 0.050688458 | D9: =AVERAGE('Eskom Data'!H144:H155) -> 1.0818963 | E9: =MEDIAN('Eskom Data'!H144:H155) -> 1.0936317 | F9: =SKEW('Eskom Data'!H144:H155) -> -0.92928344
B10: Municipality | C10: =STDEV('Eskom Data'!I144:I155) -> 0.032896314 | D10: =AVERAGE('Eskom Data'!I144:I155) -> 1.1492447 | E10: =MEDIAN('Eskom Data'!I144:I155) -> 1.1555385 | F10: =SKEW('Eskom Data'!I144:I155) -> -0.62238995
B11: Commercial | C11: =STDEV('Eskom Data'!J144:J155) -> 0.16136325 | D11: =AVERAGE('Eskom Data'!J144:J155) -> 1.4083761 | E11: =MEDIAN('Eskom Data'!J144:J155) -> 1.3985991 | F11: =SKEW('Eskom Data'!J144:J155) -> 0.00065822239
A12: Newcastle | B12: Residential | C12: =STDEV('Eskom Data'!K144:K155) -> 0.033110579 | D12: =AVERAGE('Eskom Data'!K144:K155) -> 1.1085204 | E12: =MEDIAN('Eskom Data'!K144:K155) -> 1.1149895 | F12: =SKEW('Eskom Data'!K144:K155) -> -1.183752
B13: Municipality | C13: =STDEV('Eskom Data'!L144:L155) -> 0.057258176 | D13: =AVERAGE('Eskom Data'!L144:L155) -> 1.0683848 | E13: =MEDIAN('Eskom Data'!L144:L155) -> 1.0823489 | F13: =SKEW('Eskom Data'!L144:L155) -> -0.49435735
B14: Commercial | C14: =STDEV('Eskom Data'!M144:M155) -> 0.16009656 | D14: =AVERAGE('Eskom Data'!M144:M155) -> 1.0194248 | E14: =MEDIAN('Eskom Data'!M144:M155) -> 1.0053655 | F14: =SKEW('Eskom Data'!M144:M155) -> 0.74419227
