Workbook

Sheet Summary
A1: KZN Leads and Lags Analysis
A2: ='Dwelling-Houses'!A1:F1 -> Residential Buildings, Dwelling-Houses>=80 square metre | U2: SA (Correlation) | V2: KZN (correlation) | W2: SA (RMSE) | X2: KZN (RMSE)
A3: ='Dwelling-Houses'!A408 -> SA | B3: ='Dwelling-Houses'!B408 -> 0.96529018 | C3: ='Dwelling-Houses'!C408 -> 12 | T3: =A2 -> Residential Buildings, Dwelling-Houses>=80 square metre | U3: =C3 -> 12 | V3: =C4 -> 11 | W3: =C5 -> 11 | X3: =C6 -> 11
A4: ='Dwelling-Houses'!A409 -> KZN | B4: ='Dwelling-Houses'!B409 -> 0.77372205 | C4: ='Dwelling-Houses'!C409 -> 11 | T4: =A8 -> Residential Buildings, Flat and Townhouses | U4: =C9 -> 9 | V4: =C10 -> 12 | W4: =C11 -> 8 | X4: =C12 -> 11
A5: ='Dwelling-Houses'!A408 -> SA | B5: ='Dwelling-Houses'!F408 -> 161088.62 | C5: ='Dwelling-Houses'!G408 -> 11 | T5: =A14 -> Non-Residential Buildings, Offices and Banking space | U5: =C15 -> 14 | V5: =C16 -> 22 | W5: =C17 -> 15 | X5: =C18 -> 22
A6: ='Dwelling-Houses'!A409 -> KZN | B6: ='Dwelling-Houses'!F409 -> 16055.254 | C6: ='Dwelling-Houses'!G409 -> 11 | T6: =A20 -> Non-Residential Buildings, Shopping space | U6: =C21 -> 13 | V6: =C22 -> 29 | W6: =C23 -> 14 | X6: =C24 -> 29
T7: =A26 -> Non-Residential Buildings, Industrial and Warehouse space | U7: =C27 -> 10 | V7: =C28 -> 13 | W7: =C29 -> 13 | X7: =C30 -> 20
A8: ='Flats and Townhouses'!A1:F1 -> Residential Buildings, Flat and Townhouses | T8: Average | U8: =AVERAGE(U3:U7) -> 11.6 | V8: =AVERAGE(V3:V7) -> 17.4 | W8: =AVERAGE(W3:W7) -> 12.2 | X8: =AVERAGE(X3:X7) -> 18.6
A9: =A3 -> SA | B9: ='Flats and Townhouses'!B406 -> 0.98188215 | C9: ='Flats and Townhouses'!C406:D406 -> 9
A10: =A4 -> KZN | B10: ='Flats and Townhouses'!B407 -> 0.97667162 | C10: ='Flats and Townhouses'!C407:D407 -> 12
A11: =A5 -> SA | B11: ='Flats and Townhouses'!F406 -> 59134.393 | C11: ='Flats and Townhouses'!G406 -> 8
A12: =A6 -> KZN | B12: ='Flats and Townhouses'!F407 -> 13432.712 | C12: ='Flats and Townhouses'!G407 -> 11
A14: ='Office and Banking Space'!A1:F1 -> Non-Residential Buildings, Offices and Banking space
A15: =A9 -> SA | B15: ='Office and Banking Space'!B401 -> 0.50828637 | C15: ='Office and Banking Space'!C401 -> 14
A16: =A10 -> KZN | B16: ='Office and Banking Space'!B402 -> 0.50961729 | C16: ='Office and Banking Space'!C402 -> 22
A17: =A11 -> SA | B17: ='Office and Banking Space'!F401 -> 28215.147 | C17: ='Office and Banking Space'!G401 -> 15
A18: =A12 -> KZN | B18: ='Office and Banking Space'!F402 -> 4552.5304 | C18: ='Office and Banking Space'!G402 -> 22
A20: ='Shopping Space'!A1:F1 -> Non-Residential Buildings, Shopping space
A21: =A15 -> SA | B21: ='Shopping Space'!B401 -> 0.80788665 | C21: ='Shopping Space'!C401 -> 13
A22: =A16 -> KZN | B22: ='Shopping Space'!B402 -> 0.54202884 | C22: ='Shopping Space'!C402 -> 29
A23: =A17 -> SA | B23: ='Shopping Space'!F401 -> 28286.886 | C23: ='Shopping Space'!G401 -> 14
A24: =A18 -> KZN | B24: ='Shopping Space'!F402 -> 6321.0209 | C24: ='Shopping Space'!G402 -> 29
A26: ='Industrial and Warehouse Space'!$A$1:$F$1 -> Non-Residential Buildings, Industrial and Warehouse space
A27: =A21 -> SA | B27: ='Industrial and Warehouse Space'!B406 -> 0.89400869 | C27: ='Industrial and Warehouse Space'!C406 -> 10
A28: =A22 -> KZN | B28: ='Industrial and Warehouse Space'!B407 -> 0.51909466 | C28: ='Industrial and Warehouse Space'!C407 -> 13
A29: =A23 -> SA | B29: ='Industrial and Warehouse Space'!F406 -> 53923.721 | C29: ='Industrial and Warehouse Space'!G406 -> 13
A30: =A24 -> KZN | B30: ='Industrial and Warehouse Space'!F407 -> 13575.986 | C30: ='Industrial and Warehouse Space'!G407 -> 20

Sheet Dwelling-Houses
A1: Residential Buildings, Dwelling-Houses>=80 square metre
A2: m² | B2: SA | D2: KZN | G2: SA | I2: Buildings Completed (MA-12) | AY2: KZN | BB2: Buildings Completed (MA-12)
B3: Plans Approved | C3: Buildings Completed | D3: Plans Approved | E3: =C3 -> Buildings Completed | G3: Plans Approved (MA-12) | H3: Buildings Completed (MA-12) | I3: 1 Lag | J3: 2 Lag | K3: 3 Lag | L3: 4 Lag | M3: 5 Lag | N3: 6 Lag | O3: 7 Lag | P3: 8 Lag | Q3: 9 Lag | R3: 10 Lag | S3: 11 Lag | T3: 12 Lag | U3: 13 Lag | V3: 14 Lag | W3: 15 Lag | X3: 16 Lag | Y3: 17 Lag | Z3: 18 Lag | AA3: 19 Lag | AB3: 20 Lag | AD3: Power of Average Plans Approved and 1Lag | AE3: Power of Approded and 2Lag | AF3: Power of Approded and 3Lag | AG3: Power of Approded and 4Lag | AH3: Power of Approded and 5Lag | AI3: Power of Approded and 6Lag | AJ3: Power of Approded and 7Lag | AK3: Power of Approded and 8Lag | AL3: Power of Approded and 9Lag | AM3: Power of Approded and 10Lag | AN3: Power of Approded and 11Lag | AO3: Power of Approded and 12Lag | AP3: Power of Approded and 13Lag | AQ3: Power of Approded and 14Lag | AR3: Power of Approded and 15 Lag | AS3: Power of Approded and 16 Lag | AT3: Power of Approded and 17 Lag | AU3: Power of Approded and 18 Lag | AV3: Power of Approded and 19 Lag | AW3: Power of Approded and 20 Lag | AY3: Plans Approved (MA-12) | AZ3: Buildings Completed (MA-12) | BA3: 1 Lag | BB3: 2 Lag | BC3: 3 Lag | BD3: 4 Lag | BE3: 5 Lag | BF3: 6 Lag | BG3: 7 Lag | BH3: 8 Lag | BI3: 9 Lag | BJ3: 10 Lag | BK3: 11 Lag | BL3: 12 Lag | BM3: 13 Lag | BN3: 14 Lag | BO3: 15 Lag | BP3: 16 Lag | BQ3: 17 Lag | BR3: 18 Lag | BS3: 19 Lag | BT3: 20 Lag | BU3: 21 Lag | BV3: 22 Lag | BW3: 23 Lag | BX3: 24 Lag | BY3: 25 Lag | BZ3: 26 Lag | CA3: 27 Lag | CB3: 28 Lag | CC3: 29 Lag | CF3: Power of Approded and 1 Lag | CG3: Power of Approded and 2Lag | CH3: Power of Approded and 3Lag | CI3: Power of Approded and 4Lag | CJ3: Power of Approded and 5Lag | CK3: Power of Approded and 6Lag | CL3: Power of Approded and 7Lag | CM3: Power of Approded and 8Lag | CN3: Power of Approded and 9Lag | CO3: Power of Approded and 10Lag | CP3: Power of Approded and 11Lag | CQ3: Power of Approded and 12Lag | CR3: Power of Approded and 13Lag | CS3: Power of Approded and 14Lag | CT3: Power of Approded and 15Lag | CU3: Power of Approded and 16Lag | CV3: Power of Approded and 17 Lag | CW3: Power of Approded and 18 Lag | CX3: Power of Approded and 19 Lag | CY3: Power of Approded and 20 Lag | CZ3: Power of Approded and 21 Lag | DA3: Power of Approded and 22 Lag | DB3: Power of Approded and 23 Lag | DC3: Power of Approded and 24 Lag | DD3: Power of Approded and 25 Lag | DE3: Power of Approded and 26 Lag | DF3: Power of Approded and 27 Lag | DG3: Power of Approded and 28 Lag | DH3: Power of Approded and 29 Lag
A4: 33970 | B4: 246835 | C4: 162587 | D4: 41741 | E4: 28090
A5: 34001 | B5: 283111 | C5: 235194 | D5: 47507 | E5: 32756
A6: 34029 | B6: 308602 | C6: 224661 | D6: 48762 | E6: 35432
A7: 34060 | B7: 284626 | C7: 189874 | D7: 44510 | E7: 35145
A8: 34090 | B8: 319209 | C8: 235663 | D8: 49595 | E8: 28231
A9: 34121 | B9: 322439 | C9: 241564 | D9: 56757 | E9: 36568
A10: 34151 | B10: 311780 | C10: 272615 | D10: 52525 | E10: 40588
A11: 34182 | B11: 325137 | C11: 241635 | D11: 60509 | E11: 38184
A12: 34213 | B12: 338921 | C12: 228178 | D12: 48426 | E12: 51319
A13: 34243 | B13: 305786 | C13: 201256 | D13: 43288 | E13: 32478
A14: 34274 | B14: 334908 | C14: 258601 | D14: 59770 | E14: 39678
A15: 34304 | B15: 193680 | C15: 187753 | D15: 36418 | E15: 30082
A16: 34335 | B16: 224107 | C16: 183164 | D16: 37928 | E16: 26756 | G16: =AVERAGE(B4:B16) -> 292241.62 | H16: =AVERAGE(C4:C16) -> 220211.15 | I16: =H17 -> 223930.92 | J16: =I17 -> 222260 | K16: =J17 -> 218676.62 | L16: =K17 -> 219534.69 | M16: =L17 -> 220002.56 | N16: =M17 -> 217159.06 | O16: =N17 -> 219899.44 | P16: =O17 -> 219616.62 | ... AB16: =AA17 -> 233743.92 | AD16: =POWER($G16-I16,2) -> 4.6663507e+09 | AE16: =POWER($G16-J16,2) -> 4.8974265e+09 | AF16: =POWER($G16-K16,2) -> 5411809225 | AG16: =POWER($G16-L16,2) -> 5.2862967e+09 | AH16: =POWER($G16-M16,2) -> 5.2184808e+09 | AI16: =POWER($G16-N16,2) -> 5.6373897e+09 | AJ16: =POWER($G16-O16,2) -> 5.2333907e+09 | AK16: =POWER($G16-P16,2) -> 5.2743892e+09 | ... AW16: =POWER($G16-AB16,2) -> 3.42198e+09 | AY16: =AVERAGE(D4:D16) -> 48287.385 | AZ16: =AVERAGE(E4:E16) -> 35023.615 | BA16: =AZ17 -> 35354 | BB16: =BA17 -> 35145.231 | BC16: =BB17 -> 33913.538 | BD16: =BC17 -> 33935.692 | BE16: =BD17 -> 34156.462 | BF16: =BE17 -> 33077.462 | BG16: =BF17 -> 32602.769 | BH16: =BG17 -> 32183.615 | ... CC16: =CB17 -> 28082.769 | CF16: =POWER($AY16-BA16,2) -> 1.6727244e+08 | CG16: =POWER($AY16-BB16,2) -> 1.7271621e+08 | CH16: =POWER($AY16-BC16,2) -> 2.0660745e+08 | CI16: =POWER($AY16-BD16,2) -> 2.0597107e+08 | CJ16: =POWER($AY16-BE16,2) -> 1.9968299e+08 | CK16: =POWER($AY16-BF16,2) -> 2.3134176e+08 | CL16: =POWER($AY16-BG16,2) -> 2.4600716e+08 | CM16: =POWER($AY16-BH16,2) -> 2.5933138e+08 | ... DH16: =POWER($AY16-CC16,2) -> 4.0822648e+08
A17: 34366 | B17: 292340 | C17: 210944 | D17: 46501 | E17: 32385 | G17: =AVERAGE(B5:B17) -> 295742 | H17: =AVERAGE(C5:C17) -> 223930.92 | I17: =H18 -> 222260 | J17: =I18 -> 218676.62 | K17: =J18 -> 219534.69 | L17: =K18 -> 220002.56 | M17: =L18 -> 217159.06 | N17: =M18 -> 219899.44 | O17: =N18 -> 219616.62 | P17: =O18 -> 218385.94 | ... AB17: =AA18 -> 232525.54 | AD17: =POWER($G17-I17,2) -> 5399604324 | AE17: =POWER($G17-J17,2) -> 5.9390735e+09 | AF17: =POWER($G17-K17,2) -> 5.8075537e+09 | AG17: =POWER($G17-L17,2) -> 5.7364624e+09 | AH17: =POWER($G17-M17,2) -> 6.1752781e+09 | AI17: =POWER($G17-N17,2) -> 5.7520943e+09 | AJ17: =POWER($G17-O17,2) -> 5.7950727e+09 | AK17: =POWER($G17-P17,2) -> 5.9839604e+09 | ... AW17: =POWER($G17-AB17,2) -> 3.996321e+09 | AY17: =AVERAGE(D5:D17) -> 48653.538 | AZ17: =AVERAGE(E5:E17) -> 35354 | BA17: =AZ18 -> 35145.231 | BB17: =BA18 -> 33913.538 | BC17: =BB18 -> 33935.692 | BD17: =BC18 -> 34156.462 | BE17: =BD18 -> 33077.462 | BF17: =BE18 -> 32602.769 | BG17: =BF18 -> 32183.615 | BH17: =BG18 -> 30273 | ... CC17: =CB18 -> 27887.462 | CF17: =POWER($AY17-BA17,2) -> 1.8247438e+08 | CG17: =POWER($AY17-BB17,2) -> 217267600 | CH17: =POWER($AY17-BC17,2) -> 2.16615e+08 | CI17: =POWER($AY17-BD17,2) -> 2.1016524e+08 | CJ17: =POWER($AY17-BE17,2) -> 2.4261417e+08 | CK17: =POWER($AY17-BF17,2) -> 2.5762719e+08 | CL17: =POWER($AY17-BG17,2) -> 2.7125837e+08 | CM17: =POWER($AY17-BH17,2) -> 3.3784419e+08 | ... DH17: =POWER($AY17-CC17,2) -> 4.3122995e+08
A18: 34394 | B18: 342124 | C18: 213472 | D18: 50808 | E18: 30042 | G18: =AVERAGE(B6:B18) -> 300281.46 | H18: =AVERAGE(C6:C18) -> 222260 | I18: =H19 -> 218676.62 | J18: =I19 -> 219534.69 | K18: =J19 -> 220002.56 | L18: =K19 -> 217159.06 | M18: =L19 -> 219899.44 | N18: =M19 -> 219616.62 | O18: =N19 -> 218385.94 | P18: =O19 -> 216660.56 | ... AB18: =AA19 -> 232168.38 | AD18: =POWER($G18-I18,2) -> 6.6593509e+09 | AE18: =POWER($G18-J18,2) -> 6.5200407e+09 | AF18: =POWER($G18-K18,2) -> 6.4447016e+09 | AG18: =POWER($G18-L18,2) -> 6.9093332e+09 | AH18: =POWER($G18-M18,2) -> 6.4612698e+09 | AI18: =POWER($G18-N18,2) -> 6.5068159e+09 | AJ18: =POWER($G18-O18,2) -> 6.7068769e+09 | AK18: =POWER($G18-P18,2) -> 6.9924548e+09 | ... AW18: =POWER($G18-AB18,2) -> 4.6393912e+09 | AY18: =AVERAGE(D6:D18) -> 48907.462 | AZ18: =AVERAGE(E6:E18) -> 35145.231 | BA18: =AZ19 -> 33913.538 | BB18: =BA19 -> 33935.692 | BC18: =BB19 -> 34156.462 | BD18: =BC19 -> 33077.462 | BE18: =BD19 -> 32602.769 | BF18: =BE19 -> 32183.615 | BG18: =BF19 -> 30273 | BH18: =BG19 -> 30044.154 | ... CC18: =CB19 -> 28218.538 | CF18: =POWER($AY18-BA18,2) -> 2.2481773e+08 | CG18: =POWER($AY18-BB18,2) -> 2.2415387e+08 | CH18: =POWER($AY18-BC18,2) -> 217592001 | CI18: =POWER($AY18-BD18,2) -> 250588900 | CJ18: =POWER($AY18-BE18,2) -> 2.6584299e+08 | CK18: =POWER($AY18-BF18,2) -> 2.7968703e+08 | CL18: =POWER($AY18-BG18,2) -> 3.4724316e+08 | CM18: =POWER($AY18-BH18,2) -> 3.5582438e+08 | ... DH18: =POWER($AY18-CC18,2) -> 4.2803154e+08
A19: 34425 | B19: 237476 | C19: 178077 | D19: 28932 | E19: 19420 | G19: =AVERAGE(B7:B19) -> 294810.23 | H19: =AVERAGE(C7:C19) -> 218676.62 | I19: =H20 -> 219534.69 | J19: =I20 -> 220002.56 | K19: =J20 -> 217159.06 | L19: =K20 -> 219899.44 | M19: =L20 -> 219616.62 | N19: =M20 -> 218385.94 | O19: =N20 -> 216660.56 | P19: =O20 -> 215995.5 | ... AB19: =AA20 -> 230729.38 | AD19: =POWER($G19-I19,2) -> 5.6664067e+09 | AE19: =POWER($G19-J19,2) -> 5.5961872e+09 | AF19: =POWER($G19-K19,2) -> 6.0297039e+09 | AG19: =POWER($G19-L19,2) -> 5.6116269e+09 | AH19: =POWER($G19-M19,2) -> 5.6540783e+09 | AI19: =POWER($G19-N19,2) -> 5.8406726e+09 | AJ19: =POWER($G19-O19,2) -> 6.1073707e+09 | AK19: =POWER($G19-P19,2) -> 6.2117618e+09 | ... AW19: =POWER($G19-AB19,2) -> 4.1063548e+09 | AY19: =AVERAGE(D7:D19) -> 47382.077 | AZ19: =AVERAGE(E7:E19) -> 33913.538 | BA19: =AZ20 -> 33935.692 | BB19: =BA20 -> 34156.462 | BC19: =BB20 -> 33077.462 | BD19: =BC20 -> 32602.769 | BE19: =BD20 -> 32183.615 | BF19: =BE20 -> 30273 | BG19: =BF20 -> 30044.154 | BH19: =BG20 -> 29418.769 | ... CC19: =CB20 -> 28967.846 | CF19: =POWER($AY19-BA19,2) -> 1.8080526e+08 | CG19: =POWER($AY19-BB19,2) -> 1.749169e+08 | CH19: =POWER($AY19-BC19,2) -> 2.0462202e+08 | CI19: =POWER($AY19-BD19,2) -> 2.1842794e+08 | CJ19: =POWER($AY19-BE19,2) -> 2.3099323e+08 | CK19: =POWER($AY19-BF19,2) -> 2.9272051e+08 | CL19: =POWER($AY19-BG19,2) -> 3.0060358e+08 | CM19: =POWER($AY19-BH19,2) -> 3.2268042e+08 | ... DH19: =POWER($AY19-CC19,2) -> 3.3908389e+08
A20: 34455 | B20: 311212 | C20: 201029 | D20: 39149 | E20: 35433 | G20: =AVERAGE(B8:B20) -> 296855.31 | H20: =AVERAGE(C8:C20) -> 219534.69 | I20: =H21 -> 220002.56 | J20: =I21 -> 217159.06 | K20: =J21 -> 219899.44 | L20: =K21 -> 219616.62 | M20: =L21 -> 218385.94 | N20: =M21 -> 216660.56 | O20: =N21 -> 215995.5 | P20: =O21 -> 214030.06 | ... AB20: =AA21 -> 228182.08 | AD20: =POWER($G20-I20,2) -> 5.9063444e+09 | AE20: =POWER($G20-J20,2) -> 6.3514915e+09 | AF20: =POWER($G20-K20,2) -> 5.922206e+09 | AG20: =POWER($G20-L20,2) -> 5.9658141e+09 | AH20: =POWER($G20-M20,2) -> 6.1574421e+09 | AI20: =POWER($G20-N20,2) -> 6.4311972e+09 | AJ20: =POWER($G20-O20,2) -> 6.5383085e+09 | AK20: =POWER($G20-P20,2) -> 6.8600212e+09 | ... AW20: =POWER($G20-AB20,2) -> 4.7160126e+09 | AY20: =AVERAGE(D8:D20) -> 46969.692 | AZ20: =AVERAGE(E8:E20) -> 33935.692 | BA20: =AZ21 -> 34156.462 | BB20: =BA21 -> 33077.462 | BC20: =BB21 -> 32602.769 | BD20: =BC21 -> 32183.615 | BE20: =BD21 -> 30273 | BF20: =BE21 -> 30044.154 | BG20: =BF21 -> 29418.769 | BH20: =BG21 -> 29022.538 | ... CC20: =CB21 -> 29128.538 | CF20: =POWER($AY20-BA20,2) -> 1.6417888e+08 | CG20: =POWER($AY20-BB20,2) -> 1.9299408e+08 | CH20: =POWER($AY20-BC20,2) -> 2.0640848e+08 | CI20: =POWER($AY20-BD20,2) -> 2.1862807e+08 | CJ20: =POWER($AY20-BE20,2) -> 2.7877953e+08 | CK20: =POWER($AY20-BF20,2) -> 2.8647385e+08 | CL20: =POWER($AY20-BG20,2) -> 3.080349e+08 | CM20: =POWER($AY20-BH20,2) -> 3.2210033e+08 | ... DH20: =POWER($AY20-CC20,2) -> 3.1830677e+08
A21: 34486 | B21: 387197 | C21: 251555 | D21: 47378 | E21: 31101 | G21: =AVERAGE(B6:B21) -> 302471.5 | H21: =AVERAGE(C6:C21) -> 220002.56 | I21: =H22 -> 217159.06 | J21: =I22 -> 219899.44 | K21: =J22 -> 219616.62 | L21: =K22 -> 218385.94 | M21: =L22 -> 216660.56 | N21: =M22 -> 215995.5 | O21: =N22 -> 214030.06 | P21: =O22 -> 216753.69 | ... AB21: =AA22 -> 231310 | AD21: =POWER($G21-I21,2) -> 7.278212e+09 | AE21: =POWER($G21-J21,2) -> 6.8181455e+09 | AF21: =POWER($G21-K21,2) -> 6.8649303e+09 | AG21: =POWER($G21-L21,2) -> 7.0703818e+09 | AH21: =POWER($G21-M21,2) -> 7.363517e+09 | AI21: =POWER($G21-N21,2) -> 7478098576 | AJ21: =POWER($G21-O21,2) -> 7.8218879e+09 | AK21: =POWER($G21-P21,2) -> 7.3475434e+09 | ... AW21: =POWER($G21-AB21,2) -> 5.0639591e+09 | AY21: =AVERAGE(D9:D21) -> 46799.154 | AZ21: =AVERAGE(E9:E21) -> 34156.462 | BA21: =AZ22 -> 33077.462 | BB21: =BA22 -> 32602.769 | BC21: =BB22 -> 32183.615 | BD21: =BC22 -> 30273 | BE21: =BD22 -> 30044.154 | BF21: =BE22 -> 29418.769 | BG21: =BF22 -> 29022.538 | BH21: =BG22 -> 29501.077 | ... CC21: =CB22 -> 29386.231 | CF21: =POWER($AY21-BA21,2) -> 1.8828484e+08 | CG21: =POWER($AY21-BB21,2) -> 2.0153734e+08 | CH21: =POWER($AY21-BC21,2) -> 2.1361396e+08 | CI21: =POWER($AY21-BD21,2) -> 2.7311376e+08 | CJ21: =POWER($AY21-BE21,2) -> 2.8073002e+08 | CK21: =POWER($AY21-BF21,2) -> 3.0207777e+08 | CL21: =POWER($AY21-BG21,2) -> 3.1600805e+08 | CM21: =POWER($AY21-BH21,2) -> 2.9922347e+08 | ... DH21: =POWER($AY21-CC21,2) -> 3.0320989e+08
A22: 34516 | B22: 348685 | C22: 179165 | D22: 43932 | E22: 22541 | G22: =AVERAGE(B7:B22) -> 304976.69 | H22: =AVERAGE(C7:C22) -> 217159.06 | I22: =H23 -> 219899.44 | J22: =I23 -> 219616.62 | K22: =J23 -> 218385.94 | L22: =K23 -> 216660.56 | M22: =L23 -> 215995.5 | N22: =M23 -> 214030.06 | O22: =N23 -> 216753.69 | P22: =O23 -> 214713.44 | ... AB22: =AA23 -> 230200.69 | AD22: =POWER($G22-I22,2) -> 7.2381385e+09 | AE22: =POWER($G22-J22,2) -> 7.2863403e+09 | AF22: =POWER($G22-K22,2) -> 7.497958e+09 | AG22: =POWER($G22-L22,2) -> 7.7997379e+09 | AH22: =POWER($G22-M22,2) -> 7.9176517e+09 | AI22: =POWER($G22-N22,2) -> 8.2712886e+09 | AJ22: =POWER($G22-O22,2) -> 7783297729 | AK22: =POWER($G22-P22,2) -> 8.1474543e+09 | ... AW22: =POWER($G22-AB22,2) -> 5.5914495e+09 | AY22: =AVERAGE(D10:D22) -> 45812.615 | AZ22: =AVERAGE(E10:E22) -> 33077.462 | BA22: =AZ23 -> 32602.769 | BB22: =BA23 -> 32183.615 | BC22: =BB23 -> 30273 | BD22: =BC23 -> 30044.154 | BE22: =BD23 -> 29418.769 | BF22: =BE23 -> 29022.538 | BG22: =BF23 -> 29501.077 | BH22: =BG23 -> 30105.308 | ... CC22: =CB23 -> 29192.077 | CF22: =POWER($AY22-BA22,2) -> 1.7450004e+08 | CG22: =POWER($AY22-BB22,2) -> 185749641 | CH22: =POWER($AY22-BC22,2) -> 2.4147965e+08 | CI22: =POWER($AY22-BD22,2) -> 2.4864438e+08 | CJ22: =POWER($AY22-BE22,2) -> 2.6875819e+08 | CK22: =POWER($AY22-BF22,2) -> 2.8190668e+08 | CL22: =POWER($AY22-BG22,2) -> 2.6606629e+08 | CM22: =POWER($AY22-BH22,2) -> 2.4671951e+08 | ... DH22: =POWER($AY22-CC22,2) -> 2.762423e+08
A23: 34547 | B23: 422457 | C23: 233720 | D23: 55068 | E23: 34417 | G23: =AVERAGE(B8:B23) -> 313591.12 | H23: =AVERAGE(C8:C23) -> 219899.44 | I23: =H24 -> 219616.62 | J23: =I24 -> 218385.94 | K23: =J24 -> 216660.56 | L23: =K24 -> 215995.5 | M23: =L24 -> 214030.06 | N23: =M24 -> 216753.69 | O23: =N24 -> 214713.44 | P23: =O24 -> 215151.81 | ... AB23: =AA24 -> 232057.54 | AD23: =POWER($G23-I23,2) -> 8.8312067e+09 | AE23: =POWER($G23-J23,2) -> 9.0640277e+09 | AF23: =POWER($G23-K23,2) -> 9.3955339e+09 | AG23: =POWER($G23-L23,2) -> 9.524906e+09 | AH23: =POWER($G23-M23,2) -> 9.9124052e+09 | AI23: =POWER($G23-N23,2) -> 9.3774893e+09 | AJ23: =POWER($G23-O23,2) -> 9.7767971e+09 | AK23: =POWER($G23-P23,2) -> 9.6902982e+09 | ... AW23: =POWER($G23-AB23,2) -> 6.6477257e+09 | AY23: =AVERAGE(D11:D23) -> 46008.231 | AZ23: =AVERAGE(E11:E23) -> 32602.769 | BA23: =AZ24 -> 32183.615 | BB23: =BA24 -> 30273 | BC23: =BB24 -> 30044.154 | BD23: =BC24 -> 29418.769 | BE23: =BD24 -> 29022.538 | BF23: =BE24 -> 29501.077 | BG23: =BF24 -> 30105.308 | BH23: =BG24 -> 29484.538 | ... CC23: =CB24 -> 29157.538 | CF23: =POWER($AY23-BA23,2) -> 1.9111999e+08 | CG23: =POWER($AY23-BB23,2) -> 2.4759749e+08 | CH23: =POWER($AY23-BC23,2) -> 2.5485175e+08 | CI23: =POWER($AY23-BD23,2) -> 2.7521023e+08 | CJ23: =POWER($AY23-BE23,2) -> 2.8851374e+08 | CK23: =POWER($AY23-BF23,2) -> 2.7248613e+08 | CL23: =POWER($AY23-BG23,2) -> 2.5290296e+08 | CM23: =POWER($AY23-BH23,2) -> 2.7303241e+08 | ... DH23: =POWER($AY23-CC23,2) -> 2.8394583e+08
A24: 34578 | B24: 426034 | C24: 231138 | D24: 59053 | E24: 32735 | G24: =AVERAGE(B9:B24) -> 320267.69 | H24: =AVERAGE(C9:C24) -> 219616.62 | I24: =H25 -> 218385.94 | J24: =I25 -> 216660.56 | K24: =J25 -> 215995.5 | L24: =K25 -> 214030.06 | M24: =L25 -> 216753.69 | N24: =M25 -> 214713.44 | O24: =N25 -> 215151.81 | P24: =O25 -> 223556.08 | ... AB24: =AA25 -> 235092.31 | AD24: =POWER($G24-I24,2) -> 1.0379891e+10 | AE24: =POWER($G24-J24,2) -> 1.0734436e+10 | AF24: =POWER($G24-K24,2) -> 1.0872689e+10 | AG24: =POWER($G24-L24,2) -> 1.1286433e+10 | AH24: =POWER($G24-M24,2) -> 10715148196 | AI24: =POWER($G24-N24,2) -> 1.11417e+10 | AJ24: =POWER($G24-O24,2) -> 1.1049347e+10 | AK24: =POWER($G24-P24,2) -> 9.3531356e+09 | ... AW24: =POWER($G24-AB24,2) -> 7.2548453e+09 | AY24: =AVERAGE(D12:D24) -> 45896.231 | AZ24: =AVERAGE(E12:E24) -> 32183.615 | BA24: =AZ25 -> 30273 | BB24: =BA25 -> 30044.154 | BC24: =BB25 -> 29418.769 | BD24: =BC25 -> 29022.538 | BE24: =BD25 -> 29501.077 | BF24: =BE25 -> 30105.308 | BG24: =BF25 -> 29484.538 | BH24: =BG25 -> 30672.538 | ... CC24: =CB25 -> 29544.077 | CF24: =POWER($AY24-BA24,2) -> 2.4408534e+08 | CG24: =POWER($AY24-BB24,2) -> 2.5128834e+08 | CH24: =POWER($AY24-BC24,2) -> 2.7150674e+08 | CI24: =POWER($AY24-BD24,2) -> 2.8472149e+08 | CJ24: =POWER($AY24-BE24,2) -> 2.6880107e+08 | CK24: =POWER($AY24-BF24,2) -> 2.4935325e+08 | CL24: =POWER($AY24-BG24,2) -> 2.6934364e+08 | CM24: =POWER($AY24-BH24,2) -> 2.3176081e+08 | ... DH24: =POWER($AY24-CC24,2) -> 2.6739294e+08
A25: 34608 | B25: 411585 | C25: 221873 | D25: 49861 | E25: 26481 | G25: =AVERAGE(B10:B25) -> 325839.31 | H25: =AVERAGE(C10:C25) -> 218385.94 | I25: =H26 -> 216660.56 | J25: =I26 -> 215995.5 | K25: =J26 -> 214030.06 | L25: =K26 -> 216753.69 | M25: =L26 -> 214713.44 | N25: =M26 -> 215151.81 | O25: =N26 -> 223556.08 | P25: =O26 -> 226525.38 | ... AB25: =AA26 -> 231648.23 | AD25: =POWER($G25-I25,2) -> 1.1919999e+10 | AE25: =POWER($G25-J25,2) -> 1.2065663e+10 | AF25: =POWER($G25-K25,2) -> 1.2501308e+10 | AG25: =POWER($G25-L25,2) -> 1.1899674e+10 | AH25: =POWER($G25-M25,2) -> 1.234896e+10 | AI25: =POWER($G25-N25,2) -> 1.2251723e+10 | AJ25: =POWER($G25-O25,2) -> 1.046186e+10 | AK25: =POWER($G25-P25,2) -> 9.8632563e+09 | ... AW25: =POWER($G25-AB25,2) -> 8.8719599e+09 | AY25: =AVERAGE(D13:D25) -> 46006.615 | AZ25: =AVERAGE(E13:E25) -> 30273 | BA25: =AZ26 -> 30044.154 | BB25: =BA26 -> 29418.769 | BC25: =BB26 -> 29022.538 | BD25: =BC26 -> 29501.077 | BE25: =BD26 -> 30105.308 | BF25: =BE26 -> 29484.538 | BG25: =BF26 -> 30672.538 | BH25: =BG26 -> 30193.615 | ... CC25: =CB26 -> 29156.538 | CF25: =POWER($AY25-BA25,2) -> 2.5480018e+08 | CG25: =POWER($AY25-BB25,2) -> 2.7515664e+08 | CH25: =POWER($AY25-BC25,2) -> 2.8845887e+08 | CI25: =POWER($AY25-BD25,2) -> 2.724328e+08 | CJ25: =POWER($AY25-BE25,2) -> 2.5285159e+08 | CK25: =POWER($AY25-BF25,2) -> 2.7297903e+08 | CL25: =POWER($AY25-BG25,2) -> 2.3513392e+08 | CM25: =POWER($AY25-BH25,2) -> 250050969 | ... DH25: =POWER($AY25-CC25,2) -> 2.8392509e+08
A26: 34639 | B26: 405551 | C26: 245009 | D26: 53473 | E26: 29503 | G26: =AVERAGE(B11:B26) -> 331700 | H26: =AVERAGE(C11:C26) -> 216660.56 | I26: =H27 -> 215995.5 | J26: =I27 -> 214030.06 | K26: =J27 -> 216753.69 | L26: =K27 -> 214713.44 | M26: =L27 -> 215151.81 | N26: =M27 -> 223556.08 | O26: =N27 -> 226525.38 | P26: =O27 -> 226325.38 | ... AB26: =AA27 -> 230993.23 | AD26: =POWER($G26-I26,2) -> 1.3387531e+10 | AE26: =POWER($G26-J26,2) -> 1.3846214e+10 | AF26: =POWER($G26-K26,2) -> 1.3212655e+10 | AG26: =POWER($G26-L26,2) -> 1.3685856e+10 | AH26: =POWER($G26-M26,2) -> 1.358348e+10 | AI26: =POWER($G26-N26,2) -> 1.1695108e+10 | AJ26: =POWER($G26-O26,2) -> 1.10617e+10 | AK26: =POWER($G26-P26,2) -> 1.110381e+10 | ... AW26: =POWER($G26-AB26,2) -> 1.0141853e+10 | AY26: =AVERAGE(D14:D26) -> 46790.077 | AZ26: =AVERAGE(E14:E26) -> 30044.154 | BA26: =AZ27 -> 29418.769 | BB26: =BA27 -> 29022.538 | BC26: =BB27 -> 29501.077 | BD26: =BC27 -> 30105.308 | BE26: =BD27 -> 29484.538 | BF26: =BE27 -> 30672.538 | BG26: =BF27 -> 30193.615 | BH26: =BG27 -> 30442.231 | ... CC26: =CB27 -> 29010.692 | CF26: =POWER($AY26-BA26,2) -> 3.0176233e+08 | CG26: =POWER($AY26-BB26,2) -> 3.1568542e+08 | CH26: =POWER($AY26-BC26,2) -> 298909521 | CI26: =POWER($AY26-BD26,2) -> 2.7838152e+08 | CJ26: =POWER($AY26-BE26,2) -> 2.9948166e+08 | CK26: =POWER($AY26-BF26,2) -> 2.5977505e+08 | CL26: =POWER($AY26-BG26,2) -> 2.7544254e+08 | CM26: =POWER($AY26-BH26,2) -> 2.6725207e+08 | ... DH26: =POWER($AY26-CC26,2) -> 3.1610652e+08
A27: 34669 | B27: 275869 | C27: 230994 | D27: 39965 | E27: 31548 | G27: =AVERAGE(B12:B27) -> 328620.75 | H27: =AVERAGE(C12:C27) -> 215995.5 | I27: =H28 -> 214030.06 | J27: =I28 -> 216753.69 | K27: =J28 -> 214713.44 | L27: =K28 -> 215151.81 | M27: =L28 -> 223556.08 | N27: =M28 -> 226525.38 | O27: =N28 -> 226325.38 | P27: =O28 -> 233482.31 | ... AB27: =AA28 -> 232886.92 | AD27: =POWER($G27-I27,2) -> 1.3131026e+10 | AE27: =POWER($G27-J27,2) -> 1.251424e+10 | AF27: =POWER($G27-K27,2) -> 1.2974876e+10 | AG27: =POWER($G27-L27,2) -> 1.28752e+10 | AH27: =POWER($G27-M27,2) -> 1.1038586e+10 | AI27: =POWER($G27-N27,2) -> 1.0423464e+10 | AJ27: =POWER($G27-O27,2) -> 1.0464342e+10 | AK27: =POWER($G27-P27,2) -> 9.0513232e+09 | ... AW27: =POWER($G27-AB27,2) -> 9.1649656e+09 | AY27: =AVERAGE(D15:D27) -> 45266.615 | AZ27: =AVERAGE(E15:E27) -> 29418.769 | BA27: =AZ28 -> 29022.538 | BB27: =BA28 -> 29501.077 | BC27: =BB28 -> 30105.308 | BD27: =BC28 -> 29484.538 | BE27: =BD28 -> 30672.538 | BF27: =BE28 -> 30193.615 | BG27: =BF28 -> 30442.231 | BH27: =BG28 -> 31101.385 | ... CC27: =CB28 -> 29223.923 | CF27: =POWER($AY27-BA27,2) -> 2.6387004e+08 | CG27: =POWER($AY27-BB27,2) -> 2.485522e+08 | CH27: =POWER($AY27-BC27,2) -> 2.2986525e+08 | CI27: =POWER($AY27-BD27,2) -> 2.4907395e+08 | CJ27: =POWER($AY27-BE27,2) -> 2.1298708e+08 | CK27: =POWER($AY27-BF27,2) -> 227195329 | CL27: =POWER($AY27-BG27,2) -> 2.1976238e+08 | CM27: =POWER($AY27-BH27,2) -> 2.0065376e+08 | ... DH27: =POWER($AY27-CC27,2) -> 2.5736798e+08
A28: 34700 | B28: 343239 | C28: 196731 | D28: 56823 | E28: 24931 | G28: =AVERAGE(B13:B28) -> 328890.62 | H28: =AVERAGE(C13:C28) -> 214030.06 | I28: =H29 -> 216753.69 | J28: =I29 -> 214713.44 | K28: =J29 -> 215151.81 | L28: =K29 -> 223556.08 | M28: =L29 -> 226525.38 | N28: =M29 -> 226325.38 | O28: =N29 -> 233482.31 | P28: =O29 -> 233743.92 | ... AB28: =AA29 -> 232047.46 | AD28: =POWER($G28-I28,2) -> 1.2574693e+10 | AE28: =POWER($G28-J28,2) -> 1.303643e+10 | AF28: =POWER($G28-K28,2) -> 1.2936517e+10 | AG28: =POWER($G28-L28,2) -> 1.1095367e+10 | AH28: =POWER($G28-M28,2) -> 1.0478642e+10 | AI28: =POWER($G28-N28,2) -> 1.0519629e+10 | AJ28: =POWER($G28-O28,2) -> 9.102747e+09 | AK28: =POWER($G28-P28,2) -> 9.0528949e+09 | ... AW28: =POWER($G28-AB28,2) -> 9.3785983e+09 | AY28: =AVERAGE(D16:D28) -> 46836.231 | AZ28: =AVERAGE(E16:E28) -> 29022.538 | BA28: =AZ29 -> 29501.077 | BB28: =BA29 -> 30105.308 | BC28: =BB29 -> 29484.538 | BD28: =BC29 -> 30672.538 | BE28: =BD29 -> 30193.615 | BF28: =BE29 -> 30442.231 | BG28: =BF29 -> 31101.385 | BH28: =BG29 -> 30906 | ... CC28: =CB29 -> 29235.615 | CF28: =POWER($AY28-BA28,2) -> 3.0050756e+08 | CG28: =POWER($AY28-BB28,2) -> 2.7992379e+08 | CH28: =POWER($AY28-BC28,2) -> 3.0108123e+08 | CI28: =POWER($AY28-BD28,2) -> 2.6126495e+08 | CJ28: =POWER($AY28-BE28,2) -> 2.7697665e+08 | CK28: =POWER($AY28-BF28,2) -> 2.6876324e+08 | CL28: =POWER($AY28-BG28,2) -> 2.4758538e+08 | CM28: =POWER($AY28-BH28,2) -> 2.5377225e+08 | ... DH28: =POWER($AY28-CC28,2) -> 3.0978166e+08
A29: 34731 | B29: 379171 | C29: 244834 | D29: 51498 | E29: 32977 | G29: =AVERAGE(B14:B29) -> 333477.19 | H29: =AVERAGE(C14:C29) -> 216753.69 | I29: =H30 -> 214713.44 | J29: =I30 -> 215151.81 | K29: =J30 -> 223556.08 | L29: =K30 -> 226525.38 | M29: =L30 -> 226325.38 | N29: =M30 -> 233482.31 | O29: =N30 -> 233743.92 | P29: =O30 -> 232525.54 | ... AB29: =AA30 -> 237163.77 | AD29: =POWER($G29-I29,2) -> 1.4104828e+10 | AE29: =POWER($G29-J29,2) -> 1.4000894e+10 | AF29: =POWER($G29-K29,2) -> 1.2082651e+10 | AG29: =POWER($G29-L29,2) -> 1.1438688e+10 | AH29: =POWER($G29-M29,2) -> 1.1481509e+10 | AI29: =POWER($G29-N29,2) -> 9.998976e+09 | AJ29: =POWER($G29-O29,2) -> 9.946724e+09 | AK29: =POWER($G29-P29,2) -> 1.0191235e+10 | ... AW29: =POWER($G29-AB29,2) -> 9.2762745e+09 | AY29: =AVERAGE(D17:D29) -> 47880.077 | AZ29: =AVERAGE(E17:E29) -> 29501.077 | BA29: =AZ30 -> 30105.308 | BB29: =BA30 -> 29484.538 | BC29: =BB30 -> 30672.538 | BD29: =BC30 -> 30193.615 | BE29: =BD30 -> 30442.231 | BF29: =BE30 -> 31101.385 | BG29: =BF30 -> 30906 | BH29: =BG30 -> 30729 | ... CC29: =CB30 -> 29147.692 | CF29: =POWER($AY29-BA29,2) -> 3.1594242e+08 | CG29: =POWER($AY29-BB29,2) -> 3.3839584e+08 | CH29: =POWER($AY29-BC29,2) -> 2.9609938e+08 | CI29: =POWER($AY29-BD29,2) -> 3.1281092e+08 | CJ29: =POWER($AY29-BE29,2) -> 3.0407848e+08 | CK29: =POWER($AY29-BF29,2) -> 2.8152452e+08 | CL29: =POWER($AY29-BG29,2) -> 2.8811929e+08 | CM29: =POWER($AY29-BH29,2) -> 2.9415944e+08 | ... DH29: =POWER($AY29-CC29,2) -> 3.5090223e+08
A30: 34759 | B30: 439341 | C30: 225957 | D30: 55749 | E30: 40240 | G30: =AVERAGE(B15:B30) -> 340004.25 | H30: =AVERAGE(C15:C30) -> 214713.44 | I30: =H31 -> 215151.81 | J30: =I31 -> 223556.08 | K30: =J31 -> 226525.38 | L30: =K31 -> 226325.38 | M30: =L31 -> 233482.31 | N30: =M31 -> 233743.92 | O30: =N31 -> 232525.54 | P30: =O31 -> 232168.38 | ... AB30: =AA31 -> 241406.92 | AD30: =POWER($G30-I30,2) -> 1.5588131e+10 | AE30: =POWER($G30-J30,2) -> 1.3560177e+10 | AF30: =POWER($G30-K30,2) -> 1.2877453e+10 | AG30: =POWER($G30-L30,2) -> 1.2922884e+10 | AH30: =POWER($G30-M30,2) -> 1.1346924e+10 | AI30: =POWER($G30-N30,2) -> 1.1291257e+10 | AJ30: =POWER($G30-O30,2) -> 1.1551673e+10 | AK30: =POWER($G30-P30,2) -> 1.1628574e+10 | ... AW30: =POWER($G30-AB30,2) -> 9.7214329e+09 | AY30: =AVERAGE(D18:D30) -> 48591.462 | AZ30: =AVERAGE(E18:E30) -> 30105.308 | BA30: =AZ31 -> 29484.538 | BB30: =BA31 -> 30672.538 | BC30: =BB31 -> 30193.615 | BD30: =BC31 -> 30442.231 | BE30: =BD31 -> 31101.385 | BF30: =BE31 -> 30906 | BG30: =BF31 -> 30729 | BH30: =BG31 -> 30536.538 | ... CC30: =CB31 -> 29008.692 | CF30: =POWER($AY30-BA30,2) -> 3.6507451e+08 | CG30: =POWER($AY30-BB30,2) -> 3.210878e+08 | CH30: =POWER($AY30-BC30,2) -> 3.3848074e+08 | CI30: =POWER($AY30-BD30,2) -> 3.2939458e+08 | CJ30: =POWER($AY30-BE30,2) -> 3.0590279e+08 | CK30: =POWER($AY30-BF30,2) -> 3.1277555e+08 | CL30: =POWER($AY30-BG30,2) -> 3.1906753e+08 | CM30: =POWER($AY30-BH30,2) -> 3.2598025e+08 | ... DH30: =POWER($AY30-CC30,2) -> 3.8348485e+08
A31: 34790 | B31: 358406 | C31: 194767 | D31: 49399 | E31: 21972 | G31: =AVERAGE(B16:B31) -> 350299.62 | H31: =AVERAGE(C16:C31) -> 215151.81 | I31: =H32 -> 223556.08 | J31: =I32 -> 226525.38 | K31: =J32 -> 226325.38 | L31: =K32 -> 233482.31 | M31: =L32 -> 233743.92 | N31: =M32 -> 232525.54 | O31: =N32 -> 232168.38 | P31: =O32 -> 230729.38 | ... AB31: =AA32 -> 240130.54 | AD31: =POWER($G31-I31,2) -> 1.6063927e+10 | AE31: =POWER($G31-J31,2) -> 1.5320063e+10 | AF31: =POWER($G31-K31,2) -> 1.5369612e+10 | AG31: =POWER($G31-L31,2) -> 1.3646286e+10 | AH31: =POWER($G31-M31,2) -> 1.3585232e+10 | AI31: =POWER($G31-N31,2) -> 1.3870735e+10 | AJ31: =POWER($G31-O31,2) -> 1.395499e+10 | AK31: =POWER($G31-P31,2) -> 1.4297042e+10 | ... AW31: =POWER($G31-AB31,2) -> 1.2137228e+10 | AY31: =AVERAGE(D19:D31) -> 48483.077 | AZ31: =AVERAGE(E19:E31) -> 29484.538 | BA31: =AZ32 -> 30672.538 | BB31: =BA32 -> 30193.615 | BC31: =BB32 -> 30442.231 | BD31: =BC32 -> 31101.385 | BE31: =BD32 -> 30906 | BF31: =BE32 -> 30729 | BG31: =BF32 -> 30536.538 | BH31: =BG32 -> 30179.846 | ... CC31: =CB32 -> 28560.769 | CF31: =POWER($AY31-BA31,2) -> 3.1721528e+08 | CG31: =POWER($AY31-BB31,2) -> 3.345044e+08 | CH31: =POWER($AY31-BC31,2) -> 3.2547213e+08 | CI31: =POWER($AY31-BD31,2) -> 3.0212323e+08 | CJ31: =POWER($AY31-BE31,2) -> 3.0895363e+08 | CK31: =POWER($AY31-BF31,2) -> 3.1520725e+08 | CL31: =POWER($AY31-BG31,2) -> 3.2207824e+08 | CM31: =POWER($AY31-BH31,2) -> 3.3500826e+08 | ... DH31: =POWER($AY31-CC31,2) -> 3.9689834e+08
A32: 34820 | B32: 412875 | C32: 249457 | D32: 50015 | E32: 34864 | G32: =AVERAGE(B20:B32) -> 378586.31 | H32: =AVERAGE(C20:C32) -> 223556.08 | I32: =H33 -> 226525.38 | J32: =I33 -> 226325.38 | K32: =J33 -> 233482.31 | L32: =K33 -> 233743.92 | M32: =L33 -> 232525.54 | N32: =M33 -> 232168.38 | O32: =N33 -> 230729.38 | P32: =O33 -> 228182.08 | ... AB32: =AA33 -> 238512.62 | AD32: =POWER($G32-I32,2) -> 2.3122524e+10 | AE32: =POWER($G32-J32,2) -> 2.3183389e+10 | AF32: =POWER($G32-K32,2) -> 21055170816 | AG32: =POWER($G32-L32,2) -> 2.0979316e+10 | AH32: =POWER($G32-M32,2) -> 2.1333748e+10 | AI32: =POWER($G32-N32,2) -> 2.1438208e+10 | AJ32: =POWER($G32-O32,2) -> 2.186167e+10 | AK32: =POWER($G32-P32,2) -> 2.2621433e+10 | ... AW32: =POWER($G32-AB32,2) -> 1.9620639e+10 | AY32: =AVERAGE(D20:D32) -> 50104.846 | AZ32: =AVERAGE(E20:E32) -> 30672.538 | BA32: =AZ33 -> 30193.615 | BB32: =BA33 -> 30442.231 | BC32: =BB33 -> 31101.385 | BD32: =BC33 -> 30906 | BE32: =BD33 -> 30729 | BF32: =BE33 -> 30536.538 | BG32: =BF33 -> 30179.846 | BH32: =BG33 -> 29929.462 | ... CC32: =CB33 -> 27126.308 | CF32: =POWER($AY32-BA32,2) -> 3.9645711e+08 | CG32: =POWER($AY32-BB32,2) -> 3.8661844e+08 | CH32: =POWER($AY32-BC32,2) -> 3.6113155e+08 | CI32: =POWER($AY32-BD32,2) -> 3.6859569e+08 | CJ32: =POWER($AY32-BE32,2) -> 3.7542341e+08 | CK32: =POWER($AY32-BF32,2) -> 3.8291867e+08 | CL32: =POWER($AY32-BG32,2) -> 3.9700563e+08 | CM32: =POWER($AY32-BH32,2) -> 4.0704614e+08 | ... DH32: =POWER($AY32-CC32,2) -> 5.2801323e+08
A33: 34851 | B33: 386302 | C33: 239630 | D33: 52959 | E33: 29207 | G33: =AVERAGE(B21:B33) -> 384362.46 | H33: =AVERAGE(C21:C33) -> 226525.38 | I33: =H34 -> 226325.38 | J33: =I34 -> 233482.31 | K33: =J34 -> 233743.92 | L33: =K34 -> 232525.54 | M33: =L34 -> 232168.38 | N33: =M34 -> 230729.38 | O33: =N34 -> 228182.08 | P33: =O34 -> 231310 | ... AB33: =AA34 -> 237950.15 | AD33: =POWER($G33-I33,2) -> 2.4975718e+10 | AE33: =POWER($G33-J33,2) -> 2.2764821e+10 | AF33: =POWER($G33-K33,2) -> 2.2685944e+10 | AG33: =POWER($G33-L33,2) -> 2.3054451e+10 | AH33: =POWER($G33-M33,2) -> 2.3163037e+10 | AI33: =POWER($G33-N33,2) -> 2.3603122e+10 | AJ33: =POWER($G33-O33,2) -> 2.4392313e+10 | AK33: =POWER($G33-P33,2) -> 2.3425056e+10 | ... AW33: =POWER($G33-AB33,2) -> 2.1436564e+10 | AY33: =AVERAGE(D21:D33) -> 51167.154 | AZ33: =AVERAGE(E21:E33) -> 30193.615 | BA33: =AZ34 -> 30442.231 | BB33: =BA34 -> 31101.385 | BC33: =BB34 -> 30906 | BD33: =BC34 -> 30729 | BE33: =BD34 -> 30536.538 | BF33: =BE34 -> 30179.846 | BG33: =BF34 -> 29929.462 | BH33: =BG34 -> 30429.385 | ... CC33: =CB34 -> 26249.077 | CF33: =POWER($AY33-BA33,2) -> 4.2952244e+08 | CG33: =POWER($AY33-BB33,2) -> 4.0263509e+08 | CH33: =POWER($AY33-BC33,2) -> 4.1051436e+08 | CI33: =POWER($AY33-BD33,2) -> 4.1771813e+08 | CJ33: =POWER($AY33-BE33,2) -> 4.2562229e+08 | CK33: =POWER($AY33-BF33,2) -> 4.4046708e+08 | CL33: =POWER($AY33-BG33,2) -> 4.5103957e+08 | CM33: =POWER($AY33-BH33,2) -> 4.3005507e+08 | ... DH33: =POWER($AY33-CC33,2) -> 6.2091056e+08
A34: 34881 | B34: 426225 | C34: 248955 | D34: 63044 | E34: 34333 | G34: =AVERAGE(B22:B34) -> 387364.62 | H34: =AVERAGE(C22:C34) -> 226325.38 | I34: =H35 -> 233482.31 | J34: =I35 -> 233743.92 | K34: =J35 -> 232525.54 | L34: =K35 -> 232168.38 | M34: =L35 -> 230729.38 | N34: =M35 -> 228182.08 | O34: =N35 -> 231310 | P34: =O35 -> 230200.69 | ... AB34: =AA35 -> 232612.85 | AD34: =POWER($G34-I34,2) -> 2.3679765e+10 | AE34: =POWER($G34-J34,2) -> 2.3599317e+10 | AF34: =POWER($G34-K34,2) -> 2.397514e+10 | AG34: =POWER($G34-L34,2) -> 2.408587e+10 | AH34: =POWER($G34-M34,2) -> 2.4534596e+10 | AI34: =POWER($G34-N34,2) -> 2.5339081e+10 | AJ34: =POWER($G34-O34,2) -> 2.4353043e+10 | AK34: =POWER($G34-P34,2) -> 2.4700499e+10 | ... AW34: =POWER($G34-AB34,2) -> 2.394811e+10 | AY34: =AVERAGE(D22:D34) -> 52372.231 | AZ34: =AVERAGE(E22:E34) -> 30442.231 | BA34: =AZ35 -> 31101.385 | BB34: =BA35 -> 30906 | BC34: =BB35 -> 30729 | BD34: =BC35 -> 30536.538 | BE34: =BD35 -> 30179.846 | BF34: =BE35 -> 29929.462 | BG34: =BF35 -> 30429.385 | BH34: =BG35 -> 29708.077 | ... CC34: =CB35 -> 24786.308 | CF34: =POWER($AY34-BA34,2) -> 4.524489e+08 | CG34: =POWER($AY34-BB34,2) -> 4.6079906e+08 | CH34: =POWER($AY34-BC34,2) -> 4.6842944e+08 | CI34: =POWER($AY34-BD34,2) -> 4.7679746e+08 | CJ34: =POWER($AY34-BE34,2) -> 4.9250193e+08 | CK34: =POWER($AY34-BF34,2) -> 5.0367789e+08 | CL34: =POWER($AY34-BG34,2) -> 4.814885e+08 | CM34: =POWER($AY34-BH34,2) -> 5.1366387e+08 | ... DH34: =POWER($AY34-CC34,2) -> 7.6098315e+08
A35: 34912 | B35: 435020 | C35: 272205 | D35: 69002 | E35: 31110 | G35: =AVERAGE(B23:B35) -> 394005.77 | H35: =AVERAGE(C23:C35) -> 233482.31 | I35: =H36 -> 233743.92 | J35: =I36 -> 232525.54 | K35: =J36 -> 232168.38 | L35: =K36 -> 230729.38 | M35: =L36 -> 228182.08 | N35: =M36 -> 231310 | O35: =N36 -> 230200.69 | P35: =O36 -> 232057.54 | ... AB35: =AA36 -> 229209.77 | AD35: =POWER($G35-I35,2) -> 2.5683859e+10 | AE35: =POWER($G35-J35,2) -> 2.6075865e+10 | AF35: =POWER($G35-K35,2) -> 2.6191339e+10 | AG35: =POWER($G35-L35,2) -> 2.6659178e+10 | AH35: =POWER($G35-M35,2) -> 2.7497497e+10 | AI35: =POWER($G35-N35,2) -> 2.6469913e+10 | AJ35: =POWER($G35-O35,2) -> 2.6832103e+10 | AK35: =POWER($G35-P35,2) -> 2.6227229e+10 | ... AW35: =POWER($G35-AB35,2) -> 2.7157722e+10 | AY35: =AVERAGE(D23:D35) -> 54300.692 | AZ35: =AVERAGE(E23:E35) -> 31101.385 | BA35: =AZ36 -> 30906 | BB35: =BA36 -> 30729 | BC35: =BB36 -> 30536.538 | BD35: =BC36 -> 30179.846 | BE35: =BD36 -> 29929.462 | BF35: =BE36 -> 30429.385 | BG35: =BF36 -> 29708.077 | BH35: =BG36 -> 28775.308 | ... CC35: =CB36 -> 24367.231 | CF35: =POWER($AY35-BA35,2) -> 5.4731163e+08 | CG35: =POWER($AY35-BB35,2) -> 5.5562468e+08 | CH35: =POWER($AY35-BC35,2) -> 5.6473501e+08 | CI35: =POWER($AY35-BD35,2) -> 5.8181522e+08 | CJ35: =POWER($AY35-BE35,2) -> 5.9395689e+08 | CK35: =POWER($AY35-BF35,2) -> 5.6983933e+08 | CL35: =POWER($AY35-BG35,2) -> 6.0479673e+08 | CM35: =POWER($AY35-BH35,2) -> 6.5154526e+08 | ... DH35: =POWER($AY35-CC35,2) -> 8.9601212e+08
A36: 34943 | B36: 397509 | C36: 237121 | D36: 50031 | E36: 31877 | G36: =AVERAGE(B24:B36) -> 392086.69 | H36: =AVERAGE(C24:C36) -> 233743.92 | I36: =H37 -> 232525.54 | J36: =I37 -> 232168.38 | K36: =J37 -> 230729.38 | L36: =K37 -> 228182.08 | M36: =L37 -> 231310 | N36: =M37 -> 230200.69 | O36: =N37 -> 232057.54 | P36: =O37 -> 235092.31 | ... AB36: =AA37 -> 224473.62 | AD36: =POWER($G36-I36,2) -> 2.5459762e+10 | AE36: =POWER($G36-J36,2) -> 2.5573865e+10 | AF36: =POWER($G36-K36,2) -> 2.6036181e+10 | AG36: =POWER($G36-L36,2) -> 2.6864723e+10 | AH36: =POWER($G36-M36,2) -> 2.5849145e+10 | AI36: =POWER($G36-N36,2) -> 26207076996 | AJ36: =POWER($G36-O36,2) -> 2.560933e+10 | AK36: =POWER($G36-P36,2) -> 2.4647237e+10 | ... AW36: =POWER($G36-AB36,2) -> 2.8094144e+10 | AY36: =AVERAGE(D24:D36) -> 53913.231 | AZ36: =AVERAGE(E24:E36) -> 30906 | BA36: =AZ37 -> 30729 | BB36: =BA37 -> 30536.538 | BC36: =BB37 -> 30179.846 | BD36: =BC37 -> 29929.462 | BE36: =BD37 -> 30429.385 | BF36: =BE37 -> 29708.077 | BG36: =BF37 -> 28775.308 | BH36: =BG37 -> 29029.077 | ... CC36: =CB37 -> 23800.769 | CF36: =POWER($AY36-BA36,2) -> 5.3750856e+08 | CG36: =POWER($AY36-BB36,2) -> 5.4646974e+08 | CH36: =POWER($AY36-BC36,2) -> 5.6327355e+08 | CI36: =POWER($AY36-BD36,2) -> 5.7522119e+08 | CJ36: =POWER($AY36-BE36,2) -> 5.5149103e+08 | CK36: =POWER($AY36-BF36,2) -> 5.8588947e+08 | CL36: =POWER($AY36-BG36,2) -> 6.3191518e+08 | CM36: =POWER($AY36-BH36,2) -> 6.1922111e+08 | ... DH36: =POWER($AY36-CC36,2) -> 9.0676034e+08
A37: 34973 | B37: 419101 | C37: 215299 | D37: 52698 | E37: 30434 | G37: =AVERAGE(B25:B37) -> 391553.38 | H37: =AVERAGE(C25:C37) -> 232525.54 | I37: =H38 -> 232168.38 | J37: =I38 -> 230729.38 | K37: =J38 -> 228182.08 | L37: =K38 -> 231310 | M37: =L38 -> 230200.69 | N37: =M38 -> 232057.54 | O37: =N38 -> 235092.31 | P37: =O38 -> 231648.23 | ... AB37: =AA38 -> 220858.46 | AD37: =POWER($G37-I37,2) -> 25403578225 | AE37: =POWER($G37-J37,2) -> 25864358976 | AF37: =POWER($G37-K37,2) -> 2.6690184e+10 | AG37: =POWER($G37-L37,2) -> 2.5677942e+10 | AH37: =POWER($G37-M37,2) -> 2.6034691e+10 | AI37: =POWER($G37-N37,2) -> 2.5438925e+10 | AJ37: =POWER($G37-O37,2) -> 2.4480069e+10 | AK37: =POWER($G37-P37,2) -> 2.5569658e+10 | ... AW37: =POWER($G37-AB37,2) -> 2.9136757e+10 | AY37: =AVERAGE(D25:D37) -> 53424.385 | AZ37: =AVERAGE(E25:E37) -> 30729 | BA37: =AZ38 -> 30536.538 | BB37: =BA38 -> 30179.846 | BC37: =BB38 -> 29929.462 | BD37: =BC38 -> 30429.385 | BE37: =BD38 -> 29708.077 | BF37: =BE38 -> 28775.308 | BG37: =BF38 -> 29029.077 | BH37: =BG38 -> 28082.769 | ... CC37: =CB38 -> 22784.538 | CF37: =POWER($AY37-BA37,2) -> 5.238535e+08 | CG37: =POWER($AY37-BB37,2) -> 5.4030857e+08 | CH37: =POWER($AY37-BC37,2) -> 5.5201141e+08 | CI37: =POWER($AY37-BD37,2) -> 528770025 | CJ37: =POWER($AY37-BE37,2) -> 5.6246325e+08 | CK37: =POWER($AY37-BF37,2) -> 6.0757699e+08 | CL37: =POWER($AY37-BG37,2) -> 5.9513104e+08 | CM37: =POWER($AY37-BH37,2) -> 6.4219747e+08 | ... DH37: =POWER($AY37-CC37,2) -> 9.3880017e+08
A38: 35004 | B38: 386848 | C38: 217230 | D38: 49574 | E38: 23979 | G38: =AVERAGE(B26:B38) -> 389650.54 | H38: =AVERAGE(C26:C38) -> 232168.38 | I38: =H39 -> 230729.38 | J38: =I39 -> 228182.08 | K38: =J39 -> 231310 | L38: =K39 -> 230200.69 | M38: =L39 -> 232057.54 | N38: =M39 -> 235092.31 | O38: =N39 -> 231648.23 | P38: =O39 -> 230993.23 | ... AB38: =AA39 -> 220981.54 | AD38: =POWER($G38-I38,2) -> 2.5255933e+10 | AE38: =POWER($G38-J38,2) -> 2.6072064e+10 | AF38: =POWER($G38-K38,2) -> 2.5071726e+10 | AG38: =POWER($G38-L38,2) -> 2.5424253e+10 | AH38: =POWER($G38-M38,2) -> 2.4835554e+10 | AI38: =POWER($G38-N38,2) -> 2.3888247e+10 | AJ38: =POWER($G38-O38,2) -> 2.4964729e+10 | AK38: =POWER($G38-P38,2) -> 2.5172141e+10 | ... AW38: =POWER($G38-AB38,2) -> 2.8449232e+10 | AY38: =AVERAGE(D26:D38) -> 53402.308 | AZ38: =AVERAGE(E26:E38) -> 30536.538 | BA38: =AZ39 -> 30179.846 | BB38: =BA39 -> 29929.462 | BC38: =BB39 -> 30429.385 | BD38: =BC39 -> 29708.077 | BE38: =BD39 -> 28775.308 | BF38: =BE39 -> 29029.077 | BG38: =BF39 -> 28082.769 | BH38: =BG39 -> 27887.462 | ... CC38: =CB39 -> 22091.308 | CF38: =POWER($AY38-BA38,2) -> 5.3928272e+08 | CG38: =POWER($AY38-BB38,2) -> 5.5097451e+08 | CH38: =POWER($AY38-BC38,2) -> 5.2775519e+08 | CI38: =POWER($AY38-BD38,2) -> 5.6141657e+08 | CJ38: =POWER($AY38-BE38,2) -> 6.0648913e+08 | CK38: =POWER($AY38-BF38,2) -> 5.9405438e+08 | CL38: =POWER($AY38-BG38,2) -> 6.4107903e+08 | CM38: =POWER($AY38-BH38,2) -> 6.5100737e+08 | ... DH38: =POWER($AY38-CC38,2) -> 9.8037872e+08
A39: 35034 | B39: 264164 | C39: 226302 | D39: 45332 | E39: 24866 | G39: =AVERAGE(B27:B39) -> 378774.62 | H39: =AVERAGE(C27:C39) -> 230729.38 | I39: =H40 -> 228182.08 | J39: =I40 -> 231310 | K39: =J40 -> 230200.69 | L39: =K40 -> 232057.54 | M39: =L40 -> 235092.31 | N39: =M40 -> 231648.23 | O39: =N40 -> 230993.23 | P39: =O40 -> 232886.92 | ... AB39: =AA40 -> 215293.15 | AD39: =POWER($G39-I39,2) -> 2.2678113e+10 | AE39: =POWER($G39-J39,2) -> 2.1745813e+10 | AF39: =POWER($G39-K39,2) -> 2.2074211e+10 | AG39: =POWER($G39-L39,2) -> 2.1525901e+10 | AH39: =POWER($G39-M39,2) -> 2.0644606e+10 | AI39: =POWER($G39-N39,2) -> 2.1646173e+10 | AJ39: =POWER($G39-O39,2) -> 2.1839338e+10 | AK39: =POWER($G39-P39,2) -> 2.1283219e+10 | ... AW39: =POWER($G39-AB39,2) -> 2.6726188e+10 | AY39: =AVERAGE(D27:D39) -> 52776.077 | AZ39: =AVERAGE(E27:E39) -> 30179.846 | BA39: =AZ40 -> 29929.462 | BB39: =BA40 -> 30429.385 | BC39: =BB40 -> 29708.077 | BD39: =BC40 -> 28775.308 | BE39: =BD40 -> 29029.077 | BF39: =BE40 -> 28082.769 | BG39: =BF40 -> 27887.462 | BH39: =BG40 -> 28218.538 | ... CC39: =CB40 -> 22300.538 | CF39: =POWER($AY39-BA39,2) -> 5.2196783e+08 | CG39: =POWER($AY39-BB39,2) -> 4.9937466e+08 | CH39: =POWER($AY39-BC39,2) -> 532132624 | CI39: =POWER($AY39-BD39,2) -> 5.7603692e+08 | CJ39: =POWER($AY39-BE39,2) -> 563920009 | CK39: =POWER($AY39-BF39,2) -> 6.0975944e+08 | CL39: =POWER($AY39-BG39,2) -> 6.1944318e+08 | CM39: =POWER($AY39-BH39,2) -> 6.030727e+08 | ... DH39: =POWER($AY39-CC39,2) -> 9.2875844e+08
A40: 35065 | B40: 307394 | C40: 197879 | D40: 36767 | E40: 28293 | G40: =AVERAGE(B28:B40) -> 381199.62 | H40: =AVERAGE(C28:C40) -> 228182.08 | I40: =H41 -> 231310 | J40: =I41 -> 230200.69 | K40: =J41 -> 232057.54 | L40: =K41 -> 235092.31 | M40: =L41 -> 231648.23 | N40: =M41 -> 230993.23 | O40: =N41 -> 232886.92 | P40: =O41 -> 232047.46 | ... AB40: =AA41 -> 210873.92 | AD40: =POWER($G40-I40,2) -> 2.2466897e+10 | AE40: =POWER($G40-J40,2) -> 2.2800675e+10 | AF40: =POWER($G40-K40,2) -> 2.2243359e+10 | AG40: =POWER($G40-L40,2) -> 2.1347345e+10 | AH40: =POWER($G40-M40,2) -> 2.2365617e+10 | AI40: =POWER($G40-N40,2) -> 2.2561958e+10 | AJ40: =POWER($G40-O40,2) -> 2.1996655e+10 | AK40: =POWER($G40-P40,2) -> 2.2246365e+10 | ... AW40: =POWER($G40-AB40,2) -> 2.9010841e+10 | AY40: =AVERAGE(D28:D40) -> 52530.077 | AZ40: =AVERAGE(E28:E40) -> 29929.462 | BA40: =AZ41 -> 30429.385 | BB40: =BA41 -> 29708.077 | BC40: =BB41 -> 28775.308 | BD40: =BC41 -> 29029.077 | BE40: =BD41 -> 28082.769 | BF40: =BE41 -> 27887.462 | BG40: =BF41 -> 28218.538 | BH40: =BG41 -> 28967.846 | ... CC40: =CB41 -> 21822 | CF40: =POWER($AY40-BA40,2) -> 4.884406e+08 | CG40: =POWER($AY40-BB40,2) -> 520843684 | CH40: =POWER($AY40-BC40,2) -> 5.6428906e+08 | CI40: =POWER($AY40-BD40,2) -> 552297001 | CJ40: =POWER($AY40-BE40,2) -> 5.9767085e+08 | CK40: =POWER($AY40-BF40,2) -> 6.0725849e+08 | CL40: =POWER($AY40-BG40,2) -> 5.910509e+08 | CM40: =POWER($AY40-BH40,2) -> 5.5517872e+08 | ... DH40: =POWER($AY40-CC40,2) -> 9.4298599e+08
...

Sheet Flats and Townhouses
A1: Residential Buildings, Flat and Townhouses
A2: m² | B2: SA | D2: KZN | G2: SA | I2: Buildings Completed (MA-12) | AZ2: KZN | BC2: Buildings Completed (MA-12)
B3: Plans Approved | C3: Buildings Completed | D3: Plans Approved | E3: =C3 -> Buildings Completed | G3: Plans Approved (MA-12) | H3: Buildings Completed (MA-12) | I3: 1 Lag | J3: 2 Lag | K3: 3 Lag | L3: 4 Lag | M3: 5 Lag | N3: 6 Lag | O3: 7 Lag | P3: 8 Lag | Q3: 9 Lag | R3: 10 Lag | S3: 11 Lag | T3: 12 Lag | U3: 13 Lag | V3: 14 Lag | W3: 15 Lag | X3: 16 Lag | Y3: 17 Lag | Z3: 18 Lag | AA3: 19 Lag | AB3: 20 Lag | AD3: Power of Average Plans Approved and 1Lag | AE3: Power of Approded and 2Lag | AF3: Power of Approded and 3Lag | AG3: Power of Approded and 4Lag | AH3: Power of Approded and 5Lag | AI3: Power of Approded and 6Lag | AJ3: Power of Approded and 7Lag | AK3: Power of Approded and 8Lag | AL3: Power of Approded and 9Lag | AM3: Power of Approded and 10Lag | AN3: Power of Approded and 11Lag | AO3: Power of Approded and 12Lag | AP3: Power of Approded and 13Lag | AQ3: Power of Approded and 14Lag | AR3: Power of Approded and 15 Lag | AS3: Power of Approded and 16 Lag | AT3: Power of Approded and 17 Lag | AU3: Power of Approded and 18 Lag | AV3: Power of Approded and 19 Lag | AW3: Power of Approded and 20 Lag | AZ3: Plans Approved (MA-12) | BA3: Buildings Completed (MA-12) | BB3: 1 Lag | BC3: 2 Lag | BD3: 3 Lag | BE3: 4 Lag | BF3: 5 Lag | BG3: 6 Lag | BH3: 7 Lag | BI3: 8 Lag | BJ3: 9 Lag | BK3: 10 Lag | BL3: 11 Lag | BM3: 12 Lag | BN3: 13 Lag | BO3: 14 Lag | BP3: 15 Lag | BQ3: 16 Lag | BR3: 17 Lag | BS3: 18 Lag | BT3: 19 Lag | BU3: 20 Lag | BV3: 21 Lag | BW3: 22 Lag | BX3: 23 Lag | BY3: 24 Lag | BZ3: 25 Lag | CA3: 26 Lag | CB3: 27 Lag | CC3: 28 Lag | CD3: 29 Lag | CG3: Power of Approded and 1 Lag | CH3: Power of Approded and 2Lag | CI3: Power of Approded and 3Lag | CJ3: Power of Approded and 4Lag | CK3: Power of Approded and 5Lag | CL3: Power of Approded and 6Lag | CM3: Power of Approded and 7Lag | CN3: Power of Approded and 8Lag | CO3: Power of Approded and 9Lag | CP3: Power of Approded and 10Lag | CQ3: Power of Approded and 11Lag | CR3: Power of Approded and 12Lag | CS3: Power of Approded and 13Lag | CT3: Power of Approded and 14Lag | CU3: Power of Approded and 15Lag | CV3: Power of Approded and 16Lag | CW3: Power of Approded and 17 Lag | CX3: Power of Approded and 18 Lag | CY3: Power of Approded and 19 Lag | CZ3: Power of Approded and 20 Lag | DA3: Power of Approded and 21 Lag | DB3: Power of Approded and 22 Lag | DC3: Power of Approded and 23 Lag | DD3: Power of Approded and 24 Lag | DE3: Power of Approded and 25 Lag | DF3: Power of Approded and 26 Lag | DG3: Power of Approded and 27 Lag | DH3: Power of Approded and 28 Lag | DI3: Power of Approded and 29 Lag
A4: 33970 | B4: 80230 | C4: 44214 | D4: 10803 | E4: 3983
A5: 34001 | B5: 106904 | C5: 61584 | D5: 28838 | E5: 15397
A6: 34029 | B6: 129898 | C6: 64557 | D6: 22256 | E6: 17249
A7: 34060 | B7: 125295 | C7: 54995 | D7: 24936 | E7: 10123
A8: 34090 | B8: 80372 | C8: 61067 | D8: 18218 | E8: 15109
A9: 34121 | B9: 175984 | C9: 121911 | D9: 66453 | E9: 38696
A10: 34151 | B10: 154152 | C10: 71881 | D10: 47397 | E10: 18900
A11: 34182 | B11: 207321 | C11: 104924 | D11: 59667 | E11: 23330
A12: 34213 | B12: 160951 | C12: 106903 | D12: 44343 | E12: 18239
A13: 34243 | B13: 140652 | C13: 77224 | D13: 51001 | E13: 16766
A14: 34274 | B14: 188678 | C14: 89388 | D14: 39117 | E14: 29127
A15: 34304 | B15: 80558 | C15: 82467 | D15: 21987 | E15: 20171
A16: 34335 | B16: 96525 | C16: 71247 | D16: 11378 | E16: 13090 | G16: =AVERAGE(B4:B16) -> 132886.15 | H16: =AVERAGE(C4:C16) -> 77874 | I16: =H17 -> 80473.308 | J16: =I17 -> 82848.692 | K16: =J17 -> 84068.462 | L16: =K17 -> 86997 | M16: =L17 -> 91441.077 | N16: =M17 -> 92341.462 | O16: =N17 -> 96665.846 | P16: =O17 -> 96026.615 | ... AB16: =AA17 -> 137108.77 | AD16: =POWER($G16-I16,2) -> 2.7471064e+09 | AE16: =POWER($G16-J16,2) -> 2.5037476e+09 | AF16: =POWER($G16-K16,2) -> 2.3831671e+09 | AG16: =POWER($G16-L16,2) -> 2.1058144e+09 | AH16: =POWER($G16-M16,2) -> 1.7176944e+09 | AI16: =POWER($G16-N16,2) -> 1.6438721e+09 | AJ16: =POWER($G16-O16,2) -> 1.3119107e+09 | AK16: =POWER($G16-P16,2) -> 1.3586256e+09 | ... AW16: =POWER($G16-AB16,2) -> 17830481 | AZ16: =AVERAGE(D4:D16) -> 34338 | BA16: =AVERAGE(E4:E16) -> 18475.385 | BB16: =BA17 -> 19773.308 | BC16: =BB17 -> 20411.769 | BD16: =BC17 -> 21336.846 | BE16: =BD17 -> 21350.308 | BF16: =BE17 -> 22018.308 | BG16: =BF17 -> 22845.154 | BH16: =BG17 -> 22772.385 | BI16: =BH17 -> 22462.385 | ... CD16: =CC17 -> 22855.154 | CG16: =POWER($AZ16-BB16,2) -> 2.1213026e+08 | CH16: =POWER($AZ16-BC16,2) -> 1.939399e+08 | CI16: =POWER($AZ16-BD16,2) -> 1.6903e+08 | CJ16: =POWER($AZ16-BE16,2) -> 1.6868015e+08 | CK16: =POWER($AZ16-BF16,2) -> 1.5177482e+08 | CL16: =POWER($AZ16-BG16,2) -> 1.3208551e+08 | CM16: =POWER($AZ16-BH16,2) -> 1.3376346e+08 | CN16: =POWER($AZ16-BI16,2) -> 1.4103024e+08 | ... DI16: =POWER($AZ16-CD16,2) -> 1.3185576e+08
A17: 34366 | B17: 134402 | C17: 78005 | D17: 41854 | E17: 20856 | G17: =AVERAGE(B5:B17) -> 137053.23 | H17: =AVERAGE(C5:C17) -> 80473.308 | I17: =H18 -> 82848.692 | J17: =I18 -> 84068.462 | K17: =J18 -> 86997 | L17: =K18 -> 91441.077 | M17: =L18 -> 92341.462 | N17: =M18 -> 96665.846 | O17: =N18 -> 96026.615 | P17: =O18 -> 97326.769 | ... AB17: =AA18 -> 138183.62 | AD17: =POWER($G17-I17,2) -> 2.938132e+09 | AE17: =POWER($G17-J17,2) -> 2.8073858e+09 | AF17: =POWER($G17-K17,2) -> 2.5056262e+09 | AG17: =POWER($G17-L17,2) -> 2.0804686e+09 | AH17: =POWER($G17-M17,2) -> 1.9991423e+09 | AI17: =POWER($G17-N17,2) -> 1.6311408e+09 | AJ17: =POWER($G17-O17,2) -> 1.6831832e+09 | AK17: =POWER($G17-P17,2) -> 1.5781917e+09 | ... AW17: =POWER($G17-AB17,2) -> 1277769.4 | AZ17: =AVERAGE(D5:D17) -> 36726.538 | BA17: =AVERAGE(E5:E17) -> 19773.308 | BB17: =BA18 -> 20411.769 | BC17: =BB18 -> 21336.846 | BD17: =BC18 -> 21350.308 | BE17: =BD18 -> 22018.308 | BF17: =BE18 -> 22845.154 | BG17: =BF18 -> 22772.385 | BH17: =BG18 -> 22462.385 | BI17: =BH18 -> 23480.231 | ... CD17: =CC18 -> 24351.077 | CG17: =POWER($AZ17-BB17,2) -> 2.661717e+08 | CH17: =POWER($AZ17-BC17,2) -> 2.3684263e+08 | CI17: =POWER($AZ17-BD17,2) -> 2.3642847e+08 | CJ17: =POWER($AZ17-BE17,2) -> 2.1633205e+08 | CK17: =POWER($AZ17-BF17,2) -> 1.9269284e+08 | CL17: =POWER($AZ17-BG17,2) -> 1.9471841e+08 | CM17: =POWER($AZ17-BH17,2) -> 2.0346608e+08 | CN17: =POWER($AZ17-BI17,2) -> 1.7546467e+08 | ... DI17: =POWER($AZ17-CD17,2) -> 1.5315205e+08
A18: 34394 | B18: 186381 | C18: 92464 | D18: 36150 | E18: 23697 | G18: =AVERAGE(B6:B18) -> 143166.85 | H18: =AVERAGE(C6:C18) -> 82848.692 | I18: =H19 -> 84068.462 | J18: =I19 -> 86997 | K18: =J19 -> 91441.077 | L18: =K19 -> 92341.462 | M18: =L19 -> 96665.846 | N18: =M19 -> 96026.615 | O18: =N19 -> 97326.769 | P18: =O19 -> 98573.462 | ... AB18: =AA19 -> 139358.08 | AD18: =POWER($G18-I18,2) -> 3.4926191e+09 | AE18: =POWER($G18-J18,2) -> 3.1550516e+09 | AF18: =POWER($G18-K18,2) -> 2.6755552e+09 | AG18: =POWER($G18-L18,2) -> 2.5832197e+09 | AH18: =POWER($G18-M18,2) -> 2162343001 | AI18: =POWER($G18-N18,2) -> 2.2222014e+09 | AJ18: =POWER($G18-O18,2) -> 2.1013127e+09 | AK18: =POWER($G18-P18,2) -> 1.98857e+09 | ... AW18: =POWER($G18-AB18,2) -> 14506723 | AZ18: =AVERAGE(D6:D18) -> 37289 | BA18: =AVERAGE(E6:E18) -> 20411.769 | BB18: =BA19 -> 21336.846 | BC18: =BB19 -> 21350.308 | BD18: =BC19 -> 22018.308 | BE18: =BD19 -> 22845.154 | BF18: =BE19 -> 22772.385 | BG18: =BF19 -> 22462.385 | BH18: =BG19 -> 23480.231 | BI18: =BH19 -> 24809.769 | ... CD18: =CC19 -> 24054.615 | CG18: =POWER($AZ18-BB18,2) -> 2.5447121e+08 | CH18: =POWER($AZ18-BC18,2) -> 2.5404191e+08 | CI18: =POWER($AZ18-BD18,2) -> 2.3319404e+08 | CJ18: =POWER($AZ18-BE18,2) -> 2.0862469e+08 | CK18: =POWER($AZ18-BF18,2) -> 2.1073212e+08 | CL18: =POWER($AZ18-BG18,2) -> 2.1982852e+08 | CM18: =POWER($AZ18-BH18,2) -> 1.9068211e+08 | CN18: =POWER($AZ18-BI18,2) -> 1.557312e+08 | ... DI18: =POWER($AZ18-CD18,2) -> 1.7514894e+08
A19: 34425 | B19: 127714 | C19: 80414 | D19: 29971 | E19: 29275 | G19: =AVERAGE(B7:B19) -> 142998.85 | H19: =AVERAGE(C7:C19) -> 84068.462 | I19: =H20 -> 86997 | J19: =I20 -> 91441.077 | K19: =J20 -> 92341.462 | L19: =K20 -> 96665.846 | M19: =L20 -> 96026.615 | N19: =M20 -> 97326.769 | O19: =N20 -> 98573.462 | P19: =O20 -> 107835.54 | ... AB19: =AA20 -> 145494.77 | AD19: =POWER($G19-I19,2) -> 3.1362068e+09 | AE19: =POWER($G19-J19,2) -> 2.6582036e+09 | AF19: =POWER($G19-K19,2) -> 2.5661706e+09 | AG19: =POWER($G19-L19,2) -> 2146746889 | AH19: =POWER($G19-M19,2) -> 2.2063905e+09 | AI19: =POWER($G19-N19,2) -> 2.0859386e+09 | AJ19: =POWER($G19-O19,2) -> 1.9736148e+09 | AK19: =POWER($G19-P19,2) -> 1.2364582e+09 | ... AW19: =POWER($G19-AB19,2) -> 6229632 | AZ19: =AVERAGE(D7:D19) -> 37882.462 | BA19: =AVERAGE(E7:E19) -> 21336.846 | BB19: =BA20 -> 21350.308 | BC19: =BB20 -> 22018.308 | BD19: =BC20 -> 22845.154 | BE19: =BD20 -> 22772.385 | BF19: =BE20 -> 22462.385 | BG19: =BF20 -> 23480.231 | BH19: =BG20 -> 24809.769 | BI19: =BH20 -> 26033.385 | ... CD19: =CC20 -> 22372.615 | CG19: =POWER($AZ19-BB19,2) -> 2.7331211e+08 | CH19: =POWER($AZ19-BC19,2) -> 2.5167138e+08 | CI19: =POWER($AZ19-BD19,2) -> 2.2612062e+08 | CJ19: =POWER($AZ19-BE19,2) -> 2.2831442e+08 | CK19: =POWER($AZ19-BF19,2) -> 2.3777877e+08 | CL19: =POWER($AZ19-BG19,2) -> 2.0742425e+08 | CM19: =POWER($AZ19-BH19,2) -> 1.7089528e+08 | CN19: =POWER($AZ19-BI19,2) -> 1.4040062e+08 | ... DI19: =POWER($AZ19-CD19,2) -> 2.4055533e+08
A20: 34455 | B20: 93827 | C20: 93066 | D20: 21737 | E20: 10298 | G20: =AVERAGE(B8:B20) -> 140578.23 | H20: =AVERAGE(C8:C20) -> 86997 | I20: =H21 -> 91441.077 | J20: =I21 -> 92341.462 | K20: =J21 -> 96665.846 | L20: =K21 -> 96026.615 | M20: =L21 -> 97326.769 | N20: =M21 -> 98573.462 | O20: =N21 -> 107835.54 | P20: =O21 -> 107808.77 | ... AB20: =AA21 -> 134854.54 | AD20: =POWER($G20-I20,2) -> 2.4144599e+09 | AE20: =POWER($G20-J20,2) -> 2.3267859e+09 | AF20: =POWER($G20-K20,2) -> 1.9282975e+09 | AG20: =POWER($G20-L20,2) -> 1.9848464e+09 | AH20: =POWER($G20-M20,2) -> 1.8706889e+09 | AI20: =POWER($G20-N20,2) -> 1.7644006e+09 | AJ20: =POWER($G20-O20,2) -> 1.0720839e+09 | AK20: =POWER($G20-P20,2) -> 1.0738376e+09 | ... AW20: =POWER($G20-AB20,2) -> 32760654 | AZ20: =AVERAGE(D8:D20) -> 37636.385 | BA20: =AVERAGE(E8:E20) -> 21350.308 | BB20: =BA21 -> 22018.308 | BC20: =BB21 -> 22845.154 | BD20: =BC21 -> 22772.385 | BE20: =BD21 -> 22462.385 | BF20: =BE21 -> 23480.231 | BG20: =BF21 -> 24809.769 | BH20: =BG21 -> 26033.385 | BI20: =BH21 -> 25275.231 | ... CD20: =CC21 -> 23314.846 | CG20: =POWER($AZ20-BB20,2) -> 2.4392433e+08 | CH20: =POWER($AZ20-BC20,2) -> 2.1878051e+08 | CI20: =POWER($AZ20-BD20,2) -> 220938496 | CJ20: =POWER($AZ20-BE20,2) -> 230250276 | CK20: =POWER($AZ20-BF20,2) -> 2.0039669e+08 | CL20: =POWER($AZ20-BG20,2) -> 1.6452206e+08 | CM20: =POWER($AZ20-BH20,2) -> 134629609 | CN20: =POWER($AZ20-BI20,2) -> 1.5279812e+08 | ... DI20: =POWER($AZ20-CD20,2) -> 2.0510646e+08
A21: 34486 | B21: 193515 | C21: 118840 | D21: 35320 | E21: 23793 | G21: =AVERAGE(B9:B21) -> 149281.54 | H21: =AVERAGE(C9:C21) -> 91441.077 | I21: =H22 -> 92341.462 | J21: =I22 -> 96665.846 | K21: =J22 -> 96026.615 | L21: =K22 -> 97326.769 | M21: =L22 -> 98573.462 | N21: =M22 -> 107835.54 | O21: =N22 -> 107808.77 | P21: =O22 -> 110640.92 | ... AB21: =AA22 -> 139069 | AD21: =POWER($G21-I21,2) -> 3.2421724e+09 | AE21: =POWER($G21-J21,2) -> 2.7684111e+09 | AF21: =POWER($G21-K21,2) -> 2.8360868e+09 | AG21: =POWER($G21-L21,2) -> 2.699298e+09 | AH21: =POWER($G21-M21,2) -> 2.5713091e+09 | AI21: =POWER($G21-N21,2) -> 1717770916 | AJ21: =POWER($G21-O21,2) -> 1.7199906e+09 | AK21: =POWER($G21-P21,2) -> 1.4930972e+09 | ... AW21: =POWER($G21-AB21,2) -> 1.0429594e+08 | AZ21: =AVERAGE(D9:D21) -> 38951.923 | BA21: =AVERAGE(E9:E21) -> 22018.308 | BB21: =BA22 -> 22845.154 | BC21: =BB22 -> 22772.385 | BD21: =BC22 -> 22462.385 | BE21: =BD22 -> 23480.231 | BF21: =BE22 -> 24809.769 | BG21: =BF22 -> 26033.385 | BH21: =BG22 -> 25275.231 | BI21: =BH22 -> 25667.692 | ... CD21: =CC22 -> 24938.308 | CG21: =POWER($AZ21-BB21,2) -> 2.5942802e+08 | CH21: =POWER($AZ21-BC21,2) -> 2.6177746e+08 | CI21: =POWER($AZ21-BD21,2) -> 2.7190488e+08 | CJ21: =POWER($AZ21-BE21,2) -> 2.3937326e+08 | CK21: =POWER($AZ21-BF21,2) -> 2.0000052e+08 | CL21: =POWER($AZ21-BG21,2) -> 1.6688864e+08 | CM21: =POWER($AZ21-BH21,2) -> 1.8705191e+08 | CN21: =POWER($AZ21-BI21,2) -> 1.7647079e+08 | ... DI21: =POWER($AZ21-CD21,2) -> 1.9638142e+08
A22: 34516 | B22: 190395 | C22: 133616 | D22: 26828 | E22: 49445 | G22: =AVERAGE(B10:B22) -> 150390.08 | H22: =AVERAGE(C10:C22) -> 92341.462 | I22: =H23 -> 96665.846 | J22: =I23 -> 96026.615 | K22: =J23 -> 97326.769 | L22: =K23 -> 98573.462 | M22: =L23 -> 107835.54 | N22: =M23 -> 107808.77 | O22: =N23 -> 110640.92 | P22: =O23 -> 118603.62 | ... AB22: =AA23 -> 145939.31 | AD22: =POWER($G22-I22,2) -> 2.886293e+09 | AE22: =POWER($G22-J22,2) -> 2.955386e+09 | AF22: =POWER($G22-K22,2) -> 2.8157146e+09 | AG22: =POWER($G22-L22,2) -> 2.6849616e+09 | AH22: =POWER($G22-M22,2) -> 1.8108887e+09 | AI22: =POWER($G22-N22,2) -> 1.8131678e+09 | AJ22: =POWER($G22-O22,2) -> 1.5799952e+09 | AK22: =POWER($G22-P22,2) -> 1.0103791e+09 | ... AW22: =POWER($G22-AB22,2) -> 19809347 | AZ22: =AVERAGE(D10:D22) -> 35903.846 | BA22: =AVERAGE(E10:E22) -> 22845.154 | BB22: =BA23 -> 22772.385 | BC22: =BB23 -> 22462.385 | BD22: =BC23 -> 23480.231 | BE22: =BD23 -> 24809.769 | BF22: =BE23 -> 26033.385 | BG22: =BF23 -> 25275.231 | BH22: =BG23 -> 25667.692 | BI22: =BH23 -> 26442 | ... CD22: =CC23 -> 23004.308 | CG22: =POWER($AZ22-BB22,2) -> 1.7243528e+08 | CH22: =POWER($AZ22-BC22,2) -> 1.8067289e+08 | CI22: =POWER($AZ22-BD22,2) -> 1.5434622e+08 | CJ22: =POWER($AZ22-BE22,2) -> 1.2307854e+08 | CK22: =POWER($AZ22-BF22,2) -> 97426011 | CL22: =POWER($AZ22-BG22,2) -> 1.1296746e+08 | CM22: =POWER($AZ22-BH22,2) -> 1.0477885e+08 | CN22: =POWER($AZ22-BI22,2) -> 89526533 | ... DI22: =POWER($AZ22-CD22,2) -> 1.6639809e+08
