Workbook

Sheet Summary
A1: KZN Leads and Lags Analysis
A2: ='Dwelling-Houses'!A1:F1 -> Residential Buildings, Dwelling-Houses>=80 square metre | U2: SA (Correlation) | V2: KZN (correlation) | W2: SA (RMSE) | X2: KZN (RMSE)
A3: ='Dwelling-Houses'!A408 -> SA | B3: ='Dwelling-Houses'!B408 -> 0.96529018 | C3: ='Dwelling-Houses'!C408 -> 12 | T3: =A2 -> Residential Buildings, Dwelling-Houses>=80 square metre | U3: =C3 -> 12 | V3: =C4 -> 11 | W3: =C5 -> 11 | X3: =C6 -> 11
A4: ='Dwelling-Houses'!A409 -> KZN | B4: ='Dwelling-Houses'!B409 -> 0.77372205 | C4: ='Dwelling-Houses'!C409 -> 11 | T4: =A8 -> Residential Buildings, Flat and Townhouses | U4: =C9 -> 9 | V4: =C10 -> 12 | W4: =C11 -> 8 | X4: =C12 -> 11
A5: ='Dwelling-Houses'!A408 -> SA | B5: ='Dwelling-Houses'!F408 -> 161088.62 | C5: ='Dwelling-Houses'!G408 -> 11 | T5: =A14 -> Non-Residential Buildings, Offices and Banking space | U5: =C15 -> 14 | V5: =C16 -> 22 | W5: =C17 -> 15 | X5: =C18 -> 22
A6: ='Dwelling-Houses'!A409 -> KZN | B6: ='Dwelling-Houses'!F409 -> 16055.254 | C6: ='Dwelling-Houses'!G409 -> 11 | T6: =A20 -> Non-Residential Buildings, Shopping space | U6: =C21 -> 13 | V6: =C22 -> 29 | W6: =C23 -> 14 | X6: =C24 -> 29
T7: =A26 -> Non-Residential Buildings, Industrial and Warehouse space | U7: =C27 -> 10 | V7: =C28 -> 13 | W7: =C29 -> 13 | X7: =C30 -> 20
A8: ='Flats and Townhouses'!A1:F1 -> Residential Buildings, Flat and Townhouses | T8: Average | U8: =AVERAGE(U3:U7) -> 11.6 | V8: =AVERAGE(V3:V7) -> 17.4 | W8: =AVERAGE(W3:W7) -> 12.2 | X8: =AVERAGE(X3:X7) -> 18.6
A9: =A3 -> SA | B9: ='Flats and Townhouses'!B406 -> 0.98188215 | C9: ='Flats and Townhouses'!C406:D406 -> 9
A10: =A4 -> KZN | B10: ='Flats and Townhouses'!B407 -> 0.97667162 | C10: ='Flats and Townhouses'!C407:D407 -> 12
A11: =A5 -> SA | B11: ='Flats and Townhouses'!F406 -> 59134.393 | C11: ='Flats and Townhouses'!G406 -> 8
A12: =A6 -> KZN | B12: ='Flats and Townhouses'!F407 -> 13432.712 | C12: ='Flats and Townhouses'!G407 -> 11
A14: ='Office and Banking Space'!A1:F1 -> Non-Residential Buildings, Offices and Banking space
A15: =A9 -> SA | B15: ='Office and Banking Space'!B401 -> 0.50828637 | C15: ='Office and Banking Space'!C401 -> 14
A16: =A10 -> KZN | B16: ='Office and Banking Space'!B402 -> 0.50961729 | C16: ='Office and Banking Space'!C402 -> 22
A17: =A11 -> SA | B17: ='Office and Banking Space'!F401 -> 28215.147 | C17: ='Office and Banking Space'!G401 -> 15
A18: =A12 -> KZN | B18: ='Office and Banking Space'!F402 -> 4552.5304 | C18: ='Office and Banking Space'!G402 -> 22
A20: ='Shopping Space'!A1:F1 -> Non-Residential Buildings, Shopping space
A21: =A15 -> SA | B21: ='Shopping Space'!B401 -> 0.80788665 | C21: ='Shopping Space'!C401 -> 13
A22: =A16 -> KZN | B22: ='Shopping Space'!B402 -> 0.54202884 | C22: ='Shopping Space'!C402 -> 29
A23: =A17 -> SA | B23: ='Shopping Space'!F401 -> 28286.886 | C23: ='Shopping Space'!G401 -> 14
A24: =A18 -> KZN | B24: ='Shopping Space'!F402 -> 6321.0209 | C24: ='Shopping Space'!G402 -> 29
A26: ='Industrial and Warehouse Space'!$A$1:$F$1 -> Non-Residential Buildings, Industrial and Warehouse space
A27: =A21 -> SA | B27: ='Industrial and Warehouse Space'!B406 -> 0.89400869 | C27: ='Industrial and Warehouse Space'!C406 -> 10
A28: =A22 -> KZN | B28: ='Industrial and Warehouse Space'!B407 -> 0.51909466 | C28: ='Industrial and Warehouse Space'!C407 -> 13
A29: =A23 -> SA | B29: ='Industrial and Warehouse Space'!F406 -> 53923.721 | C29: ='Industrial and Warehouse Space'!G406 -> 13
A30: =A24 -> KZN | B30: ='Industrial and Warehouse Space'!F407 -> 13575.986 | C30: ='Industrial and Warehouse Space'!G407 -> 20

Sheet Dwelling-Houses
A1: Residential Buildings, Dwelling-Houses>=80 square metre
A2: m² | B2: SA | D2: KZN | G2: SA | I2: Buildings Completed (MA-12) | AY2: KZN | BB2: Buildings Completed (MA-12)
B3: Plans Approved | C3: Buildings Completed | D3: Plans Approved | E3: =C3 -> Buildings Completed | G3: Plans Approved (MA-12) | H3: Buildings Completed (MA-12) | I3: 1 Lag | J3: 2 Lag | K3: 3 Lag | L3: 4 Lag | M3: 5 Lag | N3: 6 Lag | O3: 7 Lag | P3: 8 Lag | Q3: 9 Lag | R3: 10 Lag | S3: 11 Lag | T3: 12 Lag | U3: 13 Lag | V3: 14 Lag | W3: 15 Lag | X3: 16 Lag | Y3: 17 Lag | Z3: 18 Lag | AA3: 19 Lag | AB3: 20 Lag | AD3: Power of Average Plans Approved and 1Lag | AE3: Power of Approded and 2Lag | AF3: Power of Approded and 3Lag | AG3: Power of Approded and 4Lag | AH3: Power of Approded and 5Lag | AI3: Power of Approded and 6Lag | AJ3: Power of Approded and 7Lag | AK3: Power of Approded and 8Lag | AL3: Power of Approded and 9Lag | AM3: Power of Approded and 10Lag | AN3: Power of Approded and 11Lag | AO3: Power of Approded and 12Lag | AP3: Power of Approded and 13Lag | AQ3: Power of Approded and 14Lag | AR3: Power of Approded and 15 Lag | AS3: Power of Approded and 16 Lag | AT3: Power of Approded and 17 Lag | AU3: Power of Approded and 18 Lag | AV3: Power of Approded and 19 Lag | AW3: Power of Approded and 20 Lag | AY3: Plans Approved (MA-12) | AZ3: Buildings Completed (MA-12) | BA3: 1 Lag | BB3: 2 Lag | BC3: 3 Lag | BD3: 4 Lag | BE3: 5 Lag | BF3: 6 Lag | BG3: 7 Lag | BH3: 8 Lag | BI3: 9 Lag | BJ3: 10 Lag | BK3: 11 Lag | BL3: 12 Lag | BM3: 13 Lag | BN3: 14 Lag | BO3: 15 Lag | BP3: 16 Lag | BQ3: 17 Lag | BR3: 18 Lag | BS3: 19 Lag | BT3: 20 Lag | BU3: 21 Lag | BV3: 22 Lag | BW3: 23 Lag | BX3: 24 Lag | BY3: 25 Lag | BZ3: 26 Lag | CA3: 27 Lag | CB3: 28 Lag | CC3: 29 Lag | CF3: Power of Approded and 1 Lag | CG3: Power of Approded and 2Lag | CH3: Power of Approded and 3Lag | CI3: Power of Approded and 4Lag | CJ3: Power of Approded and 5Lag | CK3: Power of Approded and 6Lag | CL3: Power of Approded and 7Lag | CM3: Power of Approded and 8Lag | CN3: Power of Approded and 9Lag | CO3: Power of Approded and 10Lag | CP3: Power of Approded and 11Lag | CQ3: Power of Approded and 12Lag | CR3: Power of Approded and 13Lag | CS3: Power of Approded and 14Lag | CT3: Power of Approded and 15Lag | CU3: Power of Approded and 16Lag | CV3: Power of Approded and 17 Lag | CW3: Power of Approded and 18 Lag | CX3: Power of Approded and 19 Lag | CY3: Power of Approded and 20 Lag | CZ3: Power of Approded and 21 Lag | DA3: Power of Approded and 22 Lag | DB3: Power of Approded and 23 Lag | DC3: Power of Approded and 24 Lag | DD3: Power of Approded and 25 Lag | DE3: Power of Approded and 26 Lag | DF3: Power of Approded and 27 Lag | DG3: Power of Approded and 28 Lag | DH3: Power of Approded and 29 Lag
A4: 33970 | B4: 246835 | C4: 162587 | D4: 41741 | E4: 28090
A5: 34001 | B5: 283111 | C5: 235194 | D5: 47507 | E5: 32756
A6: 34029 | B6: 308602 | C6: 224661 | D6: 48762 | E6: 35432
A7: 34060 | B7: 284626 | C7: 189874 | D7: 44510 | E7: 35145
A8: 34090 | B8: 319209 | C8: 235663 | D8: 49595 | E8: 28231
A9: 34121 | B9: 322439 | C9: 241564 | D9: 56757 | E9: 36568
A10: 34151 | B10: 311780 | C10: 272615 | D10: 52525 | E10: 40588
A11: 34182 | B11: 325137 | C11: 241635 | D11: 60509 | E11: 38184
A12: 34213 | B12: 338921 | C12: 228178 | D12: 48426 | E12: 51319
A13: 34243 | B13: 305786 | C13: 201256 | D13: 43288 | E13: 32478
A14: 34274 | B14: 334908 | C14: 258601 | D14: 59770 | E14: 39678
A15: 34304 | B15: 193680 | C15: 187753 | D15: 36418 | E15: 30082
A16: 34335 | B16: 224107 | C16: 183164 | D16: 37928 | E16: 26756 | G16: =AVERAGE(B4:B16) -> 292241.62 | H16: =AVERAGE(C4:C16) -> 220211.15 | I16: =H17 -> 223930.92 | J16: =I17 -> 222260 | K16: =J17 -> 218676.62 | L16: =K17 -> 219534.69 | M16: =L17 -> 220002.56 | N16: =M17 -> 217159.06 | O16: =N17 -> 219899.44 | P16: =O17 -> 219616.62 | ... AB16: =AA17 -> 233743.92 | AD16: =POWER($G16-I16,2) -> 4.6663507e+09 | AE16: =POWER($G16-J16,2) -> 4.8974265e+09 | AF16: =POWER($G16-K16,2) -> 5411809225 | AG16: =POWER($G16-L16,2) -> 5.2862967e+09 | AH16: =POWER($G16-M16,2) -> 5.2184808e+09 | AI16: =POWER($G16-N16,2) -> 5.6373897e+09 | AJ16: =POWER($G16-O16,2) -> 5.2333907e+09 | AK16: =POWER($G16-P16,2) -> 5.2743892e+09 | ... AW16: =POWER($G16-AB16,2) -> 3.42198e+09 | AY16: =AVERAGE(D4:D16) -> 48287.385 | AZ16: =AVERAGE(E4:E16) -> 35023.615 | BA16: =AZ17 -> 35354 | BB16: =BA17 -> 35145.231 | BC16: =BB17 -> 33913.538 | BD16: =BC17 -> 33935.692 | BE16: =BD17 -> 34156.462 | BF16: =BE17 -> 33077.462 | BG16: =BF17 -> 32602.769 | BH16: =BG17 -> 32183.615 | ... CC16: =CB17 -> 28082.769 | CF16: =POWER($AY16-BA16,2) -> 1.6727244e+08 | CG16: =POWER($AY16-BB16,2) -> 1.7271621e+08 | CH16: =POWER($AY16-BC16,2) -> 2.0660745e+08 | CI16: =POWER($AY16-BD16,2) -> 2.0597107e+08 | CJ16: =POWER($AY16-BE16,2) -> 1.9968299e+08 | CK16: =POWER($AY16-BF16,2) -> 2.3134176e+08 | CL16: =POWER($AY16-BG16,2) -> 2.4600716e+08 | CM16: =POWER($AY16-BH16,2) -> 2.5933138e+08 | ... DH16: =POWER($AY16-CC16,2) -> 4.0822648e+08
A17: 34366 | B17: 292340 | C17: 210944 | D17: 46501 | E17: 32385 | G17: =AVERAGE(B5:B17) -> 295742 | H17: =AVERAGE(C5:C17) -> 223930.92 | I17: =H18 -> 222260 | J17: =I18 -> 218676.62 | K17: =J18 -> 219534.69 | L17: =K18 -> 220002.56 | M17: =L18 -> 217159.06 | N17: =M18 -> 219899.44 | O17: =N18 -> 219616.62 | P17: =O18 -> 218385.94 | ... AB17: =AA18 -> 232525.54 | AD17: =POWER($G17-I17,2) -> 5399604324 | AE17: =POWER($G17-J17,2) -> 5.9390735e+09 | AF17: =POWER($G17-K17,2) -> 5.8075537e+09 | AG17: =POWER($G17-L17,2) -> 5.7364624e+09 | AH17: =POWER($G17-M17,2) -> 6.1752781e+09 | AI17: =POWER($G17-N17,2) -> 5.7520943e+09 | AJ17: =POWER($G17-O17,2) -> 5.7950727e+09 | AK17: =POWER($G17-P17,2) -> 5.9839604e+09 | ... AW17: =POWER($G17-AB17,2) -> 3.996321e+09 | AY17: =AVERAGE(D5:D17) -> 48653.538 | AZ17: =AVERAGE(E5:E17) -> 35354 | BA17: =AZ18 -> 35145.231 | BB17: =BA18 -> 33913.538 | BC17: =BB18 -> 33935.692 | BD17: =BC18 -> 34156.462 | BE17: =BD18 -> 33077.462 | BF17: =BE18 -> 32602.769 | BG17: =BF18 -> 32183.615 | BH17: =BG18 -> 30273 | ... CC17: =CB18 -> 27887.462 | CF17: =POWER($AY17-BA17,2) -> 1.8247438e+08 | CG17: =POWER($AY17-BB17,2) -> 217267600 | CH17: =POWER($AY17-BC17,2) -> 2.16615e+08 | CI17: =POWER($AY17-BD17,2) -> 2.1016524e+08 | CJ17: =POWER($AY17-BE17,2) -> 2.4261417e+08 | CK17: =POWER($AY17-BF17,2) -> 2.5762719e+08 | CL17: =POWER($AY17-BG17,2) -> 2.7125837e+08 | CM17: =POWER($AY17-BH17,2) -> 3.3784419e+08 | ... DH17: =POWER($AY17-CC17,2) -> 4.3122995e+08
A18: 34394 | B18: 342124 | C18: 213472 | D18: 50808 | E18: 30042 | G18: =AVERAGE(B6:B18) -> 300281.46 | H18: =AVERAGE(C6:C18) -> 222260 | I18: =H19 -> 218676.62 | J18: =I19 -> 219534.69 | K18: =J19 -> 220002.56 | L18: =K19 -> 217159.06 | M18: =L19 -> 219899.44 | N18: =M19 -> 219616.62 | O18: =N19 -> 218385.94 | P18: =O19 -> 216660.56 | ... AB18: =AA19 -> 232168.38 | AD18: =POWER($G18-I18,2) -> 6.6593509e+09 | AE18: =POWER($G18-J18,2) -> 6.5200407e+09 | AF18: =POWER($G18-K18,2) -> 6.4447016e+09 | AG18: =POWER($G18-L18,2) -> 6.9093332e+09 | AH18: =POWER($G18-M18,2) -> 6.4612698e+09 | AI18: =POWER($G18-N18,2) -> 6.5068159e+09 | AJ18: =POWER($G18-O18,2) -> 6.7068769e+09 | AK18: =POWER($G18-P18,2) -> 6.9924548e+09 | ... AW18: =POWER($G18-AB18,2) -> 4.6393912e+09 | AY18: =AVERAGE(D6:D18) -> 48907.462 | AZ18: =AVERAGE(E6:E18) -> 35145.231 | BA18: =AZ19 -> 33913.538 | BB18: =BA19 -> 33935.692 | BC18: =BB19 -> 34156.462 | BD18: =BC19 -> 33077.462 | BE18: =BD19 -> 32602.769 | BF18: =BE19 -> 32183.615 | BG18: =BF19 -> 30273 | BH18: =BG19 -> 30044.154 | ... CC18: =CB19 -> 28218.538 | CF18: =POWER($AY18-BA18,2) -> 2.2481773e+08 | CG18: =POWER($AY18-BB18,2) -> 2.2415387e+08 | CH18: =POWER($AY18-BC18,2) -> 217592001 | CI18: =POWER($AY18-BD18,2) -> 250588900 | CJ18: =POWER($AY18-BE18,2) -> 2.6584299e+08 | CK18: =POWER($AY18-BF18,2) -> 2.7968703e+08 | CL18: =POWER($AY18-BG18,2) -> 3.4724316e+08 | CM18: =POWER($AY18-BH18,2) -> 3.5582438e+08 | ... DH18: =POWER($AY18-CC18,2) -> 4.2803154e+08
A19: 34425 | B19: 237476 | C19: 178077 | D19: 28932 | E19: 19420 | G19: =AVERAGE(B7:B19) -> 294810.23 | H19: =AVERAGE(C7:C19) -> 218676.62 | I19: =H20 -> 219534.69 | J19: =I20 -> 220002.56 | K19: =J20 -> 217159.06 | L19: =K20 -> 219899.44 | M19: =L20 -> 219616.62 | N19: =M20 -> 218385.94 | O19: =N20 -> 216660.56 | P19: =O20 -> 215995.5 | ... AB19: =AA20 -> 230729.38 | AD19: =POWER($G19-I19,2) -> 5.6664067e+09 | AE19: =POWER($G19-J19,2) -> 5.5961872e+09 | AF19: =POWER($G19-K19,2) -> 6.0297039e+09 | AG19: =POWER($G19-L19,2) -> 5.6116269e+09 | AH19: =POWER($G19-M19,2) -> 5.6540783e+09 | AI19: =POWER($G19-N19,2) -> 5.8406726e+09 | AJ19: =POWER($G19-O19,2) -> 6.1073707e+09 | AK19: =POWER($G19-P19,2) -> 6.2117618e+09 | ... AW19: =POWER($G19-AB19,2) -> 4.1063548e+09 | AY19: =AVERAGE(D7:D19) -> 47382.077 | AZ19: =AVERAGE(E7:E19) -> 33913.538 | BA19: =AZ20 -> 33935.692 | BB19: =BA20 -> 34156.462 | BC19: =BB20 -> 33077.462 | BD19: =BC20 -> 32602.769 | BE19: =BD20 -> 32183.615 | BF19: =BE20 -> 30273 | BG19: =BF20 -> 30044.154 | BH19: =BG20 -> 29418.769 | ... CC19: =CB20 -> 28967.846 | CF19: =POWER($AY19-BA19,2) -> 1.8080526e+08 | CG19: =POWER($AY19-BB19,2) -> 1.749169e+08 | CH19: =POWER($AY19-BC19,2) -> 2.0462202e+08 | CI19: =POWER($AY19-BD19,2) -> 2.1842794e+08 | CJ19: =POWER($AY19-BE19,2) -> 2.3099323e+08 | CK19: =POWER($AY19-BF19,2) -> 2.9272051e+08 | CL19: =POWER($AY19-BG19,2) -> 3.0060358e+08 | CM19: =POWER($AY19-BH19,2) -> 3.2268042e+08 | ... DH19: =POWER($AY19-CC19,2) -> 3.3908389e+08
A20: 34455 | B20: 311212 | C20: 201029 | D20: 39149 | E20: 35433 | G20: =AVERAGE(B8:B20) -> 296855.31 | H20: =AVERAGE(C8:C20) -> 219534.69 | I20: =H21 -> 220002.56 | J20: =I21 -> 217159.06 | K20: =J21 -> 219899.44 | L20: =K21 -> 219616.62 | M20: =L21 -> 218385.94 | N20: =M21 -> 216660.56 | O20: =N21 -> 215995.5 | P20: =O21 -> 214030.06 | ... AB20: =AA21 -> 228182.08 | AD20: =POWER($G20-I20,2) -> 5.9063444e+09 | AE20: =POWER($G20-J20,2) -> 6.3514915e+09 | AF20: =POWER($G20-K20,2) -> 5.922206e+09 | AG20: =POWER($G20-L20,2) -> 5.9658141e+09 | AH20: =POWER($G20-M20,2) -> 6.1574421e+09 | AI20: =POWER($G20-N20,2) -> 6.4311972e+09 | AJ20: =POWER($G20-O20,2) -> 6.5383085e+09 | AK20: =POWER($G20-P20,2) -> 6.8600212e+09 | ... AW20: =POWER($G20-AB20,2) -> 4.7160126e+09 | AY20: =AVERAGE(D8:D20) -> 46969.692 | AZ20: =AVERAGE(E8:E20) -> 33935.692 | BA20: =AZ21 -> 34156.462 | BB20: =BA21 -> 33077.462 | BC20: =BB21 -> 32602.769 | BD20: =BC21 -> 32183.615 | BE20: =BD21 -> 30273 | BF20: =BE21 -> 30044.154 | BG20: =BF21 -> 29418.769 | BH20: =BG21 -> 29022.538 | ... CC20: =CB21 -> 29128.538 | CF20: =POWER($AY20-BA20,2) -> 1.6417888e+08 | CG20: =POWER($AY20-BB20,2) -> 1.9299408e+08 | CH20: =POWER($AY20-BC20,2) -> 2.0640848e+08 | CI20: =POWER($AY20-BD20,2) -> 2.1862807e+08 | CJ20: =POWER($AY20-BE20,2) -> 2.7877953e+08 | CK20: =POWER($AY20-BF20,2) -> 2.8647385e+08 | CL20: =POWER($AY20-BG20,2) -> 3.080349e+08 | CM20: =POWER($AY20-BH20,2) -> 3.2210033e+08 | ... DH20: =POWER($AY20-CC20,2) -> 3.1830677e+08
A21: 34486 | B21: 387197 | C21: 251555 | D21: 47378 | E21: 31101 | G21: =AVERAGE(B6:B21) -> 302471.5 | H21: =AVERAGE(C6:C21) -> 220002.56 | I21: =H22 -> 217159.06 | J21: =I22 -> 219899.44 | K21: =J22 -> 219616.62 | L21: =K22 -> 218385.94 | M21: =L22 -> 216660.56 | N21: =M22 -> 215995.5 | O21: =N22 -> 214030.06 | P21: =O22 -> 216753.69 | ... AB21: =AA22 -> 231310 | AD21: =POWER($G21-I21,2) -> 7.278212e+09 | AE21: =POWER($G21-J21,2) -> 6.8181455e+09 | AF21: =POWER($G21-K21,2) -> 6.8649303e+09 | AG21: =POWER($G21-L21,2) -> 7.0703818e+09 | AH21: =POWER($G21-M21,2) -> 7.363517e+09 | AI21: =POWER($G21-N21,2) -> 7478098576 | AJ21: =POWER($G21-O21,2) -> 7.8218879e+09 | AK21: =POWER($G21-P21,2) -> 7.3475434e+09 | ... AW21: =POWER($G21-AB21,2) -> 5.0639591e+09 | AY21: =AVERAGE(D9:D21) -> 46799.154 | AZ21: =AVERAGE(E9:E21) -> 34156.462 | BA21: =AZ22 -> 33077.462 | BB21: =BA22 -> 32602.769 | BC21: =BB22 -> 32183.615 | BD21: =BC22 -> 30273 | BE21: =BD22 -> 30044.154 | BF21: =BE22 -> 29418.769 | BG21: =BF22 -> 29022.538 | BH21: =BG22 -> 29501.077 | ... CC21: =CB22 -> 29386.231 | CF21: =POWER($AY21-BA21,2) -> 1.8828484e+08 | CG21: =POWER($AY21-BB21,2) -> 2.0153734e+08 | CH21: =POWER($AY21-BC21,2) -> 2.1361396e+08 | CI21: =POWER($AY21-BD21,2) -> 2.7311376e+08 | CJ21: =POWER($AY21-BE21,2) -> 2.8073002e+08 | CK21: =POWER($AY21-BF21,2) -> 3.0207777e+08 | CL21: =POWER($AY21-BG21,2) -> 3.1600805e+08 | CM21: =POWER($AY21-BH21,2) -> 2.9922347e+08 | ... DH21: =POWER($AY21-CC21,2) -> 3.0320989e+08
A22: 34516 | B22: 348685 | C22: 179165 | D22: 43932 | E22: 22541 | G22: =AVERAGE(B7:B22) -> 304976.69 | H22: =AVERAGE(C7:C22) -> 217159.06 | I22: =H23 -> 219899.44 | J22: =I23 -> 219616.62 | K22: =J23 -> 218385.94 | L22: =K23 -> 216660.56 | M22: =L23 -> 215995.5 | N22: =M23 -> 214030.06 | O22: =N23 -> 216753.69 | P22: =O23 -> 214713.44 | ... AB22: =AA23 -> 230200.69 | AD22: =POWER($G22-I22,2) -> 7.2381385e+09 | AE22: =POWER($G22-J22,2) -> 7.2863403e+09 | AF22: =POWER($G22-K22,2) -> 7.497958e+09 | AG22: =POWER($G22-L22,2) -> 7.7997379e+09 | AH22: =POWER($G22-M22,2) -> 7.9176517e+09 | AI22: =POWER($G22-N22,2) -> 8.2712886e+09 | AJ22: =POWER($G22-O22,2) -> 7783297729 | AK22: =POWER($G22-P22,2) -> 8.1474543e+09 | ... AW22: =POWER($G22-AB22,2) -> 5.5914495e+09 | AY22: =AVERAGE(D10:D22) -> 45812.615 | AZ22: =AVERAGE(E10:E22) -> 33077.462 | BA22: =AZ23 -> 32602.769 | BB22: =BA23 -> 32183.615 | BC22: =BB23 -> 30273 | BD22: =BC23 -> 30044.154 | BE22: =BD23 -> 29418.769 | BF22: =BE23 -> 29022.538 | BG22: =BF23 -> 29501.077 | BH22: =BG23 -> 30105.308 | ... CC22: =CB23 -> 29192.077 | CF22: =POWER($AY22-BA22,2) -> 1.7450004e+08 | CG22: =POWER($AY22-BB22,2) -> 185749641 | CH22: =POWER($AY22-BC22,2) -> 2.4147965e+08 | CI22: =POWER($AY22-BD22,2) -> 2.4864438e+08 | CJ22: =POWER($AY22-BE22,2) -> 2.6875819e+08 | CK22: =POWER($AY22-BF22,2) -> 2.8190668e+08 | CL22: =POWER($AY22-BG22,2) -> 2.6606629e+08 | CM22: =POWER($AY22-BH22,2) -> 2.4671951e+08 | ... DH22: =POWER($AY22-CC22,2) -> 2.762423e+08
A23: 34547 | B23: 422457 | C23: 233720 | D23: 55068 | E23: 34417 | G23: =AVERAGE(B8:B23) -> 313591.12 | H23: =AVERAGE(C8:C23) -> 219899.44 | I23: =H24 -> 219616.62 | J23: =I24 -> 218385.94 | K23: =J24 -> 216660.56 | L23: =K24 -> 215995.5 | M23: =L24 -> 214030.06 | N23: =M24 -> 216753.69 | O23: =N24 -> 214713.44 | P23: =O24 -> 215151.81 | ... AB23: =AA24 -> 232057.54 | AD23: =POWER($G23-I23,2) -> 8.8312067e+09 | AE23: =POWER($G23-J23,2) -> 9.0640277e+09 | AF23: =POWER($G23-K23,2) -> 9.3955339e+09 | AG23: =POWER($G23-L23,2) -> 9.524906e+09 | AH23: =POWER($G23-M23,2) -> 9.9124052e+09 | AI23: =POWER($G23-N23,2) -> 9.3774893e+09 | AJ23: =POWER($G23-O23,2) -> 9.7767971e+09 | AK23: =POWER($G23-P23,2) -> 9.6902982e+09 | ... AW23: =POWER($G23-AB23,2) -> 6.6477257e+09 | AY23: =AVERAGE(D11:D23) -> 46008.231 | AZ23: =AVERAGE(E11:E23) -> 32602.769 | BA23: =AZ24 -> 32183.615 | BB23: =BA24 -> 30273 | BC23: =BB24 -> 30044.154 | BD23: =BC24 -> 29418.769 | BE23: =BD24 -> 29022.538 | BF23: =BE24 -> 29501.077 | BG23: =BF24 -> 30105.308 | BH23: =BG24 -> 29484.538 | ... CC23: =CB24 -> 29157.538 | CF23: =POWER($AY23-BA23,2) -> 1.9111999e+08 | CG23: =POWER($AY23-BB23,2) -> 2.4759749e+08 | CH23: =POWER($AY23-BC23,2) -> 2.5485175e+08 | CI23: =POWER($AY23-BD23,2) -> 2.7521023e+08 | CJ23: =POWER($AY23-BE23,2) -> 2.8851374e+08 | CK23: =POWER($AY23-BF23,2) -> 2.7248613e+08 | CL23: =POWER($AY23-BG23,2) -> 2.5290296e+08 | CM23: =POWER($AY23-BH23,2) -> 2.7303241e+08 | ... DH23: =POWER($AY23-CC23,2) -> 2.8394583e+08
A24: 34578 | B24: 426034 | C24: 231138 | D24: 59053 | E24: 32735 | G24: =AVERAGE(B9:B24) -> 320267.69 | H24: =AVERAGE(C9:C24) -> 219616.62 | I24: =H25 -> 218385.94 | J24: =I25 -> 216660.56 | K24: =J25 -> 215995.5 | L24: =K25 -> 214030.06 | M24: =L25 -> 216753.69 | N24: =M25 -> 214713.44 | O24: =N25 -> 215151.81 | P24: =O25 -> 223556.08 | ... AB24: =AA25 -> 235092.31 | AD24: =POWER($G24-I24,2) -> 1.0379891e+10 | AE24: =POWER($G24-J24,2) -> 1.0734436e+10 | AF24: =POWER($G24-K24,2) -> 1.0872689e+10 | AG24: =POWER($G24-L24,2) -> 1.1286433e+10 | AH24: =POWER($G24-M24,2) -> 10715148196 | AI24: =POWER($G24-N24,2) -> 1.11417e+10 | AJ24: =POWER($G24-O24,2) -> 1.1049347e+10 | AK24: =POWER($G24-P24,2) -> 9.3531356e+09 | ... AW24: =POWER($G24-AB24,2) -> 7.2548453e+09 | AY24: =AVERAGE(D12:D24) -> 45896.231 | AZ24: =AVERAGE(E12:E24) -> 32183.615 | BA24: =AZ25 -> 30273 | BB24: =BA25 -> 30044.154 | BC24: =BB25 -> 29418.769 | BD24: =BC25 -> 29022.538 | BE24: =BD25 -> 29501.077 | BF24: =BE25 -> 30105.308 | BG24: =BF25 -> 29484.538 | BH24: =BG25 -> 30672.538 | ... CC24: =CB25 -> 29544.077 | CF24: =POWER($AY24-BA24,2) -> 2.4408534e+08 | CG24: =POWER($AY24-BB24,2) -> 2.5128834e+08 | CH24: =POWER($AY24-BC24,2) -> 2.7150674e+08 | CI24: =POWER($AY24-BD24,2) -> 2.8472149e+08 | CJ24: =POWER($AY24-BE24,2) -> 2.6880107e+08 | CK24: =POWER($AY24-BF24,2) -> 2.4935325e+08 | CL24: =POWER($AY24-BG24,2) -> 2.6934364e+08 | CM24: =POWER($AY24-BH24,2) -> 2.3176081e+08 | ... DH24: =POWER($AY24-CC24,2) -> 2.6739294e+08
A25: 34608 | B25: 411585 | C25: 221873 | D25: 49861 | E25: 26481 | G25: =AVERAGE(B10:B25) -> 325839.31 | H25: =AVERAGE(C10:C25) -> 218385.94 | I25: =H26 -> 216660.56 | J25: =I26 -> 215995.5 | K25: =J26 -> 214030.06 | L25: =K26 -> 216753.69 | M25: =L26 -> 214713.44 | N25: =M26 -> 215151.81 | O25: =N26 -> 223556.08 | P25: =O26 -> 226525.38 | ... AB25: =AA26 -> 231648.23 | AD25: =POWER($G25-I25,2) -> 1.1919999e+10 | AE25: =POWER($G25-J25,2) -> 1.2065663e+10 | AF25: =POWER($G25-K25,2) -> 1.2501308e+10 | AG25: =POWER($G25-L25,2) -> 1.1899674e+10 | AH25: =POWER($G25-M25,2) -> 1.234896e+10 | AI25: =POWER($G25-N25,2) -> 1.2251723e+10 | AJ25: =POWER($G25-O25,2) -> 1.046186e+10 | AK25: =POWER($G25-P25,2) -> 9.8632563e+09 | ... AW25: =POWER($G25-AB25,2) -> 8.8719599e+09 | AY25: =AVERAGE(D13:D25) -> 46006.615 | AZ25: =AVERAGE(E13:E25) -> 30273 | BA25: =AZ26 -> 30044.154 | BB25: =BA26 -> 29418.769 | BC25: =BB26 -> 29022.538 | BD25: =BC26 -> 29501.077 | BE25: =BD26 -> 30105.308 | BF25: =BE26 -> 29484.538 | BG25: =BF26 -> 30672.538 | BH25: =BG26 -> 30193.615 | ... CC25: =CB26 -> 29156.538 | CF25: =POWER($AY25-BA25,2) -> 2.5480018e+08 | CG25: =POWER($AY25-BB25,2) -> 2.7515664e+08 | CH25: =POWER($AY25-BC25,2) -> 2.8845887e+08 | CI25: =POWER($AY25-BD25,2) -> 2.724328e+08 | CJ25: =POWER($AY25-BE25,2) -> 2.5285159e+08 | CK25: =POWER($AY25-BF25,2) -> 2.7297903e+08 | CL25: =POWER($AY25-BG25,2) -> 2.3513392e+08 | CM25: =POWER($AY25-BH25,2) -> 250050969 | ... DH25: =POWER($AY25-CC25,2) -> 2.8392509e+08
A26: 34639 | B26: 405551 | C26: 245009 | D26: 53473 | E26: 29503 | G26: =AVERAGE(B11:B26) -> 331700 | H26: =AVERAGE(C11:C26) -> 216660.56 | I26: =H27 -> 215995.5 | J26: =I27 -> 214030.06 | K26: =J27 -> 216753.69 | L26: =K27 -> 214713.44 | M26: =L27 -> 215151.81 | N26: =M27 -> 223556.08 | O26: =N27 -> 226525.38 | P26: =O27 -> 226325.38 | ... AB26: =AA27 -> 230993.23 | AD26: =POWER($G26-I26,2) -> 1.3387531e+10 | AE26: =POWER($G26-J26,2) -> 1.3846214e+10 | AF26: =POWER($G26-K26,2) -> 1.3212655e+10 | AG26: =POWER($G26-L26,2) -> 1.3685856e+10 | AH26: =POWER($G26-M26,2) -> 1.358348e+10 | AI26: =POWER($G26-N26,2) -> 1.1695108e+10 | AJ26: =POWER($G26-O26,2) -> 1.10617e+10 | AK26: =POWER($G26-P26,2) -> 1.110381e+10 | ... AW26: =POWER($G26-AB26,2) -> 1.0141853e+10 | AY26: =AVERAGE(D14:D26) -> 46790.077 | AZ26: =AVERAGE(E14:E26) -> 30044.154 | BA26: =AZ27 -> 29418.769 | BB26: =BA27 -> 29022.538 | BC26: =BB27 -> 29501.077 | BD26: =BC27 -> 30105.308 | BE26: =BD27 -> 29484.538 | BF26: =BE27 -> 30672.538 | BG26: =BF27 -> 30193.615 | BH26: =BG27 -> 30442.231 | ... CC26: =CB27 -> 29010.692 | CF26: =POWER($AY26-BA26,2) -> 3.0176233e+08 | CG26: =POWER($AY26-BB26,2) -> 3.1568542e+08 | CH26: =POWER($AY26-BC26,2) -> 298909521 | CI26: =POWER($AY26-BD26,2) -> 2.7838152e+08 | CJ26: =POWER($AY26-BE26,2) -> 2.9948166e+08 | CK26: =POWER($AY26-BF26,2) -> 2.5977505e+08 | CL26: =POWER($AY26-BG26,2) -> 2.7544254e+08 | CM26: =POWER($AY26-BH26,2) -> 2.6725207e+08 | ... DH26: =POWER($AY26-CC26,2) -> 3.1610652e+08
A27: 34669 | B27: 275869 | C27: 230994 | D27: 39965 | E27: 31548 | G27: =AVERAGE(B12:B27) -> 328620.75 | H27: =AVERAGE(C12:C27) -> 215995.5 | I27: =H28 -> 214030.06 | J27: =I28 -> 216753.69 | K27: =J28 -> 214713.44 | L27: =K28 -> 215151.81 | M27: =L28 -> 223556.08 | N27: =M28 -> 226525.38 | O27: =N28 -> 226325.38 | P27: =O28 -> 233482.31 | ... AB27: =AA28 -> 232886.92 | AD27: =POWER($G27-I27,2) -> 1.3131026e+10 | AE27: =POWER($G27-J27,2) -> 1.251424e+10 | AF27: =POWER($G27-K27,2) -> 1.2974876e+10 | AG27: =POWER($G27-L27,2) -> 1.28752e+10 | AH27: =POWER($G27-M27,2) -> 1.1038586e+10 | AI27: =POWER($G27-N27,2) -> 1.0423464e+10 | AJ27: =POWER($G27-O27,2) -> 1.0464342e+10 | AK27: =POWER($G27-P27,2) -> 9.0513232e+09 | ... AW27: =POWER($G27-AB27,2) -> 9.1649656e+09 | AY27: =AVERAGE(D15:D27) -> 45266.615 | AZ27: =AVERAGE(E15:E27) -> 29418.769 | BA27: =AZ28 -> 29022.538 | BB27: =BA28 -> 29501.077 | BC27: =BB28 -> 30105.308 | BD27: =BC28 -> 29484.538 | BE27: =BD28 -> 30672.538 | BF27: =BE28 -> 30193.615 | BG27: =BF28 -> 30442.231 | BH27: =BG28 -> 31101.385 | ... CC27: =CB28 -> 29223.923 | CF27: =POWER($AY27-BA27,2) -> 2.6387004e+08 | CG27: =POWER($AY27-BB27,2) -> 2.485522e+08 | CH27: =POWER($AY27-BC27,2) -> 2.2986525e+08 | CI27: =POWER($AY27-BD27,2) -> 2.4907395e+08 | CJ27: =POWER($AY27-BE27,2) -> 2.1298708e+08 | CK27: =POWER($AY27-BF27,2) -> 227195329 | CL27: =POWER($AY27-BG27,2) -> 2.1976238e+08 | CM27: =POWER($AY27-BH27,2) -> 2.0065376e+08 | ... DH27: =POWER($AY27-CC27,2) -> 2.5736798e+08
A28: 34700 | B28: 343239 | C28: 196731 | D28: 56823 | E28: 24931 | G28: =AVERAGE(B13:B28) -> 328890.62 | H28: =AVERAGE(C13:C28) -> 214030.06 | I28: =H29 -> 216753.69 | J28: =I29 -> 214713.44 | K28: =J29 -> 215151.81 | L28: =K29 -> 223556.08 | M28: =L29 -> 226525.38 | N28: =M29 -> 226325.38 | O28: =N29 -> 233482.31 | P28: =O29 -> 233743.92 | ... AB28: =AA29 -> 232047.46 | AD28: =POWER($G28-I28,2) -> 1.2574693e+10 | AE28: =POWER($G28-J28,2) -> 1.303643e+10 | AF28: =POWER($G28-K28,2) -> 1.2936517e+10 | AG28: =POWER($G28-L28,2) -> 1.1095367e+10 | AH28: =POWER($G28-M28,2) -> 1.0478642e+10 | AI28: =POWER($G28-N28,2) -> 1.0519629e+10 | AJ28: =POWER($G28-O28,2) -> 9.102747e+09 | AK28: =POWER($G28-P28,2) -> 9.0528949e+09 | ... AW28: =POWER($G28-AB28,2) -> 9.3785983e+09 | AY28: =AVERAGE(D16:D28) -> 46836.231 | AZ28: =AVERAGE(E16:E28) -> 29022.538 | BA28: =AZ29 -> 29501.077 | BB28: =BA29 -> 30105.308 | BC28: =BB29 -> 29484.538 | BD28: =BC29 -> 30672.538 | BE28: =BD29 -> 30193.615 | BF28: =BE29 -> 30442.231 | BG28: =BF29 -> 31101.385 | BH28: =BG29 -> 30906 | ... CC28: =CB29 -> 29235.615 | CF28: =POWER($AY28-BA28,2) -> 3.0050756e+08 | CG28: =POWER($AY28-BB28,2) -> 2.7992379e+08 | CH28: =POWER($AY28-BC28,2) -> 3.0108123e+08 | CI28: =POWER($AY28-BD28,2) -> 2.6126495e+08 | CJ28: =POWER($AY28-BE28,2) -> 2.7697665e+08 | CK28: =POWER($AY28-BF28,2) -> 2.6876324e+08 | CL28: =POWER($AY28-BG28,2) -> 2.4758538e+08 | CM28: =POWER($AY28-BH28,2) -> 2.5377225e+08 | ... DH28: =POWER($AY28-CC28,2) -> 3.0978166e+08
A29: 34731 | B29: 379171 | C29: 244834 | D29: 51498 | E29: 32977 | G29: =AVERAGE(B14:B29) -> 333477.19 | H29: =AVERAGE(C14:C29) -> 216753.69 | I29: =H30 -> 214713.44 | J29: =I30 -> 215151.81 | K29: =J30 -> 223556.08 | L29: =K30 -> 226525.38 | M29: =L30 -> 226325.38 | N29: =M30 -> 233482.31 | O29: =N30 -> 233743.92 | P29: =O30 -> 232525.54 | ... AB29: =AA30 -> 237163.77 | AD29: =POWER($G29-I29,2) -> 1.4104828e+10 | AE29: =POWER($G29-J29,2) -> 1.4000894e+10 | AF29: =POWER($G29-K29,2) -> 1.2082651e+10 | AG29: =POWER($G29-L29,2) -> 1.1438688e+10 | AH29: =POWER($G29-M29,2) -> 1.1481509e+10 | AI29: =POWER($G29-N29,2) -> 9.998976e+09 | AJ29: =POWER($G29-O29,2) -> 9.946724e+09 | AK29: =POWER($G29-P29,2) -> 1.0191235e+10 | ... AW29: =POWER($G29-AB29,2) -> 9.2762745e+09 | AY29: =AVERAGE(D17:D29) -> 47880.077 | AZ29: =AVERAGE(E17:E29) -> 29501.077 | BA29: =AZ30 -> 30105.308 | BB29: =BA30 -> 29484.538 | BC29: =BB30 -> 30672.538 | BD29: =BC30 -> 30193.615 | BE29: =BD30 -> 30442.231 | BF29: =BE30 -> 31101.385 | BG29: =BF30 -> 30906 | BH29: =BG30 -> 30729 | ... CC29: =CB30 -> 29147.692 | CF29: =POWER($AY29-BA29,2) -> 3.1594242e+08 | CG29: =POWER($AY29-BB29,2) -> 3.3839584e+08 | CH29: =POWER($AY29-BC29,2) -> 2.9609938e+08 | CI29: =POWER($AY29-BD29,2) -> 3.1281092e+08 | CJ29: =POWER($AY29-BE29,2) -> 3.0407848e+08 | CK29: =POWER($AY29-BF29,2) -> 2.8152452e+08 | CL29: =POWER($AY29-BG29,2) -> 2.8811929e+08 | CM29: =POWER($AY29-BH29,2) -> 2.9415944e+08 | ... DH29: =POWER($AY29-CC29,2) -> 3.5090223e+08
A30: 34759 | B30: 439341 | C30: 225957 | D30: 55749 | E30: 40240 | G30: =AVERAGE(B15:B30) -> 340004.25 | H30: =AVERAGE(C15:C30) -> 214713.44 | I30: =H31 -> 215151.81 | J30: =I31 -> 223556.08 | K30: =J31 -> 226525.38 | L30: =K31 -> 226325.38 | M30: =L31 -> 233482.31 | N30: =M31 -> 233743.92 | O30: =N31 -> 232525.54 | P30: =O31 -> 232168.38 | ... AB30: =AA31 -> 241406.92 | AD30: =POWER($G30-I30,2) -> 1.5588131e+10 | AE30: =POWER($G30-J30,2) -> 1.3560177e+10 | AF30: =POWER($G30-K30,2) -> 1.2877453e+10 | AG30: =POWER($G30-L30,2) -> 1.2922884e+10 | AH30: =POWER($G30-M30,2) -> 1.1346924e+10 | AI30: =POWER($G30-N30,2) -> 1.1291257e+10 | AJ30: =POWER($G30-O30,2) -> 1.1551673e+10 | AK30: =POWER($G30-P30,2) -> 1.1628574e+10 | ... AW30: =POWER($G30-AB30,2) -> 9.7214329e+09 | AY30: =AVERAGE(D18:D30) -> 48591.462 | AZ30: =AVERAGE(E18:E30) -> 30105.308 | BA30: =AZ31 -> 29484.538 | BB30: =BA31 -> 30672.538 | BC30: =BB31 -> 30193.615 | BD30: =BC31 -> 30442.231 | BE30: =BD31 -> 31101.385 | BF30: =BE31 -> 30906 | BG30: =BF31 -> 30729 | BH30: =BG31 -> 30536.538 | ... CC30: =CB31 -> 29008.692 | CF30: =POWER($AY30-BA30,2) -> 3.6507451e+08 | CG30: =POWER($AY30-BB30,2) -> 3.210878e+08 | CH30: =POWER($AY30-BC30,2) -> 3.3848074e+08 | CI30: =POWER($AY30-BD30,2) -> 3.2939458e+08 | CJ30: =POWER($AY30-BE30,2) -> 3.0590279e+08 | CK30: =POWER($AY30-BF30,2) -> 3.1277555e+08 | CL30: =POWER($AY30-BG30,2) -> 3.1906753e+08 | CM30: =POWER($AY30-BH30,2) -> 3.2598025e+08 | ... DH30: =POWER($AY30-CC30,2) -> 3.8348485e+08
A31: 34790 | B31: 358406 | C31: 194767 | D31: 49399 | E31: 21972 | G31: =AVERAGE(B16:B31) -> 350299.62 | H31: =AVERAGE(C16:C31) -> 215151.81 | I31: =H32 -> 223556.08 | J31: =I32 -> 226525.38 | K31: =J32 -> 226325.38 | L31: =K32 -> 233482.31 | M31: =L32 -> 233743.92 | N31: =M32 -> 232525.54 | O31: =N32 -> 232168.38 | P31: =O32 -> 230729.38 | ... AB31: =AA32 -> 240130.54 | AD31: =POWER($G31-I31,2) -> 1.6063927e+10 | AE31: =POWER($G31-J31,2) -> 1.5320063e+10 | AF31: =POWER($G31-K31,2) -> 1.5369612e+10 | AG31: =POWER($G31-L31,2) -> 1.3646286e+10 | AH31: =POWER($G31-M31,2) -> 1.3585232e+10 | AI31: =POWER($G31-N31,2) -> 1.3870735e+10 | AJ31: =POWER($G31-O31,2) -> 1.395499e+10 | AK31: =POWER($G31-P31,2) -> 1.4297042e+10 | ... AW31: =POWER($G31-AB31,2) -> 1.2137228e+10 | AY31: =AVERAGE(D19:D31) -> 48483.077 | AZ31: =AVERAGE(E19:E31) -> 29484.538 | BA31: =AZ32 -> 30672.538 | BB31: =BA32 -> 30193.615 | BC31: =BB32 -> 30442.231 | BD31: =BC32 -> 31101.385 | BE31: =BD32 -> 30906 | BF31: =BE32 -> 30729 | BG31: =BF32 -> 30536.538 | BH31: =BG32 -> 30179.846 | ... CC31: =CB32 -> 28560.769 | CF31: =POWER($AY31-BA31,2) -> 3.1721528e+08 | CG31: =POWER($AY31-BB31,2) -> 3.345044e+08 | CH31: =POWER($AY31-BC31,2) -> 3.2547213e+08 | CI31: =POWER($AY31-BD31,2) -> 3.0212323e+08 | CJ31: =POWER($AY31-BE31,2) -> 3.0895363e+08 | CK31: =POWER($AY31-BF31,2) -> 3.1520725e+08 | CL31: =POWER($AY31-BG31,2) -> 3.2207824e+08 | CM31: =POWER($AY31-BH31,2) -> 3.3500826e+08 | ... DH31: =POWER($AY31-CC31,2) -> 3.9689834e+08
A32: 34820 | B32: 412875 | C32: 249457 | D32: 50015 | E32: 34864 | G32: =AVERAGE(B20:B32) -> 378586.31 | H32: =AVERAGE(C20:C32) -> 223556.08 | I32: =H33 -> 226525.38 | J32: =I33 -> 226325.38 | K32: =J33 -> 233482.31 | L32: =K33 -> 233743.92 | M32: =L33 -> 232525.54 | N32: =M33 -> 232168.38 | O32: =N33 -> 230729.38 | P32: =O33 -> 228182.08 | ... AB32: =AA33 -> 238512.62 | AD32: =POWER($G32-I32,2) -> 2.3122524e+10 | AE32: =POWER($G32-J32,2) -> 2.3183389e+10 | AF32: =POWER($G32-K32,2) -> 21055170816 | AG32: =POWER($G32-L32,2) -> 2.0979316e+10 | AH32: =POWER($G32-M32,2) -> 2.1333748e+10 | AI32: =POWER($G32-N32,2) -> 2.1438208e+10 | AJ32: =POWER($G32-O32,2) -> 2.186167e+10 | AK32: =POWER($G32-P32,2) -> 2.2621433e+10 | ... AW32: =POWER($G32-AB32,2) -> 1.9620639e+10 | AY32: =AVERAGE(D20:D32) -> 50104.846 | AZ32: =AVERAGE(E20:E32) -> 30672.538 | BA32: =AZ33 -> 30193.615 | BB32: =BA33 -> 30442.231 | BC32: =BB33 -> 31101.385 | BD32: =BC33 -> 30906 | BE32: =BD33 -> 30729 | BF32: =BE33 -> 30536.538 | BG32: =BF33 -> 30179.846 | BH32: =BG33 -> 29929.462 | ... CC32: =CB33 -> 27126.308 | CF32: =POWER($AY32-BA32,2) -> 3.9645711e+08 | CG32: =POWER($AY32-BB32,2) -> 3.8661844e+08 | CH32: =POWER($AY32-BC32,2) -> 3.6113155e+08 | CI32: =POWER($AY32-BD32,2) -> 3.6859569e+08 | CJ32: =POWER($AY32-BE32,2) -> 3.7542341e+08 | CK32: =POWER($AY32-BF32,2) -> 3.8291867e+08 | CL32: =POWER($AY32-BG32,2) -> 3.9700563e+08 | CM32: =POWER($AY32-BH32,2) -> 4.0704614e+08 | ... DH32: =POWER($AY32-CC32,2) -> 5.2801323e+08
A33: 34851 | B33: 386302 | C33: 239630 | D33: 52959 | E33: 29207 | G33: =AVERAGE(B21:B33) -> 384362.46 | H33: =AVERAGE(C21:C33) -> 226525.38 | I33: =H34 -> 226325.38 | J33: =I34 -> 233482.31 | K33: =J34 -> 233743.92 | L33: =K34 -> 232525.54 | M33: =L34 -> 232168.38 | N33: =M34 -> 230729.38 | O33: =N34 -> 228182.08 | P33: =O34 -> 231310 | ... AB33: =AA34 -> 237950.15 | AD33: =POWER($G33-I33,2) -> 2.4975718e+10 | AE33: =POWER($G33-J33,2) -> 2.2764821e+10 | AF33: =POWER($G33-K33,2) -> 2.2685944e+10 | AG33: =POWER($G33-L33,2) -> 2.3054451e+10 | AH33: =POWER($G33-M33,2) -> 2.3163037e+10 | AI33: =POWER($G33-N33,2) -> 2.3603122e+10 | AJ33: =POWER($G33-O33,2) -> 2.4392313e+10 | AK33: =POWER($G33-P33,2) -> 2.3425056e+10 | ... AW33: =POWER($G33-AB33,2) -> 2.1436564e+10 | AY33: =AVERAGE(D21:D33) -> 51167.154 | AZ33: =AVERAGE(E21:E33) -> 30193.615 | BA33: =AZ34 -> 30442.231 | BB33: =BA34 -> 31101.385 | BC33: =BB34 -> 30906 | BD33: =BC34 -> 30729 | BE33: =BD34 -> 30536.538 | BF33: =BE34 -> 30179.846 | BG33: =BF34 -> 29929.462 | BH33: =BG34 -> 30429.385 | ... CC33: =CB34 -> 26249.077 | CF33: =POWER($AY33-BA33,2) -> 4.2952244e+08 | CG33: =POWER($AY33-BB33,2) -> 4.0263509e+08 | CH33: =POWER($AY33-BC33,2) -> 4.1051436e+08 | CI33: =POWER($AY33-BD33,2) -> 4.1771813e+08 | CJ33: =POWER($AY33-BE33,2) -> 4.2562229e+08 | CK33: =POWER($AY33-BF33,2) -> 4.4046708e+08 | CL33: =POWER($AY33-BG33,2) -> 4.5103957e+08 | CM33: =POWER($AY33-BH33,2) -> 4.3005507e+08 | ... DH33: =POWER($AY33-CC33,2) -> 6.2091056e+08
A34: 34881 | B34: 426225 | C34: 248955 | D34: 63044 | E34: 34333 | G34: =AVERAGE(B22:B34) -> 387364.62 | H34: =AVERAGE(C22:C34) -> 226325.38 | I34: =H35 -> 233482.31 | J34: =I35 -> 233743.92 | K34: =J35 -> 232525.54 | L34: =K35 -> 232168.38 | M34: =L35 -> 230729.38 | N34: =M35 -> 228182.08 | O34: =N35 -> 231310 | P34: =O35 -> 230200.69 | ... AB34: =AA35 -> 232612.85 | AD34: =POWER($G34-I34,2) -> 2.3679765e+10 | AE34: =POWER($G34-J34,2) -> 2.3599317e+10 | AF34: =POWER($G34-K34,2) -> 2.397514e+10 | AG34: =POWER($G34-L34,2) -> 2.408587e+10 | AH34: =POWER($G34-M34,2) -> 2.4534596e+10 | AI34: =POWER($G34-N34,2) -> 2.5339081e+10 | AJ34: =POWER($G34-O34,2) -> 2.4353043e+10 | AK34: =POWER($G34-P34,2) -> 2.4700499e+10 | ... AW34: =POWER($G34-AB34,2) -> 2.394811e+10 | AY34: =AVERAGE(D22:D34) -> 52372.231 | AZ34: =AVERAGE(E22:E34) -> 30442.231 | BA34: =AZ35 -> 31101.385 | BB34: =BA35 -> 30906 | BC34: =BB35 -> 30729 | BD34: =BC35 -> 30536.538 | BE34: =BD35 -> 30179.846 | BF34: =BE35 -> 29929.462 | BG34: =BF35 -> 30429.385 | BH34: =BG35 -> 29708.077 | ... CC34: =CB35 -> 24786.308 | CF34: =POWER($AY34-BA34,2) -> 4.524489e+08 | CG34: =POWER($AY34-BB34,2) -> 4.6079906e+08 | CH34: =POWER($AY34-BC34,2) -> 4.6842944e+08 | CI34: =POWER($AY34-BD34,2) -> 4.7679746e+08 | CJ34: =POWER($AY34-BE34,2) -> 4.9250193e+08 | CK34: =POWER($AY34-BF34,2) -> 5.0367789e+08 | CL34: =POWER($AY34-BG34,2) -> 4.814885e+08 | CM34: =POWER($AY34-BH34,2) -> 5.1366387e+08 | ... DH34: =POWER($AY34-CC34,2) -> 7.6098315e+08
A35: 34912 | B35: 435020 | C35: 272205 | D35: 69002 | E35: 31110 | G35: =AVERAGE(B23:B35) -> 394005.77 | H35: =AVERAGE(C23:C35) -> 233482.31 | I35: =H36 -> 233743.92 | J35: =I36 -> 232525.54 | K35: =J36 -> 232168.38 | L35: =K36 -> 230729.38 | M35: =L36 -> 228182.08 | N35: =M36 -> 231310 | O35: =N36 -> 230200.69 | P35: =O36 -> 232057.54 | ... AB35: =AA36 -> 229209.77 | AD35: =POWER($G35-I35,2) -> 2.5683859e+10 | AE35: =POWER($G35-J35,2) -> 2.6075865e+10 | AF35: =POWER($G35-K35,2) -> 2.6191339e+10 | AG35: =POWER($G35-L35,2) -> 2.6659178e+10 | AH35: =POWER($G35-M35,2) -> 2.7497497e+10 | AI35: =POWER($G35-N35,2) -> 2.6469913e+10 | AJ35: =POWER($G35-O35,2) -> 2.6832103e+10 | AK35: =POWER($G35-P35,2) -> 2.6227229e+10 | ... AW35: =POWER($G35-AB35,2) -> 2.7157722e+10 | AY35: =AVERAGE(D23:D35) -> 54300.692 | AZ35: =AVERAGE(E23:E35) -> 31101.385 | BA35: =AZ36 -> 30906 | BB35: =BA36 -> 30729 | BC35: =BB36 -> 30536.538 | BD35: =BC36 -> 30179.846 | BE35: =BD36 -> 29929.462 | BF35: =BE36 -> 30429.385 | BG35: =BF36 -> 29708.077 | BH35: =BG36 -> 28775.308 | ... CC35: =CB36 -> 24367.231 | CF35: =POWER($AY35-BA35,2) -> 5.4731163e+08 | CG35: =POWER($AY35-BB35,2) -> 5.5562468e+08 | CH35: =POWER($AY35-BC35,2) -> 5.6473501e+08 | CI35: =POWER($AY35-BD35,2) -> 5.8181522e+08 | CJ35: =POWER($AY35-BE35,2) -> 5.9395689e+08 | CK35: =POWER($AY35-BF35,2) -> 5.6983933e+08 | CL35: =POWER($AY35-BG35,2) -> 6.0479673e+08 | CM35: =POWER($AY35-BH35,2) -> 6.5154526e+08 | ... DH35: =POWER($AY35-CC35,2) -> 8.9601212e+08
A36: 34943 | B36: 397509 | C36: 237121 | D36: 50031 | E36: 31877 | G36: =AVERAGE(B24:B36) -> 392086.69 | H36: =AVERAGE(C24:C36) -> 233743.92 | I36: =H37 -> 232525.54 | J36: =I37 -> 232168.38 | K36: =J37 -> 230729.38 | L36: =K37 -> 228182.08 | M36: =L37 -> 231310 | N36: =M37 -> 230200.69 | O36: =N37 -> 232057.54 | P36: =O37 -> 235092.31 | ... AB36: =AA37 -> 224473.62 | AD36: =POWER($G36-I36,2) -> 2.5459762e+10 | AE36: =POWER($G36-J36,2) -> 2.5573865e+10 | AF36: =POWER($G36-K36,2) -> 2.6036181e+10 | AG36: =POWER($G36-L36,2) -> 2.6864723e+10 | AH36: =POWER($G36-M36,2) -> 2.5849145e+10 | AI36: =POWER($G36-N36,2) -> 26207076996 | AJ36: =POWER($G36-O36,2) -> 2.560933e+10 | AK36: =POWER($G36-P36,2) -> 2.4647237e+10 | ... AW36: =POWER($G36-AB36,2) -> 2.8094144e+10 | AY36: =AVERAGE(D24:D36) -> 53913.231 | AZ36: =AVERAGE(E24:E36) -> 30906 | BA36: =AZ37 -> 30729 | BB36: =BA37 -> 30536.538 | BC36: =BB37 -> 30179.846 | BD36: =BC37 -> 29929.462 | BE36: =BD37 -> 30429.385 | BF36: =BE37 -> 29708.077 | BG36: =BF37 -> 28775.308 | BH36: =BG37 -> 29029.077 | ... CC36: =CB37 -> 23800.769 | CF36: =POWER($AY36-BA36,2) -> 5.3750856e+08 | CG36: =POWER($AY36-BB36,2) -> 5.4646974e+08 | CH36: =POWER($AY36-BC36,2) -> 5.6327355e+08 | CI36: =POWER($AY36-BD36,2) -> 5.7522119e+08 | CJ36: =POWER($AY36-BE36,2) -> 5.5149103e+08 | CK36: =POWER($AY36-BF36,2) -> 5.8588947e+08 | CL36: =POWER($AY36-BG36,2) -> 6.3191518e+08 | CM36: =POWER($AY36-BH36,2) -> 6.1922111e+08 | ... DH36: =POWER($AY36-CC36,2) -> 9.0676034e+08
A37: 34973 | B37: 419101 | C37: 215299 | D37: 52698 | E37: 30434 | G37: =AVERAGE(B25:B37) -> 391553.38 | H37: =AVERAGE(C25:C37) -> 232525.54 | I37: =H38 -> 232168.38 | J37: =I38 -> 230729.38 | K37: =J38 -> 228182.08 | L37: =K38 -> 231310 | M37: =L38 -> 230200.69 | N37: =M38 -> 232057.54 | O37: =N38 -> 235092.31 | P37: =O38 -> 231648.23 | ... AB37: =AA38 -> 220858.46 | AD37: =POWER($G37-I37,2) -> 25403578225 | AE37: =POWER($G37-J37,2) -> 25864358976 | AF37: =POWER($G37-K37,2) -> 2.6690184e+10 | AG37: =POWER($G37-L37,2) -> 2.5677942e+10 | AH37: =POWER($G37-M37,2) -> 2.6034691e+10 | AI37: =POWER($G37-N37,2) -> 2.5438925e+10 | AJ37: =POWER($G37-O37,2) -> 2.4480069e+10 | AK37: =POWER($G37-P37,2) -> 2.5569658e+10 | ... AW37: =POWER($G37-AB37,2) -> 2.9136757e+10 | AY37: =AVERAGE(D25:D37) -> 53424.385 | AZ37: =AVERAGE(E25:E37) -> 30729 | BA37: =AZ38 -> 30536.538 | BB37: =BA38 -> 30179.846 | BC37: =BB38 -> 29929.462 | BD37: =BC38 -> 30429.385 | BE37: =BD38 -> 29708.077 | BF37: =BE38 -> 28775.308 | BG37: =BF38 -> 29029.077 | BH37: =BG38 -> 28082.769 | ... CC37: =CB38 -> 22784.538 | CF37: =POWER($AY37-BA37,2) -> 5.238535e+08 | CG37: =POWER($AY37-BB37,2) -> 5.4030857e+08 | CH37: =POWER($AY37-BC37,2) -> 5.5201141e+08 | CI37: =POWER($AY37-BD37,2) -> 528770025 | CJ37: =POWER($AY37-BE37,2) -> 5.6246325e+08 | CK37: =POWER($AY37-BF37,2) -> 6.0757699e+08 | CL37: =POWER($AY37-BG37,2) -> 5.9513104e+08 | CM37: =POWER($AY37-BH37,2) -> 6.4219747e+08 | ... DH37: =POWER($AY37-CC37,2) -> 9.3880017e+08
A38: 35004 | B38: 386848 | C38: 217230 | D38: 49574 | E38: 23979 | G38: =AVERAGE(B26:B38) -> 389650.54 | H38: =AVERAGE(C26:C38) -> 232168.38 | I38: =H39 -> 230729.38 | J38: =I39 -> 228182.08 | K38: =J39 -> 231310 | L38: =K39 -> 230200.69 | M38: =L39 -> 232057.54 | N38: =M39 -> 235092.31 | O38: =N39 -> 231648.23 | P38: =O39 -> 230993.23 | ... AB38: =AA39 -> 220981.54 | AD38: =POWER($G38-I38,2) -> 2.5255933e+10 | AE38: =POWER($G38-J38,2) -> 2.6072064e+10 | AF38: =POWER($G38-K38,2) -> 2.5071726e+10 | AG38: =POWER($G38-L38,2) -> 2.5424253e+10 | AH38: =POWER($G38-M38,2) -> 2.4835554e+10 | AI38: =POWER($G38-N38,2) -> 2.3888247e+10 | AJ38: =POWER($G38-O38,2) -> 2.4964729e+10 | AK38: =POWER($G38-P38,2) -> 2.5172141e+10 | ... AW38: =POWER($G38-AB38,2) -> 2.8449232e+10 | AY38: =AVERAGE(D26:D38) -> 53402.308 | AZ38: =AVERAGE(E26:E38) -> 30536.538 | BA38: =AZ39 -> 30179.846 | BB38: =BA39 -> 29929.462 | BC38: =BB39 -> 30429.385 | BD38: =BC39 -> 29708.077 | BE38: =BD39 -> 28775.308 | BF38: =BE39 -> 29029.077 | BG38: =BF39 -> 28082.769 | BH38: =BG39 -> 27887.462 | ... CC38: =CB39 -> 22091.308 | CF38: =POWER($AY38-BA38,2) -> 5.3928272e+08 | CG38: =POWER($AY38-BB38,2) -> 5.5097451e+08 | CH38: =POWER($AY38-BC38,2) -> 5.2775519e+08 | CI38: =POWER($AY38-BD38,2) -> 5.6141657e+08 | CJ38: =POWER($AY38-BE38,2) -> 6.0648913e+08 | CK38: =POWER($AY38-BF38,2) -> 5.9405438e+08 | CL38: =POWER($AY38-BG38,2) -> 6.4107903e+08 | CM38: =POWER($AY38-BH38,2) -> 6.5100737e+08 | ... DH38: =POWER($AY38-CC38,2) -> 9.8037872e+08
A39: 35034 | B39: 264164 | C39: 226302 | D39: 45332 | E39: 24866 | G39: =AVERAGE(B27:B39) -> 378774.62 | H39: =AVERAGE(C27:C39) -> 230729.38 | I39: =H40 -> 228182.08 | J39: =I40 -> 231310 | K39: =J40 -> 230200.69 | L39: =K40 -> 232057.54 | M39: =L40 -> 235092.31 | N39: =M40 -> 231648.23 | O39: =N40 -> 230993.23 | P39: =O40 -> 232886.92 | ... AB39: =AA40 -> 215293.15 | AD39: =POWER($G39-I39,2) -> 2.2678113e+10 | AE39: =POWER($G39-J39,2) -> 2.1745813e+10 | AF39: =POWER($G39-K39,2) -> 2.2074211e+10 | AG39: =POWER($G39-L39,2) -> 2.1525901e+10 | AH39: =POWER($G39-M39,2) -> 2.0644606e+10 | AI39: =POWER($G39-N39,2) -> 2.1646173e+10 | AJ39: =POWER($G39-O39,2) -> 2.1839338e+10 | AK39: =POWER($G39-P39,2) -> 2.1283219e+10 | ... AW39: =POWER($G39-AB39,2) -> 2.6726188e+10 | AY39: =AVERAGE(D27:D39) -> 52776.077 | AZ39: =AVERAGE(E27:E39) -> 30179.846 | BA39: =AZ40 -> 29929.462 | BB39: =BA40 -> 30429.385 | BC39: =BB40 -> 29708.077 | BD39: =BC40 -> 28775.308 | BE39: =BD40 -> 29029.077 | BF39: =BE40 -> 28082.769 | BG39: =BF40 -> 27887.462 | BH39: =BG40 -> 28218.538 | ... CC39: =CB40 -> 22300.538 | CF39: =POWER($AY39-BA39,2) -> 5.2196783e+08 | CG39: =POWER($AY39-BB39,2) -> 4.9937466e+08 | CH39: =POWER($AY39-BC39,2) -> 532132624 | CI39: =POWER($AY39-BD39,2) -> 5.7603692e+08 | CJ39: =POWER($AY39-BE39,2) -> 563920009 | CK39: =POWER($AY39-BF39,2) -> 6.0975944e+08 | CL39: =POWER($AY39-BG39,2) -> 6.1944318e+08 | CM39: =POWER($AY39-BH39,2) -> 6.030727e+08 | ... DH39: =POWER($AY39-CC39,2) -> 9.2875844e+08
A40: 35065 | B40: 307394 | C40: 197879 | D40: 36767 | E40: 28293 | G40: =AVERAGE(B28:B40) -> 381199.62 | H40: =AVERAGE(C28:C40) -> 228182.08 | I40: =H41 -> 231310 | J40: =I41 -> 230200.69 | K40: =J41 -> 232057.54 | L40: =K41 -> 235092.31 | M40: =L41 -> 231648.23 | N40: =M41 -> 230993.23 | O40: =N41 -> 232886.92 | P40: =O41 -> 232047.46 | ... AB40: =AA41 -> 210873.92 | AD40: =POWER($G40-I40,2) -> 2.2466897e+10 | AE40: =POWER($G40-J40,2) -> 2.2800675e+10 | AF40: =POWER($G40-K40,2) -> 2.2243359e+10 | AG40: =POWER($G40-L40,2) -> 2.1347345e+10 | AH40: =POWER($G40-M40,2) -> 2.2365617e+10 | AI40: =POWER($G40-N40,2) -> 2.2561958e+10 | AJ40: =POWER($G40-O40,2) -> 2.1996655e+10 | AK40: =POWER($G40-P40,2) -> 2.2246365e+10 | ... AW40: =POWER($G40-AB40,2) -> 2.9010841e+10 | AY40: =AVERAGE(D28:D40) -> 52530.077 | AZ40: =AVERAGE(E28:E40) -> 29929.462 | BA40: =AZ41 -> 30429.385 | BB40: =BA41 -> 29708.077 | BC40: =BB41 -> 28775.308 | BD40: =BC41 -> 29029.077 | BE40: =BD41 -> 28082.769 | BF40: =BE41 -> 27887.462 | BG40: =BF41 -> 28218.538 | BH40: =BG41 -> 28967.846 | ... CC40: =CB41 -> 21822 | CF40: =POWER($AY40-BA40,2) -> 4.884406e+08 | CG40: =POWER($AY40-BB40,2) -> 520843684 | CH40: =POWER($AY40-BC40,2) -> 5.6428906e+08 | CI40: =POWER($AY40-BD40,2) -> 552297001 | CJ40: =POWER($AY40-BE40,2) -> 5.9767085e+08 | CK40: =POWER($AY40-BF40,2) -> 6.0725849e+08 | CL40: =POWER($AY40-BG40,2) -> 5.910509e+08 | CM40: =POWER($AY40-BH40,2) -> 5.5517872e+08 | ... DH40: =POWER($AY40-CC40,2) -> 9.4298599e+08
A41: 35096 | B41: 354603 | C41: 237394 | D41: 41197 | E41: 31430 | G41: =AVERAGE(B29:B41) -> 382073.77 | H41: =AVERAGE(C29:C41) -> 231310 | I41: =H42 -> 230200.69 | J41: =I42 -> 232057.54 | K41: =J42 -> 235092.31 | L41: =K42 -> 231648.23 | M41: =L42 -> 230993.23 | N41: =M42 -> 232886.92 | O41: =N42 -> 232047.46 | P41: =O42 -> 237163.77 | ... AB41: =AA42 -> 208337.62 | AD41: =POWER($G41-I41,2) -> 2.3065431e+10 | AE41: =POWER($G41-J41,2) -> 2.2504869e+10 | AF41: =POWER($G41-K41,2) -> 2.160355e+10 | AG41: =POWER($G41-L41,2) -> 2.2627843e+10 | AH41: =POWER($G41-M41,2) -> 2.2825329e+10 | AI41: =POWER($G41-N41,2) -> 2.2256715e+10 | AJ41: =POWER($G41-O41,2) -> 2.2507893e+10 | AK41: =POWER($G41-P41,2) -> 2.0998908e+10 | ... AW41: =POWER($G41-AB41,2) -> 3.0184251e+10 | AY41: =AVERAGE(D29:D41) -> 51328.077 | AZ41: =AVERAGE(E29:E41) -> 30429.385 | BA41: =AZ42 -> 29708.077 | BB41: =BA42 -> 28775.308 | BC41: =BB42 -> 29029.077 | BD41: =BC42 -> 28082.769 | BE41: =BD42 -> 27887.462 | BF41: =BE42 -> 28218.538 | BG41: =BF42 -> 28967.846 | BH41: =BG42 -> 29128.538 | ... CC41: =CB42 -> 22214.692 | CF41: =POWER($AY41-BA41,2) -> 467424400 | CG41: =POWER($AY41-BB41,2) -> 5.086274e+08 | CH41: =POWER($AY41-BC41,2) -> 497245401 | CI41: =POWER($AY41-BD41,2) -> 5.4034433e+08 | CJ41: =POWER($AY41-BE41,2) -> 5.4946245e+08 | CK41: =POWER($AY41-BF41,2) -> 5.3405077e+08 | CL41: =POWER($AY41-BG41,2) -> 4.9997992e+08 | CM41: =POWER($AY41-BH41,2) -> 4.9281951e+08 | ... DH41: =POWER($AY41-CC41,2) -> 8.4758916e+08
A42: 35125 | B42: 367773 | C42: 230413 | D42: 37304 | E42: 23600 | G42: =AVERAGE(B30:B42) -> 381197 | H42: =AVERAGE(C30:C42) -> 230200.69 | I42: =H43 -> 232057.54 | J42: =I43 -> 235092.31 | K42: =J43 -> 231648.23 | L42: =K43 -> 230993.23 | M42: =L43 -> 232886.92 | N42: =M43 -> 232047.46 | O42: =N43 -> 237163.77 | P42: =O43 -> 241406.92 | ... AB42: =AA43 -> 203243.85 | AD42: =POWER($G42-I42,2) -> 2.2242579e+10 | AE42: =POWER($G42-J42,2) -> 2.1346581e+10 | AF42: =POWER($G42-K42,2) -> 2.2364834e+10 | AG42: =POWER($G42-L42,2) -> 2.2561172e+10 | AH42: =POWER($G42-M42,2) -> 2.1995879e+10 | AI42: =POWER($G42-N42,2) -> 2.2245585e+10 | AJ42: =POWER($G42-O42,2) -> 2.0745572e+10 | AK42: =POWER($G42-P42,2) -> 1.9541266e+10 | ... AW42: =POWER($G42-AB42,2) -> 3.1667325e+10 | AY42: =AVERAGE(D30:D42) -> 50236.231 | AZ42: =AVERAGE(E30:E42) -> 29708.077 | BA42: =AZ43 -> 28775.308 | BB42: =BA43 -> 29029.077 | BC42: =BB43 -> 28082.769 | BD42: =BC43 -> 27887.462 | BE42: =BD43 -> 28218.538 | BF42: =BE43 -> 28967.846 | BG42: =BF43 -> 29128.538 | BH42: =BG43 -> 29386.231 | ... CC42: =CB43 -> 22163.538 | CF42: =POWER($AY42-BA42,2) -> 4.6057122e+08 | CG42: =POWER($AY42-BB42,2) -> 4.4974337e+08 | CH42: =POWER($AY42-BC42,2) -> 4.9077586e+08 | CI42: =POWER($AY42-BD42,2) -> 4.9946749e+08 | CJ42: =POWER($AY42-BE42,2) -> 4.8477877e+08 | CK42: =POWER($AY42-BF42,2) -> 4.5234418e+08 | CL42: =POWER($AY42-BG42,2) -> 4.4553467e+08 | CM42: =POWER($AY42-BH42,2) -> 4.347225e+08 | ... DH42: =POWER($AY42-CC42,2) -> 7.8807605e+08
A43: 35156 | B43: 385132 | C43: 250096 | D43: 39471 | E43: 28114 | G43: =AVERAGE(B31:B43) -> 377027.08 | H43: =AVERAGE(C31:C43) -> 232057.54 | I43: =H44 -> 235092.31 | J43: =I44 -> 231648.23 | K43: =J44 -> 230993.23 | L43: =K44 -> 232886.92 | M43: =L44 -> 232047.46 | N43: =M44 -> 237163.77 | O43: =N44 -> 241406.92 | P43: =O44 -> 240130.54 | ... AB43: =AA44 -> 197029.08 | AD43: =POWER($G43-I43,2) -> 2.0145479e+10 | AE43: =POWER($G43-J43,2) -> 2.1135009e+10 | AF43: =POWER($G43-K43,2) -> 2.1325884e+10 | AG43: =POWER($G43-L43,2) -> 2.0776384e+10 | AH43: =POWER($G43-M43,2) -> 2.1019089e+10 | AI43: =POWER($G43-N43,2) -> 1.9561745e+10 | AJ43: =POWER($G43-O43,2) -> 1.8392826e+10 | AK43: =POWER($G43-P43,2) -> 1.8740662e+10 | ... AW43: =POWER($G43-AB43,2) -> 32399280004 | AY43: =AVERAGE(D31:D43) -> 48984.077 | AZ43: =AVERAGE(E31:E43) -> 28775.308 | BA43: =AZ44 -> 29029.077 | BB43: =BA44 -> 28082.769 | BC43: =BB44 -> 27887.462 | BD43: =BC44 -> 28218.538 | BE43: =BD44 -> 28967.846 | BF43: =BE44 -> 29128.538 | BG43: =BF44 -> 29386.231 | BH43: =BG44 -> 29192.077 | ... CC43: =CB44 -> 22637.462 | CF43: =POWER($AY43-BA43,2) -> 398202025 | CG43: =POWER($AY43-BB43,2) -> 4.3686466e+08 | CH43: =POWER($AY43-BC43,2) -> 4.4506718e+08 | CI43: =POWER($AY43-BD43,2) -> 4.3120759e+08 | CJ43: =POWER($AY43-BE43,2) -> 4.0064949e+08 | CK43: =POWER($AY43-BF43,2) -> 3.9424241e+08 | CL43: =POWER($AY43-BG43,2) -> 3.8407557e+08 | CM43: =POWER($AY43-BH43,2) -> 391723264 | ... DH43: =POWER($AY43-CC43,2) -> 6.9414414e+08
... A234: 40969 | B234: 298840 | C234: 252869 | D234: 33677 | E234: 24376 | G234: =AVERAGE(B222:B234) -> 318033.77 | H234: =AVERAGE(C222:C234) -> 237363.77 | I234: =H235 -> 232320.85 | J234: =I235 -> 236218.54 | K234: =J235 -> 236458.77 | L234: =K235 -> 237954 | M234: =L235 -> 237540.77 | N234: =M235 -> 236505.31 | O234: =N235 -> 232493.15 | P234: =O235 -> 236783.38 | ... AB234: =AA235 -> 243675 | AD234: =POWER($G234-I234,2) -> 7.3467052e+09 | AE234: =POWER($G234-J234,2) -> 6.693732e+09 | AF234: =POWER($G234-K234,2) -> 6.6544806e+09 | AG234: =POWER($G234-L234,2) -> 6.4127694e+09 | AH234: =POWER($G234-M234,2) -> 6.479123e+09 | AI234: =POWER($G234-N234,2) -> 6.64689e+09 | AJ234: =POWER($G234-O234,2) -> 7.3171969e+09 | AK234: =POWER($G234-P234,2) -> 6.601625e+09 | ... AW234: =POWER($G234-AB234,2) -> 5.5292266e+09 | AY234: =AVERAGE(D222:D234) -> 31934.769 | AZ234: =AVERAGE(E222:E234) -> 22390.769 | BA234: =AZ235 -> 21765.231 | BB234: =BA235 -> 21844.615 | BC234: =BB235 -> 22085.846 | BD234: =BC235 -> 21510.077 | BE234: =BD235 -> 21477.077 | BF234: =BE235 -> 21257 | BG234: =BF235 -> 21292.385 | BH234: =BG235 -> 21653.846 | ... CC234: =CB235 -> 19153.154 | CF234: =POWER($AY234-BA234,2) -> 1.0341951e+08 | CG234: =POWER($AY234-BB234,2) -> 1.018112e+08 | CH234: =POWER($AY234-BC234,2) -> 97001286 | CI234: =POWER($AY234-BD234,2) -> 1.0867421e+08 | CJ234: =POWER($AY234-BE234,2) -> 1.0936333e+08 | CK234: =POWER($AY234-BF234,2) -> 1.1401476e+08 | CL234: =POWER($AY234-BG234,2) -> 1.1326035e+08 | CM234: =POWER($AY234-BH234,2) -> 1.0569738e+08 | ... DH234: =POWER($AY234-CC234,2) -> 1.6336969e+08
A235: 41000 | B235: 266860 | C235: 208697 | D235: 22016 | E235: 17764 | G235: =AVERAGE(B223:B235) -> 312112.92 | H235: =AVERAGE(C223:C235) -> 232320.85 | I235: =H236 -> 236218.54 | J235: =I236 -> 236458.77 | K235: =J236 -> 237954 | L235: =K236 -> 237540.77 | M235: =L236 -> 236505.31 | N235: =M236 -> 232493.15 | O235: =N236 -> 236783.38 | P235: =O236 -> 234471.38 | ... AB235: =AA236 -> 237268.08 | AD235: =POWER($G235-I235,2) -> 5.7599576e+09 | AE235: =POWER($G235-J235,2) -> 5.723551e+09 | AF235: =POWER($G235-K235,2) -> 5.4995459e+09 | AG235: =POWER($G235-L235,2) -> 5.5610061e+09 | AH235: =POWER($G235-M235,2) -> 5.7165115e+09 | AI235: =POWER($G235-N235,2) -> 6.3393077e+09 | AJ235: =POWER($G235-O235,2) -> 5.6745394e+09 | AK235: =POWER($G235-P235,2) -> 6.0282085e+09 | ... AW235: =POWER($G235-AB235,2) -> 5.601751e+09 | AY235: =AVERAGE(D223:D235) -> 31059.308 | AZ235: =AVERAGE(E223:E235) -> 21765.231 | BA235: =AZ236 -> 21844.615 | BB235: =BA236 -> 22085.846 | BC235: =BB236 -> 21510.077 | BD235: =BC236 -> 21477.077 | BE235: =BD236 -> 21257 | BF235: =BE236 -> 21292.385 | BG235: =BF236 -> 21653.846 | BH235: =BG236 -> 21631.077 | ... CB235: =CA236 -> 19153.154 | CF235: =POWER($AY235-BA235,2) -> 84910554 | CG235: =POWER($AY235-BB235,2) -> 80523012 | CH235: =POWER($AY235-BC235,2) -> 91187808 | CI235: =POWER($AY235-BD235,2) -> 91819147 | CJ235: =POWER($AY235-BE235,2) -> 96085236 | CK235: =POWER($AY235-BF235,2) -> 95392786 | CL235: =POWER($AY235-BG235,2) -> 88462707 | CM235: =POWER($AY235-BH235,2) -> 88891535 | ... DH235: =POWER($AY235-CC235,2) -> 9.6468059e+08
A236: 41030 | B236: 338138 | C236: 237433 | D236: 29305 | E236: 24178 | G236: =AVERAGE(B224:B236) -> 317785.38 | H236: =AVERAGE(C224:C236) -> 236218.54 | I236: =H237 -> 236458.77 | J236: =I237 -> 237954 | K236: =J237 -> 237540.77 | L236: =K237 -> 236505.31 | M236: =L237 -> 232493.15 | N236: =M237 -> 236783.38 | O236: =N237 -> 234471.38 | P236: =O237 -> 231454.69 | ... AB236: =AA237 -> 236835.69 | AD236: =POWER($G236-I236,2) -> 6.6140184e+09 | AE236: =POWER($G236-J236,2) -> 6.37305e+09 | AF236: =POWER($G236-K236,2) -> 6.4391983e+09 | AG236: =POWER($G236-L236,2) -> 6.6064509e+09 | AH236: =POWER($G236-M236,2) -> 7.2747646e+09 | AI236: =POWER($G236-N236,2) -> 6561324004 | AJ236: =POWER($G236-O236,2) -> 6941222596 | AK236: =POWER($G236-P236,2) -> 7.4529884e+09 | ... AW236: =POWER($G236-AB236,2) -> 6.5528527e+09 | AY236: =AVERAGE(D224:D236) -> 31320.615 | AZ236: =AVERAGE(E224:E236) -> 21844.615 | BA236: =AZ237 -> 22085.846 | BB236: =BA237 -> 21510.077 | BC236: =BB237 -> 21477.077 | BD236: =BC237 -> 21257 | BE236: =BD237 -> 21292.385 | BF236: =BE237 -> 21653.846 | BG236: =BF237 -> 21631.077 | BH236: =BG237 -> 20859.538 | ... CA236: =BZ237 -> 19153.154 | CF236: =POWER($AY236-BA236,2) -> 85280963 | CG236: =POWER($AY236-BB236,2) -> 96246665 | CH236: =POWER($AY236-BC236,2) -> 96895249 | CI236: =POWER($AY236-BD236,2) -> 1.0127635e+08 | CJ236: =POWER($AY236-BE236,2) -> 1.0056541e+08 | CK236: =POWER($AY236-BF236,2) -> 93446427 | CL236: =POWER($AY236-BG236,2) -> 93887156 | CM236: =POWER($AY236-BH236,2) -> 1.0943413e+08 | ... DG236: =POWER($AY236-CB236,2) -> 9.8098095e+08
A237: 41061 | B237: 337567 | C237: 217444 | D237: 36202 | E237: 20398 | G237: =AVERAGE(B225:B237) -> 315017 | H237: =AVERAGE(C225:C237) -> 236458.77 | I237: =H238 -> 237954 | J237: =I238 -> 237540.77 | K237: =J238 -> 236505.31 | L237: =K238 -> 232493.15 | M237: =L238 -> 236783.38 | N237: =M238 -> 234471.38 | O237: =N238 -> 231454.69 | P237: =O238 -> 234009.77 | ... AB237: =AA238 -> 237358.62 | AD237: =POWER($G237-I237,2) -> 5938705969 | AE237: =POWER($G237-J237,2) -> 6.0025663e+09 | AF237: =POWER($G237-K237,2) -> 6.1640858e+09 | AG237: =POWER($G237-L237,2) -> 6.8101852e+09 | AH237: =POWER($G237-M237,2) -> 6.1204986e+09 | AI237: =POWER($G237-N237,2) -> 6.4875962e+09 | AJ237: =POWER($G237-O237,2) -> 6.9826593e+09 | AK237: =POWER($G237-P237,2) -> 6.5621714e+09 | ... AW237: =POWER($G237-AB237,2) -> 6.0308247e+09 | AY237: =AVERAGE(D225:D237) -> 30763.615 | AZ237: =AVERAGE(E225:E237) -> 22085.846 | BA237: =AZ238 -> 21510.077 | BB237: =BA238 -> 21477.077 | BC237: =BB238 -> 21257 | BD237: =BC238 -> 21292.385 | BE237: =BD238 -> 21653.846 | BF237: =BE238 -> 21631.077 | BG237: =BF238 -> 20859.538 | BH237: =BG238 -> 20776.692 | ... BZ237: =BY238 -> 19153.154 | CF237: =POWER($AY237-BA237,2) -> 85627974 | CG237: =POWER($AY237-BB237,2) -> 86239797 | CH237: =POWER($AY237-BC237,2) -> 90375736 | CI237: =POWER($AY237-BD237,2) -> 89704212 | CJ237: =POWER($AY237-BE237,2) -> 82987895 | CK237: =POWER($AY237-BF237,2) -> 83403259 | CL237: =POWER($AY237-BG237,2) -> 98090740 | CM237: =POWER($AY237-BH237,2) -> 99738633 | ... DF237: =POWER($AY237-CA237,2) -> 9.4640003e+08
A238: 41091 | B238: 368853 | C238: 271829 | D238: 29749 | E238: 14232 | G238: =AVERAGE(B226:B238) -> 316588.69 | H238: =AVERAGE(C226:C238) -> 237954 | I238: =H239 -> 237540.77 | J238: =I239 -> 236505.31 | K238: =J239 -> 232493.15 | L238: =K239 -> 236783.38 | M238: =L239 -> 234471.38 | N238: =M239 -> 231454.69 | O238: =N239 -> 234009.77 | P238: =O239 -> 231007.38 | ... AB238: =AA239 -> 234676.15 | AD238: =POWER($G238-I238,2) -> 6.2485741e+09 | AE238: =POWER($G238-J238,2) -> 6.4133485e+09 | AF238: =POWER($G238-K238,2) -> 7.0720596e+09 | AG238: =POWER($G238-L238,2) -> 6.3688871e+09 | AH238: =POWER($G238-M238,2) -> 6.7432522e+09 | AI238: =POWER($G238-N238,2) -> 7247797956 | AJ238: =POWER($G238-O238,2) -> 6.8192785e+09 | AK238: =POWER($G238-P238,2) -> 7.3241602e+09 | ... AW238: =POWER($G238-AB238,2) -> 6.709664e+09 | AY238: =AVERAGE(D226:D238) -> 30539.308 | AZ238: =AVERAGE(E226:E238) -> 21510.077 | BA238: =AZ239 -> 21477.077 | BB238: =BA239 -> 21257 | BC238: =BB239 -> 21292.385 | BD238: =BC239 -> 21653.846 | BE238: =BD239 -> 21631.077 | BF238: =BE239 -> 20859.538 | BG238: =BF239 -> 20776.692 | BH238: =BG239 -> 20032.462 | ... BY238: =BX239 -> 19153.154 | CF238: =POWER($AY238-BA238,2) -> 82124027 | CG238: =POWER($AY238-BB238,2) -> 86161236 | CH238: =POWER($AY238-BC238,2) -> 85505586 | CI238: =POWER($AY238-BD238,2) -> 78951427 | CJ238: =POWER($AY238-BE238,2) -> 79356575 | CK238: =POWER($AY238-BF238,2) -> 93697932 | CL238: =POWER($AY238-BG238,2) -> 95308659 | CM238: =POWER($AY238-BH238,2) -> 1.1039382e+08 | ... DE238: =POWER($AY238-BZ238,2) -> 9.3264931e+08
A239: 41122 | B239: 381028 | C239: 240725 | D239: 34665 | E239: 23389 | G239: =AVERAGE(B227:B239) -> 321875.15 | H239: =AVERAGE(C227:C239) -> 237540.77 | I239: =H240 -> 236505.31 | J239: =I240 -> 232493.15 | K239: =J240 -> 236783.38 | L239: =K240 -> 234471.38 | M239: =L240 -> 231454.69 | N239: =M240 -> 234009.77 | O239: =N240 -> 231007.38 | P239: =O240 -> 232647.62 | ... AB239: =AA240 -> 234069.23 | AD239: =POWER($G239-I239,2) -> 7.2880106e+09 | AE239: =POWER($G239-J239,2) -> 7.9891419e+09 | AF239: =POWER($G239-K239,2) -> 7.2406092e+09 | AG239: =POWER($G239-L239,2) -> 7.6394189e+09 | AH239: =POWER($G239-M239,2) -> 8.1758599e+09 | AI239: =POWER($G239-N239,2) -> 7.7203258e+09 | AJ239: =POWER($G239-O239,2) -> 8.2569515e+09 | AK239: =POWER($G239-P239,2) -> 7.9615536e+09 | ... AW239: =POWER($G239-AB239,2) -> 7.7098801e+09 | AY239: =AVERAGE(D227:D239) -> 30999.308 | AZ239: =AVERAGE(E227:E239) -> 21477.077 | BA239: =AZ240 -> 21257 | BB239: =BA240 -> 21292.385 | BC239: =BB240 -> 21653.846 | BD239: =BC240 -> 21631.077 | BE239: =BD240 -> 20859.538 | BF239: =BE240 -> 20776.692 | BG239: =BF240 -> 20032.462 | BH239: =BG240 -> 19898.615 | ... BX239: =BW240 -> 19153.154 | CF239: =POWER($AY239-BA239,2) -> 94912559 | CG239: =POWER($AY239-BB239,2) -> 94224356 | CH239: =POWER($AY239-BC239,2) -> 87337651 | CI239: =POWER($AY239-BD239,2) -> 87763748 | CJ239: =POWER($AY239-BE239,2) -> 1.0281492e+08 | CK239: =POWER($AY239-BF239,2) -> 1.0450187e+08 | CL239: =POWER($AY239-BG239,2) -> 1.2027171e+08 | CM239: =POWER($AY239-BH239,2) -> 1.2322537e+08 | ... DD239: =POWER($AY239-BY239,2) -> 9.6095708e+08
A240: 41153 | B240: 314012 | C240: 216255 | D240: 32574 | E240: 20012 | G240: =AVERAGE(B228:B240) -> 319958.31 | H240: =AVERAGE(C228:C240) -> 236505.31 | I240: =H241 -> 232493.15 | J240: =I241 -> 236783.38 | K240: =J241 -> 234471.38 | L240: =K241 -> 231454.69 | M240: =L241 -> 234009.77 | N240: =M241 -> 231007.38 | O240: =N241 -> 232647.62 | P240: =O241 -> 234987.69 | ... AB240: =AA241 -> 227639.92 | AD240: =POWER($G240-I240,2) -> 7.6501531e+09 | AE240: =POWER($G240-J240,2) -> 6.9180678e+09 | AF240: =POWER($G240-K240,2) -> 7.308014e+09 | AG240: =POWER($G240-L240,2) -> 7.8328899e+09 | AH240: =POWER($G240-M240,2) -> 7.3871513e+09 | AI240: =POWER($G240-N240,2) -> 7.9122667e+09 | AJ240: =POWER($G240-O240,2) -> 7.623157e+09 | AK240: =POWER($G240-P240,2) -> 7.2200055e+09 | ... AW240: =POWER($G240-AB240,2) -> 8.5226841e+09 | AY240: =AVERAGE(D228:D240) -> 30450.615 | AZ240: =AVERAGE(E228:E240) -> 21257 | BA240: =AZ241 -> 21292.385 | BB240: =BA241 -> 21653.846 | BC240: =BB241 -> 21631.077 | BD240: =BC241 -> 20859.538 | BE240: =BD241 -> 20776.692 | BF240: =BE241 -> 20032.462 | BG240: =BF241 -> 19898.615 | BH240: =BG241 -> 20014.769 | ... BW240: =BV241 -> 19153.154 | CF240: =POWER($AY240-BA240,2) -> 83873191 | CG240: =POWER($AY240-BB240,2) -> 77383149 | CH240: =POWER($AY240-BC240,2) -> 77784259 | CI240: =POWER($AY240-BD240,2) -> 91988757 | CJ240: =POWER($AY240-BE240,2) -> 93584788 | CK240: =POWER($AY240-BF240,2) -> 1.0853793e+08 | CL240: =POWER($AY240-BG240,2) -> 111344704 | CM240: =POWER($AY240-BH240,2) -> 1.0890688e+08 | ... DC240: =POWER($AY240-BX240,2) -> 9.2723998e+08
A241: 41183 | B241: 349866 | C241: 225534 | D241: 28170 | E241: 23917 | G241: =AVERAGE(B229:B241) -> 323894.77 | H241: =AVERAGE(C229:C241) -> 232493.15 | I241: =H242 -> 236783.38 | J241: =I242 -> 234471.38 | K241: =J242 -> 231454.69 | L241: =K242 -> 234009.77 | M241: =L242 -> 231007.38 | N241: =M242 -> 232647.62 | O241: =N242 -> 234987.69 | P241: =O242 -> 237850.23 | ... AB241: =AA242 -> 225585.69 | AD241: =POWER($G241-I241,2) -> 7.5883933e+09 | AE241: =POWER($G241-J241,2) -> 7.9965417e+09 | AF241: =POWER($G241-K241,2) -> 8.5451678e+09 | AG241: =POWER($G241-L241,2) -> 8.0793132e+09 | AH241: =POWER($G241-M241,2) -> 8.6280662e+09 | AI241: =POWER($G241-N241,2) -> 8.3260431e+09 | AJ241: =POWER($G241-O241,2) -> 7.9044683e+09 | AK241: =POWER($G241-P241,2) -> 7.4036626e+09 | ... AW241: =POWER($G241-AB241,2) -> 9.6646746e+09 | AY241: =AVERAGE(D229:D241) -> 30510.077 | AZ241: =AVERAGE(E229:E241) -> 21292.385 | BA241: =AZ242 -> 21653.846 | BB241: =BA242 -> 21631.077 | BC241: =BB242 -> 20859.538 | BD241: =BC242 -> 20776.692 | BE241: =BD242 -> 20032.462 | BF241: =BE242 -> 19898.615 | BG241: =BF242 -> 20014.769 | BH241: =BG242 -> 19401.154 | ... BV241: =BU242 -> 19153.154 | CF241: =POWER($AY241-BA241,2) -> 78432823 | CG241: =POWER($AY241-BB241,2) -> 78836641 | CH241: =POWER($AY241-BC241,2) -> 93132893 | CI241: =POWER($AY241-BD241,2) -> 94738776 | CJ241: =POWER($AY241-BE241,2) -> 1.0978042e+08 | CK241: =POWER($AY241-BF241,2) -> 1.1260312e+08 | CL241: =POWER($AY241-BG241,2) -> 1.1015148e+08 | CM241: =POWER($AY241-BH241,2) -> 1.2340817e+08 | ... DB241: =POWER($AY241-BW241,2) -> 9.3086479e+08
A242: 41214 | B242: 389016 | C242: 295948 | D242: 47890 | E242: 23834 | G242: =AVERAGE(B230:B242) -> 328966.08 | H242: =AVERAGE(C230:C242) -> 236783.38 | I242: =H243 -> 234471.38 | J242: =I243 -> 231454.69 | K242: =J243 -> 234009.77 | L242: =K243 -> 231007.38 | M242: =L243 -> 232647.62 | N242: =M243 -> 234987.69 | O242: =N243 -> 237850.23 | P242: =O243 -> 240157.15 | ... AB242: =AA243 -> 222806.46 | AD242: =POWER($G242-I242,2) -> 8.9292469e+09 | AE242: =POWER($G242-J242,2) -> 9.5084701e+09 | AF242: =POWER($G242-K242,2) -> 9.0167004e+09 | AG242: =POWER($G242-L242,2) -> 9.5959054e+09 | AH242: =POWER($G242-M242,2) -> 9.277246e+09 | AI242: =POWER($G242-N242,2) -> 8.8319368e+09 | AJ242: =POWER($G242-O242,2) -> 8.3020974e+09 | AK242: =POWER($G242-P242,2) -> 7.8870248e+09 | ... AW242: =POWER($G242-AB242,2) -> 1.1269864e+10 | AY242: =AVERAGE(D230:D242) -> 32129.692 | AZ242: =AVERAGE(E230:E242) -> 21653.846 | BA242: =AZ243 -> 21631.077 | BB242: =BA243 -> 20859.538 | BC242: =BB243 -> 20776.692 | BD242: =BC243 -> 20032.462 | BE242: =BD243 -> 19898.615 | BF242: =BE243 -> 20014.769 | BG242: =BF243 -> 19401.154 | BH242: =BG243 -> 19513.538 | ... BU242: =BT243 -> 19153.154 | CF242: =POWER($AY242-BA242,2) -> 1.1022092e+08 | CG242: =POWER($AY242-BB242,2) -> 1.2701637e+08 | CH242: =POWER($AY242-BC242,2) -> 128890609 | CI242: =POWER($AY242-BD242,2) -> 1.4634299e+08 | CJ242: =POWER($AY242-BE242,2) -> 1.4959924e+08 | CK242: =POWER($AY242-BF242,2) -> 1.4677136e+08 | CL242: =POWER($AY242-BG242,2) -> 1.6201569e+08 | CM242: =POWER($AY242-BH242,2) -> 1.5916734e+08 | ... DA242: =POWER($AY242-BV242,2) -> 1.0323171e+09
A243: 41244 | B243: 235460 | C243: 225403 | D243: 19367 | E243: 19305 | G243: =AVERAGE(B231:B243) -> 319271.31 | H243: =AVERAGE(C231:C243) -> 234471.38 | I243: =H244 -> 231454.69 | J243: =I244 -> 234009.77 | K243: =J244 -> 231007.38 | L243: =K244 -> 232647.62 | M243: =L244 -> 234987.69 | N243: =M244 -> 237850.23 | O243: =N244 -> 240157.15 | P243: =O244 -> 239403.69 | ... AB243: =AA244 -> 223356.46 | AD243: =POWER($G243-I243,2) -> 7.7117579e+09 | AE243: =POWER($G243-J243,2) -> 7.2695299e+09 | AF243: =POWER($G243-K243,2) -> 7.7905201e+09 | AG243: =POWER($G243-L243,2) -> 7.5036641e+09 | AH243: =POWER($G243-M243,2) -> 7.1037278e+09 | AI243: =POWER($G243-N243,2) -> 6.6293918e+09 | AJ243: =POWER($G243-O243,2) -> 6.2590493e+09 | AK243: =POWER($G243-P243,2) -> 6.378836e+09 | ... AW243: =POWER($G243-AB243,2) -> 9.1996577e+09 | AY243: =AVERAGE(D231:D243) -> 30874.692 | AZ243: =AVERAGE(E231:E243) -> 21631.077 | BA243: =AZ244 -> 20859.538 | BB243: =BA244 -> 20776.692 | BC243: =BB244 -> 20032.462 | BD243: =BC244 -> 19898.615 | BE243: =BD244 -> 20014.769 | BF243: =BE244 -> 19401.154 | BG243: =BF244 -> 19513.538 | BH243: =BG244 -> 20352.077 | ... BT243: =BS244 -> 19153.154 | CF243: =POWER($AY243-BA243,2) -> 1.0030331e+08 | CG243: =POWER($AY243-BB243,2) -> 101969604 | CH243: =POWER($AY243-BC243,2) -> 1.1755397e+08 | CI243: =POWER($AY243-BD243,2) -> 1.2047426e+08 | CJ243: =POWER($AY243-BE243,2) -> 1.1793793e+08 | CK243: =POWER($AY243-BF243,2) -> 1.3164208e+08 | CL243: =POWER($AY243-BG243,2) -> 1.2907582e+08 | CM243: =POWER($AY243-BH243,2) -> 1.1072543e+08 | ... CZ243: =POWER($AY243-BU243,2) -> 9.5324663e+08
A244: 41275 | B244: 273922 | C244: 203469 | D244: 19956 | E244: 17112 | G244: =AVERAGE(B232:B244) -> 319797.92 | H244: =AVERAGE(C232:C244) -> 231454.69 | I244: =H245 -> 234009.77 | J244: =I245 -> 231007.38 | K244: =J245 -> 232647.62 | L244: =K245 -> 234987.69 | M244: =L245 -> 237850.23 | N244: =M245 -> 240157.15 | O244: =N245 -> 239403.69 | P244: =O245 -> 237758.31 | ... AA244: =Z245 -> 223356.46 | AD244: =POWER($G244-I244,2) -> 7.3596073e+09 | AE244: =POWER($G244-J244,2) -> 7.8837597e+09 | AF244: =POWER($G244-K244,2) -> 7.5951761e+09 | AG244: =POWER($G244-L244,2) -> 7.1927752e+09 | AH244: =POWER($G244-M244,2) -> 6.7154243e+09 | AI244: =POWER($G244-N244,2) -> 6.3426521e+09 | AJ244: =POWER($G244-O244,2) -> 6.4632323e+09 | AK244: =POWER($G244-P244,2) -> 6.7304985e+09 | ... AV244: =POWER($G244-AA244,2) -> 9.3009555e+09 | AY244: =AVERAGE(D232:D244) -> 30468 | AZ244: =AVERAGE(E232:E244) -> 20859.538 | BA244: =AZ245 -> 20776.692 | BB244: =BA245 -> 20032.462 | BC244: =BB245 -> 19898.615 | BD244: =BC245 -> 20014.769 | BE244: =BD245 -> 19401.154 | BF244: =BE245 -> 19513.538 | BG244: =BF245 -> 20352.077 | BH244: =BG245 -> 19644.615 | ... BS244: =BR245 -> 19153.154 | CF244: =POWER($AY244-BA244,2) -> 93921445 | CG244: =POWER($AY244-BB244,2) -> 1.0890046e+08 | CH244: =POWER($AY244-BC244,2) -> 1.1171189e+08 | CI244: =POWER($AY244-BD244,2) -> 1.0927003e+08 | CJ244: =POWER($AY244-BE244,2) -> 1.2247508e+08 | CK244: =POWER($AY244-BF244,2) -> 1.2000023e+08 | CL244: =POWER($AY244-BG244,2) -> 1.023319e+08 | CM244: =POWER($AY244-BH244,2) -> 1.1714565e+08 | ... CY244: =POWER($AY244-BT244,2) -> 928299024
A245: 41306 | B245: 344840 | C245: 214129 | D245: 25033 | E245: 15564 | G245: =AVERAGE(B233:B245) -> 326879.69 | H245: =AVERAGE(C233:C245) -> 234009.77 | I245: =H246 -> 231007.38 | J245: =I246 -> 232647.62 | K245: =J246 -> 234987.69 | L245: =K246 -> 237850.23 | M245: =L246 -> 240157.15 | N245: =M246 -> 239403.69 | O245: =N246 -> 237758.31 | P245: =O246 -> 240373.92 | ... Z245: =Y246 -> 223356.46 | AD245: =POWER($G245-I245,2) -> 9.1914994e+09 | AE245: =POWER($G245-J245,2) -> 8.8796843e+09 | AF245: =POWER($G245-K245,2) -> 8444139664 | AG245: =POWER($G245-L245,2) -> 7.926245e+09 | AH245: =POWER($G245-M245,2) -> 7.5207987e+09 | AI245: =POWER($G245-N245,2) -> 7652050576 | AJ245: =POWER($G245-O245,2) -> 7.9426212e+09 | AK245: =POWER($G245-P245,2) -> 7.4832481e+09 | ... AU245: =POWER($G245-Z245,2) -> 1.0717059e+10 | AY245: =AVERAGE(D233:D245) -> 30740 | AZ245: =AVERAGE(E233:E245) -> 20776.692 | BA245: =AZ246 -> 20032.462 | BB245: =BA246 -> 19898.615 | BC245: =BB246 -> 20014.769 | BD245: =BC246 -> 19401.154 | BE245: =BD246 -> 19513.538 | BF245: =BE246 -> 20352.077 | BG245: =BF246 -> 19644.615 | BH245: =BG246 -> 19787.154 | ... BR245: =BQ246 -> 19153.154 | CF245: =POWER($AY245-BA245,2) -> 1.1465138e+08 | CG245: =POWER($AY245-BB245,2) -> 1.1753562e+08 | CH245: =POWER($AY245-BC245,2) -> 1.1503058e+08 | CI245: =POWER($AY245-BD245,2) -> 1.2856943e+08 | CJ245: =POWER($AY245-BE245,2) -> 1.2603344e+08 | CK245: =POWER($AY245-BF245,2) -> 1.0790895e+08 | CL245: =POWER($AY245-BG245,2) -> 1.2310756e+08 | CM245: =POWER($AY245-BH245,2) -> 1.1996484e+08 | ... CX245: =POWER($AY245-BS245,2) -> 944947600
A246: 41334 | B246: 324973 | C246: 193361 | D246: 38777 | E246: 16341 | G246: =AVERAGE(B234:B246) -> 324875 | H246: =AVERAGE(C234:C246) -> 231007.38 | I246: =H247 -> 232647.62 | J246: =I247 -> 234987.69 | K246: =J247 -> 237850.23 | L246: =K247 -> 240157.15 | M246: =L247 -> 239403.69 | N246: =M247 -> 237758.31 | O246: =N247 -> 240373.92 | P246: =O247 -> 243675 | ... Y246: =X247 -> 223356.46 | AD246: =POWER($G246-I246,2) -> 8.5058905e+09 | AE246: =POWER($G246-J246,2) -> 8.0797281e+09 | AF246: =POWER($G246-K246,2) -> 7.5733105e+09 | AG246: =POWER($G246-L246,2) -> 7.1771135e+09 | AH246: =POWER($G246-M246,2) -> 7.3053444e+09 | AI246: =POWER($G246-N246,2) -> 7.5893181e+09 | AJ246: =POWER($G246-O246,2) -> 7.140432e+09 | AK246: =POWER($G246-P246,2) -> 6593440000 | ... AT246: =POWER($G246-Y246,2) -> 1.0306014e+10 | AY246: =AVERAGE(D234:D246) -> 30567.769 | AZ246: =AVERAGE(E234:E246) -> 20032.462 | BA246: =AZ247 -> 19898.615 | BB246: =BA247 -> 20014.769 | BC246: =BB247 -> 19401.154 | BD246: =BC247 -> 19513.538 | BE246: =BD247 -> 20352.077 | BF246: =BE247 -> 19644.615 | BG246: =BF247 -> 19787.154 | BH246: =BG247 -> 19580.538 | ... BQ246: =BP247 -> 19153.154 | CF246: =POWER($AY246-BA246,2) -> 1.1383084e+08 | CG246: =POWER($AY246-BB246,2) -> 111365809 | CH246: =POWER($AY246-BC246,2) -> 1.246933e+08 | CI246: =POWER($AY246-BD246,2) -> 1.2219602e+08 | CJ246: =POWER($AY246-BE246,2) -> 1.0436037e+08 | CK246: =POWER($AY246-BF246,2) -> 1.1931529e+08 | CL246: =POWER($AY246-BG246,2) -> 1.1622167e+08 | CM246: =POWER($AY246-BH246,2) -> 1.2071924e+08 | ... CW246: =POWER($AY246-BR246,2) -> 9.3438852e+08
A247: 41365 | B247: 358108 | C247: 274192 | D247: 27020 | E247: 22636 | G247: =AVERAGE(B235:B247) -> 329434.08 | H247: =AVERAGE(C235:C247) -> 232647.62 | I247: =H248 -> 234987.69 | J247: =I248 -> 237850.23 | K247: =J248 -> 240157.15 | L247: =K248 -> 239403.69 | M247: =L248 -> 237758.31 | N247: =M248 -> 240373.92 | O247: =N248 -> 243675 | P247: =O248 -> 237268.08 | ... X247: =W248 -> 223356.46 | AD247: =POWER($G247-I247,2) -> 8.9201196e+09 | AE247: =POWER($G247-J247,2) -> 8.3876009e+09 | AF247: =POWER($G247-K247,2) -> 7.970369e+09 | AG247: =POWER($G247-L247,2) -> 8.1054702e+09 | AH247: =POWER($G247-M247,2) -> 8.4044467e+09 | AI247: =POWER($G247-N247,2) -> 7.931711e+09 | AJ247: =POWER($G247-O247,2) -> 7.3546193e+09 | AK247: =POWER($G247-P247,2) -> 8494571556 | ... AS247: =POWER($G247-X247,2) -> 1.125246e+10 | AY247: =AVERAGE(D235:D247) -> 30055.692 | AZ247: =AVERAGE(E235:E247) -> 19898.615 | BA247: =AZ248 -> 20014.769 | BB247: =BA248 -> 19401.154 | BC247: =BB248 -> 19513.538 | BD247: =BC248 -> 20352.077 | BE247: =BD248 -> 19644.615 | BF247: =BE248 -> 19787.154 | BG247: =BF248 -> 19580.538 | BH247: =BG248 -> 18959.692 | ... BP247: =BO248 -> 19153.154 | CF247: =POWER($AY247-BA247,2) -> 1.0082014e+08 | CG247: =POWER($AY247-BB247,2) -> 1.1351919e+08 | CH247: =POWER($AY247-BC247,2) -> 1.1113701e+08 | CI247: =POWER($AY247-BD247,2) -> 94160152 | CJ247: =POWER($AY247-BE247,2) -> 1.0839052e+08 | CK247: =POWER($AY247-BF247,2) -> 1.0544288e+08 | CL247: =POWER($AY247-BG247,2) -> 1.0972885e+08 | CM247: =POWER($AY247-BH247,2) -> 123121216 | ... CV247: =POWER($AY247-BQ247,2) -> 9.0334464e+08
A248: 41395 | B248: 390907 | C248: 239118 | D248: 38590 | E248: 19274 | G248: =AVERAGE(B236:B248) -> 338976.15 | H248: =AVERAGE(C236:C248) -> 234987.69 | I248: =H249 -> 237850.23 | J248: =I249 -> 240157.15 | K248: =J249 -> 239403.69 | L248: =K249 -> 237758.31 | M248: =L249 -> 240373.92 | N248: =M249 -> 243675 | O248: =N249 -> 237268.08 | P248: =O249 -> 236835.69 | ... W248: =V249 -> 223356.46 | AD248: =POWER($G248-I248,2) -> 1.0226452e+10 | AE248: =POWER($G248-J248,2) -> 9.7651948e+09 | AF248: =POWER($G248-K248,2) -> 9.9146751e+09 | AG248: =POWER($G248-L248,2) -> 1.0245052e+10 | AH248: =POWER($G248-M248,2) -> 9.7223999e+09 | AI248: =POWER($G248-N248,2) -> 9.0823099e+09 | AJ248: =POWER($G248-O248,2) -> 1.0344533e+10 | AK248: =POWER($G248-P248,2) -> 1.0432674e+10 | ... AR248: =POWER($G248-W248,2) -> 1.3367913e+10 | AY248: =AVERAGE(D236:D248) -> 31330.615 | AZ248: =AVERAGE(E236:E248) -> 20014.769 | BA248: =AZ249 -> 19401.154 | BB248: =BA249 -> 19513.538 | BC248: =BB249 -> 20352.077 | BD248: =BC249 -> 19644.615 | BE248: =BD249 -> 19787.154 | BF248: =BE249 -> 19580.538 | BG248: =BF249 -> 18959.692 | BH248: =BG249 -> 18770.385 | ... BO248: =BN249 -> 19153.154 | CF248: =POWER($AY248-BA248,2) -> 1.4231205e+08 | CG248: =POWER($AY248-BB248,2) -> 1.3964331e+08 | CH248: =POWER($AY248-BC248,2) -> 1.2052831e+08 | CI248: =POWER($AY248-BD248,2) -> 136562596 | CJ248: =POWER($AY248-BE248,2) -> 1.332515e+08 | CK248: =POWER($AY248-BF248,2) -> 1.3806431e+08 | CL248: =POWER($AY248-BG248,2) -> 1.5303974e+08 | CM248: =POWER($AY248-BH248,2) -> 1.577594e+08 | ... CU248: =POWER($AY248-BP248,2) -> 9.8160746e+08
A249: 41426 | B249: 384839 | C249: 274646 | D249: 28494 | E249: 16201 | G249: =AVERAGE(B237:B249) -> 342568.54 | H249: =AVERAGE(C237:C249) -> 237850.23 | I249: =H250 -> 240157.15 | J249: =I250 -> 239403.69 | K249: =J250 -> 237758.31 | L249: =K250 -> 240373.92 | M249: =L250 -> 243675 | N249: =M250 -> 237268.08 | O249: =N250 -> 236835.69 | P249: =O250 -> 237358.62 | ... V249: =U250 -> 223356.46 | AD249: =POWER($G249-I249,2) -> 1.0488092e+10 | AE249: =POWER($G249-J249,2) -> 1.0642985e+10 | AF249: =POWER($G249-K249,2) -> 1.0985184e+10 | AG249: =POWER($G249-L249,2) -> 1.0443739e+10 | AH249: =POWER($G249-M249,2) -> 9.7799319e+09 | AI249: =POWER($G249-N249,2) -> 1.1088187e+10 | AJ249: =POWER($G249-O249,2) -> 1.1179435e+10 | AK249: =POWER($G249-P249,2) -> 1.1069128e+10 | ... AQ249: =POWER($G249-V249,2) -> 1.4211519e+10 | AY249: =AVERAGE(D237:D249) -> 31268.231 | AZ249: =AVERAGE(E237:E249) -> 19401.154 | BA249: =AZ250 -> 19513.538 | BB249: =BA250 -> 20352.077 | BC249: =BB250 -> 19644.615 | BD249: =BC250 -> 19787.154 | BE249: =BD250 -> 19580.538 | BF249: =BE250 -> 18959.692 | BG249: =BF250 -> 18770.385 | BH249: =BG250 -> 19167.923 | ... BN249: =BM250 -> 19153.154 | CF249: =POWER($AY249-BA249,2) -> 1.3817279e+08 | CG249: =POWER($AY249-BB249,2) -> 1.1916241e+08 | CH249: =POWER($AY249-BC249,2) -> 1.3510843e+08 | CI249: =POWER($AY249-BD249,2) -> 1.3181513e+08 | CJ249: =POWER($AY249-BE249,2) -> 1.3660215e+08 | CK249: =POWER($AY249-BF249,2) -> 1.5150012e+08 | CL249: =POWER($AY249-BG249,2) -> 1.5619616e+08 | CM249: =POWER($AY249-BH249,2) -> 1.4641745e+08 | ... CT249: =POWER($AY249-BO249,2) -> 9.7770226e+08
A250: 41456 | B250: 413052 | C250: 247434 | D250: 27155 | E250: 21859 | G250: =AVERAGE(B238:B250) -> 348375.08 | H250: =AVERAGE(C238:C250) -> 240157.15 | I250: =H251 -> 239403.69 | J250: =I251 -> 237758.31 | K250: =J251 -> 240373.92 | L250: =K251 -> 243675 | M250: =L251 -> 237268.08 | N250: =M251 -> 236835.69 | O250: =N251 -> 237358.62 | P250: =O251 -> 234676.15 | ... U250: =T251 -> 223356.46 | AD250: =POWER($G250-I250,2) -> 1.1874763e+10 | AE250: =POWER($G250-J250,2) -> 1.223607e+10 | AF250: =POWER($G250-K250,2) -> 1.1664249e+10 | AG250: =POWER($G250-L250,2) -> 1.0962106e+10 | AH250: =POWER($G250-M250,2) -> 12344765449 | AI250: =POWER($G250-N250,2) -> 1.2441034e+10 | AJ250: =POWER($G250-O250,2) -> 1.2324655e+10 | AK250: =POWER($G250-P250,2) -> 1.2927445e+10 | ... AP250: =POWER($G250-U250,2) -> 1.5629654e+10 | AY250: =AVERAGE(D238:D250) -> 30572.308 | AZ250: =AVERAGE(E238:E250) -> 19513.538 | BA250: =AZ251 -> 20352.077 | BB250: =BA251 -> 19644.615 | BC250: =BB251 -> 19787.154 | BD250: =BC251 -> 19580.538 | BE250: =BD251 -> 18959.692 | BF250: =BE251 -> 18770.385 | BG250: =BF251 -> 19167.923 | BH250: =BG251 -> 19550.846 | ... BM250: =BL251 -> 19153.154 | CF250: =POWER($AY250-BA250,2) -> 1.0445312e+08 | CG250: =POWER($AY250-BB250,2) -> 1.1941446e+08 | CH250: =POWER($AY250-BC250,2) -> 1.1631954e+08 | CI250: =POWER($AY250-BD250,2) -> 1.2081899e+08 | CJ250: =POWER($AY250-BE250,2) -> 1.3485284e+08 | CK250: =POWER($AY250-BF250,2) -> 1.3928539e+08 | CL250: =POWER($AY250-BG250,2) -> 1.3005999e+08 | CM250: =POWER($AY250-BH250,2) -> 1.2147261e+08 | ... CS250: =POWER($AY250-BN250,2) -> 9.34666e+08
A251: 41487 | B251: 405142 | C251: 262034 | D251: 36577 | E251: 25133 | G251: =AVERAGE(B239:B251) -> 351166.54 | H251: =AVERAGE(C239:C251) -> 239403.69 | I251: =H252 -> 237758.31 | J251: =I252 -> 240373.92 | K251: =J252 -> 243675 | L251: =K252 -> 237268.08 | M251: =L252 -> 236835.69 | N251: =M252 -> 237358.62 | O251: =N252 -> 234676.15 | P251: =O252 -> 234069.23 | ... T251: =S252 -> 223356.46 | AD251: =POWER($G251-I251,2) -> 1.2861427e+10 | AE251: =POWER($G251-J251,2) -> 1.2275004e+10 | AF251: =POWER($G251-K251,2) -> 1.1554431e+10 | AG251: =POWER($G251-L251,2) -> 1.297286e+10 | AH251: =POWER($G251-M251,2) -> 1.3071542e+10 | AI251: =POWER($G251-N251,2) -> 1.2952243e+10 | AJ251: =POWER($G251-O251,2) -> 1.357001e+10 | AK251: =POWER($G251-P251,2) -> 1.3711779e+10 | ... AO251: =POWER($G251-T251,2) -> 1.6335416e+10 | AY251: =AVERAGE(D239:D251) -> 31097.538 | AZ251: =AVERAGE(E239:E251) -> 20352.077 | BA251: =AZ252 -> 19644.615 | BB251: =BA252 -> 19787.154 | BC251: =BB252 -> 19580.538 | BD251: =BC252 -> 18959.692 | BE251: =BD252 -> 18770.385 | BF251: =BE252 -> 19167.923 | BG251: =BF252 -> 19550.846 | BH251: =BG252 -> 19907.462 | ... BL251: =BK252 -> 19153.154 | CF251: =POWER($AY251-BA251,2) -> 1.3116945e+08 | CG251: =POWER($AY251-BB251,2) -> 1.279248e+08 | CH251: =POWER($AY251-BC251,2) -> 132641289 | CI251: =POWER($AY251-BD251,2) -> 1.4732731e+08 | CJ251: =POWER($AY251-BE251,2) -> 1.5195872e+08 | CK251: =POWER($AY251-BF251,2) -> 1.4231572e+08 | CL251: =POWER($AY251-BG251,2) -> 1.333261e+08 | CM251: =POWER($AY251-BH251,2) -> 1.2521782e+08 | ... CR251: =POWER($AY251-BM251,2) -> 9.670569e+08
A252: 41518 | B252: 328809 | C252: 219335 | D252: 39694 | E252: 14192 | G252: =AVERAGE(B240:B252) -> 347149.69 | H252: =AVERAGE(C240:C252) -> 237758.31 | I252: =H253 -> 240373.92 | J252: =I253 -> 243675 | K252: =J253 -> 237268.08 | L252: =K253 -> 236835.69 | M252: =L253 -> 237358.62 | N252: =M253 -> 234676.15 | O252: =N253 -> 234069.23 | P252: =O253 -> 227639.92 | ... S252: =R253 -> 223356.46 | AD252: =POWER($G252-I252,2) -> 1.1401065e+10 | AE252: =POWER($G252-J252,2) -> 1.0707012e+10 | AF252: =POWER($G252-K252,2) -> 1.2073969e+10 | AG252: =POWER($G252-L252,2) -> 12169178596 | AH252: =POWER($G252-M252,2) -> 1.2054081e+10 | AI252: =POWER($G252-N252,2) -> 1.2650297e+10 | AJ252: =POWER($G252-O252,2) -> 1.2787191e+10 | AK252: =POWER($G252-P252,2) -> 1.4282585e+10 | ... AN252: =POWER($G252-S252,2) -> 1.5324764e+10 | AY252: =AVERAGE(D240:D252) -> 31484.385 | AZ252: =AVERAGE(E240:E252) -> 19644.615 | BA252: =AZ253 -> 19787.154 | BB252: =BA253 -> 19580.538 | BC252: =BB253 -> 18959.692 | BD252: =BC253 -> 18770.385 | BE252: =BD253 -> 19167.923 | BF252: =BE253 -> 19550.846 | BG252: =BF253 -> 19907.462 | BH252: =BG253 -> 19118.077 | ... BK252: =BJ253 -> 19153.154 | CF252: =POWER($AY252-BA252,2) -> 1.3682521e+08 | CG252: =POWER($AY252-BB252,2) -> 1.4170155e+08 | CH252: =POWER($AY252-BC252,2) -> 1.5686792e+08 | CI252: =POWER($AY252-BD252,2) -> 161645796 | CJ252: =POWER($AY252-BE252,2) -> 1.5169522e+08 | CK252: =POWER($AY252-BF252,2) -> 1.4240934e+08 | CL252: =POWER($AY252-BG252,2) -> 1.3402515e+08 | CM252: =POWER($AY252-BH252,2) -> 1.5292557e+08 | ... CQ252: =POWER($AY252-BL252,2) -> 9.9126647e+08
A253: 41548 | B253: 405198 | C253: 250258 | D253: 40401 | E253: 21865 | G253: =AVERAGE(B241:B253) -> 354164 | H253: =AVERAGE(C241:C253) -> 240373.92 | I253: =H254 -> 243675 | J253: =I254 -> 237268.08 | K253: =J254 -> 236835.69 | L253: =K254 -> 237358.62 | M253: =L254 -> 234676.15 | N253: =M254 -> 234069.23 | O253: =N254 -> 227639.92 | P253: =O254 -> 225585.69 | ... R253: =Q254 -> 223356.46 | AD253: =POWER($G253-I253,2) -> 12207819121 | AE253: =POWER($G253-J253,2) -> 1.3664657e+10 | AF253: =POWER($G253-K253,2) -> 1.3765932e+10 | AG253: =POWER($G253-L253,2) -> 1.3643498e+10 | AH253: =POWER($G253-M253,2) -> 1.4277345e+10 | AI253: =POWER($G253-N253,2) -> 1.4422754e+10 | AJ253: =POWER($G253-O253,2) -> 1.6008342e+10 | AK253: =POWER($G253-P253,2) -> 1.6532381e+10 | ... AM253: =POWER($G253-R253,2) -> 1.7110612e+10 | AY253: =AVERAGE(D241:D253) -> 32086.462 | AZ253: =AVERAGE(E241:E253) -> 19787.154 | BA253: =AZ254 -> 19580.538 | BB253: =BA254 -> 18959.692 | BC253: =BB254 -> 18770.385 | BD253: =BC254 -> 19167.923 | BE253: =BD254 -> 19550.846 | BF253: =BE254 -> 19907.462 | BG253: =BF254 -> 19118.077 | BH253: =BG254 -> 19086.385 | ... BJ253: =BI254 -> 19153.154 | CF253: =POWER($AY253-BA253,2) -> 1.5639811e+08 | CG253: =POWER($AY253-BB253,2) -> 1.7231207e+08 | CH253: =POWER($AY253-BC253,2) -> 1.773179e+08 | CI253: =POWER($AY253-BD253,2) -> 1.6688864e+08 | CJ253: =POWER($AY253-BE253,2) -> 1.5714165e+08 | CK253: =POWER($AY253-BF253,2) -> 148328041 | CL253: =POWER($AY253-BG253,2) -> 1.68179e+08 | CM253: =POWER($AY253-BH253,2) -> 1.69002e+08 | ... CP253: =POWER($AY253-BK253,2) -> 1.029541e+09
A254: 41579 | B254: 339584 | C254: 268448 | D254: 31715 | E254: 21231 | G254: =AVERAGE(B242:B254) -> 353373.08 | H254: =AVERAGE(C242:C254) -> 243675 | I254: =H255 -> 237268.08 | J254: =I255 -> 236835.69 | K254: =J255 -> 237358.62 | L254: =K255 -> 234676.15 | M254: =L255 -> 234069.23 | N254: =M255 -> 227639.92 | O254: =N255 -> 225585.69 | P254: =O255 -> 222806.46 | Q254: =P255 -> 223356.46 | AD254: =POWER($G254-I254,2) -> 13480371025 | AE254: =POWER($G254-J254,2) -> 1.3580962e+10 | AF254: =POWER($G254-K254,2) -> 1.3459355e+10 | AG254: =POWER($G254-L254,2) -> 1.408896e+10 | AH254: =POWER($G254-M254,2) -> 1.4233408e+10 | AI254: =POWER($G254-N254,2) -> 1.5808826e+10 | AJ254: =POWER($G254-O254,2) -> 1.6329616e+10 | AK254: =POWER($G254-P254,2) -> 1.7047641e+10 | AL254: =POWER($G254-Q254,2) -> 1.690432e+10 | AY254: =AVERAGE(D242:D254) -> 32359.154 | AZ254: =AVERAGE(E242:E254) -> 19580.538 | BA254: =AZ255 -> 18959.692 | BB254: =BA255 -> 18770.385 | BC254: =BB255 -> 19167.923 | BD254: =BC255 -> 19550.846 | BE254: =BD255 -> 19907.462 | BF254: =BE255 -> 19118.077 | BG254: =BF255 -> 19086.385 | BH254: =BG255 -> 19262.923 | BI254: =BH255 -> 19153.154 | CF254: =POWER($AY254-BA254,2) -> 1.7954557e+08 | CG254: =POWER($AY254-BB254,2) -> 1.8465465e+08 | CH254: =POWER($AY254-BC254,2) -> 1.7400857e+08 | CI254: =POWER($AY254-BD254,2) -> 1.6405275e+08 | CJ254: =POWER($AY254-BE254,2) -> 1.5504464e+08 | CK254: =POWER($AY254-BF254,2) -> 1.7532612e+08 | CL254: =POWER($AY254-BG254,2) -> 1.761664e+08 | CM254: =POWER($AY254-BH254,2) -> 1.7151126e+08 | ... CO254: =POWER($AY254-BJ254,2) -> 1.0471148e+09
A255: 41609 | B255: 260220 | C255: 212658 | D255: 21571 | E255: 15763 | G255: =AVERAGE(B243:B255) -> 343465.69 | H255: =AVERAGE(C243:C255) -> 237268.08 | I255: =H256 -> 236835.69 | J255: =I256 -> 237358.62 | K255: =J256 -> 234676.15 | L255: =K256 -> 234069.23 | M255: =L256 -> 227639.92 | N255: =M256 -> 225585.69 | O255: =N256 -> 222806.46 | P255: =O256 -> 223356.46 | AD255: =POWER($G255-I255,2) -> 11369956900 | AE255: =POWER($G255-J255,2) -> 1.1258712e+10 | AF255: =POWER($G255-K255,2) -> 1.1835164e+10 | AG255: =POWER($G255-L255,2) -> 1.1967586e+10 | AH255: =POWER($G255-M255,2) -> 1.3415609e+10 | AI255: =POWER($G255-N255,2) -> 13895694400 | AJ255: =POWER($G255-O255,2) -> 1.455865e+10 | AK255: =POWER($G255-P255,2) -> 1.4426227e+10 | AY255: =AVERAGE(D243:D255) -> 30334.615 | AZ255: =AVERAGE(E243:E255) -> 18959.692 | BA255: =AZ256 -> 18770.385 | BB255: =BA256 -> 19167.923 | BC255: =BB256 -> 19550.846 | BD255: =BC256 -> 19907.462 | BE255: =BD256 -> 19118.077 | BF255: =BE256 -> 19086.385 | BG255: =BF256 -> 19262.923 | BH255: =BG256 -> 19153.154 | CF255: =POWER($AY255-BA255,2) -> 1.3373143e+08 | CG255: =POWER($AY255-BB255,2) -> 1.2469502e+08 | CH255: =POWER($AY255-BC255,2) -> 1.1628968e+08 | CI255: =POWER($AY255-BD255,2) -> 1.0872554e+08 | CJ255: =POWER($AY255-BE255,2) -> 1.2581074e+08 | CK255: =POWER($AY255-BF255,2) -> 1.265227e+08 | CL255: =POWER($AY255-BG255,2) -> 1.2258237e+08 | CM255: =POWER($AY255-BH255,2) -> 1.2502508e+08 | CN255: =POWER($AY255-BI255,2) -> 9.2018889e+08
A256: 41640 | B256: 328376 | C256: 219782 | D256: 36639 | E256: 16844 | G256: =AVERAGE(B244:B256) -> 350613.08 | H256: =AVERAGE(C244:C256) -> 236835.69 | I256: =H257 -> 237358.62 | J256: =I257 -> 234676.15 | K256: =J257 -> 234069.23 | L256: =K257 -> 227639.92 | M256: =L257 -> 225585.69 | N256: =M257 -> 222806.46 | O256: =N257 -> 223356.46 | AD256: =POWER($G256-I256,2) -> 1.2826573e+10 | AE256: =POWER($G256-J256,2) -> 1.344137e+10 | AF256: =POWER($G256-K256,2) -> 1.3582468e+10 | AG256: =POWER($G256-L256,2) -> 1.5122397e+10 | AH256: =POWER($G256-M256,2) -> 1.5631847e+10 | AI256: =POWER($G256-N256,2) -> 1.6334531e+10 | AJ256: =POWER($G256-O256,2) -> 1.6194246e+10 | AY256: =AVERAGE(D244:D256) -> 31663.231 | AZ256: =AVERAGE(E244:E256) -> 18770.385 | BA256: =AZ257 -> 19167.923 | BB256: =BA257 -> 19550.846 | BC256: =BB257 -> 19907.462 | BD256: =BC257 -> 19118.077 | BE256: =BD257 -> 19086.385 | BF256: =BE257 -> 19262.923 | BG256: =BF257 -> 19153.154 | CF256: =POWER($AY256-BA256,2) -> 1.5613271e+08 | CG256: =POWER($AY256-BB256,2) -> 1.4670986e+08 | CH256: =POWER($AY256-BC256,2) -> 1.3819811e+08 | CI256: =POWER($AY256-BD256,2) -> 1.5738089e+08 | CJ256: =POWER($AY256-BE256,2) -> 1.5817706e+08 | CK256: =POWER($AY256-BF256,2) -> 1.5376763e+08 | CL256: =POWER($AY256-BG256,2) -> 1.5650202e+08 | CM256: =POWER($AY256-BH256,2) -> 1.0025602e+09
A257: 41671 | B257: 368364 | C257: 210267 | D257: 26091 | E257: 22280 | G257: =AVERAGE(B245:B257) -> 357877.85 | H257: =AVERAGE(C245:C257) -> 237358.62 | I257: =H258 -> 234676.15 | J257: =I258 -> 234069.23 | K257: =J258 -> 227639.92 | L257: =K258 -> 225585.69 | M257: =L258 -> 222806.46 | N257: =M258 -> 223356.46 | AD257: =POWER($G257-I257,2) -> 1.5178657e+10 | AE257: =POWER($G257-J257,2) -> 1.5328573e+10 | AF257: =POWER($G257-K257,2) -> 1.6961917e+10 | AG257: =POWER($G257-L257,2) -> 1.7501214e+10 | AH257: =POWER($G257-M257,2) -> 1.8244279e+10 | AI257: =POWER($G257-N257,2) -> 1.8096003e+10 | AY257: =AVERAGE(D245:D257) -> 32135.154 | AZ257: =AVERAGE(E245:E257) -> 19167.923 | BA257: =AZ258 -> 19550.846 | BB257: =BA258 -> 19907.462 | BC257: =BB258 -> 19118.077 | BD257: =BC258 -> 19086.385 | BE257: =BD258 -> 19262.923 | BF257: =BE258 -> 19153.154 | CF257: =POWER($AY257-BA257,2) -> 1.583648e+08 | CG257: =POWER($AY257-BB257,2) -> 1.4951646e+08 | CH257: =POWER($AY257-BC257,2) -> 1.6944429e+08 | CI257: =POWER($AY257-BD257,2) -> 1.7027038e+08 | CJ257: =POWER($AY257-BE257,2) -> 1.6569432e+08 | CK257: =POWER($AY257-BF257,2) -> 168532324 | CL257: =POWER($AY257-BG257,2) -> 1.0326681e+09
A258: 41699 | B258: 339460 | C258: 179257 | D258: 28329 | E258: 20542 | G258: =AVERAGE(B246:B258) -> 357464 | H258: =AVERAGE(C246:C258) -> 234676.15 | I258: =H259 -> 234069.23 | J258: =I259 -> 227639.92 | K258: =J259 -> 225585.69 | L258: =K259 -> 222806.46 | M258: =L259 -> 223356.46 | AD258: =POWER($G258-I258,2) -> 1.5226269e+10 | AE258: =POWER($G258-J258,2) -> 1.6854291e+10 | AF258: =POWER($G258-K258,2) -> 1.7391888e+10 | AG258: =POWER($G258-L258,2) -> 1.8132653e+10 | AH258: =POWER($G258-M258,2) -> 1.7984832e+10 | AY258: =AVERAGE(D246:D258) -> 32388.692 | AZ258: =AVERAGE(E246:E258) -> 19550.846 | BA258: =AZ259 -> 19907.462 | BB258: =BA259 -> 19118.077 | BC258: =BB259 -> 19086.385 | BD258: =BC259 -> 19262.923 | BE258: =BD259 -> 19153.154 | CF258: =POWER($AY258-BA258,2) -> 1.5578112e+08 | CG258: =POWER($AY258-BB258,2) -> 1.7610923e+08 | CH258: =POWER($AY258-BC258,2) -> 1.7695139e+08 | CI258: =POWER($AY258-BD258,2) -> 1.7228582e+08 | CJ258: =POWER($AY258-BE258,2) -> 1.7517948e+08 | CK258: =POWER($AY258-BF258,2) -> 1.0490274e+09
A259: 41730 | B259: 321446 | C259: 185471 | D259: 34485 | E259: 20977 | G259: =AVERAGE(B247:B259) -> 357192.69 | H259: =AVERAGE(C247:C259) -> 234069.23 | I259: =H260 -> 227639.92 | J259: =I260 -> 225585.69 | K259: =J260 -> 222806.46 | L259: =K260 -> 223356.46 | AD259: =POWER($G259-I259,2) -> 1.678392e+10 | AE259: =POWER($G259-J259,2) -> 17320402449 | AF259: =POWER($G259-K259,2) -> 1.8059659e+10 | AG259: =POWER($G259-L259,2) -> 1.7912137e+10 | AY259: =AVERAGE(D247:D259) -> 32058.538 | AZ259: =AVERAGE(E247:E259) -> 19907.462 | BA259: =AZ260 -> 19118.077 | BB259: =BA260 -> 19086.385 | BC259: =BB260 -> 19262.923 | BD259: =BC260 -> 19153.154 | CF259: =POWER($AY259-BA259,2) -> 1.6745554e+08 | CG259: =POWER($AY259-BB259,2) -> 1.6827678e+08 | CH259: =POWER($AY259-BC259,2) -> 1.6372777e+08 | CI259: =POWER($AY259-BD259,2) -> 1.6654895e+08 | CJ259: =POWER($AY259-BE259,2) -> 1.0277499e+09
A260: 41760 | B260: 340323 | C260: 190611 | D260: 34325 | E260: 12374 | G260: =AVERAGE(B248:B260) -> 355824.62 | H260: =AVERAGE(C248:C260) -> 227639.92 | I260: =H261 -> 225585.69 | J260: =I261 -> 222806.46 | K260: =J261 -> 223356.46 | AD260: =POWER($G260-I260,2) -> 1.6962177e+10 | AE260: =POWER($G260-J260,2) -> 1.7693829e+10 | AF260: =POWER($G260-K260,2) -> 1.7547812e+10 | AY260: =AVERAGE(D248:D260) -> 32620.462 | AZ260: =AVERAGE(E248:E260) -> 19118.077 | BA260: =AZ261 -> 19086.385 | BB260: =BA261 -> 19262.923 | BC260: =BB261 -> 19153.154 | CF260: =POWER($AY260-BA260,2) -> 1.8317124e+08 | CG260: =POWER($AY260-BB260,2) -> 1.7842383e+08 | CH260: =POWER($AY260-BC260,2) -> 1.8136838e+08 | CI260: =POWER($AY260-BD260,2) -> 1.0640945e+09
A261: 41791 | B261: 427763 | C261: 212413 | D261: 46576 | E261: 18862 | G261: =AVERAGE(B249:B261) -> 358659.69 | H261: =AVERAGE(C249:C261) -> 225585.69 | I261: =H262 -> 222806.46 | J261: =I262 -> 223356.46 | AD261: =POWER($G261-I261,2) -> 1.84561e+10 | AE261: =POWER($G261-J261,2) -> 1.8306964e+10 | AY261: =AVERAGE(D249:D261) -> 33234.769 | AZ261: =AVERAGE(E249:E261) -> 19086.385 | BA261: =AZ262 -> 19262.923 | BB261: =BA262 -> 19153.154 | CF261: =POWER($AY261-BA261,2) -> 1.9521248e+08 | CG261: =POWER($AY261-BB261,2) -> 1.9829189e+08 | CH261: =POWER($AY261-BC261,2) -> 1.1045499e+09
A262: 41821 | B262: 442449 | C262: 238516 | D262: 41009 | E262: 18496 | G262: =AVERAGE(B250:B262) -> 363091.23 | H262: =AVERAGE(C250:C262) -> 222806.46 | I262: =H263 -> 223356.46 | AD262: =POWER($G262-I262,2) -> 1.9525806e+10 | AY262: =AVERAGE(D250:D262) -> 34197.462 | AZ262: =AVERAGE(E250:E262) -> 19262.923 | BA262: =AZ263 -> 19153.154 | CF262: =POWER($AY262-BA262,2) -> 2.2633119e+08 | CG262: =POWER($AY262-BB262,2) -> 1.1694664e+09
A263: 41852 | B263: 434073 | C263: 254584 | D263: 46032 | E263: 20432 | G263: =AVERAGE(B251:B263) -> 364708.23 | H263: =AVERAGE(C251:C263) -> 223356.46 | AY263: =AVERAGE(D251:D263) -> 35649.538 | AZ263: =AVERAGE(E251:E263) -> 19153.154 | CF263: =POWER($AY263-BA263,2) -> 1.2708896e+09
AD298: =SQRT(AVERAGE(AD16:AD262)) -> 166278.03 | AE298: =SQRT(AVERAGE(AE16:AE262)) -> 165337.72 | AF298: =SQRT(AVERAGE(AF16:AF262)) -> 164464.38 | AG298: =SQRT(AVERAGE(AG16:AG262)) -> 163681.38 | AH298: =SQRT(AVERAGE(AH16:AH262)) -> 162992.85 | AI298: =SQRT(AVERAGE(AI16:AI262)) -> 162400.31 | AJ298: =SQRT(AVERAGE(AJ16:AJ262)) -> 161913.88 | AK298: =SQRT(AVERAGE(AK16:AK262)) -> 161539.97 | ... AW298: =SQRT(AVERAGE(AW16:AW262)) -> 166271.95 | CF298: =SQRT(AVERAGE(CF16:CF262)) -> 16055.254 | CG298: =SQRT(AVERAGE(CG16:CG262)) -> 16209.842 | CH298: =SQRT(AVERAGE(CH16:CH262)) -> 16244.355 | CI298: =SQRT(AVERAGE(CI16:CI262)) -> 16283.092 | CJ298: =SQRT(AVERAGE(CJ16:CJ262)) -> 16325.34 | CK298: =SQRT(AVERAGE(CK16:CK262)) -> 16376.759 | CL298: =SQRT(AVERAGE(CL16:CL262)) -> 16425.806 | CM298: =SQRT(AVERAGE(CM16:CM262)) -> 16473.219 | ... DH298: =SQRT(AVERAGE(DH16:DH262)) -> 18465.673
AE299: =AE298-AD298 -> -940.30539 | AF299: =AF298-AE298 -> -873.33899 | AG299: =AG298-AF298 -> -783.00313 | AH299: =AH298-AG298 -> -688.52967 | AI299: =AI298-AH298 -> -592.53757 | AJ299: =AJ298-AI298 -> -486.43427 | AK299: =AK298-AJ298 -> -373.90929 | AL299: =AL298-AK298 -> -253.38728 | ... AW299: =AW298-AV298 -> 1052.6208 | CG299: =CG298-CF298 -> 154.58763 | CH299: =CH298-CG298 -> 34.513171 | CI299: =CI298-CH298 -> 38.736996 | CJ299: =CJ298-CI298 -> 42.24752 | CK299: =CK298-CJ298 -> 51.419846 | CL299: =CL298-CK298 -> 49.047056 | CM299: =CM298-CL298 -> 47.412696 | CN299: =CN298-CM298 -> 45.397519 | ... DH299: =DH298-DG298 -> 114.12317
A330: Correlation Coefficient | B330: 0 | C330: 1 | D330: =C330+1 -> 2 | E330: =D330+1 -> 3 | F330: =E330+1 -> 4 | G330: =F330+1 -> 5 | H330: =G330+1 -> 6 | I330: =H330+1 -> 7 | J330: =I330+1 -> 8 | K330: =J330+1 -> 9 | ... V330: =U330+1 -> 20 | AY330: Correlation Coefficient | AZ330: =B330 -> 0 | BA330: 1 | BB330: =BA330+1 -> 2 | BC330: =BB330+1 -> 3 | BD330: =BC330+1 -> 4 | BE330: =BD330+1 -> 5 | BF330: =BE330+1 -> 6 | BG330: =BF330+1 -> 7 | BH330: =BG330+1 -> 8 | BI330: =BH330+1 -> 9 | ... CC330: =CB330+1 -> 29
B331: =CORREL($G16:$G263,H16:H263) -> 0.84835902 | C331: =CORREL($G16:$G263,I16:I263) -> 0.8666555 | D331: =CORREL($G16:$G263,J16:J263) -> 0.88334814 | E331: =CORREL($G16:$G263,K16:K263) -> 0.89893005 | F331: =CORREL($G16:$G263,L16:L263) -> 0.91289214 | G331: =CORREL($G16:$G263,M16:M263) -> 0.92522171 | H331: =CORREL($G16:$G263,N16:N263) -> 0.93595993 | I331: =CORREL($G16:$G263,O16:O263) -> 0.94481489 | ... V331: =CORREL($G16:$G263,AB16:AB263) -> 0.90812781 | AZ331: =CORREL($AY16:$AY263,AZ16:AZ263) -> 0.6909546 | BA331: =CORREL($AY16:$AY263,BA16:BA263) -> 0.70271888 | BB331: =CORREL($AY16:$AY263,BB16:BB263) -> 0.71460529 | BC331: =CORREL($AY16:$AY263,BC16:BC263) -> 0.7267255 | BD331: =CORREL($AY16:$AY263,BD16:BD263) -> 0.73659518 | BE331: =CORREL($AY16:$AY263,BE16:BE263) -> 0.74618486 | BF331: =CORREL($AY16:$AY263,BF16:BF263) -> 0.75554344 | BG331: =CORREL($AY16:$AY263,BG16:BG263) -> 0.76180582 | ... CC331: =CORREL($AY16:$AY263,CC16:CC263) -> 0.33457538
P336: Correlation Coefficient | BQ336: Correlation Coefficient
P337: {=TRANSPOSE(B331:V331)} -> 0.84835902 | Q337: {=TRANSPOSE(B330:V330)} -> 0 | BQ337: {=TRANSPOSE(AZ331:CC331)} -> 0.6909546 | BR337: {=TRANSPOSE(AZ330:CC330)} -> 0
P338: 0.8666555 | Q338: 1 | BQ338: 0.70271888 | BR338: 1
P339: 0.88334814 | Q339: 2 | BQ339: 0.71460529 | BR339: 2
P340: 0.89893005 | Q340: 3 | BQ340: 0.7267255 | BR340: 3
P341: 0.91289214 | Q341: 4 | BQ341: 0.73659518 | BR341: 4
P342: 0.92522171 | Q342: 5 | BQ342: 0.74618486 | BR342: 5
P343: 0.93595993 | Q343: 6 | BQ343: 0.75554344 | BR343: 6
P344: 0.94481489 | Q344: 7 | BQ344: 0.76180582 | BR344: 7
P345: 0.95235443 | Q345: 8 | BQ345: 0.76773016 | BR345: 8
P346: 0.95832727 | Q346: 9 | BQ346: 0.77210484 | BR346: 9
P347: 0.96199238 | Q347: 10 | BQ347: 0.77337139 | BR347: 10
P348: 0.96432345 | Q348: 11 | BQ348: 0.77372205 | BR348: 11
P349: 0.96529018 | Q349: 12 | BQ349: 0.77049624 | BR349: 12
... P357: 0.90812781 | Q357: 20 | BQ357: 0.63590631 | BR357: 20
BQ358: 0.60703155 | BR358: 21
BQ359: 0.57751484 | BR359: 22
BQ360: 0.54533404 | BR360: 23
BQ361: 0.51168666 | BR361: 24
BQ362: 0.47733522 | BR362: 25
BQ363: 0.44118296 | BR363: 26
BQ364: 0.40538042 | BR364: 27
BQ365: 0.36955186 | BR365: 28
...

Sheet Flats and Townhouses
A1: Residential Buildings, Flat and Townhouses
A2: m² | B2: SA | D2: KZN | G2: SA | I2: Buildings Completed (MA-12) | AZ2: KZN | BC2: Buildings Completed (MA-12)
B3: Plans Approved | C3: Buildings Completed | D3: Plans Approved | E3: =C3 -> Buildings Completed | G3: Plans Approved (MA-12) | H3: Buildings Completed (MA-12) | I3: 1 Lag | J3: 2 Lag | K3: 3 Lag | L3: 4 Lag | M3: 5 Lag | N3: 6 Lag | O3: 7 Lag | P3: 8 Lag | Q3: 9 Lag | R3: 10 Lag | S3: 11 Lag | T3: 12 Lag | U3: 13 Lag | V3: 14 Lag | W3: 15 Lag | X3: 16 Lag | Y3: 17 Lag | Z3: 18 Lag | AA3: 19 Lag | AB3: 20 Lag | AD3: Power of Average Plans Approved and 1Lag | AE3: Power of Approded and 2Lag | AF3: Power of Approded and 3Lag | AG3: Power of Approded and 4Lag | AH3: Power of Approded and 5Lag | AI3: Power of Approded and 6Lag | AJ3: Power of Approded and 7Lag | AK3: Power of Approded and 8Lag | AL3: Power of Approded and 9Lag | AM3: Power of Approded and 10Lag | AN3: Power of Approded and 11Lag | AO3: Power of Approded and 12Lag | AP3: Power of Approded and 13Lag | AQ3: Power of Approded and 14Lag | AR3: Power of Approded and 15 Lag | AS3: Power of Approded and 16 Lag | AT3: Power of Approded and 17 Lag | AU3: Power of Approded and 18 Lag | AV3: Power of Approded and 19 Lag | AW3: Power of Approded and 20 Lag | AZ3: Plans Approved (MA-12) | BA3: Buildings Completed (MA-12) | BB3: 1 Lag | BC3: 2 Lag | BD3: 3 Lag | BE3: 4 Lag | BF3: 5 Lag | BG3: 6 Lag | BH3: 7 Lag | BI3: 8 Lag | BJ3: 9 Lag | BK3: 10 Lag | BL3: 11 Lag | BM3: 12 Lag | BN3: 13 Lag | BO3: 14 Lag | BP3: 15 Lag | BQ3: 16 Lag | BR3: 17 Lag | BS3: 18 Lag | BT3: 19 Lag | BU3: 20 Lag | BV3: 21 Lag | BW3: 22 Lag | BX3: 23 Lag | BY3: 24 Lag | BZ3: 25 Lag | CA3: 26 Lag | CB3: 27 Lag | CC3: 28 Lag | CD3: 29 Lag | CG3: Power of Approded and 1 Lag | CH3: Power of Approded and 2Lag | CI3: Power of Approded and 3Lag | CJ3: Power of Approded and 4Lag | CK3: Power of Approded and 5Lag | CL3: Power of Approded and 6Lag | CM3: Power of Approded and 7Lag | CN3: Power of Approded and 8Lag | CO3: Power of Approded and 9Lag | CP3: Power of Approded and 10Lag | CQ3: Power of Approded and 11Lag | CR3: Power of Approded and 12Lag | CS3: Power of Approded and 13Lag | CT3: Power of Approded and 14Lag | CU3: Power of Approded and 15Lag | CV3: Power of Approded and 16Lag | CW3: Power of Approded and 17 Lag | CX3: Power of Approded and 18 Lag | CY3: Power of Approded and 19 Lag | CZ3: Power of Approded and 20 Lag | DA3: Power of Approded and 21 Lag | DB3: Power of Approded and 22 Lag | DC3: Power of Approded and 23 Lag | DD3: Power of Approded and 24 Lag | DE3: Power of Approded and 25 Lag | DF3: Power of Approded and 26 Lag | DG3: Power of Approded and 27 Lag | DH3: Power of Approded and 28 Lag | DI3: Power of Approded and 29 Lag
A4: 33970 | B4: 80230 | C4: 44214 | D4: 10803 | E4: 3983
A5: 34001 | B5: 106904 | C5: 61584 | D5: 28838 | E5: 15397
A6: 34029 | B6: 129898 | C6: 64557 | D6: 22256 | E6: 17249
A7: 34060 | B7: 125295 | C7: 54995 | D7: 24936 | E7: 10123
A8: 34090 | B8: 80372 | C8: 61067 | D8: 18218 | E8: 15109
A9: 34121 | B9: 175984 | C9: 121911 | D9: 66453 | E9: 38696
A10: 34151 | B10: 154152 | C10: 71881 | D10: 47397 | E10: 18900
A11: 34182 | B11: 207321 | C11: 104924 | D11: 59667 | E11: 23330
A12: 34213 | B12: 160951 | C12: 106903 | D12: 44343 | E12: 18239
A13: 34243 | B13: 140652 | C13: 77224 | D13: 51001 | E13: 16766
A14: 34274 | B14: 188678 | C14: 89388 | D14: 39117 | E14: 29127
A15: 34304 | B15: 80558 | C15: 82467 | D15: 21987 | E15: 20171
A16: 34335 | B16: 96525 | C16: 71247 | D16: 11378 | E16: 13090 | G16: =AVERAGE(B4:B16) -> 132886.15 | H16: =AVERAGE(C4:C16) -> 77874 | I16: =H17 -> 80473.308 | J16: =I17 -> 82848.692 | K16: =J17 -> 84068.462 | L16: =K17 -> 86997 | M16: =L17 -> 91441.077 | N16: =M17 -> 92341.462 | O16: =N17 -> 96665.846 | P16: =O17 -> 96026.615 | ... AB16: =AA17 -> 137108.77 | AD16: =POWER($G16-I16,2) -> 2.7471064e+09 | AE16: =POWER($G16-J16,2) -> 2.5037476e+09 | AF16: =POWER($G16-K16,2) -> 2.3831671e+09 | AG16: =POWER($G16-L16,2) -> 2.1058144e+09 | AH16: =POWER($G16-M16,2) -> 1.7176944e+09 | AI16: =POWER($G16-N16,2) -> 1.6438721e+09 | AJ16: =POWER($G16-O16,2) -> 1.3119107e+09 | AK16: =POWER($G16-P16,2) -> 1.3586256e+09 | ... AW16: =POWER($G16-AB16,2) -> 17830481 | AZ16: =AVERAGE(D4:D16) -> 34338 | BA16: =AVERAGE(E4:E16) -> 18475.385 | BB16: =BA17 -> 19773.308 | BC16: =BB17 -> 20411.769 | BD16: =BC17 -> 21336.846 | BE16: =BD17 -> 21350.308 | BF16: =BE17 -> 22018.308 | BG16: =BF17 -> 22845.154 | BH16: =BG17 -> 22772.385 | BI16: =BH17 -> 22462.385 | ... CD16: =CC17 -> 22855.154 | CG16: =POWER($AZ16-BB16,2) -> 2.1213026e+08 | CH16: =POWER($AZ16-BC16,2) -> 1.939399e+08 | CI16: =POWER($AZ16-BD16,2) -> 1.6903e+08 | CJ16: =POWER($AZ16-BE16,2) -> 1.6868015e+08 | CK16: =POWER($AZ16-BF16,2) -> 1.5177482e+08 | CL16: =POWER($AZ16-BG16,2) -> 1.3208551e+08 | CM16: =POWER($AZ16-BH16,2) -> 1.3376346e+08 | CN16: =POWER($AZ16-BI16,2) -> 1.4103024e+08 | ... DI16: =POWER($AZ16-CD16,2) -> 1.3185576e+08
A17: 34366 | B17: 134402 | C17: 78005 | D17: 41854 | E17: 20856 | G17: =AVERAGE(B5:B17) -> 137053.23 | H17: =AVERAGE(C5:C17) -> 80473.308 | I17: =H18 -> 82848.692 | J17: =I18 -> 84068.462 | K17: =J18 -> 86997 | L17: =K18 -> 91441.077 | M17: =L18 -> 92341.462 | N17: =M18 -> 96665.846 | O17: =N18 -> 96026.615 | P17: =O18 -> 97326.769 | ... AB17: =AA18 -> 138183.62 | AD17: =POWER($G17-I17,2) -> 2.938132e+09 | AE17: =POWER($G17-J17,2) -> 2.8073858e+09 | AF17: =POWER($G17-K17,2) -> 2.5056262e+09 | AG17: =POWER($G17-L17,2) -> 2.0804686e+09 | AH17: =POWER($G17-M17,2) -> 1.9991423e+09 | AI17: =POWER($G17-N17,2) -> 1.6311408e+09 | AJ17: =POWER($G17-O17,2) -> 1.6831832e+09 | AK17: =POWER($G17-P17,2) -> 1.5781917e+09 | ... AW17: =POWER($G17-AB17,2) -> 1277769.4 | AZ17: =AVERAGE(D5:D17) -> 36726.538 | BA17: =AVERAGE(E5:E17) -> 19773.308 | BB17: =BA18 -> 20411.769 | BC17: =BB18 -> 21336.846 | BD17: =BC18 -> 21350.308 | BE17: =BD18 -> 22018.308 | BF17: =BE18 -> 22845.154 | BG17: =BF18 -> 22772.385 | BH17: =BG18 -> 22462.385 | BI17: =BH18 -> 23480.231 | ... CD17: =CC18 -> 24351.077 | CG17: =POWER($AZ17-BB17,2) -> 2.661717e+08 | CH17: =POWER($AZ17-BC17,2) -> 2.3684263e+08 | CI17: =POWER($AZ17-BD17,2) -> 2.3642847e+08 | CJ17: =POWER($AZ17-BE17,2) -> 2.1633205e+08 | CK17: =POWER($AZ17-BF17,2) -> 1.9269284e+08 | CL17: =POWER($AZ17-BG17,2) -> 1.9471841e+08 | CM17: =POWER($AZ17-BH17,2) -> 2.0346608e+08 | CN17: =POWER($AZ17-BI17,2) -> 1.7546467e+08 | ... DI17: =POWER($AZ17-CD17,2) -> 1.5315205e+08
A18: 34394 | B18: 186381 | C18: 92464 | D18: 36150 | E18: 23697 | G18: =AVERAGE(B6:B18) -> 143166.85 | H18: =AVERAGE(C6:C18) -> 82848.692 | I18: =H19 -> 84068.462 | J18: =I19 -> 86997 | K18: =J19 -> 91441.077 | L18: =K19 -> 92341.462 | M18: =L19 -> 96665.846 | N18: =M19 -> 96026.615 | O18: =N19 -> 97326.769 | P18: =O19 -> 98573.462 | ... AB18: =AA19 -> 139358.08 | AD18: =POWER($G18-I18,2) -> 3.4926191e+09 | AE18: =POWER($G18-J18,2) -> 3.1550516e+09 | AF18: =POWER($G18-K18,2) -> 2.6755552e+09 | AG18: =POWER($G18-L18,2) -> 2.5832197e+09 | AH18: =POWER($G18-M18,2) -> 2162343001 | AI18: =POWER($G18-N18,2) -> 2.2222014e+09 | AJ18: =POWER($G18-O18,2) -> 2.1013127e+09 | AK18: =POWER($G18-P18,2) -> 1.98857e+09 | ... AW18: =POWER($G18-AB18,2) -> 14506723 | AZ18: =AVERAGE(D6:D18) -> 37289 | BA18: =AVERAGE(E6:E18) -> 20411.769 | BB18: =BA19 -> 21336.846 | BC18: =BB19 -> 21350.308 | BD18: =BC19 -> 22018.308 | BE18: =BD19 -> 22845.154 | BF18: =BE19 -> 22772.385 | BG18: =BF19 -> 22462.385 | BH18: =BG19 -> 23480.231 | BI18: =BH19 -> 24809.769 | ... CD18: =CC19 -> 24054.615 | CG18: =POWER($AZ18-BB18,2) -> 2.5447121e+08 | CH18: =POWER($AZ18-BC18,2) -> 2.5404191e+08 | CI18: =POWER($AZ18-BD18,2) -> 2.3319404e+08 | CJ18: =POWER($AZ18-BE18,2) -> 2.0862469e+08 | CK18: =POWER($AZ18-BF18,2) -> 2.1073212e+08 | CL18: =POWER($AZ18-BG18,2) -> 2.1982852e+08 | CM18: =POWER($AZ18-BH18,2) -> 1.9068211e+08 | CN18: =POWER($AZ18-BI18,2) -> 1.557312e+08 | ... DI18: =POWER($AZ18-CD18,2) -> 1.7514894e+08
A19: 34425 | B19: 127714 | C19: 80414 | D19: 29971 | E19: 29275 | G19: =AVERAGE(B7:B19) -> 142998.85 | H19: =AVERAGE(C7:C19) -> 84068.462 | I19: =H20 -> 86997 | J19: =I20 -> 91441.077 | K19: =J20 -> 92341.462 | L19: =K20 -> 96665.846 | M19: =L20 -> 96026.615 | N19: =M20 -> 97326.769 | O19: =N20 -> 98573.462 | P19: =O20 -> 107835.54 | ... AB19: =AA20 -> 145494.77 | AD19: =POWER($G19-I19,2) -> 3.1362068e+09 | AE19: =POWER($G19-J19,2) -> 2.6582036e+09 | AF19: =POWER($G19-K19,2) -> 2.5661706e+09 | AG19: =POWER($G19-L19,2) -> 2146746889 | AH19: =POWER($G19-M19,2) -> 2.2063905e+09 | AI19: =POWER($G19-N19,2) -> 2.0859386e+09 | AJ19: =POWER($G19-O19,2) -> 1.9736148e+09 | AK19: =POWER($G19-P19,2) -> 1.2364582e+09 | ... AW19: =POWER($G19-AB19,2) -> 6229632 | AZ19: =AVERAGE(D7:D19) -> 37882.462 | BA19: =AVERAGE(E7:E19) -> 21336.846 | BB19: =BA20 -> 21350.308 | BC19: =BB20 -> 22018.308 | BD19: =BC20 -> 22845.154 | BE19: =BD20 -> 22772.385 | BF19: =BE20 -> 22462.385 | BG19: =BF20 -> 23480.231 | BH19: =BG20 -> 24809.769 | BI19: =BH20 -> 26033.385 | ... CD19: =CC20 -> 22372.615 | CG19: =POWER($AZ19-BB19,2) -> 2.7331211e+08 | CH19: =POWER($AZ19-BC19,2) -> 2.5167138e+08 | CI19: =POWER($AZ19-BD19,2) -> 2.2612062e+08 | CJ19: =POWER($AZ19-BE19,2) -> 2.2831442e+08 | CK19: =POWER($AZ19-BF19,2) -> 2.3777877e+08 | CL19: =POWER($AZ19-BG19,2) -> 2.0742425e+08 | CM19: =POWER($AZ19-BH19,2) -> 1.7089528e+08 | CN19: =POWER($AZ19-BI19,2) -> 1.4040062e+08 | ... DI19: =POWER($AZ19-CD19,2) -> 2.4055533e+08
A20: 34455 | B20: 93827 | C20: 93066 | D20: 21737 | E20: 10298 | G20: =AVERAGE(B8:B20) -> 140578.23 | H20: =AVERAGE(C8:C20) -> 86997 | I20: =H21 -> 91441.077 | J20: =I21 -> 92341.462 | K20: =J21 -> 96665.846 | L20: =K21 -> 96026.615 | M20: =L21 -> 97326.769 | N20: =M21 -> 98573.462 | O20: =N21 -> 107835.54 | P20: =O21 -> 107808.77 | ... AB20: =AA21 -> 134854.54 | AD20: =POWER($G20-I20,2) -> 2.4144599e+09 | AE20: =POWER($G20-J20,2) -> 2.3267859e+09 | AF20: =POWER($G20-K20,2) -> 1.9282975e+09 | AG20: =POWER($G20-L20,2) -> 1.9848464e+09 | AH20: =POWER($G20-M20,2) -> 1.8706889e+09 | AI20: =POWER($G20-N20,2) -> 1.7644006e+09 | AJ20: =POWER($G20-O20,2) -> 1.0720839e+09 | AK20: =POWER($G20-P20,2) -> 1.0738376e+09 | ... AW20: =POWER($G20-AB20,2) -> 32760654 | AZ20: =AVERAGE(D8:D20) -> 37636.385 | BA20: =AVERAGE(E8:E20) -> 21350.308 | BB20: =BA21 -> 22018.308 | BC20: =BB21 -> 22845.154 | BD20: =BC21 -> 22772.385 | BE20: =BD21 -> 22462.385 | BF20: =BE21 -> 23480.231 | BG20: =BF21 -> 24809.769 | BH20: =BG21 -> 26033.385 | BI20: =BH21 -> 25275.231 | ... CD20: =CC21 -> 23314.846 | CG20: =POWER($AZ20-BB20,2) -> 2.4392433e+08 | CH20: =POWER($AZ20-BC20,2) -> 2.1878051e+08 | CI20: =POWER($AZ20-BD20,2) -> 220938496 | CJ20: =POWER($AZ20-BE20,2) -> 230250276 | CK20: =POWER($AZ20-BF20,2) -> 2.0039669e+08 | CL20: =POWER($AZ20-BG20,2) -> 1.6452206e+08 | CM20: =POWER($AZ20-BH20,2) -> 134629609 | CN20: =POWER($AZ20-BI20,2) -> 1.5279812e+08 | ... DI20: =POWER($AZ20-CD20,2) -> 2.0510646e+08
A21: 34486 | B21: 193515 | C21: 118840 | D21: 35320 | E21: 23793 | G21: =AVERAGE(B9:B21) -> 149281.54 | H21: =AVERAGE(C9:C21) -> 91441.077 | I21: =H22 -> 92341.462 | J21: =I22 -> 96665.846 | K21: =J22 -> 96026.615 | L21: =K22 -> 97326.769 | M21: =L22 -> 98573.462 | N21: =M22 -> 107835.54 | O21: =N22 -> 107808.77 | P21: =O22 -> 110640.92 | ... AB21: =AA22 -> 139069 | AD21: =POWER($G21-I21,2) -> 3.2421724e+09 | AE21: =POWER($G21-J21,2) -> 2.7684111e+09 | AF21: =POWER($G21-K21,2) -> 2.8360868e+09 | AG21: =POWER($G21-L21,2) -> 2.699298e+09 | AH21: =POWER($G21-M21,2) -> 2.5713091e+09 | AI21: =POWER($G21-N21,2) -> 1717770916 | AJ21: =POWER($G21-O21,2) -> 1.7199906e+09 | AK21: =POWER($G21-P21,2) -> 1.4930972e+09 | ... AW21: =POWER($G21-AB21,2) -> 1.0429594e+08 | AZ21: =AVERAGE(D9:D21) -> 38951.923 | BA21: =AVERAGE(E9:E21) -> 22018.308 | BB21: =BA22 -> 22845.154 | BC21: =BB22 -> 22772.385 | BD21: =BC22 -> 22462.385 | BE21: =BD22 -> 23480.231 | BF21: =BE22 -> 24809.769 | BG21: =BF22 -> 26033.385 | BH21: =BG22 -> 25275.231 | BI21: =BH22 -> 25667.692 | ... CD21: =CC22 -> 24938.308 | CG21: =POWER($AZ21-BB21,2) -> 2.5942802e+08 | CH21: =POWER($AZ21-BC21,2) -> 2.6177746e+08 | CI21: =POWER($AZ21-BD21,2) -> 2.7190488e+08 | CJ21: =POWER($AZ21-BE21,2) -> 2.3937326e+08 | CK21: =POWER($AZ21-BF21,2) -> 2.0000052e+08 | CL21: =POWER($AZ21-BG21,2) -> 1.6688864e+08 | CM21: =POWER($AZ21-BH21,2) -> 1.8705191e+08 | CN21: =POWER($AZ21-BI21,2) -> 1.7647079e+08 | ... DI21: =POWER($AZ21-CD21,2) -> 1.9638142e+08
A22: 34516 | B22: 190395 | C22: 133616 | D22: 26828 | E22: 49445 | G22: =AVERAGE(B10:B22) -> 150390.08 | H22: =AVERAGE(C10:C22) -> 92341.462 | I22: =H23 -> 96665.846 | J22: =I23 -> 96026.615 | K22: =J23 -> 97326.769 | L22: =K23 -> 98573.462 | M22: =L23 -> 107835.54 | N22: =M23 -> 107808.77 | O22: =N23 -> 110640.92 | P22: =O23 -> 118603.62 | ... AB22: =AA23 -> 145939.31 | AD22: =POWER($G22-I22,2) -> 2.886293e+09 | AE22: =POWER($G22-J22,2) -> 2.955386e+09 | AF22: =POWER($G22-K22,2) -> 2.8157146e+09 | AG22: =POWER($G22-L22,2) -> 2.6849616e+09 | AH22: =POWER($G22-M22,2) -> 1.8108887e+09 | AI22: =POWER($G22-N22,2) -> 1.8131678e+09 | AJ22: =POWER($G22-O22,2) -> 1.5799952e+09 | AK22: =POWER($G22-P22,2) -> 1.0103791e+09 | ... AW22: =POWER($G22-AB22,2) -> 19809347 | AZ22: =AVERAGE(D10:D22) -> 35903.846 | BA22: =AVERAGE(E10:E22) -> 22845.154 | BB22: =BA23 -> 22772.385 | BC22: =BB23 -> 22462.385 | BD22: =BC23 -> 23480.231 | BE22: =BD23 -> 24809.769 | BF22: =BE23 -> 26033.385 | BG22: =BF23 -> 25275.231 | BH22: =BG23 -> 25667.692 | BI22: =BH23 -> 26442 | ... CD22: =CC23 -> 23004.308 | CG22: =POWER($AZ22-BB22,2) -> 1.7243528e+08 | CH22: =POWER($AZ22-BC22,2) -> 1.8067289e+08 | CI22: =POWER($AZ22-BD22,2) -> 1.5434622e+08 | CJ22: =POWER($AZ22-BE22,2) -> 1.2307854e+08 | CK22: =POWER($AZ22-BF22,2) -> 97426011 | CL22: =POWER($AZ22-BG22,2) -> 1.1296746e+08 | CM22: =POWER($AZ22-BH22,2) -> 1.0477885e+08 | CN22: =POWER($AZ22-BI22,2) -> 89526533 | ... DI22: =POWER($AZ22-CD22,2) -> 1.6639809e+08
A23: 34547 | B23: 219510 | C23: 128098 | D23: 53105 | E23: 17954 | G23: =AVERAGE(B11:B23) -> 155417.62 | H23: =AVERAGE(C11:C23) -> 96665.846 | I23: =H24 -> 96026.615 | J23: =I24 -> 97326.769 | K23: =J24 -> 98573.462 | L23: =K24 -> 107835.54 | M23: =L24 -> 107808.77 | N23: =M24 -> 110640.92 | O23: =N24 -> 118603.62 | P23: =O24 -> 120430.85 | ... AB23: =AA24 -> 144730.31 | AD23: =POWER($G23-I23,2) -> 3.5272909e+09 | AE23: =POWER($G23-J23,2) -> 3.3745464e+09 | AF23: =POWER($G23-K23,2) -> 3.2312578e+09 | AG23: =POWER($G23-L23,2) -> 2.264054e+09 | AH23: =POWER($G23-M23,2) -> 2.2666022e+09 | AI23: =POWER($G23-N23,2) -> 2.0049522e+09 | AJ23: =POWER($G23-O23,2) -> 1.3552706e+09 | AK23: =POWER($G23-P23,2) -> 1.224074e+09 | ... AW23: =POWER($G23-AB23,2) -> 1.1421855e+08 | AZ23: =AVERAGE(D11:D23) -> 36342.923 | BA23: =AVERAGE(E11:E23) -> 22772.385 | BB23: =BA24 -> 22462.385 | BC23: =BB24 -> 23480.231 | BD23: =BC24 -> 24809.769 | BE23: =BD24 -> 26033.385 | BF23: =BE24 -> 25275.231 | BG23: =BF24 -> 25667.692 | BH23: =BG24 -> 26442 | BI23: =BH24 -> 25718.308 | ... CD23: =CC24 -> 23328 | CG23: =POWER($AZ23-BB23,2) -> 1.9266935e+08 | CH23: =POWER($AZ23-BC23,2) -> 1.6544885e+08 | CI23: =POWER($AZ23-BD23,2) -> 1.3301364e+08 | CJ23: =POWER($AZ23-BE23,2) -> 1.0628658e+08 | CK23: =POWER($AZ23-BF23,2) -> 1.2249381e+08 | CL23: =POWER($AZ23-BG23,2) -> 1.1396055e+08 | CM23: =POWER($AZ23-BH23,2) -> 98028278 | CN23: =POWER($AZ23-BI23,2) -> 1.1288245e+08 | ... DI23: =POWER($AZ23-CD23,2) -> 1.6938822e+08
A24: 34578 | B24: 239985 | C24: 96614 | D24: 37244 | E24: 19300 | G24: =AVERAGE(B12:B24) -> 157930.23 | H24: =AVERAGE(C12:C24) -> 96026.615 | I24: =H25 -> 97326.769 | J24: =I25 -> 98573.462 | K24: =J25 -> 107835.54 | L24: =K25 -> 107808.77 | M24: =L25 -> 110640.92 | N24: =M25 -> 118603.62 | O24: =N25 -> 120430.85 | P24: =O25 -> 123164.77 | ... AB24: =AA25 -> 152404.38 | AD24: =POWER($G24-I24,2) -> 3.6727796e+09 | AE24: =POWER($G24-J24,2) -> 3.5232261e+09 | AF24: =POWER($G24-K24,2) -> 2.5094782e+09 | AG24: =POWER($G24-L24,2) -> 2.5121609e+09 | AH24: =POWER($G24-M24,2) -> 2.2362786e+09 | AI24: =POWER($G24-N24,2) -> 1.5465827e+09 | AJ24: =POWER($G24-O24,2) -> 1.4062038e+09 | AK24: =POWER($G24-P24,2) -> 1.2086373e+09 | ... AW24: =POWER($G24-AB24,2) -> 30534976 | AZ24: =AVERAGE(D12:D24) -> 34618.077 | BA24: =AVERAGE(E12:E24) -> 22462.385 | BB24: =BA25 -> 23480.231 | BC24: =BB25 -> 24809.769 | BD24: =BC25 -> 26033.385 | BE24: =BD25 -> 25275.231 | BF24: =BE25 -> 25667.692 | BG24: =BF25 -> 26442 | BH24: =BG25 -> 25718.308 | BI24: =BH25 -> 26160.308 | ... CD24: =CC25 -> 23207.615 | CG24: =POWER($AZ24-BB24,2) -> 1.2405162e+08 | CH24: =POWER($AZ24-BC24,2) -> 96202900 | CI24: =POWER($AZ24-BD24,2) -> 73696942 | CJ24: =POWER($AZ24-BE24,2) -> 87288774 | CK24: =POWER($AZ24-BF24,2) -> 80109385 | CL24: =POWER($AZ24-BG24,2) -> 66848234 | CM24: =POWER($AZ24-BH24,2) -> 79205892 | CN24: =POWER($AZ24-BI24,2) -> 71533860 | ... DI24: =POWER($AZ24-CD24,2) -> 1.3019863e+08
A25: 34608 | B25: 175754 | C25: 123805 | D25: 25760 | E25: 31471 | G25: =AVERAGE(B13:B25) -> 159068.92 | H25: =AVERAGE(C13:C25) -> 97326.769 | I25: =H26 -> 98573.462 | J25: =I26 -> 107835.54 | K25: =J26 -> 107808.77 | L25: =K26 -> 110640.92 | M25: =L26 -> 118603.62 | N25: =M26 -> 120430.85 | O25: =N26 -> 123164.77 | P25: =O26 -> 131613.54 | ... AB25: =AA26 -> 154025.15 | AD25: =POWER($G25-I25,2) -> 3.6597009e+09 | AE25: =POWER($G25-J25,2) -> 2.6248597e+09 | AF25: =POWER($G25-K25,2) -> 2.6276034e+09 | AG25: =POWER($G25-L25,2) -> 2.3452712e+09 | AH25: =POWER($G25-M25,2) -> 1.6374411e+09 | AI25: =POWER($G25-N25,2) -> 1.492901e+09 | AJ25: =POWER($G25-O25,2) -> 1.2891083e+09 | AK25: =POWER($G25-P25,2) -> 7.5379814e+08 | ... AW25: =POWER($G25-AB25,2) -> 25439608 | AZ25: =AVERAGE(D13:D25) -> 33188.615 | BA25: =AVERAGE(E13:E25) -> 23480.231 | BB25: =BA26 -> 24809.769 | BC25: =BB26 -> 26033.385 | BD25: =BC26 -> 25275.231 | BE25: =BD26 -> 25667.692 | BF25: =BE26 -> 26442 | BG25: =BF26 -> 25718.308 | BH25: =BG26 -> 26160.308 | BI25: =BH26 -> 27699.154 | ... CD25: =CC26 -> 22232.615 | CG25: =POWER($AZ25-BB25,2) -> 70205063 | CH25: =POWER($AZ25-BC25,2) -> 51197327 | CI25: =POWER($AZ25-BD25,2) -> 62621656 | CJ25: =POWER($AZ25-BE25,2) -> 56564284 | CK25: =POWER($AZ25-BF25,2) -> 45516819 | CL25: =POWER($AZ25-BG25,2) -> 55805497 | CM25: =POWER($AZ25-BH25,2) -> 49397109 | CN25: =POWER($AZ25-BI25,2) -> 30134188 | ... DI25: =POWER($AZ25-CD25,2) -> 120033936
A26: 34639 | B26: 211370 | C26: 93431 | D26: 21989 | E26: 34050 | G26: =AVERAGE(B14:B26) -> 164508.77 | H26: =AVERAGE(C14:C26) -> 98573.462 | I26: =H27 -> 107835.54 | J26: =I27 -> 107808.77 | K26: =J27 -> 110640.92 | L26: =K27 -> 118603.62 | M26: =L27 -> 120430.85 | N26: =M27 -> 123164.77 | O26: =N27 -> 131613.54 | P26: =O27 -> 132743.08 | ... AB26: =AA27 -> 149103.85 | AD26: =POWER($G26-I26,2) -> 3.2118551e+09 | AE26: =POWER($G26-J26,2) -> 3.21489e+09 | AF26: =POWER($G26-K26,2) -> 2.9017448e+09 | AG26: =POWER($G26-L26,2) -> 2.1072831e+09 | AH26: =POWER($G26-M26,2) -> 1.9428633e+09 | AI26: =POWER($G26-N26,2) -> 1.7093263e+09 | AJ26: =POWER($G26-O26,2) -> 1.0820962e+09 | AK26: =POWER($G26-P26,2) -> 1.0090592e+09 | ... AW26: =POWER($G26-AB26,2) -> 2.3731166e+08 | AZ26: =AVERAGE(D14:D26) -> 30956.923 | BA26: =AVERAGE(E14:E26) -> 24809.769 | BB26: =BA27 -> 26033.385 | BC26: =BB27 -> 25275.231 | BD26: =BC27 -> 25667.692 | BE26: =BD27 -> 26442 | BF26: =BE27 -> 25718.308 | BG26: =BF27 -> 26160.308 | BH26: =BG27 -> 27699.154 | BI26: =BH27 -> 27584.385 | ... CD26: =CC27 -> 23810.231 | CG26: =POWER($AZ26-BB26,2) -> 24241231 | CH26: =POWER($AZ26-BC26,2) -> 32281627 | CI26: =POWER($AZ26-BD26,2) -> 27975962 | CJ26: =POWER($AZ26-BE26,2) -> 20384530 | CK26: =POWER($AZ26-BF26,2) -> 27443091 | CL26: =POWER($AZ26-BG26,2) -> 23007519 | CM26: =POWER($AZ26-BH26,2) -> 10613060 | CN26: =POWER($AZ26-BI26,2) -> 11374016 | ... DI26: =POWER($AZ26-CD26,2) -> 51075211
A27: 34669 | B27: 190619 | C27: 209795 | D27: 27427 | E27: 45034 | G27: =AVERAGE(B15:B27) -> 164658.08 | H27: =AVERAGE(C15:C27) -> 107835.54 | I27: =H28 -> 107808.77 | J27: =I28 -> 110640.92 | K27: =J28 -> 118603.62 | L27: =K28 -> 120430.85 | M27: =L28 -> 123164.77 | N27: =M28 -> 131613.54 | O27: =N28 -> 132743.08 | P27: =O28 -> 136279.23 | ... AB27: =AA28 -> 146863.85 | AD27: =POWER($G27-I27,2) -> 3.2318438e+09 | AE27: =POWER($G27-J27,2) -> 2.9178529e+09 | AF27: =POWER($G27-K27,2) -> 2.1210134e+09 | AG27: =POWER($G27-L27,2) -> 1.9560479e+09 | AH27: =POWER($G27-M27,2) -> 1.7216946e+09 | AI27: =POWER($G27-N27,2) -> 1.0919415e+09 | AJ27: =POWER($G27-O27,2) -> 1018567225 | AK27: =POWER($G27-P27,2) -> 8.0535891e+08 | ... AW27: =POWER($G27-AB27,2) -> 3.1663465e+08 | AZ27: =AVERAGE(D15:D27) -> 30057.692 | BA27: =AVERAGE(E15:E27) -> 26033.385 | BB27: =BA28 -> 25275.231 | BC27: =BB28 -> 25667.692 | BD27: =BC28 -> 26442 | BE27: =BD28 -> 25718.308 | BF27: =BE28 -> 26160.308 | BG27: =BF28 -> 27699.154 | BH27: =BG28 -> 27584.385 | BI27: =BH28 -> 26431.154 | ... CD27: =CC28 -> 24265.923 | CG27: =POWER($AZ27-BB27,2) -> 22871938 | CH27: =POWER($AZ27-BC27,2) -> 19272100 | CI27: =POWER($AZ27-BD27,2) -> 13073231 | CJ27: =POWER($AZ27-BE27,2) -> 18830259 | CK27: =POWER($AZ27-BF27,2) -> 15189607 | CL27: =POWER($AZ27-BG27,2) -> 5562703.7 | CM27: =POWER($AZ27-BH27,2) -> 6117250.9 | CN27: =POWER($AZ27-BI27,2) -> 13151781 | ... DI27: =POWER($AZ27-CD27,2) -> 33544591
... A234: 40969 | B234: 101143 | C234: 117228 | D234: 8032 | E234: 8230 | G234: =AVERAGE(B222:B234) -> 116154.38 | H234: =AVERAGE(C222:C234) -> 87339.923 | I234: =H235 -> 87001.077 | J234: =I235 -> 86878.692 | K234: =J235 -> 87360.923 | L234: =K235 -> 83656.615 | M234: =L235 -> 88360.769 | N234: =M235 -> 92809.692 | O234: =N235 -> 91662.615 | P234: =O235 -> 92829.462 | ... AB234: =AA235 -> 104096.08 | AD234: =POWER($G234-I234,2) -> 8.4991535e+08 | AE234: =POWER($G234-J234,2) -> 8.5706616e+08 | AF234: =POWER($G234-K234,2) -> 8.2906343e+08 | AG234: =POWER($G234-L234,2) -> 1.056105e+09 | AH234: =POWER($G234-M234,2) -> 7.7248506e+08 | AI234: =POWER($G234-N234,2) -> 5.4497466e+08 | AJ234: =POWER($G234-O234,2) -> 5.9984676e+08 | AK234: =POWER($G234-P234,2) -> 5.4405204e+08 | ... AW234: =POWER($G234-AB234,2) -> 1.4540278e+08 | AZ234: =AVERAGE(D222:D234) -> 18552.154 | BA234: =AVERAGE(E222:E234) -> 14471.846 | BB234: =BA235 -> 14365.846 | BC234: =BB235 -> 14826.462 | BD234: =BC235 -> 14046.154 | BE234: =BD235 -> 13694.538 | BF234: =BE235 -> 12456.462 | BG234: =BF235 -> 12261.769 | BH234: =BG235 -> 13876.462 | BI234: =BH235 -> 13661.692 | ... CD234: =CC235 -> 12570.385 | CG234: =POWER($AZ234-BB234,2) -> 17525172 | CH234: =POWER($AZ234-BC234,2) -> 13880783 | CI234: =POWER($AZ234-BD234,2) -> 20304036 | CJ234: =POWER($AZ234-BE234,2) -> 23596427 | CK234: =POWER($AZ234-BF234,2) -> 37157465 | CL234: =POWER($AZ234-BG234,2) -> 39568939 | CM234: =POWER($AZ234-BH234,2) -> 21862099 | CN234: =POWER($AZ234-BI234,2) -> 23916614 | ... DI234: =POWER($AZ234-CD234,2) -> 35781563
A235: 41000 | B235: 93732 | C235: 80496 | D235: 17410 | E235: 11226 | G235: =AVERAGE(B223:B235) -> 109287.54 | H235: =AVERAGE(C223:C235) -> 87001.077 | I235: =H236 -> 86878.692 | J235: =I236 -> 87360.923 | K235: =J236 -> 83656.615 | L235: =K236 -> 88360.769 | M235: =L236 -> 92809.692 | N235: =M236 -> 91662.615 | O235: =N236 -> 92829.462 | P235: =O236 -> 91851.923 | ... AB235: =AA236 -> 100289.77 | AD235: =POWER($G235-I235,2) -> 5.0215639e+08 | AE235: =POWER($G235-J235,2) -> 4.8077646e+08 | AF235: =POWER($G235-K235,2) -> 6.5694422e+08 | AG235: =POWER($G235-L235,2) -> 4.3792967e+08 | AH235: =POWER($G235-M235,2) -> 2.7151941e+08 | AI235: =POWER($G235-N235,2) -> 3.1063791e+08 | AJ235: =POWER($G235-O235,2) -> 2.708683e+08 | AK235: =POWER($G235-P235,2) -> 3.0400068e+08 | ... AW235: =POWER($G235-AB235,2) -> 80959851 | AZ235: =AVERAGE(D223:D235) -> 19120.308 | BA235: =AVERAGE(E223:E235) -> 14365.846 | BB235: =BA236 -> 14826.462 | BC235: =BB236 -> 14046.154 | BD235: =BC236 -> 13694.538 | BE235: =BD236 -> 12456.462 | BF235: =BE236 -> 12261.769 | BG235: =BF236 -> 13876.462 | BH235: =BG236 -> 13661.692 | BI235: =BH236 -> 13191.154 | ... CC235: =CB236 -> 12570.385 | CG235: =POWER($AZ235-BB235,2) -> 18437115 | CH235: =POWER($AZ235-BC235,2) -> 25747037 | CI235: =POWER($AZ235-BD235,2) -> 29438972 | CJ235: =POWER($AZ235-BE235,2) -> 44406846 | CK235: =POWER($AZ235-BF235,2) -> 47039550 | CL235: =POWER($AZ235-BG235,2) -> 27497922 | CM235: =POWER($AZ235-BH235,2) -> 29796482 | CN235: =POWER($AZ235-BI235,2) -> 35154865 | ... DI235: =POWER($AZ235-CD235,2) -> 3.6558617e+08
A236: 41030 | B236: 158617 | C236: 61321 | D236: 18528 | E236: 12981 | G236: =AVERAGE(B224:B236) -> 113238.77 | H236: =AVERAGE(C224:C236) -> 86878.692 | I236: =H237 -> 87360.923 | J236: =I237 -> 83656.615 | K236: =J237 -> 88360.769 | L236: =K237 -> 92809.692 | M236: =L237 -> 91662.615 | N236: =M237 -> 92829.462 | O236: =N237 -> 91851.923 | P236: =O237 -> 90271.846 | ... AB236: =AA237 -> 97233.615 | AD236: =POWER($G236-I236,2) -> 6.6966292e+08 | AE236: =POWER($G236-J236,2) -> 8.7510383e+08 | AF236: =POWER($G236-K236,2) -> 618914884 | AG236: =POWER($G236-L236,2) -> 4.1734718e+08 | AH236: =POWER($G236-M236,2) -> 4.6553041e+08 | AI236: =POWER($G236-N236,2) -> 4.1653984e+08 | AJ236: =POWER($G236-O236,2) -> 4.5739719e+08 | AK236: =POWER($G236-P236,2) -> 5.2747956e+08 | ... AW236: =POWER($G236-AB236,2) -> 2.5616495e+08 | AZ236: =AVERAGE(D224:D236) -> 18136.154 | BA236: =AVERAGE(E224:E236) -> 14826.462 | BB236: =BA237 -> 14046.154 | BC236: =BB237 -> 13694.538 | BD236: =BC237 -> 12456.462 | BE236: =BD237 -> 12261.769 | BF236: =BE237 -> 13876.462 | BG236: =BF237 -> 13661.692 | BH236: =BG237 -> 13191.154 | BI236: =BH237 -> 11781.538 | ... CB236: =CA237 -> 12570.385 | CG236: =POWER($AZ236-BB236,2) -> 16728100 | CH236: =POWER($AZ236-BC236,2) -> 19727947 | CI236: =POWER($AZ236-BD236,2) -> 32258905 | CJ236: =POWER($AZ236-BE236,2) -> 34508395 | CK236: =POWER($AZ236-BF236,2) -> 18144979 | CL236: =POWER($AZ236-BG236,2) -> 20020806 | CM236: =POWER($AZ236-BH236,2) -> 24453025 | CN236: =POWER($AZ236-BI236,2) -> 40381137 | ... DH236: =POWER($AZ236-CC236,2) -> 3.2892008e+08
A237: 41061 | B237: 98491 | C237: 90444 | D237: 16020 | E237: 11712 | G237: =AVERAGE(B225:B237) -> 113809.38 | H237: =AVERAGE(C225:C237) -> 87360.923 | I237: =H238 -> 83656.615 | J237: =I238 -> 88360.769 | K237: =J238 -> 92809.692 | L237: =K238 -> 91662.615 | M237: =L238 -> 92829.462 | N237: =M238 -> 91851.923 | O237: =N238 -> 90271.846 | P237: =O238 -> 95568 | ... AB237: =AA238 -> 98826.615 | AD237: =POWER($G237-I237,2) -> 9.0918949e+08 | AE237: =POWER($G237-J237,2) -> 6.4763202e+08 | AF237: =POWER($G237-K237,2) -> 4.4098708e+08 | AG237: =POWER($G237-L237,2) -> 4.9047939e+08 | AH237: =POWER($G237-M237,2) -> 4.4015717e+08 | AI237: =POWER($G237-N237,2) -> 4.8213012e+08 | AJ237: =POWER($G237-O237,2) -> 5.5401572e+08 | AK237: =POWER($G237-P237,2) -> 3.3274811e+08 | ... AW237: =POWER($G237-AB237,2) -> 2.2448337e+08 | AZ237: =AVERAGE(D225:D237) -> 18649.462 | BA237: =AVERAGE(E225:E237) -> 14046.154 | BB237: =BA238 -> 13694.538 | BC237: =BB238 -> 12456.462 | BD237: =BC238 -> 12261.769 | BE237: =BD238 -> 13876.462 | BF237: =BE238 -> 13661.692 | BG237: =BF238 -> 13191.154 | BH237: =BG238 -> 11781.538 | BI237: =BH238 -> 14690.846 | ... CA237: =BZ238 -> 12570.385 | CG237: =POWER($AZ237-BB237,2) -> 24551263 | CH237: =POWER($AZ237-BC237,2) -> 38353249 | CI237: =POWER($AZ237-BD237,2) -> 40802613 | CJ237: =POWER($AZ237-BE237,2) -> 22781529 | CK237: =POWER($AZ237-BF237,2) -> 24877842 | CL237: =POWER($AZ237-BG237,2) -> 29793123 | CM237: =POWER($AZ237-BH237,2) -> 47168367 | CN237: =POWER($AZ237-BI237,2) -> 15670636 | ... DG237: =POWER($AZ237-CB237,2) -> 3.4780242e+08
A238: 41091 | B238: 139916 | C238: 81962 | D238: 9278 | E238: 13086 | G238: =AVERAGE(B226:B238) -> 108094.62 | H238: =AVERAGE(C226:C238) -> 83656.615 | I238: =H239 -> 88360.769 | J238: =I239 -> 92809.692 | K238: =J239 -> 91662.615 | L238: =K239 -> 92829.462 | M238: =L239 -> 91851.923 | N238: =M239 -> 90271.846 | O238: =N239 -> 95568 | P238: =O239 -> 96988 | ... AB238: =AA239 -> 99101 | AD238: =POWER($G238-I238,2) -> 3.8942468e+08 | AE238: =POWER($G238-J238,2) -> 2.3362887e+08 | AF238: =POWER($G238-K238,2) -> 270010624 | AG238: =POWER($G238-L238,2) -> 2.3302492e+08 | AH238: =POWER($G238-M238,2) -> 2.6382505e+08 | AI238: =POWER($G238-N238,2) -> 3.176511e+08 | AJ238: =POWER($G238-O238,2) -> 1.5691609e+08 | AK238: =POWER($G238-P238,2) -> 1.2335691e+08 | ... AW238: =POWER($G238-AB238,2) -> 80885118 | AZ238: =AVERAGE(D226:D238) -> 17993.385 | BA238: =AVERAGE(E226:E238) -> 13694.538 | BB238: =BA239 -> 12456.462 | BC238: =BB239 -> 12261.769 | BD238: =BC239 -> 13876.462 | BE238: =BD239 -> 13661.692 | BF238: =BE239 -> 13191.154 | BG238: =BF239 -> 11781.538 | BH238: =BG239 -> 14690.846 | BI238: =BH239 -> 13720.385 | ... BZ238: =BY239 -> 12570.385 | CG238: =POWER($AZ238-BB238,2) -> 30657517 | CH238: =POWER($AZ238-BC238,2) -> 32851415 | CI238: =POWER($AZ238-BD238,2) -> 16949056 | CJ238: =POWER($AZ238-BE238,2) -> 18763558 | CK238: =POWER($AZ238-BF238,2) -> 23061420 | CL238: =POWER($AZ238-BG238,2) -> 38587033 | CM238: =POWER($AZ238-BH238,2) -> 10906760 | CN238: =POWER($AZ238-BI238,2) -> 18258529 | ... DF238: =POWER($AZ238-CA238,2) -> 3.2376189e+08
A239: 41122 | B239: 148644 | C239: 124361 | D239: 17024 | E239: 14509 | G239: =AVERAGE(B227:B239) -> 108382.92 | H239: =AVERAGE(C227:C239) -> 88360.769 | I239: =H240 -> 92809.692 | J239: =I240 -> 91662.615 | K239: =J240 -> 92829.462 | L239: =K240 -> 91851.923 | M239: =L240 -> 90271.846 | N239: =M240 -> 95568 | O239: =N240 -> 96988 | P239: =O240 -> 94929.154 | ... AB239: =AA240 -> 101445.54 | AD239: =POWER($G239-I239,2) -> 2.4252552e+08 | AE239: =POWER($G239-J239,2) -> 2.7956869e+08 | AF239: =POWER($G239-K239,2) -> 2.4191017e+08 | AG239: =POWER($G239-L239,2) -> 273273961 | AH239: =POWER($G239-M239,2) -> 3.2801111e+08 | AI239: =POWER($G239-N239,2) -> 1.6422225e+08 | AJ239: =POWER($G239-O239,2) -> 1.2984427e+08 | AK239: =POWER($G239-P239,2) -> 1.8100391e+08 | ... AW239: =POWER($G239-AB239,2) -> 48127305 | AZ239: =AVERAGE(D227:D239) -> 16487.462 | BA239: =AVERAGE(E227:E239) -> 12456.462 | BB239: =BA240 -> 12261.769 | BC239: =BB240 -> 13876.462 | BD239: =BC240 -> 13661.692 | BE239: =BD240 -> 13191.154 | BF239: =BE240 -> 11781.538 | BG239: =BF240 -> 14690.846 | BH239: =BG240 -> 13720.385 | BI239: =BH240 -> 14935.538 | ... BY239: =BX240 -> 12570.385 | CG239: =POWER($AZ239-BB239,2) -> 17856475 | CH239: =POWER($AZ239-BC239,2) -> 6817321 | CI239: =POWER($AZ239-BD239,2) -> 7984971.7 | CJ239: =POWER($AZ239-BE239,2) -> 10865644 | CK239: =POWER($AZ239-BF239,2) -> 22145712 | CL239: =POWER($AZ239-BG239,2) -> 3227826.8 | CM239: =POWER($AZ239-BH239,2) -> 7656714.7 | CN239: =POWER($AZ239-BI239,2) -> 2408465.2 | ... DE239: =POWER($AZ239-BZ239,2) -> 2.7183639e+08
A240: 41153 | B240: 117215 | C240: 103378 | D240: 25281 | E240: 6027 | G240: =AVERAGE(B228:B240) -> 107035.31 | H240: =AVERAGE(C228:C240) -> 92809.692 | I240: =H241 -> 91662.615 | J240: =I241 -> 92829.462 | K240: =J241 -> 91851.923 | L240: =K241 -> 90271.846 | M240: =L241 -> 95568 | N240: =M241 -> 96988 | O240: =N241 -> 94929.154 | P240: =O241 -> 96385.077 | ... AB240: =AA241 -> 101270.23 | AD240: =POWER($G240-I240,2) -> 2.3631967e+08 | AE240: =POWER($G240-J240,2) -> 2.0180606e+08 | AF240: =POWER($G240-K240,2) -> 2.3053517e+08 | AG240: =POWER($G240-L240,2) -> 2.8101364e+08 | AH240: =POWER($G240-M240,2) -> 1.3149915e+08 | AI240: =POWER($G240-N240,2) -> 1.0094839e+08 | AJ240: =POWER($G240-O240,2) -> 1.4655896e+08 | AK240: =POWER($G240-P240,2) -> 1.1342742e+08 | ... AW240: =POWER($G240-AB240,2) -> 33236112 | AZ240: =AVERAGE(D228:D240) -> 17823.308 | BA240: =AVERAGE(E228:E240) -> 12261.769 | BB240: =BA241 -> 13876.462 | BC240: =BB241 -> 13661.692 | BD240: =BC241 -> 13191.154 | BE240: =BD241 -> 11781.538 | BF240: =BE241 -> 14690.846 | BG240: =BF241 -> 13720.385 | BH240: =BG241 -> 14935.538 | BI240: =BH241 -> 14809.154 | ... BX240: =BW241 -> 12570.385 | CG240: =POWER($AZ240-BB240,2) -> 15577595 | CH240: =POWER($AZ240-BC240,2) -> 17319043 | CI240: =POWER($AZ240-BD240,2) -> 21456849 | CJ240: =POWER($AZ240-BE240,2) -> 36502975 | CK240: =POWER($AZ240-BF240,2) -> 9812315.3 | CL240: =POWER($AZ240-BG240,2) -> 16833978 | CM240: =POWER($AZ240-BH240,2) -> 8339211.1 | CN240: =POWER($AZ240-BI240,2) -> 9085123.4 | ... DD240: =POWER($AZ240-BY240,2) -> 3.176703e+08
A241: 41183 | B241: 189397 | C241: 95295 | D241: 17718 | E241: 27077 | G241: =AVERAGE(B229:B241) -> 112378.08 | H241: =AVERAGE(C229:C241) -> 91662.615 | I241: =H242 -> 92829.462 | J241: =I242 -> 91851.923 | K241: =J242 -> 90271.846 | L241: =K242 -> 95568 | M241: =L242 -> 96988 | N241: =M242 -> 94929.154 | O241: =N242 -> 96385.077 | P241: =O242 -> 97107.769 | ... AB241: =AA242 -> 99862.769 | AD241: =POWER($G241-I241,2) -> 3.8214836e+08 | AE241: =POWER($G241-J241,2) -> 4.2132299e+08 | AF241: =POWER($G241-K241,2) -> 4.8868544e+08 | AG241: =POWER($G241-L241,2) -> 2.8257869e+08 | AH241: =POWER($G241-M241,2) -> 2.3685447e+08 | AI241: =POWER($G241-N241,2) -> 3.0446492e+08 | AJ241: =POWER($G241-O241,2) -> 255776049 | AK241: =POWER($G241-P241,2) -> 2.331823e+08 | ... AW241: =POWER($G241-AB241,2) -> 1.5663293e+08 | AZ241: =AVERAGE(D229:D241) -> 15376.923 | BA241: =AVERAGE(E229:E241) -> 13876.462 | BB241: =BA242 -> 13661.692 | BC241: =BB242 -> 13191.154 | BD241: =BC242 -> 11781.538 | BE241: =BD242 -> 14690.846 | BF241: =BE242 -> 13720.385 | BG241: =BF242 -> 14935.538 | BH241: =BG242 -> 14809.154 | BI241: =BH242 -> 14270.538 | ... BW241: =BV242 -> 12570.385 | CG241: =POWER($AZ241-BB241,2) -> 2942016.6 | CH241: =POWER($AZ241-BC241,2) -> 4777587.1 | CI241: =POWER($AZ241-BD241,2) -> 12926791 | CJ241: =POWER($AZ241-BE241,2) -> 470701.54 | CK241: =POWER($AZ241-BF241,2) -> 2744119.7 | CL241: =POWER($AZ241-BG241,2) -> 194820.38 | CM241: =POWER($AZ241-BH241,2) -> 322361.9 | CN241: =POWER($AZ241-BI241,2) -> 1224086.9 | ... DC241: =POWER($AZ241-BX241,2) -> 2.3644976e+08
A242: 41214 | B242: 189776 | C242: 129264 | D242: 39346 | E242: 12160 | G242: =AVERAGE(B230:B242) -> 122495.77 | H242: =AVERAGE(C230:C242) -> 92829.462 | I242: =H243 -> 91851.923 | J242: =I243 -> 90271.846 | K242: =J243 -> 95568 | L242: =K243 -> 96988 | M242: =L243 -> 94929.154 | N242: =M243 -> 96385.077 | O242: =N243 -> 97107.769 | P242: =O243 -> 100721.38 | ... AB242: =AA243 -> 104461.31 | AD242: =POWER($G242-I242,2) -> 9.3904531e+08 | AE242: =POWER($G242-J242,2) -> 1.0383812e+09 | AF242: =POWER($G242-K242,2) -> 7.2510476e+08 | AG242: =POWER($G242-L242,2) -> 6.5064629e+08 | AH242: =POWER($G242-M242,2) -> 7.5991828e+08 | AI242: =POWER($G242-N242,2) -> 6.8176825e+08 | AJ242: =POWER($G242-O242,2) -> 644550544 | AK242: =POWER($G242-P242,2) -> 4.7412383e+08 | ... AW242: =POWER($G242-AB242,2) -> 3.252418e+08 | AZ242: =AVERAGE(D230:D242) -> 17802.231 | BA242: =AVERAGE(E230:E242) -> 13661.692 | BB242: =BA243 -> 13191.154 | BC242: =BB243 -> 11781.538 | BD242: =BC243 -> 14690.846 | BE242: =BD243 -> 13720.385 | BF242: =BE243 -> 14935.538 | BG242: =BF243 -> 14809.154 | BH242: =BG243 -> 14270.538 | BI242: =BH243 -> 14362.154 | ... BV242: =BU243 -> 12570.385 | CG242: =POWER($AZ242-BB242,2) -> 21262030 | CH242: =POWER($AZ242-BC242,2) -> 36248736 | CI242: =POWER($AZ242-BD242,2) -> 9680714.2 | CJ242: =POWER($AZ242-BE242,2) -> 16661468 | CK242: =POWER($AZ242-BF242,2) -> 8217924.8 | CL242: =POWER($AZ242-BG242,2) -> 8958509.5 | CM242: =POWER($AZ242-BH242,2) -> 12472851 | CN242: =POWER($AZ242-BI242,2) -> 11834129 | ... DB242: =POWER($AZ242-BW242,2) -> 3.1691942e+08
A243: 41244 | B243: 107052 | C243: 85533 | D243: 7430 | E243: 8301 | G243: =AVERAGE(B231:B243) -> 122050.38 | H243: =AVERAGE(C231:C243) -> 91851.923 | I243: =H244 -> 90271.846 | J243: =I244 -> 95568 | K243: =J244 -> 96988 | L243: =K244 -> 94929.154 | M243: =L244 -> 96385.077 | N243: =M244 -> 97107.769 | O243: =N244 -> 100721.38 | P243: =O244 -> 102476.38 | ... AB243: =AA244 -> 99469.615 | AD243: =POWER($G243-I243,2) -> 1.0098755e+09 | AE243: =POWER($G243-J243,2) -> 7.0131669e+08 | AF243: =POWER($G243-K243,2) -> 6.2812312e+08 | AG243: =POWER($G243-L243,2) -> 7.3556116e+08 | AH243: =POWER($G243-M243,2) -> 6.5870802e+08 | AI243: =POWER($G243-N243,2) -> 6.2213406e+08 | AJ243: =POWER($G243-O243,2) -> 454926241 | AK243: =POWER($G243-P243,2) -> 383141476 | ... AW243: =POWER($G243-AB243,2) -> 5.0989114e+08 | AZ243: =AVERAGE(D231:D243) -> 17554.846 | BA243: =AVERAGE(E231:E243) -> 13191.154 | BB243: =BA244 -> 11781.538 | BC243: =BB244 -> 14690.846 | BD243: =BC244 -> 13720.385 | BE243: =BD244 -> 14935.538 | BF243: =BE244 -> 14809.154 | BG243: =BF244 -> 14270.538 | BH243: =BG244 -> 14362.154 | BI243: =BH244 -> 14250.077 | ... BU243: =BT244 -> 12570.385 | CG243: =POWER($AZ243-BB243,2) -> 33331082 | CH243: =POWER($AZ243-BC243,2) -> 8202496 | CI243: =POWER($AZ243-BD243,2) -> 14703095 | CJ243: =POWER($AZ243-BE243,2) -> 6860772.8 | CK243: =POWER($AZ243-BF243,2) -> 7538826.2 | CL243: =POWER($AZ243-BG243,2) -> 10786677 | CM243: =POWER($AZ243-BH243,2) -> 10193284 | CN243: =POWER($AZ243-BI243,2) -> 10921500 | ... DA243: =POWER($AZ243-BV243,2) -> 3.0817262e+08
A244: 41275 | B244: 62053 | C244: 68767 | D244: 7991 | E244: 7291 | G244: =AVERAGE(B232:B244) -> 119820.69 | H244: =AVERAGE(C232:C244) -> 90271.846 | I244: =H245 -> 95568 | J244: =I245 -> 96988 | K244: =J245 -> 94929.154 | L244: =K245 -> 96385.077 | M244: =L245 -> 97107.769 | N244: =M245 -> 100721.38 | O244: =N245 -> 102476.38 | P244: =O245 -> 103626.31 | ... AA244: =Z245 -> 99469.615 | AD244: =POWER($G244-I244,2) -> 5.8819308e+08 | AE244: =POWER($G244-J244,2) -> 5.2133184e+08 | AF244: =POWER($G244-K244,2) -> 6.1958869e+08 | AG244: =POWER($G244-L244,2) -> 5.4922807e+08 | AH244: =POWER($G244-M244,2) -> 5.1587687e+08 | AI244: =POWER($G244-N244,2) -> 3.6478355e+08 | AJ244: =POWER($G244-O244,2) -> 3.0082501e+08 | AK244: =POWER($G244-P244,2) -> 2.6225809e+08 | ... AW244: =POWER($G244-AB244,2) -> 1.4356998e+10 | AZ244: =AVERAGE(D232:D244) -> 16046.615 | BA244: =AVERAGE(E232:E244) -> 11781.538 | BB244: =BA245 -> 14690.846 | BC244: =BB245 -> 13720.385 | BD244: =BC245 -> 14935.538 | BE244: =BD245 -> 14809.154 | BF244: =BE245 -> 14270.538 | BG244: =BF245 -> 14362.154 | BH244: =BG245 -> 14250.077 | BI244: =BH245 -> 14081.308 | ... BT244: =BS245 -> 12570.385 | CG244: =POWER($AZ244-BB244,2) -> 1838110.2 | CH244: =POWER($AZ244-BC244,2) -> 5411349.6 | CI244: =POWER($AZ244-BD244,2) -> 1234491.9 | CJ244: =POWER($AZ244-BE244,2) -> 1531311.1 | CK244: =POWER($AZ244-BF244,2) -> 3154449.2 | CL244: =POWER($AZ244-BG244,2) -> 2837410.7 | CM244: =POWER($AZ244-BH244,2) -> 3227550.4 | CN244: =POWER($AZ244-BI244,2) -> 3862434.3 | ... CZ244: =POWER($AZ244-BU244,2) -> 2.5749387e+08
A245: 41306 | B245: 168245 | C245: 119971 | D245: 9686 | E245: 42230 | G245: =AVERAGE(B233:B245) -> 127731 | H245: =AVERAGE(C233:C245) -> 95568 | I245: =H246 -> 96988 | J245: =I246 -> 94929.154 | K245: =J246 -> 96385.077 | L245: =K246 -> 97107.769 | M245: =L246 -> 100721.38 | N245: =M246 -> 102476.38 | O245: =N246 -> 103626.31 | P245: =O246 -> 102405.23 | ... Z245: =Y246 -> 99469.615 | AD245: =POWER($G245-I245,2) -> 945132049 | AE245: =POWER($G245-J245,2) -> 1.0759611e+09 | AF245: =POWER($G245-K245,2) -> 9.8256689e+08 | AG245: =POWER($G245-L245,2) -> 9.3778226e+08 | AH245: =POWER($G245-M245,2) -> 7.2951932e+08 | AI245: =POWER($G245-N245,2) -> 6.377956e+08 | AJ245: =POWER($G245-O245,2) -> 5.8103619e+08 | AK245: =POWER($G245-P245,2) -> 6.4139459e+08 | ... AV245: =POWER($G245-AA245,2) -> 16315208361 | AZ245: =AVERAGE(D233:D245) -> 15956.692 | BA245: =AVERAGE(E233:E245) -> 14690.846 | BB245: =BA246 -> 13720.385 | BC245: =BB246 -> 14935.538 | BD245: =BC246 -> 14809.154 | BE245: =BD246 -> 14270.538 | BF245: =BE246 -> 14362.154 | BG245: =BF246 -> 14250.077 | BH245: =BG246 -> 14081.308 | BI245: =BH246 -> 14406.923 | ... BS245: =BR246 -> 12570.385 | CG245: =POWER($AZ245-BB245,2) -> 5001072.1 | CH245: =POWER($AZ245-BC245,2) -> 1042755.2 | CI245: =POWER($AZ245-BD245,2) -> 1316844.5 | CJ245: =POWER($AZ245-BE245,2) -> 2843114.8 | CK245: =POWER($AZ245-BF245,2) -> 2542552.9 | CL245: =POWER($AZ245-BG245,2) -> 2912536.1 | CM245: =POWER($AZ245-BH245,2) -> 3517067.5 | CN245: =POWER($AZ245-BI245,2) -> 2401784.7 | ... CY245: =POWER($AZ245-BT245,2) -> 2.5461603e+08
A246: 41334 | B246: 120830 | C246: 102824 | D246: 38052 | E246: 3535 | G246: =AVERAGE(B234:B246) -> 130393.15 | H246: =AVERAGE(C234:C246) -> 96988 | I246: =H247 -> 94929.154 | J246: =I247 -> 96385.077 | K246: =J247 -> 97107.769 | L246: =K247 -> 100721.38 | M246: =L247 -> 102476.38 | N246: =M247 -> 103626.31 | O246: =N247 -> 102405.23 | P246: =O247 -> 104096.08 | ... Y246: =X247 -> 99469.615 | AD246: =POWER($G246-I246,2) -> 1257695296 | AE246: =POWER($G246-J246,2) -> 1.1565493e+09 | AF246: =POWER($G246-K246,2) -> 1.1079168e+09 | AG246: =POWER($G246-L246,2) -> 8.8041389e+08 | AH246: =POWER($G246-M246,2) -> 7.79346e+08 | AI246: =POWER($G246-N246,2) -> 7.1646405e+08 | AJ246: =POWER($G246-O246,2) -> 7.8332384e+08 | AK246: =POWER($G246-P246,2) -> 6.9153625e+08 | ... AU246: =POWER($G246-Z246,2) -> 1.7002375e+10 | AZ246: =AVERAGE(D234:D246) -> 17830.462 | BA246: =AVERAGE(E234:E246) -> 13720.385 | BB246: =BA247 -> 14935.538 | BC246: =BB247 -> 14809.154 | BD246: =BC247 -> 14270.538 | BE246: =BD247 -> 14362.154 | BF246: =BE247 -> 14250.077 | BG246: =BF247 -> 14081.308 | BH246: =BG247 -> 14406.923 | BI246: =BH247 -> 13926.462 | ... BR246: =BQ247 -> 12570.385 | CG246: =POWER($AZ246-BB246,2) -> 8380579.6 | CH246: =POWER($AZ246-BC246,2) -> 9128300.2 | CI246: =POWER($AZ246-BD246,2) -> 12673052 | CJ246: =POWER($AZ246-BE246,2) -> 12029158 | CK246: =POWER($AZ246-BF246,2) -> 12819154 | CL246: =POWER($AZ246-BG246,2) -> 14056155 | CM246: =POWER($AZ246-BH246,2) -> 11720616 | CN246: =POWER($AZ246-BI246,2) -> 15241216 | ... CX246: =POWER($AZ246-BS246,2) -> 3.1792536e+08
A247: 41365 | B247: 129624 | C247: 90463 | D247: 7411 | E247: 24027 | G247: =AVERAGE(B235:B247) -> 132584 | H247: =AVERAGE(C235:C247) -> 94929.154 | I247: =H248 -> 96385.077 | J247: =I248 -> 97107.769 | K247: =J248 -> 100721.38 | L247: =K248 -> 102476.38 | M247: =L248 -> 103626.31 | N247: =M248 -> 102405.23 | O247: =N248 -> 104096.08 | P247: =O248 -> 100289.77 | ... X247: =W248 -> 99469.615 | AD247: =POWER($G247-I247,2) -> 1.310362e+09 | AE247: =POWER($G247-J247,2) -> 1.2585629e+09 | AF247: =POWER($G247-K247,2) -> 1.0152263e+09 | AG247: =POWER($G247-L247,2) -> 9.064685e+08 | AH247: =POWER($G247-M247,2) -> 8.3854794e+08 | AI247: =POWER($G247-N247,2) -> 9.1075811e+08 | AJ247: =POWER($G247-O247,2) -> 8.1156176e+08 | AK247: =POWER($G247-P247,2) -> 1.0429173e+09 | ... AT247: =POWER($G247-Y247,2) -> 17578517056 | AZ247: =AVERAGE(D235:D247) -> 17782.692 | BA247: =AVERAGE(E235:E247) -> 14935.538 | BB247: =BA248 -> 14809.154 | BC247: =BB248 -> 14270.538 | BD247: =BC248 -> 14362.154 | BE247: =BD248 -> 14250.077 | BF247: =BE248 -> 14081.308 | BG247: =BF248 -> 14406.923 | BH247: =BG248 -> 13926.462 | BI247: =BH248 -> 13375.538 | ... BQ247: =BP248 -> 12570.385 | CG247: =POWER($AZ247-BB247,2) -> 8841931 | CH247: =POWER($AZ247-BC247,2) -> 12335225 | CI247: =POWER($AZ247-BD247,2) -> 11700083 | CJ247: =POWER($AZ247-BE247,2) -> 12479371 | CK247: =POWER($AZ247-BF247,2) -> 13700248 | CL247: =POWER($AZ247-BG247,2) -> 11395818 | CM247: =POWER($AZ247-BH247,2) -> 14870516 | CN247: =POWER($AZ247-BI247,2) -> 19423005 | ... CW247: =POWER($AZ247-BR247,2) -> 3.1622415e+08
A248: 41395 | B248: 206869 | C248: 99423 | D248: 42766 | E248: 9583 | G248: =AVERAGE(B236:B248) -> 141286.85 | H248: =AVERAGE(C236:C248) -> 96385.077 | I248: =H249 -> 97107.769 | J248: =I249 -> 100721.38 | K248: =J249 -> 102476.38 | L248: =K249 -> 103626.31 | M248: =L249 -> 102405.23 | N248: =M249 -> 104096.08 | O248: =N249 -> 100289.77 | P248: =O249 -> 97233.615 | ... W248: =V249 -> 99469.615 | AD248: =POWER($G248-I248,2) -> 1.9517908e+09 | AE248: =POWER($G248-J248,2) -> 1.6455567e+09 | AF248: =POWER($G248-K248,2) -> 1.5062519e+09 | AG248: =POWER($G248-L248,2) -> 1.4183162e+09 | AH248: =POWER($G248-M248,2) -> 1.51178e+09 | AI248: =POWER($G248-N248,2) -> 1.3831533e+09 | AJ248: =POWER($G248-O248,2) -> 1.6807603e+09 | AK248: =POWER($G248-P248,2) -> 1.9406871e+09 | ... AS248: =POWER($G248-X248,2) -> 1.9961973e+10 | AZ248: =AVERAGE(D236:D248) -> 19733.154 | BA248: =AVERAGE(E236:E248) -> 14809.154 | BB248: =BA249 -> 14270.538 | BC248: =BB249 -> 14362.154 | BD248: =BC249 -> 14250.077 | BE248: =BD249 -> 14081.308 | BF248: =BE249 -> 14406.923 | BG248: =BF249 -> 13926.462 | BH248: =BG249 -> 13375.538 | BI248: =BH249 -> 13565.923 | ... BP248: =BO249 -> 12570.385 | CG248: =POWER($AZ248-BB248,2) -> 29840167 | CH248: =POWER($AZ248-BC248,2) -> 28847641 | CI248: =POWER($AZ248-BD248,2) -> 30064133 | CJ248: =POWER($AZ248-BE248,2) -> 31943365 | CK248: =POWER($AZ248-BF248,2) -> 28368734 | CL248: =POWER($AZ248-BG248,2) -> 33717676 | CM248: =POWER($AZ248-BH248,2) -> 40419273 | CN248: =POWER($AZ248-BI248,2) -> 38034735 | ... CV248: =POWER($AZ248-BQ248,2) -> 3.8939736e+08
A249: 41426 | B249: 112694 | C249: 70716 | D249: 15849 | E249: 5979 | G249: =AVERAGE(B237:B249) -> 137754.31 | H249: =AVERAGE(C237:C249) -> 97107.769 | I249: =H250 -> 100721.38 | J249: =I250 -> 102476.38 | K249: =J250 -> 103626.31 | L249: =K250 -> 102405.23 | M249: =L250 -> 104096.08 | N249: =M250 -> 100289.77 | O249: =N250 -> 97233.615 | P249: =O250 -> 98826.615 | ... V249: =U250 -> 99469.615 | AD249: =POWER($G249-I249,2) -> 1.3714374e+09 | AE249: =POWER($G249-J249,2) -> 1.2445319e+09 | AF249: =POWER($G249-K249,2) -> 1164720384 | AG249: =POWER($G249-L249,2) -> 1.2495572e+09 | AH249: =POWER($G249-M249,2) -> 1.1328765e+09 | AI249: =POWER($G249-N249,2) -> 1.4035916e+09 | AJ249: =POWER($G249-O249,2) -> 1.6419265e+09 | AK249: =POWER($G249-P249,2) -> 1.5153652e+09 | ... AR249: =POWER($G249-W249,2) -> 1.8976249e+10 | AZ249: =AVERAGE(D237:D249) -> 19527.077 | BA249: =AVERAGE(E237:E249) -> 14270.538 | BB249: =BA250 -> 14362.154 | BC249: =BB250 -> 14250.077 | BD249: =BC250 -> 14081.308 | BE249: =BD250 -> 14406.923 | BF249: =BE250 -> 13926.462 | BG249: =BF250 -> 13375.538 | BH249: =BG250 -> 13565.923 | BI249: =BH250 -> 13299.154 | ... BO249: =BN250 -> 12570.385 | CG249: =POWER($AZ249-BB249,2) -> 26676430 | CH249: =POWER($AZ249-BC249,2) -> 27846729 | CI249: =POWER($AZ249-BD249,2) -> 29656403 | CJ249: =POWER($AZ249-BE249,2) -> 26215975 | CK249: =POWER($AZ249-BF249,2) -> 31366893 | CL249: =POWER($AZ249-BG249,2) -> 37841425 | CM249: =POWER($AZ249-BH249,2) -> 35535355 | CN249: =POWER($AZ249-BI249,2) -> 38787026 | ... CU249: =POWER($AZ249-BP249,2) -> 3.8130673e+08
A250: 41456 | B250: 79043 | C250: 137421 | D250: 7528 | E250: 12903 | G250: =AVERAGE(B238:B250) -> 136258.31 | H250: =AVERAGE(C238:C250) -> 100721.38 | I250: =H251 -> 102476.38 | J250: =I251 -> 103626.31 | K250: =J251 -> 102405.23 | L250: =K251 -> 104096.08 | M250: =L251 -> 100289.77 | N250: =M251 -> 97233.615 | O250: =N251 -> 98826.615 | P250: =O251 -> 99101 | ... U250: =T251 -> 99469.615 | AD250: =POWER($G250-I250,2) -> 1.1412183e+09 | AE250: =POWER($G250-J250,2) -> 1064847424 | AF250: =POWER($G250-K250,2) -> 1.1460308e+09 | AG250: =POWER($G250-L250,2) -> 1.0344091e+09 | AH250: =POWER($G250-M250,2) -> 1.2937358e+09 | AI250: =POWER($G250-N250,2) -> 1.5229266e+09 | AJ250: =POWER($G250-O250,2) -> 1.4011316e+09 | AK250: =POWER($G250-P250,2) -> 1.3806655e+09 | ... AQ250: =POWER($G250-V250,2) -> 1.8566326e+10 | AZ250: =AVERAGE(D238:D250) -> 18873.846 | BA250: =AVERAGE(E238:E250) -> 14362.154 | BB250: =BA251 -> 14250.077 | BC250: =BB251 -> 14081.308 | BD250: =BC251 -> 14406.923 | BE250: =BD251 -> 13926.462 | BF250: =BE251 -> 13375.538 | BG250: =BF251 -> 13565.923 | BH250: =BG251 -> 13299.154 | BI250: =BH251 -> 12494.077 | ... BN250: =BM251 -> 12570.385 | CG250: =POWER($AZ250-BB250,2) -> 21379242 | CH250: =POWER($AZ250-BC250,2) -> 22968425 | CI250: =POWER($AZ250-BD250,2) -> 19953402 | CJ250: =POWER($AZ250-BE250,2) -> 24476615 | CK250: =POWER($AZ250-BF250,2) -> 30231387 | CL250: =POWER($AZ250-BG250,2) -> 28174047 | CM250: =POWER($AZ250-BH250,2) -> 31077194 | CN250: =POWER($AZ250-BI250,2) -> 40701455 | ... CT250: =POWER($AZ250-BO250,2) -> 3.5622207e+08
A251: 41487 | B251: 141759 | C251: 104777 | D251: 12421 | E251: 11629 | G251: =AVERAGE(B239:B251) -> 136400.08 | H251: =AVERAGE(C239:C251) -> 102476.38 | I251: =H252 -> 103626.31 | J251: =I252 -> 102405.23 | K251: =J252 -> 104096.08 | L251: =K252 -> 100289.77 | M251: =L252 -> 97233.615 | N251: =M252 -> 98826.615 | O251: =N252 -> 99101 | P251: =O252 -> 101445.54 | ... T251: =S252 -> 99469.615 | AD251: =POWER($G251-I251,2) -> 1.0741199e+09 | AE251: =POWER($G251-J251,2) -> 1.1556496e+09 | AF251: =POWER($G251-K251,2) -> 1.0435484e+09 | AG251: =POWER($G251-L251,2) -> 1.3039543e+09 | AH251: =POWER($G251-M251,2) -> 1.5340117e+09 | AI251: =POWER($G251-N251,2) -> 1.411765e+09 | AJ251: =POWER($G251-O251,2) -> 1.3912211e+09 | AK251: =POWER($G251-P251,2) -> 1.2218198e+09 | ... AP251: =POWER($G251-U251,2) -> 1.8604981e+10 | AZ251: =AVERAGE(D239:D251) -> 19115.615 | BA251: =AVERAGE(E239:E251) -> 14250.077 | BB251: =BA252 -> 14081.308 | BC251: =BB252 -> 14406.923 | BD251: =BC252 -> 13926.462 | BE251: =BD252 -> 13375.538 | BF251: =BE252 -> 13565.923 | BG251: =BF252 -> 13299.154 | BH251: =BG252 -> 12494.077 | BI251: =BH252 -> 13576.308 | ... BM251: =BL252 -> 12570.385 | CG251: =POWER($AZ251-BB251,2) -> 25344254 | CH251: =POWER($AZ251-BC251,2) -> 22171783 | CI251: =POWER($AZ251-BD251,2) -> 26927318 | CJ251: =POWER($AZ251-BE251,2) -> 32948483 | CK251: =POWER($AZ251-BF251,2) -> 30799085 | CL251: =POWER($AZ251-BG251,2) -> 33831225 | CM251: =POWER($AZ251-BH251,2) -> 43844772 | CN251: =POWER($AZ251-BI251,2) -> 30683930 | ... CS251: =POWER($AZ251-BN251,2) -> 3.6540675e+08
A252: 41518 | B252: 141440 | C252: 139310 | D252: 17787 | E252: 12315 | G252: =AVERAGE(B240:B252) -> 135845.92 | H252: =AVERAGE(C240:C252) -> 103626.31 | I252: =H253 -> 102405.23 | J252: =I253 -> 104096.08 | K252: =J253 -> 100289.77 | L252: =K253 -> 97233.615 | M252: =L253 -> 98826.615 | N252: =M253 -> 99101 | O252: =N253 -> 101445.54 | P252: =O253 -> 101270.23 | ... S252: =R253 -> 99469.615 | AD252: =POWER($G252-I252,2) -> 1.1182799e+09 | AE252: =POWER($G252-J252,2) -> 1.0080527e+09 | AF252: =POWER($G252-K252,2) -> 1.2642401e+09 | AG252: =POWER($G252-L252,2) -> 1.4909103e+09 | AH252: =POWER($G252-M252,2) -> 1.3704291e+09 | AI252: =POWER($G252-N252,2) -> 1.3501894e+09 | AJ252: =POWER($G252-O252,2) -> 1.1833865e+09 | AK252: =POWER($G252-P252,2) -> 1.1954785e+09 | ... AO252: =POWER($G252-T252,2) -> 1.8454115e+10 | AZ252: =AVERAGE(D240:D252) -> 19174.308 | BA252: =AVERAGE(E240:E252) -> 14081.308 | BB252: =BA253 -> 14406.923 | BC252: =BB253 -> 13926.462 | BD252: =BC253 -> 13375.538 | BE252: =BD253 -> 13565.923 | BF252: =BE253 -> 13299.154 | BG252: =BF253 -> 12494.077 | BH252: =BG253 -> 13576.308 | BI252: =BH253 -> 12293.846 | ... BL252: =BK253 -> 12570.385 | CG252: =POWER($AZ252-BB252,2) -> 22727956 | CH252: =POWER($AZ252-BC252,2) -> 27539889 | CI252: =POWER($AZ252-BD252,2) -> 33625725 | CJ252: =POWER($AZ252-BE252,2) -> 31453978 | CK252: =POWER($AZ252-BF252,2) -> 34517433 | CL252: =POWER($AZ252-BG252,2) -> 44625483 | CM252: =POWER($AZ252-BH252,2) -> 31337604 | CN252: =POWER($AZ252-BI252,2) -> 47340751 | ... CR252: =POWER($AZ252-BM252,2) -> 3.6765408e+08
A253: 41548 | B253: 167648 | C253: 87504 | D253: 8453 | E253: 10260 | G253: =AVERAGE(B241:B253) -> 139725.38 | H253: =AVERAGE(C241:C253) -> 102405.23 | I253: =H254 -> 104096.08 | J253: =I254 -> 100289.77 | K253: =J254 -> 97233.615 | L253: =K254 -> 98826.615 | M253: =L254 -> 99101 | N253: =M254 -> 101445.54 | O253: =N254 -> 101270.23 | P253: =O254 -> 99862.769 | ... R253: =Q254 -> 99469.615 | AD253: =POWER($G253-I253,2) -> 1.2694476e+09 | AE253: =POWER($G253-J253,2) -> 1.5551678e+09 | AF253: =POWER($G253-K253,2) -> 1.8055505e+09 | AG253: =POWER($G253-L253,2) -> 1.6727093e+09 | AH253: =POWER($G253-M253,2) -> 1.6503406e+09 | AI253: =POWER($G253-N253,2) -> 1.4653466e+09 | AJ253: =POWER($G253-O253,2) -> 1.4787989e+09 | AK253: =POWER($G253-P253,2) -> 1.5890281e+09 | ... AN253: =POWER($G253-S253,2) -> 1.9523183e+10 | AZ253: =AVERAGE(D241:D253) -> 17879.846 | BA253: =AVERAGE(E241:E253) -> 14406.923 | BB253: =BA254 -> 13926.462 | BC253: =BB254 -> 13375.538 | BD253: =BC254 -> 13565.923 | BE253: =BD254 -> 13299.154 | BF253: =BE254 -> 12494.077 | BG253: =BF254 -> 13576.308 | BH253: =BG254 -> 12293.846 | BI253: =BH254 -> 12657.846 | ... BK253: =BJ254 -> 12570.385 | CG253: =POWER($AZ253-BB253,2) -> 15629250 | CH253: =POWER($AZ253-BC253,2) -> 20288788 | CI253: =POWER($AZ253-BD253,2) -> 18609932 | CJ253: =POWER($AZ253-BE253,2) -> 20982742 | CK253: =POWER($AZ253-BF253,2) -> 29006510 | CL253: =POWER($AZ253-BG253,2) -> 18520443 | CM253: =POWER($AZ253-BH253,2) -> 31203396 | CN253: =POWER($AZ253-BI253,2) -> 27269284 | ... CQ253: =POWER($AZ253-BL253,2) -> 3.196889e+08
A254: 41579 | B254: 96939 | C254: 117276 | D254: 23761 | E254: 20831 | G254: =AVERAGE(B242:B254) -> 132613.23 | H254: =AVERAGE(C242:C254) -> 104096.08 | I254: =H255 -> 100289.77 | J254: =I255 -> 97233.615 | K254: =J255 -> 98826.615 | L254: =K255 -> 99101 | M254: =L255 -> 101445.54 | N254: =M255 -> 101270.23 | O254: =N255 -> 99862.769 | P254: =O255 -> 104461.31 | Q254: =P255 -> 99469.615 | AD254: =POWER($G254-I254,2) -> 1.0448062e+09 | AE254: =POWER($G254-J254,2) -> 1.2517172e+09 | AF254: =POWER($G254-K254,2) -> 1.1415354e+09 | AG254: =POWER($G254-L254,2) -> 1.1230696e+09 | AH254: =POWER($G254-M254,2) -> 9.7142504e+08 | AI254: =POWER($G254-N254,2) -> 9.8238365e+08 | AJ254: =POWER($G254-O254,2) -> 1.0725927e+09 | AK254: =POWER($G254-P254,2) -> 7.9253077e+08 | ... AM254: =POWER($G254-R254,2) -> 1.7586269e+10 | AZ254: =AVERAGE(D242:D254) -> 18344.692 | BA254: =AVERAGE(E242:E254) -> 13926.462 | BB254: =BA255 -> 13375.538 | BC254: =BB255 -> 13565.923 | BD254: =BC255 -> 13299.154 | BE254: =BD255 -> 12494.077 | BF254: =BE255 -> 13576.308 | BG254: =BF255 -> 12293.846 | BH254: =BG255 -> 12657.846 | BI254: =BH255 -> 12765.462 | BJ254: =BI255 -> 12570.385 | CG254: =POWER($AZ254-BB254,2) -> 24692490 | CH254: =POWER($AZ254-BC254,2) -> 22836635 | CI254: =POWER($AZ254-BD254,2) -> 25457458 | CJ254: =POWER($AZ254-BE254,2) -> 34229700 | CK254: =POWER($AZ254-BF254,2) -> 22737492 | CL254: =POWER($AZ254-BG254,2) -> 36612739 | CM254: =POWER($AZ254-BH254,2) -> 32340219 | CN254: =POWER($AZ254-BI254,2) -> 31127816 | ... CP254: =POWER($AZ254-BK254,2) -> 3.3652774e+08
A255: 41609 | B255: 104073 | C255: 79782 | D255: 19695 | E255: 4998 | G255: =AVERAGE(B243:B255) -> 126020.69 | H255: =AVERAGE(C243:C255) -> 100289.77 | I255: =H256 -> 97233.615 | J255: =I256 -> 98826.615 | K255: =J256 -> 99101 | L255: =K256 -> 101445.54 | M255: =L256 -> 101270.23 | N255: =M256 -> 99862.769 | O255: =N256 -> 104461.31 | P255: =O256 -> 99469.615 | AD255: =POWER($G255-I255,2) -> 8.286958e+08 | AE255: =POWER($G255-J255,2) -> 7.3951782e+08 | AF255: =POWER($G255-K255,2) -> 7.2466983e+08 | AG255: =POWER($G255-L255,2) -> 6.0393819e+08 | AH255: =POWER($G255-M255,2) -> 6.1258535e+08 | AI255: =POWER($G255-N255,2) -> 6.8423694e+08 | AJ255: =POWER($G255-O255,2) -> 4.6480706e+08 | AK255: =POWER($G255-P255,2) -> 7.0495969e+08 | AL255: =POWER($G255-Q255,2) -> 1.5881215e+10 | AZ255: =AVERAGE(D243:D255) -> 16833.077 | BA255: =AVERAGE(E243:E255) -> 13375.538 | BB255: =BA256 -> 13565.923 | BC255: =BB256 -> 13299.154 | BD255: =BC256 -> 12494.077 | BE255: =BD256 -> 13576.308 | BF255: =BE256 -> 12293.846 | BG255: =BF256 -> 12657.846 | BH255: =BG256 -> 12765.462 | BI255: =BH256 -> 12570.385 | CG255: =POWER($AZ255-BB255,2) -> 10674294 | CH255: =POWER($AZ255-BC255,2) -> 12488612 | CI255: =POWER($AZ255-BD255,2) -> 18826921 | CJ255: =POWER($AZ255-BE255,2) -> 10606546 | CK255: =POWER($AZ255-BF255,2) -> 20604616 | CL255: =POWER($AZ255-BG255,2) -> 17432552 | CM255: =POWER($AZ255-BH255,2) -> 16545495 | CN255: =POWER($AZ255-BI255,2) -> 18170546 | CO255: =POWER($AZ255-BJ255,2) -> 2.8335248e+08
A256: 41640 | B256: 117475 | C256: 45803 | D256: 13565 | E256: 10776 | G256: =AVERAGE(B244:B256) -> 126822.46 | H256: =AVERAGE(C244:C256) -> 97233.615 | I256: =H257 -> 98826.615 | J256: =I257 -> 99101 | K256: =J257 -> 101445.54 | L256: =K257 -> 101270.23 | M256: =L257 -> 99862.769 | N256: =M257 -> 104461.31 | O256: =N257 -> 99469.615 | AD256: =POWER($G256-I256,2) -> 7.837674e+08 | AE256: =POWER($G256-J256,2) -> 7.6847943e+08 | AF256: =POWER($G256-K256,2) -> 6.4398822e+08 | AG256: =POWER($G256-L256,2) -> 6.529165e+08 | AH256: =POWER($G256-M256,2) -> 7.2682501e+08 | AI256: =POWER($G256-N256,2) -> 5.000212e+08 | AJ256: =POWER($G256-O256,2) -> 7.4817819e+08 | AK256: =POWER($G256-P256,2) -> 1.6083937e+10 | AZ256: =AVERAGE(D244:D256) -> 17305 | BA256: =AVERAGE(E244:E256) -> 13565.923 | BB256: =BA257 -> 13299.154 | BC256: =BB257 -> 12494.077 | BD256: =BC257 -> 13576.308 | BE256: =BD257 -> 12293.846 | BF256: =BE257 -> 12657.846 | BG256: =BF257 -> 12765.462 | BH256: =BG257 -> 12570.385 | CG256: =POWER($AZ256-BB256,2) -> 16046803 | CH256: =POWER($AZ256-BC256,2) -> 23144981 | CI256: =POWER($AZ256-BD256,2) -> 13903146 | CJ256: =POWER($AZ256-BE256,2) -> 25111663 | CK256: =POWER($AZ256-BF256,2) -> 21596039 | CL256: =POWER($AZ256-BG256,2) -> 20607409 | CM256: =POWER($AZ256-BH256,2) -> 22416583 | CN256: =POWER($AZ256-BI256,2) -> 299463025
A257: 41671 | B257: 122401 | C257: 89476 | D257: 21664 | E257: 3823 | G257: =AVERAGE(B245:B257) -> 131464.62 | H257: =AVERAGE(C245:C257) -> 98826.615 | I257: =H258 -> 99101 | J257: =I258 -> 101445.54 | K257: =J258 -> 101270.23 | L257: =K258 -> 99862.769 | M257: =L258 -> 104461.31 | N257: =M258 -> 99469.615 | AD257: =POWER($G257-I257,2) -> 1.0474036e+09 | AE257: =POWER($G257-J257,2) -> 9.0114498e+08 | AF257: =POWER($G257-K257,2) -> 9.1170086e+08 | AG257: =POWER($G257-L257,2) -> 9.9867668e+08 | AH257: =POWER($G257-M257,2) -> 7.2917863e+08 | AI257: =POWER($G257-N257,2) -> 1.02368e+09 | AJ257: =POWER($G257-O257,2) -> 1.7282945e+10 | AZ257: =AVERAGE(D245:D257) -> 18356.769 | BA257: =AVERAGE(E245:E257) -> 13299.154 | BB257: =BA258 -> 12494.077 | BC257: =BB258 -> 13576.308 | BD257: =BC258 -> 12293.846 | BE257: =BD258 -> 12657.846 | BF257: =BE258 -> 12765.462 | BG257: =BF258 -> 12570.385 | CG257: =POWER($AZ257-BB257,2) -> 34371161 | CH257: =POWER($AZ257-BC257,2) -> 22852813 | CI257: =POWER($AZ257-BD257,2) -> 36759036 | CJ257: =POWER($AZ257-BE257,2) -> 32477724 | CK257: =POWER($AZ257-BF257,2) -> 31262722 | CL257: =POWER($AZ257-BG257,2) -> 33482247 | CM257: =POWER($AZ257-BH257,2) -> 3.3697098e+08
A258: 41699 | B258: 135320 | C258: 123538 | D258: 18558 | E258: 31764 | G258: =AVERAGE(B246:B258) -> 128931.92 | H258: =AVERAGE(C246:C258) -> 99101 | I258: =H259 -> 101445.54 | J258: =I259 -> 101270.23 | K258: =J259 -> 99862.769 | L258: =K259 -> 104461.31 | M258: =L259 -> 99469.615 | AD258: =POWER($G258-I258,2) -> 7.5550134e+08 | AE258: =POWER($G258-J258,2) -> 7.6516922e+08 | AF258: =POWER($G258-K258,2) -> 8.4501571e+08 | AG258: =POWER($G258-L258,2) -> 5.9881102e+08 | AH258: =POWER($G258-M258,2) -> 8.6802757e+08 | AI258: =POWER($G258-N258,2) -> 1.6623441e+10 | AZ258: =AVERAGE(D246:D258) -> 19039.231 | BA258: =AVERAGE(E246:E258) -> 12494.077 | BB258: =BA259 -> 13576.308 | BC258: =BB259 -> 12293.846 | BD258: =BC259 -> 12657.846 | BE258: =BD259 -> 12765.462 | BF258: =BE259 -> 12570.385 | CG258: =POWER($AZ258-BB258,2) -> 29843529 | CH258: =POWER($AZ258-BC258,2) -> 45500214 | CI258: =POWER($AZ258-BD258,2) -> 40722070 | CJ258: =POWER($AZ258-BE258,2) -> 39360180 | CK258: =POWER($AZ258-BF258,2) -> 41845971 | CL258: =POWER($AZ258-BG258,2) -> 3.6249231e+08
A259: 41730 | B259: 132352 | C259: 133303 | D259: 22941 | E259: 17604 | G259: =AVERAGE(B247:B259) -> 129818.23 | H259: =AVERAGE(C247:C259) -> 101445.54 | I259: =H260 -> 101270.23 | J259: =I260 -> 99862.769 | K259: =J260 -> 104461.31 | L259: =K260 -> 99469.615 | AD259: =POWER($G259-I259,2) -> 814988304 | AE259: =POWER($G259-J259,2) -> 8.9732968e+08 | AF259: =POWER($G259-K259,2) -> 6.4297355e+08 | AG259: =POWER($G259-L259,2) -> 9.2103846e+08 | AH259: =POWER($G259-M259,2) -> 1.6852773e+10 | AZ259: =AVERAGE(D247:D259) -> 17876.846 | BA259: =AVERAGE(E247:E259) -> 13576.308 | BB259: =BA260 -> 12293.846 | BC259: =BB260 -> 12657.846 | BD259: =BC260 -> 12765.462 | BE259: =BD260 -> 12570.385 | CG259: =POWER($AZ259-BB259,2) -> 31169889 | CH259: =POWER($AZ259-BC259,2) -> 27237961 | CI259: =POWER($AZ259-BD259,2) -> 26126253 | CJ259: =POWER($AZ259-BE259,2) -> 28158534 | CK259: =POWER($AZ259-BF259,2) -> 3.1958163e+08
A260: 41760 | B260: 251973 | C260: 88184 | D260: 90737 | E260: 7355 | G260: =AVERAGE(B248:B260) -> 139229.69 | H260: =AVERAGE(C248:C260) -> 101270.23 | I260: =H261 -> 99862.769 | J260: =I261 -> 104461.31 | K260: =J261 -> 99469.615 | AD260: =POWER($G260-I260,2) -> 1.5497546e+09 | AE260: =POWER($G260-J260,2) -> 1.2088406e+09 | AF260: =POWER($G260-K260,2) -> 1.5808637e+09 | AG260: =POWER($G260-L260,2) -> 1.9384907e+10 | AZ260: =AVERAGE(D248:D260) -> 24286.538 | BA260: =AVERAGE(E248:E260) -> 12293.846 | BB260: =BA261 -> 12657.846 | BC260: =BB261 -> 12765.462 | BD260: =BC261 -> 12570.385 | CG260: =POWER($AZ260-BB260,2) -> 1.3522648e+08 | CH260: =POWER($AZ260-BC260,2) -> 1.3273521e+08 | CI260: =POWER($AZ260-BD260,2) -> 1.3726826e+08 | CJ260: =POWER($AZ260-BE260,2) -> 5.8983595e+08
A261: 41791 | B261: 131333 | C261: 81126 | D261: 25700 | E261: 14315 | G261: =AVERAGE(B249:B261) -> 133419.23 | H261: =AVERAGE(C249:C261) -> 99862.769 | I261: =H262 -> 104461.31 | J261: =I262 -> 99469.615 | AD261: =POWER($G261-I261,2) -> 8.3856131e+08 | AE261: =POWER($G261-J261,2) -> 1.1525764e+09 | AF261: =POWER($G261-K261,2) -> 1.7800691e+10 | AZ261: =AVERAGE(D249:D261) -> 22973.769 | BA261: =AVERAGE(E249:E261) -> 12657.846 | BB261: =BA262 -> 12765.462 | BC261: =BB262 -> 12570.385 | CG261: =POWER($AZ261-BB261,2) -> 1.0420955e+08 | CH261: =POWER($AZ261-BC261,2) -> 1.0823041e+08 | CI261: =POWER($AZ261-BD261,2) -> 5.2779407e+08
A262: 41821 | B262: 97796 | C262: 130497 | D262: 36918 | E262: 7378 | G262: =AVERAGE(B250:B262) -> 132273.23 | H262: =AVERAGE(C250:C262) -> 104461.31 | I262: =H263 -> 99469.615 | AD262: =POWER($G262-I262,2) -> 1.0760772e+09 | AE262: =POWER($G262-J262,2) -> 1.7496208e+10 | AZ262: =AVERAGE(D250:D262) -> 24594.462 | BA262: =AVERAGE(E250:E262) -> 12765.462 | BB262: =BA263 -> 12570.385 | CG262: =POWER($AZ262-BB262,2) -> 1.4457843e+08 | CH262: =POWER($AZ262-BC262,2) -> 6.0488754e+08
A263: 41852 | B263: 204549 | C263: 72529 | D263: 20288 | E263: 10367 | G263: =AVERAGE(B251:B263) -> 141927.54 | H263: =AVERAGE(C251:C263) -> 99469.615 | AD263: =POWER($G263-I263,2) -> 2.0143426e+10 | AZ263: =AVERAGE(D251:D263) -> 25576 | BA263: =AVERAGE(E251:E263) -> 12570.385 | CG263: =POWER($AZ263-BB263,2) -> 654131776
AD294: =SQRT(AVERAGE(AD16:AD261)) -> 63983.178 | AE294: =SQRT(AVERAGE(AE16:AE261)) -> 62595.262 | AF294: =SQRT(AVERAGE(AF16:AF261)) -> 61915.042 | AG294: =SQRT(AVERAGE(AG16:AG261)) -> 61017.034 | AH294: =SQRT(AVERAGE(AH16:AH261)) -> 60209.176 | AI294: =SQRT(AVERAGE(AI16:AI261)) -> 59646.945 | AJ294: =SQRT(AVERAGE(AJ16:AJ261)) -> 59318.346 | AK294: =SQRT(AVERAGE(AK16:AK261)) -> 59134.393 | ... AW294: =SQRT(AVERAGE(AW16:AW261)) -> 72223.157 | CG294: =SQRT(AVERAGE(CG16:CG261)) -> 15289.662 | CH294: =SQRT(AVERAGE(CH16:CH261)) -> 14959.793 | CI294: =SQRT(AVERAGE(CI16:CI261)) -> 14711.762 | CJ294: =SQRT(AVERAGE(CJ16:CJ261)) -> 14457.015 | CK294: =SQRT(AVERAGE(CK16:CK261)) -> 14182.663 | CL294: =SQRT(AVERAGE(CL16:CL261)) -> 13977.63 | CM294: =SQRT(AVERAGE(CM16:CM261)) -> 13799.666 | CN294: =SQRT(AVERAGE(CN16:CN261)) -> 13632.009 | ... DI294: =SQRT(AVERAGE(DI16:DI261)) -> 19877.357
AE295: =AE294-AD294 -> -1387.9159 | AF295: =AF294-AE294 -> -680.21952 | AG295: =AG294-AF294 -> -898.0081 | AH295: =AH294-AG294 -> -807.85863 | AI295: =AI294-AH294 -> -562.23076 | AJ295: =AJ294-AI294 -> -328.59914 | AK295: =AK294-AJ294 -> -183.95225 | AL295: =AL294-AK294 -> 23.492619 | ... AW295: =AW294-AV294 -> 1862.3077 | CH295: =CH294-CG294 -> -329.86925 | CI295: =CI294-CH294 -> -248.03094 | CJ295: =CJ294-CI294 -> -254.74705 | CK295: =CK294-CJ294 -> -274.35175 | CL295: =CL294-CK294 -> -205.03301 | CM295: =CM294-CL294 -> -177.96383 | CN295: =CN294-CM294 -> -167.65726 | CO295: =CO294-CN294 -> -114.18624 | ... DI295: =DI294-DH294 -> 483.29388
A326: Correlation Coefficient | B326: 0 | C326: 1 | D326: =C326+1 -> 2 | E326: =D326+1 -> 3 | F326: =E326+1 -> 4 | G326: =F326+1 -> 5 | H326: =G326+1 -> 6 | I326: =H326+1 -> 7 | J326: =I326+1 -> 8 | K326: =J326+1 -> 9 | ... V326: =U326+1 -> 20 | AZ326: Correlation Coefficient | BA326: =B326 -> 0 | BB326: 1 | BC326: =BB326+1 -> 2 | BD326: =BC326+1 -> 3 | BE326: =BD326+1 -> 4 | BF326: =BE326+1 -> 5 | BG326: =BF326+1 -> 6 | BH326: =BG326+1 -> 7 | BI326: =BH326+1 -> 8 | BJ326: =BI326+1 -> 9 | ... CD326: =CC326+1 -> 29
B327: =CORREL($G16:$G262,H16:H262) -> 0.90126325 | C327: =CORREL($G16:$G262,I16:I262) -> 0.91925872 | D327: =CORREL($G16:$G262,J16:J262) -> 0.93459452 | E327: =CORREL($G16:$G262,K16:K262) -> 0.94793643 | F327: =CORREL($G16:$G262,L16:L262) -> 0.95893155 | G327: =CORREL($G16:$G262,M16:M262) -> 0.96753245 | H327: =CORREL($G16:$G262,N16:N262) -> 0.97431688 | I327: =CORREL($G16:$G262,O16:O262) -> 0.97881536 | ... V327: =CORREL($G16:$G262,AB16:AB262) -> 0.84770052 | BA327: =CORREL($AZ16:$AZ262,BA16:BA262) -> 0.82745396 | BB327: =CORREL($AZ16:$AZ262,BB16:BB262) -> 0.84913913 | BC327: =CORREL($AZ16:$AZ262,BC16:BC262) -> 0.86985093 | BD327: =CORREL($AZ16:$AZ262,BD16:BD262) -> 0.88871683 | BE327: =CORREL($AZ16:$AZ262,BE16:BE262) -> 0.90568218 | BF327: =CORREL($AZ16:$AZ262,BF16:BF262) -> 0.92120429 | BG327: =CORREL($AZ16:$AZ262,BG16:BG262) -> 0.93510806 | BH327: =CORREL($AZ16:$AZ262,BH16:BH262) -> 0.94695113 | ... CD327: =CORREL($AZ16:$AZ262,CD16:CD262) -> 0.6429301
O331: Correlation coefficient
O332: {=TRANSPOSE(B327:V327)} -> 0.90126325 | P332: {=TRANSPOSE(B326:V326)} -> 0 | BQ332: Correlation Coefficient
O333: 0.91925872 | P333: 1 | BQ333: {=TRANSPOSE(BA327:CD327)} -> 0.82745396 | BR333: {=TRANSPOSE(BA326:CD326)} -> 0
O334: 0.93459452 | P334: 2 | BQ334: 0.84913913 | BR334: 1
O335: 0.94793643 | P335: 3 | BQ335: 0.86985093 | BR335: 2
O336: 0.95893155 | P336: 4 | BQ336: 0.88871683 | BR336: 3
O337: 0.96753245 | P337: 5 | BQ337: 0.90568218 | BR337: 4
O338: 0.97431688 | P338: 6 | BQ338: 0.92120429 | BR338: 5
O339: 0.97881536 | P339: 7 | BQ339: 0.93510806 | BR339: 6
O340: 0.98126833 | P340: 8 | BQ340: 0.94695113 | BR340: 7
O341: 0.98188215 | P341: 9 | BQ341: 0.95803074 | BR341: 8
O342: 0.97962218 | P342: 10 | BQ342: 0.96631156 | BR342: 9
O343: 0.97516684 | P343: 11 | BQ343: 0.97304453 | BR343: 10
O344: 0.96877913 | P344: 12 | BQ344: 0.97625969 | BR344: 11
O345: 0.95997233 | P345: 13 | BQ345: 0.97667162 | BR345: 12
... O352: 0.84770052 | P352: 20 | BQ352: 0.90484529 | BR352: 19
BQ353: 0.88546192 | BR353: 20
BQ354: 0.86337979 | BR354: 21
BQ355: 0.83954511 | BR355: 22
BQ356: 0.81327463 | BR356: 23
BQ357: 0.78660825 | BR357: 24
BQ358: 0.75935138 | BR358: 25
BQ359: 0.73130866 | BR359: 26
BQ360: 0.70249251 | BR360: 27
BQ361: 0.67305386 | BR361: 28
BQ362: 0.6429301 | BR362: 29
A368: RMSE | C368: 1 | D368: =C368+1 -> 2 | E368: =D368+1 -> 3 | F368: =E368+1 -> 4 | G368: =F368+1 -> 5 | H368: =G368+1 -> 6 | I368: =H368+1 -> 7 | J368: =I368+1 -> 8 | K368: =J368+1 -> 9 | ... V368: =U368+1 -> 20 | AZ368: RMSE | BB368: 1 | BC368: =BB368+1 -> 2 | BD368: =BC368+1 -> 3 | BE368: =BD368+1 -> 4 | BF368: =BE368+1 -> 5 | BG368: =BF368+1 -> 6 | BH368: =BG368+1 -> 7 | BI368: =BH368+1 -> 8 | BJ368: =BI368+1 -> 9 | ... CD368: =CC368+1 -> 29
C369: =AD294 -> 63983.178 | D369: =AE294 -> 62595.262 | E369: =AF294 -> 61915.042 | F369: =AG294 -> 61017.034 | G369: =AH294 -> 60209.176 | H369: =AI294 -> 59646.945 | I369: =AJ294 -> 59318.346 | J369: =AK294 -> 59134.393 | ... V369: =AW294 -> 72223.157 | BB369: =CG294 -> 15289.662 | BC369: =CH294 -> 14959.793 | BD369: =CI294 -> 14711.762 | BE369: =CJ294 -> 14457.015 | BF369: =CK294 -> 14182.663 | BG369: =CL294 -> 13977.63 | BH369: =CM294 -> 13799.666 | BI369: =CN294 -> 13632.009 | ... CD369: =DI294 -> 19877.357
BQ372: RMSE
O373: RMSE | BQ373: {=TRANSPOSE(BA369:CD369)} -> 0 | BR373: {=TRANSPOSE(BA368:CD368)} -> 0
O374: {=TRANSPOSE(B369:V369)} -> 0 | P374: {=TRANSPOSE(B368:V368)} -> 0 | BQ374: 15289.662 | BR374: 1
O375: 63983.178 | P375: 1 | BQ375: 14959.793 | BR375: 2
O376: 62595.262 | P376: 2 | BQ376: 14711.762 | BR376: 3
O377: 61915.042 | P377: 3 | BQ377: 14457.015 | BR377: 4
O378: 61017.034 | P378: 4 | BQ378: 14182.663 | BR378: 5
O379: 60209.176 | P379: 5 | BQ379: 13977.63 | BR379: 6
O380: 59646.945 | P380: 6 | BQ380: 13799.666 | BR380: 7
O381: 59318.346 | P381: 7 | BQ381: 13632.009 | BR381: 8
O382: 59134.393 | P382: 8 | BQ382: 13517.823 | BR382: 9
...

Sheet Office and Banking Space
A1: Non-Residential Buildings, Offices and Banking space
A2: m² | B2: SA | D2: KZN | G2: SA | I2: Buildings Completed (MA-12) | AY2: KZN | BB2: Buildings Completed (MA-12)
B3: Plans Approved | C3: Buildings Completed | D3: Plans Approved | E3: =C3 -> Buildings Completed | G3: Plans Approved (MA-12) | H3: Buildings Completed (MA-12) | I3: 1 Lag | J3: 2 Lag | K3: 3 Lag | L3: 4 Lag | M3: 5 Lag | N3: 6 Lag | O3: 7 Lag | P3: 8 Lag | Q3: 9 Lag | R3: 10 Lag | S3: 11 Lag | T3: 12 Lag | U3: 13 Lag | V3: 14 Lag | W3: 15 Lag | X3: 16 Lag | Y3: 17 Lag | Z3: 18 Lag | AA3: 19 Lag | AB3: 20 Lag | AD3: Power of Average Plans Approved and 1Lag | AE3: Power of Approded and 2Lag | AF3: Power of Approded and 3Lag | AG3: Power of Approded and 4Lag | AH3: Power of Approded and 5Lag | AI3: Power of Approded and 6Lag | AJ3: Power of Approded and 7Lag | AK3: Power of Approded and 8Lag | AL3: Power of Approded and 9Lag | AM3: Power of Approded and 10Lag | AN3: Power of Approded and 11Lag | AO3: Power of Approded and 12Lag | AP3: Power of Approded and 13Lag | AQ3: Power of Approded and 14Lag | AR3: Power of Approded and 15 Lag | AS3: Power of Approded and 16 Lag | AT3: Power of Approded and 17 Lag | AU3: Power of Approded and 18 Lag | AV3: Power of Approded and 19 Lag | AW3: Power of Approded and 20 Lag | AY3: Plans Approved (MA-12) | AZ3: Buildings Completed (MA-12) | BA3: 1 Lag | BB3: 2 Lag | BC3: 3 Lag | BD3: 4 Lag | BE3: 5 Lag | BF3: 6 Lag | BG3: 7 Lag | BH3: 8 Lag | BI3: 9 Lag | BJ3: 10 Lag | BK3: 11 Lag | BL3: 12 Lag | BM3: 13 Lag | BN3: 14 Lag | BO3: 15 Lag | BP3: 16 Lag | BQ3: 17 Lag | BR3: 18 Lag | BS3: 19 Lag | BT3: 20 Lag | BU3: 21 Lag | BV3: 22 Lag | BW3: 23 Lag | BX3: 24 Lag | BY3: 25 Lag | BZ3: 26 Lag | CA3: 27 Lag | CB3: 28 Lag | CC3: 29 Lag | CF3: Power of Approded and 1 Lag | CG3: Power of Approded and 2Lag | CH3: Power of Approded and 3Lag | CI3: Power of Approded and 4Lag | CJ3: Power of Approded and 5Lag | CK3: Power of Approded and 6Lag | CL3: Power of Approded and 7Lag | CM3: Power of Approded and 8Lag | CN3: Power of Approded and 9Lag | CO3: Power of Approded and 10Lag | CP3: Power of Approded and 11Lag | CQ3: Power of Approded and 12Lag | CR3: Power of Approded and 13Lag | CS3: Power of Approded and 14Lag | CT3: Power of Approded and 15Lag | CU3: Power of Approded and 16Lag | CV3: Power of Approded and 17 Lag | CW3: Power of Approded and 18 Lag | CX3: Power of Approded and 19 Lag | CY3: Power of Approded and 20 Lag | CZ3: Power of Approded and 21 Lag | DA3: Power of Approded and 22 Lag | DB3: Power of Approded and 23 Lag | DC3: Power of Approded and 24 Lag | DD3: Power of Approded and 25 Lag | DE3: Power of Approded and 26 Lag | DF3: Power of Approded and 27 Lag | DG3: Power of Approded and 28 Lag | DH3: Power of Approded and 29 Lag
A4: 33970 | B4: 13400 | C4: 14167 | D4: 540 | E4: 249
A5: 34001 | B5: 129721 | C5: 82834 | D5: 23875 | E5: 14669
A6: 34029 | B6: 27664 | C6: 74659 | D6: 631 | E6: 1759
A7: 34060 | B7: 53449 | C7: 116589 | D7: 2762 | E7: 60641
A8: 34090 | B8: 27099 | C8: 20847 | D8: 1100 | E8: 6557
A9: 34121 | B9: 44914 | C9: 70563 | D9: 0 | E9: 3286
A10: 34151 | B10: 63477 | C10: 36910 | D10: 1699 | E10: 18261
A11: 34182 | B11: 32917 | C11: 499110 | D11: 4173 | E11: 0
A12: 34213 | B12: 50685 | C12: 49550 | D12: 3940 | E12: 1200
A13: 34243 | B13: 35854 | C13: 31631 | D13: 0 | E13: 1886
A14: 34274 | B14: 26595 | C14: 17642 | D14: 5242 | E14: 758
A15: 34304 | B15: 18483 | C15: 21302 | D15: 2119 | E15: 5498
A16: 34335 | B16: 104039 | C16: 31150 | D16: 507 | E16: 2326 | G16: =AVERAGE(B4:B16) -> 48330.538 | H16: =AVERAGE(C4:C16) -> 82073.385 | I16: =H17 -> 83205.615 | J16: =I17 -> 84938.231 | K16: =J17 -> 81707 | L16: =K17 -> 74843.615 | M16: =L17 -> 75236.769 | N16: =M17 -> 71729.385 | O16: =N17 -> 72621.077 | P16: =O17 -> 34833.385 | ... AB16: =AA17 -> 29562.154 | AD16: =POWER($G16-I16,2) -> 1.216271e+09 | AE16: =POWER($G16-J16,2) -> 1.3401231e+09 | AF16: =POWER($G16-K16,2) -> 1.1139882e+09 | AG16: =POWER($G16-L16,2) -> 7.0294325e+08 | AH16: =POWER($G16-M16,2) -> 7.2394525e+08 | AI16: =POWER($G16-N16,2) -> 5.47506e+08 | AJ16: =POWER($G16-O16,2) -> 5.9003026e+08 | AK16: =POWER($G16-P16,2) -> 1.8217316e+08 | ... AW16: =POWER($G16-AB16,2) -> 3.5225226e+08 | AY16: =AVERAGE(D4:D16) -> 3583.6923 | AZ16: =AVERAGE(E4:E16) -> 9006.9231 | BA16: =AZ17 -> 9150.1538 | BB16: =BA17 -> 9641.2308 | BC16: =BB17 -> 9773.3077 | BD16: =BC17 -> 5108.6154 | BE16: =BD17 -> 4604.2308 | BF16: =BE17 -> 4496.9231 | BG16: =BF17 -> 3105.9231 | BH16: =BG17 -> 3105.9231 | ... CC16: =CB17 -> 3300.2308 | CF16: =POWER($AY16-BA16,2) -> 30985494 | CG16: =POWER($AY16-BB16,2) -> 36693772 | CH16: =POWER($AY16-BC16,2) -> 38311339 | CI16: =POWER($AY16-BD16,2) -> 2325390.4 | CJ16: =POWER($AY16-BE16,2) -> 1041498.8 | CK16: =POWER($AY16-BF16,2) -> 833990.44 | CL16: =POWER($AY16-BG16,2) -> 228263.44 | CM16: =POWER($AY16-BH16,2) -> 228263.44 | ... DH16: =POWER($AY16-CC16,2) -> 80350.444
A17: 34366 | B17: 68775 | C17: 28886 | D17: 53396 | E17: 2111 | G17: =AVERAGE(B5:B17) -> 52590.154 | H17: =AVERAGE(C5:C17) -> 83205.615 | I17: =H18 -> 84938.231 | J17: =I18 -> 81707 | K17: =J18 -> 74843.615 | L17: =K18 -> 75236.769 | M17: =L18 -> 71729.385 | N17: =M18 -> 72621.077 | O17: =N18 -> 34833.385 | P17: =O18 -> 33628 | ... AB17: =AA18 -> 31447.462 | AD17: =POWER($G17-I17,2) -> 1.0463981e+09 | AE17: =POWER($G17-J17,2) -> 8.4779073e+08 | AF17: =POWER($G17-K17,2) -> 4.9521655e+08 | AG17: =POWER($G17-L17,2) -> 5.1286919e+08 | AH17: =POWER($G17-M17,2) -> 3.6631015e+08 | AI17: =POWER($G17-N17,2) -> 4.0123788e+08 | AJ17: =POWER($G17-O17,2) -> 3.1530285e+08 | AK17: =POWER($G17-P17,2) -> 3.5956328e+08 | ... AW17: =POWER($G17-AB17,2) -> 4.4701344e+08 | AY17: =AVERAGE(D5:D17) -> 7649.5385 | AZ17: =AVERAGE(E5:E17) -> 9150.1538 | BA17: =AZ18 -> 9641.2308 | BB17: =BA18 -> 9773.3077 | BC17: =BB18 -> 5108.6154 | BD17: =BC18 -> 4604.2308 | BE17: =BD18 -> 4496.9231 | BF17: =BE18 -> 3105.9231 | BG17: =BF18 -> 3105.9231 | BH17: =BG18 -> 3164 | ... CC17: =CB18 -> 3841.2308 | CF17: =POWER($AY17-BA17,2) -> 3966838.2 | CG17: =POWER($AY17-BB17,2) -> 4510395.7 | CH17: =POWER($AY17-BC17,2) -> 6456290.1 | CI17: =POWER($AY17-BD17,2) -> 9273898.9 | CJ17: =POWER($AY17-BE17,2) -> 9938983.8 | CK17: =POWER($AY17-BF17,2) -> 20644441 | CL17: =POWER($AY17-BG17,2) -> 20644441 | CM17: =POWER($AY17-BH17,2) -> 20120055 | ... DH17: =POWER($AY17-CC17,2) -> 14503207
A18: 34394 | B18: 58182 | C18: 105358 | D18: 26824 | E18: 21053 | G18: =AVERAGE(B6:B18) -> 47087.154 | H18: =AVERAGE(C6:C18) -> 84938.231 | I18: =H19 -> 81707 | J18: =I19 -> 74843.615 | K18: =J19 -> 75236.769 | L18: =K19 -> 71729.385 | M18: =L19 -> 72621.077 | N18: =M19 -> 34833.385 | O18: =N19 -> 33628 | P18: =O19 -> 34346.692 | ... AB18: =AA19 -> 29330.615 | AD18: =POWER($G18-I18,2) -> 1.1985337e+09 | AE18: =POWER($G18-J18,2) -> 7.7042116e+08 | AF18: =POWER($G18-K18,2) -> 7.9240085e+08 | AG18: =POWER($G18-L18,2) -> 6.0723954e+08 | AH18: =POWER($G18-M18,2) -> 6.5198123e+08 | AI18: =POWER($G18-N18,2) -> 1.5015486e+08 | AJ18: =POWER($G18-O18,2) -> 1.8114882e+08 | AK18: =POWER($G18-P18,2) -> 1.6231936e+08 | ... AW18: =POWER($G18-AB18,2) -> 3.1529466e+08 | AY18: =AVERAGE(D6:D18) -> 7876.3846 | AZ18: =AVERAGE(E6:E18) -> 9641.2308 | BA18: =AZ19 -> 9773.3077 | BB18: =BA19 -> 5108.6154 | BC18: =BB19 -> 4604.2308 | BD18: =BC19 -> 4496.9231 | BE18: =BD19 -> 3105.9231 | BF18: =BE19 -> 3105.9231 | BG18: =BF19 -> 3164 | BH18: =BG19 -> 3265.4615 | ... CC18: =CB19 -> 4375 | CF18: =POWER($AY18-BA18,2) -> 3598317.2 | CG18: =POWER($AY18-BB18,2) -> 7660546.5 | CH18: =POWER($AY18-BC18,2) -> 10706991 | CI18: =POWER($AY18-BD18,2) -> 11420760 | CJ18: =POWER($AY18-BE18,2) -> 22757303 | CK18: =POWER($AY18-BF18,2) -> 22757303 | CL18: =POWER($AY18-BG18,2) -> 22206569 | CM18: =POWER($AY18-BH18,2) -> 21260612 | ... DH18: =POWER($AY18-CC18,2) -> 12259694
A19: 34425 | B19: 65834 | C19: 32653 | D19: 126 | E19: 3476 | G19: =AVERAGE(B7:B19) -> 50023.308 | H19: =AVERAGE(C7:C19) -> 81707 | I19: =H20 -> 74843.615 | J19: =I20 -> 75236.769 | K19: =J20 -> 71729.385 | L19: =K20 -> 72621.077 | M19: =L20 -> 34833.385 | N19: =M20 -> 33628 | O19: =N20 -> 34346.692 | P19: =O20 -> 35087.385 | ... AB19: =AA20 -> 28211.462 | AD19: =POWER($G19-I19,2) -> 6.1604767e+08 | AE19: =POWER($G19-J19,2) -> 6.3571864e+08 | AF19: =POWER($G19-K19,2) -> 4.7115378e+08 | AG19: =POWER($G19-L19,2) -> 5.1065917e+08 | AH19: =POWER($G19-M19,2) -> 2.3073376e+08 | AI19: =POWER($G19-N19,2) -> 2.6880611e+08 | AJ19: =POWER($G19-O19,2) -> 2.4575627e+08 | AK19: =POWER($G19-P19,2) -> 2.230818e+08 | ... AW19: =POWER($G19-AB19,2) -> 4.7575663e+08 | AY19: =AVERAGE(D7:D19) -> 7837.5385 | AZ19: =AVERAGE(E7:E19) -> 9773.3077 | BA19: =AZ20 -> 5108.6154 | BB19: =BA20 -> 4604.2308 | BC19: =BB20 -> 4496.9231 | BD19: =BC20 -> 3105.9231 | BE19: =BD20 -> 3105.9231 | BF19: =BE20 -> 3164 | BG19: =BF20 -> 3265.4615 | BH19: =BG20 -> 3207.1538 | ... CC19: =CB20 -> 4354.8462 | CF19: =POWER($AY19-BA19,2) -> 7447021.2 | CG19: =POWER($AY19-BB19,2) -> 10454279 | CH19: =POWER($AY19-BC19,2) -> 11159711 | CI19: =POWER($AY19-BD19,2) -> 22388184 | CJ19: =POWER($AY19-BE19,2) -> 22388184 | CK19: =POWER($AY19-BF19,2) -> 21841962 | CL19: =POWER($AY19-BG19,2) -> 20903887 | CM19: =POWER($AY19-BH19,2) -> 21440462 | ... DH19: =POWER($AY19-CC19,2) -> 12129146
A20: 34455 | B20: 54477 | C20: 27365 | D20: 0 | E20: 0 | G20: =AVERAGE(B8:B20) -> 50102.385 | H20: =AVERAGE(C8:C20) -> 74843.615 | I20: =H21 -> 75236.769 | J20: =I21 -> 71729.385 | K20: =J21 -> 72621.077 | L20: =K21 -> 34833.385 | M20: =L21 -> 33628 | N20: =M21 -> 34346.692 | O20: =N21 -> 35087.385 | P20: =O21 -> 36321.385 | ... AB20: =AA21 -> 27559.385 | AD20: =POWER($G20-I20,2) -> 6.3173729e+08 | AE20: =POWER($G20-J20,2) -> 4.6772713e+08 | AF20: =POWER($G20-K20,2) -> 5.070915e+08 | AG20: =POWER($G20-L20,2) -> 233142361 | AH20: =POWER($G20-M20,2) -> 2.7140535e+08 | AI20: =POWER($G20-N20,2) -> 2.4824184e+08 | AJ20: =POWER($G20-O20,2) -> 225450225 | AK20: =POWER($G20-P20,2) -> 189915961 | ... AW20: =POWER($G20-AB20,2) -> 508186849 | AY20: =AVERAGE(D8:D20) -> 7625.0769 | AZ20: =AVERAGE(E8:E20) -> 5108.6154 | BA20: =AZ21 -> 4604.2308 | BB20: =BA21 -> 4496.9231 | BC20: =BB21 -> 3105.9231 | BD20: =BC21 -> 3105.9231 | BE20: =BD21 -> 3164 | BF20: =BE21 -> 3265.4615 | BG20: =BF21 -> 3207.1538 | BH20: =BG21 -> 4107 | ... CC20: =CB21 -> 4055.2308 | CF20: =POWER($AY20-BA20,2) -> 9125511.5 | CG20: =POWER($AY20-BB20,2) -> 9785346.5 | CH20: =POWER($AY20-BC20,2) -> 20422751 | CI20: =POWER($AY20-BD20,2) -> 20422751 | CJ20: =POWER($AY20-BE20,2) -> 19901207 | CK20: =POWER($AY20-BF20,2) -> 19006246 | CL20: =POWER($AY20-BG20,2) -> 19518044 | CM20: =POWER($AY20-BH20,2) -> 12376865 | ... DH20: =POWER($AY20-CC20,2) -> 12743802
A21: 34486 | B21: 54750 | C21: 25958 | D21: 730 | E21: 0 | G21: =AVERAGE(B9:B21) -> 52229.385 | H21: =AVERAGE(C9:C21) -> 75236.769 | I21: =H22 -> 71729.385 | J21: =I22 -> 72621.077 | K21: =J22 -> 34833.385 | L21: =K22 -> 33628 | M21: =L22 -> 34346.692 | N21: =M22 -> 35087.385 | O21: =N22 -> 36321.385 | P21: =O22 -> 35193.692 | ... AB21: =AA22 -> 27447 | AD21: =POWER($G21-I21,2) -> 3.8025e+08 | AE21: =POWER($G21-J21,2) -> 4.1582112e+08 | AF21: =POWER($G21-K21,2) -> 302620816 | AG21: =POWER($G21-L21,2) -> 3.4601151e+08 | AH21: =POWER($G21-M21,2) -> 3.1979068e+08 | AI21: =POWER($G21-N21,2) -> 293848164 | AJ21: =POWER($G21-O21,2) -> 253064464 | AK21: =POWER($G21-P21,2) -> 2.9021481e+08 | ... AW21: =POWER($G21-AB21,2) -> 6.1416659e+08 | AY21: =AVERAGE(D9:D21) -> 7596.6154 | AZ21: =AVERAGE(E9:E21) -> 4604.2308 | BA21: =AZ22 -> 4496.9231 | BB21: =BA22 -> 3105.9231 | BC21: =BB22 -> 3105.9231 | BD21: =BC22 -> 3164 | BE21: =BD22 -> 3265.4615 | BF21: =BE22 -> 3207.1538 | BG21: =BF22 -> 4107 | BH21: =BG22 -> 4350.2308 | ... CC21: =CB22 -> 4203.0769 | CF21: =POWER($AY21-BA21,2) -> 9608092.4 | CG21: =POWER($AY21-BB21,2) -> 20166317 | CH21: =POWER($AY21-BC21,2) -> 20166317 | CI21: =POWER($AY21-BD21,2) -> 19648079 | CJ21: =POWER($AY21-BE21,2) -> 18758894 | CK21: =POWER($AY21-BF21,2) -> 19267373 | CL21: =POWER($AY21-BG21,2) -> 12177416 | CM21: =POWER($AY21-BH21,2) -> 10539013 | ... DH21: =POWER($AY21-CC21,2) -> 11516103
A22: 34516 | B22: 48839 | C22: 24967 | D22: 10243 | E22: 1891 | G22: =AVERAGE(B10:B22) -> 52531.308 | H22: =AVERAGE(C10:C22) -> 71729.385 | I22: =H23 -> 72621.077 | J22: =I23 -> 34833.385 | K22: =J23 -> 33628 | L22: =K23 -> 34346.692 | M22: =L23 -> 35087.385 | N22: =M23 -> 36321.385 | O22: =N23 -> 35193.692 | P22: =O23 -> 37274.615 | ... AB22: =AA23 -> 28384 | AD22: =POWER($G22-I22,2) -> 4.0359883e+08 | AE22: =POWER($G22-J22,2) -> 3.1321648e+08 | AF22: =POWER($G22-K22,2) -> 3.5733504e+08 | AG22: =POWER($G22-L22,2) -> 3.3068024e+08 | AH22: =POWER($G22-M22,2) -> 3.0429045e+08 | AI22: =POWER($G22-N22,2) -> 2.6276161e+08 | AJ22: =POWER($G22-O22,2) -> 3.0059291e+08 | AK22: =POWER($G22-P22,2) -> 2.3276666e+08 | ... AW22: =POWER($G22-AB22,2) -> 5.8309247e+08 | AY22: =AVERAGE(D10:D22) -> 8384.5385 | AZ22: =AVERAGE(E10:E22) -> 4496.9231 | BA22: =AZ23 -> 3105.9231 | BB22: =BA23 -> 3105.9231 | BC22: =BB23 -> 3164 | BD22: =BC23 -> 3265.4615 | BE22: =BD23 -> 3207.1538 | BF22: =BE23 -> 4107 | BG22: =BF23 -> 4350.2308 | BH22: =BG23 -> 4588.6154 | ... CC22: =CB23 -> 4274.6923 | CF22: =POWER($AY22-BA22,2) -> 27863780 | CG22: =POWER($AY22-BB22,2) -> 27863780 | CH22: =POWER($AY22-BC22,2) -> 27254022 | CI22: =POWER($AY22-BD22,2) -> 26204949 | CJ22: =POWER($AY22-BE22,2) -> 26805311 | CK22: =POWER($AY22-BF22,2) -> 18297335 | CL22: =POWER($AY22-BG22,2) -> 16275639 | CM22: =POWER($AY22-BH22,2) -> 14409032 | ... DH22: =POWER($AY22-CC22,2) -> 16890835
A23: 34547 | B23: 56919 | C23: 48502 | D23: 9334 | E23: 178 | G23: =AVERAGE(B11:B23) -> 52026.846 | H23: =AVERAGE(C11:C23) -> 72621.077 | I23: =H24 -> 34833.385 | J23: =I24 -> 33628 | K23: =J24 -> 34346.692 | L23: =K24 -> 35087.385 | M23: =L24 -> 36321.385 | N23: =M24 -> 35193.692 | O23: =N24 -> 37274.615 | P23: =O24 -> 30512 | ... AB23: =AA24 -> 31455.846 | AD23: =POWER($G23-I23,2) -> 2.9561512e+08 | AE23: =POWER($G23-J23,2) -> 3.3851754e+08 | AF23: =POWER($G23-K23,2) -> 3.1258784e+08 | AG23: =POWER($G23-L23,2) -> 2.8694536e+08 | AH23: =POWER($G23-M23,2) -> 2.4666152e+08 | AI23: =POWER($G23-N23,2) -> 2.8335507e+08 | AJ23: =POWER($G23-O23,2) -> 2.1762831e+08 | AK23: =POWER($G23-P23,2) -> 4.6288861e+08 | ... AW23: =POWER($G23-AB23,2) -> 4.2316604e+08 | AY23: =AVERAGE(D11:D23) -> 8971.8462 | AZ23: =AVERAGE(E11:E23) -> 3105.9231 | BA23: =AZ24 -> 3105.9231 | BB23: =BA24 -> 3164 | BC23: =BB24 -> 3265.4615 | BD23: =BC24 -> 3207.1538 | BE23: =BD24 -> 4107 | BF23: =BE24 -> 4350.2308 | BG23: =BF24 -> 4588.6154 | BH23: =BG24 -> 3258 | ... CC23: =CB24 -> 4532.4615 | CF23: =POWER($AY23-BA23,2) -> 34409054 | CG23: =POWER($AY23-BB23,2) -> 33731077 | CH23: =POWER($AY23-BC23,2) -> 32562825 | CI23: =POWER($AY23-BD23,2) -> 33231677 | CJ23: =POWER($AY23-BE23,2) -> 23666728 | CK23: =POWER($AY23-BF23,2) -> 21359329 | CL23: =POWER($AY23-BG23,2) -> 19212712 | CM23: =POWER($AY23-BH23,2) -> 32648038 | ... DH23: =POWER($AY23-CC23,2) -> 19708136
A24: 34578 | B24: 61948 | C24: 7870 | D24: 5022 | E24: 0 | G24: =AVERAGE(B12:B24) -> 54260 | H24: =AVERAGE(C12:C24) -> 34833.385 | I24: =H25 -> 33628 | J24: =I25 -> 34346.692 | K24: =J25 -> 35087.385 | L24: =K25 -> 36321.385 | M24: =L25 -> 35193.692 | N24: =M25 -> 37274.615 | O24: =N25 -> 30512 | P24: =O25 -> 30057.615 | ... AB24: =AA25 -> 32527.385 | AD24: =POWER($G24-I24,2) -> 425679424 | AE24: =POWER($G24-J24,2) -> 3.9653982e+08 | AF24: =POWER($G24-K24,2) -> 3.6758918e+08 | AG24: =POWER($G24-L24,2) -> 3.2179392e+08 | AH24: =POWER($G24-M24,2) -> 3.6352409e+08 | AI24: =POWER($G24-N24,2) -> 2.8850329e+08 | AJ24: =POWER($G24-O24,2) -> 563967504 | AK24: =POWER($G24-P24,2) -> 5.8575542e+08 | ... AW24: =POWER($G24-AB24,2) -> 4.7230657e+08 | AY24: =AVERAGE(D12:D24) -> 9037.1538 | AZ24: =AVERAGE(E12:E24) -> 3105.9231 | BA24: =AZ25 -> 3164 | BB24: =BA25 -> 3265.4615 | BC24: =BB25 -> 3207.1538 | BD24: =BC25 -> 4107 | BE24: =BD25 -> 4350.2308 | BF24: =BE25 -> 4588.6154 | BG24: =BF25 -> 3258 | BH24: =BG25 -> 3085.1538 | ... CC24: =CB25 -> 4431.3077 | CF24: =POWER($AY24-BA24,2) -> 34493936 | CG24: =POWER($AY24-BB24,2) -> 33312432 | CH24: =POWER($AY24-BC24,2) -> 33988900 | CI24: =POWER($AY24-BD24,2) -> 24306417 | CJ24: =POWER($AY24-BE24,2) -> 21967248 | CK24: =POWER($AY24-BF24,2) -> 19789494 | CL24: =POWER($AY24-BG24,2) -> 33398619 | CM24: =POWER($AY24-BH24,2) -> 35426304 | ... DH24: =POWER($AY24-CC24,2) -> 21213819
A25: 34608 | B25: 102127 | C25: 33880 | D25: 55668 | E25: 1955 | G25: =AVERAGE(B13:B25) -> 58217.077 | H25: =AVERAGE(C13:C25) -> 33628 | I25: =H26 -> 34346.692 | J25: =I26 -> 35087.385 | K25: =J26 -> 36321.385 | L25: =K26 -> 35193.692 | M25: =L26 -> 37274.615 | N25: =M26 -> 30512 | O25: =N26 -> 30057.615 | P25: =O26 -> 30516.615 | ... AB25: =AA26 -> 32973.385 | AD25: =POWER($G25-I25,2) -> 5.6979526e+08 | AE25: =POWER($G25-J25,2) -> 5.3498267e+08 | AF25: =POWER($G25-K25,2) -> 4.7942134e+08 | AG25: =POWER($G25-L25,2) -> 5.3007624e+08 | AH25: =POWER($G25-M25,2) -> 4.385867e+08 | AI25: =POWER($G25-N25,2) -> 7.6757129e+08 | AJ25: =POWER($G25-O25,2) -> 7.9295527e+08 | AK25: =POWER($G25-P25,2) -> 7.6731557e+08 | ... AW25: =POWER($G25-AB25,2) -> 6.37244e+08 | AY25: =AVERAGE(D13:D25) -> 13016.231 | AZ25: =AVERAGE(E13:E25) -> 3164 | BA25: =AZ26 -> 3265.4615 | BB25: =BA26 -> 3207.1538 | BC25: =BB26 -> 4107 | BD25: =BC26 -> 4350.2308 | BE25: =BD26 -> 4588.6154 | BF25: =BE26 -> 3258 | BG25: =BF26 -> 3085.1538 | BH25: =BG26 -> 3097.4615 | ... CC25: =CB26 -> 4285.5385 | CF25: =POWER($AY25-BA25,2) -> 95077501 | CG25: =POWER($AY25-BB25,2) -> 96217990 | CH25: =POWER($AY25-BC25,2) -> 79374393 | CI25: =POWER($AY25-BD25,2) -> 75099556 | CJ25: =POWER($AY25-BE25,2) -> 71024701 | CK25: =POWER($AY25-BF25,2) -> 95223068 | CL25: =POWER($AY25-BG25,2) -> 98626289 | CM25: =POWER($AY25-BH25,2) -> 98381983 | ... DH25: =POWER($AY25-CC25,2) -> 76224988
A26: 34639 | B26: 78323 | C26: 40974 | D26: 1380 | E26: 3205 | G26: =AVERAGE(B14:B26) -> 61483.923 | H26: =AVERAGE(C14:C26) -> 34346.692 | I26: =H27 -> 35087.385 | J26: =I27 -> 36321.385 | K26: =J27 -> 35193.692 | L26: =K27 -> 37274.615 | M26: =L27 -> 30512 | N26: =M27 -> 30057.615 | O26: =N27 -> 30516.615 | P26: =O27 -> 29042.154 | ... AB26: =AA27 -> 32670.692 | AD26: =POWER($G26-I26,2) -> 6.9677724e+08 | AE26: =POWER($G26-J26,2) -> 6.3315334e+08 | AF26: =POWER($G26-K26,2) -> 6.9117623e+08 | AG26: =POWER($G26-L26,2) -> 5.8609058e+08 | AH26: =POWER($G26-M26,2) -> 9.5926002e+08 | AI26: =POWER($G26-N26,2) -> 9.8761282e+08 | AJ26: =POWER($G26-O26,2) -> 9.5897415e+08 | AK26: =POWER($G26-P26,2) -> 1.0524684e+09 | ... AW26: =POWER($G26-AB26,2) -> 8.3020227e+08 | AY26: =AVERAGE(D14:D26) -> 13122.385 | AZ26: =AVERAGE(E14:E26) -> 3265.4615 | BA26: =AZ27 -> 3207.1538 | BB26: =BA27 -> 4107 | BC26: =BB27 -> 4350.2308 | BD26: =BC27 -> 4588.6154 | BE26: =BD27 -> 3258 | BF26: =BE27 -> 3085.1538 | BG26: =BF27 -> 3097.4615 | BH26: =BG27 -> 3195.2308 | ... CC26: =CB27 -> 3630.5385 | CF26: =POWER($AY26-BA26,2) -> 98311801 | CG26: =POWER($AY26-BB26,2) -> 81277160 | CH26: =POWER($AY26-BC26,2) -> 76950683 | CI26: =POWER($AY26-BD26,2) -> 72825217 | CJ26: =POWER($AY26-BE26,2) -> 97306084 | CK26: =POWER($AY26-BF26,2) -> 1.00746e+08 | CL26: =POWER($AY26-BG26,2) -> 1.0049908e+08 | CM26: =POWER($AY26-BH26,2) -> 98548383 | ... DH26: =POWER($AY26-CC26,2) -> 90095143
A27: 34669 | B27: 32546 | C27: 27271 | D27: 7695 | E27: 0 | G27: =AVERAGE(B15:B27) -> 61941.692 | H27: =AVERAGE(C15:C27) -> 35087.385 | I27: =H28 -> 36321.385 | J27: =I28 -> 35193.692 | K27: =J28 -> 37274.615 | L27: =K28 -> 30512 | M27: =L28 -> 30057.615 | N27: =M28 -> 30516.615 | O27: =N28 -> 29042.154 | P27: =O28 -> 30354.846 | ... AB27: =AA28 -> 35597.615 | AD27: =POWER($G27-I27,2) -> 6.5640017e+08 | AE27: =POWER($G27-J27,2) -> 715455504 | AF27: =POWER($G27-K27,2) -> 6.0846468e+08 | AG27: =POWER($G27-L27,2) -> 9.8782556e+08 | AH27: =POWER($G27-M27,2) -> 1.0165944e+09 | AI27: =POWER($G27-N27,2) -> 9.8753546e+08 | AJ27: =POWER($G27-O27,2) -> 1.0823796e+09 | AK27: =POWER($G27-P27,2) -> 9.9772885e+08 | ... AW27: =POWER($G27-AB27,2) -> 6.9401039e+08 | AY27: =AVERAGE(D15:D27) -> 13311.077 | AZ27: =AVERAGE(E15:E27) -> 3207.1538 | BA27: =AZ28 -> 4107 | BB27: =BA28 -> 4350.2308 | BC27: =BB28 -> 4588.6154 | BD27: =BC28 -> 3258 | BE27: =BD28 -> 3085.1538 | BF27: =BE28 -> 3097.4615 | BG27: =BF28 -> 3195.2308 | BH27: =BG28 -> 3069.9231 | ... CC27: =CB28 -> 3363.4615 | CF27: =POWER($AY27-BA27,2) -> 84715032 | CG27: =POWER($AY27-BB27,2) -> 80296764 | CH27: =POWER($AY27-BC27,2) -> 76081335 | CI27: =POWER($AY27-BD27,2) -> 1.0106436e+08 | CJ27: =POWER($AY27-BE27,2) -> 1.045695e+08 | CK27: =POWER($AY27-BF27,2) -> 1.0431794e+08 | CL27: =POWER($AY27-BG27,2) -> 1.0233034e+08 | CM27: =POWER($AY27-BH27,2) -> 1.0488123e+08 | ... DH27: =POWER($AY27-CC27,2) -> 98955052
... A234: 40969 | B234: 39469 | C234: 28590 | D234: 7588 | E234: 4197 | G234: =AVERAGE(B222:B234) -> 46287.308 | H234: =AVERAGE(C222:C234) -> 31027.385 | I234: =H235 -> 31165.308 | J234: =I235 -> 34440.846 | K234: =J235 -> 31688.385 | L234: =K235 -> 29555.308 | M234: =L235 -> 28298.692 | N234: =M235 -> 33341.846 | O234: =N235 -> 32509.692 | P234: =O235 -> 36886.462 | ... AB234: =AA235 -> 65318.923 | AD234: =POWER($G234-I234,2) -> 2.2867488e+08 | AE234: =POWER($G234-J234,2) -> 1.4033865e+08 | AF234: =POWER($G234-K234,2) -> 2.1312856e+08 | AG234: =POWER($G234-L234,2) -> 2.7995982e+08 | AH234: =POWER($G234-M234,2) -> 3.2359028e+08 | AI234: =POWER($G234-N234,2) -> 1.6758497e+08 | AJ234: =POWER($G234-O234,2) -> 1.8982269e+08 | AK234: =POWER($G234-P234,2) -> 88375908 | ... AW234: =POWER($G234-AB234,2) -> 3.6220238e+08 | AY234: =AVERAGE(D222:D234) -> 9581 | AZ234: =AVERAGE(E222:E234) -> 5229.1538 | BA234: =AZ235 -> 3108.2308 | BB234: =BA235 -> 3118 | BC234: =BB235 -> 3184.4615 | BD234: =BC235 -> 2756.5385 | BE234: =BD235 -> 2301.4615 | BF234: =BE235 -> 6452.6923 | BG234: =BF235 -> 6420.9231 | BH234: =BG235 -> 7014.3077 | ... CC234: =CB235 -> 8206.6923 | CF234: =POWER($AY234-BA234,2) -> 41896742 | CG234: =POWER($AY234-BB234,2) -> 41770369 | CH234: =POWER($AY234-BC234,2) -> 40915704 | CI234: =POWER($AY234-BD234,2) -> 46573275 | CJ234: =POWER($AY234-BE234,2) -> 52991680 | CK234: =POWER($AY234-BF234,2) -> 9786309 | CL234: =POWER($AY234-BG234,2) -> 9986086.2 | CM234: =POWER($AY234-BH234,2) -> 6587909.4 | ... DH234: =POWER($AY234-CC234,2) -> 1888721.6
A235: 41000 | B235: 10062 | C235: 44282 | D235: 670 | E235: 1788 | G235: =AVERAGE(B223:B235) -> 41281.385 | H235: =AVERAGE(C223:C235) -> 31165.308 | I235: =H236 -> 34440.846 | J235: =I236 -> 31688.385 | K235: =J236 -> 29555.308 | L235: =K236 -> 28298.692 | M235: =L236 -> 33341.846 | N235: =M236 -> 32509.692 | O235: =N236 -> 36886.462 | P235: =O236 -> 36986.615 | ... AB235: =AA236 -> 63447.385 | AD235: =POWER($G235-I235,2) -> 46792966 | AE235: =POWER($G235-J235,2) -> 92025649 | AF235: =POWER($G235-K235,2) -> 1.3750088e+08 | AG235: =POWER($G235-L235,2) -> 1.685503e+08 | AH235: =POWER($G235-M235,2) -> 63036271 | AI235: =POWER($G235-N235,2) -> 76942586 | AJ235: =POWER($G235-O235,2) -> 19315349 | AK235: =POWER($G235-P235,2) -> 18445043 | ... AW235: =POWER($G235-AB235,2) -> 491331556 | AY235: =AVERAGE(D223:D235) -> 6710.1538 | AZ235: =AVERAGE(E223:E235) -> 3108.2308 | BA235: =AZ236 -> 3118 | BB235: =BA236 -> 3184.4615 | BC235: =BB236 -> 2756.5385 | BD235: =BC236 -> 2301.4615 | BE235: =BD236 -> 6452.6923 | BF235: =BE236 -> 6420.9231 | BG235: =BF236 -> 7014.3077 | BH235: =BG236 -> 7224 | ... CB235: =CA236 -> 8206.6923 | CF235: =POWER($AY235-BA235,2) -> 12903569 | CG235: =POWER($AY235-BB235,2) -> 12430506 | CH235: =POWER($AY235-BC235,2) -> 15631075 | CI235: =POWER($AY235-BD235,2) -> 19436568 | CJ235: =POWER($AY235-BE235,2) -> 66286.444 | CK235: =POWER($AY235-BF235,2) -> 83654.438 | CL235: =POWER($AY235-BG235,2) -> 92509.562 | CM235: =POWER($AY235-BH235,2) -> 264037.87 | ... DH235: =POWER($AY235-CC235,2) -> 45026165
A236: 41030 | B236: 79164 | C236: 47460 | D236: 7236 | E236: 127 | G236: =AVERAGE(B224:B236) -> 45093.077 | H236: =AVERAGE(C224:C236) -> 34440.846 | I236: =H237 -> 31688.385 | J236: =I237 -> 29555.308 | K236: =J237 -> 28298.692 | L236: =K237 -> 33341.846 | M236: =L237 -> 32509.692 | N236: =M237 -> 36886.462 | O236: =N237 -> 36986.615 | P236: =O237 -> 37179.769 | ... AB236: =AA237 -> 62526.385 | AD236: =POWER($G236-I236,2) -> 1.7968578e+08 | AE236: =POWER($G236-J236,2) -> 2.4142227e+08 | AF236: =POWER($G236-K236,2) -> 2.8205135e+08 | AG236: =POWER($G236-L236,2) -> 1.3809142e+08 | AH236: =POWER($G236-M236,2) -> 1.5834157e+08 | AI236: =POWER($G236-N236,2) -> 67348536 | AJ236: =POWER($G236-O236,2) -> 65714719 | AK236: =POWER($G236-P236,2) -> 62620439 | ... AW236: =POWER($G236-AB236,2) -> 3.0392022e+08 | AY236: =AVERAGE(D224:D236) -> 7256.5385 | AZ236: =AVERAGE(E224:E236) -> 3118 | BA236: =AZ237 -> 3184.4615 | BB236: =BA237 -> 2756.5385 | BC236: =BB237 -> 2301.4615 | BD236: =BC237 -> 6452.6923 | BE236: =BD237 -> 6420.9231 | BF236: =BE237 -> 7014.3077 | BG236: =BF237 -> 7224 | BH236: =BG237 -> 7459.5385 | ... CA236: =BZ237 -> 8206.6923 | CF236: =POWER($AY236-BA236,2) -> 16581810 | CG236: =POWER($AY236-BB236,2) -> 20250000 | CH236: =POWER($AY236-BC236,2) -> 24552787 | CI236: =POWER($AY236-BD236,2) -> 646168.64 | CJ236: =POWER($AY236-BE236,2) -> 698253.07 | CK236: =POWER($AY236-BF236,2) -> 58675.746 | CL236: =POWER($AY236-BG236,2) -> 1058.7515 | CM236: =POWER($AY236-BH236,2) -> 41209 | ... DG236: =POWER($AY236-CB236,2) -> 52657350
A237: 41061 | B237: 54795 | C237: 21255 | D237: 15194 | E237: 2931 | G237: =AVERAGE(B225:B237) -> 44049.077 | H237: =AVERAGE(C225:C237) -> 31688.385 | I237: =H238 -> 29555.308 | J237: =I238 -> 28298.692 | K237: =J238 -> 33341.846 | L237: =K238 -> 32509.692 | M237: =L238 -> 36886.462 | N237: =M238 -> 36986.615 | O237: =N238 -> 37179.769 | P237: =O238 -> 45605.231 | ... AB237: =AA238 -> 63853.615 | AD237: =POWER($G237-I237,2) -> 2.1006935e+08 | AE237: =POWER($G237-J237,2) -> 2.4807462e+08 | AF237: =POWER($G237-K237,2) -> 1.1464479e+08 | AG237: =POWER($G237-L237,2) -> 1.331574e+08 | AH237: =POWER($G237-M237,2) -> 51303059 | AI237: =POWER($G237-N237,2) -> 49878363 | AJ237: =POWER($G237-O237,2) -> 47187388 | AK237: =POWER($G237-P237,2) -> 2421614.8 | ... AW237: =POWER($G237-AB237,2) -> 3.9221974e+08 | AY237: =AVERAGE(D225:D237) -> 8425.3077 | AZ237: =AVERAGE(E225:E237) -> 3184.4615 | BA237: =AZ238 -> 2756.5385 | BB237: =BA238 -> 2301.4615 | BC237: =BB238 -> 6452.6923 | BD237: =BC238 -> 6420.9231 | BE237: =BD238 -> 7014.3077 | BF237: =BE238 -> 7224 | BG237: =BF238 -> 7459.5385 | BH237: =BG238 -> 7632.6923 | ... BZ237: =BY238 -> 8206.6923 | CF237: =POWER($AY237-BA237,2) -> 32134945 | CG237: =POWER($AY237-BB237,2) -> 37501492 | CH237: =POWER($AY237-BC237,2) -> 3891211.5 | CI237: =POWER($AY237-BD237,2) -> 4017557.7 | CJ237: =POWER($AY237-BE237,2) -> 1990921 | CK237: =POWER($AY237-BF237,2) -> 1443140.2 | CL237: =POWER($AY237-BG237,2) -> 932710.21 | CM237: =POWER($AY237-BH237,2) -> 628239.15 | ... DF237: =POWER($AY237-CA237,2) -> 70985810
A238: 41091 | B238: 78424 | C238: 18480 | D238: 33642 | E238: 466 | G238: =AVERAGE(B226:B238) -> 46061.154 | H238: =AVERAGE(C226:C238) -> 29555.308 | I238: =H239 -> 28298.692 | J238: =I239 -> 33341.846 | K238: =J239 -> 32509.692 | L238: =K239 -> 36886.462 | M238: =L239 -> 36986.615 | N238: =M239 -> 37179.769 | O238: =N239 -> 45605.231 | P238: =O239 -> 51388.538 | ... AB238: =AA239 -> 56131.769 | AD238: =POWER($G238-I238,2) -> 3.1550504e+08 | AE238: =POWER($G238-J238,2) -> 1.6178079e+08 | AF238: =POWER($G238-K238,2) -> 1.8364211e+08 | AG238: =POWER($G238-L238,2) -> 84174979 | AH238: =POWER($G238-M238,2) -> 82347248 | AI238: =POWER($G238-N238,2) -> 78878993 | AJ238: =POWER($G238-O238,2) -> 207865.85 | AK238: =POWER($G238-P238,2) -> 28381027 | ... AW238: =POWER($G238-AB238,2) -> 1.0141729e+08 | AY238: =AVERAGE(D226:D238) -> 10892.692 | AZ238: =AVERAGE(E226:E238) -> 2756.5385 | BA238: =AZ239 -> 2301.4615 | BB238: =BA239 -> 6452.6923 | BC238: =BB239 -> 6420.9231 | BD238: =BC239 -> 7014.3077 | BE238: =BD239 -> 7224 | BF238: =BE239 -> 7459.5385 | BG238: =BF239 -> 7632.6923 | BH238: =BG239 -> 10338.077 | ... BY238: =BX239 -> 8206.6923 | CF238: =POWER($AY238-BA238,2) -> 73809246 | CG238: =POWER($AY238-BB238,2) -> 19713600 | CH238: =POWER($AY238-BC238,2) -> 19996720 | CI238: =POWER($AY238-BD238,2) -> 15041867 | CJ238: =POWER($AY238-BE238,2) -> 13459303 | CK238: =POWER($AY238-BF238,2) -> 11786545 | CL238: =POWER($AY238-BG238,2) -> 10627600 | CM238: =POWER($AY238-BH238,2) -> 307598.22 | ... DE238: =POWER($AY238-BZ238,2) -> 1.1865075e+08
A239: 41122 | B239: 75151 | C239: 33856 | D239: 3532 | E239: 0 | G239: =AVERAGE(B227:B239) -> 49935.154 | H239: =AVERAGE(C227:C239) -> 28298.692 | I239: =H240 -> 33341.846 | J239: =I240 -> 32509.692 | K239: =J240 -> 36886.462 | L239: =K240 -> 36986.615 | M239: =L240 -> 37179.769 | N239: =M240 -> 45605.231 | O239: =N240 -> 51388.538 | P239: =O240 -> 55127.769 | ... AB239: =AA240 -> 50816.538 | AD239: =POWER($G239-I239,2) -> 2.7533786e+08 | AE239: =POWER($G239-J239,2) -> 3.0364671e+08 | AF239: =POWER($G239-K239,2) -> 1.7026837e+08 | AG239: =POWER($G239-L239,2) -> 1.6766465e+08 | AH239: =POWER($G239-M239,2) -> 1.6269984e+08 | AI239: =POWER($G239-N239,2) -> 18748234 | AJ239: =POWER($G239-O239,2) -> 2112326.8 | AK239: =POWER($G239-P239,2) -> 26963255 | ... AW239: =POWER($G239-AB239,2) -> 776838.84 | AY239: =AVERAGE(D227:D239) -> 11164.385 | AZ239: =AVERAGE(E227:E239) -> 2301.4615 | BA239: =AZ240 -> 6452.6923 | BB239: =BA240 -> 6420.9231 | BC239: =BB240 -> 7014.3077 | BD239: =BC240 -> 7224 | BE239: =BD240 -> 7459.5385 | BF239: =BE240 -> 7632.6923 | BG239: =BF240 -> 10338.077 | BH239: =BG240 -> 10114.308 | ... BX239: =BW240 -> 8206.6923 | CF239: =POWER($AY239-BA239,2) -> 22200044 | CG239: =POWER($AY239-BB239,2) -> 22500427 | CH239: =POWER($AY239-BC239,2) -> 17223138 | CI239: =POWER($AY239-BD239,2) -> 15526631 | CJ239: =POWER($AY239-BE239,2) -> 13725885 | CK239: =POWER($AY239-BF239,2) -> 12472851 | CL239: =POWER($AY239-BG239,2) -> 682784.4 | CM239: =POWER($AY239-BH239,2) -> 1102661.5 | ... DD239: =POWER($AY239-BY239,2) -> 1.2464348e+08
A240: 41153 | B240: 103851 | C240: 95441 | D240: 0 | E240: 62598 | G240: =AVERAGE(B228:B240) -> 53418.615 | H240: =AVERAGE(C228:C240) -> 33341.846 | I240: =H241 -> 32509.692 | J240: =I241 -> 36886.462 | K240: =J241 -> 36986.615 | L240: =K241 -> 37179.769 | M240: =L241 -> 45605.231 | N240: =M241 -> 51388.538 | O240: =N241 -> 55127.769 | P240: =O241 -> 54675.077 | ... AB240: =AA241 -> 46202.231 | AD240: =POWER($G240-I240,2) -> 4.3718306e+08 | AE240: =POWER($G240-J240,2) -> 2.7331211e+08 | AF240: =POWER($G240-K240,2) -> 270010624 | AG240: =POWER($G240-L240,2) -> 2.6370012e+08 | AH240: =POWER($G240-M240,2) -> 61048979 | AI240: =POWER($G240-N240,2) -> 4121212.3 | AJ240: =POWER($G240-O240,2) -> 2921206.9 | AK240: =POWER($G240-P240,2) -> 1578695.6 | ... AW240: =POWER($G240-AB240,2) -> 52076207 | AY240: =AVERAGE(D228:D240) -> 10570 | AZ240: =AVERAGE(E228:E240) -> 6452.6923 | BA240: =AZ241 -> 6420.9231 | BB240: =BA241 -> 7014.3077 | BC240: =BB241 -> 7224 | BD240: =BC241 -> 7459.5385 | BE240: =BD241 -> 7632.6923 | BF240: =BE241 -> 10338.077 | BG240: =BF241 -> 10114.308 | BH240: =BG241 -> 9976.7692 | ... BW240: =BV241 -> 8206.6923 | CF240: =POWER($AY240-BA240,2) -> 17214839 | CG240: =POWER($AY240-BB240,2) -> 12642948 | CH240: =POWER($AY240-BC240,2) -> 11195716 | CI240: =POWER($AY240-BD240,2) -> 9674971 | CJ240: =POWER($AY240-BE240,2) -> 8627776.5 | CK240: =POWER($AY240-BF240,2) -> 53788.314 | CL240: =POWER($AY240-BG240,2) -> 207655.48 | CM240: =POWER($AY240-BH240,2) -> 351922.75 | ... DC240: =POWER($AY240-BX240,2) -> 111724900
A241: 41183 | B241: 75267 | C241: 17925 | D241: 234 | E241: 255 | G241: =AVERAGE(B229:B241) -> 56961.462 | H241: =AVERAGE(C229:C241) -> 32509.692 | I241: =H242 -> 36886.462 | J241: =I242 -> 36986.615 | K241: =J242 -> 37179.769 | L241: =K242 -> 45605.231 | M241: =L242 -> 51388.538 | N241: =M242 -> 55127.769 | O241: =N242 -> 54675.077 | P241: =O242 -> 57427.308 | ... AB241: =AA242 -> 44259.154 | AD241: =POWER($G241-I241,2) -> 403005625 | AE241: =POWER($G241-J241,2) -> 3.9899448e+08 | AF241: =POWER($G241-K241,2) -> 3.9131535e+08 | AG241: =POWER($G241-L241,2) -> 1.2896398e+08 | AH241: =POWER($G241-M241,2) -> 31057472 | AI241: =POWER($G241-N241,2) -> 3362427.5 | AJ241: =POWER($G241-O241,2) -> 5227554.6 | AK241: =POWER($G241-P241,2) -> 217012.64 | ... AW241: =POWER($G241-AB241,2) -> 1.6134862e+08 | AY241: =AVERAGE(D229:D241) -> 10067.385 | AZ241: =AVERAGE(E229:E241) -> 6420.9231 | BA241: =AZ242 -> 7014.3077 | BB241: =BA242 -> 7224 | BC241: =BB242 -> 7459.5385 | BD241: =BC242 -> 7632.6923 | BE241: =BD242 -> 10338.077 | BF241: =BE242 -> 10114.308 | BG241: =BF242 -> 9976.7692 | BH241: =BG242 -> 9967 | ... BV241: =BU242 -> 8206.6923 | CF241: =POWER($AY241-BA241,2) -> 9321278.7 | CG241: =POWER($AY241-BB241,2) -> 8084836.1 | CH241: =POWER($AY241-BC241,2) -> 6800861.6 | CI241: =POWER($AY241-BD241,2) -> 5927726.6 | CJ241: =POWER($AY241-BE241,2) -> 73274.325 | CK241: =POWER($AY241-BF241,2) -> 2201.7751 | CL241: =POWER($AY241-BG241,2) -> 8211.1479 | CM241: =POWER($AY241-BH241,2) -> 10077.071 | ... DB241: =POWER($AY241-BW241,2) -> 1.0135223e+08
A242: 41214 | B242: 99351 | C242: 82984 | D242: 0 | E242: 8115 | G242: =AVERAGE(B230:B242) -> 60507.615 | H242: =AVERAGE(C230:C242) -> 36886.462 | I242: =H243 -> 36986.615 | J242: =I243 -> 37179.769 | K242: =J243 -> 45605.231 | L242: =K243 -> 51388.538 | M242: =L243 -> 55127.769 | N242: =M243 -> 54675.077 | O242: =N243 -> 57427.308 | P242: =O243 -> 58288.846 | ... AB242: =AA243 -> 46599.077 | AD242: =POWER($G242-I242,2) -> 553237441 | AE242: =POWER($G242-J242,2) -> 5.4418841e+08 | AF242: =POWER($G242-K242,2) -> 2.2208107e+08 | AG242: =POWER($G242-L242,2) -> 83157564 | AH242: =POWER($G242-M242,2) -> 28942745 | AI242: =POWER($G242-N242,2) -> 34018505 | AJ242: =POWER($G242-O242,2) -> 9488295.5 | AK242: =POWER($G242-P242,2) -> 4922936.9 | ... AW242: =POWER($G242-AB242,2) -> 1.9344744e+08 | AY242: =AVERAGE(D230:D242) -> 7945.0769 | AZ242: =AVERAGE(E230:E242) -> 7014.3077 | BA242: =AZ243 -> 7224 | BB242: =BA243 -> 7459.5385 | BC242: =BB243 -> 7632.6923 | BD242: =BC243 -> 10338.077 | BE242: =BD243 -> 10114.308 | BF242: =BE243 -> 9976.7692 | BG242: =BF243 -> 9967 | BH242: =BG243 -> 9741.5385 | ... BU242: =BT243 -> 8206.6923 | CF242: =POWER($AY242-BA242,2) -> 519951.93 | CG242: =POWER($AY242-BB242,2) -> 235747.6 | CH242: =POWER($AY242-BC242,2) -> 97584.148 | CI242: =POWER($AY242-BD242,2) -> 5726449 | CJ242: =POWER($AY242-BE242,2) -> 4705562.1 | CK242: =POWER($AY242-BF242,2) -> 4127773.6 | CL242: =POWER($AY242-BG242,2) -> 4088172.9 | CM242: =POWER($AY242-BH242,2) -> 3227274.1 | ... DA242: =POWER($AY242-BV242,2) -> 63124247
