Workbook

Sheet Stats
A1: Individual Tax Payers: Taxable income and Tax assessed by Province 2005-2013
A2: PROVINCE | B2: 2005 | E2: 2006 | H2: 2007 | K2: 2008 | N2: 2009 | Q2: 2010 | T2: 2011 | W2: 2012 | AA2: 2013
B3: Number of taxpayers | C3: Taxable income ( R million) | D3: Tax assessed ( R million) | E3: Number of taxpayers | F3: Taxable income ( R million) | G3: Tax assessed ( R million) | H3: Number of taxpayers | I3: Taxable income ( R million) | J3: Tax assessed ( R million) | K3: Number of taxpayers | L3: Taxable income ( R million) | M3: Tax assessed ( R million) | N3: Number of taxpayers | O3: Taxable income ( R million) | P3: Tax assessed ( R million) | Q3: Number of taxpayers | R3: Taxable income ( R million) | S3: Tax assessed ( R million) | T3: Number of taxpayers | U3: Taxable income ( R million) | V3: Tax assessed ( R million) | W3: Number of taxpayers | X3: Taxable income ( R million) | Y3: Tax assessed ( R million) | Z3: Number of taxpayers | AA3: Taxable income ( R million) | AB3: Tax assessed ( R million)
A4: Eastern Cape | B4: 327734 | C4: 30855 | D4: 5593 | E4: 341834 | F4: 34423 | G4: 6198 | H4: 333229 | I4: 37710.052 | J4: 6548.9304 | K4: 327619 | L4: 42812.082 | M4: 7577.6599 | N4: 369116 | O4: 51676.298 | P4: 9067.0822 | Q4: 405676 | R4: 57847.029 | S4: 9622.5204 | T4: 424872 | U4: 64552.811 | V4: 10768.255 | W4: 422148 | X4: 69357.876 | Y4: 11636.093 | Z4: 392042 | AA4: 75969.041 | AB4: 11895.755
A5: Free State | B5: 184574 | C5: 15299 | D5: 3092 | E5: 189885 | F5: 17105 | G5: 3377 | H5: 187494 | I5: 18917.382 | J5: 3627.1704 | K5: 182484 | L5: 21536.41 | M5: 4237.4996 | N5: 208742 | O5: 27131.819 | P5: 5261.5199 | Q5: 231236 | R5: 30165.314 | S5: 5451.3573 | T5: 242054 | U5: 34056.733 | V5: 6236.3183 | W5: 249265 | X5: 37875.642 | Y5: 6908.6642 | Z5: 236205 | AA5: 42691.7 | AB5: 7204.597
A6: Gauteng | B6: 1470375 | C6: 204031 | D6: 47791 | E6: 1548984 | F6: 238317 | G6: 56176 | H6: 1634777 | I6: 287397 | J6: 66247 | K6: 1673707 | L6: 339944.47 | M6: 79542.252 | N6: 1908930 | O6: 393110.14 | P6: 89662.653 | Q6: 2110813 | R6: 416182.05 | S6: 90096.609 | T6: 2209531 | U6: 463358.34 | V6: 100347.04 | W6: 2237649 | X6: 500083.65 | Y6: 108563.08 | Z6: 2091997 | AA6: 544721.96 | AB6: 114572.05
A7: KwaZulu Natal | B7: 598249 | C7: 63610 | D7: 12866 | E7: 635404 | F7: 74143 | G7: 14994 | H7: 614325 | I7: 81170.45 | J7: 15845.743 | K7: 629469 | L7: 94963.358 | M7: 18796.237 | N7: 722975 | O7: 113307.07 | P7: 21989.838 | Q7: 805658 | R7: 124677.72 | S7: 22805.371 | T7: 830250 | U7: 138468.55 | V7: 25398 | W7: 841401 | X7: 151642.03 | Y7: 27989.06 | Z7: 772934 | AA7: 165540.22 | AB7: 29178.571
A8: Limpopo | B8: 140504 | C8: 12966 | D8: 2412 | E8: 146715 | F8: 14912 | G8: 2760 | H8: 174650 | I8: 19445.239 | J8: 3326.4798 | K8: 167468 | L8: 22074.43 | M8: 3896.1031 | N8: 193776 | O8: 28227.42 | P8: 5037.9012 | Q8: 224073 | R8: 33718.794 | S8: 5681.8725 | T8: 242214 | U8: 39498.699 | V8: 6681.605 | W8: 254620 | X8: 44390.077 | Y8: 7499.2863 | Z8: 242699 | AA8: 49604.293 | AB8: 7746.7081
A9: Mpumalanga | B9: 209555 | C9: 22986 | D9: 4834 | E9: 218482 | F9: 26122 | G9: 5387 | H9: 190762 | I9: 26211.25 | J9: 5377.3625 | K9: 201340 | L9: 31421.538 | M9: 6528.4981 | N9: 242176 | O9: 40752.658 | P9: 8383.6865 | Q9: 281172 | R9: 45833.315 | S9: 8888.051 | T9: 315014 | U9: 53472.062 | V9: 10288.387 | W9: 326937 | X9: 60154.967 | Y9: 11584.132 | Z9: 309308 | AA9: 67307.361 | AB9: 12312.294
A10: North West | B10: 157753 | C10: 15329 | D10: 3078 | E10: 164253 | F10: 17652 | G10: 3495 | H10: 164999 | I10: 19683.935 | J10: 3795.4624 | K10: 169858 | L10: 23618.022 | M10: 4700.7681 | N10: 202080 | O10: 29546.105 | P10: 5726.2887 | Q10: 243794 | R10: 33534.897 | S10: 5930.0188 | T10: 269355 | U10: 39342.239 | V10: 6971.5658 | W10: 281788 | X10: 44261.751 | Y10: 7790.8995 | Z10: 257983 | AA10: 48367.525 | AB10: 7915.8801
A11: Northern Cape | B11: 5841 | C11: 4800 | D11: 990 | E11: 60922 | F11: 5642 | G11: 1149 | H11: 62114 | I11: 6221.5377 | J11: 1194.9532 | K11: 61404 | L11: 7370.1747 | M11: 1448.2652 | N11: 72295 | O11: 9470.9852 | P11: 1809.808 | Q11: 82565 | R11: 10663.216 | S11: 1868.781 | T11: 91511 | U11: 12680.142 | V11: 2255.6729 | W11: 97075 | X11: 15999.288 | Y11: 3147.7285 | Z11: 92941 | AA11: 16546.223 | AB11: 2690.8704
A12: Western Cape | B12: 659841 | C12: 71630 | D12: 15339 | E12: 699987 | F12: 83231 | G12: 17793 | H12: 706341 | I12: 93981.577 | J12: 19378.264 | K12: 709882 | L12: 108830 | M12: 22796.678 | N12: 792619 | O12: 125287.37 | P12: 25702.235 | Q12: 850848 | R12: 131809.33 | S12: 25719.521 | T12: 874128 | U12: 145282.13 | V12: 28405.164 | W12: 856409 | X12: 156253.5 | Y12: 30794.281 | Z12: 778463 | AA12: 170805.35 | AB12: 32744.429
A13: Total | B13: =SUM(B4:B12) -> 3754426 | C13: =SUM(C4:C12) -> 441506 | D13: =SUM(D4:D12) -> 95995 | E13: =SUM(E4:E12) -> 4006466 | F13: =SUM(F4:F12) -> 511547 | G13: =SUM(G4:G12) -> 111329 | H13: =SUM(H4:H12) -> 4068691 | I13: =SUM(I4:I12) -> 590738.42 | J13: =SUM(J4:J12) -> 125341.37 | K13: 4123231 | L13: 692570.49 | M13: 149523.96 | N13: 4712709 | O13: 818509.87 | P13: 172641.01 | Q13: 5235835 | R13: 884431.67 | S13: 176064.1 | T13: 5498929 | U13: 990711.71 | V13: 197352.01 | W13: 5567292 | X13: 1080018.8 | Y13: 215913.22 | Z13: 5174572 | AA13: 1181553.7 | AB13: 226261.15
A15: PERCENTAGE OF TOTAL | B15: 2005 | E15: 2006 | H15: 2007 | K15: 2008 | N15: 2009 | Q15: 2010 | T15: 2011 | W15: 2012 | AA15: 2013
B16: Number of taxpayers | C16: Taxable income ( R million) | D16: Tax assessed ( R million) | E16: Number of taxpayers | F16: Taxable income ( R million) | G16: Tax assessed ( R million) | H16: Number of taxpayers | I16: Taxable income ( R million) | J16: Tax assessed ( R million) | K16: Number of taxpayers | L16: Taxable income ( R million) | M16: Tax assessed ( R million) | N16: Number of taxpayers | O16: Taxable income ( R million) | P16: Tax assessed ( R million) | Q16: Number of taxpayers | R16: Taxable income ( R million) | S16: Tax assessed ( R million) | T16: Number of taxpayers | U16: Taxable income ( R million) | V16: Tax assessed ( R million) | W16: Number of taxpayers | X16: Taxable income ( R million) | Y16: Tax assessed ( R million) | Z16: Number of taxpayers | AA16: Taxable income ( R million) | AB16: Tax assessed ( R million)
A17: Eastern Cape | B17: =B4/B13 -> 0.087292705 | C17: =C4/C13 -> 0.0698858 | D17: =D4/D13 -> 0.058263451 | E17: =E4/E13 -> 0.085320579 | F17: =F4/F13 -> 0.067291959 | G17: =G4/G13 -> 0.055672826 | H17: =H4/H13 -> 0.081900788 | I17: =I4/I13 -> 0.063835449 | ... P17: =P4/P13 -> 0.052519862 | Q17: =Q4/$Q$13 -> 0.077480669 | R17: =R4/$R$13 -> 0.065405877 | S17: =S4/$S$13 -> 0.054653505 | T17: =T4/T$13 -> 0.0772645 | U17: =U4/U$13 -> 0.065158018 | V17: =V4/V$13 -> 0.054563698 | W17: =W4/W$13 -> 0.075826452 | X17: =X4/X$13 -> 0.064219139 | Y17: =Y4/Y$13 -> 0.053892452 | Z17: =Z4/Z$13 -> 0.075763174 | AA17: =AA4/AA$13 -> 0.064295887 | AB17: =AB4/AB$13 -> 0.05257533
A18: Free State | B18: =B5/B13 -> 0.049161709 | C18: =C5/C13 -> 0.034651851 | D18: =D5/D13 -> 0.032210011 | E18: =E5/E13 -> 0.047394637 | F18: =F5/F13 -> 0.033437788 | G18: =G5/G13 -> 0.030333516 | H18: =H5/H13 -> 0.046082143 | I18: =I5/I13 -> 0.032023281 | ... P18: =P5/P13 -> 0.030476651 | Q18: =Q5/$Q$13 -> 0.044164111 | R18: =R5/$R$13 -> 0.034107004 | S18: =S5/$S$13 -> 0.030962344 | T18: =T5/T$13 -> 0.04401839 | U18: =U5/U$13 -> 0.034376028 | V18: =V5/V$13 -> 0.031599974 | W18: =W5/W$13 -> 0.044773114 | X18: =X5/X$13 -> 0.035069429 | Y18: =Y5/Y$13 -> 0.031997411 | Z18: =Z5/Z$13 -> 0.045647254 | AA18: =AA5/AA$13 -> 0.036131833 | AB18: =AB5/AB$13 -> 0.031841953
A19: Gauteng | B19: =B6/B13 -> 0.39163776 | C19: =C6/C13 -> 0.46212509 | D19: =D6/D13 -> 0.49784885 | E19: =E6/E13 -> 0.38662103 | F19: =F6/F13 -> 0.46587508 | G19: =G6/G13 -> 0.50459449 | H19: =H6/H13 -> 0.40179434 | I19: =I6/I13 -> 0.48650467 | ... P19: =P6/P13 -> 0.51935894 | Q19: =Q6/$Q$13 -> 0.40314735 | R19: =R6/$R$13 -> 0.47056439 | S19: =S6/$S$13 -> 0.51172617 | T19: =T6/T$13 -> 0.40181115 | U19: =U6/U$13 -> 0.4677025 | V19: =V6/V$13 -> 0.50846728 | W19: =W6/W$13 -> 0.40192772 | X19: =X6/X$13 -> 0.46303237 | Y19: =Y6/Y$13 -> 0.50280885 | Z19: =Z6/Z$13 -> 0.40428406 | AA19: =AA6/AA$13 -> 0.46102177 | AB19: =AB6/AB$13 -> 0.50637083
A20: KwaZulu Natal | B20: =B7/B13 -> 0.159345 | C20: =C7/C13 -> 0.14407505 | D20: =D7/D13 -> 0.13402781 | E20: =E7/E13 -> 0.15859463 | F20: =F7/F13 -> 0.14493878 | G20: =G7/G13 -> 0.13468189 | H20: =H7/H13 -> 0.15098836 | I20: =I7/I13 -> 0.13740506 | ... P20: =P7/P13 -> 0.1273732 | Q20: =Q7/$Q$13 -> 0.15387383 | R20: =R7/$R$13 -> 0.14096931 | S20: =S7/$S$13 -> 0.1295288 | T20: =T7/T$13 -> 0.15098395 | U20: =U7/U$13 -> 0.13976675 | V20: =V7/V$13 -> 0.1286939 | W20: =W7/W$13 -> 0.1511329 | X20: =X7/X$13 -> 0.14040685 | Y20: =Y7/Y$13 -> 0.12963106 | Z20: =Z7/Z$13 -> 0.14937158 | AA20: =AA7/AA$13 -> 0.14010385 | AB20: =AB7/AB$13 -> 0.1289597
A21: Limpopo | B21: =B8/B13 -> 0.037423564 | C21: =C8/C13 -> 0.029367664 | D21: =D8/D13 -> 0.025126309 | E21: =E8/E13 -> 0.036619554 | F21: =F8/F13 -> 0.029150792 | G21: =G8/G13 -> 0.024791384 | H21: =H8/H13 -> 0.042925354 | I21: =I8/I13 -> 0.032916834 | ... P21: =P8/P13 -> 0.02918137 | Q21: =Q8/$Q$13 -> 0.042796039 | R21: =R8/$R$13 -> 0.038124815 | S21: =S8/$S$13 -> 0.032271612 | T21: =T8/T$13 -> 0.044047486 | U21: =U8/U$13 -> 0.039869014 | V21: =V8/V$13 -> 0.033856281 | W21: =W8/W$13 -> 0.045734982 | X21: =X8/X$13 -> 0.041101208 | Y21: =Y8/Y$13 -> 0.034732872 | Z21: =Z8/Z$13 -> 0.046902237 | AA21: =AA8/AA$13 -> 0.041982259 | AB21: =AB8/AB$13 -> 0.034237906
A22: Mpumalanga | B22: =B9/B13 -> 0.055815456 | C22: =C9/C13 -> 0.052062713 | D22: =D9/D13 -> 0.050356789 | E22: =E9/E13 -> 0.054532348 | F22: =F9/F13 -> 0.051064712 | G22: =G9/G13 -> 0.048388111 | H22: =H9/H13 -> 0.04688535 | I22: =I9/I13 -> 0.044370314 | ... P22: =P9/P13 -> 0.048561384 | Q22: =Q9/$Q$13 -> 0.053701463 | R22: =R9/$R$13 -> 0.051822336 | S22: =S9/$S$13 -> 0.050481903 | T22: =T9/T$13 -> 0.057286428 | U22: =U9/U$13 -> 0.053973383 | V22: =V9/V$13 -> 0.052132163 | W22: =W9/W$13 -> 0.058724601 | X22: =X9/X$13 -> 0.055698075 | Y22: =Y9/Y$13 -> 0.053651797 | Z22: =Z9/Z$13 -> 0.059774606 | AA22: =AA9/AA$13 -> 0.056965132 | AB22: =AB9/AB$13 -> 0.054416297
A23: North West | B23: =B10/B13 -> 0.042017874 | C23: =C10/C13 -> 0.0347198 | D23: =D10/D13 -> 0.03206417 | E23: =E10/E13 -> 0.040996978 | F23: =F10/F13 -> 0.034507093 | G23: =G10/G13 -> 0.031393437 | H23: =H10/H13 -> 0.040553338 | I23: =I10/I13 -> 0.033320898 | ... P23: =P10/P13 -> 0.033168762 | Q23: =Q10/$Q$13 -> 0.046562583 | R23: =R10/$R$13 -> 0.037916889 | S23: =S10/$S$13 -> 0.033681021 | T23: =T10/T$13 -> 0.048983175 | U23: =U10/U$13 -> 0.039711087 | V23: =V10/V$13 -> 0.035325538 | W23: =W10/W$13 -> 0.050614913 | X23: =X10/X$13 -> 0.04098239 | Y23: =Y10/Y$13 -> 0.036083475 | Z23: =Z10/Z$13 -> 0.049855911 | AA23: =AA10/AA$13 -> 0.040935529 | AB23: =AB10/AB$13 -> 0.034985591
A24: Northern Cape | B24: =B11/B13 -> 0.0015557638 | C24: =C11/C13 -> 0.010871879 | D24: =D11/D13 -> 0.010313037 | E24: =E11/E13 -> 0.01520592 | F24: =F11/F13 -> 0.01102929 | G24: =G11/G13 -> 0.010320761 | H24: =H11/H13 -> 0.015266335 | I24: =I11/I13 -> 0.010531798 | ... P24: =P11/P13 -> 0.010483071 | Q24: =Q11/$Q$13 -> 0.015769214 | R24: =R11/$R$13 -> 0.012056574 | S24: =S11/$S$13 -> 0.010614208 | T24: =T11/T$13 -> 0.016641604 | U24: =U11/U$13 -> 0.012799023 | V24: =V11/V$13 -> 0.011429693 | W24: =W11/W$13 -> 0.017436664 | X24: =X11/X$13 -> 0.014813898 | Y24: =Y11/Y$13 -> 0.014578674 | Z24: =Z11/Z$13 -> 0.017961099 | AA24: =AA11/AA$13 -> 0.014003784 | AB24: =AB11/AB$13 -> 0.011892764
A25: Western Cape | B25: =B12/B13 -> 0.17575017 | C25: =C12/C13 -> 0.16224015 | D25: =D12/D13 -> 0.15978957 | E25: =E12/E13 -> 0.17471432 | F25: =F12/F13 -> 0.1627045 | G25: =G12/G13 -> 0.15982359 | H25: =H12/H13 -> 0.17360399 | I25: =I12/I13 -> 0.1590917 | ... P25: =P12/P13 -> 0.14887676 | Q25: =Q12/$Q$13 -> 0.16250474 | R25: =R12/$R$13 -> 0.1490328 | S25: =S12/$S$13 -> 0.14608044 | T25: =T12/T$13 -> 0.15896332 | U25: =U12/U$13 -> 0.1466442 | V25: =V12/V$13 -> 0.14393147 | W25: =W12/W$13 -> 0.15382865 | X25: =X12/X$13 -> 0.14467665 | Y25: =Y12/Y$13 -> 0.14262341 | Z25: =Z12/Z$13 -> 0.15044008 | AA25: =AA12/AA$13 -> 0.14455996 | AB25: =AB12/AB$13 -> 0.14471963
A26: Total | B26: =SUM(B17:B25) -> 1 | C26: =SUM(C17:C25) -> 1 | D26: =SUM(D17:D25) -> 1 | E26: =SUM(E17:E25) -> 1 | F26: =SUM(F17:F25) -> 1 | G26: =SUM(G17:G25) -> 1 | H26: =SUM(H17:H25) -> 1 | I26: =SUM(I17:I25) -> 1 | ... P26: =SUM(P17:P25) -> 1 | Q26: =Q13/$Q$13 -> 1 | R26: =R13/$R$13 -> 1 | S26: =S13/$S$13 -> 1 | T26: =T13/T$13 -> 1 | U26: =U13/U$13 -> 1 | V26: =V13/V$13 -> 1 | W26: =W13/W$13 -> 1 | X26: =X13/X$13 -> 1 | Y26: =Y13/Y$13 -> 1 | Z26: =Z13/Z$13 -> 1 | AA26: =AA13/AA$13 -> 1 | AB26: =AB13/AB$13 -> 1
B28: =C3 -> Taxable income ( R million) | C28: Nominal Increase | D28: Inflation | E28: Real Increase
A29: 2005 | B29: =C7 -> 63610
A30: =A29+1 -> 2006 | B30: =F7 -> 74143 | C30: =(B30-B29)/B29*100 -> 16.558717 | D30: 4.7 | E30: =C30-D30 -> 11.858717
A31: =A30+1 -> 2007 | B31: =I7 -> 81170.45 | C31: =(B31-B30)/B30*100 -> 9.4782381 | D31: 7.1 | E31: =C31-D31 -> 2.3782381
A32: =A31+1 -> 2008 | B32: =L7 -> 94963.358 | C32: =(B32-B31)/B31*100 -> 16.992524 | D32: 10.56 | E32: =C32-D32 -> 6.4325242
A33: =A32+1 -> 2009 | B33: =O7 -> 113307.07 | C33: =(B33-B32)/B32*100 -> 19.316621 | D33: 7.1 | E33: =C33-D33 -> 12.216621
A34: =A33+1 -> 2010 | B34: =R7 -> 124677.72 | C34: =(B34-B33)/B33*100 -> 10.035255 | D34: 4.1 | E34: =C34-D34 -> 5.9352554
A35: =A34+1 -> 2011 | B35: =U7 -> 138468.55 | C35: =(B35-B34)/B34*100 -> 11.06118 | D35: 6.1 | E35: =C35-D35 -> 4.9611803
A36: =A35+1 -> 2012 | B36: =X7 -> 151642.03 | C36: =(B36-B35)/B35*100 -> 9.5136985 | D36: 5.7 | E36: =C36-D36 -> 3.8136985
A37: 2013 | B37: =AA7 -> 165540.22 | C37: =(B37-B36)/B36*100 -> 9.1651286 | D37: 5.4 | E37: =C37-D37 -> 3.7651286
A38: Average | C38: =AVERAGE(C30:C37) -> 12.76517 | D38: =AVERAGE(D30:D37) -> 6.345 | E38: =AVERAGE(E30:E37) -> 6.4201703

Sheet Graphs
A1: KZN PERSONAL TAX STATISTICS
B3: Number of taxpayers | C3: Taxable income ( R million) | D3: Tax Burden
A4: 2005 | B4: =Stats!B7 -> 598249 | C4: =Stats!C7 -> 63610 | D4: =Stats!D7 -> 12866 | E4: =D4*1000000/B4 -> 21506.095
A5: =A4+1 -> 2006 | B5: =Stats!E7 -> 635404 | C5: =Stats!F7 -> 74143 | D5: =Stats!G7 -> 14994 | E5: =D5*1000000/B5 -> 23597.585
A6: =A5+1 -> 2007 | B6: =Stats!H7 -> 614325 | C6: =Stats!I7 -> 81170.45 | D6: =Stats!J7 -> 15845.743 | E6: =D6*1000000/B6 -> 25793.746
A7: =A6+1 -> 2008 | B7: =Stats!K7 -> 629469 | C7: =Stats!L7 -> 94963.358 | D7: =Stats!M7 -> 18796.237 | E7: =D7*1000000/B7 -> 29860.465
A8: 2009 | B8: =Stats!N7 -> 722975 | C8: =Stats!O7 -> 113307.07 | D8: =Stats!P7 -> 21989.838 | E8: =D8*1000000/B8 -> 30415.765
A9: 2010 | B9: =Stats!Q7 -> 805658 | C9: =Stats!R7 -> 124677.72 | D9: =Stats!S7 -> 22805.371 | E9: =D9*1000000/B9 -> 28306.516
A10: 2011 | B10: =Stats!T7 -> 830250 | C10: =Stats!U7 -> 138468.55 | D10: =Stats!V7 -> 25398 | E10: =D10*1000000/B10 -> 30590.786
A11: 2012 | B11: =Stats!W7 -> 841401 | C11: =Stats!X7 -> 151642.03 | D11: =Stats!Y7 -> 27989.06 | E11: =D11*1000000/B11 -> 33264.828
A12: 2013 | B12: =Stats!Z7 -> 772934 | C12: =Stats!AA7 -> 165540.22 | D12: =Stats!AB7 -> 29178.571 | E12: =D12*1000000/B12 -> 37750.404
P23: KZN Tax Burden as a % of SA Tax Burden
K24: 2005 | L24: =Stats!B13 -> 3754426 | M24: =Stats!C13 -> 441506 | N24: =Stats!D13 -> 95995 | O24: =E4 -> 21506.095 | P24: =N24*1000000/L24 -> 25568.489 | Q24: =O24/P24*100 -> 84.111718
K25: 2006 | L25: =Stats!E13 -> 4006466 | M25: =Stats!F13 -> 511547 | N25: =Stats!G13 -> 111329 | O25: =E5 -> 23597.585 | P25: =N25*1000000/L25 -> 27787.332 | Q25: =O25/P25*100 -> 84.922098
K26: 2007 | L26: =Stats!H13 -> 4068691 | M26: =Stats!I13 -> 590738.42 | N26: =Stats!J13 -> 125341.37 | O26: =E6 -> 25793.746 | P26: =N26*1000000/L26 -> 30806.312 | Q26: =O26/P26*100 -> 83.72877
K27: 2008 | L27: =Stats!K13 -> 4123231 | M27: =Stats!L13 -> 692570.49 | N27: =Stats!M13 -> 149523.96 | O27: =E7 -> 29860.465 | P27: =N27*1000000/L27 -> 36263.785 | Q27: =O27/P27*100 -> 82.342385
K28: 2009 | L28: =Stats!N13 -> 4712709 | M28: =Stats!O13 -> 818509.87 | N28: =Stats!P13 -> 172641.01 | O28: =E8 -> 30415.765 | P28: =N28*1000000/L28 -> 36633.073 | Q28: =O28/P28*100 -> 83.028157
K29: 2010 | L29: =Stats!Q13 -> 5235835 | M29: =Stats!R13 -> 884431.67 | N29: =Stats!S13 -> 176064.1 | O29: =E9 -> 28306.516 | P29: =N29*1000000/L29 -> 33626.748 | Q29: =O29/P29*100 -> 84.178572
K30: 2011 | L30: =Stats!T13 -> 5498929 | M30: =Stats!U13 -> 990711.71 | N30: =Stats!V13 -> 197352.01 | O30: =E10 -> 30590.786 | P30: =N30*1000000/L30 -> 35889.172 | Q30: =O30/P30*100 -> 85.236814
K31: 2012 | L31: =Stats!W13 -> 5567292 | M31: =Stats!X13 -> 1080018.8 | N31: =Stats!Y13 -> 215913.22 | O31: =E11 -> 33264.828 | P31: =N31*1000000/L31 -> 38782.45 | Q31: =O31/P31*100 -> 85.77289
K32: 2013 | L32: =Stats!Z13 -> 5174572 | M32: =Stats!AA13 -> 1181553.7 | N32: =Stats!AB13 -> 226261.15 | O32: =E12 -> 37750.404 | P32: =N32*1000000/L32 -> 43725.578 | Q32: =O32/P32*100 -> 86.334832
K34: 2005 | L34: =B4/L24*100 -> 15.9345 | M34: =C4/M24*100 -> 14.407505
K35: 2006 | L35: =B5/L25*100 -> 15.859463 | M35: =C5/M25*100 -> 14.493878
K36: 2007 | L36: =B6/L26*100 -> 15.098836 | M36: =C6/M26*100 -> 13.740506
K37: 2008 | L37: =B7/L27*100 -> 15.266402 | M37: =C7/M27*100 -> 13.711725
K38: 2009 | L38: =B8/L28*100 -> 15.340964 | M38: =C8/M28*100 -> 13.843091
K39: 2010 | L39: =B9/L29*100 -> 15.387383 | M39: =C9/M29*100 -> 14.096931
K40: 2011 | L40: =B10/L30*100 -> 15.098395 | M40: =C10/M30*100 -> 13.976675
K41: 2012 | L41: =B11/L31*100 -> 15.11329 | M41: =C11/M31*100 -> 14.040685
K42: 2013 | L42: =B12/L32*100 -> 14.937158 | M42: =C12/M32*100 -> 14.010385

Sheet PieCharts
A1: KZN PERSONAL TAX STATISTICS
