Workbook

Sheet Introduction
B1: Annual GDP and GDPR
B3: Quarterly GDP and GDPR | F3: SUMMARY PAGE
B5: Seasonally adjusted and annualised quarterly GDP and GDPR | F5: SUMMARY PAGE
B7: Year-on-Year Growth Rates per Sector | F7: Sector Ratings
B9: Seasonally adjusted and annualised quarterly Rates per Sector
B11: Yearly Provincial Contribution Rates per Sector
B13: Yearly Provincial Sector as a % of National Sector GDP
B15: Ethekwini Municipal Area GDP
B17: Msunduzi Municipal Area GDP
B19: Mthlatuze Municipal Area GDP
B21: Hibiscus Coast Municipal GDP
B23: Newcastle Municipal GDP | D23: Model Assumptions
B25: Comparitive Growth Rates | D25: Stable structural relationship between SA and KZN economy
B27: Comparitive Contribution Rates | D27: Stable relationship between GDP and Fuel Consumption
B29: KZN GDP and Provincial Government Budget | D29: Fuel Consumption per R1 GDP are location insensitive
B31: KZN Socio Economic Analysis
B32: KZN Economic Analysis

Sheet Summary
A1: SUMMARY PAGE
A3: Annual GDP and GDPR
A35: Quarterly GDP and GDPR
A103: Seasonally adjusted and annualised quarterly GDP and GDPR
A163: Ethekwini Municipal Area
A196: Msunduzi Municipal Area
A230: Mthlatuze Municipal Area
A266: Hibiscus Coast Municipal Area
A302: Newcastle Municipal Area

Sheet Sector Summary
A1: SUMMARY PAGE
A3: PLEASE TAKE NOTE
A4: BLACK = NON-SEASONAL ANNUAL RATE
A5: RED = SEASONAL ANNUAL RATE

Sheet Annual
A1: Annual GDP and GDPR
A3: SA – GDP by activity
A4: Constant 2010 prices - Rand million
A5: National Industry | B5: 1995 | C5: 1996 | D5: 1997 | E5: 1998 | F5: 1999 | G5: 2000 | H5: 2001 | I5: 2002 | J5: 2003 | K5: 2004 | L5: 2005 | M5: 2006 | N5: 2007 | O5: 2008 | P5: 2009 | Q5: 2010 | R5: 2011 | S5: 2012 | T5: 2013 | U5: 2014
A6: Primary Industries | B6: =SUM(B7:B8) -> 275336.39 | C6: =SUM(C7:C8) -> 283235.14 | D6: =SUM(D7:D8) -> 287646.08 | E6: =SUM(E7:E8) -> 284708.42 | F6: =SUM(F7:F8) -> 284390.32 | G6: =SUM(G7:G8) -> 284234.7 | H6: =SUM(H7:H8) -> 282233.28 | I6: =SUM(I7:I8) -> 287909.62 | ... U6: =SUM(U7:U8) -> 298919.34
A7: Agriculture, forestry and fishing | B7: 40731.596 | C7: 50507.179 | D7: 50961.743 | E7: 48260.771 | F7: 51252.939 | G7: 53661.827 | H7: 51890.986 | I7: 55263.901 | J7: 55640.286 | K7: 56118.481 | L7: 57695.29 | M7: 54543.523 | N7: 56168.463 | O7: 67071.609 | P7: 65802.425 | Q7: 65604.793 | R7: 66463.568 | S7: 66860.645 | T7: 67880.345 | U7: 71659.16
A8: Mining and quarrying | B8: 234604.8 | C8: 232727.96 | D8: 236684.33 | E8: 236447.65 | F8: 233137.38 | G8: 230572.87 | H8: 230342.3 | I8: 232645.72 | J8: 240547.25 | K8: 244179 | L8: 246684.77 | M8: 245224 | N8: 243662.48 | O8: 230662.83 | P8: 218830.36 | Q8: 230350.14 | R8: 228645.22 | S8: 221971.67 | T8: 230907.67 | U8: 227260.18
A9: Secondary Industries | B9: =SUM(B10:B12) -> 343514.26 | C9: =SUM(C10:C12) -> 353393.94 | D9: =SUM(D10:D12) -> 363929.18 | E9: =SUM(E10:E12) -> 357126.12 | F9: =SUM(F10:F12) -> 357859.67 | G9: =SUM(G10:G12) -> 383106.94 | H9: =SUM(H10:H12) -> 392190.17 | I9: =SUM(I10:I12) -> 404900.7 | ... U9: =SUM(U10:U12) -> 550212.14
A10: Manufacturing | B10: 251055.1 | C10: 254569.87 | D10: 261443.26 | E10: 260920.37 | F10: 262485.89 | G10: 283747.25 | H10: 292827.16 | I10: 301026.32 | J10: 296498.17 | K10: 311010.69 | L10: 330306.32 | M10: 351572.05 | N10: 370389.34 | O10: 378964.09 | P10: 338691.7 | Q10: 358699.34 | R10: 369260.89 | S10: 376126.43 | T10: 378933.21 | U10: 379089.03
A11: Electricity, gas and water | B11: 51240.215 | C11: 56774.158 | D11: 58988.35 | E11: 55272.084 | F11: 54995.724 | G11: 56700.591 | H11: 54602.669 | I11: 56513.763 | J11: 58181.239 | K11: 62128.855 | L11: 65450.325 | M11: 67688.431 | N11: 70000 | O11: 67522 | P11: 66337 | Q11: 67939.6 | R11: 68879 | S11: 68801 | T11: 68375 | U11: 67765.113
A12: Construction | B12: 41218.949 | C12: 42049.913 | D12: 43497.575 | E12: 40933.665 | F12: 40378.05 | G12: 42659.101 | H12: 44760.336 | I12: 47360.614 | J12: 51001.377 | K12: 55646.823 | L12: 62280.636 | M12: 68780.384 | N12: 79454.824 | O12: 87300.371 | P12: 94759.083 | Q12: 95452.7 | R12: 95809.405 | S12: 97803.607 | T12: 100468.19 | U12: 103358
A13: Tertiary industries | B13: =SUM(B14:B18) -> 960953.41 | C13: =SUM(C14:C18) -> 1000115.9 | D13: =SUM(D14:D18) -> 1024062.7 | E13: =SUM(E14:E18) -> 1043337.1 | F13: =SUM(F14:F18) -> 1082416.6 | G13: =SUM(G14:G18) -> 1124445.8 | H13: =SUM(H14:H18) -> 1162130.1 | I13: =SUM(I14:I18) -> 1207340 | ... U13: =SUM(U14:U18) -> 1880071.8
A14: Wholesale & retail trade; hotels & restaurants | B14: 212794.61 | C14: 220668.01 | D14: 221550.68 | E14: 224430.84 | F14: 241487.59 | G14: 261048.08 | H14: 266007.99 | I14: 272126.18 | J14: 279380.41 | K14: 294460.74 | L14: 315210.31 | M14: 333998.57 | N14: 352697.83 | O14: 358880.34 | P14: 354870.48 | Q14: 370580.73 | R14: 384768.36 | S14: 398584.62 | T14: 405982.71 | U14: 411082.86
A15: Transport , storage and communication | B15: 103921.26 | C15: 110260.46 | D15: 118640.26 | E15: 125165.47 | F15: 131674.08 | G15: 142603.02 | H15: 151016.6 | I15: 164608.1 | J15: 175057.16 | K15: 183612.69 | L15: 193333.73 | M15: 203224.44 | N15: 218488.43 | O15: 226135.87 | P15: 225711.74 | Q15: 229499 | R15: 236439.08 | S15: 242233.18 | T15: 247062.11 | U15: 252648
A16: Finance, real estate and business services | B16: 243687.77 | C16: 260222.88 | D16: 272469.2 | E16: 278741.59 | F16: 292986.84 | G16: 302304.49 | H16: 326995.31 | I16: 347518.67 | J16: 364196.89 | K16: 389889.27 | L16: 412148.51 | M16: 451896.31 | N16: 484674.59 | O16: 511716.48 | P16: 517114.31 | Q16: 523525.83 | R16: 544997.24 | S16: 561079.47 | T16: 578127.14 | U16: 591019
A17: Personal services | B17: 93458.786 | C17: 95943.108 | D17: 95911.718 | E17: 101869.01 | F17: 105810.46 | G17: 110908.44 | H17: 113401.96 | I17: 116195.9 | J17: 122654 | K17: 124796.44 | L17: 129534.87 | M17: 136298 | N17: 143807 | O17: 149216.21 | P17: 148015 | Q17: 148561.2 | R17: 152163 | S17: 155294.72 | T17: 158166.6 | U17: 160410.98
A18: General government services | B18: 307090.98 | C18: 313021.42 | D18: 315490.85 | E18: 313130.15 | F18: 310457.6 | G18: 307581.77 | H18: 304708.25 | I18: 306891.11 | J18: 315383.62 | K18: 321418.24 | L18: 335265.07 | M18: 345531 | N18: 361636 | O18: 381768 | P18: 393921 | Q18: 404647 | R18: 422695 | S18: 437734 | T18: 451214 | U18: 464911
A19: All industries at basic prices | B19: =B13+B9+B6 -> 1579804.1 | C19: =C13+C9+C6 -> 1636745 | D19: =D13+D9+D6 -> 1675638 | E19: =E13+E9+E6 -> 1685171.6 | F19: =F13+F9+F6 -> 1724666.5 | G19: =G13+G9+G6 -> 1791787.4 | H19: =H13+H9+H6 -> 1836553.6 | I19: =I13+I9+I6 -> 1900150.3 | ... U19: =U13+U9+U6 -> 2729203.3
A20: Taxes less subsidies on products | B20: 172092.4 | C20: 180501.72 | D20: 185774.79 | E20: 183658.74 | F20: 182665.91 | G20: 185548.64 | H20: 188216.11 | I20: 193319.04 | J20: 198504.6 | K20: 208477.91 | L20: 218873.49 | M20: 232539 | N20: 243862 | O20: 249363 | P20: 242887 | Q20: 253148 | R20: 266166 | S20: 272758 | T20: 276272 | U20: 279373
A21: SA - GDP at constant 2010 prices | B21: =B19+B20 -> 1751896.5 | C21: =C19+C20 -> 1817246.7 | D21: =D19+D20 -> 1861412.8 | E21: =E19+E20 -> 1868830.3 | F21: =F19+F20 -> 1907332.4 | G21: =G19+G20 -> 1977336.1 | H21: =H19+H20 -> 2024769.7 | I21: =I19+I20 -> 2093469.3 | ... U21: =U19+U20 -> 3008576.3
A23: KZN – GDPR by activity
A24: Constant 2010 prices - Rand million
A25: Provincial Industry | B25: 1995 | C25: 1996 | D25: 1997 | E25: 1998 | F25: 1999 | G25: 2000 | H25: 2001 | I25: 2002 | J25: 2003 | K25: 2004 | L25: 2005 | M25: 2006 | N25: 2007 | O25: 2008 | P25: 2009 | Q25: 2010 | R25: 2011 | S25: 2012 | T25: 2013 | U25: 2014
A26: Primary Industries | B26: 20167.498 | C26: 22116.962 | D26: 22153.7 | E26: 22209.59 | F26: 21212.449 | G26: 21605.741 | H26: =SUM(H27:H28) -> 21677.506 | I26: =SUM(I27:I28) -> 22276.897 | J26: =SUM(J27:J28) -> 23593.861 | K26: =SUM(K27:K28) -> 23827.209 | L26: =SUM(L27:L28) -> 22341.134 | M26: =SUM(M27:M28) -> 22185.099 | N26: =SUM(N27:N28) -> 23141.896 | O26: =SUM(O27:O28) -> 25838.245 | ... U26: =SUM(U27:U28) -> 29356.449
A27: Agriculture, forestry and fishing | B27: 11602.032 | C27: 13392.523 | D27: 13332.882 | E27: 13507.961 | F27: 13096.251 | G27: 13552.801 | H27: 13561.704 | I27: 14133.223 | J27: 14971.996 | K27: 15032.651 | L27: 14096.894 | M27: 14216.399 | N27: 14974.589 | O27: 18204.779 | P27: 17594.831 | Q27: 17713.824 | R27: 19337.738 | S27: 19560.595 | T27: 19906.252 | U27: =U7*Z27/100 -> 21064.38 | W27: =R27/R7*100 -> 29.095245 | X27: =S27/S7*100 -> 29.255768 | Y27: =T27/T7*100 -> 29.325502 | Z27: =Y27+(Y27-X27) -> 29.395237
A28: Mining and quarrying | B28: 8565.4667 | C28: 8724.4395 | D28: 8820.8185 | E28: 8701.6287 | F28: 8116.1975 | G28: 8052.9403 | H28: 8115.8023 | I28: 8143.6733 | J28: 8621.8648 | K28: 8794.5577 | L28: 8244.2397 | M28: 7968.6999 | N28: 8167.3067 | O28: 7633.4659 | P28: 7426.0854 | Q28: 7962.2517 | R28: 7890.9934 | S28: 8058.2306 | T28: 8403.8943 | U28: =U8*Z28/100 -> 8292.0684 | W28: =R28/R8*100 -> 3.4511954 | X28: =S28/S8*100 -> 3.6302969 | Y28: =T28/T8*100 -> 3.6395042 | Z28: =Y28+(Y28-X28) -> 3.6487115
A29: Secondary Industries | B29: 69285.762 | C29: 70795.44 | D29: 73035.073 | E29: 71100.016 | F29: 71454.011 | G29: 76997.415 | H29: =SUM(H30:H32) -> 80906.162 | I29: =SUM(I30:I32) -> 80824.987 | J29: =SUM(J30:J32) -> 80892.814 | K29: =SUM(K30:K32) -> 85470.666 | L29: =SUM(L30:L32) -> 91567.795 | M29: =SUM(M30:M32) -> 97054.098 | N29: =SUM(N30:N32) -> 103343.5 | O29: =SUM(O30:O32) -> 106066.21 | ... U29: =SUM(U30:U32) -> 110063.49 | W29: =R29/R9*100 -> 19.878029 | X29: =S29/S9*100 -> 19.90623 | Y29: =T29/T9*100 -> 19.956738 | Z29: =Y29+(Y29-X29) -> 20.007246
A30: Manufacturing | B30: 51545.6 | C30: 52446.61 | D30: 53836.959 | E30: 53594.606 | F30: 54474.164 | G30: 59186.044 | H30: 60968.246 | I30: 62583.339 | J30: 62019.95 | K30: 64930.808 | L30: 68936.255 | M30: 73097.363 | N30: 77062.172 | O30: 78786.467 | P30: 70587.78 | Q30: 75045.498 | R30: 77155.107 | S30: 78616.103 | T30: 79313.467 | U30: =U10*Z30/100 -> 79456.83 | W30: =R30/R10*100 -> 20.89447 | X30: =S30/S10*100 -> 20.90151 | Y30: =T30/T10*100 -> 20.930725 | Z30: =Y30+(Y30-X30) -> 20.959939
A31: Electricity, gas and water | B31: 8019.0639 | C31: 8795.9553 | D31: 9098.8868 | E31: 8542.803 | F31: 8527.8091 | G31: 8922.2868 | H31: 8808.6058 | I31: 9165.8124 | J31: 9261.2051 | K31: 9985.8244 | L31: 10635.999 | M31: 11028.502 | N31: 11396.124 | O31: 10885.072 | P31: 10419.777 | Q31: 10543.898 | R31: 10650.509 | S31: 10670.831 | T31: 10664.172 | U31: =U11*Z31/100 -> 10627.932 | W31: =R31/R11*100 -> 15.462636 | X31: =S31/S11*100 -> 15.509703 | Y31: =T31/T11*100 -> 15.596595 | Z31: =Y31+(Y31-X31) -> 15.683487
A32: Construction | B32: 9721.0986 | C32: 9552.8755 | D32: 10099.227 | E32: 8962.6078 | F32: 8452.0386 | G32: 8889.0847 | H32: 11129.31 | I32: 9075.8361 | J32: 9611.6597 | K32: 10554.033 | L32: 11995.541 | M32: 12928.233 | N32: 14885.204 | O32: 16394.672 | P32: 17952.068 | Q32: 18250.619 | R32: 18332.983 | S32: 18750.354 | T32: 19340.663 | U32: =U12*Z32/100 -> 19978.723 | W32: =R32/R12*100 -> 19.134847 | X32: =S32/S12*100 -> 19.171434 | Y32: =T32/T12*100 -> 19.250534 | Z32: =Y32+(Y32-X32) -> 19.329634
A33: Tertiary industries | B33: 150024.35 | C33: 156252.27 | D33: 158118.67 | E33: 162648.8 | F33: 167415.55 | G33: 173291.06 | H33: =SUM(H34:H38) -> 180595.64 | I33: =SUM(I34:I38) -> 187323.85 | J33: =SUM(J34:J38) -> 195795.91 | K33: =SUM(K34:K38) -> 204281.2 | L33: =SUM(L34:L38) -> 217831.45 | M33: =SUM(M34:M38) -> 230093.13 | N33: =SUM(N34:N38) -> 245043.77 | O33: =SUM(O34:O38) -> 255164.03 | ... U33: =SUM(U34:U38) -> 296237.44 | W33: =R33/R13*100 -> 15.796395 | X33: =S33/S13*100 -> 15.766624 | Y33: =T33/T13*100 -> 15.758336 | Z33: =Y33+(Y33-X33) -> 15.750048
A34: Wholesale & retail trade; hotels & restaurants | B34: 32820.343 | C34: 33557.831 | D34: 33743.816 | E34: 34041.073 | F34: 36529.757 | G34: 39634.687 | H34: 42730.802 | I34: 43777.416 | J34: 45296.033 | K34: 47758.662 | L34: 50847.928 | M34: 54102.588 | N34: 57397.931 | O34: 58237.695 | P34: 58357.949 | Q34: 60988.3 | R34: 63884.746 | S34: 66085.259 | T34: 67060.638 | U34: =U14*Z34/100 -> 67648.706 | W34: =R34/R14*100 -> 16.60343 | X34: =S34/S14*100 -> 16.579982 | Y34: =T34/T14*100 -> 16.518102 | Z34: =Y34+(Y34-X34) -> 16.456222
A35: Transport , storage and communication | B35: 23058.407 | C35: 24111.454 | D35: 25473.135 | E35: 26678.988 | F35: 27639.442 | G35: 29407.246 | H35: 30839.484 | I35: 33724.561 | J35: 36082.261 | K35: 37698.351 | L35: 39928.426 | M35: 42004.795 | N35: 45492.473 | O35: 47186.183 | P35: 47236.527 | Q35: 48276.675 | R35: 49619.061 | S35: 50879.973 | T35: 52026.041 | U35: =U15*Z35/100 -> 53337.064 | W35: =R35/R15*100 -> 20.985981 | X35: =S35/S15*100 -> 21.004543 | Y35: =T35/T15*100 -> 21.057879 | Z35: =Y35+(Y35-X35) -> 21.111216
A36: Finance, real estate and business services | B36: 33151.75 | C36: 35456.92 | D36: 36929.465 | E36: 38086.648 | F36: 40426.163 | G36: 40738.057 | H36: 42677.416 | I36: 44833.625 | J36: 47366.04 | K36: 50788.273 | L36: 56196.798 | M36: 60501.027 | N36: 64929.226 | O36: 68718.744 | P36: 69848.42 | Q36: 70712.529 | R36: 73637.859 | S36: 75095.521 | T36: 77490.773 | U36: =U16*Z36/100 -> 79334.873 | W36: =R36/R16*100 -> 13.511602 | X36: =S36/S16*100 -> 13.384115 | Y36: =T36/T16*100 -> 13.40376 | Z36: =Y36+(Y36-X36) -> 13.423405
A37: Personal services | B37: 15453.662 | C37: 15862.824 | D37: 15852.002 | E37: 16837.176 | F37: 17452.425 | G37: 18273.872 | H37: 18689.762 | I37: 19140.23 | J37: 20196.055 | K37: 20548.09 | L37: 21231.659 | M37: 22379.18 | N37: 23589.024 | O37: 24430.519 | P37: 24410.587 | Q37: 24557.94 | R37: 25219.535 | S37: 25793.173 | T37: 26310.581 | U37: =U17*Z37/100 -> 26724.911 | W37: =R37/R17*100 -> 16.574026 | X37: =S37/S17*100 -> 16.609176 | Y37: =T37/T17*100 -> 16.634726 | Z37: =Y37+(Y37-X37) -> 16.660275
A38: General government services | B38: 45540.186 | C38: 47263.239 | D38: 46120.249 | E38: 47004.915 | F38: 45367.76 | G38: 45237.199 | H38: 45658.179 | I38: 45848.019 | J38: 46855.527 | K38: 47487.823 | L38: 49626.64 | M38: 51105.541 | N38: 53635.115 | O38: 56590.888 | P38: 58446.708 | Q38: 60438.666 | R38: 62663.936 | S38: 65145.312 | T38: 67152.423 | U38: =U18*Z38/100 -> 69191.888 | W38: =R38/R18*100 -> 14.824858 | X38: =S38/S18*100 -> 14.882397 | Y38: =T38/T18*100 -> 14.882611 | Z38: =Y38+(Y38-X38) -> 14.882824
A39: All industries at basic prices | B39: 239477.61 | C39: 249164.67 | D39: 253307.44 | E39: 255958.41 | F39: 260082.01 | G39: 271894.22 | H39: =H33+H29+H26 -> 283179.31 | I39: =I33+I29+I26 -> 290425.73 | J39: =J33+J29+J26 -> 300282.59 | K39: =K33+K29+K26 -> 313579.07 | L39: =L33+L29+L26 -> 331740.38 | M39: =M33+M29+M26 -> 349332.33 | N39: =N33+N29+N26 -> 371529.16 | O39: =O33+O29+O26 -> 387068.48 | ... U39: =U33+U29+U26 -> 435657.38 | W39: =R39/R19*100 -> 15.890011 | X39: =S39/S19*100 -> 15.939732 | Y39: =T39/T19*100 -> 15.91553 | Z39: =Y39+(Y39-X39) -> 15.891328
A40: Taxes less subsidies on products | B40: 26163.977 | C40: 27538.347 | D40: 28298.2 | E40: 28096.495 | F40: 27568.441 | G40: 28373.697 | H40: 30140.849 | I40: 29999.216 | J40: 30494.695 | K40: 31950.458 | L40: 33393.03 | M40: 35532.7 | N40: 37152.159 | O40: 38027.118 | P40: 37162.927 | Q40: 39355.988 | R40: 40809.791 | S40: 42021.667 | T40: 42672.17 | U40: =U20*Z40/100 -> 43261.495 | W40: =R40/R20*100 -> 15.332458 | X40: =S40/S20*100 -> 15.406209 | Y40: =T40/T20*100 -> 15.445709 | Z40: =Y40+(Y40-X40) -> 15.48521
A41: KZN - GDPR at constant 2010 prices | B41: 265641.59 | C41: 276703.02 | D41: 281605.64 | E41: 284054.9 | F41: 287650.45 | G41: 300267.91 | H41: =H39+H40 -> 313320.16 | I41: =I39+I40 -> 320424.95 | J41: =J39+J40 -> 330777.28 | K41: =K39+K40 -> 345529.53 | L41: =L39+L40 -> 365133.41 | M41: =M39+M40 -> 384865.03 | N41: =N39+N40 -> 408681.32 | O41: =O39+O40 -> 425095.6 | ... U41: =U39+U40 -> 478918.87 | W41: =R41/R21*100 -> 15.837688 | X41: =S41/S21*100 -> 15.889538 | Y41: =T41/T21*100 -> 15.871729 | Z41: =Y41+(Y41-X41) -> 15.85392
A43: Structure Relationship
...

Sheet Quarterly
A1: Quarterly GDP and GDPR
A3: SA – GDP by activity
A4: Constant 2010 prices - Rand million
A5: National Industry | B5: 1995q1 | C5: 1995q2 | D5: 1995q3 | E5: 1995q4 | F5: 1996q1 | G5: 1996q2 | H5: 1996q3 | I5: 1996q4 | J5: 1997q1 | K5: 1997q2 | L5: 1997q3 | M5: 1997q4 | N5: 1998q1 | O5: 1998q2 | P5: 1998q3 | Q5: 1998q4 | R5: 1999q1 | S5: 1999q2 | T5: 1999q3 | U5: 1999q4 | V5: 2000q1 | W5: 2000q2 | X5: 2000q3 | Y5: 2000q4 | Z5: 2001q1 | AA5: 2001q2 | AB5: 2001q3 | AC5: 2001q4 | AD5: 2002q1 | AE5: 2002q2 | AF5: 2002q3 | AG5: 2002q4 | AH5: 2003q1 | AI5: 2003q2 | AJ5: 2003q3 | AK5: 2003q4 | AL5: 2004q1 | AM5: 2004q2 | AN5: 2004q3 | AO5: 2004q4 | AP5: 2005q1 | AQ5: 2005q2 | AR5: 2005q3 | AS5: 2005q4 | AT5: 2006q1 | AU5: 2006q2 | AV5: 2006q3 | AW5: 2006q4 | AX5: 2007q1 | AY5: 2007q2 | AZ5: 2007q3 | BA5: 2007q4 | BB5: 2008q1 | BC5: 2008q2 | BD5: 2008q3 | BE5: 2008q4 | BF5: 2009q1 | BG5: 2009q2 | BH5: 2009q3 | BI5: 2009q4 | BJ5: 2010q1 | BK5: 2010q2 | BL5: 2010q3 | BM5: 2010q4 | BN5: 2011q1 | BO5: 2011q2 | BP5: 2011q3 | BQ5: 2011q4 | BR5: 2012q1 | BS5: 2012q2 | BT5: 2012q3 | BU5: 2012q4 | BV5: 2013q1 | BW5: 2013q2 | BX5: 2013q3 | BY5: 2013q4 | BZ5: 2014q1 | CA5: 2014q2 | CB5: 2014q3 | CC5: 2014q4
A6: Primary Industries | B6: =SUM(B7:B8) -> 66451.388 | C6: =SUM(C7:C8) -> 69582.845 | D6: =SUM(D7:D8) -> 71297.39 | E6: =SUM(E7:E8) -> 68005.396 | F6: =SUM(F7:F8) -> 66542.205 | G6: =SUM(G7:G8) -> 76676.168 | H6: =SUM(H7:H8) -> 72285.846 | I6: =SUM(I7:I8) -> 67731.541 | ... CC6: =SUM(CC7:CC8) -> 71182.749
A7: Agriculture, forestry and fishing | B7: 7808.6148 | C7: 11347.134 | D7: 12167.747 | E7: 9408.0997 | F7: 8573.7264 | G7: 19103.301 | H7: 13679.614 | I7: 9150.5374 | J7: 9466.7634 | K7: 18725.188 | L7: 13582.279 | M7: 9187.513 | N7: 9162.8312 | O7: 18080.503 | P7: 13113.338 | Q7: 7904.0988 | R7: 10054.371 | S7: 19983.855 | T7: 13977.512 | U7: 7237.2013 | V7: 8541.3628 | W7: 17124.159 | X7: 19090.928 | Y7: 8905.3771 | Z7: 9491.5501 | AA7: 19794.365 | AB7: 15172.844 | AC7: 7432.2272 | AD7: 10381.456 | AE7: 21742.441 | AF7: 14285.686 | AG7: 8854.3178 | AH7: 9534.5886 | AI7: 24048.574 | AJ7: 15012.234 | AK7: 7044.8901 | AL7: 9590.1209 | AM7: 21819.569 | AN7: 16496.18 | AO7: 8212.6111 | AP7: 11050.621 | AQ7: 20247.388 | AR7: 18072.372 | AS7: 8324.9098 | AT7: 11298.216 | AU7: 18265.598 | AV7: 15860.192 | AW7: 9119.513 | AX7: 11700.973 | AY7: 18877.074 | AZ7: 16246.529 | BA7: 9343.884 | BB7: 14448.318 | BC7: 22623.534 | BD7: 19281.361 | BE7: 10718.397 | BF7: 14121.695 | BG7: 21764.437 | BH7: 18713.038 | BI7: 11203.26 | BJ7: 14236.464 | BK7: 22159.434 | BL7: 18300.662 | BM7: 10908.23 | BN7: 14132.077 | BO7: 22130.71 | BP7: 18838.817 | BQ7: 11361.966 | BR7: 14678.424 | BS7: 23268.545 | BT7: 17973.008 | BU7: 10940.663 | BV7: 15239.365 | BW7: 24610.512 | BX7: 17330.893 | BY7: 10699.58 | BZ7: 14903 | CA7: 26202.28 | CB7: 19400.31 | CC7: 11153.57
A8: Mining and quarrying | B8: 58642.774 | C8: 58235.712 | D8: 59129.642 | E8: 58597.296 | F8: 57968.478 | G8: 57572.867 | H8: 58606.232 | I8: 58581.003 | J8: 57740.205 | K8: 58897.155 | L8: 60135.332 | M8: 59912.274 | N8: 59095.22 | O8: 59099.875 | P8: 59276.524 | Q8: 58976.662 | R8: 57763.478 | S8: 58056.963 | T8: 58627.176 | U8: 58690.388 | V8: 57126.055 | W8: 57821.901 | X8: 57789.317 | Y8: 57836.214 | Z8: 56774.455 | AA8: 58066.278 | AB8: 58101.189 | AC8: 57400.991 | AD8: 56490.857 | AE8: 58043.464 | AF8: 58892.965 | AG8: 59219.057 | AH8: 58130.651 | AI8: 60091.113 | AJ8: 61306.015 | AK8: 61020.117 | AL8: 61019.906 | AM8: 60856.825 | AN8: 62702.452 | AO8: 59600.472 | AP8: 63571.039 | AQ8: 62327.859 | AR8: 61526.536 | AS8: 59259.998 | AT8: 60131.256 | AU8: 60856.401 | AV8: 61270.299 | AW8: 62966.695 | AX8: 61301.183 | AY8: 60768.499 | AZ8: 61090.631 | BA8: 60502.848 | BB8: 56013.971 | BC8: 58711.499 | BD8: 57801.947 | BE8: 58136.084 | BF8: 52487.809 | BG8: 54872.811 | BH8: 55383.597 | BI8: 56086.793 | BJ8: 57311.199 | BK8: 54666.657 | BL8: 58678.754 | BM8: 59694.229 | BN8: 57526.064 | BO8: 58250.125 | BP8: 56240.453 | BQ8: 56629.298 | BR8: 52473.677 | BS8: 58104.992 | BT8: 55999.154 | BU8: 55394.577 | BV8: 54675.752 | BW8: 57304.446 | BX8: 57913.058 | BY8: 61015.144 | BZ8: 53991.552 | CA8: 56852.492 | CB8: 56386.958 | CC8: 60029.179
A9: Secondary Industries | B9: =SUM(B10:B12) -> 83002.24 | C9: =SUM(C10:C12) -> 84540.063 | D9: =SUM(D10:D12) -> 88952.483 | E9: =SUM(E10:E12) -> 87019.486 | F9: =SUM(F10:F12) -> 84811.274 | G9: =SUM(G10:G12) -> 86285.611 | H9: =SUM(H10:H12) -> 91230.288 | I9: =SUM(I10:I12) -> 91066.776 | ... CC9: =SUM(CC10:CC12) -> 143493.98
A10: Manufacturing | B10: 59932.646 | C10: 61081.256 | D10: 65401.611 | E10: 64639.59 | F10: 61296.726 | G10: 61799.016 | H10: 65690.039 | I10: 65784.095 | J10: 62320.706 | K10: 64461.104 | L10: 67583.131 | M10: 67078.313 | N10: 63536.636 | O10: 64625.556 | P10: 66593.894 | Q10: 66164.281 | R10: 62195.608 | S10: 63823.705 | T10: 67460.739 | U10: 69005.837 | V10: 66591.169 | W10: 68957.294 | X10: 73175.793 | Y10: 75022.993 | Z10: 70866.633 | AA10: 72291.908 | AB10: 74346.056 | AC10: 75322.566 | AD10: 71202.307 | AE10: 73938.114 | AF10: 77877.809 | AG10: 78008.095 | AH10: 72543.465 | AI10: 72785.68 | AJ10: 75949.776 | AK10: 75219.256 | AL10: 73926.641 | AM10: 75959.974 | AN10: 80648.751 | AO10: 80475.326 | AP10: 76594.578 | AQ10: 81417.564 | AR10: 86325.609 | AS10: 85968.563 | AT10: 81925.419 | AU10: 85868.174 | AV10: 91141.294 | AW10: 92637.155 | AX10: 87770.456 | AY10: 90785.762 | AZ10: 94519.206 | BA10: 97313.916 | BB10: 90118.83 | BC10: 96634.291 | BD10: 98624.099 | BE10: 93586.87 | BF10: 80618.515 | BG10: 81908.748 | BH10: 87368.739 | BI10: 88795.699 | BJ10: 83985.452 | BK10: 89493.433 | BL10: 92552.781 | BM10: 92667.673 | BN10: 88650.999 | BO10: 90895.999 | BP10: 94434.349 | BQ10: 95279.546 | BR10: 89030.4 | BS10: 92476.53 | BT10: 96300.5 | BU10: 98319 | BV10: 88826.385 | BW10: 94828.442 | BX10: 95915.263 | BY10: 99363.12 | BZ10: 90468.831 | CA10: 93383.683 | CB10: 95623.847 | CC10: 99612.666
A11: Electricity, gas and water | B11: 12695.422 | C11: 12943.779 | D11: 13153.433 | E11: 12447.581 | F11: 12939.299 | G11: 13785.925 | H11: 14931.15 | I11: 15117.784 | J11: 14351.002 | K11: 14882.513 | L11: 15072.716 | M11: 14682.118 | N11: 13584.48 | O11: 13912.325 | P11: 14013.146 | Q11: 13762.133 | R11: 13034.072 | S11: 13725.649 | T11: 14130.859 | U11: 14105.143 | V11: 13561.081 | W11: 14239.235 | X11: 14717.806 | Y11: 14182.469 | Z11: 13272.397 | AA11: 13633.254 | AB11: 14055.833 | AC11: 13641.185 | AD11: 13478.601 | AE11: 14125.764 | AF11: 14605.585 | AG11: 14303.813 | AH11: 13962.387 | AI11: 14511.603 | AJ11: 14995.389 | AK11: 14711.859 | AL11: 14807.823 | AM11: 15490.279 | AN11: 16115.632 | AO11: 15715.121 | AP11: 15588.622 | AQ11: 16300.026 | AR11: 16744.158 | AS11: 16817.519 | AT11: 16031.057 | AU11: 16836.47 | AV11: 17397.208 | AW11: 17423.695 | AX11: 16610.062 | AY11: 17327.923 | AZ11: 18091.772 | BA11: 17970.244 | BB11: 16087.417 | BC11: 16579.152 | BD11: 17839.499 | BE11: 17015.932 | BF11: 15693.848 | BG11: 16345.493 | BH11: 17221.826 | BI11: 17075.834 | BJ11: 16148.036 | BK11: 16780.316 | BL11: 17525.735 | BM11: 17484.912 | BN11: 16475.127 | BO11: 17138.199 | BP11: 17709.011 | BQ11: 17556.663 | BR11: 16528.422 | BS11: 17100.539 | BT11: 17688.156 | BU11: 17483.882 | BV11: 16058.938 | BW11: 17081.381 | BX11: 17779.173 | BY11: 17455.508 | BZ11: 16146.869 | CA11: 16858.397 | CB11: 17463.536 | CC11: 17296.311
A12: Construction | B12: 10374.172 | C12: 10515.028 | D12: 10397.439 | E12: 9932.3153 | F12: 10575.249 | G12: 10700.67 | H12: 10609.099 | I12: 10164.897 | J12: 10781.584 | K12: 10846.994 | L12: 10718.955 | M12: 11150.04 | N12: 10467.798 | O12: 10205.09 | P12: 9922.2901 | Q12: 10338.488 | R12: 10057.657 | S12: 10045.463 | T12: 9887.994 | U12: 10386.937 | V12: 10229.415 | W12: 10463.78 | X12: 10584.953 | Y12: 11380.956 | Z12: 11041.639 | AA12: 11132.5 | AB12: 10968.799 | AC12: 11617.4 | AD12: 11524.792 | AE12: 11536.059 | AF12: 11767.058 | AG12: 12532.7 | AH12: 12466.495 | AI12: 12468.12 | AJ12: 12695.799 | AK12: 13370.968 | AL12: 13249.885 | AM12: 13553.449 | AN12: 14067.295 | AO12: 14776.193 | AP12: 14810.003 | AQ12: 15226.954 | AR12: 15756.742 | AS12: 16486.939 | AT12: 16393.1 | AU12: 16803.1 | AV12: 17396.1 | AW12: 18188.08 | AX12: 18742.82 | AY12: 19202 | AZ12: 19850 | BA12: 21660 | BB12: 20925.12 | BC12: 21283.12 | BD12: 21920.1 | BE12: 23172.03 | BF12: 23052.08 | BG12: 23089 | BH12: 23657 | BI12: 24961 | BJ12: 23759.9 | BK12: 23636.9 | BL12: 23494.9 | BM12: 24558.9 | BN12: 23415.2 | BO12: 23633.1 | BP12: 23812.1 | BQ12: 24949 | BR12: 24217.8 | BS12: 24024.9 | BT12: 24153.91 | BU12: 25407 | BV12: 24799 | BW12: 24873 | BX12: 24957 | BY12: 25839 | BZ12: 25580 | CA12: 25558 | CB12: 25635 | CC12: 26585
A13: Tertiary industries | B13: =SUM(B14:B18) -> 231961.06 | C13: =SUM(C14:C18) -> 234621.08 | D13: =SUM(D14:D18) -> 242400.92 | E13: =SUM(E14:E18) -> 251970.35 | F13: =SUM(F14:F18) -> 242021.85 | G13: =SUM(G14:G18) -> 244693.4 | H13: =SUM(H14:H18) -> 251769.43 | I13: =SUM(I14:I18) -> 261631.2 | ... CC13: =SUM(CC14:CC18) -> 488182.44
A14: Wholesale & retail trade; hotels & restaurants | B14: 48609.405 | C14: 49866.385 | D14: 53184.776 | E14: 61134.044 | F14: 51363.796 | G14: 52192.327 | H14: 54721.933 | I14: 62389.954 | J14: 52450.741 | K14: 52791.793 | L14: 54818.711 | M14: 61489.437 | N14: 52475.789 | O14: 53629.274 | P14: 55609.317 | Q14: 62716.461 | R14: 54794.542 | S14: 56910.489 | T14: 60185.239 | U14: 69597.315 | V14: 60001.198 | W14: 62249.558 | X14: 64881.092 | Y14: 73916.232 | Z14: 62437.252 | AA14: 63719.027 | AB14: 65472.78 | AC14: 74378.934 | AD14: 63220.443 | AE14: 64781.849 | AF14: 67256.499 | AG14: 76867.387 | AH14: 64263.481 | AI14: 65980.058 | AJ14: 69595.698 | AK14: 79541.173 | AL14: 67174.388 | AM14: 69167.362 | AN14: 72314.419 | AO14: 85804.576 | AP14: 72273.363 | AQ14: 73933.367 | AR14: 77418.89 | AS14: 91584.686 | AT14: 76190.835 | AU14: 78373.553 | AV14: 82255.282 | AW14: 97178.905 | AX14: 81001.363 | AY14: 83088.505 | AZ14: 87014.281 | BA14: 101593.68 | BB14: 85186.756 | BC14: 85956.774 | BD14: 86367.209 | BE14: 101369.6 | BF14: 84232.192 | BG14: 84201.797 | BH14: 86309.913 | BI14: 100126.58 | BJ14: 86087.658 | BK14: 87914.598 | BL14: 90553.583 | BM14: 106023.69 | BN14: 89198.548 | BO14: 90780.841 | BP14: 94122.727 | BQ14: 110666.24 | BR14: 93218.563 | BS14: 94445.776 | BT14: 97258.097 | BU14: 113662.19 | BV14: 94982.313 | BW14: 96357.588 | BX14: 98940.602 | BY14: 115702.21 | BZ14: 96658.483 | CA14: 97135.512 | CB14: 100448.64 | CC14: 116840.22
A15: Transport , storage and communication | B15: 24777.506 | C15: 24835.795 | D15: 26875.359 | E15: 27432.605 | F15: 26709.014 | G15: 26588.416 | H15: 28403.459 | I15: 28559.572 | J15: 28289.266 | K15: 28554.859 | L15: 30526.569 | M15: 31269.564 | N15: 30566.49 | O15: 30690.138 | P15: 31771.528 | Q15: 32137.315 | R15: 31251.545 | S15: 31963.489 | T15: 33840.453 | U15: 34618.588 | V15: 34015.598 | W15: 34885.568 | X15: 36611.701 | Y15: 37090.157 | Z15: 35931.359 | AA15: 36614.693 | AB15: 38630.206 | AC15: 39840.345 | AD15: 39116.758 | AE15: 40166.932 | AF15: 42175.514 | AG15: 43148.893 | AH15: 41973.685 | AI15: 42794.307 | AJ15: 44468.819 | AK15: 45820.349 | AL15: 43714.734 | AM15: 44639.319 | AN15: 47079.005 | AO15: 48179.636 | AP15: 46194.48 | AQ15: 47178.672 | AR15: 49468.788 | AS15: 50491.793 | AT15: 48332.346 | AU15: 49486.752 | AV15: 52392.265 | AW15: 53013.078 | AX15: 52288.735 | AY15: 53319.34 | AZ15: 55961.955 | BA15: 56918.4 | BB15: 54391.89 | BC15: 55386.176 | BD15: 58000.578 | BE15: 58357.225 | BF15: 54584.494 | BG15: 55250.796 | BH15: 57750.345 | BI15: 58126.105 | BJ15: 54784.133 | BK15: 56121.357 | BL15: 59041.064 | BM15: 59552.446 | BN15: 56372.982 | BO15: 57926.856 | BP15: 60692.39 | BQ15: 61446.852 | BR15: 58067.02 | BS15: 59480.849 | BT15: 62036.436 | BU15: 62648.875 | BV15: 59180.445 | BW15: 60525.024 | BX15: 63404.452 | BY15: 63952.189 | BZ15: 60215.495 | CA15: 61995.263 | CB15: 64829.046 | CC15: 65608.195
A16: Finance, real estate and business services | B16: 59354.498 | C16: 59935.792 | D16: 61703.433 | E16: 62694.047 | F16: 61961.449 | G16: 63925.101 | H16: 66250.209 | I16: 68086.126 | J16: 67107.406 | K16: 68184.102 | L16: 68581.428 | M16: 68596.258 | N16: 67695.505 | O16: 69628.181 | P16: 70622.792 | Q16: 70795.111 | R16: 71207.154 | S16: 72934.7 | T16: 74167.11 | U16: 74677.874 | V16: 73764.818 | W16: 74896.496 | X16: 76183.178 | Y16: 77459.997 | Z16: 78410.22 | AA16: 81017.919 | AB16: 82935.216 | AC16: 84631.957 | AD16: 87007.795 | AE16: 86787.227 | AF16: 86368.787 | AG16: 87354.863 | AH16: 90926.972 | AI16: 90412.166 | AJ16: 90826.351 | AK16: 92031.4 | AL16: 96600.792 | AM16: 96730.272 | AN16: 97242.119 | AO16: 99316.086 | AP16: 102050.9 | AQ16: 102217 | AR16: 103148.8 | AS16: 104731.81 | AT16: 108259.01 | AU16: 111990.1 | AV16: 114925.1 | AW16: 116722.1 | AX16: 118778.9 | AY16: 119610.9 | AZ16: 121964.9 | BA16: 124319.89 | BB16: 127008.12 | BC16: 127417.12 | BD16: 128211.12 | BE16: 129080.12 | BF16: 129560.1 | BG16: 129156.1 | BH16: 128918.1 | BI16: 129480.01 | BJ16: 130988.2 | BK16: 131110.1 | BL16: 130730.2 | BM16: 130698.1 | BN16: 134387.1 | BO16: 135264.1 | BP16: 137589.02 | BQ16: 137757.02 | BR16: 140279.12 | BS16: 140046.12 | BT16: 140459.12 | BU16: 140295.11 | BV16: 142945.1 | BW16: 144066.04 | BX16: 144800 | BY16: 146316 | BZ16: 146869 | CA16: 146927 | CB16: 147963 | CC16: 149260
A17: Personal services | B17: 22682.454 | C17: 23324.34 | D17: 23739.231 | E17: 23712.761 | F17: 23991.525 | G17: 23896.516 | H17: 24021.649 | I17: 24033.418 | J17: 23771.625 | K17: 24041.351 | L17: 24237.959 | M17: 23860.782 | N17: 24532.899 | O17: 25247.532 | P17: 26012.639 | Q17: 26075.936 | R17: 25943 | S17: 26274.969 | T17: 26845.428 | U17: 26747.06 | V17: 26945.334 | W17: 27432.986 | X17: 28282.496 | Y17: 28247.624 | Z17: 28032.07 | AA17: 28167.977 | AB17: 28719.801 | AC17: 28482.11 | AD17: 28375.621 | AE17: 28723.624 | AF17: 29518.717 | AG17: 29577.939 | AH17: 29818.528 | AI17: 30512.663 | AJ17: 31439.642 | AK17: 30883.162 | AL17: 30418.355 | AM17: 31037.512 | AN17: 31703.237 | AO17: 31637.338 | AP17: 31914.407 | AQ17: 32224.864 | AR17: 32763.771 | AS17: 32631.826 | AT17: 33825.058 | AU17: 33926.855 | AV17: 34270.007 | AW17: 34276.08 | AX17: 36139.192 | AY17: 36360.434 | AZ17: 36350.309 | BA17: 34957.066 | BB17: 37562.545 | BC17: 38015.458 | BD17: 37754.608 | BE17: 35883.599 | BF17: 98060 | BG17: 98558 | BH17: 98604 | BI17: 98699 | BJ17: 99297 | BK17: 100769 | BL17: 101641 | BM17: 102940 | BN17: 103843 | BO17: 105207 | BP17: 106150 | BQ17: 107495 | BR17: 107790 | BS17: 108903 | BT17: 109957 | BU17: 111084 | BV17: 111476 | BW17: 112340 | BX17: 112993 | BY17: 114405 | BZ17: 114973 | CA17: 116138 | CB17: 116595 | CC17: 117205
A18: General government services | B18: 76537.2 | C18: 76658.772 | D18: 76898.117 | E18: 76996.895 | F18: 77996.065 | G18: 78091.043 | H18: 78372.178 | I18: 78562.135 | J18: 78679.908 | K18: 78706.501 | L18: 78995.235 | M18: 79109.209 | N18: 78213.241 | O18: 78294.087 | P18: 78282.538 | Q18: 78340.285 | R18: 77589.567 | S18: 77718.922 | T18: 77675.034 | U18: 77474.072 | V18: 76878.118 | W18: 76988.993 | X18: 76956.655 | Y18: 76758.003 | Z18: 76411.518 | AA18: 76309.882 | AB18: 76041.934 | AC18: 75944.918 | AD18: 75784.791 | AE18: 76675.356 | AF18: 77088.487 | AG18: 77342.475 | AH18: 77585.21 | AI18: 78723.332 | AJ18: 79300.431 | AK18: 79774.649 | AL18: 78919.45 | AM18: 80131.517 | AN18: 80650.746 | AO18: 81716.529 | AP18: 82034.518 | AQ18: 83823.964 | AR18: 84563.442 | AS18: 84843.15 | AT18: 85599 | AU18: 85929 | AV18: 86713 | AW18: 87290 | AX18: 88815 | AY18: 89824 | AZ18: 90891 | BA18: 92106 | BB18: 93530 | BC18: 94657 | BD18: 96279 | BE18: 97302 | BF18: 37176.469 | BG18: 37244.714 | BH18: 37161.173 | BI18: 36432.645 | BJ18: 36859.266 | BK18: 37281.402 | BL18: 37433.66 | BM18: 36988.672 | BN18: 38136.25 | BO18: 38295.345 | BP18: 38078.222 | BQ18: 37653.183 | BR18: 38841.451 | BS18: 39438.224 | BT18: 39163.733 | BU18: 37851.313 | BV18: 39398.146 | BW18: 40056.983 | BX18: 39906.422 | BY18: 38805.049 | BZ18: 40073.882 | CA18: 40592.409 | CB18: 40475.662 | CC18: 39269.028
A19: All industries at basic prices | B19: =B13+B9+B6 -> 381414.69 | C19: =C13+C9+C6 -> 388743.99 | D19: =D13+D9+D6 -> 402650.79 | E19: =E13+E9+E6 -> 406995.23 | F19: =F13+F9+F6 -> 393375.33 | G19: =G13+G9+G6 -> 407655.18 | H19: =H13+H9+H6 -> 415285.56 | I19: =I13+I9+I6 -> 420429.52 | ... CC19: =CC13+CC9+CC6 -> 702859.17
A20: Taxes less subsidies on products | B20: 42787.113 | C20: 42794.388 | D20: 43168.245 | E20: 43342.651 | F20: 44426.159 | G20: 44902.082 | H20: 45310.64 | I20: 45862.842 | J20: 46222.157 | K20: 46356.918 | L20: 46560.307 | M20: 46635.404 | N20: 45639.631 | O20: 45191.242 | P20: 46097.802 | Q20: 46730.065 | R20: 44774.237 | S20: 44697.957 | T20: 46125.528 | U20: 47068.188 | V20: 45352.176 | W20: 45426.416 | X20: 46918.163 | Y20: 47851.886 | Z20: 46088.867 | AA20: 46131.581 | AB20: 47489.909 | AC20: 48505.753 | AD20: 46708.631 | AE20: 48034.63 | AF20: 48943.518 | AG20: 49632.265 | AH20: 48038.492 | AI20: 49536.999 | AJ20: 49939.948 | AK20: 50989.161 | AL20: 49652.863 | AM20: 51805.358 | AN20: 52867.445 | AO20: 54152.248 | AP20: 52398.839 | AQ20: 54543.61 | AR20: 55532.316 | AS20: 56398.721 | AT20: 55914 | AU20: 57129 | AV20: 58502 | AW20: 60994 | AX20: 58952 | AY20: 59956 | AZ20: 61528 | BA20: 63426 | BB20: 61023 | BC20: 62159 | BD20: 62949 | BE20: 63232 | BF20: 59467 | BG20: 59485 | BH20: 60776 | BI20: 63159 | BJ20: 61073 | BK20: 62145 | BL20: 64038 | BM20: 65892 | BN20: 63906 | BO20: 65186 | BP20: 67341 | BQ20: 69733 | BR20: 66310 | BS20: 67361 | BT20: 68785 | BU20: 70302 | BV20: 66740 | BW20: 68493 | BX20: 69290 | BY20: 71749 | BZ20: 67983 | CA20: 68591 | CB20: 70150 | CC20: 72649
A21: SA - GDP at constant 2010 prices | B21: =B19+B20 -> 424201.8 | C21: =C19+C20 -> 431538.38 | D21: =D19+D20 -> 445819.03 | E21: =E19+E20 -> 450337.88 | F21: =F19+F20 -> 437801.49 | G21: =G19+G20 -> 452557.26 | H21: =H19+H20 -> 460596.2 | I21: =I19+I20 -> 466292.36 | ... CC21: =CC19+CC20 -> 775508.17
A23: KZN – GDPR by activity
A24: Constant 2010 prices - Rand million
A25: Provincial Industry | B25: =B5 -> 1995q1 | C25: =C5 -> 1995q2 | D25: =D5 -> 1995q3 | E25: =E5 -> 1995q4 | F25: =F5 -> 1996q1 | G25: =G5 -> 1996q2 | H25: =H5 -> 1996q3 | I25: =I5 -> 1996q4 | ... CC25: =CC5 -> 2014q4
A26: Primary Industries | B26: =SUM(B27:B28) -> 4365.2733 | C26: =SUM(C27:C28) -> 5358.327 | D26: =SUM(D27:D28) -> 5624.7089 | E26: =SUM(E27:E28) -> 4819.2119 | F26: =SUM(F27:F28) -> 4446.5218 | G26: =SUM(G27:G28) -> 7223.7213 | H26: =SUM(H27:H28) -> 5824.3108 | I26: =SUM(I27:I28) -> 4622.4316 | ... CC26: =SUM(CC27:CC28) -> 5468.9099
A27: Agriculture, forestry and fishing | B27: =B7*Annual!$B46/100 -> 2224.2142 | C27: =C7*Annual!$B46/100 -> 3232.1298 | D27: =D7*Annual!$B46/100 -> 3465.8742 | E27: =E7*Annual!$B46/100 -> 2679.8132 | F27: =F7*Annual!$C46/100 -> 2273.4159 | G27: =G7*Annual!$C46/100 -> 5065.446 | H27: =H7*Annual!$C46/100 -> 3627.2971 | I27: =I7*Annual!$C46/100 -> 2426.3636 | J27: =J7*Annual!$D46/100 -> 2476.7449 | K27: =K7*Annual!$D46/100 -> 4898.9831 | L27: =L7*Annual!$D46/100 -> 3553.4679 | M27: =M7*Annual!$D46/100 -> 2403.6859 | N27: =N7*Annual!$E46/100 -> 2564.633 | O27: =O7*Annual!$E46/100 -> 5060.647 | P27: =P7*Annual!$E46/100 -> 3670.3611 | Q27: =Q7*Annual!$E46/100 -> 2212.3198 | R27: =R7*Annual!$F46/100 -> 2569.1125 | S27: =S7*Annual!$F46/100 -> 5106.3138 | T27: =T7*Annual!$F46/100 -> 3571.5612 | U27: =U7*Annual!$F46/100 -> 1849.2639 | V27: =V7*Annual!$G46/100 -> 2157.2018 | W27: =W7*Annual!$G46/100 -> 4324.8679 | X27: =X7*Annual!$G46/100 -> 4821.594 | Y27: =Y7*Annual!$G46/100 -> 2249.137 | Z27: =Z7*Annual!H46/100 -> 2480.6156 | AA27: =AA7*Annual!H46/100 -> 5173.2552 | AB27: =AB7*Annual!H46/100 -> 3965.4211 | AC27: =AC7*Annual!H46/100 -> 1942.4118 | AD27: =AD7*Annual!$I46/100 -> 2654.9599 | AE27: =AE7*Annual!$I46/100 -> 5560.4249 | AF27: =AF7*Annual!$I46/100 -> 3653.4299 | AG27: =AG7*Annual!$I46/100 -> 2264.4086 | AH27: =AH7*Annual!$J46/100 -> 2565.6198 | AI27: =AI7*Annual!$J46/100 -> 6471.1232 | AJ27: =AJ7*Annual!$J46/100 -> 4039.5748 | AK27: =AK7*Annual!$J46/100 -> 1895.678 | AL27: =AL7*Annual!$K46/100 -> 2568.9388 | AM27: =AM7*Annual!$K46/100 -> 5844.8833 | AN27: =AN7*Annual!$K46/100 -> 4418.8888 | AO27: =AO7*Annual!$K46/100 -> 2199.9405 | AP27: =AP7*Annual!$L46/100 -> 2700.0372 | AQ27: =AQ7*Annual!$L46/100 -> 4947.1158 | AR27: =AR7*Annual!$L46/100 -> 4415.6866 | AS27: =AS7*Annual!$L46/100 -> 2034.0546 | AT27: =AT7*Annual!$M46/100 -> 2944.8033 | AU27: =AU7*Annual!$M46/100 -> 4760.8041 | AV27: =AV7*Annual!$M46/100 -> 4133.8513 | AW27: =AW7*Annual!$M46/100 -> 2376.9391 | AX27: =AX7*Annual!$N46/100 -> 3119.4954 | AY27: =AY7*Annual!$N46/100 -> 5032.6537 | AZ27: =AZ7*Annual!$N46/100 -> 4331.3468 | BA27: =BA7*Annual!$N46/100 -> 2491.0922 | BB27: =BB7*Annual!$O46/100 -> 3921.6063 | BC27: =BC7*Annual!$O46/100 -> 6140.5482 | BD27: =BD7*Annual!$O46/100 -> 5233.4054 | BE27: =BE7*Annual!$O46/100 -> 2909.2198 | BF27: =BF7*Annual!P46/100 -> 3775.983 | BG27: =BG7*Annual!P46/100 -> 5819.5666 | BH27: =BH7*Annual!P46/100 -> 5003.6567 | BI27: =BI7*Annual!P46/100 -> 2995.6262 | BJ27: =BJ7*Annual!Q46/100 -> 3843.9603 | BK27: =BK7*Annual!Q46/100 -> 5983.2262 | BL27: =BL7*Annual!Q46/100 -> 4941.3265 | BM27: =BM7*Annual!Q46/100 -> 2945.3102 | BN27: =BN7*Annual!$R46/100 -> 4111.7625 | BO27: =BO7*Annual!$R46/100 -> 6438.9843 | BP27: =BP7*Annual!$R46/100 -> 5481.2 | BQ27: =BQ7*Annual!$R46/100 -> 3305.7919 | BR27: =BR7*Annual!$S46/100 -> 4294.2856 | BS27: =BS7*Annual!$S46/100 -> 6807.3914 | BT27: =BT7*Annual!$S46/100 -> 5258.1414 | BU27: =BU7*Annual!$S46/100 -> 3200.7749 | BV27: =BV7*Annual!$T46/100 -> 4469.0204 | BW27: =BW7*Annual!$T46/100 -> 7217.1563 | BX27: =BX7*Annual!$T46/100 -> 5082.3715 | BY27: =BY7*Annual!$T46/100 -> 3137.7056 | BZ27: =BZ7*Annual!$U46/100 -> 4380.7722 | CA27: =CA7*Annual!$U46/100 -> 7702.2224 | CB27: =CB7*Annual!$U46/100 -> 5702.7672 | CC27: =CC7*Annual!$U46/100 -> 3278.6184
A28: Mining and quarrying | B28: =B8*Annual!$B47/100 -> 2141.0591 | C28: =C8*Annual!$B47/100 -> 2126.1971 | D28: =D8*Annual!$B47/100 -> 2158.8347 | E28: =E8*Annual!$B47/100 -> 2139.3987 | F28: =F8*Annual!$C47/100 -> 2173.1058 | G28: =G8*Annual!$C47/100 -> 2158.2753 | H28: =H8*Annual!$C47/100 -> 2197.0138 | I28: =I8*Annual!$C47/100 -> 2196.068 | J28: =J8*Annual!$D47/100 -> 2151.8783 | K28: =K8*Annual!$D47/100 -> 2194.9958 | L28: =L8*Annual!$D47/100 -> 2241.1405 | M28: =M8*Annual!$D47/100 -> 2232.8275 | N28: =N8*Annual!$E47/100 -> 2174.7929 | O28: =O8*Annual!$E47/100 -> 2174.9642 | P28: =P8*Annual!$E47/100 -> 2181.4652 | Q28: =Q8*Annual!$E47/100 -> 2170.4298 | R28: =R8*Annual!$F47/100 -> 2010.9165 | S28: =S8*Annual!$F47/100 -> 2021.1335 | T28: =T8*Annual!$F47/100 -> 2040.9843 | U28: =U8*Annual!$F47/100 -> 2043.1849 | V28: =V8*Annual!$G47/100 -> 1995.1728 | W28: =W8*Annual!$G47/100 -> 2019.4757 | X28: =X8*Annual!$G47/100 -> 2018.3377 | Y28: =Y8*Annual!$G47/100 -> 2019.9756 | Z28: =Z8*Annual!H47/100 -> 2000.3719 | AA28: =AA8*Annual!H47/100 -> 2045.8875 | AB28: =AB8*Annual!H47/100 -> 2047.1176 | AC28: =AC8*Annual!H47/100 -> 2022.447 | AD28: =AD8*Annual!$I47/100 -> 1977.4406 | AE28: =AE8*Annual!$I47/100 -> 2031.789 | AF28: =AF8*Annual!$I47/100 -> 2061.5254 | AG28: =AG8*Annual!$I47/100 -> 2072.9402 | AH28: =AH8*Annual!$J47/100 -> 2083.5599 | AI28: =AI8*Annual!$J47/100 -> 2153.8282 | AJ28: =AJ8*Annual!$J47/100 -> 2197.3736 | AK28: =AK8*Annual!$J47/100 -> 2187.1262 | AL28: =AL8*Annual!$K47/100 -> 2197.7446 | AM28: =AM8*Annual!$K47/100 -> 2191.8709 | AN28: =AN8*Annual!$K47/100 -> 2258.3446 | AO28: =AO8*Annual!$K47/100 -> 2146.6211 | AP28: =AP8*Annual!$L47/100 -> 2124.5531 | AQ28: =AQ8*Annual!$L47/100 -> 2083.0058 | AR28: =AR8*Annual!$L47/100 -> 2056.2255 | AS28: =AS8*Annual!$L47/100 -> 1980.4775 | AT28: =AT8*Annual!$M47/100 -> 1954.001 | AU28: =AU8*Annual!$M47/100 -> 1977.565 | AV28: =AV8*Annual!$M47/100 -> 1991.0149 | AW28: =AW8*Annual!$M47/100 -> 2046.1403 | AX28: =AX8*Annual!$N47/100 -> 2054.7503 | AY28: =AY8*Annual!$N47/100 -> 2036.8953 | AZ28: =AZ8*Annual!$N47/100 -> 2047.6928 | BA28: =BA8*Annual!$N47/100 -> 2027.991 | BB28: =BB8*Annual!$O47/100 -> 1853.7046 | BC28: =BC8*Annual!$O47/100 -> 1942.9755 | BD28: =BD8*Annual!$O47/100 -> 1912.8752 | BE28: =BE8*Annual!$O47/100 -> 1923.9329 | BF28: =BF8*Annual!P47/100 -> 1781.1923 | BG28: =BG8*Annual!P47/100 -> 1862.1282 | BH28: =BH8*Annual!P47/100 -> 1879.4619 | BI28: =BI8*Annual!P47/100 -> 1903.3251 | BJ28: =BJ8*Annual!Q47/100 -> 1981.0111 | BK28: =BK8*Annual!Q47/100 -> 1889.6002 | BL28: =BL8*Annual!Q47/100 -> 2028.2818 | BM28: =BM8*Annual!Q47/100 -> 2063.3826 | BN28: =BN8*Annual!$R47/100 -> 1985.3369 | BO28: =BO8*Annual!$R47/100 -> 2010.3256 | BP28: =BP8*Annual!$R47/100 -> 1940.9679 | BQ28: =BQ8*Annual!$R47/100 -> 1954.3877 | BR28: =BR8*Annual!$S47/100 -> 1904.9503 | BS28: =BS8*Annual!$S47/100 -> 2109.3837 | BT28: =BT8*Annual!$S47/100 -> 2032.9355 | BU28: =BU8*Annual!$S47/100 -> 2010.9876 | BV28: =BV8*Annual!$T47/100 -> 1989.9263 | BW28: =BW8*Annual!$T47/100 -> 2085.5977 | BX28: =BX8*Annual!$T47/100 -> 2107.7482 | BY28: =BY8*Annual!$T47/100 -> 2220.6487 | BZ28: =BZ8*Annual!$U47/100 -> 1969.996 | CA28: =CA8*Annual!$U47/100 -> 2074.3834 | CB28: =CB8*Annual!$U47/100 -> 2057.3974 | CC28: =CC8*Annual!$U47/100 -> 2190.2916
A29: Secondary Industries | B29: =SUM(B30:B32) -> 16738.601 | C29: =SUM(C30:C32) -> 17046.516 | D29: =SUM(D30:D32) -> 17938.632 | E29: =SUM(E30:E32) -> 17562.016 | F29: =SUM(F30:F32) -> 17035.531 | G29: =SUM(G30:G32) -> 17298.673 | H29: =SUM(H30:H32) -> 18256.929 | I29: =SUM(I30:I32) -> 18204.308 | ... CC29: =SUM(CC30:CC32) -> 28730.202
A30: Manufacturing | B30: =B10*Annual!$B49/100 -> 12305.124 | C30: =C10*Annual!$B49/100 -> 12540.952 | D30: =D10*Annual!$B49/100 -> 13427.99 | E30: =E10*Annual!$B49/100 -> 13271.534 | F30: =F10*Annual!$C49/100 -> 12628.382 | G30: =G10*Annual!$C49/100 -> 12731.864 | H30: =H10*Annual!$C49/100 -> 13533.494 | I30: =I10*Annual!$C49/100 -> 13552.871 | J30: =J10*Annual!$D49/100 -> 12833.214 | K30: =K10*Annual!$D49/100 -> 13273.969 | L30: =L10*Annual!$D49/100 -> 13916.864 | M30: =M10*Annual!$D49/100 -> 13812.911 | N30: =N10*Annual!$E49/100 -> 13050.805 | O30: =O10*Annual!$E49/100 -> 13274.476 | P30: =P10*Annual!$E49/100 -> 13678.784 | Q30: =Q10*Annual!$E49/100 -> 13590.539 | R30: =R10*Annual!$F49/100 -> 12907.565 | S30: =S10*Annual!$F49/100 -> 13245.447 | T30: =T10*Annual!$F49/100 -> 14000.247 | U30: =U10*Annual!$F49/100 -> 14320.904 | V30: =V10*Annual!$G49/100 -> 13890.065 | W30: =W10*Annual!$G49/100 -> 14383.609 | X30: =X10*Annual!$G49/100 -> 15263.534 | Y30: =Y10*Annual!$G49/100 -> 15648.836 | Z30: =Z10*Annual!H49/100 -> 14754.828 | AA30: =AA10*Annual!H49/100 -> 15051.578 | AB30: =AB10*Annual!H49/100 -> 15479.263 | AC30: =AC10*Annual!H49/100 -> 15682.578 | AD30: =AD10*Annual!$I49/100 -> 14802.952 | AE30: =AE10*Annual!$I49/100 -> 15371.726 | AF30: =AF10*Annual!$I49/100 -> 16190.788 | AG30: =AG10*Annual!$I49/100 -> 16217.874 | AH30: =AH10*Annual!$J49/100 -> 15174.266 | AI30: =AI10*Annual!$J49/100 -> 15224.931 | AJ30: =AJ10*Annual!$J49/100 -> 15886.78 | AK30: =AK10*Annual!$J49/100 -> 15733.974 | AL30: =AL10*Annual!$K49/100 -> 15433.928 | AM30: =AM10*Annual!$K49/100 -> 15858.434 | AN30: =AN10*Annual!$K49/100 -> 16837.327 | AO30: =AO10*Annual!$K49/100 -> 16801.12 | AP30: =AP10*Annual!$L49/100 -> 15985.596 | AQ30: =AQ10*Annual!$L49/100 -> 16992.172 | AR30: =AR10*Annual!$L49/100 -> 18016.501 | AS30: =AS10*Annual!$L49/100 -> 17941.984 | AT30: =AT10*Annual!$M49/100 -> 17033.584 | AU30: =AU10*Annual!$M49/100 -> 17853.345 | AV30: =AV10*Annual!$M49/100 -> 18949.71 | AW30: =AW10*Annual!$M49/100 -> 19260.723 | AX30: =AX10*Annual!$N49/100 -> 18261.276 | AY30: =AY10*Annual!$N49/100 -> 18888.632 | AZ30: =AZ10*Annual!$N49/100 -> 19665.402 | BA30: =BA10*Annual!$N49/100 -> 20246.862 | BB30: =BB10*Annual!$O49/100 -> 18735.665 | BC30: =BC10*Annual!$O49/100 -> 20090.227 | BD30: =BD10*Annual!$O49/100 -> 20503.907 | BE30: =BE10*Annual!$O49/100 -> 19456.669 | BF30: =BF10*Annual!P49/100 -> 16801.953 | BG30: =BG10*Annual!P49/100 -> 17070.854 | BH30: =BH10*Annual!P49/100 -> 18208.788 | BI30: =BI10*Annual!P49/100 -> 18506.185 | BJ30: =BJ10*Annual!Q49/100 -> 17571.067 | BK30: =BK10*Annual!Q49/100 -> 18723.422 | BL30: =BL10*Annual!Q49/100 -> 19363.486 | BM30: =BM10*Annual!Q49/100 -> 19387.523 | BN30: =BN10*Annual!$R49/100 -> 18523.156 | BO30: =BO10*Annual!$R49/100 -> 18992.237 | BP30: =BP10*Annual!$R49/100 -> 19731.557 | BQ30: =BQ10*Annual!$R49/100 -> 19908.156 | BR30: =BR10*Annual!$S49/100 -> 18608.698 | BS30: =BS10*Annual!$S49/100 -> 19328.991 | BT30: =BT10*Annual!$S49/100 -> 20128.258 | BU30: =BU10*Annual!$S49/100 -> 20550.155 | BV30: =BV10*Annual!$T49/100 -> 18592.006 | BW30: =BW10*Annual!$T49/100 -> 19848.28 | BX30: =BX10*Annual!$T49/100 -> 20075.759 | BY30: =BY10*Annual!$T49/100 -> 20797.421 | BZ30: =BZ10*Annual!$U49/100 -> 18962.212 | CA30: =CA10*Annual!$U49/100 -> 19573.163 | CB30: =CB10*Annual!$U49/100 -> 20042.7 | CC30: =CC10*Annual!$U49/100 -> 20878.754
A31: Electricity, gas and water | B31: =B11*Annual!$B50/100 -> 1986.8262 | C31: =C11*Annual!$B50/100 -> 2025.6939 | D31: =D11*Annual!$B50/100 -> 2058.5046 | E31: =E11*Annual!$B50/100 -> 1948.0392 | F31: =F11*Annual!$C50/100 -> 2004.6708 | G31: =G11*Annual!$C50/100 -> 2135.8376 | H31: =H11*Annual!$C50/100 -> 2313.266 | I31: =I11*Annual!$C50/100 -> 2342.181 | J31: =J11*Annual!$D50/100 -> 2213.626 | K31: =K11*Annual!$D50/100 -> 2295.6109 | L31: =L11*Annual!$D50/100 -> 2324.9496 | M31: =M11*Annual!$D50/100 -> 2264.7003 | N31: =N11*Annual!$E50/100 -> 2099.6049 | O31: =O11*Annual!$E50/100 -> 2150.2762 | P31: =P11*Annual!$E50/100 -> 2165.8592 | Q31: =Q11*Annual!$E50/100 -> 2127.0627 | R31: =R11*Annual!$F50/100 -> 2021.1041 | S31: =S11*Annual!$F50/100 -> 2128.3421 | T31: =T11*Annual!$F50/100 -> 2191.1753 | U31: =U11*Annual!$F50/100 -> 2187.1877 | V31: =V11*Annual!$G50/100 -> 2133.9435 | W31: =W11*Annual!$G50/100 -> 2240.6563 | X31: =X11*Annual!$G50/100 -> 2315.9633 | Y31: =Y11*Annual!$G50/100 -> 2231.7237 | Z31: =Z11*Annual!H50/100 -> 2141.1282 | AA31: =AA11*Annual!H50/100 -> 2199.3423 | AB31: =AB11*Annual!H50/100 -> 2267.5136 | AC31: =AC11*Annual!H50/100 -> 2200.6217 | AD31: =AD11*Annual!$I50/100 -> 2186.0573 | AE31: =AE11*Annual!$I50/100 -> 2291.019 | AF31: =AF11*Annual!$I50/100 -> 2368.8398 | AG31: =AG11*Annual!$I50/100 -> 2319.8963 | AH31: =AH11*Annual!$J50/100 -> 2222.5125 | AI31: =AI11*Annual!$J50/100 -> 2309.9359 | AJ31: =AJ11*Annual!$J50/100 -> 2386.9443 | AK31: =AK11*Annual!$J50/100 -> 2341.8123 | AL31: =AL11*Annual!$K50/100 -> 2380.0265 | AM31: =AM11*Annual!$K50/100 -> 2489.716 | AN31: =AN11*Annual!$K50/100 -> 2590.2276 | AO31: =AO11*Annual!$K50/100 -> 2525.8543 | AP31: =AP11*Annual!$L50/100 -> 2533.2276 | AQ31: =AQ11*Annual!$L50/100 -> 2648.8342 | AR31: =AR11*Annual!$L50/100 -> 2721.0078 | AS31: =AS11*Annual!$L50/100 -> 2732.9293 | AT31: =AT11*Annual!$M50/100 -> 2611.9462 | AU31: =AU11*Annual!$M50/100 -> 2743.1725 | AV31: =AV11*Annual!$M50/100 -> 2834.5337 | AW31: =AW11*Annual!$M50/100 -> 2838.8493 | AX31: =AX11*Annual!$N50/100 -> 2704.1476 | AY31: =AY11*Annual!$N50/100 -> 2821.0166 | AZ31: =AZ11*Annual!$N50/100 -> 2945.3726 | BA31: =BA11*Annual!$N50/100 -> 2925.5876 | BB31: =BB11*Annual!$O50/100 -> 2593.4168 | BC31: =BC11*Annual!$O50/100 -> 2672.6883 | BD31: =BD11*Annual!$O50/100 -> 2875.866 | BE31: =BE11*Annual!$O50/100 -> 2743.1006 | BF31: =BF11*Annual!P50/100 -> 2465.0859 | BG31: =BG11*Annual!P50/100 -> 2567.442 | BH31: =BH11*Annual!P50/100 -> 2705.0906 | BI31: =BI11*Annual!P50/100 -> 2682.1591 | BJ31: =BJ11*Annual!Q50/100 -> 2506.0973 | BK31: =BK11*Annual!Q50/100 -> 2604.2241 | BL31: =BL11*Annual!Q50/100 -> 2719.9095 | BM31: =BM11*Annual!Q50/100 -> 2713.574 | BN31: =BN11*Annual!$R50/100 -> 2547.489 | BO31: =BO11*Annual!$R50/100 -> 2650.0174 | BP31: =BP11*Annual!$R50/100 -> 2738.28 | BQ31: =BQ11*Annual!$R50/100 -> 2714.723 | BR31: =BR11*Annual!$S50/100 -> 2563.5091 | BS31: =BS11*Annual!$S50/100 -> 2652.2428 | BT31: =BT11*Annual!$S50/100 -> 2743.3804 | BU31: =BU11*Annual!$S50/100 -> 2711.6981 | BV31: =BV11*Annual!$T50/100 -> 2504.6475 | BW31: =BW11*Annual!$T50/100 -> 2664.1138 | BX31: =BX11*Annual!$T50/100 -> 2772.9456 | BY31: =BY11*Annual!$T50/100 -> 2722.4648 | BZ31: =BZ11*Annual!$U50/100 -> 2532.392 | CA31: =CA11*Annual!$U50/100 -> 2643.9845 | CB31: =CB11*Annual!$U50/100 -> 2738.8913 | CC31: =CC11*Annual!$U50/100 -> 2712.6647
A32: Construction | B32: =B12*Annual!$B51/100 -> 2446.6502 | C32: =C12*Annual!$B51/100 -> 2479.8697 | D32: =D12*Annual!$B51/100 -> 2452.1374 | E32: =E12*Annual!$B51/100 -> 2342.4424 | F32: =F12*Annual!$C51/100 -> 2402.4791 | G32: =G12*Annual!$C51/100 -> 2430.9722 | H32: =H12*Annual!$C51/100 -> 2410.1692 | I32: =I12*Annual!$C51/100 -> 2309.2556 | J32: =J12*Annual!$D51/100 -> 2503.2583 | K32: =K12*Annual!$D51/100 -> 2518.4452 | L32: =L12*Annual!$D51/100 -> 2488.717 | M32: =M12*Annual!$D51/100 -> 2588.8059 | N32: =N12*Annual!$E51/100 -> 2291.9708 | O32: =O12*Annual!$E51/100 -> 2234.4499 | P32: =P12*Annual!$E51/100 -> 2172.5295 | Q32: =Q12*Annual!$E51/100 -> 2263.6579 | R32: =R12*Annual!$F51/100 -> 2105.2949 | S32: =S12*Annual!$F51/100 -> 2102.7424 | T32: =T12*Annual!$F51/100 -> 2069.7807 | U32: =U12*Annual!$F51/100 -> 2174.2208 | V32: =V12*Annual!$G51/100 -> 2131.553 | W32: =W12*Annual!$G51/100 -> 2180.3887 | X32: =X12*Annual!$G51/100 -> 2205.6382 | Y32: =Y12*Annual!$G51/100 -> 2371.5053 | Z32: =Z12*Annual!H51/100 -> 2745.4178 | AA32: =AA12*Annual!H51/100 -> 2768.0096 | AB32: =AB12*Annual!H51/100 -> 2727.3067 | AC32: =AC12*Annual!H51/100 -> 2888.5762 | AD32: =AD12*Annual!$I51/100 -> 2208.5256 | AE32: =AE12*Annual!$I51/100 -> 2210.6846 | AF32: =AF12*Annual!$I51/100 -> 2254.9515 | AG32: =AG12*Annual!$I51/100 -> 2401.6735 | AH32: =AH12*Annual!$J51/100 -> 2349.4211 | AI32: =AI12*Annual!$J51/100 -> 2349.7273 | AJ32: =AJ12*Annual!$J51/100 -> 2392.6353 | AK32: =AK12*Annual!$J51/100 -> 2519.8769 | AL32: =AL12*Annual!$K51/100 -> 2512.9866 | AM32: =AM12*Annual!$K51/100 -> 2570.5609 | AN32: =AN12*Annual!$K51/100 -> 2668.0173 | AO32: =AO12*Annual!$K51/100 -> 2802.4678 | AP32: =AP12*Annual!$L51/100 -> 2852.4757 | AQ32: =AQ12*Annual!$L51/100 -> 2932.7824 | AR32: =AR12*Annual!$L51/100 -> 3034.822 | AS32: =AS12*Annual!$L51/100 -> 3175.4613 | AT32: =AT12*Annual!$M51/100 -> 3081.3119 | AU32: =AU12*Annual!$M51/100 -> 3158.3772 | AV32: =AV12*Annual!$M51/100 -> 3269.8398 | AW32: =AW12*Annual!$M51/100 -> 3418.7035 | AX32: =AX12*Annual!$N51/100 -> 3511.3122 | AY32: =AY12*Annual!$N51/100 -> 3597.3358 | AZ32: =AZ12*Annual!$N51/100 -> 3718.7332 | BA32: =BA12*Annual!$N51/100 -> 4057.8217 | BB32: =BB12*Annual!$O51/100 -> 3929.6565 | BC32: =BC12*Annual!$O51/100 -> 3996.8875 | BD32: =BD12*Annual!$O51/100 -> 4116.5099 | BE32: =BE12*Annual!$O51/100 -> 4351.6175 | BF32: =BF12*Annual!P51/100 -> 4367.2067 | BG32: =BG12*Annual!P51/100 -> 4374.2012 | BH32: =BH12*Annual!P51/100 -> 4481.8085 | BI32: =BI12*Annual!P51/100 -> 4728.8508 | BJ32: =BJ12*Annual!Q51/100 -> 4542.9086 | BK32: =BK12*Annual!Q51/100 -> 4519.3909 | BL32: =BL12*Annual!Q51/100 -> 4492.2404 | BM32: =BM12*Annual!Q51/100 -> 4695.6779 | BN32: =BN12*Annual!$R51/100 -> 4480.4627 | BO32: =BO12*Annual!$R51/100 -> 4522.1575 | BP32: =BP12*Annual!$R51/100 -> 4556.4089 | BQ32: =BQ12*Annual!$R51/100 -> 4773.953 | BR32: =BR12*Annual!$S51/100 -> 4642.8996 | BS32: =BS12*Annual!$S51/100 -> 4605.9179 | BT32: =BT12*Annual!$S51/100 -> 4630.651 | BU32: =BU12*Annual!$S51/100 -> 4870.8863 | BV32: =BV12*Annual!$T51/100 -> 4773.9399 | BW32: =BW12*Annual!$T51/100 -> 4788.1853 | BX32: =BX12*Annual!$T51/100 -> 4804.3558 | BY32: =BY12*Annual!$T51/100 -> 4974.1455 | BZ32: =BZ12*Annual!$U51/100 -> 4944.5203 | CA32: =CA12*Annual!$U51/100 -> 4940.2678 | CB32: =CB12*Annual!$U51/100 -> 4955.1516 | CC32: =CC12*Annual!$U51/100 -> 5138.7831
A33: Tertiary industries | B33: =SUM(B34:B38) -> 36170.403 | C33: =SUM(C34:C38) -> 36580.453 | D33: =SUM(D34:D38) -> 37889.38 | E33: =SUM(E34:E38) -> 39384.114 | F33: =SUM(F34:F38) -> 37837.676 | G33: =SUM(G34:G38) -> 38203.494 | H33: =SUM(H34:H38) -> 39365.037 | I33: =SUM(I34:I38) -> 40846.062 | ... CC33: =SUM(CC34:CC38) -> 78484.963
A34: Wholesale & retail trade; hotels & restaurants | B34: =B14*Annual!$B53/100 -> 7497.264 | C34: =C14*Annual!$B53/100 -> 7691.1341 | D34: =D14*Annual!$B53/100 -> 8202.9456 | E34: =E14*Annual!$B53/100 -> 9428.9998 | F34: =F14*Annual!$C53/100 -> 7811.0894 | G34: =G14*Annual!$C53/100 -> 7937.0873 | H34: =H14*Annual!$C53/100 -> 8321.7743 | I34: =I14*Annual!$C53/100 -> 9487.8796 | J34: =J14*Annual!$D53/100 -> 7988.6377 | K34: =K14*Annual!$D53/100 -> 8040.5825 | L34: =L14*Annual!$D53/100 -> 8349.2972 | M34: =M14*Annual!$D53/100 -> 9365.2983 | N34: =N14*Annual!$E53/100 -> 7959.3882 | O34: =O14*Annual!$E53/100 -> 8134.3456 | P34: =P14*Annual!$E53/100 -> 8434.6733 | Q34: =Q14*Annual!$E53/100 -> 9512.666 | R34: =R14*Annual!$F53/100 -> 8288.7545 | S34: =S14*Annual!$F53/100 -> 8608.8332 | T34: =T14*Annual!$F53/100 -> 9104.2036 | U34: =U14*Annual!$F53/100 -> 10527.966 | V34: =V14*Annual!$G53/100 -> 9109.9262 | W34: =W14*Annual!$G53/100 -> 9451.2925 | X34: =X14*Annual!$G53/100 -> 9850.8359 | Y34: =Y14*Annual!$G53/100 -> 11222.633 | Z34: =Z14*Annual!H53/100 -> 10029.751 | AA34: =AA14*Annual!H53/100 -> 10235.651 | AB34: =AB14*Annual!H53/100 -> 10517.37 | AC34: =AC14*Annual!H53/100 -> 11948.03 | AD34: =AD14*Annual!$I53/100 -> 10170.384 | AE34: =AE14*Annual!$I53/100 -> 10421.57 | AF34: =AF14*Annual!$I53/100 -> 10819.671 | AG34: =AG14*Annual!$I53/100 -> 12365.791 | AH34: =AH14*Annual!$J53/100 -> 10419.058 | AI34: =AI14*Annual!$J53/100 -> 10697.367 | AJ34: =AJ14*Annual!$J53/100 -> 11283.572 | AK34: =AK14*Annual!$J53/100 -> 12896.035 | AL34: =AL14*Annual!$K53/100 -> 10895.031 | AM34: =AM14*Annual!$K53/100 -> 11218.272 | AN34: =AN14*Annual!$K53/100 -> 11728.694 | AO34: =AO14*Annual!$K53/100 -> 13916.666 | AP34: =AP14*Annual!$L53/100 -> 11658.727 | AQ34: =AQ14*Annual!$L53/100 -> 11926.509 | AR34: =AR14*Annual!$L53/100 -> 12488.774 | AS34: =AS14*Annual!$L53/100 -> 14773.919 | AT34: =AT14*Annual!$M53/100 -> 12341.733 | AU34: =AU14*Annual!$M53/100 -> 12695.3 | AV34: =AV14*Annual!$M53/100 -> 13324.08 | AW34: =AW14*Annual!$M53/100 -> 15741.475 | AX34: =AX14*Annual!$N53/100 -> 13182.136 | AY34: =AY14*Annual!$N53/100 -> 13521.797 | AZ34: =AZ14*Annual!$N53/100 -> 14160.676 | BA34: =BA14*Annual!$N53/100 -> 16533.323 | BB34: =BB14*Annual!$O53/100 -> 13823.773 | BC34: =BC14*Annual!$O53/100 -> 13948.729 | BD34: =BD14*Annual!$O53/100 -> 14015.332 | BE34: =BE14*Annual!$O53/100 -> 16449.861 | BF34: =BF14*Annual!P53/100 -> 13851.865 | BG34: =BG14*Annual!P53/100 -> 13846.866 | BH34: =BH14*Annual!P53/100 -> 14193.543 | BI34: =BI14*Annual!P53/100 -> 16465.675 | BJ34: =BJ14*Annual!Q53/100 -> 14167.871 | BK34: =BK14*Annual!Q53/100 -> 14468.539 | BL34: =BL14*Annual!Q53/100 -> 14902.85 | BM34: =BM14*Annual!Q53/100 -> 17448.842 | BN34: =BN14*Annual!$R53/100 -> 14810.019 | BO34: =BO14*Annual!$R53/100 -> 15072.734 | BP34: =BP14*Annual!$R53/100 -> 15627.601 | BQ34: =BQ14*Annual!$R53/100 -> 18374.393 | BR34: =BR14*Annual!$S53/100 -> 15455.621 | BS34: =BS14*Annual!$S53/100 -> 15659.093 | BT34: =BT14*Annual!$S53/100 -> 16125.375 | BU34: =BU14*Annual!$S53/100 -> 18845.17 | BV34: =BV14*Annual!$T53/100 -> 15689.275 | BW34: =BW14*Annual!$T53/100 -> 15916.444 | BX34: =BX14*Annual!$T53/100 -> 16343.109 | BY34: =BY14*Annual!$T53/100 -> 19111.809 | BZ34: =BZ14*Annual!$U53/100 -> 15906.334 | CA34: =CA14*Annual!$U53/100 -> 15984.835 | CB34: =CB14*Annual!$U53/100 -> 16530.051 | CC34: =CC14*Annual!$U53/100 -> 19227.485
A35: Transport , storage and communication | B35: =B15*Annual!$B54/100 -> 5497.7181 | C35: =C15*Annual!$B54/100 -> 5510.6515 | D35: =D15*Annual!$B54/100 -> 5963.1969 | E35: =E15*Annual!$B54/100 -> 6086.8406 | F35: =F15*Annual!$C54/100 -> 5840.6538 | G35: =G15*Annual!$C54/100 -> 5814.2817 | H35: =H15*Annual!$C54/100 -> 6211.1903 | I35: =I15*Annual!$C54/100 -> 6245.3285 | J35: =J15*Annual!$D54/100 -> 6073.961 | K35: =K15*Annual!$D54/100 -> 6130.9862 | L35: =L15*Annual!$D54/100 -> 6554.3301 | M35: =M15*Annual!$D54/100 -> 6713.8579 | N35: =N15*Annual!$E54/100 -> 6515.2394 | O35: =O15*Annual!$E54/100 -> 6541.5949 | P35: =P15*Annual!$E54/100 -> 6772.0931 | Q35: =Q15*Annual!$E54/100 -> 6850.0604 | R35: =R15*Annual!$F54/100 -> 6559.9493 | S35: =S15*Annual!$F54/100 -> 6709.3922 | T35: =T15*Annual!$F54/100 -> 7103.3819 | U35: =U15*Annual!$F54/100 -> 7266.7187 | V35: =V15*Annual!$G54/100 -> 7014.6133 | W35: =W15*Annual!$G54/100 -> 7194.0163 | X35: =X15*Annual!$G54/100 -> 7549.9753 | Y35: =Y15*Annual!$G54/100 -> 7648.6412 | Z35: =Z15*Annual!H54/100 -> 7337.634 | AA35: =AA15*Annual!H54/100 -> 7477.1793 | AB35: =AB15*Annual!H54/100 -> 7888.7724 | AC35: =AC15*Annual!H54/100 -> 8135.898 | AD35: =AD15*Annual!$I54/100 -> 8014.1592 | AE35: =AE15*Annual!$I54/100 -> 8229.3166 | AF35: =AF15*Annual!$I54/100 -> 8640.8307 | AG35: =AG15*Annual!$I54/100 -> 8840.2546 | AH35: =AH15*Annual!$J54/100 -> 8651.491 | AI35: =AI15*Annual!$J54/100 -> 8820.6351 | AJ35: =AJ15*Annual!$J54/100 -> 9165.7805 | AK35: =AK15*Annual!$J54/100 -> 9444.3539 | AL35: =AL15*Annual!$K54/100 -> 8975.2692 | AM35: =AM15*Annual!$K54/100 -> 9165.1 | AN35: =AN15*Annual!$K54/100 -> 9666.0029 | AO35: =AO15*Annual!$K54/100 -> 9891.9784 | AP35: =AP15*Annual!$L54/100 -> 9540.3574 | AQ35: =AQ15*Annual!$L54/100 -> 9743.6184 | AR35: =AR15*Annual!$L54/100 -> 10216.587 | AS35: =AS15*Annual!$L54/100 -> 10427.864 | AT35: =AT15*Annual!$M54/100 -> 9989.8923 | AU35: =AU15*Annual!$M54/100 -> 10228.498 | AV35: =AV15*Annual!$M54/100 -> 10829.044 | AW35: =AW15*Annual!$M54/100 -> 10957.36 | AX35: =AX15*Annual!$N54/100 -> 10887.276 | AY35: =AY15*Annual!$N54/100 -> 11101.863 | AZ35: =AZ15*Annual!$N54/100 -> 11652.094 | BA35: =BA15*Annual!$N54/100 -> 11851.239 | BB35: =BB15*Annual!$O54/100 -> 11349.573 | BC35: =BC15*Annual!$O54/100 -> 11557.044 | BD35: =BD15*Annual!$O54/100 -> 12102.573 | BE35: =BE15*Annual!$O54/100 -> 12176.992 | BF35: =BF15*Annual!P54/100 -> 11423.34 | BG35: =BG15*Annual!P54/100 -> 11562.783 | BH35: =BH15*Annual!P54/100 -> 12085.883 | BI35: =BI15*Annual!P54/100 -> 12164.522 | BJ35: =BJ15*Annual!Q54/100 -> 11524.215 | BK35: =BK15*Annual!Q54/100 -> 11805.509 | BL35: =BL15*Annual!Q54/100 -> 12419.689 | BM35: =BM15*Annual!Q54/100 -> 12527.262 | BN35: =BN15*Annual!$R54/100 -> 11830.423 | BO35: =BO15*Annual!$R54/100 -> 12156.519 | BP35: =BP15*Annual!$R54/100 -> 12736.894 | BQ35: =BQ15*Annual!$R54/100 -> 12895.225 | BR35: =BR15*Annual!$S54/100 -> 12196.712 | BS35: =BS15*Annual!$S54/100 -> 12493.681 | BT35: =BT15*Annual!$S54/100 -> 13030.47 | BU35: =BU15*Annual!$S54/100 -> 13159.11 | BV35: =BV15*Annual!$T54/100 -> 12462.147 | BW35: =BW15*Annual!$T54/100 -> 12745.287 | BX35: =BX15*Annual!$T54/100 -> 13351.633 | BY35: =BY15*Annual!$T54/100 -> 13466.975 | BZ35: =BZ15*Annual!$U54/100 -> 12712.223 | CA35: =CA15*Annual!$U54/100 -> 13087.954 | CB35: =CB15*Annual!$U54/100 -> 13686.2 | CC35: =CC15*Annual!$U54/100 -> 13850.688
