Workbook

Sheet KZN
A1: KWAZULU-NATAL
A2: Real Y-o-Y Growth Rates | B2: Gross Domestic Product | C2: Annual Gross Operating Surplus | D2: Annual Compensation of Employees | H2: gos | I2: comp
A3: 1996 | B3: 4.1640435 | C3: =H3-J3 -> 5.5430213 | D3: =I3-J3 -> 4.0705888 | H3: 12.943021 | I3: 11.470589 | J3: 7.4
A4: 1997 | B4: 1.7717994 | C4: =H4-J4 -> 2.4515231 | D4: =I4-J4 -> 0.2117479 | H4: 11.051523 | I4: 8.8117479 | J4: 8.6
A5: 1998 | B5: 0.86974819 | C5: =H5-J5 -> -2.633072 | D5: =I5-J5 -> 3.6369437 | H5: 4.266928 | I5: 10.536944 | J5: 6.9
A6: 1999 | B6: 1.2657932 | C6: =H6-J6 -> 3.1165847 | D6: =I6-J6 -> 1.5846897 | H6: 8.3165847 | I6: 6.7846897 | J6: 5.2
A7: 2000 | B7: 4.5417255 | C7: =H7-J7 -> 11.414984 | D7: =I7-J7 -> 3.896415 | H7: 16.714984 | I7: 9.196415 | J7: 5.3
A8: 2001 | B8: 4.3468657 | C8: =H8-J8 -> 9.3156048 | D8: =I8-J8 -> 2.7812349 | H8: 15.015605 | I8: 8.4812349 | J8: 5.7
A9: 2002 | B9: 2.2675826 | C9: =H9-J9 -> 10.262265 | D9: =I9-J9 -> 0.5133823 | H9: 19.462265 | I9: 9.7133823 | J9: 9.2
A10: 2003 | B10: 3.2308136 | C10: =H10-J10 -> 4.0552209 | D10: =I10-J10 -> 4.3889727 | H10: 9.9552209 | I10: 10.288973 | J10: 5.9
A11: 2004 | B11: 4.4598729 | C11: =H11-J11 -> 9.0775902 | D11: =I11-J11 -> 8.1684575 | H11: 10.47759 | I11: 9.5684575 | J11: 1.4
A12: 2005 | B12: 5.673576 | C12: =H12-J12 -> 6.3988526 | D12: =I12-J12 -> 6.5152128 | H12: 9.7988526 | I12: 9.9152128 | J12: 3.4
A13: 2006 | B13: 5.4039474 | C13: =H13-J13 -> 5.9879088 | D13: =I13-J13 -> 6.0377223 | H13: 10.587909 | I13: 10.637722 | J13: 4.6
A14: 2007 | B14: 6.1882202 | C14: =H14-J14 -> 8.2735967 | D14: =I14-J14 -> 6.9480047 | H14: 15.373597 | I14: 14.048005 | J14: 7.1
A15: 2008 | B15: 4.0164005 | C15: =H15-J15 -> 1.0278872 | D15: =I15-J15 -> 1.7953066 | H15: 12.527887 | I15: 13.295307 | J15: 11.5
A16: 2009 | B16: -1.3295697 | C16: =H16-J16 -> -2.3951869 | D16: =I16-J16 -> 1.450882 | H16: 4.7048131 | I16: 8.550882 | J16: 7.1
A17: 2010 | B17: 3.4337222 | C17: =H17-J17 -> 2.9055373 | D17: =I17-J17 -> 8.3299456 | H17: 6.2055373 | I17: 11.629946 | J17: 3.3
A18: 2011 | B18: 3.5395191 | C18: =H18-J18 -> 3.4851597 | D18: =I18-J18 -> 5.0512235 | H18: 8.1051597 | I18: 9.6712235 | J18: 4.62
A19: 2012 | B19: 2.5544752 | C19: =H19-J19 -> 2.1802117 | D19: =I19-J19 -> 2.377005 | H19: 8.1602117 | I19: 8.357005 | J19: 5.98
A20: 2013 | B20: 2.0977941 | C20: =H20-J20 -> 1.761265 | D20: =I20-J20 -> 3.6122051 | H20: 7.381265 | I20: 9.2322051 | J20: 5.62
A21: 2014 | B21: 1.6424049 | C21: =H21-J21 -> 2.6583808 | D21: =I21-J21 -> 2.679583 | H21: 7.9583808 | I21: 7.979583 | J21: 5.3
B23: =B2 -> Gross Domestic Product | C23: =C2 -> Annual Gross Operating Surplus | D23: =D2 -> Annual Compensation of Employees
A24: Average | B24: =AVERAGE(B3:B21) -> 3.1651965 | C24: =AVERAGE(C3:C21) -> 4.4677545 | D24: =AVERAGE(D3:D21) -> 3.8973433

Sheet Ethekwini
A1: ETHEKWINI
A2: Real Y-o-Y Growth Rates | B2: Gross Domestic Product | C2: Annual Gross Operating Surplus | D2: Annual Compensation of Employees | H2: gos | I2: comp
A3: 2003 | B3: 3.2308142 | C3: =H3-J3 -> 4.055029 | D3: =I3-J3 -> 4.388878 | H3: 9.955029 | I3: 10.288878 | J3: 5.9
A4: 2004 | B4: 4.4598726 | C4: =H4-J4 -> 9.0775902 | D4: =I4-J4 -> 8.168458 | H4: 10.47759 | I4: 9.568458 | J4: 1.4
A5: 2005 | B5: 5.6735749 | C5: =H5-J5 -> 6.3988526 | D5: =I5-J5 -> 6.515215 | H5: 9.7988526 | I5: 9.915215 | J5: 3.4
A6: 2006 | B6: 5.403946 | C6: =H6-J6 -> 5.9879088 | D6: =I6-J6 -> 6.0377201 | H6: 10.587909 | I6: 10.63772 | J6: 4.6
A7: 2007 | B7: 6.1882202 | C7: =H7-J7 -> 8.2735967 | D7: =I7-J7 -> 6.9480041 | H7: 15.373597 | I7: 14.048004 | J7: 7.1
A8: 2008 | B8: 5.1175844 | C8: =H8-J8 -> 2.251721 | D8: =I8-J8 -> 2.9109036 | H8: 13.751721 | I8: 14.410904 | J8: 11.5
A9: 2009 | B9: -3.0400552 | C9: =H9-J9 -> -5.2178538 | D9: =I9-J9 -> -1.3974601 | H9: 1.8821462 | I9: 5.7025399 | J9: 7.1
A10: 2010 | B10: 4.9242892 | C10: =H10-J10 -> 4.478285 | D10: =I10-J10 -> 9.963286 | H10: 7.778285 | I10: 13.263286 | J10: 3.3
A11: 2011 | B11: 3.5836201 | C11: =H11-J11 -> 3.5752478 | D11: =I11-J11 -> 5.2172308 | H11: 8.1952478 | I11: 9.8372308 | J11: 4.62
A12: 2012 | B12: 2.1123905 | C12: =H12-J12 -> 1.5407177 | D12: =I12-J12 -> 1.6715538 | H12: 7.5207177 | I12: 7.6515538 | J12: 5.98
A13: 2013 | B13: 2.4533513 | C13: =H13-J13 -> 2.2184235 | D13: =I13-J13 -> 3.9557427 | H13: 7.8384235 | I13: 9.5757427 | J13: 5.62
A14: 2014 | B14: 1.7983523 | C14: =H14-J14 -> 2.4849382 | D14: =I14-J14 -> 2.6095812 | H14: 7.7849382 | I14: 7.9095812 | J14: 5.3
B16: =B2 -> Gross Domestic Product | C16: =C2 -> Annual Gross Operating Surplus | D16: =D2 -> Annual Compensation of Employees
A17: Average | B17: =AVERAGE(B3:B14) -> 3.4921634 | C17: =AVERAGE(C3:C14) -> 3.7603714 | D17: =AVERAGE(D3:D14) -> 4.7490928

Sheet Msunduzi
A1: MSUNDUZI
A2: Real Y-o-Y Growth Rates | B2: Gross Domestic Product | C2: Annual Gross Operating Surplus | D2: Annual Compensation of Employees | H2: gos | I2: comp
A3: 2003 | B3: 3.2308142 | C3: =H3-J3 -> 4.055029 | D3: =I3-J3 -> 4.388878 | H3: 9.955029 | I3: 10.288878 | J3: =Ethekwini!J3 -> 5.9
A4: 2004 | B4: 4.4598726 | C4: =H4-J4 -> 9.0775902 | D4: =I4-J4 -> 8.168458 | H4: 10.47759 | I4: 9.568458 | J4: =Ethekwini!J4 -> 1.4
A5: 2005 | B5: 5.6735749 | C5: =H5-J5 -> 6.3988526 | D5: =I5-J5 -> 6.515215 | H5: 9.7988526 | I5: 9.915215 | J5: =Ethekwini!J5 -> 3.4
A6: 2006 | B6: 5.403946 | C6: =H6-J6 -> 5.9879088 | D6: =I6-J6 -> 6.0377201 | H6: 10.587909 | I6: 10.63772 | J6: =Ethekwini!J6 -> 4.6
A7: 2007 | B7: 6.1882202 | C7: =H7-J7 -> 8.2735967 | D7: =I7-J7 -> 6.9480041 | H7: 15.373597 | I7: 14.048004 | J7: =Ethekwini!J7 -> 7.1
A8: 2008 | B8: 2.4442105 | C8: =H8-J8 -> -0.80258014 | D8: =I8-J8 -> 0.15147582 | H8: 10.69742 | I8: 11.651476 | J8: =Ethekwini!J8 -> 11.5
A9: 2009 | B9: 6.2758041 | C9: =H9-J9 -> 4.5742315 | D9: =I9-J9 -> 8.8809544 | H9: 11.674232 | I9: 15.980954 | J9: =Ethekwini!J9 -> 7.1
A10: 2010 | B10: -0.40196583 | C10: =H10-J10 -> -0.95465682 | D10: =I10-J10 -> 4.0701092 | H10: 2.3453432 | I10: 7.3701092 | J10: =Ethekwini!J10 -> 3.3
A11: 2011 | B11: 4.0680869 | C11: =H11-J11 -> 4.0683477 | D11: =I11-J11 -> 5.7306808 | H11: 8.6883477 | I11: 10.350681 | J11: =Ethekwini!J11 -> 4.62
A12: 2012 | B12: 3.5874854 | C12: =H12-J12 -> 3.0899662 | D12: =I12-J12 -> 3.2436943 | H12: 9.0699662 | I12: 9.2236943 | J12: =Ethekwini!J12 -> 5.98
A13: 2013 | B13: 1.3223321 | C13: =H13-J13 -> 1.0233535 | D13: =I13-J13 -> 2.7226533 | H13: 6.6433535 | I13: 8.3426533 | J13: =Ethekwini!J13 -> 5.62
A14: 2014 | B14: 2.0618041 | C14: =H14-J14 -> 2.7179375 | D14: =I14-J14 -> 2.9046954 | H14: 8.0179375 | I14: 8.2046954 | J14: =Ethekwini!J14 -> 5.3
B16: =B2 -> Gross Domestic Product | C16: =C2 -> Annual Gross Operating Surplus | D16: =D2 -> Annual Compensation of Employees
A17: Average | B17: =AVERAGE(B3:B14) -> 3.6928488 | C17: =AVERAGE(C3:C14) -> 3.9591314 | D17: =AVERAGE(D3:D14) -> 4.9802115

Sheet Mthlatuze
A1: MTHLATUZE
A2: Real Y-o-Y Growth Rates | B2: Gross Domestic Product | C2: Annual Gross Operating Surplus | D2: Annual Compensation of Employees | H2: gos | I2: comp
A3: 2003 | B3: 3.2308142 | C3: =H3-J3 -> 4.055029 | D3: =I3-J3 -> 4.388878 | H3: 9.955029 | I3: 10.288878 | J3: =Ethekwini!J3 -> 5.9
A4: 2004 | B4: 4.4598726 | C4: =H4-J4 -> 9.0775902 | D4: =I4-J4 -> 8.168458 | H4: 10.47759 | I4: 9.568458 | J4: =Ethekwini!J4 -> 1.4
A5: 2005 | B5: 5.6735749 | C5: =H5-J5 -> 6.3988526 | D5: =I5-J5 -> 6.515215 | H5: 9.7988526 | I5: 9.915215 | J5: =Ethekwini!J5 -> 3.4
A6: 2006 | B6: 5.403946 | C6: =H6-J6 -> 5.9879088 | D6: =I6-J6 -> 6.0377201 | H6: 10.587909 | I6: 10.63772 | J6: =Ethekwini!J6 -> 4.6
A7: 2007 | B7: 6.1882202 | C7: =H7-J7 -> 8.2735967 | D7: =I7-J7 -> 6.9480041 | H7: 15.373597 | I7: 14.048004 | J7: =Ethekwini!J7 -> 7.1
A8: 2008 | B8: 9.9050009 | C8: =H8-J8 -> 7.5691548 | D8: =I8-J8 -> 8.1078982 | H8: 19.069155 | I8: 19.607898 | J8: =Ethekwini!J8 -> 11.5
A9: 2009 | B9: -12.074331 | C9: =H9-J9 -> -14.875086 | D9: =I9-J9 -> -11.119913 | H9: -7.7750858 | I9: -4.0199135 | J9: =Ethekwini!J9 -> 7.1
A10: 2010 | B10: 10.478308 | C10: =H10-J10 -> 10.263431 | D10: =I10-J10 -> 15.834835 | H10: 13.563431 | I10: 19.134835 | J10: =Ethekwini!J10 -> 3.3
A11: 2011 | B11: 3.5251212 | C11: =H11-J11 -> 3.5544506 | D11: =I11-J11 -> 5.1608371 | H11: 8.1744506 | I11: 9.7808371 | J11: =Ethekwini!J11 -> 4.62
A12: 2012 | B12: 0.45105113 | C12: =H12-J12 -> -0.2563586 | D12: =I12-J12 -> -0.065667558 | H12: 5.7236414 | I12: 5.9143324 | J12: =Ethekwini!J12 -> 5.98
A13: 2013 | B13: 3.6017697 | C13: =H13-J13 -> 3.4565854 | D13: =I13-J13 -> 5.1727067 | H13: 9.0765854 | I13: 10.792707 | J13: =Ethekwini!J13 -> 5.62
A14: 2014 | B14: 1.5997371 | C14: =H14-J14 -> 2.2493883 | D14: =I14-J14 -> 2.4010532 | H14: 7.5493883 | I14: 7.7010532 | J14: =Ethekwini!J14 -> 5.3
B16: =B2 -> Gross Domestic Product | C16: =C2 -> Annual Gross Operating Surplus | D16: =D2 -> Annual Compensation of Employees
A17: Average | B17: =AVERAGE(B3:B14) -> 3.5369237 | C17: =AVERAGE(C3:C14) -> 3.8128786 | D17: =AVERAGE(D3:D14) -> 4.7958353

Sheet Hibiscus
A1: Hibiscus
A2: Real Y-O-Y Growth Rates | B2: Gross Domestic Product | C2: Annual Gross Operating Surplus | D2: Annual Compensation of Employees | H2: gos | I2: comp
A3: 2003 | B3: 3.2308142 | C3: =H3-J3 -> 4.055029 | D3: =I3-J3 -> 4.388878 | H3: 9.955029 | I3: 10.288878 | J3: =Ethekwini!J3 -> 5.9
A4: 2004 | B4: 4.4598726 | C4: =H4-J4 -> 9.0775902 | D4: =I4-J4 -> 8.168458 | H4: 10.47759 | I4: 9.568458 | J4: =Ethekwini!J4 -> 1.4
A5: 2005 | B5: 5.6735749 | C5: =H5-J5 -> 6.3988526 | D5: =I5-J5 -> 6.515215 | H5: 9.7988526 | I5: 9.915215 | J5: =Ethekwini!J5 -> 3.4
A6: 2006 | B6: 5.403946 | C6: =H6-J6 -> 5.9879088 | D6: =I6-J6 -> 6.0377201 | H6: 10.587909 | I6: 10.63772 | J6: =Ethekwini!J6 -> 4.6
A7: 2007 | B7: 6.1882202 | C7: =H7-J7 -> 8.2735967 | D7: =I7-J7 -> 6.9480041 | H7: 15.373597 | I7: 14.048004 | J7: =Ethekwini!J7 -> 7.1
A8: 2008 | B8: 0.88899188 | C8: =H8-J8 -> -2.5370773 | D8: =I8-J8 -> 8.1078982 | H8: 8.9629227 | I8: 19.607898 | J8: =Ethekwini!J8 -> 11.5
A9: 2009 | B9: 6.292626 | C9: =H9-J9 -> 4.8186288 | D9: =I9-J9 -> -11.119913 | H9: 11.918629 | I9: -4.0199135 | J9: =Ethekwini!J9 -> 7.1
A10: 2010 | B10: 0.098324501 | C10: =H10-J10 -> -0.5729768 | D10: =I10-J10 -> 15.834835 | H10: 2.7270232 | I10: 19.134835 | J10: =Ethekwini!J10 -> 3.3
A11: 2011 | B11: 3.7187136 | C11: =H11-J11 -> 3.697683 | D11: =I11-J11 -> 5.1608371 | H11: 8.317683 | I11: 9.7808371 | J11: =Ethekwini!J11 -> 4.62
A12: 2012 | B12: 3.6438723 | C12: =H12-J12 -> 3.1930535 | D12: =I12-J12 -> -0.065667558 | H12: 9.1730535 | I12: 5.9143324 | J12: =Ethekwini!J12 -> 5.98
A13: 2013 | B13: 1.3983133 | C13: =H13-J13 -> 1.077586 | D13: =I13-J13 -> 5.1727067 | H13: 6.697586 | I13: 10.792707 | J13: =Ethekwini!J13 -> 5.62
A14: 2014 | B14: 1.993932 | C14: =H14-J14 -> 2.6749775 | D14: =I14-J14 -> 2.4010532 | H14: 7.9749775 | I14: 7.7010532 | J14: =Ethekwini!J14 -> 5.3
B16: =B2 -> Gross Domestic Product | C16: Annual Gross Operating Surplus | D16: =D2 -> Annual Compensation of Employees
A17: Average | B17: =AVERAGE(B3:B14) -> 3.5826001 | C17: =AVERAGE(C3:C14) -> 3.8454043 | D17: =AVERAGE(D3:D14) -> 4.7958353

Sheet Newcastle
A1: Newcastle
A2: Real Y-O-Y Growth Rates | B2: Gross Domestic Product | C2: Annual Gross Operating Surplus | D2: Annual Compensation of Employees | H2: gos | I2: comp
A3: 2003 | B3: 3.2308142 | C3: =H3-J3 -> 4.055029 | D3: =I3-J3 -> 4.388878 | H3: 9.955029 | I3: 10.288878 | J3: =Ethekwini!J3 -> 5.9
A4: 2004 | B4: 4.4598726 | C4: =H4-J4 -> 9.0775902 | D4: =I4-J4 -> 8.168458 | H4: 10.47759 | I4: 9.568458 | J4: =Ethekwini!J4 -> 1.4
A5: 2005 | B5: 5.6735749 | C5: =H5-J5 -> 6.3988526 | D5: =I5-J5 -> 6.515215 | H5: 9.7988526 | I5: 9.915215 | J5: =Ethekwini!J5 -> 3.4
A6: 2006 | B6: 5.403946 | C6: =H6-J6 -> 5.9879088 | D6: =I6-J6 -> 6.0377201 | H6: 10.587909 | I6: 10.63772 | J6: =Ethekwini!J6 -> 4.6
A7: 2007 | B7: 6.1882202 | C7: =H7-J7 -> 8.2735967 | D7: =I7-J7 -> 6.9480041 | H7: 15.373597 | I7: 14.048004 | J7: =Ethekwini!J7 -> 7.1
A8: 2008 | B8: 3.6441323 | C8: =H8-J8 -> 0.54141864 | D8: =I8-J8 -> 1.4738945 | H8: 12.041419 | I8: 12.973895 | J8: =Ethekwini!J8 -> 11.5
A9: 2009 | B9: -0.045169442 | C9: =H9-J9 -> -1.8959467 | D9: =I9-J9 -> 1.6722044 | H9: 5.2040533 | I9: 8.7722044 | J9: =Ethekwini!J9 -> 7.1
A10: 2010 | B10: 3.3108767 | C10: =H10-J10 -> 2.7344505 | D10: =I10-J10 -> 8.2915376 | H10: 6.0344505 | I10: 11.591538 | J10: =Ethekwini!J10 -> 3.3
A11: 2011 | B11: 3.6128514 | C11: =H11-J11 -> 3.6037475 | D11: =I11-J11 -> 5.250964 | H11: 8.2237475 | I11: 9.870964 | J11: =Ethekwini!J11 -> 4.62
A12: 2012 | B12: 2.622209 | C12: =H12-J12 -> 2.1181129 | D12: =I12-J12 -> 2.186982 | H12: 8.0981129 | I12: 8.166982 | J12: =Ethekwini!J12 -> 5.98
A13: 2013 | B13: 2.1070197 | C13: =H13-J13 -> 1.8254358 | D13: =I13-J13 -> 3.5948384 | H13: 7.4454358 | I13: 9.2148384 | J13: =Ethekwini!J13 -> 5.62
A14: 2014 | B14: 1.8585405 | C14: =H14-J14 -> 2.5354165 | D14: =I14-J14 -> 2.6771737 | H14: 7.8354165 | I14: 7.9771737 | J14: =Ethekwini!J14 -> 5.3
B16: =B2 -> Gross Domestic Product | C16: =C2 -> Annual Gross Operating Surplus | D16: =D2 -> Annual Compensation of Employees
A17: Average | B17: =AVERAGE(B3:B14) -> 3.505574 | C17: =AVERAGE(C3:C14) -> 3.771301 | D17: =AVERAGE(D3:D14) -> 4.7671558

Sheet GDP
A1: GROSS DOMESTIC PRODUCT
A2: =KZN!A2 -> Real Y-o-Y Growth Rates | B2: KZN | C2: Ethekwini | D2: Msunduzi | E2: Mthlatuze | F2: Hibiscus | G2: Newcastle
A3: =KZN!A10 -> 2003 | B3: =KZN!B10 -> 3.2308136 | C3: =Ethekwini!B3 -> 3.2308142 | D3: =Msunduzi!B3 -> 3.2308142 | E3: =Mthlatuze!B3 -> 3.2308142 | F3: =Hibiscus!B3 -> 3.2308142 | G3: =Newcastle!B3 -> 3.2308142
A4: =KZN!A11 -> 2004 | B4: =KZN!B11 -> 4.4598729 | C4: =Ethekwini!B4 -> 4.4598726 | D4: =Msunduzi!B4 -> 4.4598726 | E4: =Mthlatuze!B4 -> 4.4598726 | F4: =Hibiscus!B4 -> 4.4598726 | G4: =Newcastle!B4 -> 4.4598726
A5: =KZN!A12 -> 2005 | B5: =KZN!B12 -> 5.673576 | C5: =Ethekwini!B5 -> 5.6735749 | D5: =Msunduzi!B5 -> 5.6735749 | E5: =Mthlatuze!B5 -> 5.6735749 | F5: =Hibiscus!B5 -> 5.6735749 | G5: =Newcastle!B5 -> 5.6735749
A6: =KZN!A13 -> 2006 | B6: =KZN!B13 -> 5.4039474 | C6: =Ethekwini!B6 -> 5.403946 | D6: =Msunduzi!B6 -> 5.403946 | E6: =Mthlatuze!B6 -> 5.403946 | F6: =Hibiscus!B6 -> 5.403946 | G6: =Newcastle!B6 -> 5.403946
A7: =KZN!A14 -> 2007 | B7: =KZN!B14 -> 6.1882202 | C7: =Ethekwini!B7 -> 6.1882202 | D7: =Msunduzi!B7 -> 6.1882202 | E7: =Mthlatuze!B7 -> 6.1882202 | F7: =Hibiscus!B7 -> 6.1882202 | G7: =Newcastle!B7 -> 6.1882202
A8: =KZN!A15 -> 2008 | B8: =KZN!B15 -> 4.0164005 | C8: =Ethekwini!B8 -> 5.1175844 | D8: =Msunduzi!B8 -> 2.4442105 | E8: =Mthlatuze!B8 -> 9.9050009 | F8: =Hibiscus!B8 -> 0.88899188 | G8: =Newcastle!B8 -> 3.6441323
A9: =KZN!A16 -> 2009 | B9: =KZN!B16 -> -1.3295697 | C9: =Ethekwini!B9 -> -3.0400552 | D9: =Msunduzi!B9 -> 6.2758041 | E9: =Mthlatuze!B9 -> -12.074331 | F9: =Hibiscus!B9 -> 6.292626 | G9: =Newcastle!B9 -> -0.045169442
A10: =KZN!A17 -> 2010 | B10: =KZN!B17 -> 3.4337222 | C10: =Ethekwini!B10 -> 4.9242892 | D10: =Msunduzi!B10 -> -0.40196583 | E10: =Mthlatuze!B10 -> 10.478308 | F10: =Hibiscus!B10 -> 0.098324501 | G10: =Newcastle!B10 -> 3.3108767
A11: =KZN!A18 -> 2011 | B11: =KZN!B18 -> 3.5395191 | C11: =Ethekwini!B11 -> 3.5836201 | D11: =Msunduzi!B11 -> 4.0680869 | E11: =Mthlatuze!B11 -> 3.5251212 | F11: =Hibiscus!B11 -> 3.7187136 | G11: =Newcastle!B11 -> 3.6128514
A12: =KZN!A19 -> 2012 | B12: =KZN!B19 -> 2.5544752 | C12: =Ethekwini!B12 -> 2.1123905 | D12: =Msunduzi!B12 -> 3.5874854 | E12: =Mthlatuze!B12 -> 0.45105113 | F12: =Hibiscus!B12 -> 3.6438723 | G12: =Newcastle!B12 -> 2.622209
A13: =KZN!A20 -> 2013 | B13: =KZN!B20 -> 2.0977941 | C13: =Ethekwini!B13 -> 2.4533513 | D13: =Msunduzi!B13 -> 1.3223321 | E13: =Mthlatuze!B13 -> 3.6017697 | F13: =Hibiscus!B13 -> 1.3983133 | G13: =Newcastle!B13 -> 2.1070197
A14: =KZN!A21 -> 2014 | B14: =KZN!B21 -> 1.6424049 | C14: =Ethekwini!B14 -> 1.7983523 | D14: =Msunduzi!B14 -> 2.0618041 | E14: =Mthlatuze!B14 -> 1.5997371 | F14: =Hibiscus!B14 -> 1.993932 | G14: =Newcastle!B14 -> 1.8585405
B16: =B2 -> KZN | C16: =C2 -> Ethekwini | D16: =D2 -> Msunduzi | E16: =E2 -> Mthlatuze | F16: =F2 -> Hibiscus | G16: =G2 -> Newcastle
A17: =KZN!A24 -> Average | B17: =KZN!B24 -> 3.1651965 | C17: =Ethekwini!B17 -> 3.4921634 | D17: =Msunduzi!B17 -> 3.6928488 | E17: =Mthlatuze!B17 -> 3.5369237 | F17: =Hibiscus!B17 -> 3.5826001 | G17: =Newcastle!B17 -> 3.505574

Sheet GOS
A1: GROSS OPERATING SURPLUS
A2: =KZN!A2 -> Real Y-o-Y Growth Rates | B2: KZN | C2: Ethekwini | D2: Msunduzi | E2: Mthlatuze | F2: Hibiscus | G2: Newcastle
A3: =KZN!A10 -> 2003 | B3: =KZN!C10 -> 4.0552209 | C3: =Ethekwini!C3 -> 4.055029 | D3: =Msunduzi!C3 -> 4.055029 | E3: =Mthlatuze!C3 -> 4.055029 | F3: =Hibiscus!C3 -> 4.055029 | G3: =Newcastle!C3 -> 4.055029
A4: =KZN!A11 -> 2004 | B4: =KZN!C11 -> 9.0775902 | C4: =Ethekwini!C4 -> 9.0775902 | D4: =Msunduzi!C4 -> 9.0775902 | E4: =Mthlatuze!C4 -> 9.0775902 | F4: =Hibiscus!C4 -> 9.0775902 | G4: =Newcastle!C4 -> 9.0775902
A5: =KZN!A12 -> 2005 | B5: =KZN!C12 -> 6.3988526 | C5: =Ethekwini!C5 -> 6.3988526 | D5: =Msunduzi!C5 -> 6.3988526 | E5: =Mthlatuze!C5 -> 6.3988526 | F5: =Hibiscus!C5 -> 6.3988526 | G5: =Newcastle!C5 -> 6.3988526
A6: =KZN!A13 -> 2006 | B6: =KZN!C13 -> 5.9879088 | C6: =Ethekwini!C6 -> 5.9879088 | D6: =Msunduzi!C6 -> 5.9879088 | E6: =Mthlatuze!C6 -> 5.9879088 | F6: =Hibiscus!C6 -> 5.9879088 | G6: =Newcastle!C6 -> 5.9879088
A7: =KZN!A14 -> 2007 | B7: =KZN!C14 -> 8.2735967 | C7: =Ethekwini!C7 -> 8.2735967 | D7: =Msunduzi!C7 -> 8.2735967 | E7: =Mthlatuze!C7 -> 8.2735967 | F7: =Hibiscus!C7 -> 8.2735967 | G7: =Newcastle!C7 -> 8.2735967
A8: =KZN!A15 -> 2008 | B8: =KZN!C15 -> 1.0278872 | C8: =Ethekwini!C8 -> 2.251721 | D8: =Msunduzi!C8 -> -0.80258014 | E8: =Mthlatuze!C8 -> 7.5691548 | F8: =Hibiscus!C8 -> -2.5370773 | G8: =Newcastle!C8 -> 0.54141864
A9: =KZN!A16 -> 2009 | B9: =KZN!C16 -> -2.3951869 | C9: =Ethekwini!C9 -> -5.2178538 | D9: =Msunduzi!C9 -> 4.5742315 | E9: =Mthlatuze!C9 -> -14.875086 | F9: =Hibiscus!C9 -> 4.8186288 | G9: =Newcastle!C9 -> -1.8959467
A10: =KZN!A17 -> 2010 | B10: =KZN!C17 -> 2.9055373 | C10: =Ethekwini!C10 -> 4.478285 | D10: =Msunduzi!C10 -> -0.95465682 | E10: =Mthlatuze!C10 -> 10.263431 | F10: =Hibiscus!C10 -> -0.5729768 | G10: =Newcastle!C10 -> 2.7344505
A11: =KZN!A18 -> 2011 | B11: =KZN!C18 -> 3.4851597 | C11: =Ethekwini!C11 -> 3.5752478 | D11: =Msunduzi!C11 -> 4.0683477 | E11: =Mthlatuze!C11 -> 3.5544506 | F11: =Hibiscus!C11 -> 3.697683 | G11: =Newcastle!C11 -> 3.6037475
A12: =KZN!A19 -> 2012 | B12: =KZN!C19 -> 2.1802117 | C12: =Ethekwini!C12 -> 1.5407177 | D12: =Msunduzi!C12 -> 3.0899662 | E12: =Mthlatuze!C12 -> -0.2563586 | F12: =Hibiscus!C12 -> 3.1930535 | G12: =Newcastle!C12 -> 2.1181129
A13: =KZN!A20 -> 2013 | B13: =KZN!C20 -> 1.761265 | C13: =Ethekwini!C13 -> 2.2184235 | D13: =Msunduzi!C13 -> 1.0233535 | E13: =Mthlatuze!C13 -> 3.4565854 | F13: =Hibiscus!C13 -> 1.077586 | G13: =Newcastle!C13 -> 1.8254358
A14: =KZN!A21 -> 2014 | B14: =KZN!C21 -> 2.6583808 | C14: =Ethekwini!C14 -> 2.4849382 | D14: =Msunduzi!C14 -> 2.7179375 | E14: =Mthlatuze!C14 -> 2.2493883 | F14: =Hibiscus!C14 -> 2.6749775 | G14: =Newcastle!C14 -> 2.5354165
B16: =B2 -> KZN | C16: =C2 -> Ethekwini | D16: =D2 -> Msunduzi | E16: =E2 -> Mthlatuze | F16: =F2 -> Hibiscus | G16: =G2 -> Newcastle
A17: =KZN!A24 -> Average | B17: =KZN!C24 -> 4.4677545 | C17: =Ethekwini!C17 -> 3.7603714 | D17: =Msunduzi!C17 -> 3.9591314 | E17: =Mthlatuze!C17 -> 3.8128786 | F17: =Hibiscus!C17 -> 3.8454043 | G17: =Newcastle!C17 -> 3.771301

Sheet COMP
A1: COMPENSATION OF EMPLOYEES
A2: =KZN!A2 -> Real Y-o-Y Growth Rates | B2: KZN | C2: Ethekwini | D2: Msunduzi | E2: Mthlatuze | F2: Hibiscus | G2: Newcastle
A3: =KZN!A10 -> 2003 | B3: =KZN!D3 -> 4.0705888 | C3: =Ethekwini!D3 -> 4.388878 | D3: =Msunduzi!D3 -> 4.388878 | E3: =Mthlatuze!D3 -> 4.388878 | F3: =Hibiscus!D3 -> 4.388878 | G3: =Newcastle!D3 -> 4.388878 | H3: 9.0708137 | I3: 9.2307969 | J3: 5.9
A4: =KZN!A11 -> 2004 | B4: =KZN!D4 -> 0.2117479 | C4: =Ethekwini!D4 -> 8.168458 | D4: =Msunduzi!D4 -> 8.168458 | E4: =Mthlatuze!D4 -> 8.168458 | F4: =Hibiscus!D4 -> 8.168458 | G4: =Newcastle!D4 -> 8.168458 | H4: 9.8667053 | I4: 9.3374245 | J4: 1.4
A5: =KZN!A12 -> 2005 | B5: =KZN!D5 -> 3.6369437 | C5: =Ethekwini!D5 -> 6.515215 | D5: =Msunduzi!D5 -> 6.515215 | E5: =Mthlatuze!D5 -> 6.515215 | F5: =Hibiscus!D5 -> 6.515215 | G5: =Newcastle!D5 -> 6.515215 | H5: 9.6277191 | I5: 9.5834378 | J5: 3.4
A6: =KZN!A13 -> 2006 | B6: =KZN!D6 -> 1.5846897 | C6: =Ethekwini!D6 -> 6.0377201 | D6: =Msunduzi!D6 -> 6.0377201 | E6: =Mthlatuze!D6 -> 6.0377201 | F6: =Hibiscus!D6 -> 6.0377201 | G6: =Newcastle!D6 -> 6.0377201 | H6: 11.458901 | I6: 10.453671 | J6: 4.6
A7: =KZN!A14 -> 2007 | B7: =KZN!D7 -> 3.896415 | C7: =Ethekwini!D7 -> 6.9480041 | D7: =Msunduzi!D7 -> 6.9480041 | E7: =Mthlatuze!D7 -> 6.9480041 | F7: =Hibiscus!D7 -> 6.9480041 | G7: =Newcastle!D7 -> 6.9480041 | H7: 13.615066 | I7: 13.208284 | J7: 7.1
A8: =KZN!A15 -> 2008 | B8: =KZN!D8 -> 2.7812349 | C8: =Ethekwini!D8 -> 2.9109036 | D8: =Msunduzi!D8 -> 0.15147582 | E8: =Mthlatuze!D8 -> 8.1078982 | F8: =Hibiscus!D8 -> 8.1078982 | G8: =Newcastle!D8 -> 1.4738945 | H8: 12.733104 | I8: 11.965033 | J8: 11.5
A9: =KZN!A16 -> 2009 | B9: =KZN!D9 -> 0.5133823 | C9: =Ethekwini!D9 -> -1.3974601 | D9: =Msunduzi!D9 -> 8.8809544 | E9: =Mthlatuze!D9 -> -11.119913 | F9: =Hibiscus!D9 -> -11.119913 | G9: =Newcastle!D9 -> 1.6722044 | H9: 6.1740806 | I9: 9.0590166 | J9: 7.1
A10: =KZN!A17 -> 2010 | B10: =KZN!D10 -> 4.3889727 | C10: =Ethekwini!D10 -> 9.963286 | D10: =Msunduzi!D10 -> 4.0701092 | E10: =Mthlatuze!D10 -> 15.834835 | F10: =Hibiscus!D10 -> 15.834835 | G10: =Newcastle!D10 -> 8.2915376 | H10: 8.5903286 | I10: 12.098223 | J10: 4.3
A11: =KZN!A18 -> 2011 | B11: =KZN!D11 -> 8.1684575 | C11: =Ethekwini!D11 -> 5.2172308 | D11: =Msunduzi!D11 -> 5.7306808 | E11: =Mthlatuze!D11 -> 5.1608371 | F11: =Hibiscus!D11 -> 5.1608371 | G11: =Newcastle!D11 -> 5.250964 | H11: 6.2314719 | I11: 9.7169302 | J11: 5
A12: =KZN!A19 -> 2012 | B12: =KZN!D12 -> 6.5152128 | C12: =Ethekwini!D12 -> 1.6715538 | D12: =Msunduzi!D12 -> 3.2436943 | E12: =Mthlatuze!D12 -> -0.065667558 | F12: =Hibiscus!D12 -> -0.065667558 | G12: =Newcastle!D12 -> 2.186982
A13: =KZN!A20 -> 2013 | B13: =KZN!D13 -> 6.0377223 | C13: =Ethekwini!D13 -> 3.9557427 | D13: =Msunduzi!D13 -> 2.7226533 | E13: =Mthlatuze!D13 -> 5.1727067 | F13: =Hibiscus!D13 -> 5.1727067 | G13: =Newcastle!D13 -> 3.5948384
A14: =KZN!A21 -> 2014 | B14: =KZN!D14 -> 6.9480047 | C14: =Ethekwini!D14 -> 2.6095812 | D14: =Msunduzi!D14 -> 2.9046954 | E14: =Mthlatuze!D14 -> 2.4010532 | F14: =Hibiscus!D14 -> 2.4010532 | G14: =Newcastle!D14 -> 2.6771737 | H14: 8.6034976 | I14: 8.6809467 | J14: 5
B16: =B2 -> KZN | C16: =C2 -> Ethekwini | D16: =D2 -> Msunduzi | E16: =E2 -> Mthlatuze | F16: =F2 -> Hibiscus | G16: =G2 -> Newcastle
A17: =KZN!A24 -> Average | B17: =KZN!D24 -> 3.8973433 | C17: =Ethekwini!D17 -> 4.7490928 | D17: =Msunduzi!D17 -> 4.9802115 | E17: =Mthlatuze!D17 -> 4.7958353 | F17: =Hibiscus!D17 -> 4.7958353 | G17: =Newcastle!D17 -> 4.7671558
