Workbook

Sheet Intro
A1: KZN RISK INDICES | N1: Low or Decreasing Risk
C2: Risk Index | N2: Neutral Risk
C3: KZN GDP vs KZN Risk | N3: High or Increasing Risk
C4: KZN Shift Share Analysis | H4: Risk Index | M4: ='Risk Analysis'!B1 -> KZN | N4: ='Risk Analysis'!C1 -> Durban | O4: ='Risk Analysis'!D1 -> PMB | P4: ='Risk Analysis'!E1 -> Rbay | Q4: ='Risk Analysis'!F1 -> Newcastle | R4: ='Risk Analysis'!G1 -> Port Shepstone | S4: ='Risk Analysis'!H1 -> Ilembe
C5: KZN Comparative Analysis | H5: Decreasing | I5: Neutral | J5: Increasing | L5: ='Risk Analysis'!A170 -> 40909 | M5: ='Risk Analysis'!B170 -> -0.36249622 | N5: ='Risk Analysis'!C170 -> -0.44933508 | O5: ='Risk Analysis'!D170 -> -0.31631908 | P5: ='Risk Analysis'!E170 -> -0.097209194 | Q5: ='Risk Analysis'!F170 -> -0.45729285 | R5: ='Risk Analysis'!G170 -> -0.29518787 | S5: ='Risk Analysis'!H170 -> -0.49512398
C6: KZN Sector Analysis | H6: >0 | I6: =0 -> 0 | J6: <0 | L6: ='Risk Analysis'!A171 -> 40940 | M6: ='Risk Analysis'!B171 -> -2.1957082 | N6: ='Risk Analysis'!C171 -> -2.1745339 | O6: ='Risk Analysis'!D171 -> -1.8315713 | P6: ='Risk Analysis'!E171 -> -2.7186511 | Q6: ='Risk Analysis'!F171 -> -2.1784785 | R6: ='Risk Analysis'!G171 -> -1.9740127 | S6: ='Risk Analysis'!H171 -> -2.5735452
L7: ='Risk Analysis'!A172 -> 40969 | M7: ='Risk Analysis'!B172 -> 0.55980726 | N7: ='Risk Analysis'!C172 -> 0.57039462 | O7: ='Risk Analysis'!D172 -> 0.57930798 | P7: ='Risk Analysis'!E172 -> 0.39561053 | Q7: ='Risk Analysis'!F172 -> 0.6562237 | R7: ='Risk Analysis'!G172 -> 0.53904779 | S7: ='Risk Analysis'!H172 -> 0.72239781
A8: Relative Economic Sector Impact | B8: Rand Dollar (Rand per USD) | C8: Interest Rate (R157 = %) | D8: Inflation (pa %) | E8: Oil Price (USD) | F8: Sugar Price (US cents per pound) | G8: Gold Price (USD) | H8: Credit extended to the domestic private sector (Rm) | I8: Physical volume of electricity production (2005=100) | J8: Total Weights | L8: ='Risk Analysis'!A173 -> 41000 | M8: ='Risk Analysis'!B173 -> -0.073472863 | N8: ='Risk Analysis'!C173 -> 0.0013451693 | O8: ='Risk Analysis'!D173 -> -0.10880482 | P8: ='Risk Analysis'!E173 -> -0.12178109 | Q8: ='Risk Analysis'!F173 -> -0.11371311 | R8: ='Risk Analysis'!G173 -> -0.079150249 | S8: ='Risk Analysis'!H173 -> -0.24553723
A9: Agriculture, forestry and fishing | B9: 0.2 | C9: 0.1 | D9: 0.05 | E9: 0.17 | F9: 0.3 | G9: 0 | H9: 0.1 | I9: 0.08 | J9: =SUM(B9:I9) -> 1 | L9: ='Risk Analysis'!A174 -> 41030 | M9: ='Risk Analysis'!B174 -> 3.4851138 | N9: ='Risk Analysis'!C174 -> 3.6053848 | O9: ='Risk Analysis'!D174 -> 3.0020848 | P9: ='Risk Analysis'!E174 -> 4.1295913 | Q9: ='Risk Analysis'!F174 -> 3.5773203 | R9: ='Risk Analysis'!G174 -> 3.0993975 | S9: ='Risk Analysis'!H174 -> 3.7031821
A10: Mining and quarrying | B10: 0.3 | C10: 0 | D10: 0 | E10: 0.1 | F10: 0 | G10: 0.4 | H10: 0 | I10: 0.2 | J10: =SUM(B10:I10) -> 1 | L10: ='Risk Analysis'!A175 -> 41061 | M10: ='Risk Analysis'!B175 -> 0.71492429 | N10: ='Risk Analysis'!C175 -> 0.77806531 | O10: ='Risk Analysis'!D175 -> 0.68637779 | P10: ='Risk Analysis'!E175 -> 0.54664335 | Q10: ='Risk Analysis'!F175 -> 0.61090671 | R10: ='Risk Analysis'!G175 -> 0.73035252 | S10: ='Risk Analysis'!H175 -> 0.58570413
A11: Manufacturing | B11: 0.35 | C11: 0.2 | D11: 0.05 | E11: 0.1 | F11: 0 | G11: 0 | H11: 0.1 | I11: 0.2 | J11: =SUM(B11:I11) -> 1 | L11: ='Risk Analysis'!A176 -> 41091 | M11: ='Risk Analysis'!B176 -> -0.62857654 | N11: ='Risk Analysis'!C176 -> -0.8185946 | O11: ='Risk Analysis'!D176 -> -0.45228585 | P11: ='Risk Analysis'!E176 -> -0.61738924 | Q11: ='Risk Analysis'!F176 -> -0.60174916 | R11: ='Risk Analysis'!G176 -> -0.48820266 | S11: ='Risk Analysis'!H176 -> -0.37563287
A12: Electricity, gas and water | B12: 0.1 | C12: 0.05 | D12: 0.05 | E12: 0.2 | F12: 0 | G12: 0 | H12: 0.1 | I12: 0.5 | J12: =SUM(B12:I12) -> 1 | L12: ='Risk Analysis'!A177 -> 41122 | M12: ='Risk Analysis'!B177 -> -0.13183843 | N12: ='Risk Analysis'!C177 -> -0.095639605 | O12: ='Risk Analysis'!D177 -> -0.069109901 | P12: ='Risk Analysis'!E177 -> 0.080100025 | Q12: ='Risk Analysis'!F177 -> 0.092511998 | R12: ='Risk Analysis'!G177 -> -0.24461908 | S12: ='Risk Analysis'!H177 -> -0.2612008
A13: Construction | B13: 0.1 | C13: 0.3 | D13: 0.1 | E13: 0.15 | F13: 0 | G13: 0 | H13: 0.3 | I13: 0.05 | J13: =SUM(B13:I13) -> 1 | L13: ='Risk Analysis'!A178 -> 41153 | M13: ='Risk Analysis'!B178 -> -0.21025662 | N13: ='Risk Analysis'!C178 -> -0.19496986 | O13: ='Risk Analysis'!D178 -> -0.15461661 | P13: ='Risk Analysis'!E178 -> -0.25041654 | Q13: ='Risk Analysis'!F178 -> -0.34114628 | R13: ='Risk Analysis'!G178 -> -0.11109369 | S13: ='Risk Analysis'!H178 -> -0.4914161
A14: Wholesale & retail trade; hotels & restaurants | B14: 0.1 | C14: 0.35 | D14: 0.2 | E14: 0.1 | F14: 0 | G14: 0 | H14: 0.25 | I14: 0 | J14: =SUM(B14:I14) -> 1 | L14: ='Risk Analysis'!A179 -> 41183 | M14: ='Risk Analysis'!B179 -> 1.4555391 | N14: ='Risk Analysis'!C179 -> 1.4406115 | O14: ='Risk Analysis'!D179 -> 1.274383 | P14: ='Risk Analysis'!E179 -> 1.7513141 | Q14: ='Risk Analysis'!F179 -> 1.5428518 | R14: ='Risk Analysis'!G179 -> 1.3039346 | S14: ='Risk Analysis'!H179 -> 1.7410189
A15: Transport , storage and communication | B15: 0.1 | C15: 0.2 | D15: 0.1 | E15: 0.3 | F15: 0 | G15: 0 | H15: 0.2 | I15: 0.1 | J15: =SUM(B15:I15) -> 1 | L15: ='Risk Analysis'!A180 -> 41214 | M15: ='Risk Analysis'!B180 -> 0.25115945 | N15: ='Risk Analysis'!C180 -> 0.29470291 | O15: ='Risk Analysis'!D180 -> 0.27398814 | P15: ='Risk Analysis'!E180 -> 0.28665945 | Q15: ='Risk Analysis'!F180 -> 0.31927278 | R15: ='Risk Analysis'!G180 -> 0.21232449 | S15: ='Risk Analysis'!H180 -> 0.12642763
A16: Finance, real estate and business services | B16: 0.1 | C16: 0.35 | D16: 0.1 | E16: 0.1 | F16: 0 | G16: 0 | H16: 0.3 | I16: 0.05 | J16: =SUM(B16:I16) -> 1 | L16: ='Risk Analysis'!A181 -> 41244 | M16: ='Risk Analysis'!B181 -> -0.41413626 | N16: ='Risk Analysis'!C181 -> -0.33806494 | O16: ='Risk Analysis'!D181 -> -0.25322444 | P16: ='Risk Analysis'!E181 -> -0.94751172 | Q16: ='Risk Analysis'!F181 -> -0.46253513 | R16: ='Risk Analysis'!G181 -> -0.31079897 | S16: ='Risk Analysis'!H181 -> -0.61971064
A17: Personal and General Government Services | B17: 0.1 | C17: 0.35 | D17: 0.2 | E17: 0 | F17: 0 | G17: 0 | H17: 0.3 | I17: 0.05 | J17: =SUM(B17:I17) -> 1 | L17: ='Risk Analysis'!A182 -> 41275 | M17: ='Risk Analysis'!B182 -> 0.60209501 | N17: ='Risk Analysis'!C182 -> 0.5438359 | O17: ='Risk Analysis'!D182 -> 0.48712135 | P17: ='Risk Analysis'!E182 -> 1.10603 | Q17: ='Risk Analysis'!F182 -> 0.78049042 | R17: ='Risk Analysis'!G182 -> 0.46154613 | S17: ='Risk Analysis'!H182 -> 0.83869324
L18: ='Risk Analysis'!A183 -> 41306 | M18: ='Risk Analysis'!B183 -> -0.72416288 | N18: ='Risk Analysis'!C183 -> -0.60501807 | O18: ='Risk Analysis'!D183 -> -0.59485599 | P18: ='Risk Analysis'!E183 -> -1.3454416 | Q18: ='Risk Analysis'!F183 -> -0.82304783 | R18: ='Risk Analysis'!G183 -> -0.58485044 | S18: ='Risk Analysis'!H183 -> -1.0087646
L19: ='Risk Analysis'!A184 -> 41334 | M19: ='Risk Analysis'!B184 -> 2.2420901 | N19: ='Risk Analysis'!C184 -> 2.1931849 | O19: ='Risk Analysis'!D184 -> 1.9989046 | P19: ='Risk Analysis'!E184 -> 2.863875 | Q19: ='Risk Analysis'!F184 -> 2.3591979 | R19: ='Risk Analysis'!G184 -> 1.9965941 | S19: ='Risk Analysis'!H184 -> 2.5576354
L20: ='Risk Analysis'!A185 -> 41365 | M20: ='Risk Analysis'!B185 -> -0.31584536 | N20: ='Risk Analysis'!C185 -> -0.1714637 | O20: ='Risk Analysis'!D185 -> -0.2401804 | P20: ='Risk Analysis'!E185 -> -0.92995062 | Q20: ='Risk Analysis'!F185 -> -0.39436956 | R20: ='Risk Analysis'!G185 -> -0.26473182 | S20: ='Risk Analysis'!H185 -> -0.54534016
L21: ='Risk Analysis'!A186 -> 41395 | M21: ='Risk Analysis'!B186 -> 2.2899653 | N21: ='Risk Analysis'!C186 -> 2.253606 | O21: ='Risk Analysis'!D186 -> 1.9855957 | P21: ='Risk Analysis'!E186 -> 2.9300012 | Q21: ='Risk Analysis'!F186 -> 2.4958816 | R21: ='Risk Analysis'!G186 -> 2.0332268 | S21: ='Risk Analysis'!H186 -> 2.7602331
L22: ='Risk Analysis'!A187 -> 41426 | M22: ='Risk Analysis'!B187 -> -0.45845093 | N22: ='Risk Analysis'!C187 -> -0.32030364 | O22: ='Risk Analysis'!D187 -> -0.3115649 | P22: ='Risk Analysis'!E187 -> -1.2077605 | Q22: ='Risk Analysis'!F187 -> -0.37344653 | R22: ='Risk Analysis'!G187 -> -0.44926866 | S22: ='Risk Analysis'!H187 -> -0.51737618
L23: ='Risk Analysis'!A188 -> 41456 | M23: ='Risk Analysis'!B188 -> -0.18650697 | N23: ='Risk Analysis'!C188 -> -0.30050759 | O23: ='Risk Analysis'!D188 -> -0.24300048 | P23: ='Risk Analysis'!E188 -> 0.42988255 | Q23: ='Risk Analysis'!F188 -> -0.15176951 | R23: ='Risk Analysis'!G188 -> -0.26267541 | S23: ='Risk Analysis'!H188 -> -0.13048858
L24: ='Risk Analysis'!A189 -> 41487 | M24: ='Risk Analysis'!B189 -> 0.1567378 | N24: ='Risk Analysis'!C189 -> 0.046944097 | O24: ='Risk Analysis'!D189 -> 0.16064517 | P24: ='Risk Analysis'!E189 -> 0.60232029 | Q24: ='Risk Analysis'!F189 -> 0.30361894 | R24: ='Risk Analysis'!G189 -> 0.14226191 | S24: ='Risk Analysis'!H189 -> 0.31936895
L25: ='Risk Analysis'!A190 -> 41518 | M25: ='Risk Analysis'!B190 -> 0.14547158 | N25: ='Risk Analysis'!C190 -> 0.22198285 | O25: ='Risk Analysis'!D190 -> 0.22580008 | P25: ='Risk Analysis'!E190 -> -0.44238435 | Q25: ='Risk Analysis'!F190 -> -0.0012284421 | R25: ='Risk Analysis'!G190 -> 0.29226131 | S25: ='Risk Analysis'!H190 -> 0.0097374449
L26: ='Risk Analysis'!A191 -> 41548 | M26: ='Risk Analysis'!B191 -> 0.20104552 | N26: ='Risk Analysis'!C191 -> 0.13383719 | O26: ='Risk Analysis'!D191 -> 0.20931215 | P26: ='Risk Analysis'!E191 -> 0.20484868 | Q26: ='Risk Analysis'!F191 -> 0.15896327 | R26: ='Risk Analysis'!G191 -> 0.23748521 | S26: ='Risk Analysis'!H191 -> 0.34377714
L27: ='Risk Analysis'!A192 -> 41579 | M27: ='Risk Analysis'!B192 -> -0.15479105 | N27: ='Risk Analysis'!C192 -> -0.056271541 | O27: ='Risk Analysis'!D192 -> -0.070718044 | P27: ='Risk Analysis'!E192 -> -0.50651583 | Q27: ='Risk Analysis'!F192 -> -0.055389812 | R27: ='Risk Analysis'!G192 -> -0.15910962 | S27: ='Risk Analysis'!H192 -> -0.25306089
L28: ='Risk Analysis'!A193 -> 41609 | M28: ='Risk Analysis'!B193 -> 0.19895975 | N28: ='Risk Analysis'!C193 -> 0.28827098 | O28: ='Risk Analysis'!D193 -> 0.19476724 | P28: ='Risk Analysis'!E193 -> 0.10865789 | Q28: ='Risk Analysis'!F193 -> 0.2857292 | R28: ='Risk Analysis'!G193 -> 0.12180109 | S28: ='Risk Analysis'!H193 -> 0.099746664
L29: ='Risk Analysis'!A194 -> 41640 | M29: ='Risk Analysis'!B194 -> 1.9622277 | N29: ='Risk Analysis'!C194 -> 1.9289095 | O29: ='Risk Analysis'!D194 -> 1.6093515 | P29: ='Risk Analysis'!E194 -> 2.9125206 | Q29: ='Risk Analysis'!F194 -> 2.0886296 | R29: ='Risk Analysis'!G194 -> 1.6457089 | S29: ='Risk Analysis'!H194 -> 2.2407853
... L40: ='Risk Analysis'!A205 -> 41987 | M40: ='Risk Analysis'!B205 -> 3.0580751 | N40: ='Risk Analysis'!C205 -> 3.1902751 | O40: ='Risk Analysis'!D205 -> 2.4828967 | P40: ='Risk Analysis'!E205 -> 3.5339805 | Q40: ='Risk Analysis'!F205 -> 2.7318252 | R40: ='Risk Analysis'!G205 -> 2.8705499 | S40: ='Risk Analysis'!H205 -> 3.0672869

Sheet Notes
A1: Economic Indicator | B1: Unit | C1: Movement | D1: Decreasing Risk | E1: Increasing Risk | F1: Source
A2: Rand Dollar Exchange Rate | B2: Rand per 1USD | C2: Appreciate or Depreciate | D2: Depreciate | E2: Appreciate | F2: Sharenet
A3: Interest Rate | B3: Percentage R157 Bond | C3: Increase or Decrease | D3: Decrease | E3: Increase | F3: Sharenet
A4: Inflation Rate | B4: Percentage Per Annum | C4: Increase or Decrease | D4: Decrease | E4: Increase | F4: Stats SA
A5: Oil Price | B5: USD per Barrel | C5: Increase or Decrease | D5: Decrease | E5: Increase | F5: Sharenet
A6: Sugar Price | B6: US cents per pound | C6: Increase or Decrease | D6: Increase | E6: Decrease | F6: Indexmundi
A7: Gold Price | B7: USD per Ounce | C7: Increase or Decrease | D7: Increase | E7: Decrease | F7: Sharenet
A8: Credit extended to the domestic private sector | B8: Rand million | C8: Increase or Decrease | D8: Increase | E8: Decrease | F8: SARB
A9: Physical volume of electricity production | B9: Index, 2005=100 | C9: Increase or Decrease | D9: Increase | E9: Decrease | F9: Stats SA
A12: Risk Index Interpretation
A14: Positive Numbers | B14: Low or Decreasing Risk
A15: Zero | B15: Neutral Risk
A16: Negative Numbers | B16: High or Increasing Risk

Sheet KZN
A1: KwaZulu-Natal
A2: Number of formally employed people | B2: Agriculture | D2: Mining | F2: Manufacturing | H2: Electricity | J2: Construction | L2: Trade | N2: Transport | P2: Finance | R2: Community services | T2: Private Households | V2: Total | X2: Year-on-Year MA | Y2: Total-Private Households
B3: SA | C3: KZN | D3: SA | E3: =C3 -> KZN | F3: SA | G3: =E3 -> KZN | H3: SA | I3: =G3 -> KZN | J3: SA | K3: =I3 -> KZN | L3: SA | M3: =K3 -> KZN | N3: SA | O3: =M3 -> KZN | P3: SA | Q3: =O3 -> KZN | R3: SA | S3: =Q3 -> KZN | T3: SA | U3: =S3 -> KZN | V3: SA | W3: =U3 -> KZN | Y3: SA | Z3: MA
A4: 1996 | B4: 703854.59 | C4: 98940.196 | D4: 568517 | E4: 11139.037 | F4: 1355479 | G4: 283178.41 | H4: 63025.655 | I4: 10891.294 | J4: 518672.12 | K4: 91918.312 | L4: 1177993.9 | M4: 211871.42 | N4: 301013.4 | O4: 59647.697 | P4: 1306983.8 | Q4: 207515.93 | R4: 1529686.3 | S4: 274282.96 | T4: 836533.22 | U4: 134039.59 | V4: =B4+D4+F4+H4+J4+L4+N4+P4+R4+T4 -> 8361758.9 | W4: =C4+E4+G4+I4+K4+M4+O4+Q4+S4+U4 -> 1383424.8 | Y4: =V4-T4 -> 7525225.7 | Z4: =W4-U4 -> 1249385.3
A5: 1997 | B5: 711281.23 | C5: 109294.43 | D5: 552238 | E5: 9628.7897 | F5: 1352516.7 | G5: 285639.35 | H5: 63531.35 | I5: 9690.1855 | J5: 460858.22 | K5: 80691.5 | L5: 1228186 | M5: 222932.69 | N5: 307418.47 | O5: 60141.472 | P5: 1319891.1 | Q5: 214385.71 | R5: 1561880.4 | S5: 261629.1 | T5: 852369.51 | U5: 135605.48 | V5: =B5+D5+F5+H5+J5+L5+N5+P5+R5+T5 -> 8410171 | W5: =C5+E5+G5+I5+K5+M5+O5+Q5+S5+U5 -> 1389638.7 | X5: =(W5-W4)/W4*100 -> 0.44916598 | Y5: =V5-T5 -> 7557801.5 | Z5: =W5-U5 -> 1254033.2
A6: 1998 | B6: 791221.21 | C6: 138166.04 | D6: 465851 | E6: 8929.7005 | F6: 1406350.7 | G6: 303642.7 | H6: 65002.767 | I6: 9319.1043 | J6: 436147.92 | K6: 73929.157 | L6: 1353315.9 | M6: 237128.06 | N6: 322947.92 | O6: 63298.183 | P6: 1375150.4 | Q6: 220141.42 | R6: 1670045.8 | S6: 271040.14 | T6: 897301.7 | U6: 141094.45 | V6: =B6+D6+F6+H6+J6+L6+N6+P6+R6+T6 -> 8783335.4 | W6: =C6+E6+G6+I6+K6+M6+O6+Q6+S6+U6 -> 1466689 | X6: =(W6-W5)/W5*100 -> 5.5446248 | Y6: =V6-T6 -> 7886033.7 | Z6: =W6-U6 -> 1325594.5
A7: 1999 | B7: 881755.63 | C7: 157596.61 | D7: 436254 | E7: 7107.5011 | F7: 1475811.7 | G7: 331219.96 | H7: 66129.372 | I7: 9620.2547 | J7: 428586.03 | K7: 72528.263 | L7: 1502656 | M7: 254704.24 | N7: 336290.61 | O7: 66958.13 | P7: 1427349.6 | Q7: 229284.07 | R7: 1794919.4 | S7: 298111.47 | T7: 980440.25 | U7: 160180.56 | V7: =B7+D7+F7+H7+J7+L7+N7+P7+R7+T7 -> 9330192.6 | W7: =C7+E7+G7+I7+K7+M7+O7+Q7+S7+U7 -> 1587311.1 | X7: =(W7-W6)/W6*100 -> 8.2241082 | Y7: =V7-T7 -> 8349752.4 | Z7: =W7-U7 -> 1427130.5
A8: 2000 | B8: 920416.9 | C8: 156708.15 | D8: 417717 | E8: 6190.7871 | F8: 1523397.4 | G8: 355244.26 | H8: 67451.036 | I8: 10680.536 | J8: 425359.67 | K8: 74888.312 | L8: 1604108.8 | M8: 270668.02 | N8: 337470.11 | O8: 67528.491 | P8: 1446131.6 | Q8: 234638.79 | R8: 1875478.7 | S8: 313773.89 | T8: 1044533.1 | U8: 181084.4 | V8: =B8+D8+F8+H8+J8+L8+N8+P8+R8+T8 -> 9662064.2 | W8: =C8+E8+G8+I8+K8+M8+O8+Q8+S8+U8 -> 1671405.6 | X8: =(W8-W7)/W7*100 -> 5.2979271 | Y8: =V8-T8 -> 8617531.2 | Z8: =W8-U8 -> 1490321.2
A9: 2001 | B9: 925809.1 | C9: 150279.16 | D9: 406654 | E9: 5473.3897 | F9: 1521127.6 | G9: 360650.93 | H9: 66016.15 | I9: 11425.862 | J9: 412768.85 | K9: 73996.689 | L9: 1619956 | M9: 274391.78 | N9: 321752.6 | O9: 65555.296 | P9: 1417840.1 | Q9: 223238.6 | R9: 1896927.6 | S9: 319764.78 | T9: 1075200.4 | U9: 192673.96 | V9: =B9+D9+F9+H9+J9+L9+N9+P9+R9+T9 -> 9664052.4 | W9: =C9+E9+G9+I9+K9+M9+O9+Q9+S9+U9 -> 1677450.5 | X9: =(W9-W8)/W8*100 -> 0.36166087 | Y9: =V9-T9 -> 8588852 | Z9: =W9-U9 -> 1484776.5
A10: 2002 | B10: 901032.93 | C10: 144565.42 | D10: 416153 | E10: 5427.2871 | F10: 1510292.6 | G10: 350233.26 | H10: 65272.915 | I10: 11687.823 | J10: 407925.8 | K10: 72087.108 | L10: 1604065.2 | M10: 275883.38 | N10: 309063.81 | O10: 63678.453 | P10: 1396300.5 | Q10: 211150.64 | R10: 1917953.2 | S10: 325277.14 | T10: 1084534.5 | U10: 200318.25 | V10: =B10+D10+F10+H10+J10+L10+N10+P10+R10+T10 -> 9612594.4 | W10: =C10+E10+G10+I10+K10+M10+O10+Q10+S10+U10 -> 1660308.8 | X10: =(W10-W9)/W9*100 -> -1.0218902 | Y10: =V10-T10 -> 8528059.9 | Z10: =W10-U10 -> 1459990.5
A11: 2003 | B11: 866424.44 | C11: 136973.13 | D11: 433700 | E11: 5868.2447 | F11: 1506047.6 | G11: 333792.81 | H11: 66548.603 | I11: 11388.123 | J11: 420938.08 | K11: 71028.537 | L11: 1605128.1 | M11: 281508.46 | N11: 316992.92 | O11: 65676.746 | P11: 1422605 | Q11: 211598.37 | R11: 1970648.2 | S11: 339347.37 | T11: 1090127.6 | U11: 212566.31 | V11: =B11+D11+F11+H11+J11+L11+N11+P11+R11+T11 -> 9699160.5 | W11: =C11+E11+G11+I11+K11+M11+O11+Q11+S11+U11 -> 1669748.1 | X11: =(W11-W10)/W10*100 -> 0.5685296 | Y11: =V11-T11 -> 8609033 | Z11: =W11-U11 -> 1457181.8
A12: 2004 | B12: 810822.02 | C12: 122010.43 | D12: 455367 | E12: 8208.7115 | F12: 1498631.9 | G12: 321159.06 | H12: 64939.049 | I12: 10361.247 | J12: 450923.77 | K12: 72625.445 | L12: 1642333.4 | M12: 283346.72 | N12: 338781.03 | O12: 71072.462 | P12: 1499357.5 | Q12: 222206.29 | R12: 2019317.1 | S12: 350455.67 | T12: 1099705.2 | U12: 215449.36 | V12: =B12+D12+F12+H12+J12+L12+N12+P12+R12+T12 -> 9880178.1 | W12: =C12+E12+G12+I12+K12+M12+O12+Q12+S12+U12 -> 1676895.4 | X12: =(W12-W11)/W11*100 -> 0.42804722 | Y12: =V12-T12 -> 8780472.8 | Z12: =W12-U12 -> 1461446
A13: 2005 | B13: 754767.3 | C13: 109098.81 | D13: 443266.67 | E13: 9188.3066 | F13: 1497055.4 | G13: 318268.02 | H13: 66405.731 | I13: 9997.4872 | J13: 501270.28 | K13: 78055.061 | L13: 1726098.4 | M13: 292813.75 | N13: 372217.02 | O13: 78145.1 | P13: 1633160.5 | Q13: 243446.25 | R13: 2074656 | S13: 362251.15 | T13: 1133282.6 | U13: 205192.48 | V13: =B13+D13+F13+H13+J13+L13+N13+P13+R13+T13 -> 10202180 | W13: =C13+E13+G13+I13+K13+M13+O13+Q13+S13+U13 -> 1706456.4 | X13: =(W13-W12)/W12*100 -> 1.7628417 | Y13: =V13-T13 -> 9068897.3 | Z13: =W13-U13 -> 1501263.9
A14: 2006 | B14: 723504.68 | C14: 106262.76 | D14: 495012.07 | E14: 9516.3481 | F14: 1509624.6 | G14: 319117.65 | H14: 68997.644 | I14: 9912.8067 | J14: 549938.33 | K14: 84185.8 | L14: 1836571.6 | M14: 320828.19 | N14: 404317.46 | O14: 82803.253 | P14: 1772783 | Q14: 267999.47 | R14: 2131739.6 | S14: 379800.61 | T14: 1190086.3 | U14: 201697.61 | V14: =B14+D14+F14+H14+J14+L14+N14+P14+R14+T14 -> 10682575 | W14: =C14+E14+G14+I14+K14+M14+O14+Q14+S14+U14 -> 1782124.5 | X14: =(W14-W13)/W13*100 -> 4.4342225 | Y14: =V14-T14 -> 9492489.1 | Z14: =W14-U14 -> 1580426.9
A15: 2007 | B15: 707106.97 | C15: 114073.58 | D15: 498860 | E15: 8669.8707 | F15: 1538274.3 | G15: 316201.82 | H15: 72387.04 | I15: 9406.8491 | J15: 594056.23 | K15: 94609.001 | L15: 1947939.3 | M15: 343840.25 | N15: 436327.44 | O15: 87806.135 | P15: 1902435.7 | Q15: 291943.49 | R15: 2232646.8 | S15: 399317.82 | T15: 1247990.2 | U15: 218737.9 | V15: =B15+D15+F15+H15+J15+L15+N15+P15+R15+T15 -> 11178024 | W15: =C15+E15+G15+I15+K15+M15+O15+Q15+S15+U15 -> 1884606.7 | X15: =(W15-W14)/W14*100 -> 5.7505648 | Y15: =V15-T15 -> 9930033.9 | Z15: =W15-U15 -> 1665868.8
A16: 2008 | B16: 675492.09 | C16: 119004.36 | D16: 522252 | E16: 8525.0623 | F16: 1550239.8 | G16: 315974.72 | H16: 75165.678 | I16: 8182.4263 | J16: 615921.99 | K16: 109500.12 | L16: 2008505.8 | M16: 342371.02 | N16: 459391.97 | O16: 94014.808 | P16: 1966518 | Q16: 305901.11 | R16: 2329483.6 | S16: 415671.43 | T16: 1266144.5 | U16: 240428.3 | V16: =B16+D16+F16+H16+J16+L16+N16+P16+R16+T16 -> 11469115 | W16: =C16+E16+G16+I16+K16+M16+O16+Q16+S16+U16 -> 1959573.3 | X16: =(W16-W15)/W15*100 -> 3.9778392 | Y16: =V16-T16 -> 10202971 | Z16: =W16-U16 -> 1719145
... A21: 2013 | B21: 611101.83 | C21: 81982.083 | D21: 511799.5 | E21: 10173.082 | F21: 1474495.9 | G21: 300119.38 | H21: 92296.313 | I21: 9727.8487 | J21: 608551.06 | K21: 126975.72 | L21: 2051382.8 | M21: 321655.44 | N21: 549625.58 | O21: 114081.87 | P21: 2021307.6 | Q21: 297586.53 | R21: 2709590.5 | S21: 484466.93 | T21: 1164561.3 | U21: 218295.27 | V21: =B21+D21+F21+H21+J21+L21+N21+P21+R21+T21 -> 11794712 | W21: =C21+E21+G21+I21+K21+M21+O21+Q21+S21+U21 -> 1965064.2 | X21: =(W21-W20)/W20*100 -> 1.8104111 | Y21: =V21-T21 -> 10630151 | Z21: =W21-U21 -> 1746768.9
A23: Gross Value Added by Region (GVA-R) | B23: Agriculture | D23: Mining | F23: Manufacturing | H23: Electricity | J23: Construction | L23: Trade | N23: Transport | P23: Finance | R23: Community services | V23: Total | X23: Year-on-Year MA
A24: Constant 2005 prices (R 1000) | B24: SA | C24: =C3 -> KZN | D24: SA | E24: =E3 -> KZN | F24: SA | G24: =G3 -> KZN | H24: SA | I24: =I3 -> KZN | J24: SA | K24: =K3 -> KZN | L24: SA | M24: =M3 -> KZN | N24: SA | O24: =O3 -> KZN | P24: SA | Q24: =Q3 -> KZN | R24: SA | S24: =S3 -> KZN | V24: SA | W24: =W3 -> KZN
A25: =A4 -> 1996 | B25: 49257652 | C25: 13078246 | D25: 2.2697097e+08 | E25: 8525081 | F25: 2.4827192e+08 | G25: 51198546 | H25: 55369589 | I25: 8588231.1 | J25: 42049913 | K25: 9565890.5 | L25: 2.1520877e+08 | M25: 32959321 | N25: 1.0753266e+08 | O25: 23538083 | P25: 2.5378508e+08 | Q25: 34616659 | R25: 3.9884691e+08 | S25: 62086620 | V25: =B25+D25+F25+H25+J25+L25+N25+P25+R25 -> 1.5972935e+09 | W25: =C25+E25+G25+I25+K25+M25+O25+Q25+S25+U25 -> 2.4415668e+08
A26: =A5 -> 1997 | B26: 49809600 | C26: 13051306 | D26: 2.3133399e+08 | E26: 8636557 | F26: 2.5553255e+08 | G26: 52669246 | H26: 57654742 | I26: 8902641.3 | J26: 43497575 | K26: 10111902 | L26: 2.1654187e+08 | M26: 33208887 | N26: 1.1595804e+08 | O26: 24921170 | P26: 2.6630921e+08 | Q26: 36129744 | R26: 4.0210158e+08 | S26: 61104997 | V26: =B26+D26+F26+H26+J26+L26+N26+P26+R26 -> 1.6387392e+09 | W26: =C26+E26+G26+I26+K26+M26+O26+Q26+S26+U26 -> 2.4873645e+08 | X26: =(W26-W25)/W25*100 -> 1.8757519
A27: =A6 -> 1998 | B27: 47231155 | C27: 13238282 | D27: 2.3140379e+08 | E27: 8528667.5 | F27: 2.5535378e+08 | G27: 52498574 | H27: 54092886 | I27: 8369784.7 | J27: 40933665 | K27: 8974901.1 | L27: 2.1964274e+08 | M27: 33535227 | N27: 1.2249514e+08 | O27: 26132836 | P27: 2.727948e+08 | Q27: 37308999 | R27: 4.0614539e+08 | S27: 63006649 | V27: =B27+D27+F27+H27+J27+L27+N27+P27+R27 -> 1.6500933e+09 | W27: =C27+E27+G27+I27+K27+M27+O27+Q27+S27+U27 -> 2.5159392e+08 | X27: =(W27-W26)/W26*100 -> 1.1487942
A28: =A7 -> 1999 | B28: 50334126 | C28: 12885074 | D28: 2.2895853e+08 | E28: 7987501.1 | F28: 2.577803e+08 | G28: 53544378 | H28: 54009813 | I28: 8385879.9 | J28: 40378050 | K28: 8464674.8 | L28: 2.3715843e+08 | M28: 36102736 | N28: 1.2931355e+08 | O28: 27168182 | P28: 2.8773445e+08 | Q28: 39738111 | R28: 4.088056e+08 | S28: 62231180 | V28: =B28+D28+F28+H28+J28+L28+N28+P28+R28 -> 1.6944729e+09 | W28: =C28+E28+G28+I28+K28+M28+O28+Q28+S28+U28 -> 2.5650772e+08 | X28: =(W28-W27)/W27*100 -> 1.9530665
A29: =A8 -> 2000 | B29: 52957608 | C29: 13393271 | D29: 2.2754761e+08 | E29: 7965326.7 | F29: 2.8002356e+08 | G29: 58466265 | H29: 55956494 | I29: 8817734.1 | J29: 42659101 | K29: 8903139.1 | L29: 2.5762228e+08 | M29: 39385484 | N29: 1.4073161e+08 | O29: 29049491 | P29: 2.9833727e+08 | Q29: 40235990 | R29: 4.1299825e+08 | S29: 63234898 | V29: =B29+D29+F29+H29+J29+L29+N29+P29+R29 -> 1.7688338e+09 | W29: =C29+E29+G29+I29+K29+M29+O29+Q29+S29+U29 -> 2.694516e+08 | X29: =(W29-W28)/W28*100 -> 5.0461957
A30: =A9 -> 2001 | B30: 51410651 | C30: 13473935 | D30: 2.2821072e+08 | E30: 8059083.7 | F30: 2.9011657e+08 | G30: 60460712 | H30: 54097233 | I30: 8737491.2 | J30: 44760336 | K30: 11143462 | L30: 2.6354566e+08 | M30: 42586393 | N30: 1.496187e+08 | O30: 30583308 | P30: 3.2396844e+08 | Q30: 42318128 | R30: 4.1423992e+08 | S30: 64307033 | V30: =B30+D30+F30+H30+J30+L30+N30+P30+R30 -> 1.8199682e+09 | W30: =C30+E30+G30+I30+K30+M30+O30+Q30+S30+U30 -> 2.8166955e+08 | X30: =(W30-W29)/W29*100 -> 4.534376
A31: =A10 -> 2002 | B31: 54930997 | C31: 14068284 | D31: 2.3124491e+08 | E31: 8113977.3 | F31: 2.9921298e+08 | G31: 62263590 | H31: 56173330 | I31: 9120759.2 | J31: 47360614 | K31: 9089907.2 | L31: 2.7048692e+08 | M31: 43774568 | N31: 1.6361651e+08 | O31: 33553884 | P31: 3.4542526e+08 | Q31: 44616050 | R31: 4.2053838e+08 | S31: 65157500 | V31: =B31+D31+F31+H31+J31+L31+N31+P31+R31 -> 1.8889899e+09 | W31: =C31+E31+G31+I31+K31+M31+O31+Q31+S31+U31 -> 2.8975852e+08 | X31: =(W31-W30)/W30*100 -> 2.8717956
A32: =A11 -> 2003 | B32: 55256045 | C32: 14883299 | D32: 2.3888672e+08 | E32: 8577873.9 | F32: 2.9445062e+08 | G32: 61647236 | H32: 57779450 | I32: 9206926.3 | J32: 51001377 | K32: 9631405.5 | L32: 2.7745106e+08 | M32: 45242498 | N32: 1.7384825e+08 | O32: 35866035 | P32: 3.6168181e+08 | Q32: 47089318 | R32: 4.3501261e+08 | S32: 67159224 | V32: =B32+D32+F32+H32+J32+L32+N32+P32+R32 -> 1.9453679e+09 | W32: =C32+E32+G32+I32+K32+M32+O32+Q32+S32+U32 -> 2.9930382e+08 | X32: =(W32-W31)/W31*100 -> 3.2942245
A33: =A12 -> 2004 | B33: 55822802 | C33: 14970518 | D33: 2.4289311e+08 | E33: 8763339.9 | F33: 3.0937203e+08 | G33: 64645429 | H33: 61801508 | I33: 9942135.8 | J33: 55646823 | K33: 10574735 | L33: 2.9290928e+08 | M33: 47771418 | N33: 1.8264527e+08 | O33: 37532898 | P33: 3.8783501e+08 | Q33: 50575826 | R33: 4.4386365e+08 | S33: 68263162 | V33: =B33+D33+F33+H33+J33+L33+N33+P33+R33 -> 2.0327895e+09 | W33: =C33+E33+G33+I33+K33+M33+O33+Q33+S33+U33 -> 3.1303946e+08 | X33: =(W33-W32)/W32*100 -> 4.5891982
A34: =A13 -> 2005 | B34: 57495463 | C34: 14062231 | D34: 2.4583104e+08 | E34: 8229614.4 | F34: 3.291623e+08 | G34: 68753612 | H34: 65223638 | I34: 10607077 | J34: 62280636 | K34: 12017048 | L34: 3.1411858e+08 | M34: 50941097 | N34: 1.9266412e+08 | O34: 39823879 | P34: 4.1072103e+08 | Q34: 56025026 | R34: 4.6319011e+08 | S34: 71224389 | V34: =B34+D34+F34+H34+J34+L34+N34+P34+R34 -> 2.1406869e+09 | W34: =C34+E34+G34+I34+K34+M34+O34+Q34+S34+U34 -> 3.3168397e+08 | X34: =(W34-W33)/W33*100 -> 5.9559625
A35: =A14 -> 2006 | B35: 54543519 | C35: 14243726 | D35: 2.4522465e+08 | E35: 7981929.3 | F35: 3.5157204e+08 | G35: 73154405 | H35: 67688430 | I35: 11035663 | J35: 68780384 | K35: 12951738 | L35: 3.3399857e+08 | M35: 54374664 | N35: 2.0322444e+08 | O35: 42038900 | P35: 4.5189631e+08 | Q35: 60517526 | R35: 4.81829e+08 | S35: 74119498 | V35: =B35+D35+F35+H35+J35+L35+N35+P35+R35 -> 2.2587574e+09 | W35: =C35+E35+G35+I35+K35+M35+O35+Q35+S35+U35 -> 3.5041805e+08 | X35: =(W35-W34)/W34*100 -> 5.6481701
A36: =A15 -> 2007 | B36: 56168460 | C36: 15000399 | D36: 2.4366316e+08 | E36: 8180348 | F36: 3.7038934e+08 | G36: 77120529 | H36: 70000001 | I36: 11402711 | J36: 79454824 | K36: 14910856 | L36: 3.5269783e+08 | M36: 57672666 | N36: 2.1848843e+08 | O36: 45526911 | P36: 4.8467459e+08 | Q36: 64947138 | R36: 5.05443e+08 | S36: 77880509 | V36: =B36+D36+F36+H36+J36+L36+N36+P36+R36 -> 2.3809796e+09 | W36: =C36+E36+G36+I36+K36+M36+O36+Q36+S36+U36 -> 3.7264207e+08 | X36: =(W36-W35)/W35*100 -> 6.3421439
A37: =A16 -> 2008 | B37: 67071610 | C37: 18219783 | D37: 2.306635e+08 | E37: 7646399.5 | F37: 3.7896409e+08 | G37: 78845244 | H37: 67522000 | I37: 10890812 | J37: 87300371 | K37: 16422192 | L37: 3.5888034e+08 | M37: 58514606 | N37: 2.2613587e+08 | O37: 47220469 | P37: 5.1171648e+08 | Q37: 68742929 | R37: 530984210 | S37: 81702026 | V37: =B37+D37+F37+H37+J37+L37+N37+P37+R37 -> 2.4592385e+09 | W37: =C37+E37+G37+I37+K37+M37+O37+Q37+S37+U37 -> 3.8820446e+08 | X37: =(W37-W36)/W36*100 -> 4.176231
... A42: =A21 -> 2013 | B42: 67880350 | C42: 19932547 | D42: 2.309084e+08 | E42: 8411531.9 | F42: 3.7893321e+08 | G42: 79377267 | H42: 68375000 | I42: 10670224 | J42: 1.0046818e+08 | K42: 19374269 | L42: 4.0598271e+08 | M42: 67374309 | N42: 2.4706211e+08 | O42: 52063799 | P42: 5.7812714e+08 | Q42: 77531108 | R42: 6.093806e+08 | S42: 94221463 | V42: =B42+D42+F42+H42+J42+L42+N42+P42+R42 -> 2.6871177e+09 | W42: =C42+E42+G42+I42+K42+M42+O42+Q42+S42+U42 -> 4.2895652e+08 | X42: =(W42-W41)/W41*100 -> 2.1430917
A44: Location Quotients | C44: Agriculture, forestry and fishing | D44: Mining and quarrying | E44: Manufacturing | F44: Electricity, gas and water | G44: Construction | H44: Wholesale & retail trade; hotels & restaurants | I44: Transport , storage and communication | J44: Finance, real estate and business services | K44: Personal and General Government Services | L44: Actual vs Necessary Employment | M44: Agriculture, forestry and fishing | N44: Mining and quarrying | O44: Manufacturing | P44: Electricity, gas and water | Q44: Construction | R44: Wholesale & retail trade; hotels & restaurants | S44: Transport , storage and communication | T44: Finance, real estate and business services | U44: Personal and General Government Services
A45: 1996 | C45: =(C4/$W4)/(B4/$V4) -> 0.84963402 | D45: =(E4/$W4)/(D4/$V4) -> 0.11842578 | E45: =(G4/$W4)/(F4/$V4) -> 1.2627269 | F45: =(I4/$W4)/(H4/$V4) -> 1.0444897 | G45: =(K4/$W4)/(J4/$V4) -> 1.0711523 | H45: =(M4/$W4)/(L4/$V4) -> 1.0871048 | I45: =(O4/$W4)/(N4/$V4) -> 1.1977052 | J45: =(Q4/$W4)/(P4/$V4) -> 0.95967309 | K45: =(S4/$W4)/(R4/$V4) -> 1.0837735 | L45: =A45 -> 1996 | M45: =(1-1/C45)*C4 -> -17510.175 | N45: =(1-1/D45)*E4 -> -82920.185 | O45: =(1-1/E45)*G4 -> 58918.976 | P45: =(1-1/F45)*I4 -> 463.91137 | Q45: =(1-1/G45)*K4 -> 6105.7579 | R45: =(1-1/H45)*M4 -> 16976.295 | S45: =(1-1/I45)*O4 -> 9846.0446 | T45: =(1-1/J45)*Q4 -> -8720.1318 | U45: =(1-1/K45)*S4 -> 21201.523 | V45: =AVERAGE(M45:U45) -> 484.66848 | W45: =V45/1000 -> 0.48466848
A46: 1997 | C46: =(C5/$W5)/(B5/$V5) -> 0.92994999 | D46: =(E5/$W5)/(D5/$V5) -> 0.10552329 | E46: =(G5/$W5)/(F5/$V5) -> 1.2781397 | F46: =(I5/$W5)/(H5/$V5) -> 0.92309612 | G46: =(K5/$W5)/(J5/$V5) -> 1.0596523 | H46: =(M5/$W5)/(L5/$V5) -> 1.0985315 | I46: =(O5/$W5)/(N5/$V5) -> 1.1839872 | J46: =(Q5/$W5)/(P5/$V5) -> 0.98301618 | K46: =(S5/$W5)/(R5/$V5) -> 1.0137741 | L46: =A46 -> 1997 | M46: =(1-1/C46)*C5 -> -8232.7818 | N46: =(1-1/D46)*E5 -> -81619.213 | O46: =(1-1/E46)*G5 -> 62158.814 | P46: =(1-1/F46)*I5 -> -807.29709 | Q46: =(1-1/G46)*K5 -> 4542.4634 | R46: =(1-1/H46)*M5 -> 19995.69 | S46: =(1-1/I46)*O5 -> 9345.7609 | T46: =(1-1/J46)*Q5 -> -3703.9969 | U46: =(1-1/K46)*S5 -> 3554.7414 | V46: =AVERAGE(M46:U46) -> 581.57564 | W46: =V46/1000 -> 0.58157564
A47: 1998 | C47: =(C6/$W6)/(B6/$V6) -> 1.0457427 | D47: =(E6/$W6)/(D6/$V6) -> 0.11479191 | E47: =(G6/$W6)/(F6/$V6) -> 1.2929765 | F47: =(I6/$W6)/(H6/$V6) -> 0.8585464 | G47: =(K6/$W6)/(J6/$V6) -> 1.0150873 | H47: =(M6/$W6)/(L6/$V6) -> 1.0493133 | I47: =(O6/$W6)/(N6/$V6) -> 1.1737624 | J47: =(Q6/$W6)/(P6/$V6) -> 0.95867856 | K47: =(S6/$W6)/(R6/$V6) -> 0.97191141 | L47: =A47 -> 1998 | M47: =(1-1/C47)*C6 -> 6043.6363 | N47: =(1-1/D47)*E6 -> -68860.626 | O47: =(1-1/E47)*G6 -> 68802.632 | P47: =(1-1/F47)*I6 -> -1535.4101 | Q47: =(1-1/G47)*K6 -> 1098.8121 | R47: =(1-1/H47)*M6 -> 11144.028 | S47: =(1-1/I47)*O6 -> 9370.5873 | T47: =(1-1/J47)*Q6 -> -9488.6463 | U47: =(1-1/K47)*S6 -> -7833.1564 | V47: =AVERAGE(M47:U47) -> 971.31741 | W47: =V47/1000 -> 0.97131741
A48: 1999 | C48: =(C7/$W7)/(B7/$V7) -> 1.0505753 | D48: =(E7/$W7)/(D7/$V7) -> 0.095764839 | E48: =(G7/$W7)/(F7/$V7) -> 1.3192106 | F48: =(I7/$W7)/(H7/$V7) -> 0.85510756 | G48: =(K7/$W7)/(J7/$V7) -> 0.9947131 | H48: =(M7/$W7)/(L7/$V7) -> 0.99633453 | I48: =(O7/$W7)/(N7/$V7) -> 1.1703537 | J48: =(Q7/$W7)/(P7/$V7) -> 0.94421756 | K48: =(S7/$W7)/(R7/$V7) -> 0.97625282 | L48: =A48 -> 1999 | M48: =(1-1/C48)*C7 -> 7586.7925 | N48: =(1-1/D48)*E7 -> -67110.773 | O48: =(1-1/E48)*G7 -> 80145.593 | P48: =(1-1/F48)*I7 -> -1630.0899 | Q48: =(1-1/G48)*K7 -> -385.48792 | R48: =(1-1/H48)*M7 -> -937.0444 | S48: =(1-1/I48)*O7 -> 9746.2564 | T48: =(1-1/J48)*Q7 -> -13545.633 | U48: =(1-1/K48)*S7 -> -7251.5102 | V48: =AVERAGE(M48:U48) -> 735.34482 | W48: =V48/1000 -> 0.73534482
A49: 2000 | C49: =(C8/$W8)/(B8/$V8) -> 0.98422653 | D49: =(E8/$W8)/(D8/$V8) -> 0.08567454 | E49: =(G8/$W8)/(F8/$V8) -> 1.3480373 | F49: =(I8/$W8)/(H8/$V8) -> 0.91536119 | G49: =(K8/$W8)/(J8/$V8) -> 1.017761 | H49: =(M8/$W8)/(L8/$V8) -> 0.97541896 | I49: =(O8/$W8)/(N8/$V8) -> 1.1567507 | J49: =(Q8/$W8)/(P8/$V8) -> 0.93795078 | K49: =(S8/$W8)/(R8/$V8) -> 0.96714754 | L49: =A49 -> 2000 | M49: =(1-1/C49)*C8 -> -2511.4462 | N49: =(1-1/D49)*E8 -> -66068.57 | O49: =(1-1/E49)*G8 -> 91717.236 | P49: =(1-1/F49)*I8 -> -987.57508 | Q49: =(1-1/G49)*K8 -> 1306.8775 | R49: =(1-1/H49)*M8 -> -6820.9686 | S49: =(1-1/I49)*O8 -> 9150.7541 | T49: =(1-1/J49)*Q8 -> -15522.3 | U49: =(1-1/K49)*S8 -> -10658.399 | V49: =AVERAGE(M49:U49) -> -43.821199 | W49: =V49/1000 -> -0.043821199
A50: 2001 | C50: =(C9/$W9)/(B9/$V9) -> 0.93516209 | D50: =(E9/$W9)/(D9/$V9) -> 0.077542696 | E50: =(G9/$W9)/(F9/$V9) -> 1.365938 | F50: =(I9/$W9)/(H9/$V9) -> 0.99712212 | G50: =(K9/$W9)/(J9/$V9) -> 1.0327969 | H50: =(M9/$W9)/(L9/$V9) -> 0.97583739 | I50: =(O9/$W9)/(N9/$V9) -> 1.1738032 | J50: =(Q9/$W9)/(P9/$V9) -> 0.90709258 | K50: =(S9/$W9)/(R9/$V9) -> 0.971157 | L50: =A50 -> 2001 | M50: =(1-1/C50)*C9 -> -10419.356 | N50: =(1-1/D50)*E9 -> -65112.107 | O50: =(1-1/E50)*G9 -> 96619.232 | P50: =(1-1/F50)*I9 -> -32.97715 | Q50: =(1-1/G50)*K9 -> 2349.7988 | R50: =(1-1/H50)*M9 -> -6794.1871 | S50: =(1-1/I50)*O9 -> 9706.6706 | T50: =(1-1/J50)*Q9 -> -22864.837 | U50: =(1-1/K50)*S9 -> -9496.8934 | V50: =AVERAGE(M50:U50) -> -671.62838 | W50: =V50/1000 -> -0.67162838
A51: 2002 | C51: =(C10/$W10)/(B10/$V10) -> 0.92891401 | D51: =(E10/$W10)/(D10/$V10) -> 0.07550601 | E51: =(G10/$W10)/(F10/$V10) -> 1.3426044 | F51: =(I10/$W10)/(H10/$V10) -> 1.0366982 | G51: =(K10/$W10)/(J10/$V10) -> 1.0231238 | H51: =(M10/$W10)/(L10/$V10) -> 0.9957614 | I51: =(O10/$W10)/(N10/$V10) -> 1.1928782 | J51: =(Q10/$W10)/(P10/$V10) -> 0.87551839 | K51: =(S10/$W10)/(R10/$V10) -> 0.98190007 | L51: =A51 -> 2002 | M51: =(1-1/C51)*C10 -> -11063.001 | N51: =(1-1/D51)*E10 -> -66451.588 | O51: =(1-1/E51)*G10 -> 89372.16 | P51: =(1-1/F51)*I10 -> 413.73907 | Q51: =(1-1/G51)*K10 -> 1629.2541 | R51: =(1-1/H51)*M10 -> -1174.3363 | S51: =(1-1/I51)*O10 -> 10296.263 | T51: =(1-1/J51)*Q10 -> -30021.497 | U51: =(1-1/K51)*S10 -> -5996.0225 | V51: =AVERAGE(M51:U51) -> -1443.8921 | W51: =V51/1000 -> -1.4438921
A52: 2003 | C52: =(C11/$W11)/(B11/$V11) -> 0.91830695 | D52: =(E11/$W11)/(D11/$V11) -> 0.078596279 | E52: =(G11/$W11)/(F11/$V11) -> 1.2874236 | F52: =(I11/$W11)/(H11/$V11) -> 0.99402296 | G52: =(K11/$W11)/(J11/$V11) -> 0.98016197 | H52: =(M11/$W11)/(L11/$V11) -> 1.0187437 | I52: =(O11/$W11)/(N11/$V11) -> 1.2034977 | J52: =(Q11/$W11)/(P11/$V11) -> 0.86399489 | K52: =(S11/$W11)/(R11/$V11) -> 1.0002731 | L52: =A52 -> 2003 | M52: =(1-1/C52)*C11 -> -12185.198 | N52: =(1-1/D52)*E11 -> -68794.892 | O52: =(1-1/E52)*G11 -> 74520.879 | P52: =(1-1/F52)*I11 -> -68.476578 | Q52: =(1-1/G52)*K11 -> -1437.5854 | R52: =(1-1/H52)*M11 -> 5179.4243 | S52: =(1-1/I52)*O11 -> 11105.186 | T52: =(1-1/J52)*Q11 -> -33308.601 | U52: =(1-1/K52)*S11 -> 92.638296 | V52: =AVERAGE(M52:U52) -> -2766.2918 | W52: =V52/1000 -> -2.7662918
A53: 2004 | C53: =(C12/$W12)/(B12/$V12) -> 0.8866051 | D53: =(E12/$W12)/(D12/$V12) -> 0.10621167 | E53: =(G12/$W12)/(F12/$V12) -> 1.2626529 | F53: =(I12/$W12)/(H12/$V12) -> 0.94008022 | G53: =(K12/$W12)/(J12/$V12) -> 0.94895248 | H53: =(M12/$W12)/(L12/$V12) -> 1.0165194 | I53: =(O12/$W12)/(N12/$V12) -> 1.2360643 | J53: =(Q12/$W12)/(P12/$V12) -> 0.87319243 | K53: =(S12/$W12)/(R12/$V12) -> 1.0225566 | L53: =A53 -> 2004 | M53: =(1-1/C53)*C12 -> -15604.874 | N53: =(1-1/D53)*E12 -> -69077.632 | O53: =(1-1/E53)*G12 -> 66806.459 | P53: =(1-1/F53)*I12 -> -660.41565 | Q53: =(1-1/G53)*K12 -> -3906.7799 | R53: =(1-1/H53)*M12 -> 4604.6448 | S53: =(1-1/I53)*O12 -> 13573.462 | T53: =(1-1/J53)*Q12 -> -32269.451 | U53: =(1-1/K53)*S12 -> 7730.7096 | V53: =AVERAGE(M53:U53) -> -3200.4308 | W53: =V53/1000 -> -3.2004308
A54: 2005 | C54: =(C13/$W13)/(B13/$V13) -> 0.86418098 | D54: =(E13/$W13)/(D13/$V13) -> 0.12392764 | E54: =(G13/$W13)/(F13/$V13) -> 1.2710215 | F54: =(I13/$W13)/(H13/$V13) -> 0.90008406 | G54: =(K13/$W13)/(J13/$V13) -> 0.93095114 | H54: =(M13/$W13)/(L13/$V13) -> 1.0142002 | I54: =(O13/$W13)/(N13/$V13) -> 1.2551722 | J54: =(Q13/$W13)/(P13/$V13) -> 0.89119347 | K54: =(S13/$W13)/(R13/$V13) -> 1.0439061 | L54: =A54 -> 2005 | M54: =(1-1/C54)*C13 -> -17146.516 | N54: =(1-1/D54)*E13 -> -64954.206 | O54: =(1-1/E54)*G13 -> 67864.688 | P54: =(1-1/F54)*I13 -> -1109.7944 | Q54: =(1-1/G54)*K13 -> -5789.3616 | R54: =(1-1/H54)*M13 -> 4099.7979 | S54: =(1-1/I54)*O13 -> 15886.628 | T54: =(1-1/J54)*Q13 -> -29722.548 | U54: =(1-1/K54)*S13 -> 15236.094 | V54: =AVERAGE(M54:U54) -> -1737.2464 | W54: =V54/1000 -> -1.7372464
A55: 2006 | C55: =(C14/$W14)/(B14/$V14) -> 0.88039519 | D55: =(E14/$W14)/(D14/$V14) -> 0.11523714 | E55: =(G14/$W14)/(F14/$V14) -> 1.2671259 | F55: =(I14/$W14)/(H14/$V14) -> 0.86119263 | G55: =(K14/$W14)/(J14/$V14) -> 0.9176198 | H55: =(M14/$W14)/(L14/$V14) -> 1.0471348 | I55: =(O14/$W14)/(N14/$V14) -> 1.2276168 | J55: =(Q14/$W14)/(P14/$V14) -> 0.90618378 | K55: =(S14/$W14)/(R14/$V14) -> 1.0679709 | L55: =A55 -> 2006 | M55: =(1-1/C55)*C14 -> -14436.173 | N55: =(1-1/D55)*E14 -> -73064.22 | O55: =(1-1/E55)*G14 -> 67273.979 | P55: =(1-1/F55)*I14 -> -1597.7501 | Q55: =(1-1/G55)*K14 -> -7557.8611 | R55: =(1-1/H55)*M14 -> 14441.465 | S55: =(1-1/I55)*O14 -> 15352.847 | T55: =(1-1/J55)*Q14 -> -27745.694 | U55: =(1-1/K55)*S14 -> 24172.371 | V55: =AVERAGE(M55:U55) -> -351.22627 | W55: =V55/1000 -> -0.35122627
A56: 2007 | C56: =(C15/$W15)/(B15/$V15) -> 0.95685091 | D56: =(E15/$W15)/(D15/$V15) -> 0.10308091 | E56: =(G15/$W15)/(F15/$V15) -> 1.2191998 | F56: =(I15/$W15)/(H15/$V15) -> 0.77077508 | G56: =(K15/$W15)/(J15/$V15) -> 0.94460275 | H56: =(M15/$W15)/(L15/$V15) -> 1.0469492 | I56: =(O15/$W15)/(N15/$V15) -> 1.193594 | J56: =(Q15/$W15)/(P15/$V15) -> 0.91019218 | K56: =(S15/$W15)/(R15/$V15) -> 1.0608231 | L56: =A56 -> 2007 | M56: =(1-1/C56)*C15 -> -5144.1357 | N56: =(1-1/D56)*E15 -> -75437.562 | O56: =(1-1/E56)*G15 -> 56849.894 | P56: =(1-1/F56)*I15 -> -2797.5531 | Q56: =(1-1/G56)*K15 -> -5548.447 | R56: =(1-1/H56)*M15 -> 15419.1 | S56: =(1-1/I56)*O15 -> 14241.647 | T56: =(1-1/J56)*Q15 -> -28805.794 | U56: =(1-1/K56)*S15 -> 22895.188 | V56: =AVERAGE(M56:U56) -> -925.29585 | W56: =V56/1000 -> -0.92529585
... A62: 2013 | C62: =(C21/$W21)/(B21/$V21) -> 0.80522265 | D62: =(E21/$W21)/(D21/$V21) -> 0.11930628 | E62: =(G21/$W21)/(F21/$V21) -> 1.2216902 | F62: =(I21/$W21)/(H21/$V21) -> 0.63262022 | G62: =(K21/$W21)/(J21/$V21) -> 1.2523747 | H62: =(M21/$W21)/(L21/$V21) -> 0.94114127 | I62: =(O21/$W21)/(N21/$V21) -> 1.2458344 | J62: =(Q21/$W21)/(P21/$V21) -> 0.8836728 | K62: =(S21/$W21)/(R21/$V21) -> 1.0731763 | L62: =A62 -> 2013 | M62: =(1-1/C62)*C21 -> -19830.854 | N62: =(1-1/D62)*E21 -> -75095.539 | O62: =(1-1/E62)*G21 -> 54460.229 | P62: =(1-1/F62)*I21 -> -5649.2264 | Q62: =(1-1/G62)*K21 -> 25587.758 | R62: =(1-1/H62)*M21 -> -20116.249 | S62: =(1-1/I62)*O21 -> 22511.212 | T62: =(1-1/J62)*Q21 -> -39174.462 | U62: =(1-1/K62)*S21 -> 33034.198 | V62: =AVERAGE(M62:U62) -> -2696.9926 | W62: =V62/1000 -> -2.6969926
A64: Economic Structure | C64: Agriculture, forestry and fishing | D64: Mining and quarrying | E64: Manufacturing | F64: Electricity, gas and water | G64: Construction | H64: Wholesale & retail trade; hotels & restaurants | I64: Transport , storage and communication | J64: Finance, real estate and business services | K64: Personal and General Government Services | L64: Average
A65: =A45 -> 1996 | C65: =C25/$W25*100 -> 5.3564973 | D65: =E25/$W25*100 -> 3.4916436 | E65: =G25/$W25*100 -> 20.969546 | F65: =I25/$W25*100 -> 3.5175082 | G65: =K25/$W25*100 -> 3.9179311 | H65: =M25/$W25*100 -> 13.49925 | I65: =O25/$W25*100 -> 9.6405649 | J65: =Q25/$W25*100 -> 14.178051 | K65: =S25/$W25*100 -> 25.429008 | L65: =AVERAGE(C65:K65) -> 11.111111
A66: =A46 -> 1997 | C66: =C26/$W26*100 -> 5.247042 | D66: =E26/$W26*100 -> 3.4721718 | E66: =G26/$W26*100 -> 21.17472 | F66: =I26/$W26*100 -> 3.5791462 | G66: =K26/$W26*100 -> 4.0653078 | H66: =M26/$W26*100 -> 13.351034 | I66: =O26/$W26*100 -> 10.019106 | J66: =Q26/$W26*100 -> 14.525311 | K66: =S26/$W26*100 -> 24.566161 | L66: =AVERAGE(C66:K66) -> 11.111111
A67: =A47 -> 1998 | C67: =C27/$W27*100 -> 5.2617654 | D67: =E27/$W27*100 -> 3.3898544 | E67: =G27/$W27*100 -> 20.866392 | F67: =I27/$W27*100 -> 3.3267039 | G67: =K27/$W27*100 -> 3.567217 | H67: =M27/$W27*100 -> 13.329109 | I67: =O27/$W27*100 -> 10.386911 | J67: =Q27/$W27*100 -> 14.829054 | K67: =S27/$W27*100 -> 25.042993 | L67: =AVERAGE(C67:K67) -> 11.111111
A68: =A48 -> 1999 | C68: =C28/$W28*100 -> 5.0232695 | D68: =E28/$W28*100 -> 3.1139419 | E68: =G28/$W28*100 -> 20.874373 | F68: =I28/$W28*100 -> 3.2692505 | G68: =K28/$W28*100 -> 3.2999689 | H68: =M28/$W28*100 -> 14.074717 | I68: =O28/$W28*100 -> 10.591565 | J68: =Q28/$W28*100 -> 15.491975 | K68: =S28/$W28*100 -> 24.260939 | L68: =AVERAGE(C68:K68) -> 11.111111
A69: =A49 -> 2000 | C69: =C29/$W29*100 -> 4.9705666 | D69: =E29/$W29*100 -> 2.9561252 | E69: =G29/$W29*100 -> 21.698244 | F69: =I29/$W29*100 -> 3.2724742 | G69: =K29/$W29*100 -> 3.3041701 | H69: =M29/$W29*100 -> 14.616905 | I69: =O29/$W29*100 -> 10.780968 | J69: =Q29/$W29*100 -> 14.932548 | K69: =S29/$W29*100 -> 23.467999 | L69: =AVERAGE(C69:K69) -> 11.111111
A70: =A50 -> 2001 | C70: =C30/$W30*100 -> 4.7835967 | D70: =E30/$W30*100 -> 2.8611839 | E70: =G30/$W30*100 -> 21.465122 | F70: =I30/$W30*100 -> 3.1020362 | G70: =K30/$W30*100 -> 3.9562181 | H70: =M30/$W30*100 -> 15.119275 | I70: =O30/$W30*100 -> 10.857868 | J70: =Q30/$W30*100 -> 15.024034 | K70: =S30/$W30*100 -> 22.830666 | L70: =AVERAGE(C70:K70) -> 11.111111
A71: =A51 -> 2002 | C71: =C31/$W31*100 -> 4.8551754 | D71: =E31/$W31*100 -> 2.8002549 | E71: =G31/$W31*100 -> 21.488096 | F71: =I31/$W31*100 -> 3.1477104 | G71: =K31/$W31*100 -> 3.1370629 | H71: =M31/$W31*100 -> 15.107258 | I71: =O31/$W31*100 -> 11.579947 | J71: =Q31/$W31*100 -> 15.397666 | K71: =S31/$W31*100 -> 22.486828 | L71: =AVERAGE(C71:K71) -> 11.111111
A72: =A52 -> 2003 | C72: =C32/$W32*100 -> 4.9726393 | D72: =E32/$W32*100 -> 2.865942 | E72: =G32/$W32*100 -> 20.596876 | F72: =I32/$W32*100 -> 3.0761139 | G72: =K32/$W32*100 -> 3.2179361 | H72: =M32/$W32*100 -> 15.115911 | I72: =O32/$W32*100 -> 11.983153 | J72: =Q32/$W32*100 -> 15.732949 | K72: =S32/$W32*100 -> 22.438479 | L72: =AVERAGE(C72:K72) -> 11.111111
A73: =A53 -> 2004 | C73: =C33/$W33*100 -> 4.7823103 | D73: =E33/$W33*100 -> 2.7994362 | E73: =G33/$W33*100 -> 20.650888 | F73: =I33/$W33*100 -> 3.1760008 | G73: =K33/$W33*100 -> 3.3780837 | H73: =M33/$W33*100 -> 15.26051 | I73: =O33/$W33*100 -> 11.98983 | J73: =Q33/$W33*100 -> 16.156374 | K73: =S33/$W33*100 -> 21.806568 | L73: =AVERAGE(C73:K73) -> 11.111111
A74: =A54 -> 2005 | C74: =C34/$W34*100 -> 4.2396475 | D74: =E34/$W34*100 -> 2.4811613 | E74: =G34/$W34*100 -> 20.728651 | F74: =I34/$W34*100 -> 3.1979469 | G74: =K34/$W34*100 -> 3.6230413 | H74: =M34/$W34*100 -> 15.358323 | I74: =O34/$W34*100 -> 12.006573 | J74: =Q34/$W34*100 -> 16.891086 | K74: =S34/$W34*100 -> 21.47357 | L74: =AVERAGE(C74:K74) -> 11.111111
A75: =A55 -> 2006 | C75: =C35/$W35*100 -> 4.0647809 | D75: =E35/$W35*100 -> 2.2778305 | E75: =G35/$W35*100 -> 20.876323 | F75: =I35/$W35*100 -> 3.149285 | G75: =K35/$W35*100 -> 3.6960819 | H75: =M35/$W35*100 -> 15.517084 | I75: =O35/$W35*100 -> 11.996785 | J75: =Q35/$W35*100 -> 17.270094 | K75: =S35/$W35*100 -> 21.151735 | L75: =AVERAGE(C75:K75) -> 11.111111
A76: =A56 -> 2007 | C76: =C36/$W36*100 -> 4.0254175 | D76: =E36/$W36*100 -> 2.1952293 | E76: =G36/$W36*100 -> 20.695605 | F76: =I36/$W36*100 -> 3.0599635 | G76: =K36/$W36*100 -> 4.0013884 | H76: =M36/$W36*100 -> 15.476692 | I76: =O36/$W36*100 -> 12.21733 | J76: =Q36/$W36*100 -> 17.428826 | K76: =S36/$W36*100 -> 20.899548 | L76: =AVERAGE(C76:K76) -> 11.111111
... A82: =A62 -> 2013 | C82: =C42/$W42*100 -> 4.6467523 | D82: =E42/$W42*100 -> 1.9609288 | E82: =G42/$W42*100 -> 18.504735 | F82: =I42/$W42*100 -> 2.4874837 | G82: =K42/$W42*100 -> 4.5166044 | H82: =M42/$W42*100 -> 15.706559 | I82: =O42/$W42*100 -> 12.137314 | J82: =Q42/$W42*100 -> 18.074351 | K82: =S42/$W42*100 -> 21.965271 | L82: =AVERAGE(C82:K82) -> 11.111111
A84: Average | C84: =AVERAGE(C65:C82) -> 4.7441826 | D84: =AVERAGE(D65:D82) -> 2.5799654 | E84: =AVERAGE(E65:E82) -> 20.327134 | F84: =AVERAGE(F65:F82) -> 3.038692 | G84: =AVERAGE(G65:G82) -> 3.8987669 | H84: =AVERAGE(H65:H82) -> 14.937129 | I84: =AVERAGE(I65:I82) -> 11.507495 | J84: =AVERAGE(J65:J82) -> 16.422999 | K84: =AVERAGE(K65:K82) -> 22.543636
A85: Deviation | C85: =C82-C65 -> -0.70974498 | D85: =D82-D65 -> -1.5307148 | E85: =E82-E65 -> -2.4648106 | F85: =F82-F65 -> -1.0300244 | G85: =G82-G65 -> 0.5986733 | H85: =H82-H65 -> 2.2073088 | I85: =I82-I65 -> 2.4967491 | J85: =J82-J65 -> 3.8962999 | K85: =K82-K65 -> -3.4637363
A86: Std Dev | C86: =STDEV(C65:C82) -> 0.37834078 | D86: =STDEV(D65:D82) -> 0.57189281 | E86: =STDEV(E65:E82) -> 1.098039 | F86: =STDEV(F65:F82) -> 0.32743934 | G86: =STDEV(G65:G82) -> 0.5204942 | H86: =STDEV(H65:H82) -> 0.81752922 | I86: =STDEV(I65:I82) -> 0.87287324 | J86: =STDEV(J65:J82) -> 1.416145 | K86: =STDEV(K65:K82) -> 1.4172393
C90: 1996 | D90: 1999 | E90: 2003 | F90: 2004 | G90: 2006 | H90: =A77 -> 2008 | I90: 2009 | J90: 2010 | K90: 2011 | L90: 2012 | M90: Average | N90: Deviation | O90: Std Dev
A91: Agriculture, forestry and fishing | C91: {=TRANSPOSE(C63:K63)} -> 0 | D91: {=TRANSPOSE(C66:K66)} -> 5.247042 | E91: {=TRANSPOSE(C70:K70)} -> 4.7835967 | F91: {=TRANSPOSE(C73:K73)} -> 4.7823103 | G91: {=TRANSPOSE(C75:K75)} -> 4.0647809 | H91: {=TRANSPOSE(C77:K77)} -> 4.6933471 | I91: {=TRANSPOSE(C78:K78)} -> 4.5971088 | J91: {=TRANSPOSE(C79:K79)} -> 4.483467 | K91: {=TRANSPOSE(C80:K80)} -> 4.7272904 | L91: {=TRANSPOSE(C82:K82)} -> 4.6467523 | M91: =AVERAGE(C91:L91) -> 4.2025695 | N91: =L91-C91 -> 4.6467523 | O91: =STDEV(C91:L91) -> 1.5052962
A92: Mining and quarrying | C92: 0 | D92: 3.4721718 | E92: 2.8611839 | F92: 2.7994362 | G92: 2.2778305 | H92: 1.9696836 | I92: 1.9396769 | J92: 2.0148843 | K92: 1.9286646 | L92: 1.9609288 | M92: =AVERAGE(C92:L92) -> 2.1224461 | N92: =L92-C92 -> 1.9609288 | O92: =STDEV(C92:L92) -> 0.91205994
A93: Manufacturing | C93: 0 | D93: 21.17472 | E93: 21.465122 | F93: 20.650888 | G93: 20.876323 | H93: 20.310237 | I93: 18.423458 | J93: 18.979961 | K93: 18.84952 | L93: 18.504735 | M93: =AVERAGE(C93:L93) -> 17.923496 | N93: =L93-C93 -> 18.504735 | O93: =STDEV(C93:L93) -> 6.4012248
A94: Electricity, gas and water | C94: 0 | D94: 3.5791462 | E94: 3.1020362 | F94: 3.1760008 | G94: 3.149285 | H94: 2.8054319 | I94: 2.7190974 | J94: 2.6661746 | K94: 2.6014983 | L94: 2.4874837 | M94: =AVERAGE(C94:L94) -> 2.6286154 | N94: =L94-C94 -> 2.4874837 | O94: =STDEV(C94:L94) -> 0.98146703
A95: Construction | C95: 0 | D95: 4.0653078 | E95: 3.9562181 | F95: 3.3780837 | G95: 3.6960819 | H95: 4.2302944 | I95: 4.6900903 | J95: 4.6203014 | K95: 4.4831679 | L95: 4.5166044 | M95: =AVERAGE(C95:L95) -> 3.763615 | N95: =L95-C95 -> 4.5166044 | O95: =STDEV(C95:L95) -> 1.3880808
A96: Wholesale & retail trade; hotels & restaurants | C96: 0 | D96: 13.351034 | E96: 15.119275 | F96: 15.26051 | G96: 15.517084 | H96: 15.073141 | I96: 15.29201 | J96: 15.48848 | K96: 15.669267 | L96: 15.706559 | M96: =AVERAGE(C96:L96) -> 13.647736 | N96: =L96-C96 -> 15.706559 | O96: =STDEV(C96:L96) -> 4.8426204
A97: Transport , storage and communication | C97: 0 | D97: 10.019106 | E97: 10.857868 | F97: 11.98983 | G97: 11.996785 | H97: 12.163814 | I97: 12.328097 | J97: 12.208898 | K97: 12.121371 | L97: 12.137314 | M97: =AVERAGE(C97:L97) -> 10.582308 | N97: =L97-C97 -> 12.137314 | O97: =STDEV(C97:L97) -> 3.7909502
A98: Finance, real estate and business services | C98: 0 | D98: 14.525311 | E98: 15.024034 | F98: 16.156374 | G98: 17.270094 | H98: 17.707918 | I98: 18.221141 | J98: 17.876673 | K98: 17.984323 | L98: 18.074351 | M98: =AVERAGE(C98:L98) -> 15.284022 | N98: =L98-C98 -> 18.074351 | O98: =STDEV(C98:L98) -> 5.5302339
A99: Personal and General Government Services | C99: 0 | D99: 24.566161 | E99: 22.830666 | F99: 21.806568 | G99: 21.151735 | H99: 21.046133 | I99: 21.789321 | J99: 21.661161 | K99: 21.634898 | L99: 21.965271 | M99: =AVERAGE(C99:L99) -> 19.845191 | N99: =L99-C99 -> 21.965271 | O99: =STDEV(C99:L99) -> 7.0459107
A102: Diversity | C102: Agriculture, forestry and fishing | D102: Mining and quarrying | E102: Manufacturing | F102: Electricity, gas and water | G102: Construction | H102: Wholesale & retail trade; hotels & restaurants | I102: Transport , storage and communication | J102: Finance, real estate and business services | K102: Personal and General Government Services | L102: Average
A103: 1996 | C103: =C4/($W4-C4) -> 0.077027154 | D103: =E4/($W4-E4) -> 0.0081171406 | E103: =G4/($W4-G4) -> 0.25737725 | F103: =I4/($W4-I4) -> 0.0079351747 | G103: =K4/($W4-K4) -> 0.071171388 | H103: =M4/($W4-M4) -> 0.18084657 | I103: =O4/($W4-O4) -> 0.045058715 | J103: =Q4/($W4-Q4) -> 0.17647279 | K103: =S4/($W4-S4) -> 0.24729295 | L103: =AVERAGE(C103:K103) -> 0.11903324
A104: 1997 | C104: =C5/($W5-C5) -> 0.085363312 | D104: =E5/($W5-E5) -> 0.0069773336 | E104: =G5/($W5-G5) -> 0.25873144 | F104: =I5/($W5-I5) -> 0.0070221355 | G104: =K5/($W5-K5) -> 0.061646107 | H104: =M5/($W5-M5) -> 0.19107871 | I104: =O5/($W5-O5) -> 0.045236251 | J104: =Q5/($W5-Q5) -> 0.18241665 | K104: =S5/($W5-S5) -> 0.23193872 | L104: =AVERAGE(C104:K104) -> 0.11893452
A105: 1998 | C105: =C6/($W6-C6) -> 0.10399974 | D105: =E6/($W6-E6) -> 0.0061256345 | E105: =G6/($W6-G6) -> 0.26107534 | F105: =I6/($W6-I6) -> 0.0063944676 | G105: =K6/($W6-K6) -> 0.053081053 | H105: =M6/($W6-M6) -> 0.19285589 | I105: =O6/($W6-O6) -> 0.045103747 | J105: =Q6/($W6-Q6) -> 0.1766009 | K105: =S6/($W6-S6) -> 0.22668875 | L105: =AVERAGE(C105:K105) -> 0.11910284
A106: 1999 | C106: =C7/($W7-C7) -> 0.11022943 | D106: =E7/($W7-E7) -> 0.0044978389 | E106: =G7/($W7-G7) -> 0.26369104 | F106: =I7/($W7-I7) -> 0.0060976807 | G106: =K7/($W7-K7) -> 0.047880306 | H106: =M7/($W7-M7) -> 0.19113233 | I106: =O7/($W7-O7) -> 0.044041176 | J106: =Q7/($W7-Q7) -> 0.16883616 | K106: =S7/($W7-S7) -> 0.23123764 | L106: =AVERAGE(C106:K106) -> 0.11862707
A107: 2000 | C107: =C8/($W8-C8) -> 0.10345838 | D107: =E8/($W8-E8) -> 0.0037177107 | E107: =G8/($W8-G8) -> 0.26990935 | F107: =I8/($W8-I8) -> 0.0064312488 | G107: =K8/($W8-K8) -> 0.046907297 | H107: =M8/($W8-M8) -> 0.19323249 | I107: =O8/($W8-O8) -> 0.042103282 | J107: =Q8/($W8-Q8) -> 0.16331028 | K107: =S8/($W8-S8) -> 0.23111856 | L107: =AVERAGE(C107:K107) -> 0.11779873
A108: 2001 | C108: =C9/($W9-C9) -> 0.098403606 | D108: =E9/($W9-E9) -> 0.0032736033 | E108: =G9/($W9-G9) -> 0.27388446 | F108: =I9/($W9-I9) -> 0.0068581592 | G108: =K9/($W9-K9) -> 0.046148314 | H108: =M9/($W9-M9) -> 0.19556686 | I108: =O9/($W9-O9) -> 0.040669702 | J108: =Q9/($W9-Q9) -> 0.15351175 | K108: =S9/($W9-S9) -> 0.23552195 | L108: =AVERAGE(C108:K108) -> 0.11709316
A109: 2002 | C109: =C10/($W10-C10) -> 0.095375922 | D109: =E10/($W10-E10) -> 0.0032795624 | E109: =G10/($W10-G10) -> 0.26733823 | F109: =I10/($W10-I10) -> 0.0070894542 | G109: =K10/($W10-K10) -> 0.045388569 | H109: =M10/($W10-M10) -> 0.19927645 | I109: =O10/($W10-O10) -> 0.039883029 | J109: =Q10/($W10-Q10) -> 0.14570573 | K109: =S10/($W10-S10) -> 0.24364752 | L109: =AVERAGE(C109:K109) -> 0.11633161
A110: 2003 | C110: =C11/($W11-C11) -> 0.089362842 | D110: =E11/($W11-E11) -> 0.003526844 | E110: =G11/($W11-G11) -> 0.24985328 | F110: =I11/($W11-I11) -> 0.0068670998 | G110: =K11/($W11-K11) -> 0.044428391 | H110: =M11/($W11-M11) -> 0.20278088 | I110: =O11/($W11-O11) -> 0.040943781 | J110: =Q11/($W11-Q11) -> 0.1451143 | K110: =S11/($W11-S11) -> 0.25507154 | L110: =AVERAGE(C110:K110) -> 0.11532766
A111: 2004 | C111: =C12/($W12-C12) -> 0.078469105 | D111: =E12/($W12-E12) -> 0.0049192647 | E111: =G12/($W12-G12) -> 0.23688903 | F111: =I12/($W12-I12) -> 0.0062172427 | G111: =K12/($W12-K12) -> 0.045270089 | H111: =M12/($W12-M12) -> 0.20332747 | I111: =O12/($W12-O12) -> 0.044259214 | J111: =Q12/($W12-Q12) -> 0.15275174 | K111: =S12/($W12-S12) -> 0.26420776 | L111: =AVERAGE(C111:K111) -> 0.11514566
A112: 2005 | C112: =C13/($W13-C13) -> 0.068299551 | D112: =E13/($W13-E13) -> 0.0054135858 | E112: =G13/($W13-G13) -> 0.22926861 | F112: =I13/($W13-I13) -> 0.0058931501 | G112: =K13/($W13-K13) -> 0.047933552 | H112: =M13/($W13-M13) -> 0.20713421 | I112: =O13/($W13-O13) -> 0.047991498 | J112: =Q13/($W13-Q13) -> 0.16640093 | K112: =S13/($W13-S13) -> 0.26949095 | L112: =AVERAGE(C112:K112) -> 0.11642511
A113: 2006 | C113: =C14/($W14-C14) -> 0.06340783 | D113: =E14/($W14-E14) -> 0.0053685571 | E113: =G14/($W14-G14) -> 0.21812451 | F113: =I14/($W14-I14) -> 0.0055934665 | G113: =K14/($W14-K14) -> 0.049581177 | H113: =M14/($W14-M14) -> 0.2195504 | I113: =O14/($W14-O14) -> 0.048727251 | J113: =Q14/($W14-Q14) -> 0.17699957 | K113: =S14/($W14-S14) -> 0.27083658 | L113: =AVERAGE(C113:K113) -> 0.11757659
A114: 2007 | C114: =C15/($W15-C15) -> 0.064428946 | D114: =E15/($W15-E15) -> 0.0046216218 | E114: =G15/($W15-G15) -> 0.20160726 | F114: =I15/($W15-I15) -> 0.0050164514 | G114: =K15/($W15-K15) -> 0.052854258 | H114: =M15/($W15-M15) -> 0.22316182 | I114: =O15/($W15-O15) -> 0.048868047 | J114: =Q15/($W15-Q15) -> 0.18330522 | K114: =S15/($W15-S15) -> 0.26884858 | L114: =AVERAGE(C114:K114) -> 0.11696802
... A120: 2013 | C120: =C21/($W21-C21) -> 0.043536118 | D120: =E21/($W21-E21) -> 0.0052039123 | E120: =G21/($W21-G21) -> 0.18025786 | F120: =I21/($W21-I21) -> 0.0049750258 | G120: =K21/($W21-K21) -> 0.069080311 | H120: =M21/($W21-M21) -> 0.19572456 | I120: =O21/($W21-O21) -> 0.061633148 | J120: =Q21/($W21-Q21) -> 0.17846508 | K120: =S21/($W21-S21) -> 0.32721048 | L120: =AVERAGE(C120:K120) -> 0.11845405
A122: Average | C122: =AVERAGE(C103:C120) -> 0.07544695 | D122: =AVERAGE(D103:D120) -> 0.00483882 | E122: =AVERAGE(E103:E120) -> 0.22874448 | F122: =AVERAGE(F103:F120) -> 0.005808948 | G122: =AVERAGE(G103:G120) -> 0.056233668 | H122: =AVERAGE(H103:H120) -> 0.19914456 | I122: =AVERAGE(I103:I120) -> 0.048988229 | J122: =AVERAGE(J103:J120) -> 0.1711932 | K122: =AVERAGE(K103:K120) -> 0.26479827
A123: Deviation | C123: =C120-C103 -> -0.033491036 | D123: =D120-D103 -> -0.0029132282 | E123: =E120-E103 -> -0.077119395 | F123: =F120-F103 -> -0.0029601489 | G123: =G120-G103 -> -0.0020910769 | H123: =H120-H103 -> 0.014877987 | I123: =I120-I103 -> 0.016574433 | J123: =J120-J103 -> 0.001992287 | K123: =K120-K103 -> 0.079917536
A124: Std Dev | C124: =STDEV(C103:C120) -> 0.021184555 | D124: =STDEV(D103:D120) -> 0.0012612771 | E124: =STDEV(E103:E120) -> 0.034737724 | F124: =STDEV(F103:F120) -> 0.0011651303 | G124: =STDEV(G103:G120) -> 0.010148847 | H124: =STDEV(H103:H120) -> 0.01066841 | I124: =STDEV(I103:I120) -> 0.0075572205 | J124: =STDEV(J103:J120) -> 0.013582815 | K124: =STDEV(K103:K120) -> 0.030733901
A127: Gross Operating Surplus | B127: Agriculture | D127: Mining | F127: Manufacturing | H127: Electricity | J127: Construction | L127: Trade | N127: Transport | P127: Finance | R127: Community services | V127: Total
A128: (Current prices, R 1000) | B128: SA | C128: KZN | D128: SA | E128: =C128 -> KZN | F128: SA | G128: =E128 -> KZN | H128: SA | I128: =G128 -> KZN | J128: SA | K128: =I128 -> KZN | L128: SA | M128: =K128 -> KZN | N128: SA | O128: =M128 -> KZN | P128: SA | Q128: =O128 -> KZN | R128: SA | S128: =Q128 -> KZN | V128: SA | W128: MA
A129: =A103 -> 1996 | B129: 17560327 | C129: 4241073.5 | D129: 18976218 | E129: 1089021 | F129: 58115900 | G129: 13391436 | H129: 12065890 | I129: 2009988.6 | J129: 8399069.6 | K129: 1469885.4 | L129: 43493839 | M129: 7054474.1 | N129: 30182081 | O129: 7199457.2 | P129: 57814507 | Q129: 8006020.2 | R129: 25480060 | S129: 3655821.8 | V129: =B129+D129+F129+H129+J129+L129+N129+P129+R129+T129 -> 2.7208789e+08 | W129: =C129+E129+G129+I129+K129+M129+O129+Q129+S129+U129 -> 48117178
A130: =A104 -> 1997 | B130: 18528280 | C130: 4608631 | D130: 18635466 | E130: 1124933.6 | F130: 65421119 | G130: 15090306 | H130: 12769359 | I130: 2119924.6 | J130: 10003011 | K130: 1788140 | L130: 46300799 | M130: 7515846.8 | N130: 34515716 | O130: 8089657.5 | P130: 67927541 | Q130: 9318756.5 | R130: 28182008 | S130: 3853632.4 | V130: =B130+D130+F130+H130+J130+L130+N130+P130+R130+T130 -> 3.022833e+08 | W130: =C130+E130+G130+I130+K130+M130+O130+Q130+S130+U130 -> 53509829
A131: =A105 -> 1998 | B131: 17916444 | C131: 4919583.6 | D131: 22398461 | E131: 1348243.4 | F131: 63378598 | G131: 14622989 | H131: 13241811 | I131: 2247101.4 | J131: 10023104 | K131: 1685025.8 | L131: 47594051 | M131: 7671356.1 | N131: 38510154 | O131: 8798991 | P131: 73014485 | Q131: 10133232 | R131: 31996570 | S131: 4542234.1 | V131: =B131+D131+F131+H131+J131+L131+N131+P131+R131+T131 -> 3.1807368e+08 | W131: =C131+E131+G131+I131+K131+M131+O131+Q131+S131+U131 -> 55968757
A132: =A106 -> 1999 | B132: 18182216 | C132: 4450473.9 | D132: 26172151 | E132: 1347546.1 | F132: 66143629 | G132: 15361129 | H132: 12924922 | I132: 2210939.3 | J132: 10233415 | K132: 1646599.1 | L132: 51786998 | M132: 8276065.5 | N132: 44169666 | O132: 9981529.5 | P132: 85901666 | Q132: 12029184 | R132: 36163491 | S132: 5035813.1 | V132: =B132+D132+F132+H132+J132+L132+N132+P132+R132+T132 -> 3.5167815e+08 | W132: =C132+E132+G132+I132+K132+M132+O132+Q132+S132+U132 -> 60339279
A133: =A107 -> 2000 | B133: 18893764 | C133: 4828667.1 | D133: 35200913 | E133: 1747000.6 | F133: 81758667 | G133: 19061413 | H133: 14070592 | I133: 2420694.6 | J133: 10938035 | K133: 1733041.4 | L133: 64901635 | M133: 10358731 | N133: 53238012 | O133: 11792959 | P133: 94650767 | Q133: 13052780 | R133: 42069036 | S133: 5894438.3 | V133: =B133+D133+F133+H133+J133+L133+N133+P133+R133+T133 -> 4.1572142e+08 | W133: =C133+E133+G133+I133+K133+M133+O133+Q133+S133+U133 -> 70889725
A134: =A108 -> 2001 | B134: 23630216 | C134: 6135700.1 | D134: 46053956 | E134: 2118272.7 | F134: 94514156 | G134: 21531699 | H134: 14256010 | I134: 2535916.8 | J134: 12158880 | K134: 2457549.8 | L134: 72340833 | M134: 12214376 | N134: 59966349 | O134: 13297397 | P134: 1.0620849e+08 | Q134: 14786837 | R134: 46559838 | S134: 6572349.4 | V134: =B134+D134+F134+H134+J134+L134+N134+P134+R134+T134 -> 4.7568873e+08 | W134: =C134+E134+G134+I134+K134+M134+O134+Q134+S134+U134 -> 81650098
A135: =A109 -> 2002 | B135: 29537887 | C135: 6729908.7 | D135: 58471606 | E135: 2237456.7 | F135: 1.1501215e+08 | G135: 26277299 | H135: 16211875 | I135: 3124880.3 | J135: 12795600 | K135: 1908855.5 | L135: 86306000 | M135: 14602395 | N135: 69629955 | O135: 16090217 | P135: 1.3669582e+08 | Q135: 18865666 | R135: 54884301 | S135: 8164054.5 | V135: =B135+D135+F135+H135+J135+L135+N135+P135+R135+T135 -> 5.7954519e+08 | W135: =C135+E135+G135+I135+K135+M135+O135+Q135+S135+U135 -> 98000732
...

Sheet Durban
A1: Durban
A2: Number of formally employed people | B2: Agriculture | D2: Mining | F2: Manufacturing | H2: Electricity | J2: Construction | L2: Trade | N2: Transport | P2: Finance | R2: Community services | T2: Private Households | V2: Total | X2: Year-on-Year MA | Y2: Total-Private Households | AB2: Unemployment Rate | AC2: Number of Claims for Unemployment Benefits
B3: SA | C3: MA | D3: SA | E3: =C3 -> MA | F3: SA | G3: =E3 -> MA | H3: SA | I3: =G3 -> MA | J3: SA | K3: =I3 -> MA | L3: SA | M3: =K3 -> MA | N3: SA | O3: =M3 -> MA | P3: SA | Q3: =O3 -> MA | R3: SA | S3: =Q3 -> MA | T3: SA | U3: =S3 -> MA | V3: SA | W3: =U3 -> MA | Y3: SA | Z3: MA
A4: 1996 | B4: 703854.59 | C4: 19980.402 | D4: 568517 | E4: 1047.3651 | F4: 1355479 | G4: 185153.52 | H4: 63025.655 | I4: 5661.2898 | J4: 518672.12 | K4: 54409.199 | L4: 1177993.9 | M4: 129873.78 | N4: 129873.78 | O4: 37658.532 | P4: 1306983.8 | Q4: 137693.76 | R4: 1529686.3 | S4: 139864.44 | T4: 836533.22 | U4: 58858.521 | V4: =B4+D4+F4+H4+J4+L4+N4+P4+R4+T4 -> 8190619.3 | W4: =C4+E4+G4+I4+K4+M4+O4+Q4+S4+U4 -> 770200.81 | Y4: =V4-T4 -> 7354086.1 | Z4: =W4-U4 -> 711342.29 | AA4: =A4 -> 1996 | AB4: 0.24932286
A5: 1997 | B5: 711281.23 | C5: 23571.96 | D5: 552238 | E5: 817.40103 | F5: 1352516.7 | G5: 188723.21 | H5: 63531.35 | I5: 5060.0708 | J5: 460858.22 | K5: 47797.615 | L5: 1228186 | M5: 137140.76 | N5: 137140.76 | O5: 37914.134 | P5: 1319891.1 | Q5: 142675.91 | R5: 1561880.4 | S5: 131870.27 | T5: 852369.51 | U5: 59861.257 | V5: =B5+D5+F5+H5+J5+L5+N5+P5+R5+T5 -> 8239893.3 | W5: =C5+E5+G5+I5+K5+M5+O5+Q5+S5+U5 -> 775432.59 | X5: =(W5-W4)/W4*100 -> 0.67927584 | Y5: =V5-T5 -> 7387523.8 | Z5: =W5-U5 -> 715571.34 | AA5: =A5 -> 1997 | AB5: 0.26381136
A6: 1998 | B6: 791221.21 | C6: 32057.742 | D6: 465851 | E6: 773.59794 | F6: 1406350.7 | G6: 202377.16 | H6: 65002.767 | I6: 4871.4705 | J6: 436147.92 | K6: 43901.937 | L6: 1353315.9 | M6: 146748.71 | N6: 146748.71 | O6: 40230.545 | P6: 1375150.4 | Q6: 147249.8 | R6: 1670045.8 | S6: 135495.24 | T6: 897301.7 | U6: 62813.428 | V6: =B6+D6+F6+H6+J6+L6+N6+P6+R6+T6 -> 8607136.1 | W6: =C6+E6+G6+I6+K6+M6+O6+Q6+S6+U6 -> 816519.63 | X6: =(W6-W5)/W5*100 -> 5.2985954 | Y6: =V6-T6 -> 7709834.4 | Z6: =W6-U6 -> 753706.2 | AA6: =A6 -> 1998 | AB6: 0.31610051
A7: 1999 | B7: 881755.63 | C7: 39067.358 | D7: 436254 | E7: 795.16494 | F7: 1475811.7 | G7: 220870.56 | H7: 66129.372 | I7: 4990.7907 | J7: 428586.03 | K7: 42788.641 | L7: 1502656 | M7: 157519.6 | N7: 157519.6 | O7: 42684.518 | P7: 1427349.6 | Q7: 153339.91 | R7: 1794919.4 | S7: 146341.15 | T7: 980440.25 | U7: 72515.172 | V7: =B7+D7+F7+H7+J7+L7+N7+P7+R7+T7 -> 9151421.6 | W7: =C7+E7+G7+I7+K7+M7+O7+Q7+S7+U7 -> 880912.87 | X7: =(W7-W6)/W6*100 -> 7.8863058 | Y7: =V7-T7 -> 8170981.4 | Z7: =W7-U7 -> 808397.69 | AA7: =A7 -> 1999 | AB7: 0.30051601
A8: 2000 | B8: 920416.9 | C8: 40838.914 | D8: 417717 | E8: 826.45301 | F8: 1523397.4 | G8: 235565.1 | H8: 67451.036 | I8: 5475.0118 | J8: 425359.67 | K8: 43464.201 | L8: 1604108.8 | M8: 165910.99 | N8: 165910.99 | O8: 42845.615 | P8: 1446131.6 | Q8: 155813.47 | R8: 1875478.7 | S8: 150761.29 | T8: 1044533.1 | U8: 81824.68 | V8: =B8+D8+F8+H8+J8+L8+N8+P8+R8+T8 -> 9490505.1 | W8: =C8+E8+G8+I8+K8+M8+O8+Q8+S8+U8 -> 923325.73 | X8: =(W8-W7)/W7*100 -> 4.8146492 | Y8: =V8-T8 -> 8445972.1 | Z8: =W8-U8 -> 841501.05 | AA8: =A8 -> 2000 | AB8: 0.32688417
A9: 2001 | B9: 925809.1 | C9: 41102.801 | D9: 406654 | E9: 782.09608 | F9: 1521127.6 | G9: 238046.65 | H9: 66016.15 | I9: 5810.4608 | J9: 412768.85 | K9: 42477.838 | L9: 1619956 | M9: 167325.21 | N9: 167325.21 | O9: 41659.457 | P9: 1417840.1 | Q9: 147740.85 | R9: 1896927.6 | S9: 151577.25 | T9: 1075200.4 | U9: 83587.963 | V9: =B9+D9+F9+H9+J9+L9+N9+P9+R9+T9 -> 9509625 | W9: =C9+E9+G9+I9+K9+M9+O9+Q9+S9+U9 -> 920110.57 | X9: =(W9-W8)/W8*100 -> -0.34821538 | Y9: =V9-T9 -> 8434424.6 | Z9: =W9-U9 -> 836522.61 | AA9: =A9 -> 2001 | AB9: 0.34718416
A10: 2002 | B10: 901032.93 | C10: 40818.566 | D10: 416153 | E10: 829.71595 | F10: 1510292.6 | G10: 229394.12 | H10: 65272.915 | I10: 5880.9522 | J10: 407925.8 | K10: 40937.458 | L10: 1604065.2 | M10: 167436.44 | N10: 167436.44 | O10: 40455.081 | P10: 1396300.5 | Q10: 139308.99 | R10: 1917953.2 | S10: 151294.45 | T10: 1084534.5 | U10: 85692.554 | V10: =B10+D10+F10+H10+J10+L10+N10+P10+R10+T10 -> 9470967 | W10: =C10+E10+G10+I10+K10+M10+O10+Q10+S10+U10 -> 902048.32 | X10: =(W10-W9)/W9*100 -> -1.9630519 | Y10: =V10-T10 -> 8386432.5 | Z10: =W10-U10 -> 816355.77 | AA10: =A10 -> 2002 | AB10: 0.37861456
A11: 2003 | B11: 866424.44 | C11: 39460.451 | D11: 433700 | E11: 1013.1987 | F11: 1506047.6 | G11: 216712.54 | H11: 66548.603 | I11: 5659.0733 | J11: 420938.08 | K11: 39849.228 | L11: 1605128.1 | M11: 169981.63 | N11: 169981.63 | O11: 41595.546 | P11: 1422605 | Q11: 138898.78 | R11: 1970648.2 | S11: 154263.02 | T11: 1090127.6 | U11: 91412.56 | V11: =B11+D11+F11+H11+J11+L11+N11+P11+R11+T11 -> 9552149.3 | W11: =C11+E11+G11+I11+K11+M11+O11+Q11+S11+U11 -> 898846.04 | X11: =(W11-W10)/W10*100 -> -0.35500087 | Y11: =V11-T11 -> 8462021.7 | Z11: =W11-U11 -> 807433.48 | AA11: =A11 -> 2003 | AB11: 0.37656734 | AC11: =[1]Input!B91*12 -> 58700
A12: 2004 | B12: 810822.02 | C12: 35573.477 | D12: 455367 | E12: 1430.2676 | F12: 1498631.9 | G12: 206497.27 | H12: 64939.049 | I12: 5072.9191 | J12: 450923.77 | K12: 40149.534 | L12: 1642333.4 | M12: 169458.39 | N12: 169458.39 | O12: 44696.979 | P12: 1499357.5 | Q12: 144806.48 | R12: 2019317.1 | S12: 156050.88 | T12: 1099705.2 | U12: 94986.183 | V12: =B12+D12+F12+H12+J12+L12+N12+P12+R12+T12 -> 9710855.4 | W12: =C12+E12+G12+I12+K12+M12+O12+Q12+S12+U12 -> 898722.38 | X12: =(W12-W11)/W11*100 -> -0.013758063 | Y12: =V12-T12 -> 8611150.2 | Z12: =W12-U12 -> 803736.19 | AA12: =A12 -> 2004 | AB12: 0.34418684 | AC12: =[1]Input!B92*12 -> 62729
A13: 2005 | B13: 754767.3 | C13: 32063.86 | D13: 443266.67 | E13: 1385.3109 | F13: 1497055.4 | G13: 201922.97 | H13: 66405.731 | I13: 4803.9357 | J13: 501270.28 | K13: 42286.461 | L13: 1726098.4 | M13: 172457.35 | N13: 172457.35 | O13: 48636.717 | P13: 1633160.5 | Q13: 156799.9 | R13: 2074656 | S13: 157073.25 | T13: 1133282.6 | U13: 92472.195 | V13: =B13+D13+F13+H13+J13+L13+N13+P13+R13+T13 -> 10002420 | W13: =C13+E13+G13+I13+K13+M13+O13+Q13+S13+U13 -> 909901.95 | X13: =(W13-W12)/W12*100 -> 1.2439411 | Y13: =V13-T13 -> 8869137.6 | Z13: =W13-U13 -> 817429.76 | AA13: =A13 -> 2005 | AB13: 0.33342241 | AC13: =[1]Input!B93*12 -> 64429
A14: 2006 | B14: 723504.68 | C14: 31450.266 | D14: 495012.07 | E14: 1391.7614 | F14: 1509624.6 | G14: 199367.02 | H14: 68997.644 | I14: 4650.1858 | J14: 549938.33 | K14: 44800.173 | L14: 1836571.6 | M14: 186743.45 | N14: 186743.45 | O14: 51044.218 | P14: 1772783 | Q14: 170742.36 | R14: 2131739.6 | S14: 159891.88 | T14: 1190086.3 | U14: 91411.266 | V14: =B14+D14+F14+H14+J14+L14+N14+P14+R14+T14 -> 10465001 | W14: =C14+E14+G14+I14+K14+M14+O14+Q14+S14+U14 -> 941492.57 | X14: =(W14-W13)/W13*100 -> 3.4718699 | Y14: =V14-T14 -> 9274915.1 | Z14: =W14-U14 -> 850081.3 | AA14: =A14 -> 2006 | AB14: 0.3153749 | AC14: =[1]Input!B94*12 -> 57465
A15: 2007 | B15: 707106.97 | C15: 33684.65 | D15: 498860 | E15: 1331.0632 | F15: 1538274.3 | G15: 195005.16 | H15: 72387.04 | I15: 4347.6156 | J15: 594056.23 | K15: 50062.977 | L15: 1947939.3 | M15: 199834.56 | N15: 199834.56 | O15: 54018.493 | P15: 1902435.7 | Q15: 185442.19 | R15: 2232646.8 | S15: 164714.23 | T15: 1247990.2 | U15: 97421.5 | V15: =B15+D15+F15+H15+J15+L15+N15+P15+R15+T15 -> 10941531 | W15: =C15+E15+G15+I15+K15+M15+O15+Q15+S15+U15 -> 985862.43 | X15: =(W15-W14)/W14*100 -> 4.7127149 | Y15: =V15-T15 -> 9693541 | Z15: =W15-U15 -> 888440.93 | AA15: =A15 -> 2007 | AB15: 0.2887331 | AC15: =[1]Input!B95*12 -> 54587
A16: 2008 | B16: 675492.09 | C16: 35393.286 | D16: 522252 | E16: 1346.0081 | F16: 1550239.8 | G16: 194408.8 | H16: 75165.678 | I16: 3769.0164 | J16: 615921.99 | K16: 58167.541 | L16: 2008505.8 | M16: 199825.83 | N16: 199825.83 | O16: 58268.332 | P16: 1966518 | Q16: 195042.01 | R16: 2329483.6 | S16: 170112.56 | T16: 1266144.5 | U16: 105649.86 | V16: =B16+D16+F16+H16+J16+L16+N16+P16+R16+T16 -> 11209549 | W16: =C16+E16+G16+I16+K16+M16+O16+Q16+S16+U16 -> 1021983.2 | X16: =(W16-W15)/W15*100 -> 3.6638787 | Y16: =V16-T16 -> 9943404.8 | Z16: =W16-U16 -> 916333.37 | AA16: =A16 -> 2008 | AB16: 0.24798493 | AC16: =[1]Input!B96*12 -> 61653
A17: 2009 | B17: 635860.92 | C17: 34277.906 | D17: 488246.5 | E17: 1182.1142 | F17: 1532096 | G17: 193875.75 | H17: 76497.69 | I17: 3332.6171 | J17: 618198.13 | K17: 64140.876 | L17: 2012084.8 | M17: 190619.42 | N17: 190619.42 | O17: 63472.44 | P17: 1974363.1 | Q17: 196049.29 | R17: 2413014.4 | S17: 173882.56 | T17: 1244185.4 | U17: 106784.57 | V17: =B17+D17+F17+H17+J17+L17+N17+P17+R17+T17 -> 11185166 | W17: =C17+E17+G17+I17+K17+M17+O17+Q17+S17+U17 -> 1027617.5 | X17: =(W17-W16)/W16*100 -> 0.55131136 | Y17: =V17-T17 -> 9940981 | Z17: =W17-U17 -> 920832.98 | AA17: =A17 -> 2009 | AB17: 0.23255919 | AC17: 99703
A18: 2010 | B18: 593549.26 | C18: 31626.262 | D18: 500205 | E18: 1262.1627 | F18: 1501996.3 | G18: 192022.12 | H18: 78883.563 | I18: 3674.7646 | J18: 610746.9 | K18: 66538.916 | L18: 1982873.9 | M18: 182398.64 | N18: 182398.64 | O18: 67387.806 | P18: 1943276.8 | Q18: 190916.26 | R18: 2482881 | S18: 179042.05 | T18: 1208393.3 | U18: 103837.02 | V18: =B18+D18+F18+H18+J18+L18+N18+P18+R18+T18 -> 11085205 | W18: =C18+E18+G18+I18+K18+M18+O18+Q18+S18+U18 -> 1018706 | X18: =(W18-W17)/W17*100 -> -0.86720356 | Y18: =V18-T18 -> 9876811.3 | Z18: =W18-U18 -> 914868.99 | AA18: =A18 -> 2010 | AB18: 0.21992992 | AC18: 67210
A19: 2011 | B19: 585473.4 | C19: 29410.634 | D19: 513850 | E19: 1226.8782 | F19: 1473881.8 | G19: 187328.39 | H19: 82517.295 | I19: 4415.4033 | J19: 599612.27 | K19: 66152.832 | L19: 1975812.2 | M19: 181079.39 | N19: 181079.39 | O19: 69546.262 | P19: 1942607 | Q19: 188114.83 | R19: 2547933.3 | S19: 185784.31 | T19: 1171947.3 | U19: 100765.76 | V19: =B19+D19+F19+H19+J19+L19+N19+P19+R19+T19 -> 11074714 | W19: =C19+E19+G19+I19+K19+M19+O19+Q19+S19+U19 -> 1013824.7 | X19: =(W19-W18)/W18*100 -> -0.47916822 | Y19: =V19-T19 -> 9902766.6 | Z19: =W19-U19 -> 913058.93 | AA19: =A19 -> 2011 | AB19: 0.2036617 | AC19: 54878
A20: 2012 | B20: 595139.04 | C20: 26826.194 | D20: 534858.5 | E20: 1245.5959 | F20: 1462996.5 | G20: 185452.22 | H20: 86597.377 | I20: 4492.5245 | J20: 597515.36 | K20: 66222.951 | L20: 2002960.4 | M20: 185265.65 | N20: 185265.65 | O20: 71021.243 | P20: 1973116.4 | Q20: 189420.02 | R20: 2626423.4 | S20: 193806.21 | T20: 1160315.1 | U20: 101843.62 | V20: =B20+D20+F20+H20+J20+L20+N20+P20+R20+T20 -> 11225188 | W20: =C20+E20+G20+I20+K20+M20+O20+Q20+S20+U20 -> 1025596.2 | X20: =(W20-W19)/W19*100 -> 1.1611019 | Y20: =V20-T20 -> 10064873 | Z20: =W20-U20 -> 923752.6 | AA20: =A20 -> 2012 | AB20: 0.206 | AC20: 51238
A21: 2013 | B21: 611101.83 | C21: 25321.893 | D21: 511799.5 | E21: 1252.7263 | F21: 1474495.9 | G21: 186111.97 | H21: 92296.313 | I21: 4502.6728 | J21: 608551.06 | K21: 68893.117 | L21: 2051382.8 | M21: 191454.64 | N21: 191454.64 | O21: 72243.507 | P21: 2021307.6 | Q21: 193021.63 | R21: 2709590.5 | S21: 199452.43 | T21: 1164561.3 | U21: 102552.2 | V21: =B21+D21+F21+H21+J21+L21+N21+P21+R21+T21 -> 11436541 | W21: =C21+E21+G21+I21+K21+M21+O21+Q21+S21+U21 -> 1044806.8 | X21: =(W21-W20)/W20*100 -> 1.8731108 | Y21: =V21-T21 -> 10271980 | Z21: =W21-U21 -> 942254.58 | AA21: =A21 -> 2013
A23: Gross Value Added by Region (GVA-R) | B23: Agriculture | D23: Mining | F23: Manufacturing | H23: Electricity | J23: Construction | L23: Trade | N23: Transport | P23: Finance | R23: Community services | V23: Total | X23: Year-on-Year MA
A24: Constant 2000 prices (R 1000) | B24: SA | C24: =C3 -> MA | D24: SA | E24: =E3 -> MA | F24: SA | G24: =G3 -> MA | H24: SA | I24: =I3 -> MA | J24: SA | K24: =K3 -> MA | L24: SA | M24: =M3 -> MA | N24: SA | O24: =O3 -> MA | P24: SA | Q24: =Q3 -> MA | R24: SA | S24: =S3 -> MA | V24: SA | W24: =W3 -> MA
A25: =A4 -> 1996 | B25: 49257652 | C25: 2366225.6 | D25: 2.2697097e+08 | E25: 837042.45 | F25: 2.4827192e+08 | G25: 31192263 | H25: 55369589 | I25: 5788477.3 | J25: 42049913 | K25: 6432425 | L25: 2.1520877e+08 | M25: 23259662 | N25: 1.0753266e+08 | O25: 16949087 | P25: 2.5378508e+08 | Q25: 24644285 | R25: 3.9884691e+08 | S25: 36113858 | V25: =B25+D25+F25+H25+J25+L25+N25+P25+R25+T25 -> 1.5972935e+09 | W25: =C25+E25+G25+I25+K25+M25+O25+Q25+S25+U25 -> 1.4758333e+08
A26: =A5 -> 1997 | B26: 49809600 | C26: 2335835.4 | D26: 2.3133399e+08 | E26: 955593.27 | F26: 2.5553255e+08 | G26: 31808156 | H26: 57654742 | I26: 6014293.8 | J26: 43497575 | K26: 6802646.9 | L26: 2.1654187e+08 | M26: 23498486 | N26: 1.1595804e+08 | O26: 17907025 | P26: 2.6630921e+08 | Q26: 25686368 | R26: 4.0210158e+08 | S26: 35509869 | V26: =B26+D26+F26+H26+J26+L26+N26+P26+R26+T26 -> 1.6387392e+09 | W26: =C26+E26+G26+I26+K26+M26+O26+Q26+S26+U26 -> 1.5051827e+08 | X26: =(W26-W25)/W25*100 -> 1.9886719
A27: =A6 -> 1998 | B27: 47231155 | C27: 2353953.3 | D27: 2.3140379e+08 | E27: 878450.12 | F27: 2.5535378e+08 | G27: 31836848 | H27: 54092886 | I27: 5655654.6 | J27: 40933665 | K27: 6038099 | L27: 2.1964274e+08 | M27: 23783120 | N27: 1.2249514e+08 | O27: 18745379 | P27: 2.727948e+08 | Q27: 26331864 | R27: 4.0614539e+08 | S27: 36849490 | V27: =B27+D27+F27+H27+J27+L27+N27+P27+R27+T27 -> 1.6500933e+09 | W27: =C27+E27+G27+I27+K27+M27+O27+Q27+S27+U27 -> 1.5247286e+08 | X27: =(W27-W26)/W26*100 -> 1.2985697
A28: =A7 -> 1999 | B28: 50334126 | C28: 2280997.2 | D28: 2.2895853e+08 | E28: 736381.82 | F28: 2.577803e+08 | G28: 32345712 | H28: 54009813 | I28: 5680045.1 | J28: 40378050 | K28: 5684889.2 | L28: 2.3715843e+08 | M28: 25606028 | N28: 1.2931355e+08 | O28: 19409182 | P28: 2.8773445e+08 | Q28: 28031777 | R28: 4.088056e+08 | S28: 36459384 | V28: =B28+D28+F28+H28+J28+L28+N28+P28+R28+T28 -> 1.6944729e+09 | W28: =C28+E28+G28+I28+K28+M28+O28+Q28+S28+U28 -> 1.562344e+08 | X28: =(W28-W27)/W27*100 -> 2.4670217
A29: =A8 -> 2000 | B29: 52957608 | C29: 2374651.9 | D29: 2.2754761e+08 | E29: 626450.43 | F29: 2.8002356e+08 | G29: 35623064 | H29: 55956494 | I29: 6026231.2 | J29: 42659101 | K29: 6035459.8 | L29: 2.5762228e+08 | M29: 28159292 | N29: 1.4073161e+08 | O29: 20906893 | P29: 2.9833727e+08 | Q29: 28508845 | R29: 4.1299825e+08 | S29: 36989284 | V29: =B29+D29+F29+H29+J29+L29+N29+P29+R29+T29 -> 1.7688338e+09 | W29: =C29+E29+G29+I29+K29+M29+O29+Q29+S29+U29 -> 1.6525017e+08 | X29: =(W29-W28)/W28*100 -> 5.7706722
A30: =A9 -> 2001 | B30: 51410651 | C30: 2381991.4 | D30: 2.2821072e+08 | E30: 830131.19 | F30: 2.9011657e+08 | G30: 37261768 | H30: 54097233 | I30: 6030627.1 | J30: 44760336 | K30: 7621292.2 | L30: 2.6354566e+08 | M30: 30736859 | N30: 1.496187e+08 | O30: 22070515 | P30: 3.2396844e+08 | Q30: 30385141 | R30: 4.1423992e+08 | S30: 37738509 | V30: =B30+D30+F30+H30+J30+L30+N30+P30+R30+T30 -> 1.8199682e+09 | W30: =C30+E30+G30+I30+K30+M30+O30+Q30+S30+U30 -> 1.7505683e+08 | X30: =(W30-W29)/W29*100 -> 5.9344342
A31: =A10 -> 2002 | B31: 54930997 | C31: 2515919.6 | D31: 2.3124491e+08 | E31: 726570.84 | F31: 2.9921298e+08 | G31: 38095211 | H31: 56173330 | I31: 6288493.4 | J31: 47360614 | K31: 6235945.5 | L31: 2.7048692e+08 | M31: 31665098 | N31: 1.6361651e+08 | O31: 24286493 | P31: 3.4542526e+08 | Q31: 31998363 | R31: 4.2053838e+08 | S31: 38145284 | V31: =B31+D31+F31+H31+J31+L31+N31+P31+R31+T31 -> 1.8889899e+09 | W31: =C31+E31+G31+I31+K31+M31+O31+Q31+S31+U31 -> 1.7995738e+08 | X31: =(W31-W30)/W30*100 -> 2.7994022
A32: =A11 -> 2003 | B32: 55256045 | C32: 2683181.9 | D32: 2.3888672e+08 | E32: 677788.53 | F32: 2.9445062e+08 | G32: 37880190 | H32: 57779450 | I32: 6342698 | J32: 51001377 | K32: 6634848.3 | L32: 2.7745106e+08 | M32: 32843740 | N32: 1.7384825e+08 | O32: 26062630 | P32: 3.6168181e+08 | Q32: 34404339 | R32: 4.3501261e+08 | S32: 39428200 | V32: =B32+D32+F32+H32+J32+L32+N32+P32+R32+T32 -> 1.9453679e+09 | W32: =C32+E32+G32+I32+K32+M32+O32+Q32+S32+U32 -> 1.8695762e+08 | X32: =(W32-W31)/W31*100 -> 3.8899417
A33: =A12 -> 2004 | B33: 55822802 | C33: 2688688.6 | D33: 2.4289311e+08 | E33: 678289.13 | F33: 3.0937203e+08 | G33: 39791113 | H33: 61801508 | I33: 6850120.9 | J33: 55646823 | K33: 7300505.1 | L33: 2.9290928e+08 | M33: 34746970 | N33: 1.8264527e+08 | O33: 27368644 | P33: 3.8783501e+08 | Q33: 37273121 | R33: 4.4386365e+08 | S33: 40004716 | V33: =B33+D33+F33+H33+J33+L33+N33+P33+R33+T33 -> 2.0327895e+09 | W33: =C33+E33+G33+I33+K33+M33+O33+Q33+S33+U33 -> 1.9670217e+08 | X33: =(W33-W32)/W32*100 -> 5.2121711
A34: =A13 -> 2005 | B34: 57495463 | C34: 2487735.9 | D34: 2.4583104e+08 | E34: 624828.85 | F34: 3.291623e+08 | G34: 42516614 | H34: 65223638 | I34: 7343042.2 | J34: 62280636 | K34: 8317689.7 | L34: 3.1411858e+08 | M34: 37131877 | N34: 1.9266412e+08 | O34: 29184565 | P34: 4.1072103e+08 | Q34: 41131887 | R34: 4.6319011e+08 | S34: 41610006 | V34: =B34+D34+F34+H34+J34+L34+N34+P34+R34+T34 -> 2.1406869e+09 | W34: =C34+E34+G34+I34+K34+M34+O34+Q34+S34+U34 -> 2.1034825e+08 | X34: =(W34-W33)/W33*100 -> 6.9374316
A35: =A14 -> 2006 | B35: 54543519 | C35: 2511846.5 | D35: 2.4522465e+08 | E35: 623172.32 | F35: 3.5157204e+08 | G35: 45324443 | H35: 67688430 | I35: 7668509.2 | J35: 68780384 | K35: 8985095.8 | L35: 3.3399857e+08 | M35: 39738858 | N35: 2.0322444e+08 | O35: 30942517 | P35: 4.5189631e+08 | Q35: 43964166 | R35: 4.81829e+08 | S35: 43523259 | V35: =B35+D35+F35+H35+J35+L35+N35+P35+R35+T35 -> 2.2587574e+09 | W35: =C35+E35+G35+I35+K35+M35+O35+Q35+S35+U35 -> 2.2328187e+08 | X35: =(W35-W34)/W34*100 -> 6.1486709
A36: =A15 -> 2007 | B36: 56168460 | C36: 2650615.1 | D36: 2.4366316e+08 | E36: 633688.78 | F36: 3.7038934e+08 | G36: 47864961 | H36: 70000001 | I36: 7948311.4 | J36: 79454824 | K36: 10376292 | L36: 3.5269783e+08 | M36: 42275152 | N36: 2.1848843e+08 | O36: 33671717 | P36: 4.8467459e+08 | Q36: 46776917 | R36: 5.05443e+08 | S36: 45768640 | V36: =B36+D36+F36+H36+J36+L36+N36+P36+R36+T36 -> 2.3809796e+09 | W36: =C36+E36+G36+I36+K36+M36+O36+Q36+S36+U36 -> 2.3796629e+08 | X36: =(W36-W35)/W35*100 -> 6.5766327
A37: =A16 -> 2008 | B37: 67071610 | C37: 3226892 | D37: 2.306635e+08 | E37: 565139.07 | F37: 3.7896409e+08 | G37: 49006875 | H37: 67522000 | I37: 7601895.4 | J37: 87300371 | K37: 11463637 | L37: 3.5888034e+08 | M37: 43013041 | N37: 2.2613587e+08 | O37: 35080443 | P37: 5.1171648e+08 | Q37: 49406059 | R37: 530984210 | S37: 48204996 | V37: =B37+D37+F37+H37+J37+L37+N37+P37+R37+T37 -> 2.4592385e+09 | W37: =C37+E37+G37+I37+K37+M37+O37+Q37+S37+U37 -> 2.4756898e+08 | X37: =(W37-W36)/W36*100 -> 4.0353123
... A42: =A21 -> 2013 | B42: 67880350 | C42: 3564376.1 | D42: 2.309084e+08 | E42: 645260.06 | F42: 3.7893321e+08 | G42: 51707570 | H42: 68375000 | I42: 7597045.6 | J42: 1.0046818e+08 | K42: 13867085 | L42: 4.0598271e+08 | M42: 50548338 | N42: 2.4706211e+08 | O42: 39770471 | P42: 5.7812714e+08 | Q42: 56232932 | R42: 6.093806e+08 | S42: 54938375 | V42: =B42+D42+F42+H42+J42+L42+N42+P42+R42+T42 -> 2.6871177e+09 | W42: =C42+E42+G42+I42+K42+M42+O42+Q42+S42+U42 -> 2.7887145e+08 | X42: =(W42-W41)/W41*100 -> 2.9126274
A44: Location Quotients | C44: Agriculture, forestry and fishing | D44: Mining and quarrying | E44: Manufacturing | F44: Electricity, gas and water | G44: Construction | H44: Wholesale & retail trade; hotels & restaurants | I44: Transport , storage and communication | J44: Finance, real estate and business services | K44: Personal and General Government Services | L44: Actual vs Necessary Employment | M44: Agriculture, forestry and fishing | N44: Mining and quarrying | O44: Manufacturing | P44: Electricity, gas and water | Q44: Construction | R44: Wholesale & retail trade; hotels & restaurants | S44: Transport , storage and communication | T44: Finance, real estate and business services | U44: Personal and General Government Services
A45: =A25 -> 1996 | C45: =(C4/$W4)/(B4/$V4) -> 0.3018798 | D45: =(E4/$W4)/(D4/$V4) -> 0.019591488 | E45: =(G4/$W4)/(F4/$V4) -> 1.4526198 | F45: =(I4/$W4)/(H4/$V4) -> 0.95523625 | G45: =(K4/$W4)/(J4/$V4) -> 1.1155581 | H45: =(M4/$W4)/(L4/$V4) -> 1.1724416 | I45: =(O4/$W4)/(N4/$V4) -> 3.0835761 | J45: =(Q4/$W4)/(P4/$V4) -> 1.1203581 | K45: =(S4/$W4)/(R4/$V4) -> 0.97233901 | L45: =AVERAGE(C45:K45) -> 1.1326222 | M45: =(1-1/C45)*C4 -> -46206.214 | N45: =(1-1/D45)*E4 -> -52412.848 | O45: =(1-1/E45)*G4 -> 57691.726 | P45: =(1-1/F45)*I4 -> -265.2962 | Q45: =(1-1/G45)*K4 -> 5636.1243 | R45: =(1-1/H45)*M4 -> 19101.709 | S45: =(1-1/I45)*O4 -> 25445.915 | T45: =(1-1/J45)*Q4 -> 14792.195 | U45: =(1-1/K45)*S4 -> -3978.848 | V45: =AVERAGE(M45:U45) -> 2200.496 | W45: =V45/1000 -> 2.200496 | X45: =W45/V45 -> 0.001
A46: =A26 -> 1997 | C46: =(C5/$W5)/(B5/$V5) -> 0.35215339 | D46: =(E5/$W5)/(D5/$V5) -> 0.015728468 | E46: =(G5/$W5)/(F5/$V5) -> 1.4827237 | F46: =(I5/$W5)/(H5/$V5) -> 0.84634229 | G46: =(K5/$W5)/(J5/$V5) -> 1.1020884 | H46: =(M5/$W5)/(L5/$V5) -> 1.1865333 | I46: =(O5/$W5)/(N5/$V5) -> 2.9377316 | J46: =(Q5/$W5)/(P5/$V5) -> 1.1486563 | K46: =(S5/$W5)/(R5/$V5) -> 0.89717392 | L46: =AVERAGE(C46:K46) -> 1.1076813 | M46: =(1-1/C46)*C5 -> -43364.666 | N46: =(1-1/D46)*E5 -> -51152.125 | O46: =(1-1/E46)*G5 -> 61441.771 | P46: =(1-1/F46)*I5 -> -918.68138 | Q46: =(1-1/G46)*K5 -> 4427.5769 | R46: =(1-1/H46)*M5 -> 21559.717 | S46: =(1-1/I46)*O5 -> 25008.212 | T46: =(1-1/J46)*Q5 -> 18464.77 | U46: =(1-1/K46)*S5 -> -15113.795 | V46: =AVERAGE(M46:U46) -> 2261.4199 | W46: =V46/1000 -> 2.2614199 | X46: =W46/V46 -> 0.001
A47: =A27 -> 1998 | C47: =(C6/$W6)/(B6/$V6) -> 0.42709752 | D47: =(E6/$W6)/(D6/$V6) -> 0.017504927 | E47: =(G6/$W6)/(F6/$V6) -> 1.5169103 | F47: =(I6/$W6)/(H6/$V6) -> 0.78998761 | G47: =(K6/$W6)/(J6/$V6) -> 1.0610648 | H47: =(M6/$W6)/(L6/$V6) -> 1.143055 | I47: =(O6/$W6)/(N6/$V6) -> 2.8898391 | J47: =(Q6/$W6)/(P6/$V6) -> 1.1287468 | K47: =(S6/$W6)/(R6/$V6) -> 0.85523941 | L47: =AVERAGE(C47:K47) -> 1.0921606 | M47: =(1-1/C47)*C6 -> -43001.795 | N47: =(1-1/D47)*E6 -> -43419.555 | O47: =(1-1/E47)*G6 -> 68963.104 | P47: =(1-1/F47)*I6 -> -1295.0446 | Q47: =(1-1/G47)*K6 -> 2526.5789 | R47: =(1-1/H47)*M6 -> 18365.819 | S47: =(1-1/I47)*O6 -> 26309.166 | T47: =(1-1/J47)*Q6 -> 16795.569 | U47: =(1-1/K47)*S6 -> -22934.362 | V47: =AVERAGE(M47:U47) -> 2478.831 | W47: =V47/1000 -> 2.478831 | X47: =W47/V47 -> 0.001
A48: =A28 -> 1999 | C48: =(C7/$W7)/(B7/$V7) -> 0.46027927 | D48: =(E7/$W7)/(D7/$V7) -> 0.018935353 | E48: =(G7/$W7)/(F7/$V7) -> 1.5547569 | F48: =(I7/$W7)/(H7/$V7) -> 0.7840262 | G48: =(K7/$W7)/(J7/$V7) -> 1.0371608 | H48: =(M7/$W7)/(L7/$V7) -> 1.089007 | I48: =(O7/$W7)/(N7/$V7) -> 2.8150842 | J48: =(Q7/$W7)/(P7/$V7) -> 1.1160418 | K48: =(S7/$W7)/(R7/$V7) -> 0.8469877 | L48: =AVERAGE(C48:K48) -> 1.0802532 | M48: =(1-1/C48)*C7 -> -45810.152 | N48: =(1-1/D48)*E7 -> -41198.503 | O48: =(1-1/E48)*G7 -> 78809.407 | P48: =(1-1/F48)*I7 -> -1374.8011 | Q48: =(1-1/G48)*K7 -> 1533.089 | R48: =(1-1/H48)*M7 -> 12874.427 | S48: =(1-1/I48)*O7 -> 27521.732 | T48: =(1-1/J48)*Q7 -> 15943.702 | U48: =(1-1/K48)*S7 -> -26437.214 | V48: =AVERAGE(M48:U48) -> 2429.0764 | W48: =V48/1000 -> 2.4290764 | X48: =W48/V48 -> 0.001
A49: =A29 -> 2000 | C49: =(C8/$W8)/(B8/$V8) -> 0.4560621 | D49: =(E8/$W8)/(D8/$V8) -> 0.020336228 | E49: =(G8/$W8)/(F8/$V8) -> 1.589396 | F49: =(I8/$W8)/(H8/$V8) -> 0.83431648 | G49: =(K8/$W8)/(J8/$V8) -> 1.0502913 | H49: =(M8/$W8)/(L8/$V8) -> 1.063104 | I49: =(O8/$W8)/(N8/$V8) -> 2.6543954 | J49: =(Q8/$W8)/(P8/$V8) -> 1.107469 | K49: =(S8/$W8)/(R8/$V8) -> 0.8262512 | L49: =AVERAGE(C49:K49) -> 1.0668469 | M49: =(1-1/C49)*C8 -> -48707.912 | N49: =(1-1/D49)*E8 -> -39812.991 | O49: =(1-1/E49)*G8 -> 87354.653 | P49: =(1-1/F49)*I8 -> -1087.2603 | Q49: =(1-1/G49)*K8 -> 2081.2064 | R49: =(1-1/H49)*M8 -> 9848.1805 | S49: =(1-1/I49)*O8 -> 26704.231 | T49: =(1-1/J49)*Q8 -> 15120.167 | U49: =(1-1/K49)*S8 -> -31702.941 | V49: =AVERAGE(M49:U49) -> 2199.7038 | W49: =V49/1000 -> 2.1997038 | X49: =W49/V49 -> 0.001
A50: =A30 -> 2001 | C50: =(C9/$W9)/(B9/$V9) -> 0.45885276 | D50: =(E9/$W9)/(D9/$V9) -> 0.019877348 | E50: =(G9/$W9)/(F9/$V9) -> 1.6174088 | F50: =(I9/$W9)/(H9/$V9) -> 0.90966976 | G50: =(K9/$W9)/(J9/$V9) -> 1.0636013 | H50: =(M9/$W9)/(L9/$V9) -> 1.0675335 | I50: =(O9/$W9)/(N9/$V9) -> 2.5732123 | J50: =(Q9/$W9)/(P9/$V9) -> 1.0769529 | K50: =(S9/$W9)/(R9/$V9) -> 0.82586043 | L50: =AVERAGE(C50:K50) -> 1.0681077 | M50: =(1-1/C50)*C9 -> -48474.52 | N50: =(1-1/D50)*E9 -> -38564.002 | O50: =(1-1/E50)*G9 -> 90868.858 | P50: =(1-1/F50)*I9 -> -576.97896 | Q50: =(1-1/G50)*K9 -> 2540.0922 | R50: =(1-1/H50)*M9 -> 10585.204 | S50: =(1-1/I50)*O9 -> 25469.787 | T50: =(1-1/J50)*Q9 -> 10556.712 | U50: =(1-1/K50)*S9 -> -31961.33 | V50: =AVERAGE(M50:U50) -> 2271.5357 | W50: =V50/1000 -> 2.2715357 | X50: =W50/V50 -> 0.001
A51: =A31 -> 2002 | C51: =(C10/$W10)/(B10/$V10) -> 0.47564354 | D51: =(E10/$W10)/(D10/$V10) -> 0.020933456 | E51: =(G10/$W10)/(F10/$V10) -> 1.5947247 | F51: =(I10/$W10)/(H10/$V10) -> 0.94597392 | G51: =(K10/$W10)/(J10/$V10) -> 1.0536691 | H51: =(M10/$W10)/(L10/$V10) -> 1.0959545 | I51: =(O10/$W10)/(N10/$V10) -> 2.5368081 | J51: =(Q10/$W10)/(P10/$V10) -> 1.0475259 | K51: =(S10/$W10)/(R10/$V10) -> 0.82822721 | L51: =AVERAGE(C51:K51) -> 1.0666067 | M51: =(1-1/C51)*C10 -> -44998.99 | N51: =(1-1/D51)*E10 -> -38806.164 | O51: =(1-1/E51)*G10 -> 85548.523 | P51: =(1-1/F51)*I10 -> -335.87057 | Q51: =(1-1/G51)*K10 -> 2085.166 | R51: =(1-1/H51)*M10 -> 14659.617 | S51: =(1-1/I51)*O10 -> 24507.843 | T51: =(1-1/J51)*Q10 -> 6320.4008 | U51: =(1-1/K51)*S10 -> -31378.188 | V51: =AVERAGE(M51:U51) -> 1955.8153 | W51: =V51/1000 -> 1.9558153 | X51: =W51/V51 -> 0.001
A52: =A32 -> 2003 | C52: =(C11/$W11)/(B11/$V11) -> 0.48400199 | D52: =(E11/$W11)/(D11/$V11) -> 0.024826815 | E52: =(G11/$W11)/(F11/$V11) -> 1.5291889 | F52: =(I11/$W11)/(H11/$V11) -> 0.9036956 | G52: =(K11/$W11)/(J11/$V11) -> 1.0060452 | H52: =(M11/$W11)/(L11/$V11) -> 1.125403 | I52: =(O11/$W11)/(N11/$V11) -> 2.6005225 | J52: =(Q11/$W11)/(P11/$V11) -> 1.0375998 | K52: =(S11/$W11)/(R11/$V11) -> 0.83189504 | L52: =AVERAGE(C52:K52) -> 1.0603532 | M52: =(1-1/C52)*C11 -> -42069.072 | N52: =(1-1/D52)*E11 -> -39797.463 | O52: =(1-1/E52)*G11 -> 74995.23 | P52: =(1-1/F52)*I11 -> -603.07217 | Q52: =(1-1/G52)*K11 -> 239.44852 | R52: =(1-1/H52)*M11 -> 18940.958 | S52: =(1-1/I52)*O11 -> 25600.474 | T52: =(1-1/J52)*Q11 -> 5033.3193 | U52: =(1-1/K52)*S11 -> -31172.658 | V52: =AVERAGE(M52:U52) -> 1240.7961 | W52: =V52/1000 -> 1.2407961 | X52: =W52/V52 -> 0.001
A53: =A33 -> 2004 | C53: =(C12/$W12)/(B12/$V12) -> 0.47405934 | D53: =(E12/$W12)/(D12/$V12) -> 0.033938112 | E53: =(G12/$W12)/(F12/$V12) -> 1.4888511 | F53: =(I12/$W12)/(H12/$V12) -> 0.84408066 | G53: =(K12/$W12)/(J12/$V12) -> 0.96207583 | H53: =(M12/$W12)/(L12/$V12) -> 1.1148942 | I53: =(O12/$W12)/(N12/$V12) -> 2.8500143 | J53: =(Q12/$W12)/(P12/$V12) -> 1.0435536 | K53: =(S12/$W12)/(R12/$V12) -> 0.83501377 | L53: =AVERAGE(C53:K53) -> 1.0718312 | M53: =(1-1/C53)*C12 -> -39466.658 | N53: =(1-1/D53)*E12 -> -40713.137 | O53: =(1-1/E53)*G12 -> 67801.548 | P53: =(1-1/F53)*I12 -> -937.07422 | Q53: =(1-1/G53)*K12 -> -1582.6586 | R53: =(1-1/H53)*M12 -> 17463.351 | S53: =(1-1/I53)*O12 -> 29013.907 | T53: =(1-1/J53)*Q12 -> 6043.6191 | U53: =(1-1/K53)*S12 -> -30833.321 | V53: =AVERAGE(M53:U53) -> 754.39747 | W53: =V53/1000 -> 0.75439747 | X53: =W53/V53 -> 0.001
A54: =A34 -> 2005 | C54: =(C13/$W13)/(B13/$V13) -> 0.46699607 | D54: =(E13/$W13)/(D13/$V13) -> 0.034355216 | E54: =(G13/$W13)/(F13/$V13) -> 1.4827173 | F54: =(I13/$W13)/(H13/$V13) -> 0.79524715 | G54: =(K13/$W13)/(J13/$V13) -> 0.92734191 | H54: =(M13/$W13)/(L13/$V13) -> 1.0983143 | I54: =(O13/$W13)/(N13/$V13) -> 3.1002238 | J54: =(Q13/$W13)/(P13/$V13) -> 1.0554251 | K54: =(S13/$W13)/(R13/$V13) -> 0.83227459 | L54: =AVERAGE(C54:K54) -> 1.0880995 | M54: =(1-1/C54)*C13 -> -36595.947 | N54: =(1-1/D54)*E13 -> -38937.851 | O54: =(1-1/E54)*G13 -> 65738.567 | P54: =(1-1/F54)*I13 -> -1236.8727 | Q54: =(1-1/G54)*K13 -> -3313.1832 | R54: =(1-1/H54)*M13 -> 15437.319 | S54: =(1-1/I54)*O13 -> 32948.586 | T54: =(1-1/J54)*Q13 -> 8234.2669 | U54: =(1-1/K54)*S13 -> -31654.426 | V54: =AVERAGE(M54:U54) -> 1180.0509 | W54: =V54/1000 -> 1.1800509 | X54: =W54/V54 -> 0.001
A55: =A35 -> 2006 | C55: =(C14/$W14)/(B14/$V14) -> 0.48317602 | D55: =(E14/$W14)/(D14/$V14) -> 0.031251538 | E55: =(G14/$W14)/(F14/$V14) -> 1.4679347 | F55: =(I14/$W14)/(H14/$V14) -> 0.74913216 | G55: =(K14/$W14)/(J14/$V14) -> 0.90549925 | H55: =(M14/$W14)/(L14/$V14) -> 1.1302119 | I55: =(O14/$W14)/(N14/$V14) -> 3.0382505 | J55: =(Q14/$W14)/(P14/$V14) -> 1.0705528 | K55: =(S14/$W14)/(R14/$V14) -> 0.83370928 | L55: =AVERAGE(C55:K55) -> 1.0788576 | M55: =(1-1/C55)*C14 -> -33640.435 | N55: =(1-1/D55)*E14 -> -43142.412 | O55: =(1-1/E55)*G14 -> 63552.381 | P55: =(1-1/F55)*I14 -> -1557.2447 | Q55: =(1-1/G55)*K14 -> -4675.4872 | R55: =(1-1/H55)*M14 -> 21514.749 | S55: =(1-1/I55)*O14 -> 34243.688 | T55: =(1-1/J55)*Q14 -> 11252.456 | U55: =(1-1/K55)*S14 -> -31891.855 | V55: =AVERAGE(M55:U55) -> 1739.5377 | W55: =V55/1000 -> 1.7395377 | X55: =W55/V55 -> 0.001
A56: =A36 -> 2007 | C56: =(C15/$W15)/(B15/$V15) -> 0.52869928 | D56: =(E15/$W15)/(D15/$V15) -> 0.029612957 | E56: =(G15/$W15)/(F15/$V15) -> 1.4069352 | F56: =(I15/$W15)/(H15/$V15) -> 0.66657974 | G56: =(K15/$W15)/(J15/$V15) -> 0.93529994 | H56: =(M15/$W15)/(L15/$V15) -> 1.1385627 | I56: =(O15/$W15)/(N15/$V15) -> 3.0000857 | J56: =(Q15/$W15)/(P15/$V15) -> 1.0818333 | K56: =(S15/$W15)/(R15/$V15) -> 0.81879064 | L56: =AVERAGE(C56:K56) -> 1.0673777 | M56: =(1-1/C56)*C15 -> -30027.656 | N56: =(1-1/D56)*E15 -> -43617.612 | O56: =(1-1/E56)*G15 -> 56402.362 | P56: =(1-1/F56)*I15 -> -2174.6582 | Q56: =(1-1/G56)*K15 -> -3463.143 | R56: =(1-1/H56)*M15 -> 24319.798 | S56: =(1-1/I56)*O15 -> 36012.843 | T56: =(1-1/J56)*Q15 -> 14027.429 | U56: =(1-1/K56)*S15 -> -36453.469 | V56: =AVERAGE(M56:U56) -> 1669.5437 | W56: =V56/1000 -> 1.6695437 | X56: =W56/V56 -> 0.001
... A59: =A39 -> 2010 | C59: =(C18/$W18)/(B18/$V18) -> 0.57981033 | D59: =(E18/$W18)/(D18/$V18) -> 0.027457574 | E59: =(G18/$W18)/(F18/$V18) -> 1.3911605 | F59: =(I18/$W18)/(H18/$V18) -> 0.50691817 | G59: =(K18/$W18)/(J18/$V18) -> 1.1855211 | H59: =(M18/$W18)/(L18/$V18) -> 1.0009707 | I59: =(O18/$W18)/(N18/$V18) -> 4.0202639 | J59: =(Q18/$W18)/(P18/$V18) -> 1.0690625 | K59: =(S18/$W18)/(R18/$V18) -> 0.78468255 | L59: =AVERAGE(C59:K59) -> 1.173983 | M59: =(1-1/C59)*C18 -> -22919.613 | N59: =(1-1/D59)*E18 -> -44705.58 | O59: =(1-1/E59)*G18 -> 53991.955 | P59: =(1-1/F59)*I18 -> -3574.4618 | Q59: =(1-1/G59)*K18 -> 10412.615 | R59: =(1-1/H59)*M18 -> 176.88117 | S59: =(1-1/I59)*O18 -> 50625.77 | T59: =(1-1/J59)*Q18 -> 12333.381 | U59: =(1-1/K59)*S18 -> -49129.267 | V59: =AVERAGE(M59:U59) -> 801.29782 | W59: =V59/1000 -> 0.80129782 | X59: =W59/V59 -> 0.001
A60: =A40 -> 2011 | C60: =(C19/$W19)/(B19/$V19) -> 0.54874032 | D60: =(E19/$W19)/(D19/$V19) -> 0.02608163 | E60: =(G19/$W19)/(F19/$V19) -> 1.3883872 | F60: =(I19/$W19)/(H19/$V19) -> 0.58451417 | G60: =(K19/$W19)/(J19/$V19) -> 1.205168 | H60: =(M19/$W19)/(L19/$V19) -> 1.0011358 | I60: =(O19/$W19)/(N19/$V19) -> 4.1954102 | J60: =(Q19/$W19)/(P19/$V19) -> 1.0578102 | K60: =(S19/$W19)/(R19/$V19) -> 0.79650889 | M60: =(1-1/C60)*C19 -> -24186 | N60: =(1-1/D60)*E19 -> -45813.057 | O60: =(1-1/E60)*G19 -> 52403.218 | P60: =(1-1/F60)*I19 -> -3138.568 | Q60: =(1-1/G60)*K19 -> 11261.868 | R60: =(1-1/H60)*M19 -> 205.44304 | S60: =(1-1/I60)*O19 -> 52969.513 | T60: =(1-1/J60)*Q19 -> 10280.628 | U60: =(1-1/K60)*S19 -> -47463.947 | V60: =AVERAGE(M60:U60) -> 724.34431 | W60: =V60/1000 -> 0.72434431 | X60: =W60/V60 -> 0.001
A61: =A41 -> 2012 | C61: =(C20/$W20)/(B20/$V20) -> 0.49335304 | D61: =(E20/$W20)/(D20/$V20) -> 0.025489157 | E61: =(G20/$W20)/(F20/$V20) -> 1.3874136 | F61: =(I20/$W20)/(H20/$V20) -> 0.56780983 | G61: =(K20/$W20)/(J20/$V20) -> 1.2130443 | H61: =(M20/$W20)/(L20/$V20) -> 1.0123711 | I61: =(O20/$W20)/(N20/$V20) -> 4.1957592 | J61: =(Q20/$W20)/(P20/$V20) -> 1.0507282 | K61: =(S20/$W20)/(R20/$V20) -> 0.80764432 | M61: =(1-1/C61)*C20 -> -27549.054 | N61: =(1-1/D61)*E20 -> -47622.083 | O61: =(1-1/E61)*G20 -> 51784.635 | P61: =(1-1/F61)*I20 -> -3419.4986 | Q61: =(1-1/G61)*K20 -> 11630.59 | R61: =(1-1/H61)*M20 -> 2263.9322 | S61: =(1-1/I61)*O20 -> 54094.332 | T61: =(1-1/J61)*Q20 -> 9145.0175 | U61: =(1-1/K61)*S20 -> -46158.591 | V61: =AVERAGE(M61:U61) -> 463.25332 | W61: =V61/1000 -> 0.46325332 | X61: =W61/V61 -> 0.001
A62: =A42 -> 2013 | C62: =(C21/$W21)/(B21/$V21) -> 0.45356686 | D62: =(E21/$W21)/(D21/$V21) -> 0.026792612 | E62: =(G21/$W21)/(F21/$V21) -> 1.3816227 | F62: =(I21/$W21)/(H21/$V21) -> 0.53400431 | G62: =(K21/$W21)/(J21/$V21) -> 1.239189 | H62: =(M21/$W21)/(L21/$V21) -> 1.021593 | I62: =(O21/$W21)/(N21/$V21) -> 4.1303957 | J62: =(Q21/$W21)/(P21/$V21) -> 1.0452792 | K62: =(S21/$W21)/(R21/$V21) -> 0.805739 | L62: =AVERAGE(C62:K62) -> 1.1820203 | M62: =(1-1/C62)*C21 -> -30506.465 | N62: =(1-1/D62)*E21 -> -45503.681 | O62: =(1-1/E62)*G21 -> 51406.621 | P62: =(1-1/F62)*I21 -> -3929.2307 | Q62: =(1-1/G62)*K21 -> 13297.79 | R62: =(1-1/H62)*M21 -> 4046.6963 | S62: =(1-1/I62)*O21 -> 54752.808 | T62: =(1-1/J62)*Q21 -> 8361.2705 | U62: =(1-1/K62)*S21 -> -48087.318 | V62: =AVERAGE(M62:U62) -> 426.49887 | W62: =V62/1000 -> 0.42649887 | X62: =W62/V62 -> 0.001
A64: Economic Structure | C64: Agriculture, forestry and fishing | D64: Mining and quarrying | E64: Manufacturing | F64: Electricity, gas and water | G64: Construction | H64: Wholesale & retail trade; hotels & restaurants | I64: Transport , storage and communication | J64: Finance, real estate and business services | K64: Personal and General Government Services | L64: Average
A65: =A45 -> 1996 | C65: =C25/$W25*100 -> 1.603315 | D65: =E25/$W25*100 -> 0.567166 | E65: =G25/$W25*100 -> 21.135357 | F65: =I25/$W25*100 -> 3.9221757 | G65: =K25/$W25*100 -> 4.3585039 | H65: =M25/$W25*100 -> 15.760359 | I65: =O25/$W25*100 -> 11.484419 | J65: =Q25/$W25*100 -> 16.698557 | K65: =S25/$W25*100 -> 24.470148 | L65: =AVERAGE(C65:K65) -> 11.111111
A66: =A46 -> 1997 | C66: =C26/$W26*100 -> 1.5518617 | D66: =E26/$W26*100 -> 0.63486861 | E66: =G26/$W26*100 -> 21.132422 | F66: =I26/$W26*100 -> 3.9957234 | G66: =K26/$W26*100 -> 4.5194824 | H66: =M26/$W26*100 -> 15.611716 | I66: =O26/$W26*100 -> 11.896911 | J66: =Q26/$W26*100 -> 17.065282 | K66: =S26/$W26*100 -> 23.591733 | L66: =AVERAGE(C66:K66) -> 11.111111
A67: =A47 -> 1998 | C67: =C27/$W27*100 -> 1.5438507 | D67: =E27/$W27*100 -> 0.5761354 | E67: =G27/$W27*100 -> 20.880338 | F67: =I27/$W27*100 -> 3.7092862 | G67: =K27/$W27*100 -> 3.960114 | H67: =M27/$W27*100 -> 15.598265 | I67: =O27/$W27*100 -> 12.29424 | J67: =Q27/$W27*100 -> 17.26987 | K67: =S27/$W27*100 -> 24.167902 | L67: =AVERAGE(C67:K67) -> 11.111111
A68: =A48 -> 1999 | C68: =C28/$W28*100 -> 1.459984 | D68: =E28/$W28*100 -> 0.47133143 | E68: =G28/$W28*100 -> 20.703323 | F68: =I28/$W28*100 -> 3.6355919 | G68: =K28/$W28*100 -> 3.6386925 | H68: =M28/$W28*100 -> 16.389495 | I68: =O28/$W28*100 -> 12.423117 | J68: =Q28/$W28*100 -> 17.942129 | K68: =S28/$W28*100 -> 23.336337 | L68: =AVERAGE(C68:K68) -> 11.111111
A69: =A49 -> 2000 | C69: =C29/$W29*100 -> 1.4370042 | D69: =E29/$W29*100 -> 0.37909215 | E69: =G29/$W29*100 -> 21.557051 | F69: =I29/$W29*100 -> 3.6467322 | G69: =K29/$W29*100 -> 3.6523168 | H69: =M29/$W29*100 -> 17.040401 | I69: =O29/$W29*100 -> 12.651662 | J69: =Q29/$W29*100 -> 17.25193 | K69: =S29/$W29*100 -> 22.38381 | L69: =AVERAGE(C69:K69) -> 11.111111
A70: =A50 -> 2001 | C70: =C30/$W30*100 -> 1.360696 | D70: =E30/$W30*100 -> 0.47420667 | E70: =G30/$W30*100 -> 21.285526 | F70: =I30/$W30*100 -> 3.4449538 | G70: =K30/$W30*100 -> 4.3536102 | H70: =M30/$W30*100 -> 17.558217 | I70: =O30/$W30*100 -> 12.607628 | J70: =Q30/$W30*100 -> 17.357301 | K70: =S30/$W30*100 -> 21.557861 | L70: =AVERAGE(C70:K70) -> 11.111111
A71: =A51 -> 2002 | C71: =C31/$W31*100 -> 1.3980642 | D71: =E31/$W31*100 -> 0.40374607 | E71: =G31/$W31*100 -> 21.169019 | F71: =I31/$W31*100 -> 3.4944349 | G71: =K31/$W31*100 -> 3.4652347 | H71: =M31/$W31*100 -> 17.595888 | I71: =O31/$W31*100 -> 13.495692 | J71: =Q31/$W31*100 -> 17.781079 | K71: =S31/$W31*100 -> 21.196844 | L71: =AVERAGE(C71:K71) -> 11.111111
A72: =A52 -> 2003 | C72: =C32/$W32*100 -> 1.4351819 | D72: =E32/$W32*100 -> 0.36253593 | E72: =G32/$W32*100 -> 20.261378 | F72: =I32/$W32*100 -> 3.3925861 | G72: =K32/$W32*100 -> 3.5488516 | H72: =M32/$W32*100 -> 17.567479 | I72: =O32/$W32*100 -> 13.940395 | J72: =Q32/$W32*100 -> 18.402213 | K72: =S32/$W32*100 -> 21.089379 | L72: =AVERAGE(C72:K72) -> 11.111111
A73: =A53 -> 2004 | C73: =C33/$W33*100 -> 1.3668831 | D73: =E33/$W33*100 -> 0.34483053 | E73: =G33/$W33*100 -> 20.229118 | F73: =I33/$W33*100 -> 3.4824837 | G73: =K33/$W33*100 -> 3.7114513 | H73: =M33/$W33*100 -> 17.664762 | I73: =O33/$W33*100 -> 13.913748 | J73: =Q33/$W33*100 -> 18.949014 | K73: =S33/$W33*100 -> 20.33771 | L73: =AVERAGE(C73:K73) -> 11.111111
A74: =A54 -> 2005 | C74: =C34/$W34*100 -> 1.1826749 | D74: =E34/$W34*100 -> 0.29704495 | E74: =G34/$W34*100 -> 20.212488 | F74: =I34/$W34*100 -> 3.4908978 | G74: =K34/$W34*100 -> 3.9542472 | H74: =M34/$W34*100 -> 17.652573 | I74: =O34/$W34*100 -> 13.874404 | J74: =Q34/$W34*100 -> 19.554186 | K74: =S34/$W34*100 -> 19.781485 | L74: =AVERAGE(C74:K74) -> 11.111111
A75: =A55 -> 2006 | C75: =C35/$W35*100 -> 1.1249666 | D75: =E35/$W35*100 -> 0.2790967 | E75: =G35/$W35*100 -> 20.299205 | F75: =I35/$W35*100 -> 3.4344523 | G75: =K35/$W35*100 -> 4.0241046 | H75: =M35/$W35*100 -> 17.79762 | I75: =O35/$W35*100 -> 13.858052 | J75: =Q35/$W35*100 -> 19.689985 | K75: =S35/$W35*100 -> 19.492518 | L75: =AVERAGE(C75:K75) -> 11.111111
A76: =A56 -> 2007 | C76: =C36/$W36*100 -> 1.1138616 | D76: =E36/$W36*100 -> 0.2662935 | E76: =G36/$W36*100 -> 20.114177 | F76: =I36/$W36*100 -> 3.3400997 | G76: =K36/$W36*100 -> 4.3604039 | H76: =M36/$W36*100 -> 17.765185 | I76: =O36/$W36*100 -> 14.149784 | J76: =Q36/$W36*100 -> 19.65695 | K76: =S36/$W36*100 -> 19.233245 | L76: =AVERAGE(C76:K76) -> 11.111111
... A82: =A62 -> 2013 | C82: =C42/$W42*100 -> 1.2781431 | D82: =E42/$W42*100 -> 0.23138262 | E82: =G42/$W42*100 -> 18.541722 | F82: =I42/$W42*100 -> 2.7242106 | G82: =K42/$W42*100 -> 4.9725724 | H82: =M42/$W42*100 -> 18.126035 | I82: =O42/$W42*100 -> 14.26122 | J82: =Q42/$W42*100 -> 20.164463 | K82: =S42/$W42*100 -> 19.700251 | L82: =AVERAGE(C82:K82) -> 11.111111
A84: Average | C84: =AVERAGE(C65:C82) -> 1.3455119 | D84: =AVERAGE(D65:D82) -> 0.35511505 | E84: =AVERAGE(E65:E82) -> 20.089504 | F84: =AVERAGE(F65:F82) -> 3.351687 | G84: =AVERAGE(G65:G82) -> 4.2860652 | H84: =AVERAGE(H65:H82) -> 17.285005 | I84: =AVERAGE(I65:I82) -> 13.451144 | J84: =AVERAGE(J65:J82) -> 18.775726 | K84: =AVERAGE(K65:K82) -> 21.060243
A85: Deviation | C85: =C82-C65 -> -0.32517194 | D85: =D82-D65 -> -0.33578339 | E85: =E82-E65 -> -2.5936346 | F85: =F82-F65 -> -1.1979651 | G85: =G82-G65 -> 0.6140685 | H85: =H82-H65 -> 2.365676 | I85: =I82-I65 -> 2.7768013 | J85: =J82-J65 -> 3.4659066 | K85: =K82-K65 -> -4.7698973
A86: Std Dev | C86: =STDEV(C65:C82) -> 0.14278043 | D86: =STDEV(D65:D82) -> 0.13847031 | E86: =STDEV(E65:E82) -> 1.0839411 | F86: =STDEV(F65:F82) -> 0.38099389 | G86: =STDEV(G65:G82) -> 0.56273078 | H86: =STDEV(H65:H82) -> 0.85235898 | I86: =STDEV(I65:I82) -> 0.94623582 | J86: =STDEV(J65:J82) -> 1.2811162 | K86: =STDEV(K65:K82) -> 1.7732782
C90: 1996 | D90: 1999 | E90: 2003 | F90: 2006 | G90: 2008 | H90: =A79 -> 2010 | I90: 2011 | J90: 2012 | K90: Average | L90: Deviation | M90: Std Dev
A91: Agriculture, forestry and fishing | C91: {=TRANSPOSE(C65:K65)} -> 1.603315 | D91: {=TRANSPOSE(C68:K68)} -> 1.459984 | E91: {=TRANSPOSE(C72:K72)} -> 1.4351819 | F91: {=TRANSPOSE(C75:K75)} -> 1.1249666 | G91: {=TRANSPOSE(C77:K77)} -> 1.3034315 | H91: {=TRANSPOSE(C79:K79)} -> 1.2309241 | I91: {=TRANSPOSE(C80:K80)} -> 1.3065996 | J91: {=TRANSPOSE(C82:K82)} -> 1.2781431 | K91: =AVERAGE(C91:J91) -> 1.3428182 | L91: =J91-C91 -> -0.32517194 | M91: =STDEV(C91:J91) -> 0.14982992
A92: Mining and quarrying | C92: 0.567166 | D92: 0.47133143 | E92: 0.36253593 | F92: 0.2790967 | G92: 0.2282754 | H92: 0.23065499 | I92: 0.20956775 | J92: 0.23138262 | K92: =AVERAGE(C92:J92) -> 0.32250135 | L92: =J92-C92 -> -0.33578339 | M92: =STDEV(C92:J92) -> 0.13302461
A93: Manufacturing | C93: 21.135357 | D93: 20.703323 | E93: 20.261378 | F93: 20.299205 | G93: 19.795241 | H93: 18.729297 | I93: 18.723061 | J93: 18.541722 | K93: =AVERAGE(C93:J93) -> 19.773573 | L93: =J93-C93 -> -2.5936346 | M93: =STDEV(C93:J93) -> 0.9960742
A94: Electricity, gas and water | C94: 3.9221757 | D94: 3.6355919 | E94: 3.3925861 | F94: 3.4344523 | G94: 3.0706171 | H94: 2.9218702 | I94: 2.8564814 | J94: 2.7242106 | K94: =AVERAGE(C94:J94) -> 3.2447482 | L94: =J94-C94 -> -1.1979651 | M94: =STDEV(C94:J94) -> 0.41846536
A95: Construction | C95: 4.3585039 | D95: 3.6386925 | E95: 3.5488516 | F95: 4.0241046 | G95: 4.6304821 | H95: 5.0551281 | I95: 4.9151483 | J95: 4.9725724 | K95: =AVERAGE(C95:J95) -> 4.3929354 | L95: =J95-C95 -> 0.6140685 | M95: =STDEV(C95:J95) -> 0.6002612
A96: Wholesale & retail trade; hotels & restaurants | C96: 15.760359 | D96: 16.389495 | E96: 17.567479 | F96: 17.79762 | G96: 17.374164 | H96: 17.809549 | I96: 18.04036 | J96: 18.126035 | K96: =AVERAGE(C96:J96) -> 17.358133 | L96: =J96-C96 -> 2.365676 | M96: =STDEV(C96:J96) -> 0.84407653
A97: Transport , storage and communication | C97: 11.484419 | D97: 12.423117 | E97: 13.940395 | F97: 13.858052 | G97: 14.169967 | H97: 14.29497 | I97: 14.210491 | J97: 14.26122 | K97: =AVERAGE(C97:J97) -> 13.580329 | L97: =J97-C97 -> 2.7768013 | M97: =STDEV(C97:J97) -> 1.0459349
A98: Finance, real estate and business services | C98: 16.698557 | D98: 17.942129 | E98: 18.402213 | F98: 19.689985 | G98: 19.956482 | H98: 19.919868 | I98: 20.04745 | J98: 20.164463 | K98: =AVERAGE(C98:J98) -> 19.102643 | L98: =J98-C98 -> 3.4659066 | M98: =STDEV(C98:J98) -> 1.27498
A99: Personal and General Government Services | C99: 24.470148 | D99: 23.336337 | E99: 21.089379 | F99: 19.492518 | G99: 19.471339 | H99: 19.807738 | I99: 19.690841 | J99: 19.700251 | K99: =AVERAGE(C99:J99) -> 20.882319 | L99: =J99-C99 -> -4.7698973 | M99: =STDEV(C99:J99) -> 1.9578279
A102: Diversity | C102: Agriculture, forestry and fishing | D102: Mining and quarrying | E102: Manufacturing | F102: Electricity, gas and water | G102: Construction | H102: Wholesale & retail trade; hotels & restaurants | I102: Transport , storage and communication | J102: Finance, real estate and business services | K102: Personal and General Government Services | L102: Average
A103: =A65 -> 1996 | C103: =C4/($W4-C4) -> 0.02663271 | D103: =E4/($W4-E4) -> 0.0013617116 | E103: =G4/($W4-G4) -> 0.31647615 | F103: =I4/($W4-I4) -> 0.0074048361 | G103: =K4/($W4-K4) -> 0.076012624 | H103: =M4/($W4-M4) -> 0.20282414 | I103: =O4/($W4-O4) -> 0.051407998 | J103: =Q4/($W4-Q4) -> 0.21769523 | K103: =S4/($W4-S4) -> 0.22188857 | L103: =AVERAGE(C103:K103) -> 0.12463378
A104: =A66 -> 1997 | C104: =C5/($W5-C5) -> 0.031351501 | D104: =E5/($W5-E5) -> 0.001055235 | E104: =G5/($W5-G5) -> 0.32166388 | F104: =I5/($W5-I5) -> 0.0065683427 | G104: =K5/($W5-K5) -> 0.065689001 | H104: =M5/($W5-M5) -> 0.21485589 | I104: =O5/($W5-O5) -> 0.051407708 | J104: =Q5/($W5-Q5) -> 0.22548306 | K104: =S5/($W5-S5) -> 0.20490675 | L104: =AVERAGE(C104:K104) -> 0.12477571
A105: =A67 -> 1998 | C105: =C6/($W6-C6) -> 0.040865901 | D105: =E6/($W6-E6) -> 0.00094833184 | E105: =G6/($W6-G6) -> 0.32952804 | F105: =I6/($W6-I6) -> 0.0060019486 | G105: =K6/($W6-K6) -> 0.056822329 | H105: =M6/($W6-M6) -> 0.21910284 | I105: =O6/($W6-O6) -> 0.051824179 | J105: =Q6/($W6-Q6) -> 0.22001559 | K105: =S6/($W6-S6) -> 0.19895798 | L105: =AVERAGE(C105:K105) -> 0.12489635
A106: =A68 -> 1999 | C106: =C7/($W7-C7) -> 0.046406803 | D106: =E7/($W7-E7) -> 0.00090347569 | E106: =G7/($W7-G7) -> 0.33463092 | F106: =I7/($W7-I7) -> 0.0056977565 | G106: =K7/($W7-K7) -> 0.051052862 | H106: =M7/($W7-M7) -> 0.21775099 | I106: =O7/($W7-O7) -> 0.050922303 | J106: =Q7/($W7-Q7) -> 0.21075538 | K106: =S7/($W7-S7) -> 0.19921968 | L106: =AVERAGE(C106:K106) -> 0.12414891
A107: =A69 -> 2000 | C107: =C8/($W8-C8) -> 0.046277081 | D107: =E8/($W8-E8) -> 0.00089588472 | E107: =G8/($W8-G8) -> 0.34251031 | F107: =I8/($W8-I8) -> 0.0059650351 | G107: =K8/($W8-K8) -> 0.049398911 | H107: =M8/($W8-M8) -> 0.21904906 | I107: =O8/($W8-O8) -> 0.04866165 | J107: =Q8/($W8-Q8) -> 0.20301105 | K107: =S8/($W8-S8) -> 0.19514397 | L107: =AVERAGE(C107:K107) -> 0.12343477
A108: =A70 -> 2001 | C108: =C9/($W9-C9) -> 0.046760453 | D108: =E9/($W9-E9) -> 0.0008507254 | E108: =G9/($W9-G9) -> 0.34900929 | F108: =I9/($W9-I9) -> 0.0063550915 | G108: =K9/($W9-K9) -> 0.048400471 | H108: =M9/($W9-M9) -> 0.22227479 | I108: =O9/($W9-O9) -> 0.047423763 | J108: =Q9/($W9-Q9) -> 0.19128254 | K108: =S9/($W9-S9) -> 0.19722926 | L108: =AVERAGE(C108:K108) -> 0.12328738
A109: =A71 -> 2002 | C109: =C10/($W10-C10) -> 0.047395676 | D109: =E10/($W10-E10) -> 0.00092066004 | E109: =G10/($W10-G10) -> 0.34102829 | F109: =I10/($W10-I10) -> 0.0065623369 | G109: =K10/($W10-K10) -> 0.047540288 | H109: =M10/($W10-M10) -> 0.22792504 | I109: =O10/($W10-O10) -> 0.046953805 | J109: =Q10/($W10-Q10) -> 0.18264298 | K109: =S10/($W10-S10) -> 0.20152336 | L109: =AVERAGE(C109:K109) -> 0.12249916
A110: =A72 -> 2003 | C110: =C11/($W11-C11) -> 0.04591705 | D110: =E11/($W11-E11) -> 0.0011284937 | E110: =G11/($W11-G11) -> 0.31769814 | F110: =I11/($W11-I11) -> 0.0063358216 | G110: =K11/($W11-K11) -> 0.046390426 | H110: =M11/($W11-M11) -> 0.23321434 | I110: =O11/($W11-O11) -> 0.048522044 | J110: =Q11/($W11-Q11) -> 0.18277424 | K110: =S11/($W11-S11) -> 0.20718042 | L110: =AVERAGE(C110:K110) -> 0.12101789
A111: =A73 -> 2004 | C111: =C12/($W12-C12) -> 0.041213603 | D111: =E12/($W12-E12) -> 0.0015939822 | E111: =G12/($W12-G12) -> 0.29830941 | F111: =I12/($W12-I12) -> 0.005676632 | G111: =K12/($W12-K12) -> 0.046763107 | H111: =M12/($W12-M12) -> 0.23236906 | I111: =O12/($W12-O12) -> 0.052336826 | J111: =Q12/($W12-Q12) -> 0.19207246 | K111: =S12/($W12-S12) -> 0.21012101 | L111: =AVERAGE(C111:K111) -> 0.12005068
A112: =A74 -> 2005 | C112: =C13/($W13-C13) -> 0.036525938 | D112: =E13/($W13-E13) -> 0.0015248052 | E112: =G13/($W13-G13) -> 0.28521041 | F112: =I13/($W13-I13) -> 0.0053076414 | G112: =K13/($W13-K13) -> 0.048738712 | H112: =M13/($W13-M13) -> 0.23385803 | I112: =O13/($W13-O13) -> 0.056471241 | J112: =Q13/($W13-Q13) -> 0.20820539 | K112: =S13/($W13-S13) -> 0.20864408 | L112: =AVERAGE(C112:K112) -> 0.12049847
A113: =A75 -> 2006 | C113: =C14/($W14-C14) -> 0.034559126 | D113: =E14/($W14-E14) -> 0.0014804385 | E113: =G14/($W14-G14) -> 0.26864325 | F113: =I14/($W14-I14) -> 0.00496368 | G113: =K14/($W14-K14) -> 0.049961585 | H113: =M14/($W14-M14) -> 0.24742453 | I113: =O14/($W14-O14) -> 0.057324176 | J113: =Q14/($W14-Q14) -> 0.22152749 | K113: =S14/($W14-S14) -> 0.20456977 | L113: =AVERAGE(C113:K113) -> 0.12116156
A114: =A76 -> 2007 | C114: =C15/($W15-C15) -> 0.03537643 | D114: =E15/($W15-E15) -> 0.0013519764 | E114: =G15/($W15-G15) -> 0.2465744 | F114: =I15/($W15-I15) -> 0.0044294957 | G114: =K15/($W15-K15) -> 0.05349755 | H114: =M15/($W15-M15) -> 0.25423342 | I114: =O15/($W15-O15) -> 0.057969463 | J114: =Q15/($W15-Q15) -> 0.23168103 | K114: =S15/($W15-S15) -> 0.20059013 | L114: =AVERAGE(C114:K114) -> 0.12063377
... A120: =A82 -> 2013 | C120: =C21/($W21-C21) -> 0.024837929 | D120: =E21/($W21-E21) -> 0.0012004422 | E120: =G21/($W21-G21) -> 0.2167382 | F120: =I21/($W21-I21) -> 0.0043282275 | G120: =K21/($W21-K21) -> 0.070593455 | H120: =M21/($W21-M21) -> 0.22435595 | I120: =O21/($W21-O21) -> 0.074281549 | J120: =Q21/($W21-Q21) -> 0.22660835 | K120: =S21/($W21-S21) -> 0.23593943 | L120: =AVERAGE(C120:K120) -> 0.11987595
A122: Average | C122: =AVERAGE(C103:C120) -> 0.03684878 | D122: =AVERAGE(D103:D120) -> 0.0011863748 | E122: =AVERAGE(E103:E120) -> 0.28417466 | F122: =AVERAGE(F103:F120) -> 0.005274795 | G122: =AVERAGE(G103:G120) -> 0.058138858 | H122: =AVERAGE(H103:H120) -> 0.22644704 | I122: =AVERAGE(I103:I120) -> 0.057816061 | J122: =AVERAGE(J103:J120) -> 0.21501999 | K122: =AVERAGE(K103:K120) -> 0.208882
A123: Deviation | C123: =C120-C103 -> -0.0017947805 | D123: =D120-D103 -> -0.00016126941 | E123: =E120-E103 -> -0.099737951 | F123: =F120-F103 -> -0.0030766086 | G123: =G120-G103 -> -0.0054191693 | H123: =H120-H103 -> 0.021531813 | I123: =I120-I103 -> 0.022873551 | J123: =J120-J103 -> 0.0089131258 | K123: =K120-K103 -> 0.01405086
A124: Std Dev | C124: =STDEV(C103:C120) -> 0.0075594567 | D124: =STDEV(D103:D120) -> 0.00022668914 | E124: =STDEV(E103:E120) -> 0.048831523 | F124: =STDEV(F103:F120) -> 0.0011903798 | G124: =STDEV(G103:G120) -> 0.010232236 | H124: =STDEV(H103:H120) -> 0.012631258 | I124: =STDEV(I103:I120) -> 0.0097964819 | J124: =STDEV(J103:J120) -> 0.017801741 | K124: =STDEV(K103:K120) -> 0.012202474
A127: Gross Operating Surplus | B127: Agriculture | D127: Mining | F127: Manufacturing | H127: Electricity | J127: Construction | L127: Trade | N127: Transport | P127: Finance | R127: Community services | V127: Total
A128: (Current prices, R 1000) | B128: SA | C128: MA | D128: SA | E128: =C128 -> MA | F128: SA | G128: =E128 -> MA | H128: SA | I128: =G128 -> MA | J128: SA | K128: =I128 -> MA | L128: SA | M128: =K128 -> MA | N128: SA | O128: =M128 -> MA | P128: SA | Q128: =O128 -> MA | R128: SA | S128: =Q128 -> MA | V128: SA | W128: MA
...

Sheet PMB
A1: Pietermaritzburg
A2: Number of formally employed people | B2: Agriculture | D2: Mining | F2: Manufacturing | H2: Electricity | J2: Construction | L2: Trade | N2: Transport | P2: Finance | R2: Community services | T2: Private Households | V2: Total | X2: Year-on-Year MA | Y2: Total-Private Households | AB2: Unemployment Rate | AC2: Number of Claims for Unemployment Benefits
B3: SA | C3: MA | D3: SA | E3: =C3 -> MA | F3: SA | G3: =E3 -> MA | H3: SA | I3: =G3 -> MA | J3: SA | K3: =I3 -> MA | L3: SA | M3: =K3 -> MA | N3: SA | O3: =M3 -> MA | P3: SA | Q3: =O3 -> MA | R3: SA | S3: =Q3 -> MA | T3: SA | U3: =S3 -> MA | V3: SA | W3: =U3 -> MA | Y3: SA | Z3: MA
A4: 1996 | B4: 703854.59 | C4: 5466.394 | D4: 568517 | E4: 168.82717 | F4: 1355479 | G4: 20741.653 | H4: 63025.655 | I4: 1368.5528 | J4: 518672.12 | K4: 7042.1846 | L4: 1177993.9 | M4: 18292.713 | N4: 129873.78 | O4: 4509.7622 | P4: 1306983.8 | Q4: 22969.33 | R4: 1529686.3 | S4: 29528.62 | T4: 836533.22 | U4: 836533.22 | V4: =B4+D4+F4+H4+J4+L4+N4+P4+R4+T4 -> 8190619.3 | W4: =C4+E4+G4+I4+K4+M4+O4+Q4+S4+U4 -> 946621.26 | Y4: =V4-T4 -> 7354086.1 | Z4: =W4-U4 -> 110088.04 | AA4: =A4 -> 1996 | AB4: 0.32305086
A5: 1997 | B5: 711281.23 | C5: 6420.2666 | D5: 552238 | E5: 146.06024 | F5: 1352516.7 | G5: 20979.359 | H5: 63531.35 | I5: 1162.3305 | J5: 460858.22 | K5: 6167.0069 | L5: 1228186 | M5: 18768.033 | N5: 137140.76 | O5: 4370.4394 | P5: 1319891.1 | Q5: 22484.699 | R5: 1561880.4 | S5: 27705.684 | T5: 852369.51 | U5: 852369.51 | V5: =B5+D5+F5+H5+J5+L5+N5+P5+R5+T5 -> 8239893.3 | W5: =C5+E5+G5+I5+K5+M5+O5+Q5+S5+U5 -> 960573.39 | X5: =(W5-W4)/W4*100 -> 1.4738872 | Y5: =V5-T5 -> 7387523.8 | Z5: =W5-U5 -> 108203.88 | AA5: =A5 -> 1997 | AB5: 0.34313567
A6: 1998 | B6: 791221.21 | C6: 8623.6943 | D6: 465851 | E6: 152.39106 | F6: 1406350.7 | G6: 22355.489 | H6: 65002.767 | I6: 1098.815 | J6: 436147.92 | K6: 5629.5872 | L6: 1353315.9 | M6: 19452.528 | N6: 146748.71 | O6: 4384.6629 | P6: 1375150.4 | Q6: 21899.363 | R6: 1670045.8 | S6: 28234.258 | T6: 897301.7 | U6: 897301.7 | V6: =B6+D6+F6+H6+J6+L6+N6+P6+R6+T6 -> 8607136.1 | W6: =C6+E6+G6+I6+K6+M6+O6+Q6+S6+U6 -> 1009132.5 | X6: =(W6-W5)/W5*100 -> 5.0552207 | Y6: =V6-T6 -> 7709834.4 | Z6: =W6-U6 -> 111830.79 | AA6: =A6 -> 1998 | AB6: 0.40163285
A7: 1999 | B7: 881755.63 | C7: 10165.397 | D7: 436254 | E7: 164.35735 | F7: 1475811.7 | G7: 24449.195 | H7: 66129.372 | I7: 1105.4149 | J7: 428586.03 | K7: 5483.3188 | L7: 1502656 | M7: 20308.52 | N7: 157519.6 | O7: 4394.0502 | P7: 1427349.6 | Q7: 21650.273 | R7: 1794919.4 | S7: 30128.582 | T7: 980440.25 | U7: 980440.25 | V7: =B7+D7+F7+H7+J7+L7+N7+P7+R7+T7 -> 9151421.6 | W7: =C7+E7+G7+I7+K7+M7+O7+Q7+S7+U7 -> 1098289.4 | X7: =(W7-W6)/W6*100 -> 8.8350012 | Y7: =V7-T7 -> 8170981.4 | Z7: =W7-U7 -> 117849.11 | AA7: =A7 -> 1999 | AB7: 0.38268627
A8: 2000 | B8: 920416.9 | C8: 10332.574 | D8: 417717 | E8: 163.57419 | F8: 1523397.4 | G8: 26346.98 | H8: 67451.036 | I8: 1170.4406 | J8: 425359.67 | K8: 5640.2589 | L8: 1604108.8 | M8: 21047.931 | N8: 165910.99 | O8: 4188.0042 | P8: 1446131.6 | Q8: 21173.267 | R8: 1875478.7 | S8: 30796.795 | T8: 1044533.1 | U8: 1044533.1 | V8: =B8+D8+F8+H8+J8+L8+N8+P8+R8+T8 -> 9490505.1 | W8: =C8+E8+G8+I8+K8+M8+O8+Q8+S8+U8 -> 1165392.9 | X8: =(W8-W7)/W7*100 -> 6.1098213 | Y8: =V8-T8 -> 8445972.1 | Z8: =W8-U8 -> 120859.83 | AA8: =A8 -> 2000 | AB8: 0.42738467
A9: 2001 | B9: 925809.1 | C9: 10372.084 | D9: 406654 | E9: 122.15469 | F9: 1521127.6 | G9: 26853.311 | H9: 66016.15 | I9: 1207.8416 | J9: 412768.85 | K9: 5574.4161 | L9: 1619956 | M9: 20874.319 | N9: 167325.21 | O9: 3845.973 | P9: 1417840.1 | Q9: 19296.983 | R9: 1896927.6 | S9: 30829.836 | T9: 1075200.4 | U9: 1075200.4 | V9: =B9+D9+F9+H9+J9+L9+N9+P9+R9+T9 -> 9509625 | W9: =C9+E9+G9+I9+K9+M9+O9+Q9+S9+U9 -> 1194177.3 | X9: =(W9-W8)/W8*100 -> 2.4699356 | Y9: =V9-T9 -> 8434424.6 | Z9: =W9-U9 -> 118976.92 | AA9: =A9 -> 2001 | AB9: 0.4570258
A10: 2002 | B10: 901032.93 | C10: 10359.755 | D10: 416153 | E10: 97.34391 | F10: 1510292.6 | G10: 25908.474 | H10: 65272.915 | I10: 1188.2369 | J10: 407925.8 | K10: 5400.7679 | L10: 1604065.2 | M10: 20459.944 | N10: 167436.44 | O10: 3550.3102 | P10: 1396300.5 | Q10: 17458.666 | R10: 1917953.2 | S10: 30823.412 | T10: 1084534.5 | U10: 1084534.5 | V10: =B10+D10+F10+H10+J10+L10+N10+P10+R10+T10 -> 9470967 | W10: =C10+E10+G10+I10+K10+M10+O10+Q10+S10+U10 -> 1199781.4 | X10: =(W10-W9)/W9*100 -> 0.469283 | Y10: =V10-T10 -> 8386432.5 | Z10: =W10-U10 -> 115246.91 | AA10: =A10 -> 2002 | AB10: 0.49005356
A11: 2003 | B11: 866424.44 | C11: 10130.323 | D11: 433700 | E11: 137.55439 | F11: 1506047.6 | G11: 24398.746 | H11: 66548.603 | I11: 1112.2568 | J11: 420938.08 | K11: 5300.9004 | L11: 1605128.1 | M11: 20424.994 | N11: 169981.63 | O11: 3519.8518 | P11: 1422605 | Q11: 16855.739 | R11: 1970648.2 | S11: 31657.298 | T11: 1090127.6 | U11: 1090127.6 | V11: =B11+D11+F11+H11+J11+L11+N11+P11+R11+T11 -> 9552149.3 | W11: =C11+E11+G11+I11+K11+M11+O11+Q11+S11+U11 -> 1203665.2 | X11: =(W11-W10)/W10*100 -> 0.32371141 | Y11: =V11-T11 -> 8462021.7 | Z11: =W11-U11 -> 113537.66 | AA11: =A11 -> 2003 | AB11: 0.48824671 | AC11: ='[2]Data Input'!B102*12 -> 12602
A12: 2004 | B12: 810822.02 | C12: 9246.7432 | D12: 455367 | E12: 254.60083 | F12: 1498631.9 | G12: 23272.553 | H12: 64939.049 | I12: 974.23321 | J12: 450923.77 | K12: 5424.2453 | L12: 1642333.4 | M12: 20316.968 | N12: 169458.39 | O12: 3685.1412 | P12: 1499357.5 | Q12: 17211.666 | R12: 2019317.1 | S12: 32399.792 | T12: 1099705.2 | U12: 1099705.2 | V12: =B12+D12+F12+H12+J12+L12+N12+P12+R12+T12 -> 9710855.4 | W12: =C12+E12+G12+I12+K12+M12+O12+Q12+S12+U12 -> 1212491.2 | X12: =(W12-W11)/W11*100 -> 0.73325481 | Y12: =V12-T12 -> 8611150.2 | Z12: =W12-U12 -> 112785.94 | AA12: =A12 -> 2004 | AB12: 0.46129355 | AC12: ='[2]Data Input'!B103*12 -> 15467
A13: 2005 | B13: 754767.3 | C13: 8344.3501 | D13: 443266.67 | E13: 275.76058 | F13: 1497055.4 | G13: 23046.497 | H13: 66405.731 | I13: 906.88433 | J13: 501270.28 | K13: 5864.9077 | L13: 1726098.4 | M13: 20876.364 | N13: 172457.35 | O13: 3967.7656 | P13: 1633160.5 | Q13: 18508.891 | R13: 2074656 | S13: 33210.739 | T13: 1133282.6 | U13: 1133282.6 | V13: =B13+D13+F13+H13+J13+L13+N13+P13+R13+T13 -> 10002420 | W13: =C13+E13+G13+I13+K13+M13+O13+Q13+S13+U13 -> 1248284.7 | X13: =(W13-W12)/W12*100 -> 2.9520694 | Y13: =V13-T13 -> 8869137.6 | Z13: =W13-U13 -> 115002.16 | AA13: =A13 -> 2005 | AB13: 0.45810256 | AC13: ='[2]Data Input'!B104*12 -> 15325
A14: 2006 | B14: 723504.68 | C14: 8202.2929 | D14: 495012.07 | E14: 344.69654 | F14: 1509624.6 | G14: 23303.635 | H14: 68997.644 | I14: 876.46373 | J14: 549938.33 | K14: 6368.1877 | L14: 1836571.6 | M14: 22726.095 | N14: 186743.45 | O14: 4139.9958 | P14: 1772783 | Q14: 20081.668 | R14: 2131739.6 | S14: 34450.315 | T14: 1190086.3 | U14: 1190086.3 | V14: =B14+D14+F14+H14+J14+L14+N14+P14+R14+T14 -> 10465001 | W14: =C14+E14+G14+I14+K14+M14+O14+Q14+S14+U14 -> 1310579.6 | X14: =(W14-W13)/W13*100 -> 4.9904398 | Y14: =V14-T14 -> 9274915.1 | Z14: =W14-U14 -> 120493.35 | AA14: =A14 -> 2006 | AB14: 0.44225325 | AC14: ='[2]Data Input'!B105*12 -> 13210
A15: 2007 | B15: 707106.97 | C15: 9167.4164 | D15: 498860 | E15: 359.1511 | F15: 1538274.3 | G15: 23493.858 | H15: 72387.04 | I15: 813.45744 | J15: 594056.23 | K15: 7209.0406 | L15: 1947939.3 | M15: 24192.932 | N15: 199834.56 | O15: 4321.5835 | P15: 1902435.7 | Q15: 21523.346 | R15: 2232646.8 | S15: 35876.039 | T15: 1247990.2 | U15: 1247990.2 | V15: =B15+D15+F15+H15+J15+L15+N15+P15+R15+T15 -> 10941531 | W15: =C15+E15+G15+I15+K15+M15+O15+Q15+S15+U15 -> 1374947 | X15: =(W15-W14)/W14*100 -> 4.9113691 | Y15: =V15-T15 -> 9693541 | Z15: =W15-U15 -> 126956.82 | AA15: =A15 -> 2007 | AB15: 0.41219584 | AC15: ='[2]Data Input'!B106*12 -> 13015
A16: 2008 | B16: 675492.09 | C16: 10069.143 | D16: 522252 | E16: 310.33856 | F16: 1550239.8 | G16: 23684.606 | H16: 75165.678 | I16: 694.31839 | J16: 615921.99 | K16: 8422.2113 | L16: 2008505.8 | M16: 23992.674 | N16: 199825.83 | O16: 4588.3892 | P16: 1966518 | Q16: 22224.311 | R16: 2329483.6 | S16: 37218.195 | T16: 1266144.5 | U16: 1266144.5 | V16: =B16+D16+F16+H16+J16+L16+N16+P16+R16+T16 -> 11209549 | W16: =C16+E16+G16+I16+K16+M16+O16+Q16+S16+U16 -> 1397348.7 | X16: =(W16-W15)/W15*100 -> 1.6292728 | Y16: =V16-T16 -> 9943404.8 | Z16: =W16-U16 -> 131204.19 | AA16: =A16 -> 2008 | AB16: 0.35964219 | AC16: ='[2]Data Input'!B107*12 -> 13859
A17: 2009 | B17: 635860.92 | C17: 9803.567 | D17: 488246.5 | E17: 190.19248 | F17: 1532096 | G17: 23660.266 | H17: 76497.69 | I17: 607.95015 | J17: 618198.13 | K17: 9394.4904 | L17: 2012084.8 | M17: 22928.698 | N17: 190619.42 | O17: 4973.4124 | P17: 1974363.1 | Q17: 22099.268 | R17: 2413014.4 | S17: 38313.945 | T17: 1244185.4 | U17: 1244185.4 | V17: =B17+D17+F17+H17+J17+L17+N17+P17+R17+T17 -> 11185166 | W17: =C17+E17+G17+I17+K17+M17+O17+Q17+S17+U17 -> 1376157.2 | X17: =(W17-W16)/W16*100 -> -1.5165523 | Y17: =V17-T17 -> 9940981 | Z17: =W17-U17 -> 131971.79 | AA17: =A17 -> 2009 | AB17: 0.33002459 | AC17: ='[2]Data Input'!B108*12 -> 15561
A18: 2010 | B18: 593549.26 | C18: 8861.4302 | D18: 500205 | E18: 163.13539 | F18: 1501996.3 | G18: 23298.324 | H18: 78883.563 | I18: 660.68505 | J18: 610746.9 | K18: 9785.934 | L18: 1982873.9 | M18: 21841.646 | N18: 182398.64 | O18: 5215.787 | P18: 1943276.8 | Q18: 21220.209 | R18: 2482881 | S18: 39415.341 | T18: 1208393.3 | U18: 1208393.3 | V18: =B18+D18+F18+H18+J18+L18+N18+P18+R18+T18 -> 11085205 | W18: =C18+E18+G18+I18+K18+M18+O18+Q18+S18+U18 -> 1338855.8 | X18: =(W18-W17)/W17*100 -> -2.7105422 | Y18: =V18-T18 -> 9876811.3 | Z18: =W18-U18 -> 130462.49 | AA18: =A18 -> 2010 | AB18: 0.30984251 | AC18: 13023
A19: 2011 | B19: 585473.4 | C19: 8055.9388 | D19: 513850 | E19: 160.01725 | F19: 1473881.8 | G19: 22790.363 | H19: 82517.295 | I19: 771.45166 | J19: 599612.27 | K19: 9600.4293 | L19: 1975812.2 | M19: 21175.397 | N19: 181079.39 | O19: 5188.2551 | P19: 1942607 | Q19: 20269.648 | R19: 2547933.3 | S19: 40300.635 | T19: 1171947.3 | U19: 1171947.3 | V19: =B19+D19+F19+H19+J19+L19+N19+P19+R19+T19 -> 11074714 | W19: =C19+E19+G19+I19+K19+M19+O19+Q19+S19+U19 -> 1300259.4 | X19: =(W19-W18)/W18*100 -> -2.8827905 | Y19: =V19-T19 -> 9902766.6 | Z19: =W19-U19 -> 128312.14 | AA19: =A19 -> 2011 | AB19: 0.2887024 | AC19: 16041
A20: 2012 | B20: 595139.04 | C20: 7494.952 | D20: 534858.5 | E20: 163.829 | F20: 1462996.5 | G20: 22159.122 | H20: 86597.377 | I20: 778.40504 | J20: 597515.36 | K20: 9387.0018 | L20: 2002960.4 | M20: 21144.789 | N20: 185265.65 | O20: 5088.8711 | P20: 1973116.4 | Q20: 20099.77 | R20: 2626423.4 | S20: 42273.522 | T20: 1160315.1 | U20: 1160315.1 | V20: =B20+D20+F20+H20+J20+L20+N20+P20+R20+T20 -> 11225188 | W20: =C20+E20+G20+I20+K20+M20+O20+Q20+S20+U20 -> 1288905.3 | X20: =(W20-W19)/W19*100 -> -0.87321958 | Y20: =V20-T20 -> 10064873 | Z20: =W20-U20 -> 128590.26 | AA20: =A20 -> 2012 | AB20: 0.289 | AC20: 12547
A21: 2013 | B21: 611101.83 | C21: 7337.1491 | D21: 511799.5 | E21: 140.47094 | F21: 1474495.9 | G21: 21767.69 | H21: 92296.313 | I21: 784.11281 | J21: 608551.06 | K21: 9571.1789 | L21: 2051382.8 | M21: 21427.114 | N21: 191454.64 | O21: 4992.5379 | P21: 2021307.6 | Q21: 20141.906 | R21: 2709590.5 | S21: 44220.049 | T21: 1164561.3 | U21: 1164561.3 | V21: =B21+D21+F21+H21+J21+L21+N21+P21+R21+T21 -> 11436541 | W21: =C21+E21+G21+I21+K21+M21+O21+Q21+S21+U21 -> 1294943.5 | X21: =(W21-W20)/W20*100 -> 0.4684748 | Y21: =V21-T21 -> 10271980 | Z21: =W21-U21 -> 130382.21 | AA21: =A21 -> 2013
A23: Gross Value Added by Region (GVA-R) | B23: Agriculture | D23: Mining | F23: Manufacturing | H23: Electricity | J23: Construction | L23: Trade | N23: Transport | P23: Finance | R23: Community services | V23: Total | X23: Year-on-Year MA
A24: Constant 2000 prices (R 1000) | B24: SA | C24: =C3 -> MA | D24: SA | E24: =E3 -> MA | F24: SA | G24: =G3 -> MA | H24: SA | I24: =I3 -> MA | J24: SA | K24: =K3 -> MA | L24: SA | M24: =M3 -> MA | N24: SA | O24: =O3 -> MA | P24: SA | Q24: =Q3 -> MA | R24: SA | S24: =S3 -> MA | V24: SA | W24: =W3 -> MA
A25: =A4 -> 1996 | B25: 49257652 | C25: 801497.7 | D25: 2.2697097e+08 | E25: 133612.88 | F25: 2.4827192e+08 | G25: 2299602.2 | H25: 55369589 | I25: 727077.24 | J25: 42049913 | K25: 682364.14 | L25: 2.1520877e+08 | M25: 2090641.2 | N25: 1.0753266e+08 | O25: 1494986.4 | P25: 2.5378508e+08 | Q25: 2576612.4 | R25: 3.9884691e+08 | S25: 5919403.4 | V25: =B25+D25+F25+H25+J25+L25+N25+P25+R25+T25 -> 1.5972935e+09 | W25: =C25+E25+G25+I25+K25+M25+O25+Q25+S25+U25 -> 16725798
A26: =A5 -> 1997 | B26: 49809600 | C26: 799836.34 | D26: 2.3133399e+08 | E26: 151872.52 | F26: 2.5553255e+08 | G26: 2335512.4 | H26: 57654742 | I26: 755534.71 | J26: 43497575 | K26: 714976.64 | L26: 2.1654187e+08 | M26: 2088774 | N26: 1.1595804e+08 | O26: 1571825.5 | P26: 2.6630921e+08 | Q26: 2666226.3 | R26: 4.0210158e+08 | S26: 5802473.6 | V26: =B26+D26+F26+H26+J26+L26+N26+P26+R26+T26 -> 1.6387392e+09 | W26: =C26+E26+G26+I26+K26+M26+O26+Q26+S26+U26 -> 16887032 | X26: =(W26-W25)/W25*100 -> 0.96398645
A27: =A6 -> 1998 | B27: 47231155 | C27: 816536.51 | D27: 2.3140379e+08 | E27: 138870.83 | F27: 2.5535378e+08 | G27: 2303624.8 | H27: 54092886 | I27: 707280.15 | J27: 40933665 | K27: 634067.14 | L27: 2.1964274e+08 | M27: 2115803.1 | N27: 1.2249514e+08 | O27: 1653472.1 | P27: 2.727948e+08 | Q27: 2760179.8 | R27: 4.0614539e+08 | S27: 5978929.5 | V27: =B27+D27+F27+H27+J27+L27+N27+P27+R27+T27 -> 1.6500933e+09 | W27: =C27+E27+G27+I27+K27+M27+O27+Q27+S27+U27 -> 17108764 | X27: =(W27-W26)/W26*100 -> 1.3130312
A28: =A7 -> 1999 | B28: 50334126 | C28: 795520.58 | D28: 2.2895853e+08 | E28: 115461.86 | F28: 2.577803e+08 | G28: 2328880.3 | H28: 54009813 | I28: 709556.18 | J28: 40378050 | K28: 597436.34 | L28: 2.3715843e+08 | M28: 2284489.7 | N28: 1.2931355e+08 | O28: 1719623.3 | P28: 2.8773445e+08 | Q28: 2893209.7 | R28: 4.088056e+08 | S28: 5936716.5 | V28: =B28+D28+F28+H28+J28+L28+N28+P28+R28+T28 -> 1.6944729e+09 | W28: =C28+E28+G28+I28+K28+M28+O28+Q28+S28+U28 -> 17380894 | X28: =(W28-W27)/W27*100 -> 1.5905911
A29: =A8 -> 2000 | B29: 52957608 | C29: 830021.09 | D29: 2.2754761e+08 | E29: 98221.45 | F29: 2.8002356e+08 | G29: 2272885.2 | H29: 55956494 | I29: 701061.92 | J29: 42659101 | K29: 567438.4 | L29: 2.5762228e+08 | M29: 2249916.7 | N29: 1.4073161e+08 | O29: 1665298.9 | P29: 2.9833727e+08 | Q29: 2734364.2 | R29: 4.1299825e+08 | S29: 6040876.2 | V29: =B29+D29+F29+H29+J29+L29+N29+P29+R29+T29 -> 1.7688338e+09 | W29: =C29+E29+G29+I29+K29+M29+O29+Q29+S29+U29 -> 17160084 | X29: =(W29-W28)/W28*100 -> -1.2704208
A30: =A9 -> 2001 | B30: 51410651 | C30: 837183.13 | D30: 2.2821072e+08 | E30: 130040.92 | F30: 2.9011657e+08 | G30: 2292170.7 | H30: 54097233 | I30: 689737.29 | J30: 44760336 | K30: 696062.32 | L30: 2.6354566e+08 | M30: 2383613.4 | N30: 1.496187e+08 | O30: 1740010.5 | P30: 3.2396844e+08 | Q30: 2813611 | R30: 4.1423992e+08 | S30: 6115833 | V30: =B30+D30+F30+H30+J30+L30+N30+P30+R30+T30 -> 1.8199682e+09 | W30: =C30+E30+G30+I30+K30+M30+O30+Q30+S30+U30 -> 17698262 | X30: =(W30-W29)/W29*100 -> 3.1362216
A31: =A10 -> 2002 | B31: 54930997 | C31: 860802 | D31: 2.3124491e+08 | E31: 113758.36 | F31: 2.9921298e+08 | G31: 2366106.3 | H31: 56173330 | I31: 720672.79 | J31: 47360614 | K31: 569075.52 | L31: 2.7048692e+08 | M31: 2461384.5 | N31: 1.6361651e+08 | O31: 1930021.2 | P31: 3.4542526e+08 | Q31: 3022448.8 | R31: 4.2053838e+08 | S31: 6226075.1 | V31: =B31+D31+F31+H31+J31+L31+N31+P31+R31+T31 -> 1.8889899e+09 | W31: =C31+E31+G31+I31+K31+M31+O31+Q31+S31+U31 -> 18270345 | X31: =(W31-W30)/W30*100 -> 3.2324208
A32: =A11 -> 2003 | B32: 55256045 | C32: 906672.13 | D32: 2.3888672e+08 | E32: 105791.22 | F32: 2.9445062e+08 | G32: 2359567.3 | H32: 57779450 | I32: 727853.71 | J32: 51001377 | K32: 604718.15 | L32: 2.7745106e+08 | M32: 2557133.6 | N32: 1.7384825e+08 | O32: 2068589 | P32: 3.6168181e+08 | Q32: 3120022.1 | R32: 4.3501261e+08 | S32: 6416230.5 | V32: =B32+D32+F32+H32+J32+L32+N32+P32+R32+T32 -> 1.9453679e+09 | W32: =C32+E32+G32+I32+K32+M32+O32+Q32+S32+U32 -> 18866578 | X32: =(W32-W31)/W31*100 -> 3.2633936
A33: =A12 -> 2004 | B33: 55822802 | C33: 917612.8 | D33: 2.4289311e+08 | E33: 107410.75 | F33: 3.0937203e+08 | G33: 2470527.9 | H33: 61801508 | I33: 779563.65 | J33: 55646823 | K33: 662305.72 | L33: 2.9290928e+08 | M33: 2696789.1 | N33: 1.8264527e+08 | O33: 2155652.9 | P33: 3.8783501e+08 | Q33: 3377680.1 | R33: 4.4386365e+08 | S33: 6519970.7 | V33: =B33+D33+F33+H33+J33+L33+N33+P33+R33+T33 -> 2.0327895e+09 | W33: =C33+E33+G33+I33+K33+M33+O33+Q33+S33+U33 -> 19687514 | X33: =(W33-W32)/W32*100 -> 4.3512705
A34: =A13 -> 2005 | B34: 57495463 | C34: 880065 | D34: 2.4583104e+08 | E34: 100859.45 | F34: 3.291623e+08 | G34: 2587167 | H34: 65223638 | I34: 820793.73 | J34: 62280636 | K34: 741837.58 | L34: 3.1411858e+08 | M34: 2840526.1 | N34: 1.9266412e+08 | O34: 2261239 | P34: 4.1072103e+08 | Q34: 3635836.7 | R34: 4.6319011e+08 | S34: 6891730.3 | V34: =B34+D34+F34+H34+J34+L34+N34+P34+R34+T34 -> 2.1406869e+09 | W34: =C34+E34+G34+I34+K34+M34+O34+Q34+S34+U34 -> 20760055 | X34: =(W34-W33)/W33*100 -> 5.4478248
A35: =A14 -> 2006 | B35: 54543519 | C35: 898594.74 | D35: 2.4522465e+08 | E35: 100822.55 | F35: 3.5157204e+08 | G35: 2694655.4 | H35: 67688430 | I35: 841880.92 | J35: 68780384 | K35: 782834.49 | L35: 3.3399857e+08 | M35: 2976746.6 | N35: 2.0322444e+08 | O35: 2345142.1 | P35: 4.5189631e+08 | Q35: 3805609 | R35: 4.81829e+08 | S35: 7140072.5 | V35: =B35+D35+F35+H35+J35+L35+N35+P35+R35+T35 -> 2.2587574e+09 | W35: =C35+E35+G35+I35+K35+M35+O35+Q35+S35+U35 -> 21586358 | X35: =(W35-W34)/W34*100 -> 3.9802563
A36: =A15 -> 2007 | B36: 56168460 | C36: 943782.96 | D36: 2.4366316e+08 | E36: 102498.27 | F36: 3.7038934e+08 | G36: 2767009.5 | H36: 70000001 | I36: 862279.16 | J36: 79454824 | K36: 877314.56 | L36: 3.5269783e+08 | M36: 3076187.8 | N36: 2.1848843e+08 | O36: 2479211.5 | P36: 4.8467459e+08 | Q36: 4002480.4 | R36: 5.05443e+08 | S36: 7558373.3 | V36: =B36+D36+F36+H36+J36+L36+N36+P36+R36+T36 -> 2.3809796e+09 | W36: =C36+E36+G36+I36+K36+M36+O36+Q36+S36+U36 -> 22669137 | X36: =(W36-W35)/W35*100 -> 5.0160342
A37: =A16 -> 2008 | B37: 67071610 | C37: 1118587.3 | D37: 2.306635e+08 | E37: 89681.111 | F37: 3.7896409e+08 | G37: 2783959.7 | H37: 67522000 | I37: 809476.82 | J37: 87300371 | K37: 948306.25 | L37: 3.5888034e+08 | M37: 3050623.7 | N37: 2.2613587e+08 | O37: 2532795.9 | P37: 5.1171648e+08 | Q37: 4194920.6 | R37: 530984210 | S37: 7921491.9 | V37: =B37+D37+F37+H37+J37+L37+N37+P37+R37+T37 -> 2.4592385e+09 | W37: =C37+E37+G37+I37+K37+M37+O37+Q37+S37+U37 -> 23449843 | X37: =(W37-W36)/W36*100 -> 3.4439152
... A42: =A21 -> 2013 | B42: 67880350 | C42: 1235844.2 | D42: 2.309084e+08 | E42: 104819.13 | F42: 3.7893321e+08 | G42: 2672279.7 | H42: 68375000 | I42: 790016.38 | J42: 1.0046818e+08 | K42: 1062232.9 | L42: 4.0598271e+08 | M42: 3340065.6 | N42: 2.4706211e+08 | O42: 2652121.1 | P42: 5.7812714e+08 | Q42: 4559151.7 | R42: 6.093806e+08 | S42: 9141868 | V42: =B42+D42+F42+H42+J42+L42+N42+P42+R42+T42 -> 2.6871177e+09 | W42: =C42+E42+G42+I42+K42+M42+O42+Q42+S42+U42 -> 25558399 | X42: =(W42-W41)/W41*100 -> 0.91650894
A44: Location Quotients | C44: Agriculture, forestry and fishing | D44: Mining and quarrying | E44: Manufacturing | F44: Electricity, gas and water | G44: Construction | H44: Wholesale & retail trade; hotels & restaurants | I44: Transport , storage and communication | J44: Finance, real estate and business services | K44: Personal and General Government Services | L44: Actual vs Necessary Employment | M44: Agriculture, forestry and fishing | N44: Mining and quarrying | O44: Manufacturing | P44: Electricity, gas and water | Q44: Construction | R44: Wholesale & retail trade; hotels & restaurants | S44: Transport , storage and communication | T44: Finance, real estate and business services | U44: Personal and General Government Services
A45: =A25 -> 1996 | C45: =(C4/$W4)/(B4/$V4) -> 0.067198328 | D45: =(E4/$W4)/(D4/$V4) -> 0.0025694453 | E45: =(G4/$W4)/(F4/$V4) -> 0.13240094 | F45: =(I4/$W4)/(H4/$V4) -> 0.18788179 | G45: =(K4/$W4)/(J4/$V4) -> 0.11747758 | H45: =(M4/$W4)/(L4/$V4) -> 0.13436172 | I45: =(O4/$W4)/(N4/$V4) -> 0.3004503 | J45: =(Q4/$W4)/(P4/$V4) -> 0.15206127 | K45: =(S4/$W4)/(R4/$V4) -> 0.16702492 | L45: =A45 -> 1996 | M45: =(1-1/C45)*C4 -> -75880.778 | N45: =(1-1/D45)*E4 -> -65536.861 | O45: =(1-1/E45)*G4 -> -135916.25 | P45: =(1-1/F45)*I4 -> -5915.5635 | Q45: =(1-1/G45)*K4 -> -52902.739 | R45: =(1-1/H45)*M4 -> -117852.56 | S45: =(1-1/I45)*O4 -> -10500.248 | T45: =(1-1/J45)*Q4 -> -128083.79 | U45: =(1-1/K45)*S4 -> -147263.08 | V45: =AVERAGE(M45:U45) -> -82205.763
A46: =A26 -> 1997 | C46: =(C5/$W5)/(B5/$V5) -> 0.077428839 | D46: =(E5/$W5)/(D5/$V5) -> 0.0022688028 | E46: =(G5/$W5)/(F5/$V5) -> 0.13305789 | F46: =(I5/$W5)/(H5/$V5) -> 0.15693961 | G46: =(K5/$W5)/(J5/$V5) -> 0.11478844 | H46: =(M5/$W5)/(L5/$V5) -> 0.13108278 | I46: =(O5/$W5)/(N5/$V5) -> 0.2733692 | J46: =(Q5/$W5)/(P5/$V5) -> 0.14613021 | K46: =(S5/$W5)/(R5/$V5) -> 0.15216407 | L46: =A46 -> 1997 | M46: =(1-1/C46)*C5 -> -76498.019 | N46: =(1-1/D46)*E5 -> -64231.609 | O46: =(1-1/E46)*G5 -> -136691.56 | P46: =(1-1/F46)*I5 -> -6243.897 | Q46: =(1-1/G46)*K5 -> -47557.977 | R46: =(1-1/H46)*M5 -> -124408.92 | S46: =(1-1/I46)*O5 -> -11616.875 | T46: =(1-1/J46)*Q5 -> -131382.86 | U46: =(1-1/K46)*S5 -> -154372.01 | V46: =AVERAGE(M46:U46) -> -83667.081
A47: =A27 -> 1998 | C47: =(C6/$W6)/(B6/$V6) -> 0.092962098 | D47: =(E6/$W6)/(D6/$V6) -> 0.0027901204 | E47: =(G6/$W6)/(F6/$V6) -> 0.13558168 | F47: =(I6/$W6)/(H6/$V6) -> 0.1441794 | G47: =(K6/$W6)/(J6/$V6) -> 0.11009136 | H47: =(M6/$W6)/(L6/$V6) -> 0.12259911 | I47: =(O6/$W6)/(N6/$V6) -> 0.25484281 | J47: =(Q6/$W6)/(P6/$V6) -> 0.13582877 | K47: =(S6/$W6)/(R6/$V6) -> 0.14419775 | L47: =A47 -> 1998 | M47: =(1-1/C47)*C6 -> -84142.008 | N47: =(1-1/D47)*E6 -> -54465.704 | O47: =(1-1/E47)*G6 -> -142530.27 | P47: =(1-1/F47)*I6 -> -6522.3499 | Q47: =(1-1/G47)*K6 -> -45506.009 | R47: =(1-1/H47)*M6 -> -139215.24 | S47: =(1-1/I47)*O6 -> -12820.699 | T47: =(1-1/J47)*Q6 -> -139328.36 | U47: =(1-1/K47)*S6 -> -167568.09 | V47: =AVERAGE(M47:U47) -> -88010.97
A48: =A28 -> 1999 | C48: =(C7/$W7)/(B7/$V7) -> 0.096061174 | D48: =(E7/$W7)/(D7/$V7) -> 0.0031392181 | E48: =(G7/$W7)/(F7/$V7) -> 0.13804014 | F48: =(I7/$W7)/(H7/$V7) -> 0.13928447 | G48: =(K7/$W7)/(J7/$V7) -> 0.10660493 | H48: =(M7/$W7)/(L7/$V7) -> 0.11261351 | I48: =(O7/$W7)/(N7/$V7) -> 0.23243536 | J48: =(Q7/$W7)/(P7/$V7) -> 0.1263877 | K48: =(S7/$W7)/(R7/$V7) -> 0.13986387 | L48: =A48 -> 1999 | M48: =(1-1/C48)*C7 -> -95656.722 | N48: =(1-1/D48)*E7 -> -52191.784 | O48: =(1-1/E48)*G7 -> -152667.36 | P48: =(1-1/F48)*I7 -> -6830.9679 | Q48: =(1-1/G48)*K7 -> -45952.567 | R48: =(1-1/H48)*M7 -> -160029.7 | S48: =(1-1/I48)*O7 -> -14510.346 | T48: =(1-1/J48)*Q7 -> -149650.21 | U48: =(1-1/K48)*S7 -> -185285.04 | V48: =AVERAGE(M48:U48) -> -95863.855
A49: =A29 -> 2000 | C49: =(C8/$W8)/(B8/$V8) -> 0.091419937 | D49: =(E8/$W8)/(D8/$V8) -> 0.0031889639 | E49: =(G8/$W8)/(F8/$V8) -> 0.14084278 | F49: =(I8/$W8)/(H8/$V8) -> 0.14131157 | G49: =(K8/$W8)/(J8/$V8) -> 0.10798407 | H49: =(M8/$W8)/(L8/$V8) -> 0.10685444 | I49: =(O8/$W8)/(N8/$V8) -> 0.20556488 | J49: =(Q8/$W8)/(P8/$V8) -> 0.11923315 | K49: =(S8/$W8)/(R8/$V8) -> 0.13372431 | L49: =A49 -> 2000 | M49: =(1-1/C49)*C8 -> -102690.63 | N49: =(1-1/D49)*E8 -> -51130.262 | O49: =(1-1/E49)*G8 -> -160719.62 | P49: =(1-1/F49)*I8 -> -7112.2541 | Q49: =(1-1/G49)*K8 -> -46592.064 | R49: =(1-1/H49)*M8 -> -175929.67 | S49: =(1-1/I49)*O8 -> -16185.146 | T49: =(1-1/J49)*Q8 -> -156405.42 | U49: =(1-1/K49)*S8 -> -199503.85 | V49: =AVERAGE(M49:U49) -> -101807.66
A50: =A30 -> 2001 | C50: =(C9/$W9)/(B9/$V9) -> 0.089215265 | D50: =(E9/$W9)/(D9/$V9) -> 0.0023921019 | E50: =(G9/$W9)/(F9/$V9) -> 0.14058104 | F50: =(I9/$W9)/(H9/$V9) -> 0.14569826 | G50: =(K9/$W9)/(J9/$V9) -> 0.10754421 | H50: =(M9/$W9)/(L9/$V9) -> 0.1026133 | I50: =(O9/$W9)/(N9/$V9) -> 0.18303723 | J50: =(Q9/$W9)/(P9/$V9) -> 0.10838189 | K50: =(S9/$W9)/(R9/$V9) -> 0.12942406 | L50: =A50 -> 2001 | M50: =(1-1/C50)*C9 -> -105886.99 | N50: =(1-1/D50)*E9 -> -50943.685 | O50: =(1-1/E50)*G9 -> -164163.27 | P50: =(1-1/F50)*I9 -> -7082.1792 | Q50: =(1-1/G50)*K9 -> -46259.3 | R50: =(1-1/H50)*M9 -> -182552.71 | S50: =(1-1/I50)*O9 -> -17165.998 | T50: =(1-1/J50)*Q9 -> -158749.21 | U50: =(1-1/K50)*S9 -> -207378.08 | V50: =AVERAGE(M50:U50) -> -104464.6
A51: =A31 -> 2002 | C51: =(C10/$W10)/(B10/$V10) -> 0.090761366 | D51: =(E10/$W10)/(D10/$V10) -> 0.0018464942 | E51: =(G10/$W10)/(F10/$V10) -> 0.13541693 | F51: =(I10/$W10)/(H10/$V10) -> 0.1437018 | G51: =(K10/$W10)/(J10/$V10) -> 0.10451209 | H51: =(M10/$W10)/(L10/$V10) -> 0.10068729 | I51: =(O10/$W10)/(N10/$V10) -> 0.1673819 | J51: =(Q10/$W10)/(P10/$V10) -> 0.098701639 | K51: =(S10/$W10)/(R10/$V10) -> 0.12686298 | L51: =A51 -> 2002 | M51: =(1-1/C51)*C10 -> -103783.03 | N51: =(1-1/D51)*E10 -> -52620.887 | O51: =(1-1/E51)*G10 -> -165415.28 | P51: =(1-1/F51)*I10 -> -7080.5312 | Q51: =(1-1/G51)*K10 -> -46275.242 | R51: =(1-1/H51)*M10 -> -182742.91 | S51: =(1-1/I51)*O10 -> -17660.526 | T51: =(1-1/J51)*Q10 -> -159424.58 | U51: =(1-1/K51)*S10 -> -212142.76 | V51: =AVERAGE(M51:U51) -> -105238.42
A52: =A32 -> 2003 | C52: =(C11/$W11)/(B11/$V11) -> 0.092787178 | D52: =(E11/$W11)/(D11/$V11) -> 0.0025169838 | E52: =(G11/$W11)/(F11/$V11) -> 0.12856543 | F52: =(I11/$W11)/(H11/$V11) -> 0.13263603 | G52: =(K11/$W11)/(J11/$V11) -> 0.099937115 | H52: =(M11/$W11)/(L11/$V11) -> 0.10098285 | I52: =(O11/$W11)/(N11/$V11) -> 0.16433035 | J52: =(Q11/$W11)/(P11/$V11) -> 0.094028358 | K52: =(S11/$W11)/(R11/$V11) -> 0.12748531 | L52: =A52 -> 2003 | M52: =(1-1/C52)*C11 -> -99047.721 | N52: =(1-1/D52)*E11 -> -54512.933 | O52: =(1-1/E52)*G11 -> -165378.14 | P52: =(1-1/F52)*I11 -> -7273.525 | Q52: =(1-1/G52)*K11 -> -47741.459 | R52: =(1-1/H52)*M11 -> -181837.02 | S52: =(1-1/I52)*O11 -> -17899.514 | T52: =(1-1/J52)*Q11 -> -162406.56 | U52: =(1-1/K52)*S11 -> -216663.85 | V52: =AVERAGE(M52:U52) -> -105862.3
A53: =A33 -> 2004 | C53: =(C12/$W12)/(B12/$V12) -> 0.091336038 | D53: =(E12/$W12)/(D12/$V12) -> 0.0044779286 | E53: =(G12/$W12)/(F12/$V12) -> 0.12437353 | F53: =(I12/$W12)/(H12/$V12) -> 0.12015336 | G53: =(K12/$W12)/(J12/$V12) -> 0.096341875 | H53: =(M12/$W12)/(L12/$V12) -> 0.099077828 | I53: =(O12/$W12)/(N12/$V12) -> 0.17416864 | J53: =(Q12/$W12)/(P12/$V12) -> 0.091938337 | K53: =(S12/$W12)/(R12/$V12) -> 0.12850399 | L53: =A53 -> 2004 | M53: =(1-1/C53)*C12 -> -91991.973 | N53: =(1-1/D53)*E12 -> -56602.23 | O53: =(1-1/E53)*G12 -> -163845.67 | P53: =(1-1/F53)*I12 -> -7134.0147 | Q53: =(1-1/G53)*K12 -> -50877.807 | R53: =(1-1/H53)*M12 -> -184743.73 | S53: =(1-1/I53)*O12 -> -17473.324 | T53: =(1-1/J53)*Q12 -> -169997.14 | U53: =(1-1/K53)*S12 -> -219730.85 | V53: =AVERAGE(M53:U53) -> -106932.97
A54: =A34 -> 2005 | C54: =(C13/$W13)/(B13/$V13) -> 0.088587179 | D54: =(E13/$W13)/(D13/$V13) -> 0.0049849239 | E54: =(G13/$W13)/(F13/$V13) -> 0.12335549 | F54: =(I13/$W13)/(H13/$V13) -> 0.10943035 | G54: =(K13/$W13)/(J13/$V13) -> 0.093752026 | H54: =(M13/$W13)/(L13/$V13) -> 0.09691271 | I54: =(O13/$W13)/(N13/$V13) -> 0.18435535 | J54: =(Q13/$W13)/(P13/$V13) -> 0.090811942 | K54: =(S13/$W13)/(R13/$V13) -> 0.12826964 | L54: =A54 -> 2005 | M54: =(1-1/C54)*C13 -> -85849.304 | N54: =(1-1/D54)*E13 -> -55043.153 | O54: =(1-1/E54)*G13 -> -163783.43 | P54: =(1-1/F54)*I13 -> -7380.436 | Q54: =(1-1/G54)*K13 -> -56692.756 | R54: =(1-1/H54)*M13 -> -194537.73 | S54: =(1-1/I54)*O13 -> -17554.613 | T54: =(1-1/J54)*Q13 -> -185306.71 | U54: =(1-1/K54)*S13 -> -225702.74 | V54: =AVERAGE(M54:U54) -> -110205.65
A55: =A35 -> 2006 | C55: =(C14/$W14)/(B14/$V14) -> 0.090525263 | D55: =(E14/$W14)/(D14/$V14) -> 0.0055602844 | E55: =(G14/$W14)/(F14/$V14) -> 0.12326239 | F55: =(I14/$W14)/(H14/$V14) -> 0.10143213 | G55: =(K14/$W14)/(J14/$V14) -> 0.092465076 | H55: =(M14/$W14)/(L14/$V14) -> 0.098808159 | I55: =(O14/$W14)/(N14/$V14) -> 0.17702329 | J55: =(Q14/$W14)/(P14/$V14) -> 0.090452397 | K55: =(S14/$W14)/(R14/$V14) -> 0.12904314 | L55: =A55 -> 2006 | M55: =(1-1/C55)*C14 -> -82405.484 | N55: =(1-1/D55)*E14 -> -61647.913 | O55: =(1-1/E55)*G14 -> -165753.51 | P55: =(1-1/F55)*I14 -> -7764.4245 | Q55: =(1-1/G55)*K14 -> -62503.087 | R55: =(1-1/H55)*M14 -> -207276.11 | S55: =(1-1/I55)*O14 -> -19246.734 | T55: =(1-1/J55)*Q14 -> -201932 | U55: =(1-1/K55)*S14 -> -232517.12 | V55: =AVERAGE(M55:U55) -> -115671.82
A56: =A36 -> 2007 | C56: =(C15/$W15)/(B15/$V15) -> 0.10317013 | D56: =(E15/$W15)/(D15/$V15) -> 0.0057291561 | E56: =(G15/$W15)/(F15/$V15) -> 0.12153817 | F56: =(I15/$W15)/(H15/$V15) -> 0.089426483 | G56: =(K15/$W15)/(J15/$V15) -> 0.09656996 | H56: =(M15/$W15)/(L15/$V15) -> 0.098833734 | I56: =(O15/$W15)/(N15/$V15) -> 0.17209349 | J56: =(Q15/$W15)/(P15/$V15) -> 0.090030971 | K56: =(S15/$W15)/(R15/$V15) -> 0.12787233 | L56: =A56 -> 2007 | M56: =(1-1/C56)*C15 -> -79689.857 | N56: =(1-1/D56)*E15 -> -62329.157 | O56: =(1-1/E56)*G15 -> -169810.5 | P56: =(1-1/F56)*I15 -> -8282.9245 | Q56: =(1-1/G56)*K15 -> -67441.924 | R56: =(1-1/H56)*M15 -> -220591.22 | S56: =(1-1/I56)*O15 -> -20790.252 | T56: =(1-1/J56)*Q15 -> -217542.68 | U56: =(1-1/K56)*S15 -> -244685.35 | V56: =AVERAGE(M56:U56) -> -121240.43
... A62: =A42 -> 2013 | C62: =(C21/$W21)/(B21/$V21) -> 0.10603705 | D62: =(E21/$W21)/(D21/$V21) -> 0.0024239882 | E62: =(G21/$W21)/(F21/$V21) -> 0.1303805 | F62: =(I21/$W21)/(H21/$V21) -> 0.075030542 | G62: =(K21/$W21)/(J21/$V21) -> 0.13890322 | H62: =(M21/$W21)/(L21/$V21) -> 0.092248829 | I62: =(O21/$W21)/(N21/$V21) -> 0.23030288 | J62: =(Q21/$W21)/(P21/$V21) -> 0.088005954 | K62: =(S21/$W21)/(R21/$V21) -> 0.14413168 | L62: =A62 -> 2013 | M62: =(1-1/C62)*C21 -> -61857.052 | N62: =(1-1/D62)*E21 -> -57809.867 | O62: =(1-1/E62)*G21 -> -145187.41 | P62: =(1-1/F62)*I21 -> -9666.469 | Q62: =(1-1/G62)*K21 -> -59334.202 | R62: =(1-1/H62)*M21 -> -210848.08 | S62: =(1-1/I62)*O21 -> -16685.601 | T62: =(1-1/J62)*Q21 -> -208727.91 | U62: =(1-1/K62)*S21 -> -262583.08 | V62: =AVERAGE(M62:U62) -> -114744.41
A64: Economic Structure | C64: Agriculture, forestry and fishing | D64: Mining and quarrying | E64: Manufacturing | F64: Electricity, gas and water | G64: Construction | H64: Wholesale & retail trade; hotels & restaurants | I64: Transport , storage and communication | J64: Finance, real estate and business services | K64: Personal and General Government Services | L64: Average
A65: =A45 -> 1996 | C65: =C25/$W25*100 -> 4.7919849 | D65: =E25/$W25*100 -> 0.79884309 | E65: =G25/$W25*100 -> 13.748835 | F65: =I25/$W25*100 -> 4.3470408 | G65: =K25/$W25*100 -> 4.0797106 | H65: =M25/$W25*100 -> 12.499501 | I65: =O25/$W25*100 -> 8.9382068 | J65: =Q25/$W25*100 -> 15.40502 | K65: =S25/$W25*100 -> 35.390859 | L65: =AVERAGE(C65:K65) -> 11.111111
A66: =A46 -> 1997 | C66: =C26/$W26*100 -> 4.7363938 | D66: =E26/$W26*100 -> 0.89934404 | E66: =G26/$W26*100 -> 13.830212 | F66: =I26/$W26*100 -> 4.4740527 | G66: =K26/$W26*100 -> 4.2338798 | H66: =M26/$W26*100 -> 12.369101 | I66: =O26/$W26*100 -> 9.3078849 | J66: =Q26/$W26*100 -> 15.788602 | K66: =S26/$W26*100 -> 34.360529 | L66: =AVERAGE(C66:K66) -> 11.111111
A67: =A47 -> 1998 | C67: =C27/$W27*100 -> 4.7726213 | D67: =E27/$W27*100 -> 0.81169409 | E67: =G27/$W27*100 -> 13.464589 | F67: =I27/$W27*100 -> 4.1340225 | G67: =K27/$W27*100 -> 3.7060955 | H67: =M27/$W27*100 -> 12.366779 | I67: =O27/$W27*100 -> 9.6644744 | J67: =Q27/$W27*100 -> 16.133134 | K67: =S27/$W27*100 -> 34.94659 | L67: =AVERAGE(C67:K67) -> 11.111111
A68: =A48 -> 1999 | C68: =C28/$W28*100 -> 4.576983 | D68: =E28/$W28*100 -> 0.66430334 | E68: =G28/$W28*100 -> 13.399082 | F68: =I28/$W28*100 -> 4.0823916 | G68: =K28/$W28*100 -> 3.4373164 | H68: =M28/$W28*100 -> 13.143683 | I68: =O28/$W28*100 -> 9.893756 | J68: =Q28/$W28*100 -> 16.645919 | K68: =S28/$W28*100 -> 34.156565 | L68: =AVERAGE(C68:K68) -> 11.111111
A69: =A49 -> 2000 | C69: =C29/$W29*100 -> 4.8369291 | D69: =E29/$W29*100 -> 0.57238327 | E69: =G29/$W29*100 -> 13.245187 | F69: =I29/$W29*100 -> 4.0854224 | G69: =K29/$W29*100 -> 3.3067344 | H69: =M29/$W29*100 -> 13.111338 | I69: =O29/$W29*100 -> 9.7044913 | J69: =Q29/$W29*100 -> 15.934445 | K69: =S29/$W29*100 -> 35.203069 | L69: =AVERAGE(C69:K69) -> 11.111111
A70: =A50 -> 2001 | C70: =C30/$W30*100 -> 4.7303126 | D70: =E30/$W30*100 -> 0.73476662 | E70: =G30/$W30*100 -> 12.951388 | F70: =I30/$W30*100 -> 3.8972035 | G70: =K30/$W30*100 -> 3.9329416 | H70: =M30/$W30*100 -> 13.468065 | I70: =O30/$W30*100 -> 9.831533 | J70: =Q30/$W30*100 -> 15.897668 | K70: =S30/$W30*100 -> 34.556121 | L70: =AVERAGE(C70:K70) -> 11.111111
A71: =A51 -> 2002 | C71: =C31/$W31*100 -> 4.7114711 | D71: =E31/$W31*100 -> 0.62263937 | E71: =G31/$W31*100 -> 12.950529 | F71: =I31/$W31*100 -> 3.9444948 | G71: =K31/$W31*100 -> 3.1147498 | H71: =M31/$W31*100 -> 13.47202 | I71: =O31/$W31*100 -> 10.563683 | J71: =Q31/$W31*100 -> 16.542922 | K71: =S31/$W31*100 -> 34.077491 | L71: =AVERAGE(C71:K71) -> 11.111111
A72: =A52 -> 2003 | C72: =C32/$W32*100 -> 4.8057053 | D72: =E32/$W32*100 -> 0.56073349 | E72: =G32/$W32*100 -> 12.506599 | F72: =I32/$W32*100 -> 3.8579001 | G72: =K32/$W32*100 -> 3.205235 | H72: =M32/$W32*100 -> 13.553776 | I72: =O32/$W32*100 -> 10.964305 | J72: =Q32/$W32*100 -> 16.537298 | K72: =S32/$W32*100 -> 34.008449 | L72: =AVERAGE(C72:K72) -> 11.111111
A73: =A53 -> 2004 | C73: =C33/$W33*100 -> 4.6608872 | D73: =E33/$W33*100 -> 0.54557805 | E73: =G33/$W33*100 -> 12.548705 | F73: =I33/$W33*100 -> 3.9596857 | G73: =K33/$W33*100 -> 3.3640902 | H73: =M33/$W33*100 -> 13.697967 | I73: =O33/$W33*100 -> 10.94934 | J73: =Q33/$W33*100 -> 17.156459 | K73: =S33/$W33*100 -> 33.117289 | L73: =AVERAGE(C73:K73) -> 11.111111
A74: =A54 -> 2005 | C74: =C34/$W34*100 -> 4.2392229 | D74: =E34/$W34*100 -> 0.48583421 | E74: =G34/$W34*100 -> 12.462236 | F74: =I34/$W34*100 -> 3.9537166 | G74: =K34/$W34*100 -> 3.5733893 | H74: =M34/$W34*100 -> 13.682652 | I74: =O34/$W34*100 -> 10.892259 | J74: =Q34/$W34*100 -> 17.513618 | K74: =S34/$W34*100 -> 33.197072 | L74: =AVERAGE(C74:K74) -> 11.111111
A75: =A55 -> 2006 | C75: =C35/$W35*100 -> 4.1627899 | D75: =E35/$W35*100 -> 0.46706606 | E75: =G35/$W35*100 -> 12.48314 | F75: =I35/$W35*100 -> 3.90006 | G75: =K35/$W35*100 -> 3.6265241 | H75: =M35/$W35*100 -> 13.789943 | I75: =O35/$W35*100 -> 10.864001 | J75: =Q35/$W35*100 -> 17.629694 | K75: =S35/$W35*100 -> 33.076781 | L75: =AVERAGE(C75:K75) -> 11.111111
A76: =A56 -> 2007 | C76: =C36/$W36*100 -> 4.1632945 | D76: =E36/$W36*100 -> 0.45214898 | E76: =G36/$W36*100 -> 12.206064 | F76: =I36/$W36*100 -> 3.8037582 | G76: =K36/$W36*100 -> 3.8700836 | H76: =M36/$W36*100 -> 13.569938 | I76: =O36/$W36*100 -> 10.936505 | J76: =Q36/$W36*100 -> 17.656077 | K76: =S36/$W36*100 -> 33.34213 | L76: =AVERAGE(C76:K76) -> 11.111111
... A82: =A62 -> 2013 | C82: =C42/$W42*100 -> 4.835374 | D82: =E42/$W42*100 -> 0.41011619 | E82: =G42/$W42*100 -> 10.455584 | F82: =I42/$W42*100 -> 3.0910246 | G82: =K42/$W42*100 -> 4.1561011 | H82: =M42/$W42*100 -> 13.068368 | I82: =O42/$W42*100 -> 10.376711 | J82: =Q42/$W42*100 -> 17.838174 | K82: =S42/$W42*100 -> 35.768548 | L82: =AVERAGE(C82:K82) -> 11.111111
A84: Average | C84: =AVERAGE(C65:C82) -> 4.6554901 | D84: =AVERAGE(D65:D82) -> 0.54794397 | E84: =AVERAGE(E65:E82) -> 12.302424 | F84: =AVERAGE(F65:F82) -> 3.7729739 | G84: =AVERAGE(G65:G82) -> 3.8257854 | H84: =AVERAGE(H65:H82) -> 13.21787 | I84: =AVERAGE(I65:I82) -> 10.359153 | J84: =AVERAGE(J65:J82) -> 17.043213 | K84: =AVERAGE(K65:K82) -> 34.275147
A85: Deviation | C85: =C82-C65 -> 0.043389045 | D85: =D82-D65 -> -0.3887269 | E85: =E82-E65 -> -3.2932511 | F85: =F82-F65 -> -1.2560162 | G85: =G82-G65 -> 0.076390499 | H85: =H82-H65 -> 0.56886719 | I85: =I82-I65 -> 1.438504 | J85: =J82-J65 -> 2.4331547 | K85: =K82-K65 -> 0.37768882
A86: Std Dev | C86: =STDEV(C65:C82) -> 0.22908918 | D86: =STDEV(D65:D82) -> 0.17372431 | E86: =STDEV(E65:E82) -> 1.1182403 | F86: =STDEV(F65:F82) -> 0.4228295 | G86: =STDEV(G65:G82) -> 0.42021417 | H86: =STDEV(H65:H82) -> 0.43956073 | I86: =STDEV(I65:I82) -> 0.63582068 | J86: =STDEV(J65:J82) -> 0.93090345 | K86: =STDEV(K65:K82) -> 0.79488814
C90: 1996 | D90: 1999 | E90: 2003 | F90: 2006 | G90: 2008 | H90: =A79 -> 2010 | I90: 2011 | J90: 2012 | K90: Average | L90: Deviation | M90: Std Dev
A91: Agriculture, forestry and fishing | C91: {=TRANSPOSE(C65:K65)} -> 4.7919849 | D91: {=TRANSPOSE(C68:K68)} -> 4.576983 | E91: {=TRANSPOSE(C72:K72)} -> 4.8057053 | F91: {=TRANSPOSE(C75:K75)} -> 4.1627899 | G91: {=TRANSPOSE(C77:K77)} -> 4.7701269 | H91: {=TRANSPOSE(C79:K79)} -> 4.5795979 | I91: {=TRANSPOSE(C80:K80)} -> 4.8383913 | J91: {=TRANSPOSE(C82:K82)} -> 4.835374 | K91: =AVERAGE(C91:J91) -> 4.6701191 | L91: =J91-C91 -> 0.043389045 | M91: =STDEV(C91:J91) -> 0.23087179
A92: Mining and quarrying | C92: 0.79884309 | D92: 0.66430334 | E92: 0.56073349 | F92: 0.46706606 | G92: 0.382438 | H92: 0.37866373 | I92: 0.35236837 | J92: 0.41011619 | K92: =AVERAGE(C92:J92) -> 0.50181653 | L92: =J92-C92 -> -0.3887269 | M92: =STDEV(C92:J92) -> 0.16011919
A93: Manufacturing | C93: 13.748835 | D93: 13.399082 | E93: 12.506599 | F93: 12.48314 | G93: 11.871976 | H93: 11.077459 | I93: 10.881435 | J93: 10.455584 | K93: =AVERAGE(C93:J93) -> 12.053014 | L93: =J93-C93 -> -3.2932511 | M93: =STDEV(C93:J93) -> 1.1944706
A94: Electricity, gas and water | C94: 4.3470408 | D94: 4.0823916 | E94: 3.8579001 | F94: 3.90006 | G94: 3.4519498 | H94: 3.2769807 | I94: 3.1955132 | J94: 3.0910246 | K94: =AVERAGE(C94:J94) -> 3.6503576 | L94: =J94-C94 -> -1.2560162 | M94: =STDEV(C94:J94) -> 0.45918545
A95: Construction | C95: 4.0797106 | D95: 3.4373164 | E95: 3.205235 | F95: 3.6265241 | G95: 4.0439769 | H95: 4.390314 | I95: 4.2263118 | J95: 4.1561011 | K95: =AVERAGE(C95:J95) -> 3.8956862 | L95: =J95-C95 -> 0.076390499 | M95: =STDEV(C95:J95) -> 0.42035954
A96: Wholesale & retail trade; hotels & restaurants | C96: 12.499501 | D96: 13.143683 | E96: 13.553776 | F96: 13.789943 | G96: 13.009143 | H96: 13.332204 | I96: 13.400161 | J96: 13.068368 | K96: =AVERAGE(C96:J96) -> 13.224597 | L96: =J96-C96 -> 0.56886719 | M96: =STDEV(C96:J96) -> 0.39161136
A97: Transport , storage and communication | C97: 8.9382068 | D97: 9.893756 | E97: 10.964305 | F97: 10.864001 | G97: 10.800908 | H97: 10.797612 | I97: 10.628082 | J97: 10.376711 | K97: =AVERAGE(C97:J97) -> 10.407948 | L97: =J97-C97 -> 1.438504 | M97: =STDEV(C97:J97) -> 0.68637136
A98: Finance, real estate and business services | C98: 15.40502 | D98: 16.645919 | E98: 16.537298 | F98: 17.629694 | G98: 17.888907 | H98: 18.021363 | I98: 18.069211 | J98: 17.838174 | K98: =AVERAGE(C98:J98) -> 17.254448 | L98: =J98-C98 -> 2.4331547 | M98: =STDEV(C98:J98) -> 0.95924657
A99: Personal and General Government Services | C99: 35.390859 | D99: 34.156565 | E99: 34.008449 | F99: 33.076781 | G99: 33.780575 | H99: 34.145805 | I99: 34.408527 | J99: 35.768548 | K99: =AVERAGE(C99:J99) -> 34.342014 | L99: =J99-C99 -> 0.37768882 | M99: =STDEV(C99:J99) -> 0.86517384
A102: Diversity | C102: Agriculture, forestry and fishing | D102: Mining and quarrying | E102: Manufacturing | F102: Electricity, gas and water | G102: Construction | H102: Wholesale & retail trade; hotels & restaurants | I102: Transport , storage and communication | J102: Finance, real estate and business services | K102: Personal and General Government Services | L102: Average
A103: =A65 -> 1996 | C103: =C4/($W4-C4) -> 0.0058081769 | D103: =E4/($W4-E4) -> 0.00017837893 | E103: =G4/($W4-G4) -> 0.022402106 | F103: =I4/($W4-I4) -> 0.0014478169 | G103: =K4/($W4-K4) -> 0.007495042 | H103: =M4/($W4-M4) -> 0.019704999 | I103: =O4/($W4-O4) -> 0.0047868667 | J103: =Q4/($W4-Q4) -> 0.02486795 | K103: =S4/($W4-S4) -> 0.032198078 | L103: =AVERAGE(C103:K103) -> 0.013209935
A104: =A66 -> 1997 | C104: =C5/($W5-C5) -> 0.0067287592 | D104: =E5/($W5-E5) -> 0.00015207839 | E104: =G5/($W5-G5) -> 0.02232811 | F104: =I5/($W5-I5) -> 0.0012115041 | G104: =K5/($W5-K5) -> 0.0064616154 | H104: =M5/($W5-M5) -> 0.019927719 | I104: =O5/($W5-O5) -> 0.004570619 | J104: =Q5/($W5-Q5) -> 0.023968628 | K104: =S5/($W5-S5) -> 0.029699478 | L104: =AVERAGE(C104:K104) -> 0.012783168
A105: =A67 -> 1998 | C105: =C6/($W6-C6) -> 0.0086193088 | D105: =E6/($W6-E6) -> 0.00015103475 | E105: =G6/($W6-G6) -> 0.022655056 | F105: =I6/($W6-I6) -> 0.0010900578 | G105: =K6/($W6-K6) -> 0.0056099362 | H105: =M6/($W6-M6) -> 0.019655372 | I105: =O6/($W6-O6) -> 0.0043639436 | J105: =Q6/($W6-Q6) -> 0.022182565 | K105: =S6/($W6-S6) -> 0.028784085 | L105: =AVERAGE(C105:K105) -> 0.012567929
A106: =A68 -> 1999 | C106: =C7/($W7-C7) -> 0.0093421313 | D106: =E7/($W7-E7) -> 0.00014967089 | E106: =G7/($W7-G7) -> 0.022768002 | F106: =I7/($W7-I7) -> 0.0010075019 | G106: =K7/($W7-K7) -> 0.0050176506 | H106: =M7/($W7-M7) -> 0.018839407 | I106: =O7/($W7-O7) -> 0.0040168837 | J106: =Q7/($W7-Q7) -> 0.020109128 | K106: =S7/($W7-S7) -> 0.028206037 | L106: =AVERAGE(C106:K106) -> 0.012161824
A107: =A69 -> 2000 | C107: =C8/($W8-C8) -> 0.0089454847 | D107: =E8/($W8-E8) -> 0.0001403794 | E107: =G8/($W8-G8) -> 0.023130745 | F107: =I8/($W8-I8) -> 0.001005341 | G107: =K8/($W8-K8) -> 0.0048633293 | H107: =M8/($W8-M8) -> 0.018392995 | I107: =O8/($W8-O8) -> 0.0036066024 | J107: =Q8/($W8-Q8) -> 0.018504548 | K107: =S8/($W8-S8) -> 0.0271434 | L107: =AVERAGE(C107:K107) -> 0.011748092
A108: =A70 -> 2001 | C108: =C9/($W9-C9) -> 0.0087616477 | D108: =E9/($W9-E9) -> 0.00010230239 | E108: =G9/($W9-G9) -> 0.023004162 | F108: =I9/($W9-I9) -> 0.0010124665 | G108: =K9/($W9-K9) -> 0.0046898893 | H108: =M9/($W9-M9) -> 0.017791072 | I108: =O9/($W9-O9) -> 0.0032310104 | J108: =Q9/($W9-Q9) -> 0.016424637 | K108: =S9/($W9-S9) -> 0.026500969 | L108: =AVERAGE(C108:K108) -> 0.011279795
A109: =A71 -> 2002 | C109: =C10/($W10-C10) -> 0.0087099097 | D109: =E10/($W10-E10) -> 8.1141288e-05 | E109: =G10/($W10-G10) -> 0.022070936 | F109: =I10/($W10-I10) -> 0.00099135961 | G109: =K10/($W10-K10) -> 0.0045218147 | H109: =M10/($W10-M10) -> 0.017348912 | I109: =O10/($W10-O10) -> 0.0029679133 | J109: =Q10/($W10-Q10) -> 0.014766413 | K109: =S10/($W10-S10) -> 0.02636828 | L109: =AVERAGE(C109:K109) -> 0.010869631
A110: =A72 -> 2003 | C110: =C11/($W11-C11) -> 0.0084876634 | D110: =E11/($W11-E11) -> 0.00011429267 | E110: =G11/($W11-G11) -> 0.020689765 | F110: =I11/($W11-I11) -> 0.0009249129 | G110: =K11/($W11-K11) -> 0.0044234464 | H110: =M11/($W11-M11) -> 0.017261917 | I110: =O11/($W11-O11) -> 0.0029328546 | J110: =Q11/($W11-Q11) -> 0.014202565 | K110: =S11/($W11-S11) -> 0.027011164 | L110: =AVERAGE(C110:K110) -> 0.010672064
A111: =A73 -> 2004 | C111: =C12/($W12-C12) -> 0.007684842 | D111: =E12/($W12-E12) -> 0.0002100257 | E111: =G12/($W12-G12) -> 0.019569617 | F111: =I12/($W12-I12) -> 0.00080414329 | G111: =K12/($W12-K12) -> 0.0044937404 | H111: =M12/($W12-M12) -> 0.017041946 | I111: =O12/($W12-O12) -> 0.0030485794 | J111: =Q12/($W12-Q12) -> 0.0143997 | K111: =S12/($W12-S12) -> 0.027455325 | L111: =AVERAGE(C111:K111) -> 0.010523102
A112: =A74 -> 2005 | C112: =C13/($W13-C13) -> 0.0067296381 | D112: =E13/($W13-E13) -> 0.00022096041 | E112: =G13/($W13-G13) -> 0.018809809 | F112: =I13/($W13-I13) -> 0.00072703257 | G112: =K13/($W13-K13) -> 0.0047205522 | H112: =M13/($W13-M13) -> 0.01700849 | I112: =O13/($W13-O13) -> 0.0031887097 | J112: =Q13/($W13-Q13) -> 0.015050621 | K112: =S13/($W13-S13) -> 0.027332277 | L112: =AVERAGE(C112:K112) -> 0.010420899
A113: =A75 -> 2006 | C113: =C14/($W14-C14) -> 0.0062979388 | D113: =E14/($W14-E14) -> 0.00026307995 | E113: =G14/($W14-G14) -> 0.01810306 | F113: =I14/($W14-I14) -> 0.00066920791 | G113: =K14/($W14-K14) -> 0.0048827877 | H113: =M14/($W14-M14) -> 0.01764649 | I113: =O14/($W14-O14) -> 0.0031689147 | J113: =Q14/($W14-Q14) -> 0.015561178 | K113: =S14/($W14-S14) -> 0.026995943 | L113: =AVERAGE(C113:K113) -> 0.010398733
A114: =A76 -> 2007 | C114: =C15/($W15-C15) -> 0.0067122222 | D114: =E15/($W15-E15) -> 0.00026127911 | E114: =G15/($W15-G15) -> 0.017384145 | F114: =I15/($W15-I15) -> 0.00059197843 | G114: =K15/($W15-K15) -> 0.005270776 | H114: =M15/($W15-M15) -> 0.017910685 | I114: =O15/($W15-O15) -> 0.003153001 | J114: =Q15/($W15-Q15) -> 0.015902889 | K114: =S15/($W15-S15) -> 0.026791738 | L114: =AVERAGE(C114:K114) -> 0.010442079
... A120: =A82 -> 2013 | C120: =C21/($W21-C21) -> 0.0056982858 | D120: =E21/($W21-E21) -> 0.00010848827 | E120: =G21/($W21-G21) -> 0.017097159 | F120: =I21/($W21-I21) -> 0.00060588581 | G120: =K21/($W21-K21) -> 0.0074462307 | H120: =M21/($W21-M21) -> 0.016825158 | I120: =O21/($W21-O21) -> 0.0038703315 | J120: =Q21/($W21-Q21) -> 0.015800032 | K120: =S21/($W21-S21) -> 0.035355577 | L120: =AVERAGE(C120:K120) -> 0.011423016
A122: Average | C122: =AVERAGE(C103:C120) -> 0.0073169553 | D122: =AVERAGE(D103:D120) -> 0.00015919682 | E122: =AVERAGE(E103:E120) -> 0.0198773 | F122: =AVERAGE(F103:F120) -> 0.00081777619 | G122: =AVERAGE(G103:G120) -> 0.0058317732 | H122: =AVERAGE(H103:H120) -> 0.017754842 | I122: =AVERAGE(I103:I120) -> 0.0036504855 | J122: =AVERAGE(J103:J120) -> 0.01733363 | K122: =AVERAGE(K103:K120) -> 0.029004058
A123: Deviation | C123: =C120-C103 -> -0.00010989111 | D123: =D120-D103 -> -6.9890663e-05 | E123: =E120-E103 -> -0.005304947 | F123: =F120-F103 -> -0.00084193108 | G123: =G120-G103 -> -4.8811282e-05 | H123: =H120-H103 -> -0.0028798414 | I123: =I120-I103 -> -0.00091653523 | J123: =J120-J103 -> -0.009067918 | K123: =K120-K103 -> 0.0031574984
A124: Std Dev | C124: =STDEV(C103:C120) -> 0.0012066769 | D124: =STDEV(D103:D120) -> 5.4550026e-05 | E124: =STDEV(E103:E120) -> 0.0024226102 | F124: =STDEV(F103:F120) -> 0.00028159645 | G124: =STDEV(G103:G120) -> 0.0012124838 | H124: =STDEV(H103:H120) -> 0.0011061641 | I124: =STDEV(I103:I120) -> 0.00056688877 | J124: =STDEV(J103:J120) -> 0.0032569953 | K124: =STDEV(K103:K120) -> 0.0027010737
A127: Gross Operating Surplus | B127: Agriculture | D127: Mining | F127: Manufacturing | H127: Electricity | J127: Construction | L127: Trade | N127: Transport | P127: Finance | R127: Community services | V127: Total
A128: (Current prices, R 1000) | B128: SA | C128: MA | D128: SA | E128: =C128 -> MA | F128: SA | G128: =E128 -> MA | H128: SA | I128: =G128 -> MA | J128: SA | K128: =I128 -> MA | L128: SA | M128: =K128 -> MA | N128: SA | O128: =M128 -> MA | P128: SA | Q128: =O128 -> MA | R128: SA | S128: =Q128 -> MA | V128: SA | W128: MA
A129: =A103 -> 1996 | B129: 17560327 | C129: 290361.95 | D129: 18976218 | E129: 14373.515 | F129: 58115900 | G129: 389643.69 | H129: 12065890 | I129: 116722.53 | J129: 8399069.6 | K129: 103289.77 | L129: 43493839 | M129: 441393.99 | N129: 30182081 | O129: 495377.33 | P129: 57814507 | Q129: 555298.97 | R129: 25480060 | S129: 312125.51 | V129: =B129+D129+F129+H129+J129+L129+N129+P129+R129+T129 -> 2.7208789e+08 | W129: =C129+E129+G129+I129+K129+M129+O129+Q129+S129+U129 -> 2718587.2
A130: =A104 -> 1997 | B130: 18528280 | C130: 312372.23 | D130: 18635466 | E130: 17707.302 | F130: 65421119 | G130: 452093.6 | H130: 12769359 | I130: 123357.6 | J130: 10003011 | K130: 124823.34 | L130: 46300799 | M130: 466868.09 | N130: 34515716 | O130: 558102.95 | P130: 67927541 | Q130: 642044.75 | R130: 28182008 | S130: 325535.3 | V130: =B130+D130+F130+H130+J130+L130+N130+P130+R130+T130 -> 3.022833e+08 | W130: =C130+E130+G130+I130+K130+M130+O130+Q130+S130+U130 -> 3022905.2
A131: =A105 -> 1998 | B131: 17916444 | C131: 338284.33 | D131: 22398461 | E131: 19771.309 | F131: 63378598 | G131: 401760.04 | H131: 13241811 | I131: 135479.13 | J131: 10023104 | K131: 117583.59 | L131: 47594051 | M131: 475069.25 | N131: 38510154 | O131: 606229.58 | P131: 73014485 | Q131: 690120.29 | R131: 31996570 | S131: 385669.55 | V131: =B131+D131+F131+H131+J131+L131+N131+P131+R131+T131 -> 3.1807368e+08 | W131: =C131+E131+G131+I131+K131+M131+O131+Q131+S131+U131 -> 3169967.1
...

Sheet RBay
A1: Richards Bay
A2: Number of formally employed people | B2: Agriculture | D2: Mining | F2: Manufacturing | H2: Electricity | J2: Construction | L2: Trade | N2: Transport | P2: Finance | R2: Community services | T2: Private Households | V2: Total | X2: Year-on-Year MA | Y2: Total-Private Households | AB2: Unemployment Rate | AC2: Number of Claims for Unemployment Benefits
B3: SA | C3: MA | D3: SA | E3: MA | F3: SA | G3: =E3 -> MA | H3: SA | I3: =E3 -> MA | J3: SA | K3: =E3 -> MA | L3: SA | M3: =K3 -> MA | N3: SA | O3: =M3 -> MA | P3: SA | Q3: =O3 -> MA | R3: SA | S3: =Q3 -> MA | T3: SA | U3: =S3 -> MA | V3: SA | W3: =U3 -> MA | Y3: SA | Z3: MA
A4: 1996 | B4: 703854.59 | C4: 2923.3262 | D4: 568517 | E4: 1060.6824 | F4: 1355479 | G4: 6024.8204 | H4: 63025.655 | I4: 308.55459 | J4: 518672.12 | K4: 2533.4956 | L4: 1177993.9 | M4: 5047.6545 | N4: 301013.4 | O4: 1978.6791 | P4: 1306983.8 | Q4: 1306983.8 | R4: 1529686.3 | S4: 8206.7725 | T4: 836533.22 | U4: 2616.9638 | V4: =B4+D4+F4+H4+J4+L4+N4+P4+R4+T4 -> 8361758.9 | W4: =C4+E4+G4+I4+K4+M4+O4+Q4+S4+U4 -> 1337684.7 | Y4: =V4-T4 -> 7525225.7 | Z4: =W4-U4 -> 1335067.8 | AA4: =A4 -> 1996 | AB4: 0.20515751
A5: 1997 | B5: 711281.23 | C5: 3495.482 | D5: 552238 | E5: 906.76638 | F5: 1352516.7 | G5: 6566.3442 | H5: 63531.35 | I5: 303.51042 | J5: 460858.22 | K5: 2513.0219 | L5: 1228186 | M5: 5872.5004 | N5: 307418.47 | O5: 2229.1307 | P5: 1319891.1 | Q5: 1319891.1 | R5: 1561880.4 | S5: 8323.323 | T5: 852369.51 | U5: 2857.9642 | V5: =B5+D5+F5+H5+J5+L5+N5+P5+R5+T5 -> 8410171 | W5: =C5+E5+G5+I5+K5+M5+O5+Q5+S5+U5 -> 1352959.1 | X5: =(W5-W4)/W4*100 -> 1.1418533 | Y5: =V5-T5 -> 7557801.5 | Z5: =W5-U5 -> 1350101.2 | AA5: =A5 -> 1997 | AB5: 0.20297855
A6: 1998 | B6: 791221.21 | C6: 4764.7637 | D6: 465851 | E6: 907.55211 | F6: 1406350.7 | G6: 7490.4189 | H6: 65002.767 | I6: 313.22122 | J6: 436147.92 | K6: 2559.7731 | L6: 1353315.9 | M6: 6709.0975 | N6: 322947.92 | O6: 2504.5713 | P6: 1375150.4 | Q6: 1375150.4 | R6: 1670045.8 | S6: 8966.0965 | T6: 897301.7 | U6: 3168.7228 | V6: =B6+D6+F6+H6+J6+L6+N6+P6+R6+T6 -> 8783335.4 | W6: =C6+E6+G6+I6+K6+M6+O6+Q6+S6+U6 -> 1412534.6 | X6: =(W6-W5)/W5*100 -> 4.4033464 | Y6: =V6-T6 -> 7886033.7 | Z6: =W6-U6 -> 1409365.9 | AA6: =A6 -> 1998 | AB6: 0.23355184
A7: 1999 | B7: 881755.63 | C7: 5702.2456 | D7: 436254 | E7: 902.57101 | F7: 1475811.7 | G7: 8849.446 | H7: 66129.372 | I7: 342.85975 | J7: 428586.03 | K7: 2764.1776 | L7: 1502656 | M7: 7605.6048 | N7: 336290.61 | O7: 2784.1635 | P7: 1427349.6 | Q7: 1427349.6 | R7: 1794919.4 | S7: 10111.879 | T7: 980440.25 | U7: 3796.2251 | V7: =B7+D7+F7+H7+J7+L7+N7+P7+R7+T7 -> 9330192.6 | W7: =C7+E7+G7+I7+K7+M7+O7+Q7+S7+U7 -> 1470208.8 | X7: =(W7-W6)/W6*100 -> 4.0830293 | Y7: =V7-T7 -> 8349752.4 | Z7: =W7-U7 -> 1466412.6 | AA7: =A7 -> 1999 | AB7: 0.20535481
A8: 2000 | B8: 920416.9 | C8: 5842.4426 | D8: 417717 | E8: 913.84074 | F8: 1523397.4 | G8: 10314.294 | H8: 67451.036 | I8: 402.78568 | J8: 425359.67 | K8: 3149.0333 | L8: 1604108.8 | M8: 8525.7477 | N8: 337470.11 | O8: 2959.431 | P8: 1446131.6 | Q8: 1446131.6 | R8: 1875478.7 | S8: 10753.215 | T8: 1044533.1 | U8: 4492.5024 | V8: =B8+D8+F8+H8+J8+L8+N8+P8+R8+T8 -> 9662064.2 | W8: =C8+E8+G8+I8+K8+M8+O8+Q8+S8+U8 -> 1493484.9 | X8: =(W8-W7)/W7*100 -> 1.5831828 | Y8: =V8-T8 -> 8617531.2 | Z8: =W8-U8 -> 1488992.4 | AA8: =A8 -> 2000 | AB8: 0.22479926
A9: 2001 | B9: 925809.1 | C9: 5752.3547 | D9: 406654 | E9: 912.90394 | F9: 1521127.6 | G9: 11303.53 | H9: 66016.15 | I9: 448.84973 | J9: 412768.85 | K9: 3408.1016 | L9: 1619956 | M9: 8949.872 | N9: 321752.6 | O9: 2987.2007 | P9: 1417840.1 | Q9: 1417840.1 | R9: 1896927.6 | S9: 11000.201 | T9: 1075200.4 | U9: 4986.236 | V9: =B9+D9+F9+H9+J9+L9+N9+P9+R9+T9 -> 9664052.4 | W9: =C9+E9+G9+I9+K9+M9+O9+Q9+S9+U9 -> 1467589.4 | X9: =(W9-W8)/W8*100 -> -1.733901 | Y9: =V9-T9 -> 8588852 | Z9: =W9-U9 -> 1462603.1 | AA9: =A9 -> 2001 | AB9: 0.24137161
A10: 2002 | B10: 901032.93 | C10: 5552.5759 | D10: 416153 | E10: 1006.4173 | F10: 1510292.6 | G10: 11583.536 | H10: 65272.915 | I10: 470.1481 | J10: 407925.8 | K10: 3541.7443 | L10: 1604065.2 | M10: 9181.5282 | N10: 309063.81 | O10: 2963.1735 | P10: 1396300.5 | Q10: 1396300.5 | R10: 1917953.2 | S10: 11145.465 | T10: 1084534.5 | U10: 5347.2211 | V10: =B10+D10+F10+H10+J10+L10+N10+P10+R10+T10 -> 9612594.4 | W10: =C10+E10+G10+I10+K10+M10+O10+Q10+S10+U10 -> 1447092.3 | X10: =(W10-W9)/W9*100 -> -1.3966475 | Y10: =V10-T10 -> 8528059.9 | Z10: =W10-U10 -> 1441745.1 | AA10: =A10 -> 2002 | AB10: 0.2711334
A11: 2003 | B11: 866424.44 | C11: 5190.707 | D11: 433700 | E11: 1160.0844 | F11: 1506047.6 | G11: 11425.292 | H11: 66548.603 | I11: 462.03385 | J11: 420938.08 | K11: 3647.9754 | L11: 1605128.1 | M11: 9469.931 | N11: 316992.92 | O11: 3076.1601 | P11: 1422605 | Q11: 1422605 | R11: 1970648.2 | S11: 11465.239 | T11: 1090127.6 | U11: 5825.9169 | V11: =B11+D11+F11+H11+J11+L11+N11+P11+R11+T11 -> 9699160.5 | W11: =C11+E11+G11+I11+K11+M11+O11+Q11+S11+U11 -> 1474328.4 | X11: =(W11-W10)/W10*100 -> 1.8821236 | Y11: =V11-T11 -> 8609033 | Z11: =W11-U11 -> 1468502.5 | AA11: =A11 -> 2003 | AB11: 0.2793495 | AC11: =[3]Input!B91*12 -> 12906.083
A12: 2004 | B12: 810822.02 | C12: 4515.4507 | D12: 455367 | E12: 1615.9797 | F12: 1498631.9 | G12: 11312.03 | H12: 64939.049 | I12: 418.99582 | J12: 450923.77 | K12: 3861.341 | L12: 1642333.4 | M12: 9489.3786 | N12: 338781.03 | O12: 3352.1266 | P12: 1499357.5 | Q12: 1499357.5 | R12: 2019317.1 | S12: 11576.72 | T12: 1099705.2 | U12: 6007.6765 | V12: =B12+D12+F12+H12+J12+L12+N12+P12+R12+T12 -> 9880178.1 | W12: =C12+E12+G12+I12+K12+M12+O12+Q12+S12+U12 -> 1551507.2 | X12: =(W12-W11)/W11*100 -> 5.2348441 | Y12: =V12-T12 -> 8780472.8 | Z12: =W12-U12 -> 1545499.5 | AA12: =A12 -> 2004 | AB12: 0.25552738 | AC12: =[3]Input!B92*12 -> 12552
A13: 2005 | B13: 754767.3 | C13: 3895.122 | D13: 443266.67 | E13: 1762.0342 | F13: 1497055.4 | G13: 11423.798 | H13: 66405.731 | I13: 391.92479 | J13: 501270.28 | K13: 4254.4183 | L13: 1726098.4 | M13: 9715.1313 | N13: 372217.02 | O13: 3673.6199 | P13: 1633160.5 | Q13: 1633160.5 | R13: 2074656 | S13: 11612.602 | T13: 1133282.6 | U13: 5745.7425 | V13: =B13+D13+F13+H13+J13+L13+N13+P13+R13+T13 -> 10202180 | W13: =C13+E13+G13+I13+K13+M13+O13+Q13+S13+U13 -> 1685634.9 | X13: =(W13-W12)/W12*100 -> 8.6449956 | Y13: =V13-T13 -> 9068897.3 | Z13: =W13-U13 -> 1679889.1 | AA13: =A13 -> 2005 | AB13: 0.2503926 | AC13: =[3]Input!B93*12 -> 13254
A14: 2006 | B14: 723504.68 | C14: 3644.7388 | D14: 495012.07 | E14: 1758.9864 | F14: 1509624.6 | G14: 11578.357 | H14: 68997.644 | I14: 378.91446 | J14: 549938.33 | K14: 4628.6589 | L14: 1836571.6 | M14: 10687.317 | N14: 404317.46 | O14: 3828.5503 | P14: 1772783 | Q14: 1772783 | R14: 2131739.6 | S14: 11725.324 | T14: 1190086.3 | U14: 5645.0086 | V14: =B14+D14+F14+H14+J14+L14+N14+P14+R14+T14 -> 10682575 | W14: =C14+E14+G14+I14+K14+M14+O14+Q14+S14+U14 -> 1826658.9 | X14: =(W14-W13)/W13*100 -> 8.3662234 | Y14: =V14-T14 -> 9492489.1 | Z14: =W14-U14 -> 1821013.9 | AA14: =A14 -> 2006 | AB14: 0.23471659 | AC14: =[3]Input!B92*12 -> 12552
A15: 2007 | B15: 707106.97 | C15: 3798.2484 | D15: 498860 | E15: 1566.3392 | F15: 1538274.3 | G15: 11506.798 | H15: 72387.04 | I15: 351.64242 | J15: 594056.23 | K15: 5162.4013 | L15: 1947939.3 | M15: 11294.501 | N15: 436327.44 | O15: 3947.1476 | P15: 1902435.7 | Q15: 1902435.7 | R15: 2232646.8 | S15: 11813.62 | T15: 1247990.2 | U15: 6108.2236 | V15: =B15+D15+F15+H15+J15+L15+N15+P15+R15+T15 -> 11178024 | W15: =C15+E15+G15+I15+K15+M15+O15+Q15+S15+U15 -> 1957984.7 | X15: =(W15-W14)/W14*100 -> 7.189399 | Y15: =V15-T15 -> 9930033.9 | Z15: =W15-U15 -> 1951876.4 | AA15: =A15 -> 2007 | AB15: 0.21648488 | AC15: =[3]Input!B93*12 -> 13254
A16: 2008 | B16: 675492.09 | C16: 3877.3551 | D16: 522252 | E16: 1562.0208 | F16: 1550239.8 | G16: 11232.728 | H16: 75165.678 | I16: 299.06045 | J16: 615921.99 | K16: 5903.1833 | L16: 2008505.8 | M16: 10751.53 | N16: 459391.97 | O16: 4062.4519 | P16: 1966518 | Q16: 1966518 | R16: 2329483.6 | S16: 11826.689 | T16: 1266144.5 | U16: 6602.9786 | V16: =B16+D16+F16+H16+J16+L16+N16+P16+R16+T16 -> 11469115 | W16: =C16+E16+G16+I16+K16+M16+O16+Q16+S16+U16 -> 2022636 | X16: =(W16-W15)/W15*100 -> 3.3019343 | Y16: =V16-T16 -> 10202971 | Z16: =W16-U16 -> 2016033.1 | AA16: =A16 -> 2008 | AB16: 0.18309884 | AC16: 12685
A17: 2009 | B17: 635860.92 | C17: 3569.4519 | D17: 488246.5 | E17: 1491.731 | F17: 1532096 | G17: 10892.001 | H17: 76497.69 | I17: 261.88206 | J17: 618198.13 | K17: 6475.5499 | L17: 2012084.8 | M17: 9810.5174 | N17: 477486.75 | O17: 4260.5211 | P17: 1974363.1 | Q17: 1974363.1 | R17: 2413014.4 | S17: 11793.997 | T17: 1244185.4 | U17: 6466.3645 | V17: =B17+D17+F17+H17+J17+L17+N17+P17+R17+T17 -> 11472034 | W17: =C17+E17+G17+I17+K17+M17+O17+Q17+S17+U17 -> 2029385.1 | X17: =(W17-W16)/W16*100 -> 0.33367581 | Y17: =V17-T17 -> 10227848 | Z17: =W17-U17 -> 2022918.7 | AA17: =A17 -> 2009 | AB17: 0.17367122 | AC17: 15937
A18: 2010 | B18: 593549.26 | C18: 3092.5655 | D18: 500205 | E18: 1575.4785 | F18: 1501996.3 | G18: 10676.006 | H18: 78883.563 | I18: 283.37902 | J18: 610746.9 | K18: 6689.767 | L18: 1982873.9 | M18: 8984.6681 | N18: 494654.75 | O18: 4400.7263 | P18: 1943276.8 | Q18: 1943276.8 | R18: 2482881 | S18: 11762.794 | T18: 1208393.3 | U18: 6002.5456 | V18: =B18+D18+F18+H18+J18+L18+N18+P18+R18+T18 -> 11397461 | W18: =C18+E18+G18+I18+K18+M18+O18+Q18+S18+U18 -> 1996744.7 | X18: =(W18-W17)/W17*100 -> -1.6083853 | Y18: =V18-T18 -> 10189067 | Z18: =W18-U18 -> 1990742.2 | AA18: =A18 -> 2010 | AB18: 0.16666125 | AC18: 11062
A19: 2011 | B19: 585473.4 | C19: 2698.8773 | D19: 513850 | E19: 1610.1745 | F19: 1473881.8 | G19: 10510.652 | H19: 82517.295 | I19: 326.43655 | J19: 599612.27 | K19: 6523.5744 | L19: 1975812.2 | M19: 8489.4339 | N19: 509455.8 | O19: 4437.6019 | P19: 1942607 | Q19: 1942607 | R19: 2547933.3 | S19: 11635.097 | T19: 1171947.3 | U19: 5710.1122 | V19: =B19+D19+F19+H19+J19+L19+N19+P19+R19+T19 -> 11403090 | W19: =C19+E19+G19+I19+K19+M19+O19+Q19+S19+U19 -> 1994548.9 | X19: =(W19-W18)/W18*100 -> -0.10996967 | Y19: =V19-T19 -> 10231143 | Z19: =W19-U19 -> 1988838.8 | AA19: =A19 -> 2011 | AB19: 0.15890542 | AC19: 9702
A20: 2012 | B20: 595139.04 | C20: 2541.3079 | D20: 534858.5 | E20: 1828.5796 | F20: 1462996.5 | G20: 10359.135 | H20: 86597.377 | I20: 329.28105 | J20: 597515.36 | K20: 6465.9078 | L20: 2002960.4 | M20: 8544.3144 | N20: 527788.42 | O20: 4591.4022 | P20: 1973116.4 | Q20: 1973116.4 | R20: 2626423.4 | S20: 12343.004 | T20: 1160315.1 | U20: 5693.3147 | V20: =B20+D20+F20+H20+J20+L20+N20+P20+R20+T20 -> 11567710 | W20: =C20+E20+G20+I20+K20+M20+O20+Q20+S20+U20 -> 2025812.6 | X20: =(W20-W19)/W19*100 -> 1.5674562 | Y20: =V20-T20 -> 10407395 | Z20: =W20-U20 -> 2020119.3 | AA20: =A20 -> 2012 | AB20: 0.162 | AC20: 11246
A21: 2013 | B21: 611101.83 | C21: 2491.6212 | D21: 511799.5 | E21: 1987.1054 | F21: 1474495.9 | G21: 10163.79 | H21: 92296.313 | I21: 338.67141 | J21: 608551.06 | K21: 6620.7828 | L21: 2051382.8 | M21: 8631.7561 | N21: 549625.58 | O21: 4679.5824 | P21: 2021307.6 | Q21: 2021307.6 | R21: 2709590.5 | S21: 12932.869 | T21: 1164561.3 | U21: 5795.117 | V21: =B21+D21+F21+H21+J21+L21+N21+P21+R21+T21 -> 11794712 | W21: =C21+E21+G21+I21+K21+M21+O21+Q21+S21+U21 -> 2074948.9 | X21: =(W21-W20)/W20*100 -> 2.4255084 | Y21: =V21-T21 -> 10630151 | Z21: =W21-U21 -> 2069153.8 | AA21: =A21 -> 2013
A23: Gross Value Added by Region (GVA-R) | B23: Agriculture | D23: Mining | F23: Manufacturing | H23: Electricity | J23: Construction | L23: Trade | N23: Transport | P23: Finance | R23: Community services | V23: Total | X23: Year-on-Year MA
A24: Constant 2000 prices (R 1000) | B24: =B3 -> SA | C24: =C3 -> MA | D24: =D3 -> SA | E24: =E3 -> MA | F24: =F3 -> SA | G24: =G3 -> MA | H24: =H3 -> SA | I24: =I3 -> MA | ... S24: =S3 -> MA | V24: =V3 -> SA | W24: =W3 -> MA
A25: =A4 -> 1996 | B25: 49257652 | C25: 336072.77 | D25: 2.2697097e+08 | E25: 991675.77 | F25: 2.4827192e+08 | G25: 3214866 | H25: 55369589 | I25: 80301.801 | J25: 42049913 | K25: 253871.84 | L25: 2.1520877e+08 | M25: 518054.82 | N25: 1.0753266e+08 | O25: 820041.7 | P25: 2.5378508e+08 | Q25: 710368.62 | R25: 3.9884691e+08 | S25: 1337130.7 | V25: =B25+D25+F25+H25+J25+L25+N25+P25+R25+T25 -> 1.5972935e+09 | W25: =C25+E25+G25+I25+K25+M25+O25+Q25+S25+U25 -> 8262384.1
A26: =A5 -> 1997 | B26: 49809600 | C26: 334802.41 | D26: 2.3133399e+08 | E26: 1028244.1 | F26: 2.5553255e+08 | G26: 3617760.5 | H26: 57654742 | I26: 88204.738 | J26: 43497575 | K26: 294592.85 | L26: 2.1654187e+08 | M26: 574927.94 | N26: 1.1595804e+08 | O26: 941225.22 | P26: 2.6630921e+08 | Q26: 801941 | R26: 4.0210158e+08 | S26: 1323321.9 | V26: =B26+D26+F26+H26+J26+L26+N26+P26+R26+T26 -> 1.6387392e+09 | W26: =C26+E26+G26+I26+K26+M26+O26+Q26+S26+U26 -> 9005020.7 | X26: =(W26-W25)/W25*100 -> 8.9881633
A27: =A6 -> 1998 | B27: 47231155 | C27: 341393.11 | D27: 2.3140379e+08 | E27: 1120334.2 | F27: 2.5535378e+08 | G27: 3775017.9 | H27: 54092886 | I27: 85184.41 | J27: 40933665 | K27: 277582 | L27: 2.1964274e+08 | M27: 617422.57 | N27: 1.2249514e+08 | O27: 1035326.2 | P27: 2.727948e+08 | Q27: 884590.21 | R27: 4.0614539e+08 | S27: 1356041.1 | V27: =B27+D27+F27+H27+J27+L27+N27+P27+R27+T27 -> 1.6500933e+09 | W27: =C27+E27+G27+I27+K27+M27+O27+Q27+S27+U27 -> 9492891.7 | X27: =(W27-W26)/W26*100 -> 5.4177666
A28: =A7 -> 1999 | B28: 50334126 | C28: 332388.26 | D28: 2.2895853e+08 | E28: 1231285.8 | F28: 2.577803e+08 | G28: 4066184.9 | H28: 54009813 | I28: 86389.069 | J28: 40378050 | K28: 278941.5 | L28: 2.3715843e+08 | M28: 708250.92 | N28: 1.2931355e+08 | O28: 1139010.9 | P28: 2.8773445e+08 | Q28: 995977.07 | R28: 4.088056e+08 | S28: 1330321.6 | V28: =B28+D28+F28+H28+J28+L28+N28+P28+R28+T28 -> 1.6944729e+09 | W28: =C28+E28+G28+I28+K28+M28+O28+Q28+S28+U28 -> 10168750 | X28: =(W28-W27)/W27*100 -> 7.1196253
A29: =A8 -> 2000 | B29: 52957608 | C29: 346842.52 | D29: 2.2754761e+08 | E29: 1340409.3 | F29: 2.8002356e+08 | G29: 4516449.2 | H29: 55956494 | I29: 93465.392 | J29: 42659101 | K29: 303495.2 | L29: 2.5762228e+08 | M29: 797270.59 | N29: 1.4073161e+08 | O29: 1254558 | P29: 2.9833727e+08 | Q29: 1044940.6 | R29: 4.1299825e+08 | S29: 1351507.2 | V29: =B29+D29+F29+H29+J29+L29+N29+P29+R29+T29 -> 1.7688338e+09 | W29: =C29+E29+G29+I29+K29+M29+O29+Q29+S29+U29 -> 11048938 | X29: =(W29-W28)/W28*100 -> 8.6558133
A30: =A9 -> 2001 | B30: 51410651 | C30: 349729.57 | D30: 2.2821072e+08 | E30: 1484374.2 | F30: 2.9011657e+08 | G30: 4603233.6 | H30: 54097233 | I30: 93128.675 | J30: 44760336 | K30: 378610.96 | L30: 2.6354566e+08 | M30: 860901.35 | N30: 1.496187e+08 | O30: 1319050.3 | P30: 3.2396844e+08 | Q30: 1079299.7 | R30: 4.1423992e+08 | S30: 1378592.6 | V30: =B30+D30+F30+H30+J30+L30+N30+P30+R30+T30 -> 1.8199682e+09 | W30: =C30+E30+G30+I30+K30+M30+O30+Q30+S30+U30 -> 11546921 | X30: =(W30-W29)/W29*100 -> 4.5070668
A31: =A10 -> 2002 | B31: 54930997 | C31: 360284.54 | D31: 2.3124491e+08 | E31: 1643918.8 | F31: 2.9921298e+08 | G31: 4832456.4 | H31: 56173330 | I31: 100765.42 | J31: 47360614 | K31: 308728.47 | L31: 2.7048692e+08 | M31: 881027.86 | N31: 1.6361651e+08 | O31: 1426728.1 | P31: 3.4542526e+08 | Q31: 1196033.2 | R31: 4.2053838e+08 | S31: 1392657.5 | V31: =B31+D31+F31+H31+J31+L31+N31+P31+R31+T31 -> 1.8889899e+09 | W31: =C31+E31+G31+I31+K31+M31+O31+Q31+S31+U31 -> 12142600 | X31: =(W31-W30)/W30*100 -> 5.1587711
A32: =A11 -> 2003 | B32: 55256045 | C32: 379983.91 | D32: 2.3888672e+08 | E32: 1743856 | F32: 2.9445062e+08 | G32: 4655061.1 | H32: 57779450 | I32: 100913.67 | J32: 51001377 | K32: 316351.19 | L32: 2.7745106e+08 | M32: 878419.31 | N32: 1.7384825e+08 | O32: 1483976.5 | P32: 3.6168181e+08 | Q32: 1183208.1 | R32: 4.3501261e+08 | S32: 1432109.1 | V32: =B32+D32+F32+H32+J32+L32+N32+P32+R32+T32 -> 1.9453679e+09 | W32: =C32+E32+G32+I32+K32+M32+O32+Q32+S32+U32 -> 12173879 | X32: =(W32-W31)/W31*100 -> 0.25759502
A33: =A12 -> 2004 | B33: 55822802 | C33: 384294.84 | D33: 2.4289311e+08 | E33: 1851506 | F33: 3.0937203e+08 | G33: 4807554.6 | H33: 61801508 | I33: 110571.1 | J33: 55646823 | K33: 340363 | L33: 2.9290928e+08 | M33: 908266.62 | N33: 1.8264527e+08 | O33: 1521846.2 | P33: 3.8783501e+08 | Q33: 1205098.5 | R33: 4.4386365e+08 | S33: 1462554.4 | V33: =B33+D33+F33+H33+J33+L33+N33+P33+R33+T33 -> 2.0327895e+09 | W33: =C33+E33+G33+I33+K33+M33+O33+Q33+S33+U33 -> 12592055 | X33: =(W33-W32)/W32*100 -> 3.4350296
A34: =A13 -> 2005 | B34: 57495463 | C34: 367546 | D34: 2.4583104e+08 | E34: 1812074.8 | F34: 3.291623e+08 | G34: 5067429.2 | H34: 65223638 | I34: 117257.23 | J34: 62280636 | K34: 384477.99 | L34: 3.1411858e+08 | M34: 960435.92 | N34: 1.9266412e+08 | O34: 1587752.9 | P34: 4.1072103e+08 | Q34: 1381128.5 | R34: 4.6319011e+08 | S34: 1521414.6 | V34: =B34+D34+F34+H34+J34+L34+N34+P34+R34+T34 -> 2.1406869e+09 | W34: =C34+E34+G34+I34+K34+M34+O34+Q34+S34+U34 -> 13199517 | X34: =(W34-W33)/W33*100 -> 4.8241665
A35: =A14 -> 2006 | B35: 54543519 | C35: 375096.88 | D35: 2.4522465e+08 | E35: 1755987.5 | F35: 3.5157204e+08 | G35: 5397966.7 | H35: 67688430 | I35: 121246.7 | J35: 68780384 | K35: 414591.61 | L35: 3.3399857e+08 | M35: 1024911.7 | N35: 2.0322444e+08 | O35: 1661811.1 | P35: 4.5189631e+08 | Q35: 1485382 | R35: 4.81829e+08 | S35: 1578455.5 | V35: =B35+D35+F35+H35+J35+L35+N35+P35+R35+T35 -> 2.2587574e+09 | W35: =C35+E35+G35+I35+K35+M35+O35+Q35+S35+U35 -> 13815450 | X35: =(W35-W34)/W34*100 -> 4.6663267
A36: =A15 -> 2007 | B36: 56168460 | C36: 394088.72 | D36: 2.4366316e+08 | E36: 1808189.3 | F36: 3.7038934e+08 | G36: 5665803.7 | H36: 70000001 | I36: 123142.85 | J36: 79454824 | K36: 473309.12 | L36: 3.5269783e+08 | M36: 1077654.7 | N36: 2.1848843e+08 | O36: 1774498.4 | P36: 4.8467459e+08 | Q36: 1584912.1 | R36: 5.05443e+08 | S36: 1649094.6 | V36: =B36+D36+F36+H36+J36+L36+N36+P36+R36+T36 -> 2.3809796e+09 | W36: =C36+E36+G36+I36+K36+M36+O36+Q36+S36+U36 -> 14550694 | X36: =(W36-W35)/W35*100 -> 5.3218964
A37: =A16 -> 2008 | B37: 67071610 | C37: 467388.39 | D37: 2.306635e+08 | E37: 1660340.4 | F37: 3.7896409e+08 | G37: 5761302.5 | H37: 67522000 | I37: 116677.52 | J37: 87300371 | K37: 516712.52 | L37: 3.5888034e+08 | M37: 1086550.5 | N37: 2.2613587e+08 | O37: 1808933.4 | P37: 5.1171648e+08 | Q37: 1640131.2 | R37: 530984210 | S37: 1720916.4 | V37: =B37+D37+F37+H37+J37+L37+N37+P37+R37+T37 -> 2.4592385e+09 | W37: =C37+E37+G37+I37+K37+M37+O37+Q37+S37+U37 -> 14778953 | X37: =(W37-W36)/W36*100 -> 1.568717
... A42: =A21 -> 2013 | B42: 67880350 | C42: 517110.4 | D42: 2.309084e+08 | E42: 1879978.1 | F42: 3.7893321e+08 | G42: 5045393.6 | H42: 68375000 | I42: 100592.1 | J42: 1.0046818e+08 | K42: 546483.76 | L42: 4.0598271e+08 | M42: 1112396.1 | N42: 2.4706211e+08 | O42: 1728340.5 | P42: 5.7812714e+08 | Q42: 1674843.4 | R42: 6.093806e+08 | S42: 2030765.5 | V42: =B42+D42+F42+H42+J42+L42+N42+P42+R42+T42 -> 2.6871177e+09 | W42: =C42+E42+G42+I42+K42+M42+O42+Q42+S42+U42 -> 14635903 | X42: =(W42-W41)/W41*100 -> 0.30486335
A44: Location Quotients | C44: Agriculture, forestry and fishing | D44: Mining and quarrying | E44: Manufacturing | F44: Electricity, gas and water | G44: Construction | H44: Wholesale & retail trade; hotels & restaurants | I44: Transport , storage and communication | J44: Finance, real estate and business services | K44: Personal and General Government Services | L44: Actual vs Necessary Employment | M44: Agriculture, forestry and fishing | N44: Mining and quarrying | O44: Manufacturing | P44: Electricity, gas and water | Q44: Construction | R44: Wholesale & retail trade; hotels & restaurants | S44: Transport , storage and communication | T44: Finance, real estate and business services | U44: Personal and General Government Services
A45: =A25 -> 1996 | C45: =(C4/$W4)/(B4/$V4) -> 0.025962004 | D45: =(E4/$W4)/(D4/$V4) -> 0.011662342 | E45: =(G4/$W4)/(F4/$V4) -> 0.027784027 | F45: =(I4/$W4)/(H4/$V4) -> 0.030602614 | G45: =(K4/$W4)/(J4/$V4) -> 0.030533115 | H45: =(M4/$W4)/(L4/$V4) -> 0.026784926 | I45: =(O4/$W4)/(N4/$V4) -> 0.041089741 | J45: =(Q4/$W4)/(P4/$V4) -> 6.250919 | K45: =(S4/$W4)/(R4/$V4) -> 0.033536204 | L45: =AVERAGE(C45:K45) -> 0.71987489 | M45: =(1-1/C45)*C4 -> -109676.85 | N45: =(1-1/D45)*E4 -> -89888.664 | O45: =(1-1/E45)*G4 -> -210819.93 | P45: =(1-1/F45)*I4 -> -9774.0676 | Q45: =(1-1/G45)*K4 -> -80441.843 | R45: =(1-1/H45)*M4 -> -183403.66 | S45: =(1-1/I45)*O4 -> -46176.384 | T45: =(1-1/J45)*Q4 -> 1097897.1 | U45: =(1-1/K45)*S4 -> -236507.05 | V45: =AVERAGE(M45:U45) -> 14578.742
A46: =A26 -> 1997 | C46: =(C5/$W5)/(B5/$V5) -> 0.030548217 | D46: =(E5/$W5)/(D5/$V5) -> 0.010206792 | E46: =(G5/$W5)/(F5/$V5) -> 0.030178744 | F46: =(I5/$W5)/(H5/$V5) -> 0.029696527 | G46: =(K5/$W5)/(J5/$V5) -> 0.03389605 | H46: =(M5/$W5)/(L5/$V5) -> 0.02972207 | I46: =(O5/$W5)/(N5/$V5) -> 0.04507396 | J46: =(Q5/$W5)/(P5/$V5) -> 6.2161308 | K46: =(S5/$W5)/(R5/$V5) -> 0.033126009 | L46: =AVERAGE(C46:K46) -> 0.71761991 | M46: =(1-1/C46)*C5 -> -110929.59 | N46: =(1-1/D46)*E5 -> -87932.741 | O46: =(1-1/E46)*G5 -> -211015.41 | P46: =(1-1/F46)*I5 -> -9916.8906 | Q46: =(1-1/G46)*K5 -> -71626.057 | R46: =(1-1/H46)*M5 -> -191707.97 | S46: =(1-1/I46)*O5 -> -47225.825 | T46: =(1-1/J46)*Q5 -> 1107557.9 | U46: =(1-1/K46)*S5 -> -242939.15 | V46: =AVERAGE(M46:U46) -> 14918.248
A47: =A27 -> 1998 | C47: =(C6/$W6)/(B6/$V6) -> 0.03744586 | D47: =(E6/$W6)/(D6/$V6) -> 0.012113926 | E47: =(G6/$W6)/(F6/$V6) -> 0.033118666 | F47: =(I6/$W6)/(H6/$V6) -> 0.029962615 | G47: =(K6/$W6)/(J6/$V6) -> 0.036494552 | H47: =(M6/$W6)/(L6/$V6) -> 0.030826575 | I47: =(O6/$W6)/(N6/$V6) -> 0.048223782 | J47: =(Q6/$W6)/(P6/$V6) -> 6.2181382 | K47: =(S6/$W6)/(R6/$V6) -> 0.033383772 | L47: =AVERAGE(C47:K47) -> 0.71996754 | M47: =(1-1/C47)*C6 -> -122479.31 | N47: =(1-1/D47)*E6 -> -74010.532 | O47: =(1-1/E47)*G6 -> -218678.68 | P47: =(1-1/F47)*I6 -> -10140.514 | Q47: =(1-1/G47)*K6 -> -67581.467 | R47: =(1-1/H47)*M6 -> -210930.96 | S47: =(1-1/I47)*O6 -> -49431.863 | T47: =(1-1/J47)*Q6 -> 1153998.9 | U47: =(1-1/K47)*S6 -> -259610.4 | V47: =AVERAGE(M47:U47) -> 15681.688
A48: =A28 -> 1999 | C48: =(C7/$W7)/(B7/$V7) -> 0.041040181 | D48: =(E7/$W7)/(D7/$V7) -> 0.013129662 | E48: =(G7/$W7)/(F7/$V7) -> 0.038053685 | F48: =(I7/$W7)/(H7/$V7) -> 0.032902864 | G48: =(K7/$W7)/(J7/$V7) -> 0.040929791 | H48: =(M7/$W7)/(L7/$V7) -> 0.032120758 | I48: =(O7/$W7)/(N7/$V7) -> 0.052540183 | J48: =(Q7/$W7)/(P7/$V7) -> 6.3461684 | K48: =(S7/$W7)/(R7/$V7) -> 0.035751847 | L48: =AVERAGE(C48:K48) -> 0.7369597 | M48: =(1-1/C48)*C7 -> -133240.75 | N48: =(1-1/D48)*E7 -> -67840.326 | O48: =(1-1/E48)*G7 -> -223702.17 | P48: =(1-1/F48)*I7 -> -10077.502 | Q48: =(1-1/G48)*K7 -> -64770.436 | R48: =(1-1/H48)*M7 -> -229176.01 | S48: =(1-1/I48)*O7 -> -50206.963 | T48: =(1-1/J48)*Q7 -> 1202434.5 | U48: =(1-1/K48)*S7 -> -272723.26 | V48: =AVERAGE(M48:U48) -> 16744.115
A49: =A29 -> 2000 | C49: =(C8/$W8)/(B8/$V8) -> 0.041065674 | D49: =(E8/$W8)/(D8/$V8) -> 0.014153291 | E49: =(G8/$W8)/(F8/$V8) -> 0.043802146 | F49: =(I8/$W8)/(H8/$V8) -> 0.038632648 | G49: =(K8/$W8)/(J8/$V8) -> 0.047894983 | H49: =(M8/$W8)/(L8/$V8) -> 0.034384899 | I49: =(O8/$W8)/(N8/$V8) -> 0.056733814 | J49: =(Q8/$W8)/(P8/$V8) -> 6.4694757 | K49: =(S8/$W8)/(R8/$V8) -> 0.037093284 | L49: =AVERAGE(C49:K49) -> 0.75369293 | M49: =(1-1/C49)*C8 -> -136428.27 | N49: =(1-1/D49)*E8 -> -63653.525 | O49: =(1-1/E49)*G8 -> -225160.34 | P49: =(1-1/F49)*I8 -> -10023.258 | Q49: =(1-1/G49)*K8 -> -62599.675 | R49: =(1-1/H49)*M8 -> -239424.6 | S49: =(1-1/I49)*O8 -> -49204.01 | T49: =(1-1/J49)*Q8 -> 1222600.1 | U49: =(1-1/K49)*S8 -> -279143.34 | V49: =AVERAGE(M49:U49) -> 17440.344
A50: =A30 -> 2001 | C50: =(C9/$W9)/(B9/$V9) -> 0.040914659 | D50: =(E9/$W9)/(D9/$V9) -> 0.014782734 | E50: =(G9/$W9)/(F9/$V9) -> 0.048933148 | F50: =(I9/$W9)/(H9/$V9) -> 0.044771897 | G50: =(K9/$W9)/(J9/$V9) -> 0.054370126 | H50: =(M9/$W9)/(L9/$V9) -> 0.036380472 | I50: =(O9/$W9)/(N9/$V9) -> 0.061136007 | J50: =(Q9/$W9)/(P9/$V9) -> 6.584984 | K50: =(S9/$W9)/(R9/$V9) -> 0.038186036 | L50: =AVERAGE(C50:K50) -> 0.76938434 | M50: =(1-1/C50)*C9 -> -134841.62 | N50: =(1-1/D50)*E9 -> -60841.84 | O50: =(1-1/E50)*G9 -> -219695.91 | P50: =(1-1/F50)*I9 -> -9576.4062 | Q50: =(1-1/G50)*K9 -> -59275.248 | R50: =(1-1/H50)*M9 -> -237057.71 | S50: =(1-1/I50)*O9 -> -45874.36 | T50: =(1-1/J50)*Q9 -> 1202526 | U50: =(1-1/K50)*S9 -> -277068.47 | V50: =AVERAGE(M50:U50) -> 17588.267
A51: =A31 -> 2002 | C51: =(C10/$W10)/(B10/$V10) -> 0.040935323 | D51: =(E10/$W10)/(D10/$V10) -> 0.016064583 | E51: =(G10/$W10)/(F10/$V10) -> 0.050947684 | F51: =(I10/$W10)/(H10/$V10) -> 0.047846047 | G51: =(K10/$W10)/(J10/$V10) -> 0.057674045 | H51: =(M10/$W10)/(L10/$V10) -> 0.038022209 | I51: =(O10/$W10)/(N10/$V10) -> 0.063687369 | J51: =(Q10/$W10)/(P10/$V10) -> 6.6426961 | K51: =(S10/$W10)/(R10/$V10) -> 0.038601536 | L51: =AVERAGE(C51:K51) -> 0.7773861 | M51: =(1-1/C51)*C10 -> -130090.08 | N51: =(1-1/D51)*E10 -> -61641.79 | O51: =(1-1/E51)*G10 -> -215777.85 | P51: =(1-1/F51)*I10 -> -9356.1204 | Q51: =(1-1/G51)*K10 -> -57867.929 | R51: =(1-1/H51)*M10 -> -232296.5 | S51: =(1-1/I51)*O10 -> -43563.689 | T51: =(1-1/J51)*Q10 -> 1186099.6 | U51: =(1-1/K51)*S10 -> -277585.68 | V51: =AVERAGE(M51:U51) -> 17546.666
A52: =A32 -> 2003 | C52: =(C11/$W11)/(B11/$V11) -> 0.03941266 | D52: =(E11/$W11)/(D11/$V11) -> 0.017597059 | E52: =(G11/$W11)/(F11/$V11) -> 0.049907813 | F52: =(I11/$W11)/(H11/$V11) -> 0.045674603 | G52: =(K11/$W11)/(J11/$V11) -> 0.057012963 | H52: =(M11/$W11)/(L11/$V11) -> 0.038812984 | I52: =(O11/$W11)/(N11/$V11) -> 0.063840944 | J52: =(Q11/$W11)/(P11/$V11) -> 6.5786976 | K52: =(S11/$W11)/(R11/$V11) -> 0.038274888 | L52: =AVERAGE(C52:K52) -> 0.76991461 | M52: =(1-1/C52)*C11 -> -126510.81 | N52: =(1-1/D52)*E11 -> -64764.818 | O52: =(1-1/E52)*G11 -> -217502.63 | P52: =(1-1/F52)*I11 -> -9653.7378 | Q52: =(1-1/G52)*K11 -> -60337.042 | R52: =(1-1/H52)*M11 -> -234518.81 | S52: =(1-1/I52)*O11 -> -45108.593 | T52: =(1-1/J52)*Q11 -> 1206360.9 | U52: =(1-1/K52)*S11 -> -288084.66 | V52: =AVERAGE(M52:U52) -> 17764.418
A53: =A33 -> 2004 | C53: =(C12/$W12)/(B12/$V12) -> 0.035463905 | D53: =(E12/$W12)/(D12/$V12) -> 0.022598797 | E53: =(G12/$W12)/(F12/$V12) -> 0.048068053 | F53: =(I12/$W12)/(H12/$V12) -> 0.041087976 | G53: =(K12/$W12)/(J12/$V12) -> 0.05453132 | H53: =(M12/$W12)/(L12/$V12) -> 0.036794883 | I53: =(O12/$W12)/(N12/$V12) -> 0.063010411 | J53: =(Q12/$W12)/(P12/$V12) -> 6.3681163 | K53: =(S12/$W12)/(R12/$V12) -> 0.036508332 | L53: =AVERAGE(C53:K53) -> 0.74513111 | M53: =(1-1/C53)*C12 -> -122809.8 | N53: =(1-1/D53)*E12 -> -69891.351 | O53: =(1-1/E53)*G12 -> -224021.6 | P53: =(1-1/F53)*I12 -> -9778.5329 | Q53: =(1-1/G53)*K12 -> -66948.26 | R53: =(1-1/H53)*M12 -> -248410.03 | S53: =(1-1/I53)*O12 -> -49847.441 | T53: =(1-1/J53)*Q12 -> 1263909.9 | U53: =(1-1/K53)*S12 -> -305521.31 | V53: =AVERAGE(M53:U53) -> 18520.175
A54: =A34 -> 2005 | C54: =(C13/$W13)/(B13/$V13) -> 0.031234709 | D54: =(E13/$W13)/(D13/$V13) -> 0.024059064 | E54: =(G13/$W13)/(F13/$V13) -> 0.04618512 | F54: =(I13/$W13)/(H13/$V13) -> 0.03572125 | G54: =(K13/$W13)/(J13/$V13) -> 0.051368596 | H54: =(M13/$W13)/(L13/$V13) -> 0.034065329 | I54: =(O13/$W13)/(N13/$V13) -> 0.059734806 | J54: =(Q13/$W13)/(P13/$V13) -> 6.0524257 | K54: =(S13/$W13)/(R13/$V13) -> 0.033877621 | L54: =AVERAGE(C54:K54) -> 0.70763024 | M54: =(1-1/C54)*C13 -> -120809.8 | N54: =(1-1/D54)*E13 -> -71475.819 | O54: =(1-1/E54)*G13 -> -235924.21 | P54: =(1-1/F54)*I13 -> -10579.83 | Q54: =(1-1/G54)*K13 -> -78566.967 | R54: =(1-1/H54)*M13 -> -275476.04 | S54: =(1-1/I54)*O13 -> -57825.198 | T54: =(1-1/J54)*Q13 -> 1363324.8 | U54: =(1-1/K54)*S13 -> -331168.31 | V54: =AVERAGE(M54:U54) -> 20166.513
A55: =A35 -> 2006 | C55: =(C14/$W14)/(B14/$V14) -> 0.029460735 | D55: =(E14/$W14)/(D14/$V14) -> 0.020780941 | E55: =(G14/$W14)/(F14/$V14) -> 0.044853513 | F55: =(I14/$W14)/(H14/$V14) -> 0.032116295 | G55: =(K14/$W14)/(J14/$V14) -> 0.04922205 | H55: =(M14/$W14)/(L14/$V14) -> 0.034031362 | I55: =(O14/$W14)/(N14/$V14) -> 0.055377122 | J55: =(Q14/$W14)/(P14/$V14) -> 5.8481502 | K55: =(S14/$W14)/(R14/$V14) -> 0.0321669 | L55: =AVERAGE(C55:K55) -> 0.68290657 | M55: =(1-1/C55)*C14 -> -120070.4 | N55: =(1-1/D55)*E14 -> -82885.227 | O55: =(1-1/E55)*G14 -> -246558.76 | P55: =(1-1/F55)*I14 -> -11419.285 | Q55: =(1-1/G55)*K14 -> -89407.629 | R55: =(1-1/H55)*M14 -> -303355.86 | S55: =(1-1/I55)*O14 -> -65307.406 | T55: =(1-1/J55)*Q14 -> 1469647.3 | U55: =(1-1/K55)*S14 -> -352789.88 | V55: =AVERAGE(M55:U55) -> 21983.655
A56: =A36 -> 2007 | C56: =(C15/$W15)/(B15/$V15) -> 0.030665779 | D56: =(E15/$W15)/(D15/$V15) -> 0.017925154 | E56: =(G15/$W15)/(F15/$V15) -> 0.042704778 | F56: =(I15/$W15)/(H15/$V15) -> 0.027732959 | G56: =(K15/$W15)/(J15/$V15) -> 0.049611226 | H56: =(M15/$W15)/(L15/$V15) -> 0.033101477 | I56: =(O15/$W15)/(N15/$V15) -> 0.0516448 | J56: =(Q15/$W15)/(P15/$V15) -> 5.7089437 | K56: =(S15/$W15)/(R15/$V15) -> 0.030207773 | L56: =AVERAGE(C56:K56) -> 0.66583751 | M56: =(1-1/C56)*C15 -> -120061.26 | N56: =(1-1/D56)*E15 -> -85815.851 | O56: =(1-1/E56)*G15 -> -257943.1 | P56: =(1-1/F56)*I15 -> -12327.943 | Q56: =(1-1/G56)*K15 -> -98894.718 | R56: =(1-1/H56)*M15 -> -329913.87 | S56: =(1-1/I56)*O15 -> -72481.605 | T56: =(1-1/J56)*Q15 -> 1569198 | U56: =(1-1/K56)*S15 -> -379265.18 | V56: =AVERAGE(M56:U56) -> 23610.492
... A59: =A39 -> 2010 | C59: =(C18/$W18)/(B18/$V18) -> 0.029740461 | D59: =(E18/$W18)/(D18/$V18) -> 0.017978358 | E59: =(G18/$W18)/(F18/$V18) -> 0.040571917 | F59: =(I18/$W18)/(H18/$V18) -> 0.020505329 | G59: =(K18/$W18)/(J18/$V18) -> 0.062522347 | H59: =(M18/$W18)/(L18/$V18) -> 0.02586381 | I59: =(O18/$W18)/(N18/$V18) -> 0.050781758 | J59: =(Q18/$W18)/(P18/$V18) -> 5.7080209 | K59: =(S18/$W18)/(R18/$V18) -> 0.027042082 | L59: =AVERAGE(C59:K59) -> 0.66478077 | M59: =(1-1/C59)*C18 -> -100892.56 | N59: =(1-1/D59)*E18 -> -86056.471 | O59: =(1-1/E59)*G18 -> -252461.83 | P59: =(1-1/F59)*I18 -> -13536.396 | Q59: =(1-1/G59)*K18 -> -100308.25 | R59: =(1-1/H59)*M18 -> -338399.11 | S59: =(1-1/I59)*O18 -> -82258.863 | T59: =(1-1/J59)*Q18 -> 1602830.1 | U59: =(1-1/K59)*S18 -> -423218.27 | V59: =AVERAGE(M59:U59) -> 22855.376
A60: =A40 -> 2011 | C60: =(C19/$W19)/(B19/$V19) -> 0.026354442 | D60: =(E19/$W19)/(D19/$V19) -> 0.017914902 | E60: =(G19/$W19)/(F19/$V19) -> 0.040770393 | F60: =(I19/$W19)/(H19/$V19) -> 0.022616826 | G60: =(K19/$W19)/(J19/$V19) -> 0.062200371 | H60: =(M19/$W19)/(L19/$V19) -> 0.02456467 | I60: =(O19/$W19)/(N19/$V19) -> 0.049798893 | J60: =(Q19/$W19)/(P19/$V19) -> 5.7171274 | K60: =(S19/$W19)/(R19/$V19) -> 0.026107172 | M60: =(1-1/C60)*C19 -> -99708.042 | N60: =(1-1/D60)*E19 -> -88268.88 | O60: =(1-1/E60)*G19 -> -247290.45 | P60: =(1-1/F60)*I19 -> -14106.912 | Q60: =(1-1/G60)*K19 -> -98356.417 | R60: =(1-1/H60)*M19 -> -337105.84 | S60: =(1-1/I60)*O19 -> -84672.85 | T60: =(1-1/J60)*Q19 -> 1602819.7 | U60: =(1-1/K60)*S19 -> -434031.6 | V60: =AVERAGE(M60:U60) -> 22142.081
A61: =A41 -> 2012 | C61: =(C20/$W20)/(B20/$V20) -> 0.024382991 | D61: =(E20/$W20)/(D20/$V20) -> 0.019521945 | E61: =(G20/$W20)/(F20/$V20) -> 0.040432292 | F61: =(I20/$W20)/(H20/$V20) -> 0.021712515 | G61: =(K20/$W20)/(J20/$V20) -> 0.061791476 | H61: =(M20/$W20)/(L20/$V20) -> 0.024358637 | I61: =(O20/$W20)/(N20/$V20) -> 0.049674513 | J61: =(Q20/$W20)/(P20/$V20) -> 5.7101581 | K61: =(S20/$W20)/(R20/$V20) -> 0.026835166 | M61: =(1-1/C61)*C20 -> -101683.31 | N61: =(1-1/D61)*E20 -> -91839.317 | O61: =(1-1/E61)*G20 -> -245850.32 | P61: =(1-1/F61)*I20 -> -14836.214 | Q61: =(1-1/G61)*K20 -> -98174.865 | R61: =(1-1/H61)*M20 -> -342227.13 | S61: =(1-1/I61)*O20 -> -87838.335 | T61: =(1-1/J61)*Q20 -> 1627571.4 | U61: =(1-1/K61)*S20 -> -447613.32 | V61: =AVERAGE(M61:U61) -> 21945.4
A62: =A42 -> 2013 | C62: =(C21/$W21)/(B21/$V21) -> 0.023176528 | D62: =(E21/$W21)/(D21/$V21) -> 0.022069933 | E62: =(G21/$W21)/(F21/$V21) -> 0.039182492 | F62: =(I21/$W21)/(H21/$V21) -> 0.020858071 | G62: =(K21/$W21)/(J21/$V21) -> 0.061843246 | H62: =(M21/$W21)/(L21/$V21) -> 0.023918415 | I62: =(O21/$W21)/(N21/$V21) -> 0.048397187 | J62: =(Q21/$W21)/(P21/$V21) -> 5.6843388 | K62: =(S21/$W21)/(R21/$V21) -> 0.027131335 | L62: =AVERAGE(C62:K62) -> 0.66121289 | M62: =(1-1/C62)*C21 -> -105014.61 | N62: =(1-1/D62)*E21 -> -88049.663 | O62: =(1-1/E62)*G21 -> -249232.41 | P62: =(1-1/F62)*I21 -> -15898.277 | Q62: =(1-1/G62)*K21 -> -100436.71 | R62: =(1-1/H62)*M21 -> -352251.52 | S62: =(1-1/I62)*O21 -> -92011.624 | T62: =(1-1/J62)*Q21 -> 1665715.2 | U62: =(1-1/K62)*S21 -> -463743.6 | V62: =AVERAGE(M62:U62) -> 22119.643
A64: Economic Structure | C64: Agriculture, forestry and fishing | D64: Mining and quarrying | E64: Manufacturing | F64: Electricity, gas and water | G64: Construction | H64: Wholesale & retail trade; hotels & restaurants | I64: Transport , storage and communication | J64: Finance, real estate and business services | K64: Personal and General Government Services | L64: Average
A65: =A45 -> 1996 | C65: =C25/$W25*100 -> 4.0675036 | D65: =E25/$W25*100 -> 12.002296 | E65: =G25/$W25*100 -> 38.909666 | F65: =I25/$W25*100 -> 0.97189625 | G65: =K25/$W25*100 -> 3.0726221 | H65: =M25/$W25*100 -> 6.2700404 | I65: =O25/$W25*100 -> 9.9250009 | J65: =Q25/$W25*100 -> 8.5976229 | K65: =S25/$W25*100 -> 16.183352 | L65: =AVERAGE(C65:K65) -> 11.111111
A66: =A46 -> 1997 | C66: =C26/$W26*100 -> 3.7179527 | D66: =E26/$W26*100 -> 11.418564 | E66: =G26/$W26*100 -> 40.174927 | F66: =I26/$W26*100 -> 0.97950623 | G66: =K26/$W26*100 -> 3.2714289 | H66: =M26/$W26*100 -> 6.3845266 | I66: =O26/$W26*100 -> 10.452227 | J66: =Q26/$W26*100 -> 8.9054876 | K66: =S26/$W26*100 -> 14.695379 | L66: =AVERAGE(C66:K66) -> 11.111111
A67: =A47 -> 1998 | C67: =C27/$W27*100 -> 3.5963026 | D67: =E27/$W27*100 -> 11.801822 | E67: =G27/$W27*100 -> 39.766786 | F67: =I27/$W27*100 -> 0.89734944 | G67: =K27/$W27*100 -> 2.9241037 | H67: =M27/$W27*100 -> 6.5040516 | I67: =O27/$W27*100 -> 10.906331 | J67: =Q27/$W27*100 -> 9.3184484 | K67: =S27/$W27*100 -> 14.284805 | L67: =AVERAGE(C67:K67) -> 11.111111
A68: =A48 -> 1999 | C68: =C28/$W28*100 -> 3.2687229 | D68: =E28/$W28*100 -> 12.108526 | E68: =G28/$W28*100 -> 39.987067 | F68: =I28/$W28*100 -> 0.84955446 | G68: =K28/$W28*100 -> 2.7431248 | H68: =M28/$W28*100 -> 6.9649752 | I68: =O28/$W28*100 -> 11.201091 | J68: =Q28/$W28*100 -> 9.7944887 | K68: =S28/$W28*100 -> 13.08245 | L68: =AVERAGE(C68:K68) -> 11.111111
A69: =A49 -> 2000 | C69: =C29/$W29*100 -> 3.139148 | D69: =E29/$W29*100 -> 12.131567 | E69: =G29/$W29*100 -> 40.876772 | F69: =I29/$W29*100 -> 0.84592195 | G69: =K29/$W29*100 -> 2.7468268 | H69: =M29/$W29*100 -> 7.2158119 | I69: =O29/$W29*100 -> 11.354557 | J69: =Q29/$W29*100 -> 9.457385 | K69: =S29/$W29*100 -> 12.23201 | L69: =AVERAGE(C69:K69) -> 11.111111
A70: =A50 -> 2001 | C70: =C30/$W30*100 -> 3.0287691 | D70: =E30/$W30*100 -> 12.855152 | E70: =G30/$W30*100 -> 39.865463 | F70: =I30/$W30*100 -> 0.80652388 | G70: =K30/$W30*100 -> 3.2788911 | H70: =M30/$W30*100 -> 7.4556789 | I70: =O30/$W30*100 -> 11.423395 | J70: =Q30/$W30*100 -> 9.3470781 | K70: =S30/$W30*100 -> 11.939049 | L70: =AVERAGE(C70:K70) -> 11.111111
A71: =A51 -> 2002 | C71: =C31/$W31*100 -> 2.9671119 | D71: =E31/$W31*100 -> 13.538441 | E71: =G31/$W31*100 -> 39.797542 | F71: =I31/$W31*100 -> 0.82985041 | G71: =K31/$W31*100 -> 2.5425236 | H71: =M31/$W31*100 -> 7.2556771 | I71: =O31/$W31*100 -> 11.749774 | J71: =Q31/$W31*100 -> 9.8498936 | K71: =S31/$W31*100 -> 11.469187 | L71: =AVERAGE(C71:K71) -> 11.111111
A72: =A52 -> 2003 | C72: =C32/$W32*100 -> 3.1213051 | D72: =E32/$W32*100 -> 14.324572 | E72: =G32/$W32*100 -> 38.238109 | F72: =I32/$W32*100 -> 0.82893605 | G72: =K32/$W32*100 -> 2.5986064 | H72: =M32/$W32*100 -> 7.2156074 | I72: =O32/$W32*100 -> 12.189841 | J72: =Q32/$W32*100 -> 9.7192369 | K72: =S32/$W32*100 -> 11.763787 | L72: =AVERAGE(C72:K72) -> 11.111111
A73: =A53 -> 2004 | C73: =C33/$W33*100 -> 3.0518833 | D73: =E33/$W33*100 -> 14.703763 | E73: =G33/$W33*100 -> 38.179268 | F73: =I33/$W33*100 -> 0.87810209 | G73: =K33/$W33*100 -> 2.702998 | H73: =M33/$W33*100 -> 7.2130133 | I73: =O33/$W33*100 -> 12.085765 | J73: =Q33/$W33*100 -> 9.5703084 | K73: =S33/$W33*100 -> 11.614898 | L73: =AVERAGE(C73:K73) -> 11.111111
A74: =A54 -> 2005 | C74: =C34/$W34*100 -> 2.7845413 | D74: =E34/$W34*100 -> 13.728342 | E74: =G34/$W34*100 -> 38.39102 | F74: =I34/$W34*100 -> 0.88834483 | G74: =K34/$W34*100 -> 2.9128186 | H74: =M34/$W34*100 -> 7.2762959 | I74: =O34/$W34*100 -> 12.028871 | J74: =Q34/$W34*100 -> 10.463477 | K74: =S34/$W34*100 -> 11.52629 | L74: =AVERAGE(C74:K74) -> 11.111111
A75: =A55 -> 2006 | C75: =C35/$W35*100 -> 2.7150537 | D75: =E35/$W35*100 -> 12.710317 | E75: =G35/$W35*100 -> 39.071958 | F75: =I35/$W35*100 -> 0.87761677 | G75: =K35/$W35*100 -> 3.0009273 | H75: =M35/$W35*100 -> 7.4185912 | I75: =O35/$W35*100 -> 12.028643 | J75: =Q35/$W35*100 -> 10.751601 | K75: =S35/$W35*100 -> 11.425292 | L75: =AVERAGE(C75:K75) -> 11.111111
A76: =A56 -> 2007 | C76: =C36/$W36*100 -> 2.7083845 | D76: =E36/$W36*100 -> 12.426825 | E76: =G36/$W36*100 -> 38.938376 | F76: =I36/$W36*100 -> 0.84630227 | G76: =K36/$W36*100 -> 3.2528286 | H76: =M36/$W36*100 -> 7.4062085 | I76: =O36/$W36*100 -> 12.195284 | J76: =Q36/$W36*100 -> 10.892348 | K76: =S36/$W36*100 -> 11.333443 | L76: =AVERAGE(C76:K76) -> 11.111111
... A82: =A62 -> 2013 | C82: =C42/$W42*100 -> 3.5331635 | D82: =E42/$W42*100 -> 12.844975 | E82: =G42/$W42*100 -> 34.472717 | F82: =I42/$W42*100 -> 0.68729681 | G82: =K42/$W42*100 -> 3.7338574 | H82: =M42/$W42*100 -> 7.6004605 | I82: =O42/$W42*100 -> 11.808909 | J82: =Q42/$W42*100 -> 11.443389 | K82: =S42/$W42*100 -> 13.875232 | L82: =AVERAGE(C82:K82) -> 11.111111
A84: Average | C84: =AVERAGE(C65:C82) -> 3.2487824 | D84: =AVERAGE(D65:D82) -> 12.553944 | E84: =AVERAGE(E65:E82) -> 38.177799 | F84: =AVERAGE(F65:F82) -> 0.82816495 | G84: =AVERAGE(G65:G82) -> 3.2052037 | H84: =AVERAGE(H65:H82) -> 7.2415097 | I84: =AVERAGE(I65:I82) -> 11.690394 | J84: =AVERAGE(J65:J82) -> 10.318045 | K84: =AVERAGE(K65:K82) -> 12.736157
A85: Deviation | C85: =C82-C65 -> -0.53434015 | D85: =D82-D65 -> 0.8426793 | E85: =E82-E65 -> -4.4369488 | F85: =F82-F65 -> -0.28459944 | G85: =G82-G65 -> 0.66123532 | H85: =H82-H65 -> 1.3304201 | I85: =I82-I65 -> 1.8839077 | J85: =J82-J65 -> 2.8457665 | K85: =K82-K65 -> -2.3081205
A86: Std Dev | C86: =STDEV(C65:C82) -> 0.36140078 | D86: =STDEV(D65:D82) -> 0.98642824 | E86: =STDEV(E65:E82) -> 2.0342447 | F86: =STDEV(F65:F82) -> 0.083319673 | G86: =STDEV(G65:G82) -> 0.47446336 | H86: =STDEV(H65:H82) -> 0.44767729 | I86: =STDEV(I65:I82) -> 0.70094821 | J86: =STDEV(J65:J82) -> 1.0436175 | K86: =STDEV(K65:K82) -> 1.357981
C90: 1996 | D90: 1999 | E90: 2003 | F90: 2006 | G90: 2008 | H90: =A79 -> 2010 | I90: 2011 | J90: 2012 | K90: Average | L90: Deviation | M90: Std Dev
A91: Agriculture, forestry and fishing | C91: {=TRANSPOSE(C65:K65)} -> 4.0675036 | D91: {=TRANSPOSE(C68:K68)} -> 3.2687229 | E91: {=TRANSPOSE(C72:K72)} -> 3.1213051 | F91: {=TRANSPOSE(C75:K75)} -> 2.7150537 | G91: {=TRANSPOSE(C77:K77)} -> 3.1625271 | H91: {=TRANSPOSE(C79:K79)} -> 3.2551367 | I91: {=TRANSPOSE(C80:K80)} -> 3.4767356 | J91: {=TRANSPOSE(C82:K82)} -> 3.5331635 | K91: =AVERAGE(C91:J91) -> 3.3250185 | L91: =J91-C91 -> -0.53434015 | M91: =STDEV(C91:J91) -> 0.39017192
A92: Mining and quarrying | C92: 12.002296 | D92: 12.108526 | E92: 14.324572 | F92: 12.710317 | G92: 11.234493 | H92: 12.153938 | I92: 12.246423 | J92: 12.844975 | K92: =AVERAGE(C92:J92) -> 12.453192 | L92: =J92-C92 -> 0.8426793 | M92: =STDEV(C92:J92) -> 0.89930955
A93: Manufacturing | C93: 38.909666 | D93: 39.987067 | E93: 38.238109 | F93: 39.071958 | G93: 38.983158 | H93: 35.74461 | I93: 35.471306 | J93: 34.472717 | K93: =AVERAGE(C93:J93) -> 37.609824 | L93: =J93-C93 -> -4.4369488 | M93: =STDEV(C93:J93) -> 2.0581968
A94: Electricity, gas and water | C94: 0.97189625 | D94: 0.84955446 | E94: 0.82893605 | F94: 0.87761677 | G94: 0.78948438 | H94: 0.74028743 | I94: 0.72551769 | J94: 0.68729681 | K94: =AVERAGE(C94:J94) -> 0.80882373 | L94: =J94-C94 -> -0.28459944 | M94: =STDEV(C94:J94) -> 0.09271196
A95: Construction | C95: 3.0726221 | D95: 2.7431248 | E95: 2.5986064 | F95: 3.0009273 | G95: 3.4962729 | H95: 3.8955433 | I95: 3.7519748 | J95: 3.7338574 | K95: =AVERAGE(C95:J95) -> 3.2866161 | L95: =J95-C95 -> 0.66123532 | M95: =STDEV(C95:J95) -> 0.49677295
A96: Wholesale & retail trade; hotels & restaurants | C96: 6.2700404 | D96: 6.9649752 | E96: 7.2156074 | F96: 7.4185912 | G96: 7.3520128 | H96: 7.6595068 | I96: 7.6781606 | J96: 7.6004605 | K96: =AVERAGE(C96:J96) -> 7.2699193 | L96: =J96-C96 -> 1.3304201 | M96: =STDEV(C96:J96) -> 0.47090157
A97: Transport , storage and communication | C97: 9.9250009 | D97: 11.201091 | E97: 12.189841 | F97: 12.028643 | G97: 12.23993 | H97: 12.198609 | I97: 11.99678 | J97: 11.808909 | K97: =AVERAGE(C97:J97) -> 11.6986 | L97: =J97-C97 -> 1.8839077 | M97: =STDEV(C97:J97) -> 0.79170169
A98: Finance, real estate and business services | C98: 8.5976229 | D98: 9.7944887 | E98: 9.7192369 | F98: 10.751601 | G98: 11.09775 | H98: 11.557764 | I98: 11.543512 | J98: 11.443389 | K98: =AVERAGE(C98:J98) -> 10.56317 | L98: =J98-C98 -> 2.8457665 | M98: =STDEV(C98:J98) -> 1.0831715
A99: Personal and General Government Services | C99: 16.183352 | D99: 13.08245 | E99: 11.763787 | F99: 11.425292 | G99: 11.644373 | H99: 12.794605 | I99: 13.109591 | J99: 13.875232 | K99: =AVERAGE(C99:J99) -> 12.984835 | L99: =J99-C99 -> -2.3081205 | M99: =STDEV(C99:J99) -> 1.5494041
A102: Diversity | C102: Agriculture, forestry and fishing | D102: Mining and quarrying | E102: Manufacturing | F102: Electricity, gas and water | G102: Construction | H102: Wholesale & retail trade; hotels & restaurants | I102: Transport , storage and communication | J102: Finance, real estate and business services | K102: Personal and General Government Services | L102: Average
A103: 1996 | C103: =C4/($W4-C4) -> 0.0021901489 | D103: =E4/($W4-E4) -> 0.00079355325 | E103: =G4/($W4-G4) -> 0.0045242936 | F103: =I4/($W4-I4) -> 0.00023071638 | G103: =K4/($W4-K4) -> 0.0018975345 | H103: =M4/($W4-M4) -> 0.0037877188 | I103: =O4/($W4-O4) -> 0.0014813732 | J103: =Q4/($W4-Q4) -> 42.571446 | K103: =S4/($W4-S4) -> 0.0061729286 | L103: =AVERAGE(C103:K103) -> 4.7325027
A104: 1997 | C104: =C5/($W5-C5) -> 0.002590275 | D104: =E5/($W5-E5) -> 0.00067065921 | E104: =G5/($W5-G5) -> 0.00487699 | F104: =I5/($W5-I5) -> 0.00022438114 | G104: =K5/($W5-K5) -> 0.0018608828 | H104: =M5/($W5-M5) -> 0.0043594082 | I104: =O5/($W5-O5) -> 0.0016503155 | J104: =Q5/($W5-Q5) -> 39.9144 | K104: =S5/($W5-S5) -> 0.0061900203 | L104: =AVERAGE(C104:K104) -> 4.4374247
A105: 1998 | C105: =C6/($W6-C6) -> 0.0033846184 | D105: =E6/($W6-E6) -> 0.0006429121 | E105: =G6/($W6-G6) -> 0.0053310913 | F105: =I6/($W6-I6) -> 0.00022179329 | G105: =K6/($W6-K6) -> 0.0018154743 | H105: =M6/($W6-M6) -> 0.0047723543 | I105: =O6/($W6-O6) -> 0.0017762538 | J105: =Q6/($W6-Q6) -> 36.78425 | K105: =S6/($W6-S6) -> 0.0063880719 | L105: =AVERAGE(C105:K105) -> 4.0898425
A106: 1999 | C106: =C7/($W7-C7) -> 0.0038936293 | D106: =E7/($W7-E7) -> 0.00061428379 | E106: =G7/($W7-G7) -> 0.0060556262 | F106: =I7/($W7-I7) -> 0.0002332592 | G106: =K7/($W7-K7) -> 0.0018836674 | H106: =M7/($W7-M7) -> 0.0052000466 | I106: =O7/($W7-O7) -> 0.0018973128 | J106: =Q7/($W7-Q7) -> 33.303248 | K106: =S7/($W7-S7) -> 0.0069254845 | L106: =AVERAGE(C106:K106) -> 3.7033279
A107: 2000 | C107: =C8/($W8-C8) -> 0.0039273164 | D107: =E8/($W8-E8) -> 0.00061225945 | E107: =G8/($W8-G8) -> 0.0069542197 | F107: =I8/($W8-I8) -> 0.00026976793 | G107: =K8/($W8-K8) -> 0.0021129689 | H107: =M8/($W8-M8) -> 0.0057414022 | I107: =O8/($W8-O8) -> 0.0019854951 | J107: =Q8/($W8-Q8) -> 30.539199 | K107: =S8/($W8-S8) -> 0.0072523001 | L107: =AVERAGE(C107:K107) -> 3.3964505
A108: 2001 | C108: =C9/($W9-C9) -> 0.0039350179 | D108: =E9/($W9-E9) -> 0.00062243035 | E108: =G9/($W9-G9) -> 0.0077618895 | F108: =I9/($W9-I9) -> 0.00030593507 | G108: =K9/($W9-K9) -> 0.0023276501 | H108: =M9/($W9-M9) -> 0.006135767 | I108: =O9/($W9-O9) -> 0.0020395988 | J108: =Q9/($W9-Q9) -> 28.499729 | K108: =S9/($W9-S9) -> 0.0075520271 | L108: =AVERAGE(C108:K108) -> 3.1700455
A109: 2002 | C109: =C10/($W10-C10) -> 0.0038518369 | D109: =E10/($W10-E10) -> 0.00069595959 | E109: =G10/($W10-G10) -> 0.0080692895 | F109: =I10/($W10-I10) -> 0.00032499717 | G109: =K10/($W10-K10) -> 0.0024534951 | H109: =M10/($W10-M10) -> 0.0063853254 | I109: =O10/($W10-O10) -> 0.0020518757 | J109: =Q10/($W10-Q10) -> 27.490662 | K109: =S10/($W10-S10) -> 0.0077617535 | L109: =AVERAGE(C109:K109) -> 3.0580286
