Workbook

Sheet Intro
A1: KZN RISK INDICES | N1: Low or Decreasing Risk
C2: Risk Index | N2: Neutral Risk
C3: KZN GDP vs KZN Risk | N3: High or Increasing Risk
C4: KZN Shift Share Analysis | H4: Risk Index | M4: ='Risk Analysis'!B1 -> KZN | N4: ='Risk Analysis'!C1 -> Durban | O4: ='Risk Analysis'!D1 -> PMB | P4: ='Risk Analysis'!E1 -> Rbay | Q4: ='Risk Analysis'!F1 -> Newcastle | R4: ='Risk Analysis'!G1 -> Port Shepstone | S4: ='Risk Analysis'!H1 -> Ilembe
C5: KZN Comparative Analysis | H5: Decreasing | I5: Neutral | J5: Increasing | L5: ='Risk Analysis'!A170 -> 40909 | M5: ='Risk Analysis'!B170 -> -0.36249622 | N5: ='Risk Analysis'!C170 -> -0.44933508 | O5: ='Risk Analysis'!D170 -> -0.31631908 | P5: ='Risk Analysis'!E170 -> -0.097209194 | Q5: ='Risk Analysis'!F170 -> -0.45729285 | R5: ='Risk Analysis'!G170 -> -0.29518787 | S5: ='Risk Analysis'!H170 -> -0.49512398
C6: KZN Sector Analysis | H6: >0 | I6: =0 -> 0 | J6: <0 | L6: ='Risk Analysis'!A171 -> 40940 | M6: ='Risk Analysis'!B171 -> -2.1957082 | N6: ='Risk Analysis'!C171 -> -2.1745339 | O6: ='Risk Analysis'!D171 -> -1.8315713 | P6: ='Risk Analysis'!E171 -> -2.7186511 | Q6: ='Risk Analysis'!F171 -> -2.1784785 | R6: ='Risk Analysis'!G171 -> -1.9740127 | S6: ='Risk Analysis'!H171 -> -2.5735452
L7: ='Risk Analysis'!A172 -> 40969 | M7: ='Risk Analysis'!B172 -> 0.55980726 | N7: ='Risk Analysis'!C172 -> 0.57039462 | O7: ='Risk Analysis'!D172 -> 0.57930798 | P7: ='Risk Analysis'!E172 -> 0.39561053 | Q7: ='Risk Analysis'!F172 -> 0.6562237 | R7: ='Risk Analysis'!G172 -> 0.53904779 | S7: ='Risk Analysis'!H172 -> 0.72239781
A8: Relative Economic Sector Impact | B8: Rand Dollar (Rand per USD) | C8: Interest Rate (R157 = %) | D8: Inflation (pa %) | E8: Oil Price (USD) | F8: Sugar Price (US cents per pound) | G8: Gold Price (USD) | H8: Credit extended to the domestic private sector (Rm) | I8: Physical volume of electricity production (2005=100) | J8: Total Weights | L8: ='Risk Analysis'!A173 -> 41000 | M8: ='Risk Analysis'!B173 -> -0.073472863 | N8: ='Risk Analysis'!C173 -> 0.0013451693 | O8: ='Risk Analysis'!D173 -> -0.10880482 | P8: ='Risk Analysis'!E173 -> -0.12178109 | Q8: ='Risk Analysis'!F173 -> -0.11371311 | R8: ='Risk Analysis'!G173 -> -0.079150249 | S8: ='Risk Analysis'!H173 -> -0.24553723
A9: Agriculture, forestry and fishing | B9: 0.2 | C9: 0.1 | D9: 0.05 | E9: 0.17 | F9: 0.3 | G9: 0 | H9: 0.1 | I9: 0.08 | J9: =SUM(B9:I9) -> 1 | L9: ='Risk Analysis'!A174 -> 41030 | M9: ='Risk Analysis'!B174 -> 3.4851138 | N9: ='Risk Analysis'!C174 -> 3.6053848 | O9: ='Risk Analysis'!D174 -> 3.0020848 | P9: ='Risk Analysis'!E174 -> 4.1295913 | Q9: ='Risk Analysis'!F174 -> 3.5773203 | R9: ='Risk Analysis'!G174 -> 3.0993975 | S9: ='Risk Analysis'!H174 -> 3.7031821
A10: Mining and quarrying | B10: 0.3 | C10: 0 | D10: 0 | E10: 0.1 | F10: 0 | G10: 0.4 | H10: 0 | I10: 0.2 | J10: =SUM(B10:I10) -> 1 | L10: ='Risk Analysis'!A175 -> 41061 | M10: ='Risk Analysis'!B175 -> 0.71492429 | N10: ='Risk Analysis'!C175 -> 0.77806531 | O10: ='Risk Analysis'!D175 -> 0.68637779 | P10: ='Risk Analysis'!E175 -> 0.54664335 | Q10: ='Risk Analysis'!F175 -> 0.61090671 | R10: ='Risk Analysis'!G175 -> 0.73035252 | S10: ='Risk Analysis'!H175 -> 0.58570413
A11: Manufacturing | B11: 0.35 | C11: 0.2 | D11: 0.05 | E11: 0.1 | F11: 0 | G11: 0 | H11: 0.1 | I11: 0.2 | J11: =SUM(B11:I11) -> 1 | L11: ='Risk Analysis'!A176 -> 41091 | M11: ='Risk Analysis'!B176 -> -0.62857654 | N11: ='Risk Analysis'!C176 -> -0.8185946 | O11: ='Risk Analysis'!D176 -> -0.45228585 | P11: ='Risk Analysis'!E176 -> -0.61738924 | Q11: ='Risk Analysis'!F176 -> -0.60174916 | R11: ='Risk Analysis'!G176 -> -0.48820266 | S11: ='Risk Analysis'!H176 -> -0.37563287
A12: Electricity, gas and water | B12: 0.1 | C12: 0.05 | D12: 0.05 | E12: 0.2 | F12: 0 | G12: 0 | H12: 0.1 | I12: 0.5 | J12: =SUM(B12:I12) -> 1 | L12: ='Risk Analysis'!A177 -> 41122 | M12: ='Risk Analysis'!B177 -> -0.13183843 | N12: ='Risk Analysis'!C177 -> -0.095639605 | O12: ='Risk Analysis'!D177 -> -0.069109901 | P12: ='Risk Analysis'!E177 -> 0.080100025 | Q12: ='Risk Analysis'!F177 -> 0.092511998 | R12: ='Risk Analysis'!G177 -> -0.24461908 | S12: ='Risk Analysis'!H177 -> -0.2612008
A13: Construction | B13: 0.1 | C13: 0.3 | D13: 0.1 | E13: 0.15 | F13: 0 | G13: 0 | H13: 0.3 | I13: 0.05 | J13: =SUM(B13:I13) -> 1 | L13: ='Risk Analysis'!A178 -> 41153 | M13: ='Risk Analysis'!B178 -> -0.21025662 | N13: ='Risk Analysis'!C178 -> -0.19496986 | O13: ='Risk Analysis'!D178 -> -0.15461661 | P13: ='Risk Analysis'!E178 -> -0.25041654 | Q13: ='Risk Analysis'!F178 -> -0.34114628 | R13: ='Risk Analysis'!G178 -> -0.11109369 | S13: ='Risk Analysis'!H178 -> -0.4914161
A14: Wholesale & retail trade; hotels & restaurants | B14: 0.1 | C14: 0.35 | D14: 0.2 | E14: 0.1 | F14: 0 | G14: 0 | H14: 0.25 | I14: 0 | J14: =SUM(B14:I14) -> 1 | L14: ='Risk Analysis'!A179 -> 41183 | M14: ='Risk Analysis'!B179 -> 1.4555391 | N14: ='Risk Analysis'!C179 -> 1.4406115 | O14: ='Risk Analysis'!D179 -> 1.274383 | P14: ='Risk Analysis'!E179 -> 1.7513141 | Q14: ='Risk Analysis'!F179 -> 1.5428518 | R14: ='Risk Analysis'!G179 -> 1.3039346 | S14: ='Risk Analysis'!H179 -> 1.7410189
A15: Transport , storage and communication | B15: 0.1 | C15: 0.2 | D15: 0.1 | E15: 0.3 | F15: 0 | G15: 0 | H15: 0.2 | I15: 0.1 | J15: =SUM(B15:I15) -> 1 | L15: ='Risk Analysis'!A180 -> 41214 | M15: ='Risk Analysis'!B180 -> 0.25115945 | N15: ='Risk Analysis'!C180 -> 0.29470291 | O15: ='Risk Analysis'!D180 -> 0.27398814 | P15: ='Risk Analysis'!E180 -> 0.28665945 | Q15: ='Risk Analysis'!F180 -> 0.31927278 | R15: ='Risk Analysis'!G180 -> 0.21232449 | S15: ='Risk Analysis'!H180 -> 0.12642763
A16: Finance, real estate and business services | B16: 0.1 | C16: 0.35 | D16: 0.1 | E16: 0.1 | F16: 0 | G16: 0 | H16: 0.3 | I16: 0.05 | J16: =SUM(B16:I16) -> 1 | L16: ='Risk Analysis'!A181 -> 41244 | M16: ='Risk Analysis'!B181 -> -0.41413626 | N16: ='Risk Analysis'!C181 -> -0.33806494 | O16: ='Risk Analysis'!D181 -> -0.25322444 | P16: ='Risk Analysis'!E181 -> -0.94751172 | Q16: ='Risk Analysis'!F181 -> -0.46253513 | R16: ='Risk Analysis'!G181 -> -0.31079897 | S16: ='Risk Analysis'!H181 -> -0.61971064
A17: Personal and General Government Services | B17: 0.1 | C17: 0.35 | D17: 0.2 | E17: 0 | F17: 0 | G17: 0 | H17: 0.3 | I17: 0.05 | J17: =SUM(B17:I17) -> 1 | L17: ='Risk Analysis'!A182 -> 41275 | M17: ='Risk Analysis'!B182 -> 0.60209501 | N17: ='Risk Analysis'!C182 -> 0.5438359 | O17: ='Risk Analysis'!D182 -> 0.48712135 | P17: ='Risk Analysis'!E182 -> 1.10603 | Q17: ='Risk Analysis'!F182 -> 0.78049042 | R17: ='Risk Analysis'!G182 -> 0.46154613 | S17: ='Risk Analysis'!H182 -> 0.83869324
L18: ='Risk Analysis'!A183 -> 41306 | M18: ='Risk Analysis'!B183 -> -0.72416288 | N18: ='Risk Analysis'!C183 -> -0.60501807 | O18: ='Risk Analysis'!D183 -> -0.59485599 | P18: ='Risk Analysis'!E183 -> -1.3454416 | Q18: ='Risk Analysis'!F183 -> -0.82304783 | R18: ='Risk Analysis'!G183 -> -0.58485044 | S18: ='Risk Analysis'!H183 -> -1.0087646
L19: ='Risk Analysis'!A184 -> 41334 | M19: ='Risk Analysis'!B184 -> 2.2420901 | N19: ='Risk Analysis'!C184 -> 2.1931849 | O19: ='Risk Analysis'!D184 -> 1.9989046 | P19: ='Risk Analysis'!E184 -> 2.863875 | Q19: ='Risk Analysis'!F184 -> 2.3591979 | R19: ='Risk Analysis'!G184 -> 1.9965941 | S19: ='Risk Analysis'!H184 -> 2.5576354
L20: ='Risk Analysis'!A185 -> 41365 | M20: ='Risk Analysis'!B185 -> -0.31584536 | N20: ='Risk Analysis'!C185 -> -0.1714637 | O20: ='Risk Analysis'!D185 -> -0.2401804 | P20: ='Risk Analysis'!E185 -> -0.92995062 | Q20: ='Risk Analysis'!F185 -> -0.39436956 | R20: ='Risk Analysis'!G185 -> -0.26473182 | S20: ='Risk Analysis'!H185 -> -0.54534016
L21: ='Risk Analysis'!A186 -> 41395 | M21: ='Risk Analysis'!B186 -> 2.2899653 | N21: ='Risk Analysis'!C186 -> 2.253606 | O21: ='Risk Analysis'!D186 -> 1.9855957 | P21: ='Risk Analysis'!E186 -> 2.9300012 | Q21: ='Risk Analysis'!F186 -> 2.4958816 | R21: ='Risk Analysis'!G186 -> 2.0332268 | S21: ='Risk Analysis'!H186 -> 2.7602331
L22: ='Risk Analysis'!A187 -> 41426 | M22: ='Risk Analysis'!B187 -> -0.45845093 | N22: ='Risk Analysis'!C187 -> -0.32030364 | O22: ='Risk Analysis'!D187 -> -0.3115649 | P22: ='Risk Analysis'!E187 -> -1.2077605 | Q22: ='Risk Analysis'!F187 -> -0.37344653 | R22: ='Risk Analysis'!G187 -> -0.44926866 | S22: ='Risk Analysis'!H187 -> -0.51737618
L23: ='Risk Analysis'!A188 -> 41456 | M23: ='Risk Analysis'!B188 -> -0.18650697 | N23: ='Risk Analysis'!C188 -> -0.30050759 | O23: ='Risk Analysis'!D188 -> -0.24300048 | P23: ='Risk Analysis'!E188 -> 0.42988255 | Q23: ='Risk Analysis'!F188 -> -0.15176951 | R23: ='Risk Analysis'!G188 -> -0.26267541 | S23: ='Risk Analysis'!H188 -> -0.13048858
L24: ='Risk Analysis'!A189 -> 41487 | M24: ='Risk Analysis'!B189 -> 0.1567378 | N24: ='Risk Analysis'!C189 -> 0.046944097 | O24: ='Risk Analysis'!D189 -> 0.16064517 | P24: ='Risk Analysis'!E189 -> 0.60232029 | Q24: ='Risk Analysis'!F189 -> 0.30361894 | R24: ='Risk Analysis'!G189 -> 0.14226191 | S24: ='Risk Analysis'!H189 -> 0.31936895
L25: ='Risk Analysis'!A190 -> 41518 | M25: ='Risk Analysis'!B190 -> 0.14547158 | N25: ='Risk Analysis'!C190 -> 0.22198285 | O25: ='Risk Analysis'!D190 -> 0.22580008 | P25: ='Risk Analysis'!E190 -> -0.44238435 | Q25: ='Risk Analysis'!F190 -> -0.0012284421 | R25: ='Risk Analysis'!G190 -> 0.29226131 | S25: ='Risk Analysis'!H190 -> 0.0097374449
L26: ='Risk Analysis'!A191 -> 41548 | M26: ='Risk Analysis'!B191 -> 0.20104552 | N26: ='Risk Analysis'!C191 -> 0.13383719 | O26: ='Risk Analysis'!D191 -> 0.20931215 | P26: ='Risk Analysis'!E191 -> 0.20484868 | Q26: ='Risk Analysis'!F191 -> 0.15896327 | R26: ='Risk Analysis'!G191 -> 0.23748521 | S26: ='Risk Analysis'!H191 -> 0.34377714
L27: ='Risk Analysis'!A192 -> 41579 | M27: ='Risk Analysis'!B192 -> -0.15479105 | N27: ='Risk Analysis'!C192 -> -0.056271541 | O27: ='Risk Analysis'!D192 -> -0.070718044 | P27: ='Risk Analysis'!E192 -> -0.50651583 | Q27: ='Risk Analysis'!F192 -> -0.055389812 | R27: ='Risk Analysis'!G192 -> -0.15910962 | S27: ='Risk Analysis'!H192 -> -0.25306089
L28: ='Risk Analysis'!A193 -> 41609 | M28: ='Risk Analysis'!B193 -> 0.19895975 | N28: ='Risk Analysis'!C193 -> 0.28827098 | O28: ='Risk Analysis'!D193 -> 0.19476724 | P28: ='Risk Analysis'!E193 -> 0.10865789 | Q28: ='Risk Analysis'!F193 -> 0.2857292 | R28: ='Risk Analysis'!G193 -> 0.12180109 | S28: ='Risk Analysis'!H193 -> 0.099746664
L29: ='Risk Analysis'!A194 -> 41640 | M29: ='Risk Analysis'!B194 -> 1.9622277 | N29: ='Risk Analysis'!C194 -> 1.9289095 | O29: ='Risk Analysis'!D194 -> 1.6093515 | P29: ='Risk Analysis'!E194 -> 2.9125206 | Q29: ='Risk Analysis'!F194 -> 2.0886296 | R29: ='Risk Analysis'!G194 -> 1.6457089 | S29: ='Risk Analysis'!H194 -> 2.2407853
... L40: ='Risk Analysis'!A205 -> 41987 | M40: ='Risk Analysis'!B205 -> 3.0580751 | N40: ='Risk Analysis'!C205 -> 3.1902751 | O40: ='Risk Analysis'!D205 -> 2.4828967 | P40: ='Risk Analysis'!E205 -> 3.5339805 | Q40: ='Risk Analysis'!F205 -> 2.7318252 | R40: ='Risk Analysis'!G205 -> 2.8705499 | S40: ='Risk Analysis'!H205 -> 3.0672869

Sheet Notes
A1: Economic Indicator | B1: Unit | C1: Movement | D1: Decreasing Risk | E1: Increasing Risk | F1: Source
A2: Rand Dollar Exchange Rate | B2: Rand per 1USD | C2: Appreciate or Depreciate | D2: Depreciate | E2: Appreciate | F2: Sharenet
A3: Interest Rate | B3: Percentage R157 Bond | C3: Increase or Decrease | D3: Decrease | E3: Increase | F3: Sharenet
A4: Inflation Rate | B4: Percentage Per Annum | C4: Increase or Decrease | D4: Decrease | E4: Increase | F4: Stats SA
A5: Oil Price | B5: USD per Barrel | C5: Increase or Decrease | D5: Decrease | E5: Increase | F5: Sharenet
A6: Sugar Price | B6: US cents per pound | C6: Increase or Decrease | D6: Increase | E6: Decrease | F6: Indexmundi
A7: Gold Price | B7: USD per Ounce | C7: Increase or Decrease | D7: Increase | E7: Decrease | F7: Sharenet
A8: Credit extended to the domestic private sector | B8: Rand million | C8: Increase or Decrease | D8: Increase | E8: Decrease | F8: SARB
A9: Physical volume of electricity production | B9: Index, 2005=100 | C9: Increase or Decrease | D9: Increase | E9: Decrease | F9: Stats SA
A12: Risk Index Interpretation
A14: Positive Numbers | B14: Low or Decreasing Risk
A15: Zero | B15: Neutral Risk
A16: Negative Numbers | B16: High or Increasing Risk

Sheet KZN
A1: KwaZulu-Natal
A2: Number of formally employed people | B2: Agriculture | D2: Mining | F2: Manufacturing | H2: Electricity | J2: Construction | L2: Trade | N2: Transport | P2: Finance | R2: Community services | T2: Private Households | V2: Total | X2: Year-on-Year MA | Y2: Total-Private Households
B3: SA | C3: KZN | D3: SA | E3: =C3 -> KZN | F3: SA | G3: =E3 -> KZN | H3: SA | I3: =G3 -> KZN | J3: SA | K3: =I3 -> KZN | L3: SA | M3: =K3 -> KZN | N3: SA | O3: =M3 -> KZN | P3: SA | Q3: =O3 -> KZN | R3: SA | S3: =Q3 -> KZN | T3: SA | U3: =S3 -> KZN | V3: SA | W3: =U3 -> KZN | Y3: SA | Z3: MA
A4: 1996 | B4: 703854.59 | C4: 98940.196 | D4: 568517 | E4: 11139.037 | F4: 1355479 | G4: 283178.41 | H4: 63025.655 | I4: 10891.294 | J4: 518672.12 | K4: 91918.312 | L4: 1177993.9 | M4: 211871.42 | N4: 301013.4 | O4: 59647.697 | P4: 1306983.8 | Q4: 207515.93 | R4: 1529686.3 | S4: 274282.96 | T4: 836533.22 | U4: 134039.59 | V4: =B4+D4+F4+H4+J4+L4+N4+P4+R4+T4 -> 8361758.9 | W4: =C4+E4+G4+I4+K4+M4+O4+Q4+S4+U4 -> 1383424.8 | Y4: =V4-T4 -> 7525225.7 | Z4: =W4-U4 -> 1249385.3
A5: 1997 | B5: 711281.23 | C5: 109294.43 | D5: 552238 | E5: 9628.7897 | F5: 1352516.7 | G5: 285639.35 | H5: 63531.35 | I5: 9690.1855 | J5: 460858.22 | K5: 80691.5 | L5: 1228186 | M5: 222932.69 | N5: 307418.47 | O5: 60141.472 | P5: 1319891.1 | Q5: 214385.71 | R5: 1561880.4 | S5: 261629.1 | T5: 852369.51 | U5: 135605.48 | V5: =B5+D5+F5+H5+J5+L5+N5+P5+R5+T5 -> 8410171 | W5: =C5+E5+G5+I5+K5+M5+O5+Q5+S5+U5 -> 1389638.7 | X5: =(W5-W4)/W4*100 -> 0.44916598 | Y5: =V5-T5 -> 7557801.5 | Z5: =W5-U5 -> 1254033.2
A6: 1998 | B6: 791221.21 | C6: 138166.04 | D6: 465851 | E6: 8929.7005 | F6: 1406350.7 | G6: 303642.7 | H6: 65002.767 | I6: 9319.1043 | J6: 436147.92 | K6: 73929.157 | L6: 1353315.9 | M6: 237128.06 | N6: 322947.92 | O6: 63298.183 | P6: 1375150.4 | Q6: 220141.42 | R6: 1670045.8 | S6: 271040.14 | T6: 897301.7 | U6: 141094.45 | V6: =B6+D6+F6+H6+J6+L6+N6+P6+R6+T6 -> 8783335.4 | W6: =C6+E6+G6+I6+K6+M6+O6+Q6+S6+U6 -> 1466689 | X6: =(W6-W5)/W5*100 -> 5.5446248 | Y6: =V6-T6 -> 7886033.7 | Z6: =W6-U6 -> 1325594.5
A7: 1999 | B7: 881755.63 | C7: 157596.61 | D7: 436254 | E7: 7107.5011 | F7: 1475811.7 | G7: 331219.96 | H7: 66129.372 | I7: 9620.2547 | J7: 428586.03 | K7: 72528.263 | L7: 1502656 | M7: 254704.24 | N7: 336290.61 | O7: 66958.13 | P7: 1427349.6 | Q7: 229284.07 | R7: 1794919.4 | S7: 298111.47 | T7: 980440.25 | U7: 160180.56 | V7: =B7+D7+F7+H7+J7+L7+N7+P7+R7+T7 -> 9330192.6 | W7: =C7+E7+G7+I7+K7+M7+O7+Q7+S7+U7 -> 1587311.1 | X7: =(W7-W6)/W6*100 -> 8.2241082 | Y7: =V7-T7 -> 8349752.4 | Z7: =W7-U7 -> 1427130.5
A8: 2000 | B8: 920416.9 | C8: 156708.15 | D8: 417717 | E8: 6190.7871 | F8: 1523397.4 | G8: 355244.26 | H8: 67451.036 | I8: 10680.536 | J8: 425359.67 | K8: 74888.312 | L8: 1604108.8 | M8: 270668.02 | N8: 337470.11 | O8: 67528.491 | P8: 1446131.6 | Q8: 234638.79 | R8: 1875478.7 | S8: 313773.89 | T8: 1044533.1 | U8: 181084.4 | V8: =B8+D8+F8+H8+J8+L8+N8+P8+R8+T8 -> 9662064.2 | W8: =C8+E8+G8+I8+K8+M8+O8+Q8+S8+U8 -> 1671405.6 | X8: =(W8-W7)/W7*100 -> 5.2979271 | Y8: =V8-T8 -> 8617531.2 | Z8: =W8-U8 -> 1490321.2
A9: 2001 | B9: 925809.1 | C9: 150279.16 | D9: 406654 | E9: 5473.3897 | F9: 1521127.6 | G9: 360650.93 | H9: 66016.15 | I9: 11425.862 | J9: 412768.85 | K9: 73996.689 | L9: 1619956 | M9: 274391.78 | N9: 321752.6 | O9: 65555.296 | P9: 1417840.1 | Q9: 223238.6 | R9: 1896927.6 | S9: 319764.78 | T9: 1075200.4 | U9: 192673.96 | V9: =B9+D9+F9+H9+J9+L9+N9+P9+R9+T9 -> 9664052.4 | W9: =C9+E9+G9+I9+K9+M9+O9+Q9+S9+U9 -> 1677450.5 | X9: =(W9-W8)/W8*100 -> 0.36166087 | Y9: =V9-T9 -> 8588852 | Z9: =W9-U9 -> 1484776.5
A10: 2002 | B10: 901032.93 | C10: 144565.42 | D10: 416153 | E10: 5427.2871 | F10: 1510292.6 | G10: 350233.26 | H10: 65272.915 | I10: 11687.823 | J10: 407925.8 | K10: 72087.108 | L10: 1604065.2 | M10: 275883.38 | N10: 309063.81 | O10: 63678.453 | P10: 1396300.5 | Q10: 211150.64 | R10: 1917953.2 | S10: 325277.14 | T10: 1084534.5 | U10: 200318.25 | V10: =B10+D10+F10+H10+J10+L10+N10+P10+R10+T10 -> 9612594.4 | W10: =C10+E10+G10+I10+K10+M10+O10+Q10+S10+U10 -> 1660308.8 | X10: =(W10-W9)/W9*100 -> -1.0218902 | Y10: =V10-T10 -> 8528059.9 | Z10: =W10-U10 -> 1459990.5
A11: 2003 | B11: 866424.44 | C11: 136973.13 | D11: 433700 | E11: 5868.2447 | F11: 1506047.6 | G11: 333792.81 | H11: 66548.603 | I11: 11388.123 | J11: 420938.08 | K11: 71028.537 | L11: 1605128.1 | M11: 281508.46 | N11: 316992.92 | O11: 65676.746 | P11: 1422605 | Q11: 211598.37 | R11: 1970648.2 | S11: 339347.37 | T11: 1090127.6 | U11: 212566.31 | V11: =B11+D11+F11+H11+J11+L11+N11+P11+R11+T11 -> 9699160.5 | W11: =C11+E11+G11+I11+K11+M11+O11+Q11+S11+U11 -> 1669748.1 | X11: =(W11-W10)/W10*100 -> 0.5685296 | Y11: =V11-T11 -> 8609033 | Z11: =W11-U11 -> 1457181.8
A12: 2004 | B12: 810822.02 | C12: 122010.43 | D12: 455367 | E12: 8208.7115 | F12: 1498631.9 | G12: 321159.06 | H12: 64939.049 | I12: 10361.247 | J12: 450923.77 | K12: 72625.445 | L12: 1642333.4 | M12: 283346.72 | N12: 338781.03 | O12: 71072.462 | P12: 1499357.5 | Q12: 222206.29 | R12: 2019317.1 | S12: 350455.67 | T12: 1099705.2 | U12: 215449.36 | V12: =B12+D12+F12+H12+J12+L12+N12+P12+R12+T12 -> 9880178.1 | W12: =C12+E12+G12+I12+K12+M12+O12+Q12+S12+U12 -> 1676895.4 | X12: =(W12-W11)/W11*100 -> 0.42804722 | Y12: =V12-T12 -> 8780472.8 | Z12: =W12-U12 -> 1461446
A13: 2005 | B13: 754767.3 | C13: 109098.81 | D13: 443266.67 | E13: 9188.3066 | F13: 1497055.4 | G13: 318268.02 | H13: 66405.731 | I13: 9997.4872 | J13: 501270.28 | K13: 78055.061 | L13: 1726098.4 | M13: 292813.75 | N13: 372217.02 | O13: 78145.1 | P13: 1633160.5 | Q13: 243446.25 | R13: 2074656 | S13: 362251.15 | T13: 1133282.6 | U13: 205192.48 | V13: =B13+D13+F13+H13+J13+L13+N13+P13+R13+T13 -> 10202180 | W13: =C13+E13+G13+I13+K13+M13+O13+Q13+S13+U13 -> 1706456.4 | X13: =(W13-W12)/W12*100 -> 1.7628417 | Y13: =V13-T13 -> 9068897.3 | Z13: =W13-U13 -> 1501263.9
A14: 2006 | B14: 723504.68 | C14: 106262.76 | D14: 495012.07 | E14: 9516.3481 | F14: 1509624.6 | G14: 319117.65 | H14: 68997.644 | I14: 9912.8067 | J14: 549938.33 | K14: 84185.8 | L14: 1836571.6 | M14: 320828.19 | N14: 404317.46 | O14: 82803.253 | P14: 1772783 | Q14: 267999.47 | R14: 2131739.6 | S14: 379800.61 | T14: 1190086.3 | U14: 201697.61 | V14: =B14+D14+F14+H14+J14+L14+N14+P14+R14+T14 -> 10682575 | W14: =C14+E14+G14+I14+K14+M14+O14+Q14+S14+U14 -> 1782124.5 | X14: =(W14-W13)/W13*100 -> 4.4342225 | Y14: =V14-T14 -> 9492489.1 | Z14: =W14-U14 -> 1580426.9
A15: 2007 | B15: 707106.97 | C15: 114073.58 | D15: 498860 | E15: 8669.8707 | F15: 1538274.3 | G15: 316201.82 | H15: 72387.04 | I15: 9406.8491 | J15: 594056.23 | K15: 94609.001 | L15: 1947939.3 | M15: 343840.25 | N15: 436327.44 | O15: 87806.135 | P15: 1902435.7 | Q15: 291943.49 | R15: 2232646.8 | S15: 399317.82 | T15: 1247990.2 | U15: 218737.9 | V15: =B15+D15+F15+H15+J15+L15+N15+P15+R15+T15 -> 11178024 | W15: =C15+E15+G15+I15+K15+M15+O15+Q15+S15+U15 -> 1884606.7 | X15: =(W15-W14)/W14*100 -> 5.7505648 | Y15: =V15-T15 -> 9930033.9 | Z15: =W15-U15 -> 1665868.8
A16: 2008 | B16: 675492.09 | C16: 119004.36 | D16: 522252 | E16: 8525.0623 | F16: 1550239.8 | G16: 315974.72 | H16: 75165.678 | I16: 8182.4263 | J16: 615921.99 | K16: 109500.12 | L16: 2008505.8 | M16: 342371.02 | N16: 459391.97 | O16: 94014.808 | P16: 1966518 | Q16: 305901.11 | R16: 2329483.6 | S16: 415671.43 | T16: 1266144.5 | U16: 240428.3 | V16: =B16+D16+F16+H16+J16+L16+N16+P16+R16+T16 -> 11469115 | W16: =C16+E16+G16+I16+K16+M16+O16+Q16+S16+U16 -> 1959573.3 | X16: =(W16-W15)/W15*100 -> 3.9778392 | Y16: =V16-T16 -> 10202971 | Z16: =W16-U16 -> 1719145
... A21: 2013 | B21: 611101.83 | C21: 81982.083 | D21: 511799.5 | E21: 10173.082 | F21: 1474495.9 | G21: 300119.38 | H21: 92296.313 | I21: 9727.8487 | J21: 608551.06 | K21: 126975.72 | L21: 2051382.8 | M21: 321655.44 | N21: 549625.58 | O21: 114081.87 | P21: 2021307.6 | Q21: 297586.53 | R21: 2709590.5 | S21: 484466.93 | T21: 1164561.3 | U21: 218295.27 | V21: =B21+D21+F21+H21+J21+L21+N21+P21+R21+T21 -> 11794712 | W21: =C21+E21+G21+I21+K21+M21+O21+Q21+S21+U21 -> 1965064.2 | X21: =(W21-W20)/W20*100 -> 1.8104111 | Y21: =V21-T21 -> 10630151 | Z21: =W21-U21 -> 1746768.9
A23: Gross Value Added by Region (GVA-R) | B23: Agriculture | D23: Mining | F23: Manufacturing | H23: Electricity | J23: Construction | L23: Trade | N23: Transport | P23: Finance | R23: Community services | V23: Total | X23: Year-on-Year MA
A24: Constant 2005 prices (R 1000) | B24: SA | C24: =C3 -> KZN | D24: SA | E24: =E3 -> KZN | F24: SA | G24: =G3 -> KZN | H24: SA | I24: =I3 -> KZN | J24: SA | K24: =K3 -> KZN | L24: SA | M24: =M3 -> KZN | N24: SA | O24: =O3 -> KZN | P24: SA | Q24: =Q3 -> KZN | R24: SA | S24: =S3 -> KZN | V24: SA | W24: =W3 -> KZN
A25: =A4 -> 1996 | B25: 49257652 | C25: 13078246 | D25: 2.2697097e+08 | E25: 8525081 | F25: 2.4827192e+08 | G25: 51198546 | H25: 55369589 | I25: 8588231.1 | J25: 42049913 | K25: 9565890.5 | L25: 2.1520877e+08 | M25: 32959321 | N25: 1.0753266e+08 | O25: 23538083 | P25: 2.5378508e+08 | Q25: 34616659 | R25: 3.9884691e+08 | S25: 62086620 | V25: =B25+D25+F25+H25+J25+L25+N25+P25+R25 -> 1.5972935e+09 | W25: =C25+E25+G25+I25+K25+M25+O25+Q25+S25+U25 -> 2.4415668e+08
A26: =A5 -> 1997 | B26: 49809600 | C26: 13051306 | D26: 2.3133399e+08 | E26: 8636557 | F26: 2.5553255e+08 | G26: 52669246 | H26: 57654742 | I26: 8902641.3 | J26: 43497575 | K26: 10111902 | L26: 2.1654187e+08 | M26: 33208887 | N26: 1.1595804e+08 | O26: 24921170 | P26: 2.6630921e+08 | Q26: 36129744 | R26: 4.0210158e+08 | S26: 61104997 | V26: =B26+D26+F26+H26+J26+L26+N26+P26+R26 -> 1.6387392e+09 | W26: =C26+E26+G26+I26+K26+M26+O26+Q26+S26+U26 -> 2.4873645e+08 | X26: =(W26-W25)/W25*100 -> 1.8757519
A27: =A6 -> 1998 | B27: 47231155 | C27: 13238282 | D27: 2.3140379e+08 | E27: 8528667.5 | F27: 2.5535378e+08 | G27: 52498574 | H27: 54092886 | I27: 8369784.7 | J27: 40933665 | K27: 8974901.1 | L27: 2.1964274e+08 | M27: 33535227 | N27: 1.2249514e+08 | O27: 26132836 | P27: 2.727948e+08 | Q27: 37308999 | R27: 4.0614539e+08 | S27: 63006649 | V27: =B27+D27+F27+H27+J27+L27+N27+P27+R27 -> 1.6500933e+09 | W27: =C27+E27+G27+I27+K27+M27+O27+Q27+S27+U27 -> 2.5159392e+08 | X27: =(W27-W26)/W26*100 -> 1.1487942
A28: =A7 -> 1999 | B28: 50334126 | C28: 12885074 | D28: 2.2895853e+08 | E28: 7987501.1 | F28: 2.577803e+08 | G28: 53544378 | H28: 54009813 | I28: 8385879.9 | J28: 40378050 | K28: 8464674.8 | L28: 2.3715843e+08 | M28: 36102736 | N28: 1.2931355e+08 | O28: 27168182 | P28: 2.8773445e+08 | Q28: 39738111 | R28: 4.088056e+08 | S28: 62231180 | V28: =B28+D28+F28+H28+J28+L28+N28+P28+R28 -> 1.6944729e+09 | W28: =C28+E28+G28+I28+K28+M28+O28+Q28+S28+U28 -> 2.5650772e+08 | X28: =(W28-W27)/W27*100 -> 1.9530665
A29: =A8 -> 2000 | B29: 52957608 | C29: 13393271 | D29: 2.2754761e+08 | E29: 7965326.7 | F29: 2.8002356e+08 | G29: 58466265 | H29: 55956494 | I29: 8817734.1 | J29: 42659101 | K29: 8903139.1 | L29: 2.5762228e+08 | M29: 39385484 | N29: 1.4073161e+08 | O29: 29049491 | P29: 2.9833727e+08 | Q29: 40235990 | R29: 4.1299825e+08 | S29: 63234898 | V29: =B29+D29+F29+H29+J29+L29+N29+P29+R29 -> 1.7688338e+09 | W29: =C29+E29+G29+I29+K29+M29+O29+Q29+S29+U29 -> 2.694516e+08 | X29: =(W29-W28)/W28*100 -> 5.0461957
A30: =A9 -> 2001 | B30: 51410651 | C30: 13473935 | D30: 2.2821072e+08 | E30: 8059083.7 | F30: 2.9011657e+08 | G30: 60460712 | H30: 54097233 | I30: 8737491.2 | J30: 44760336 | K30: 11143462 | L30: 2.6354566e+08 | M30: 42586393 | N30: 1.496187e+08 | O30: 30583308 | P30: 3.2396844e+08 | Q30: 42318128 | R30: 4.1423992e+08 | S30: 64307033 | V30: =B30+D30+F30+H30+J30+L30+N30+P30+R30 -> 1.8199682e+09 | W30: =C30+E30+G30+I30+K30+M30+O30+Q30+S30+U30 -> 2.8166955e+08 | X30: =(W30-W29)/W29*100 -> 4.534376
A31: =A10 -> 2002 | B31: 54930997 | C31: 14068284 | D31: 2.3124491e+08 | E31: 8113977.3 | F31: 2.9921298e+08 | G31: 62263590 | H31: 56173330 | I31: 9120759.2 | J31: 47360614 | K31: 9089907.2 | L31: 2.7048692e+08 | M31: 43774568 | N31: 1.6361651e+08 | O31: 33553884 | P31: 3.4542526e+08 | Q31: 44616050 | R31: 4.2053838e+08 | S31: 65157500 | V31: =B31+D31+F31+H31+J31+L31+N31+P31+R31 -> 1.8889899e+09 | W31: =C31+E31+G31+I31+K31+M31+O31+Q31+S31+U31 -> 2.8975852e+08 | X31: =(W31-W30)/W30*100 -> 2.8717956
A32: =A11 -> 2003 | B32: 55256045 | C32: 14883299 | D32: 2.3888672e+08 | E32: 8577873.9 | F32: 2.9445062e+08 | G32: 61647236 | H32: 57779450 | I32: 9206926.3 | J32: 51001377 | K32: 9631405.5 | L32: 2.7745106e+08 | M32: 45242498 | N32: 1.7384825e+08 | O32: 35866035 | P32: 3.6168181e+08 | Q32: 47089318 | R32: 4.3501261e+08 | S32: 67159224 | V32: =B32+D32+F32+H32+J32+L32+N32+P32+R32 -> 1.9453679e+09 | W32: =C32+E32+G32+I32+K32+M32+O32+Q32+S32+U32 -> 2.9930382e+08 | X32: =(W32-W31)/W31*100 -> 3.2942245
A33: =A12 -> 2004 | B33: 55822802 | C33: 14970518 | D33: 2.4289311e+08 | E33: 8763339.9 | F33: 3.0937203e+08 | G33: 64645429 | H33: 61801508 | I33: 9942135.8 | J33: 55646823 | K33: 10574735 | L33: 2.9290928e+08 | M33: 47771418 | N33: 1.8264527e+08 | O33: 37532898 | P33: 3.8783501e+08 | Q33: 50575826 | R33: 4.4386365e+08 | S33: 68263162 | V33: =B33+D33+F33+H33+J33+L33+N33+P33+R33 -> 2.0327895e+09 | W33: =C33+E33+G33+I33+K33+M33+O33+Q33+S33+U33 -> 3.1303946e+08 | X33: =(W33-W32)/W32*100 -> 4.5891982
A34: =A13 -> 2005 | B34: 57495463 | C34: 14062231 | D34: 2.4583104e+08 | E34: 8229614.4 | F34: 3.291623e+08 | G34: 68753612 | H34: 65223638 | I34: 10607077 | J34: 62280636 | K34: 12017048 | L34: 3.1411858e+08 | M34: 50941097 | N34: 1.9266412e+08 | O34: 39823879 | P34: 4.1072103e+08 | Q34: 56025026 | R34: 4.6319011e+08 | S34: 71224389 | V34: =B34+D34+F34+H34+J34+L34+N34+P34+R34 -> 2.1406869e+09 | W34: =C34+E34+G34+I34+K34+M34+O34+Q34+S34+U34 -> 3.3168397e+08 | X34: =(W34-W33)/W33*100 -> 5.9559625
A35: =A14 -> 2006 | B35: 54543519 | C35: 14243726 | D35: 2.4522465e+08 | E35: 7981929.3 | F35: 3.5157204e+08 | G35: 73154405 | H35: 67688430 | I35: 11035663 | J35: 68780384 | K35: 12951738 | L35: 3.3399857e+08 | M35: 54374664 | N35: 2.0322444e+08 | O35: 42038900 | P35: 4.5189631e+08 | Q35: 60517526 | R35: 4.81829e+08 | S35: 74119498 | V35: =B35+D35+F35+H35+J35+L35+N35+P35+R35 -> 2.2587574e+09 | W35: =C35+E35+G35+I35+K35+M35+O35+Q35+S35+U35 -> 3.5041805e+08 | X35: =(W35-W34)/W34*100 -> 5.6481701
A36: =A15 -> 2007 | B36: 56168460 | C36: 15000399 | D36: 2.4366316e+08 | E36: 8180348 | F36: 3.7038934e+08 | G36: 77120529 | H36: 70000001 | I36: 11402711 | J36: 79454824 | K36: 14910856 | L36: 3.5269783e+08 | M36: 57672666 | N36: 2.1848843e+08 | O36: 45526911 | P36: 4.8467459e+08 | Q36: 64947138 | R36: 5.05443e+08 | S36: 77880509 | V36: =B36+D36+F36+H36+J36+L36+N36+P36+R36 -> 2.3809796e+09 | W36: =C36+E36+G36+I36+K36+M36+O36+Q36+S36+U36 -> 3.7264207e+08 | X36: =(W36-W35)/W35*100 -> 6.3421439
A37: =A16 -> 2008 | B37: 67071610 | C37: 18219783 | D37: 2.306635e+08 | E37: 7646399.5 | F37: 3.7896409e+08 | G37: 78845244 | H37: 67522000 | I37: 10890812 | J37: 87300371 | K37: 16422192 | L37: 3.5888034e+08 | M37: 58514606 | N37: 2.2613587e+08 | O37: 47220469 | P37: 5.1171648e+08 | Q37: 68742929 | R37: 530984210 | S37: 81702026 | V37: =B37+D37+F37+H37+J37+L37+N37+P37+R37 -> 2.4592385e+09 | W37: =C37+E37+G37+I37+K37+M37+O37+Q37+S37+U37 -> 3.8820446e+08 | X37: =(W37-W36)/W36*100 -> 4.176231
... A42: =A21 -> 2013 | B42: 67880350 | C42: 19932547 | D42: 2.309084e+08 | E42: 8411531.9 | F42: 3.7893321e+08 | G42: 79377267 | H42: 68375000 | I42: 10670224 | J42: 1.0046818e+08 | K42: 19374269 | L42: 4.0598271e+08 | M42: 67374309 | N42: 2.4706211e+08 | O42: 52063799 | P42: 5.7812714e+08 | Q42: 77531108 | R42: 6.093806e+08 | S42: 94221463 | V42: =B42+D42+F42+H42+J42+L42+N42+P42+R42 -> 2.6871177e+09 | W42: =C42+E42+G42+I42+K42+M42+O42+Q42+S42+U42 -> 4.2895652e+08 | X42: =(W42-W41)/W41*100 -> 2.1430917
A44: Location Quotients | C44: Agriculture, forestry and fishing | D44: Mining and quarrying | E44: Manufacturing | F44: Electricity, gas and water | G44: Construction | H44: Wholesale & retail trade; hotels & restaurants | I44: Transport , storage and communication | J44: Finance, real estate and business services | K44: Personal and General Government Services | L44: Actual vs Necessary Employment | M44: Agriculture, forestry and fishing | N44: Mining and quarrying | O44: Manufacturing | P44: Electricity, gas and water | Q44: Construction | R44: Wholesale & retail trade; hotels & restaurants | S44: Transport , storage and communication | T44: Finance, real estate and business services | U44: Personal and General Government Services
A45: 1996 | C45: =(C4/$W4)/(B4/$V4) -> 0.84963402 | D45: =(E4/$W4)/(D4/$V4) -> 0.11842578 | E45: =(G4/$W4)/(F4/$V4) -> 1.2627269 | F45: =(I4/$W4)/(H4/$V4) -> 1.0444897 | G45: =(K4/$W4)/(J4/$V4) -> 1.0711523 | H45: =(M4/$W4)/(L4/$V4) -> 1.0871048 | I45: =(O4/$W4)/(N4/$V4) -> 1.1977052 | J45: =(Q4/$W4)/(P4/$V4) -> 0.95967309 | K45: =(S4/$W4)/(R4/$V4) -> 1.0837735 | L45: =A45 -> 1996 | M45: =(1-1/C45)*C4 -> -17510.175 | N45: =(1-1/D45)*E4 -> -82920.185 | O45: =(1-1/E45)*G4 -> 58918.976 | P45: =(1-1/F45)*I4 -> 463.91137 | Q45: =(1-1/G45)*K4 -> 6105.7579 | R45: =(1-1/H45)*M4 -> 16976.295 | S45: =(1-1/I45)*O4 -> 9846.0446 | T45: =(1-1/J45)*Q4 -> -8720.1318 | U45: =(1-1/K45)*S4 -> 21201.523 | V45: =AVERAGE(M45:U45) -> 484.66848 | W45: =V45/1000 -> 0.48466848
A46: 1997 | C46: =(C5/$W5)/(B5/$V5) -> 0.92994999 | D46: =(E5/$W5)/(D5/$V5) -> 0.10552329 | E46: =(G5/$W5)/(F5/$V5) -> 1.2781397 | F46: =(I5/$W5)/(H5/$V5) -> 0.92309612 | G46: =(K5/$W5)/(J5/$V5) -> 1.0596523 | H46: =(M5/$W5)/(L5/$V5) -> 1.0985315 | I46: =(O5/$W5)/(N5/$V5) -> 1.1839872 | J46: =(Q5/$W5)/(P5/$V5) -> 0.98301618 | K46: =(S5/$W5)/(R5/$V5) -> 1.0137741 | L46: =A46 -> 1997 | M46: =(1-1/C46)*C5 -> -8232.7818 | N46: =(1-1/D46)*E5 -> -81619.213 | O46: =(1-1/E46)*G5 -> 62158.814 | P46: =(1-1/F46)*I5 -> -807.29709 | Q46: =(1-1/G46)*K5 -> 4542.4634 | R46: =(1-1/H46)*M5 -> 19995.69 | S46: =(1-1/I46)*O5 -> 9345.7609 | T46: =(1-1/J46)*Q5 -> -3703.9969 | U46: =(1-1/K46)*S5 -> 3554.7414 | V46: =AVERAGE(M46:U46) -> 581.57564 | W46: =V46/1000 -> 0.58157564
A47: 1998 | C47: =(C6/$W6)/(B6/$V6) -> 1.0457427 | D47: =(E6/$W6)/(D6/$V6) -> 0.11479191 | E47: =(G6/$W6)/(F6/$V6) -> 1.2929765 | F47: =(I6/$W6)/(H6/$V6) -> 0.8585464 | G47: =(K6/$W6)/(J6/$V6) -> 1.0150873 | H47: =(M6/$W6)/(L6/$V6) -> 1.0493133 | I47: =(O6/$W6)/(N6/$V6) -> 1.1737624 | J47: =(Q6/$W6)/(P6/$V6) -> 0.95867856 | K47: =(S6/$W6)/(R6/$V6) -> 0.97191141 | L47: =A47 -> 1998 | M47: =(1-1/C47)*C6 -> 6043.6363 | N47: =(1-1/D47)*E6 -> -68860.626 | O47: =(1-1/E47)*G6 -> 68802.632 | P47: =(1-1/F47)*I6 -> -1535.4101 | Q47: =(1-1/G47)*K6 -> 1098.8121 | R47: =(1-1/H47)*M6 -> 11144.028 | S47: =(1-1/I47)*O6 -> 9370.5873 | T47: =(1-1/J47)*Q6 -> -9488.6463 | U47: =(1-1/K47)*S6 -> -7833.1564 | V47: =AVERAGE(M47:U47) -> 971.31741 | W47: =V47/1000 -> 0.97131741
A48: 1999 | C48: =(C7/$W7)/(B7/$V7) -> 1.0505753 | D48: =(E7/$W7)/(D7/$V7) -> 0.095764839 | E48: =(G7/$W7)/(F7/$V7) -> 1.3192106 | F48: =(I7/$W7)/(H7/$V7) -> 0.85510756 | G48: =(K7/$W7)/(J7/$V7) -> 0.9947131 | H48: =(M7/$W7)/(L7/$V7) -> 0.99633453 | I48: =(O7/$W7)/(N7/$V7) -> 1.1703537 | J48: =(Q7/$W7)/(P7/$V7) -> 0.94421756 | K48: =(S7/$W7)/(R7/$V7) -> 0.97625282 | L48: =A48 -> 1999 | M48: =(1-1/C48)*C7 -> 7586.7925 | N48: =(1-1/D48)*E7 -> -67110.773 | O48: =(1-1/E48)*G7 -> 80145.593 | P48: =(1-1/F48)*I7 -> -1630.0899 | Q48: =(1-1/G48)*K7 -> -385.48792 | R48: =(1-1/H48)*M7 -> -937.0444 | S48: =(1-1/I48)*O7 -> 9746.2564 | T48: =(1-1/J48)*Q7 -> -13545.633 | U48: =(1-1/K48)*S7 -> -7251.5102 | V48: =AVERAGE(M48:U48) -> 735.34482 | W48: =V48/1000 -> 0.73534482
A49: 2000 | C49: =(C8/$W8)/(B8/$V8) -> 0.98422653 | D49: =(E8/$W8)/(D8/$V8) -> 0.08567454 | E49: =(G8/$W8)/(F8/$V8) -> 1.3480373 | F49: =(I8/$W8)/(H8/$V8) -> 0.91536119 | G49: =(K8/$W8)/(J8/$V8) -> 1.017761 | H49: =(M8/$W8)/(L8/$V8) -> 0.97541896 | I49: =(O8/$W8)/(N8/$V8) -> 1.1567507 | J49: =(Q8/$W8)/(P8/$V8) -> 0.93795078 | K49: =(S8/$W8)/(R8/$V8) -> 0.96714754 | L49: =A49 -> 2000 | M49: =(1-1/C49)*C8 -> -2511.4462 | N49: =(1-1/D49)*E8 -> -66068.57 | O49: =(1-1/E49)*G8 -> 91717.236 | P49: =(1-1/F49)*I8 -> -987.57508 | Q49: =(1-1/G49)*K8 -> 1306.8775 | R49: =(1-1/H49)*M8 -> -6820.9686 | S49: =(1-1/I49)*O8 -> 9150.7541 | T49: =(1-1/J49)*Q8 -> -15522.3 | U49: =(1-1/K49)*S8 -> -10658.399 | V49: =AVERAGE(M49:U49) -> -43.821199 | W49: =V49/1000 -> -0.043821199
A50: 2001 | C50: =(C9/$W9)/(B9/$V9) -> 0.93516209 | D50: =(E9/$W9)/(D9/$V9) -> 0.077542696 | E50: =(G9/$W9)/(F9/$V9) -> 1.365938 | F50: =(I9/$W9)/(H9/$V9) -> 0.99712212 | G50: =(K9/$W9)/(J9/$V9) -> 1.0327969 | H50: =(M9/$W9)/(L9/$V9) -> 0.97583739 | I50: =(O9/$W9)/(N9/$V9) -> 1.1738032 | J50: =(Q9/$W9)/(P9/$V9) -> 0.90709258 | K50: =(S9/$W9)/(R9/$V9) -> 0.971157 | L50: =A50 -> 2001 | M50: =(1-1/C50)*C9 -> -10419.356 | N50: =(1-1/D50)*E9 -> -65112.107 | O50: =(1-1/E50)*G9 -> 96619.232 | P50: =(1-1/F50)*I9 -> -32.97715 | Q50: =(1-1/G50)*K9 -> 2349.7988 | R50: =(1-1/H50)*M9 -> -6794.1871 | S50: =(1-1/I50)*O9 -> 9706.6706 | T50: =(1-1/J50)*Q9 -> -22864.837 | U50: =(1-1/K50)*S9 -> -9496.8934 | V50: =AVERAGE(M50:U50) -> -671.62838 | W50: =V50/1000 -> -0.67162838
...

Sheet Durban
A1: Durban
A2: Number of formally employed people | B2: Agriculture | D2: Mining | F2: Manufacturing | H2: Electricity | J2: Construction | L2: Trade | N2: Transport | P2: Finance | R2: Community services | T2: Private Households | V2: Total | X2: Year-on-Year MA | Y2: Total-Private Households | AB2: Unemployment Rate | AC2: Number of Claims for Unemployment Benefits
B3: SA | C3: MA | D3: SA | E3: =C3 -> MA | F3: SA | G3: =E3 -> MA | H3: SA | I3: =G3 -> MA | J3: SA | K3: =I3 -> MA | L3: SA | M3: =K3 -> MA | N3: SA | O3: =M3 -> MA | P3: SA | Q3: =O3 -> MA | R3: SA | S3: =Q3 -> MA | T3: SA | U3: =S3 -> MA | V3: SA | W3: =U3 -> MA | Y3: SA | Z3: MA
A4: 1996 | B4: 703854.59 | C4: 19980.402 | D4: 568517 | E4: 1047.3651 | F4: 1355479 | G4: 185153.52 | H4: 63025.655 | I4: 5661.2898 | J4: 518672.12 | K4: 54409.199 | L4: 1177993.9 | M4: 129873.78 | N4: 129873.78 | O4: 37658.532 | P4: 1306983.8 | Q4: 137693.76 | R4: 1529686.3 | S4: 139864.44 | T4: 836533.22 | U4: 58858.521 | V4: =B4+D4+F4+H4+J4+L4+N4+P4+R4+T4 -> 8190619.3 | W4: =C4+E4+G4+I4+K4+M4+O4+Q4+S4+U4 -> 770200.81 | Y4: =V4-T4 -> 7354086.1 | Z4: =W4-U4 -> 711342.29 | AA4: =A4 -> 1996 | AB4: 0.24932286
A5: 1997 | B5: 711281.23 | C5: 23571.96 | D5: 552238 | E5: 817.40103 | F5: 1352516.7 | G5: 188723.21 | H5: 63531.35 | I5: 5060.0708 | J5: 460858.22 | K5: 47797.615 | L5: 1228186 | M5: 137140.76 | N5: 137140.76 | O5: 37914.134 | P5: 1319891.1 | Q5: 142675.91 | R5: 1561880.4 | S5: 131870.27 | T5: 852369.51 | U5: 59861.257 | V5: =B5+D5+F5+H5+J5+L5+N5+P5+R5+T5 -> 8239893.3 | W5: =C5+E5+G5+I5+K5+M5+O5+Q5+S5+U5 -> 775432.59 | X5: =(W5-W4)/W4*100 -> 0.67927584 | Y5: =V5-T5 -> 7387523.8 | Z5: =W5-U5 -> 715571.34 | AA5: =A5 -> 1997 | AB5: 0.26381136
A6: 1998 | B6: 791221.21 | C6: 32057.742 | D6: 465851 | E6: 773.59794 | F6: 1406350.7 | G6: 202377.16 | H6: 65002.767 | I6: 4871.4705 | J6: 436147.92 | K6: 43901.937 | L6: 1353315.9 | M6: 146748.71 | N6: 146748.71 | O6: 40230.545 | P6: 1375150.4 | Q6: 147249.8 | R6: 1670045.8 | S6: 135495.24 | T6: 897301.7 | U6: 62813.428 | V6: =B6+D6+F6+H6+J6+L6+N6+P6+R6+T6 -> 8607136.1 | W6: =C6+E6+G6+I6+K6+M6+O6+Q6+S6+U6 -> 816519.63 | X6: =(W6-W5)/W5*100 -> 5.2985954 | Y6: =V6-T6 -> 7709834.4 | Z6: =W6-U6 -> 753706.2 | AA6: =A6 -> 1998 | AB6: 0.31610051
A7: 1999 | B7: 881755.63 | C7: 39067.358 | D7: 436254 | E7: 795.16494 | F7: 1475811.7 | G7: 220870.56 | H7: 66129.372 | I7: 4990.7907 | J7: 428586.03 | K7: 42788.641 | L7: 1502656 | M7: 157519.6 | N7: 157519.6 | O7: 42684.518 | P7: 1427349.6 | Q7: 153339.91 | R7: 1794919.4 | S7: 146341.15 | T7: 980440.25 | U7: 72515.172 | V7: =B7+D7+F7+H7+J7+L7+N7+P7+R7+T7 -> 9151421.6 | W7: =C7+E7+G7+I7+K7+M7+O7+Q7+S7+U7 -> 880912.87 | X7: =(W7-W6)/W6*100 -> 7.8863058 | Y7: =V7-T7 -> 8170981.4 | Z7: =W7-U7 -> 808397.69 | AA7: =A7 -> 1999 | AB7: 0.30051601
A8: 2000 | B8: 920416.9 | C8: 40838.914 | D8: 417717 | E8: 826.45301 | F8: 1523397.4 | G8: 235565.1 | H8: 67451.036 | I8: 5475.0118 | J8: 425359.67 | K8: 43464.201 | L8: 1604108.8 | M8: 165910.99 | N8: 165910.99 | O8: 42845.615 | P8: 1446131.6 | Q8: 155813.47 | R8: 1875478.7 | S8: 150761.29 | T8: 1044533.1 | U8: 81824.68 | V8: =B8+D8+F8+H8+J8+L8+N8+P8+R8+T8 -> 9490505.1 | W8: =C8+E8+G8+I8+K8+M8+O8+Q8+S8+U8 -> 923325.73 | X8: =(W8-W7)/W7*100 -> 4.8146492 | Y8: =V8-T8 -> 8445972.1 | Z8: =W8-U8 -> 841501.05 | AA8: =A8 -> 2000 | AB8: 0.32688417
A9: 2001 | B9: 925809.1 | C9: 41102.801 | D9: 406654 | E9: 782.09608 | F9: 1521127.6 | G9: 238046.65 | H9: 66016.15 | I9: 5810.4608 | J9: 412768.85 | K9: 42477.838 | L9: 1619956 | M9: 167325.21 | N9: 167325.21 | O9: 41659.457 | P9: 1417840.1 | Q9: 147740.85 | R9: 1896927.6 | S9: 151577.25 | T9: 1075200.4 | U9: 83587.963 | V9: =B9+D9+F9+H9+J9+L9+N9+P9+R9+T9 -> 9509625 | W9: =C9+E9+G9+I9+K9+M9+O9+Q9+S9+U9 -> 920110.57 | X9: =(W9-W8)/W8*100 -> -0.34821538 | Y9: =V9-T9 -> 8434424.6 | Z9: =W9-U9 -> 836522.61 | AA9: =A9 -> 2001 | AB9: 0.34718416
A10: 2002 | B10: 901032.93 | C10: 40818.566 | D10: 416153 | E10: 829.71595 | F10: 1510292.6 | G10: 229394.12 | H10: 65272.915 | I10: 5880.9522 | J10: 407925.8 | K10: 40937.458 | L10: 1604065.2 | M10: 167436.44 | N10: 167436.44 | O10: 40455.081 | P10: 1396300.5 | Q10: 139308.99 | R10: 1917953.2 | S10: 151294.45 | T10: 1084534.5 | U10: 85692.554 | V10: =B10+D10+F10+H10+J10+L10+N10+P10+R10+T10 -> 9470967 | W10: =C10+E10+G10+I10+K10+M10+O10+Q10+S10+U10 -> 902048.32 | X10: =(W10-W9)/W9*100 -> -1.9630519 | Y10: =V10-T10 -> 8386432.5 | Z10: =W10-U10 -> 816355.77 | AA10: =A10 -> 2002 | AB10: 0.37861456
A11: 2003 | B11: 866424.44 | C11: 39460.451 | D11: 433700 | E11: 1013.1987 | F11: 1506047.6 | G11: 216712.54 | H11: 66548.603 | I11: 5659.0733 | J11: 420938.08 | K11: 39849.228 | L11: 1605128.1 | M11: 169981.63 | N11: 169981.63 | O11: 41595.546 | P11: 1422605 | Q11: 138898.78 | R11: 1970648.2 | S11: 154263.02 | T11: 1090127.6 | U11: 91412.56 | V11: =B11+D11+F11+H11+J11+L11+N11+P11+R11+T11 -> 9552149.3 | W11: =C11+E11+G11+I11+K11+M11+O11+Q11+S11+U11 -> 898846.04 | X11: =(W11-W10)/W10*100 -> -0.35500087 | Y11: =V11-T11 -> 8462021.7 | Z11: =W11-U11 -> 807433.48 | AA11: =A11 -> 2003 | AB11: 0.37656734 | AC11: =[1]Input!B91*12 -> 58700
A12: 2004 | B12: 810822.02 | C12: 35573.477 | D12: 455367 | E12: 1430.2676 | F12: 1498631.9 | G12: 206497.27 | H12: 64939.049 | I12: 5072.9191 | J12: 450923.77 | K12: 40149.534 | L12: 1642333.4 | M12: 169458.39 | N12: 169458.39 | O12: 44696.979 | P12: 1499357.5 | Q12: 144806.48 | R12: 2019317.1 | S12: 156050.88 | T12: 1099705.2 | U12: 94986.183 | V12: =B12+D12+F12+H12+J12+L12+N12+P12+R12+T12 -> 9710855.4 | W12: =C12+E12+G12+I12+K12+M12+O12+Q12+S12+U12 -> 898722.38 | X12: =(W12-W11)/W11*100 -> -0.013758063 | Y12: =V12-T12 -> 8611150.2 | Z12: =W12-U12 -> 803736.19 | AA12: =A12 -> 2004 | AB12: 0.34418684 | AC12: =[1]Input!B92*12 -> 62729
A13: 2005 | B13: 754767.3 | C13: 32063.86 | D13: 443266.67 | E13: 1385.3109 | F13: 1497055.4 | G13: 201922.97 | H13: 66405.731 | I13: 4803.9357 | J13: 501270.28 | K13: 42286.461 | L13: 1726098.4 | M13: 172457.35 | N13: 172457.35 | O13: 48636.717 | P13: 1633160.5 | Q13: 156799.9 | R13: 2074656 | S13: 157073.25 | T13: 1133282.6 | U13: 92472.195 | V13: =B13+D13+F13+H13+J13+L13+N13+P13+R13+T13 -> 10002420 | W13: =C13+E13+G13+I13+K13+M13+O13+Q13+S13+U13 -> 909901.95 | X13: =(W13-W12)/W12*100 -> 1.2439411 | Y13: =V13-T13 -> 8869137.6 | Z13: =W13-U13 -> 817429.76 | AA13: =A13 -> 2005 | AB13: 0.33342241 | AC13: =[1]Input!B93*12 -> 64429
A14: 2006 | B14: 723504.68 | C14: 31450.266 | D14: 495012.07 | E14: 1391.7614 | F14: 1509624.6 | G14: 199367.02 | H14: 68997.644 | I14: 4650.1858 | J14: 549938.33 | K14: 44800.173 | L14: 1836571.6 | M14: 186743.45 | N14: 186743.45 | O14: 51044.218 | P14: 1772783 | Q14: 170742.36 | R14: 2131739.6 | S14: 159891.88 | T14: 1190086.3 | U14: 91411.266 | V14: =B14+D14+F14+H14+J14+L14+N14+P14+R14+T14 -> 10465001 | W14: =C14+E14+G14+I14+K14+M14+O14+Q14+S14+U14 -> 941492.57 | X14: =(W14-W13)/W13*100 -> 3.4718699 | Y14: =V14-T14 -> 9274915.1 | Z14: =W14-U14 -> 850081.3 | AA14: =A14 -> 2006 | AB14: 0.3153749 | AC14: =[1]Input!B94*12 -> 57465
A15: 2007 | B15: 707106.97 | C15: 33684.65 | D15: 498860 | E15: 1331.0632 | F15: 1538274.3 | G15: 195005.16 | H15: 72387.04 | I15: 4347.6156 | J15: 594056.23 | K15: 50062.977 | L15: 1947939.3 | M15: 199834.56 | N15: 199834.56 | O15: 54018.493 | P15: 1902435.7 | Q15: 185442.19 | R15: 2232646.8 | S15: 164714.23 | T15: 1247990.2 | U15: 97421.5 | V15: =B15+D15+F15+H15+J15+L15+N15+P15+R15+T15 -> 10941531 | W15: =C15+E15+G15+I15+K15+M15+O15+Q15+S15+U15 -> 985862.43 | X15: =(W15-W14)/W14*100 -> 4.7127149 | Y15: =V15-T15 -> 9693541 | Z15: =W15-U15 -> 888440.93 | AA15: =A15 -> 2007 | AB15: 0.2887331 | AC15: =[1]Input!B95*12 -> 54587
A16: 2008 | B16: 675492.09 | C16: 35393.286 | D16: 522252 | E16: 1346.0081 | F16: 1550239.8 | G16: 194408.8 | H16: 75165.678 | I16: 3769.0164 | J16: 615921.99 | K16: 58167.541 | L16: 2008505.8 | M16: 199825.83 | N16: 199825.83 | O16: 58268.332 | P16: 1966518 | Q16: 195042.01 | R16: 2329483.6 | S16: 170112.56 | T16: 1266144.5 | U16: 105649.86 | V16: =B16+D16+F16+H16+J16+L16+N16+P16+R16+T16 -> 11209549 | W16: =C16+E16+G16+I16+K16+M16+O16+Q16+S16+U16 -> 1021983.2 | X16: =(W16-W15)/W15*100 -> 3.6638787 | Y16: =V16-T16 -> 9943404.8 | Z16: =W16-U16 -> 916333.37 | AA16: =A16 -> 2008 | AB16: 0.24798493 | AC16: =[1]Input!B96*12 -> 61653
A17: 2009 | B17: 635860.92 | C17: 34277.906 | D17: 488246.5 | E17: 1182.1142 | F17: 1532096 | G17: 193875.75 | H17: 76497.69 | I17: 3332.6171 | J17: 618198.13 | K17: 64140.876 | L17: 2012084.8 | M17: 190619.42 | N17: 190619.42 | O17: 63472.44 | P17: 1974363.1 | Q17: 196049.29 | R17: 2413014.4 | S17: 173882.56 | T17: 1244185.4 | U17: 106784.57 | V17: =B17+D17+F17+H17+J17+L17+N17+P17+R17+T17 -> 11185166 | W17: =C17+E17+G17+I17+K17+M17+O17+Q17+S17+U17 -> 1027617.5 | X17: =(W17-W16)/W16*100 -> 0.55131136 | Y17: =V17-T17 -> 9940981 | Z17: =W17-U17 -> 920832.98 | AA17: =A17 -> 2009 | AB17: 0.23255919 | AC17: 99703
A18: 2010 | B18: 593549.26 | C18: 31626.262 | D18: 500205 | E18: 1262.1627 | F18: 1501996.3 | G18: 192022.12 | H18: 78883.563 | I18: 3674.7646 | J18: 610746.9 | K18: 66538.916 | L18: 1982873.9 | M18: 182398.64 | N18: 182398.64 | O18: 67387.806 | P18: 1943276.8 | Q18: 190916.26 | R18: 2482881 | S18: 179042.05 | T18: 1208393.3 | U18: 103837.02 | V18: =B18+D18+F18+H18+J18+L18+N18+P18+R18+T18 -> 11085205 | W18: =C18+E18+G18+I18+K18+M18+O18+Q18+S18+U18 -> 1018706 | X18: =(W18-W17)/W17*100 -> -0.86720356 | Y18: =V18-T18 -> 9876811.3 | Z18: =W18-U18 -> 914868.99 | AA18: =A18 -> 2010 | AB18: 0.21992992 | AC18: 67210
A19: 2011 | B19: 585473.4 | C19: 29410.634 | D19: 513850 | E19: 1226.8782 | F19: 1473881.8 | G19: 187328.39 | H19: 82517.295 | I19: 4415.4033 | J19: 599612.27 | K19: 66152.832 | L19: 1975812.2 | M19: 181079.39 | N19: 181079.39 | O19: 69546.262 | P19: 1942607 | Q19: 188114.83 | R19: 2547933.3 | S19: 185784.31 | T19: 1171947.3 | U19: 100765.76 | V19: =B19+D19+F19+H19+J19+L19+N19+P19+R19+T19 -> 11074714 | W19: =C19+E19+G19+I19+K19+M19+O19+Q19+S19+U19 -> 1013824.7 | X19: =(W19-W18)/W18*100 -> -0.47916822 | Y19: =V19-T19 -> 9902766.6 | Z19: =W19-U19 -> 913058.93 | AA19: =A19 -> 2011 | AB19: 0.2036617 | AC19: 54878
A20: 2012 | B20: 595139.04 | C20: 26826.194 | D20: 534858.5 | E20: 1245.5959 | F20: 1462996.5 | G20: 185452.22 | H20: 86597.377 | I20: 4492.5245 | J20: 597515.36 | K20: 66222.951 | L20: 2002960.4 | M20: 185265.65 | N20: 185265.65 | O20: 71021.243 | P20: 1973116.4 | Q20: 189420.02 | R20: 2626423.4 | S20: 193806.21 | T20: 1160315.1 | U20: 101843.62 | V20: =B20+D20+F20+H20+J20+L20+N20+P20+R20+T20 -> 11225188 | W20: =C20+E20+G20+I20+K20+M20+O20+Q20+S20+U20 -> 1025596.2 | X20: =(W20-W19)/W19*100 -> 1.1611019 | Y20: =V20-T20 -> 10064873 | Z20: =W20-U20 -> 923752.6 | AA20: =A20 -> 2012 | AB20: 0.206 | AC20: 51238
A21: 2013 | B21: 611101.83 | C21: 25321.893 | D21: 511799.5 | E21: 1252.7263 | F21: 1474495.9 | G21: 186111.97 | H21: 92296.313 | I21: 4502.6728 | J21: 608551.06 | K21: 68893.117 | L21: 2051382.8 | M21: 191454.64 | N21: 191454.64 | O21: 72243.507 | P21: 2021307.6 | Q21: 193021.63 | R21: 2709590.5 | S21: 199452.43 | T21: 1164561.3 | U21: 102552.2 | V21: =B21+D21+F21+H21+J21+L21+N21+P21+R21+T21 -> 11436541 | W21: =C21+E21+G21+I21+K21+M21+O21+Q21+S21+U21 -> 1044806.8 | X21: =(W21-W20)/W20*100 -> 1.8731108 | Y21: =V21-T21 -> 10271980 | Z21: =W21-U21 -> 942254.58 | AA21: =A21 -> 2013
A23: Gross Value Added by Region (GVA-R) | B23: Agriculture | D23: Mining | F23: Manufacturing | H23: Electricity | J23: Construction | L23: Trade | N23: Transport | P23: Finance | R23: Community services | V23: Total | X23: Year-on-Year MA
A24: Constant 2000 prices (R 1000) | B24: SA | C24: =C3 -> MA | D24: SA | E24: =E3 -> MA | F24: SA | G24: =G3 -> MA | H24: SA | I24: =I3 -> MA | J24: SA | K24: =K3 -> MA | L24: SA | M24: =M3 -> MA | N24: SA | O24: =O3 -> MA | P24: SA | Q24: =Q3 -> MA | R24: SA | S24: =S3 -> MA | V24: SA | W24: =W3 -> MA
A25: =A4 -> 1996 | B25: 49257652 | C25: 2366225.6 | D25: 2.2697097e+08 | E25: 837042.45 | F25: 2.4827192e+08 | G25: 31192263 | H25: 55369589 | I25: 5788477.3 | J25: 42049913 | K25: 6432425 | L25: 2.1520877e+08 | M25: 23259662 | N25: 1.0753266e+08 | O25: 16949087 | P25: 2.5378508e+08 | Q25: 24644285 | R25: 3.9884691e+08 | S25: 36113858 | V25: =B25+D25+F25+H25+J25+L25+N25+P25+R25+T25 -> 1.5972935e+09 | W25: =C25+E25+G25+I25+K25+M25+O25+Q25+S25+U25 -> 1.4758333e+08
A26: =A5 -> 1997 | B26: 49809600 | C26: 2335835.4 | D26: 2.3133399e+08 | E26: 955593.27 | F26: 2.5553255e+08 | G26: 31808156 | H26: 57654742 | I26: 6014293.8 | J26: 43497575 | K26: 6802646.9 | L26: 2.1654187e+08 | M26: 23498486 | N26: 1.1595804e+08 | O26: 17907025 | P26: 2.6630921e+08 | Q26: 25686368 | R26: 4.0210158e+08 | S26: 35509869 | V26: =B26+D26+F26+H26+J26+L26+N26+P26+R26+T26 -> 1.6387392e+09 | W26: =C26+E26+G26+I26+K26+M26+O26+Q26+S26+U26 -> 1.5051827e+08 | X26: =(W26-W25)/W25*100 -> 1.9886719
A27: =A6 -> 1998 | B27: 47231155 | C27: 2353953.3 | D27: 2.3140379e+08 | E27: 878450.12 | F27: 2.5535378e+08 | G27: 31836848 | H27: 54092886 | I27: 5655654.6 | J27: 40933665 | K27: 6038099 | L27: 2.1964274e+08 | M27: 23783120 | N27: 1.2249514e+08 | O27: 18745379 | P27: 2.727948e+08 | Q27: 26331864 | R27: 4.0614539e+08 | S27: 36849490 | V27: =B27+D27+F27+H27+J27+L27+N27+P27+R27+T27 -> 1.6500933e+09 | W27: =C27+E27+G27+I27+K27+M27+O27+Q27+S27+U27 -> 1.5247286e+08 | X27: =(W27-W26)/W26*100 -> 1.2985697
A28: =A7 -> 1999 | B28: 50334126 | C28: 2280997.2 | D28: 2.2895853e+08 | E28: 736381.82 | F28: 2.577803e+08 | G28: 32345712 | H28: 54009813 | I28: 5680045.1 | J28: 40378050 | K28: 5684889.2 | L28: 2.3715843e+08 | M28: 25606028 | N28: 1.2931355e+08 | O28: 19409182 | P28: 2.8773445e+08 | Q28: 28031777 | R28: 4.088056e+08 | S28: 36459384 | V28: =B28+D28+F28+H28+J28+L28+N28+P28+R28+T28 -> 1.6944729e+09 | W28: =C28+E28+G28+I28+K28+M28+O28+Q28+S28+U28 -> 1.562344e+08 | X28: =(W28-W27)/W27*100 -> 2.4670217
A29: =A8 -> 2000 | B29: 52957608 | C29: 2374651.9 | D29: 2.2754761e+08 | E29: 626450.43 | F29: 2.8002356e+08 | G29: 35623064 | H29: 55956494 | I29: 6026231.2 | J29: 42659101 | K29: 6035459.8 | L29: 2.5762228e+08 | M29: 28159292 | N29: 1.4073161e+08 | O29: 20906893 | P29: 2.9833727e+08 | Q29: 28508845 | R29: 4.1299825e+08 | S29: 36989284 | V29: =B29+D29+F29+H29+J29+L29+N29+P29+R29+T29 -> 1.7688338e+09 | W29: =C29+E29+G29+I29+K29+M29+O29+Q29+S29+U29 -> 1.6525017e+08 | X29: =(W29-W28)/W28*100 -> 5.7706722
A30: =A9 -> 2001 | B30: 51410651 | C30: 2381991.4 | D30: 2.2821072e+08 | E30: 830131.19 | F30: 2.9011657e+08 | G30: 37261768 | H30: 54097233 | I30: 6030627.1 | J30: 44760336 | K30: 7621292.2 | L30: 2.6354566e+08 | M30: 30736859 | N30: 1.496187e+08 | O30: 22070515 | P30: 3.2396844e+08 | Q30: 30385141 | R30: 4.1423992e+08 | S30: 37738509 | V30: =B30+D30+F30+H30+J30+L30+N30+P30+R30+T30 -> 1.8199682e+09 | W30: =C30+E30+G30+I30+K30+M30+O30+Q30+S30+U30 -> 1.7505683e+08 | X30: =(W30-W29)/W29*100 -> 5.9344342
A31: =A10 -> 2002 | B31: 54930997 | C31: 2515919.6 | D31: 2.3124491e+08 | E31: 726570.84 | F31: 2.9921298e+08 | G31: 38095211 | H31: 56173330 | I31: 6288493.4 | J31: 47360614 | K31: 6235945.5 | L31: 2.7048692e+08 | M31: 31665098 | N31: 1.6361651e+08 | O31: 24286493 | P31: 3.4542526e+08 | Q31: 31998363 | R31: 4.2053838e+08 | S31: 38145284 | V31: =B31+D31+F31+H31+J31+L31+N31+P31+R31+T31 -> 1.8889899e+09 | W31: =C31+E31+G31+I31+K31+M31+O31+Q31+S31+U31 -> 1.7995738e+08 | X31: =(W31-W30)/W30*100 -> 2.7994022
A32: =A11 -> 2003 | B32: 55256045 | C32: 2683181.9 | D32: 2.3888672e+08 | E32: 677788.53 | F32: 2.9445062e+08 | G32: 37880190 | H32: 57779450 | I32: 6342698 | J32: 51001377 | K32: 6634848.3 | L32: 2.7745106e+08 | M32: 32843740 | N32: 1.7384825e+08 | O32: 26062630 | P32: 3.6168181e+08 | Q32: 34404339 | R32: 4.3501261e+08 | S32: 39428200 | V32: =B32+D32+F32+H32+J32+L32+N32+P32+R32+T32 -> 1.9453679e+09 | W32: =C32+E32+G32+I32+K32+M32+O32+Q32+S32+U32 -> 1.8695762e+08 | X32: =(W32-W31)/W31*100 -> 3.8899417
A33: =A12 -> 2004 | B33: 55822802 | C33: 2688688.6 | D33: 2.4289311e+08 | E33: 678289.13 | F33: 3.0937203e+08 | G33: 39791113 | H33: 61801508 | I33: 6850120.9 | J33: 55646823 | K33: 7300505.1 | L33: 2.9290928e+08 | M33: 34746970 | N33: 1.8264527e+08 | O33: 27368644 | P33: 3.8783501e+08 | Q33: 37273121 | R33: 4.4386365e+08 | S33: 40004716 | V33: =B33+D33+F33+H33+J33+L33+N33+P33+R33+T33 -> 2.0327895e+09 | W33: =C33+E33+G33+I33+K33+M33+O33+Q33+S33+U33 -> 1.9670217e+08 | X33: =(W33-W32)/W32*100 -> 5.2121711
A34: =A13 -> 2005 | B34: 57495463 | C34: 2487735.9 | D34: 2.4583104e+08 | E34: 624828.85 | F34: 3.291623e+08 | G34: 42516614 | H34: 65223638 | I34: 7343042.2 | J34: 62280636 | K34: 8317689.7 | L34: 3.1411858e+08 | M34: 37131877 | N34: 1.9266412e+08 | O34: 29184565 | P34: 4.1072103e+08 | Q34: 41131887 | R34: 4.6319011e+08 | S34: 41610006 | V34: =B34+D34+F34+H34+J34+L34+N34+P34+R34+T34 -> 2.1406869e+09 | W34: =C34+E34+G34+I34+K34+M34+O34+Q34+S34+U34 -> 2.1034825e+08 | X34: =(W34-W33)/W33*100 -> 6.9374316
A35: =A14 -> 2006 | B35: 54543519 | C35: 2511846.5 | D35: 2.4522465e+08 | E35: 623172.32 | F35: 3.5157204e+08 | G35: 45324443 | H35: 67688430 | I35: 7668509.2 | J35: 68780384 | K35: 8985095.8 | L35: 3.3399857e+08 | M35: 39738858 | N35: 2.0322444e+08 | O35: 30942517 | P35: 4.5189631e+08 | Q35: 43964166 | R35: 4.81829e+08 | S35: 43523259 | V35: =B35+D35+F35+H35+J35+L35+N35+P35+R35+T35 -> 2.2587574e+09 | W35: =C35+E35+G35+I35+K35+M35+O35+Q35+S35+U35 -> 2.2328187e+08 | X35: =(W35-W34)/W34*100 -> 6.1486709
A36: =A15 -> 2007 | B36: 56168460 | C36: 2650615.1 | D36: 2.4366316e+08 | E36: 633688.78 | F36: 3.7038934e+08 | G36: 47864961 | H36: 70000001 | I36: 7948311.4 | J36: 79454824 | K36: 10376292 | L36: 3.5269783e+08 | M36: 42275152 | N36: 2.1848843e+08 | O36: 33671717 | P36: 4.8467459e+08 | Q36: 46776917 | R36: 5.05443e+08 | S36: 45768640 | V36: =B36+D36+F36+H36+J36+L36+N36+P36+R36+T36 -> 2.3809796e+09 | W36: =C36+E36+G36+I36+K36+M36+O36+Q36+S36+U36 -> 2.3796629e+08 | X36: =(W36-W35)/W35*100 -> 6.5766327
A37: =A16 -> 2008 | B37: 67071610 | C37: 3226892 | D37: 2.306635e+08 | E37: 565139.07 | F37: 3.7896409e+08 | G37: 49006875 | H37: 67522000 | I37: 7601895.4 | J37: 87300371 | K37: 11463637 | L37: 3.5888034e+08 | M37: 43013041 | N37: 2.2613587e+08 | O37: 35080443 | P37: 5.1171648e+08 | Q37: 49406059 | R37: 530984210 | S37: 48204996 | V37: =B37+D37+F37+H37+J37+L37+N37+P37+R37+T37 -> 2.4592385e+09 | W37: =C37+E37+G37+I37+K37+M37+O37+Q37+S37+U37 -> 2.4756898e+08 | X37: =(W37-W36)/W36*100 -> 4.0353123
... A42: =A21 -> 2013 | B42: 67880350 | C42: 3564376.1 | D42: 2.309084e+08 | E42: 645260.06 | F42: 3.7893321e+08 | G42: 51707570 | H42: 68375000 | I42: 7597045.6 | J42: 1.0046818e+08 | K42: 13867085 | L42: 4.0598271e+08 | M42: 50548338 | N42: 2.4706211e+08 | O42: 39770471 | P42: 5.7812714e+08 | Q42: 56232932 | R42: 6.093806e+08 | S42: 54938375 | V42: =B42+D42+F42+H42+J42+L42+N42+P42+R42+T42 -> 2.6871177e+09 | W42: =C42+E42+G42+I42+K42+M42+O42+Q42+S42+U42 -> 2.7887145e+08 | X42: =(W42-W41)/W41*100 -> 2.9126274
A44: Location Quotients | C44: Agriculture, forestry and fishing | D44: Mining and quarrying | E44: Manufacturing | F44: Electricity, gas and water | G44: Construction | H44: Wholesale & retail trade; hotels & restaurants | I44: Transport , storage and communication | J44: Finance, real estate and business services | K44: Personal and General Government Services | L44: Actual vs Necessary Employment | M44: Agriculture, forestry and fishing | N44: Mining and quarrying | O44: Manufacturing | P44: Electricity, gas and water | Q44: Construction | R44: Wholesale & retail trade; hotels & restaurants | S44: Transport , storage and communication | T44: Finance, real estate and business services | U44: Personal and General Government Services
A45: =A25 -> 1996 | C45: =(C4/$W4)/(B4/$V4) -> 0.3018798 | D45: =(E4/$W4)/(D4/$V4) -> 0.019591488 | E45: =(G4/$W4)/(F4/$V4) -> 1.4526198 | F45: =(I4/$W4)/(H4/$V4) -> 0.95523625 | G45: =(K4/$W4)/(J4/$V4) -> 1.1155581 | H45: =(M4/$W4)/(L4/$V4) -> 1.1724416 | I45: =(O4/$W4)/(N4/$V4) -> 3.0835761 | J45: =(Q4/$W4)/(P4/$V4) -> 1.1203581 | K45: =(S4/$W4)/(R4/$V4) -> 0.97233901 | L45: =AVERAGE(C45:K45) -> 1.1326222 | M45: =(1-1/C45)*C4 -> -46206.214 | N45: =(1-1/D45)*E4 -> -52412.848 | O45: =(1-1/E45)*G4 -> 57691.726 | P45: =(1-1/F45)*I4 -> -265.2962 | Q45: =(1-1/G45)*K4 -> 5636.1243 | R45: =(1-1/H45)*M4 -> 19101.709 | S45: =(1-1/I45)*O4 -> 25445.915 | T45: =(1-1/J45)*Q4 -> 14792.195 | U45: =(1-1/K45)*S4 -> -3978.848 | V45: =AVERAGE(M45:U45) -> 2200.496 | W45: =V45/1000 -> 2.200496 | X45: =W45/V45 -> 0.001
A46: =A26 -> 1997 | C46: =(C5/$W5)/(B5/$V5) -> 0.35215339 | D46: =(E5/$W5)/(D5/$V5) -> 0.015728468 | E46: =(G5/$W5)/(F5/$V5) -> 1.4827237 | F46: =(I5/$W5)/(H5/$V5) -> 0.84634229 | G46: =(K5/$W5)/(J5/$V5) -> 1.1020884 | H46: =(M5/$W5)/(L5/$V5) -> 1.1865333 | I46: =(O5/$W5)/(N5/$V5) -> 2.9377316 | J46: =(Q5/$W5)/(P5/$V5) -> 1.1486563 | K46: =(S5/$W5)/(R5/$V5) -> 0.89717392 | L46: =AVERAGE(C46:K46) -> 1.1076813 | M46: =(1-1/C46)*C5 -> -43364.666 | N46: =(1-1/D46)*E5 -> -51152.125 | O46: =(1-1/E46)*G5 -> 61441.771 | P46: =(1-1/F46)*I5 -> -918.68138 | Q46: =(1-1/G46)*K5 -> 4427.5769 | R46: =(1-1/H46)*M5 -> 21559.717 | S46: =(1-1/I46)*O5 -> 25008.212 | T46: =(1-1/J46)*Q5 -> 18464.77 | U46: =(1-1/K46)*S5 -> -15113.795 | V46: =AVERAGE(M46:U46) -> 2261.4199 | W46: =V46/1000 -> 2.2614199 | X46: =W46/V46 -> 0.001
...

Sheet PMB
A1: Pietermaritzburg
A2: Number of formally employed people | B2: Agriculture | D2: Mining | F2: Manufacturing | H2: Electricity | J2: Construction | L2: Trade | N2: Transport | P2: Finance | R2: Community services | T2: Private Households | V2: Total | X2: Year-on-Year MA | Y2: Total-Private Households | AB2: Unemployment Rate | AC2: Number of Claims for Unemployment Benefits
B3: SA | C3: MA | D3: SA | E3: =C3 -> MA | F3: SA | G3: =E3 -> MA | H3: SA | I3: =G3 -> MA | J3: SA | K3: =I3 -> MA | L3: SA | M3: =K3 -> MA | N3: SA | O3: =M3 -> MA | P3: SA | Q3: =O3 -> MA | R3: SA | S3: =Q3 -> MA | T3: SA | U3: =S3 -> MA | V3: SA | W3: =U3 -> MA | Y3: SA | Z3: MA
A4: 1996 | B4: 703854.59 | C4: 5466.394 | D4: 568517 | E4: 168.82717 | F4: 1355479 | G4: 20741.653 | H4: 63025.655 | I4: 1368.5528 | J4: 518672.12 | K4: 7042.1846 | L4: 1177993.9 | M4: 18292.713 | N4: 129873.78 | O4: 4509.7622 | P4: 1306983.8 | Q4: 22969.33 | R4: 1529686.3 | S4: 29528.62 | T4: 836533.22 | U4: 836533.22 | V4: =B4+D4+F4+H4+J4+L4+N4+P4+R4+T4 -> 8190619.3 | W4: =C4+E4+G4+I4+K4+M4+O4+Q4+S4+U4 -> 946621.26 | Y4: =V4-T4 -> 7354086.1 | Z4: =W4-U4 -> 110088.04 | AA4: =A4 -> 1996 | AB4: 0.32305086
A5: 1997 | B5: 711281.23 | C5: 6420.2666 | D5: 552238 | E5: 146.06024 | F5: 1352516.7 | G5: 20979.359 | H5: 63531.35 | I5: 1162.3305 | J5: 460858.22 | K5: 6167.0069 | L5: 1228186 | M5: 18768.033 | N5: 137140.76 | O5: 4370.4394 | P5: 1319891.1 | Q5: 22484.699 | R5: 1561880.4 | S5: 27705.684 | T5: 852369.51 | U5: 852369.51 | V5: =B5+D5+F5+H5+J5+L5+N5+P5+R5+T5 -> 8239893.3 | W5: =C5+E5+G5+I5+K5+M5+O5+Q5+S5+U5 -> 960573.39 | X5: =(W5-W4)/W4*100 -> 1.4738872 | Y5: =V5-T5 -> 7387523.8 | Z5: =W5-U5 -> 108203.88 | AA5: =A5 -> 1997 | AB5: 0.34313567
A6: 1998 | B6: 791221.21 | C6: 8623.6943 | D6: 465851 | E6: 152.39106 | F6: 1406350.7 | G6: 22355.489 | H6: 65002.767 | I6: 1098.815 | J6: 436147.92 | K6: 5629.5872 | L6: 1353315.9 | M6: 19452.528 | N6: 146748.71 | O6: 4384.6629 | P6: 1375150.4 | Q6: 21899.363 | R6: 1670045.8 | S6: 28234.258 | T6: 897301.7 | U6: 897301.7 | V6: =B6+D6+F6+H6+J6+L6+N6+P6+R6+T6 -> 8607136.1 | W6: =C6+E6+G6+I6+K6+M6+O6+Q6+S6+U6 -> 1009132.5 | X6: =(W6-W5)/W5*100 -> 5.0552207 | Y6: =V6-T6 -> 7709834.4 | Z6: =W6-U6 -> 111830.79 | AA6: =A6 -> 1998 | AB6: 0.40163285
A7: 1999 | B7: 881755.63 | C7: 10165.397 | D7: 436254 | E7: 164.35735 | F7: 1475811.7 | G7: 24449.195 | H7: 66129.372 | I7: 1105.4149 | J7: 428586.03 | K7: 5483.3188 | L7: 1502656 | M7: 20308.52 | N7: 157519.6 | O7: 4394.0502 | P7: 1427349.6 | Q7: 21650.273 | R7: 1794919.4 | S7: 30128.582 | T7: 980440.25 | U7: 980440.25 | V7: =B7+D7+F7+H7+J7+L7+N7+P7+R7+T7 -> 9151421.6 | W7: =C7+E7+G7+I7+K7+M7+O7+Q7+S7+U7 -> 1098289.4 | X7: =(W7-W6)/W6*100 -> 8.8350012 | Y7: =V7-T7 -> 8170981.4 | Z7: =W7-U7 -> 117849.11 | AA7: =A7 -> 1999 | AB7: 0.38268627
A8: 2000 | B8: 920416.9 | C8: 10332.574 | D8: 417717 | E8: 163.57419 | F8: 1523397.4 | G8: 26346.98 | H8: 67451.036 | I8: 1170.4406 | J8: 425359.67 | K8: 5640.2589 | L8: 1604108.8 | M8: 21047.931 | N8: 165910.99 | O8: 4188.0042 | P8: 1446131.6 | Q8: 21173.267 | R8: 1875478.7 | S8: 30796.795 | T8: 1044533.1 | U8: 1044533.1 | V8: =B8+D8+F8+H8+J8+L8+N8+P8+R8+T8 -> 9490505.1 | W8: =C8+E8+G8+I8+K8+M8+O8+Q8+S8+U8 -> 1165392.9 | X8: =(W8-W7)/W7*100 -> 6.1098213 | Y8: =V8-T8 -> 8445972.1 | Z8: =W8-U8 -> 120859.83 | AA8: =A8 -> 2000 | AB8: 0.42738467
A9: 2001 | B9: 925809.1 | C9: 10372.084 | D9: 406654 | E9: 122.15469 | F9: 1521127.6 | G9: 26853.311 | H9: 66016.15 | I9: 1207.8416 | J9: 412768.85 | K9: 5574.4161 | L9: 1619956 | M9: 20874.319 | N9: 167325.21 | O9: 3845.973 | P9: 1417840.1 | Q9: 19296.983 | R9: 1896927.6 | S9: 30829.836 | T9: 1075200.4 | U9: 1075200.4 | V9: =B9+D9+F9+H9+J9+L9+N9+P9+R9+T9 -> 9509625 | W9: =C9+E9+G9+I9+K9+M9+O9+Q9+S9+U9 -> 1194177.3 | X9: =(W9-W8)/W8*100 -> 2.4699356 | Y9: =V9-T9 -> 8434424.6 | Z9: =W9-U9 -> 118976.92 | AA9: =A9 -> 2001 | AB9: 0.4570258
A10: 2002 | B10: 901032.93 | C10: 10359.755 | D10: 416153 | E10: 97.34391 | F10: 1510292.6 | G10: 25908.474 | H10: 65272.915 | I10: 1188.2369 | J10: 407925.8 | K10: 5400.7679 | L10: 1604065.2 | M10: 20459.944 | N10: 167436.44 | O10: 3550.3102 | P10: 1396300.5 | Q10: 17458.666 | R10: 1917953.2 | S10: 30823.412 | T10: 1084534.5 | U10: 1084534.5 | V10: =B10+D10+F10+H10+J10+L10+N10+P10+R10+T10 -> 9470967 | W10: =C10+E10+G10+I10+K10+M10+O10+Q10+S10+U10 -> 1199781.4 | X10: =(W10-W9)/W9*100 -> 0.469283 | Y10: =V10-T10 -> 8386432.5 | Z10: =W10-U10 -> 115246.91 | AA10: =A10 -> 2002 | AB10: 0.49005356
A11: 2003 | B11: 866424.44 | C11: 10130.323 | D11: 433700 | E11: 137.55439 | F11: 1506047.6 | G11: 24398.746 | H11: 66548.603 | I11: 1112.2568 | J11: 420938.08 | K11: 5300.9004 | L11: 1605128.1 | M11: 20424.994 | N11: 169981.63 | O11: 3519.8518 | P11: 1422605 | Q11: 16855.739 | R11: 1970648.2 | S11: 31657.298 | T11: 1090127.6 | U11: 1090127.6 | V11: =B11+D11+F11+H11+J11+L11+N11+P11+R11+T11 -> 9552149.3 | W11: =C11+E11+G11+I11+K11+M11+O11+Q11+S11+U11 -> 1203665.2 | X11: =(W11-W10)/W10*100 -> 0.32371141 | Y11: =V11-T11 -> 8462021.7 | Z11: =W11-U11 -> 113537.66 | AA11: =A11 -> 2003 | AB11: 0.48824671 | AC11: ='[2]Data Input'!B102*12 -> 12602
