Workbook

Sheet Cover
C2: KZN Multiple Deprivation Index
C3: Ranking by:
C4: Income | D4: The Deprivation Index identifies the areas of greatest need and highlights the KZN Municipalities that are most deprived or in a state of most disadvantage.
C5: Employment
C6: Health
C7: Education
C8: Living environment
C9: Crime
C10: Scores
C11: Final Ranking
C12: Rank Change
C14: Please Note
C15: Score = 1 Most Deprived
C16: Sources: Glabal Insight Reginal Explorer, National Treasury, Stats SA

Sheet Rank-income
A1: KZN Multiple Deprivation Index | B1: 1996 | D1: 2002 | F1: 2007 | H1: 2010 | J1: 2013
A2: Per Capita Income | B2: Per Capita Income | C2: Score | D2: =B2 -> Per Capita Income | E2: Score | F2: =B2 -> Per Capita Income | G2: Score | H2: =D2 -> Per Capita Income | I2: Score | J2: =F2 -> Per Capita Income | K2: Score
A3: Abaqulusi Local Municipality | B3: 5620.2023 | C3: 35 | D3: 7570.8276 | E3: 30 | F3: 11425.452 | G3: 26 | H3: 15251.967 | I3: 26 | J3: 22616.564 | K3: 32
A4: Dannhauser Local Municipality | B4: 3919.3175 | C4: 26 | D4: 3901.6664 | E4: 2 | F4: 6240.6049 | G4: 2 | H4: 8511.483 | I4: 3 | J4: 16657.772 | K4: 15
A5: eDumbe Local Municipality | B5: 3679.4921 | C5: 21 | D5: 5473.0079 | E5: 17 | F5: 7816.8235 | G5: 9 | H5: 10105.81 | I5: 10 | J5: 17026.164 | K5: 18
A6: Emadlangeni Local Municipality (Utrecht) | B6: 5547.8162 | C6: 33 | D6: 6408.0039 | E6: 24 | F6: 9610.0511 | G6: 19 | H6: 13699.208 | I6: 22 | J6: 25454.026 | K6: 36
A7: Emnambithi-Ladysmith Local Municipality | B7: 7929.1059 | C7: 41 | D7: 10779.475 | E7: 42 | F7: 15913.557 | G7: 38 | H7: 20043.153 | I7: 37 | J7: 29835.217 | K7: 41
A8: Endumeni Local Municipality | B8: 9706.3304 | C8: 45 | D8: 11579.474 | E8: 43 | F8: 17369.846 | G8: 43 | H8: 22441.017 | I8: 41 | J8: 39953.165 | K8: 45
A9: eThekwini Metropolitan Municipality | B9: 14526.117 | C9: 52 | D9: 23577.816 | E9: 51 | F9: 37872.239 | G9: 51 | H9: 47361.562 | I9: 51 | J9: 50712.19 | K9: 51
A10: Ezingoleni Local Municipality | B10: 3823.0276 | C10: 22 | D10: 6578.8477 | E10: 25 | F10: 10840.082 | G10: 24 | H10: 13849.879 | I10: 23 | J10: 16324.089 | K10: 13
A11: Greater Kokstad Local Municipality | B11: 7729.1022 | C11: 40 | D11: 9536.5797 | E11: 34 | F11: 12980.536 | G11: 30 | H11: 16688.537 | I11: 28 | J11: 33037.76 | K11: 43
A12: Hibiscus Coast Local Municipality | B12: 10063.948 | C12: 46 | D12: 16908.529 | E12: 46 | F12: 28101.804 | G12: 48 | H12: 36399.179 | I12: 48 | J12: 41918.764 | K12: 46
A13: Hlabisa Local Municipality | B13: 2765.3777 | C13: 6 | D13: 4242.2112 | E13: 4 | F13: 7115.8488 | G13: 5 | H13: 9490.2831 | I13: 5 | J13: 13555.831 | K13: 4
A14: Imbabazane Local Municipality | B14: 3266.8902 | C14: 17 | D14: 5029.245 | E14: 12 | F14: 8656.9669 | G14: 17 | H14: 11466.582 | I14: 16 | J14: 15049.18 | K14: 8
... A53: Vulamehlo Local Municipality | B53: 3112.727 | C53: 13 | D53: 5940.4361 | E53: 18 | F53: 13033.726 | G53: 31 | H53: 20010.252 | I53: 36 | J53: 15332.353 | K53: 9

Sheet Rank-employment
A1: KZN Multiple Deprivation Index | B1: 1996 | D1: 2002 | F1: 2007 | H1: 2010 | J1: 2013
A2: Number of People Formally and Informally employed | B2: Employment | C2: Score | D2: Employment | E2: Score | F2: Employment | G2: Score | H2: Employment | I2: Score | J2: Employment | K2: Score
A3: Abaqulusi Local Municipality | B3: 0.11762105 | C3: 35 | D3: 0.11047351 | E3: 33 | F3: 0.12114835 | G3: 34 | H3: 0.12636158 | I3: 34 | J3: 0.16318876 | K3: 32
A4: Dannhauser Local Municipality | B4: 0.091791236 | C4: 27 | D4: 0.043770129 | E4: 8 | F4: 0.024344352 | G4: 3 | H4: 0.016662939 | I4: 1 | J4: 0.1094689 | K4: 19
A5: eDumbe Local Municipality | B5: 0.084440012 | C5: 25 | D5: 0.087036875 | E5: 26 | F5: 0.096683855 | G5: 27 | H5: 0.099179752 | I5: 27 | J5: 0.12239161 | K5: 21
A6: Emadlangeni Local Municipality (Utrecht) | B6: 0.15767691 | C6: 41 | D6: 0.14835916 | E6: 39 | F6: 0.16453881 | G6: 38 | H6: 0.16754339 | I6: 38 | J6: 0.2011801 | K6: 37
A7: Emnambithi-Ladysmith Local Municipality | B7: 0.15189978 | C7: 40 | D7: 0.15556593 | E7: 40 | F7: 0.1681042 | G7: 39 | H7: 0.17006207 | I7: 39 | J7: 0.21729395 | K7: 41
A8: Endumeni Local Municipality | B8: 0.10468511 | C8: 32 | D8: 0.090654717 | E8: 27 | F8: 0.10352234 | G8: 28 | H8: 0.10988369 | I8: 28 | J8: 0.17981474 | K8: 33
A9: eThekwini Metropolitan Municipality | B9: 0.25031934 | C9: 50 | D9: 0.25871332 | E9: 50 | F9: 0.28887652 | G9: 48 | H9: 0.30465149 | I9: 50 | J9: 0.35563708 | K9: 51
A10: Ezingoleni Local Municipality | B10: 0.051528526 | C10: 12 | D10: 0.057094914 | E10: 17 | F10: 0.082803986 | G10: 25 | H10: 0.097323884 | I10: 26 | J10: 0.10885556 | K10: 18
A11: Greater Kokstad Local Municipality | B11: 0.2575338 | C11: 52 | D11: 0.24636987 | E11: 47 | F11: 0.2588505 | G11: 47 | H11: 0.25861522 | I11: 47 | J11: 0.29676936 | K11: 48
A12: Hibiscus Coast Local Municipality | B12: 0.17304136 | C12: 43 | D12: 0.19176093 | E12: 43 | F12: 0.22081208 | G12: 42 | H12: 0.21980592 | I12: 42 | J12: 0.24805451 | K12: 44
A13: Hlabisa Local Municipality | B13: 0.070421084 | C13: 19 | D13: 0.069788357 | E13: 22 | F13: 0.07327853 | G13: 21 | H13: 0.076199226 | I13: 24 | J13: 0.12245328 | K13: 22
A14: Imbabazane Local Municipality | B14: 0.087031057 | C14: 26 | D14: 0.068212276 | E14: 20 | F14: 0.053029582 | G14: 15 | H14: 0.06567265 | I14: 19 | J14: 0.12853037 | K14: 25
... A53: Vulamehlo Local Municipality | B53: 0.070920176 | C53: 21 | D53: 0.05286318 | E53: 14 | F53: 0.036009309 | G53: 9 | H53: 0.029152126 | I53: 7 | J53: 0.13750372 | K53: 27

Sheet Rank-health
A1: KZN Multiple Deprivation Index | B1: 1996 | D1: 2002 | F1: 2007 | H1: 2010 | J1: 2013
A2: Number of Non-HIV Infected People | B2: Health | C2: Score | D2: =B2 -> Health | E2: Score | F2: =B2 -> Health | G2: Score | H2: =B2 -> Health | I2: Score | J2: =D2 -> Health | K2: Score
A3: Abaqulusi Local Municipality | B3: 0.93507308 | C3: 19 | D3: 0.85182184 | E3: 21 | F3: 0.86461091 | G3: 25 | H3: 0.88008163 | I3: 27 | J3: 0.85019815 | K3: 26
A4: Dannhauser Local Municipality | B4: 0.93505597 | C4: 18 | D4: 0.8592235 | E4: 38 | F4: 0.87510577 | G4: 44 | H4: 0.89028194 | I4: 45 | J4: 0.86387745 | K4: 46
A5: eDumbe Local Municipality | B5: 0.93915979 | C5: 31 | D5: 0.85589192 | E5: 29 | F5: 0.86447185 | G5: 24 | H5: 0.87919845 | I5: 23 | J5: 0.85396901 | K5: 33
A6: Emadlangeni Local Municipality (Utrecht) | B6: 0.93080948 | C6: 7 | D6: 0.83643321 | E6: 7 | F6: 0.84700539 | G6: 5 | H6: 0.86497971 | I6: 6 | J6: 0.85757815 | K6: 39
A7: Emnambithi-Ladysmith Local Municipality | B7: 0.93303043 | C7: 15 | D7: 0.84196092 | E7: 12 | F7: 0.85283135 | G7: 10 | H7: 0.86963681 | I7: 10 | J7: 0.84356122 | K7: 10
A8: Endumeni Local Municipality | B8: 0.93983004 | C8: 34 | D8: 0.84946702 | E8: 16 | F8: 0.85682581 | G8: 15 | H8: 0.87156815 | I8: 14 | J8: 0.8700809 | K8: 50
A9: eThekwini Metropolitan Municipality | B9: 0.94001555 | C9: 36 | D9: 0.85801213 | E9: 35 | F9: 0.8676734 | G9: 32 | H9: 0.88287643 | I9: 35 | J9: 0.8481644 | K9: 19
A10: Ezingoleni Local Municipality | B10: 0.93924897 | C10: 32 | D10: 0.85643504 | E10: 30 | F10: 0.86625508 | G10: 30 | H10: 0.88013971 | I10: 28 | J10: 0.8470388 | K10: 16
A11: Greater Kokstad Local Municipality | B11: 0.92951488 | C11: 5 | D11: 0.82081669 | E11: 1 | F11: 0.83050306 | G11: 1 | H11: 0.84940493 | I11: 1 | J11: 0.8309338 | K11: 3
A12: Hibiscus Coast Local Municipality | B12: 0.94118092 | C12: 40 | D12: 0.85275825 | E12: 24 | F12: 0.85983715 | G12: 18 | H12: 0.87458154 | I12: 17 | J12: 0.84489661 | K12: 12
A13: Hlabisa Local Municipality | B13: 0.94328735 | C13: 46 | D13: 0.86305008 | E13: 41 | F13: 0.87045293 | G13: 37 | H13: 0.88323562 | I13: 36 | J13: 0.85603029 | K13: 38
A14: Imbabazane Local Municipality | B14: 0.9317573 | C14: 12 | D14: 0.8553028 | E14: 27 | F14: 0.87321095 | G14: 40 | H14: 0.88883258 | I14: 42 | J14: 0.84765428 | K14: 17
... A53: Vulamehlo Local Municipality | B53: 0.94024852 | C53: 37 | D53: 0.85257389 | E53: 23 | F53: 0.85236458 | G53: 9 | H53: 0.86308401 | I53: 4 | J53: 0.85006935 | K53: 25

Sheet Rank education
A1: KZN Multiple Deprivation Index | B1: 1996 | D1: 2002 | F1: 2007 | H1: 2010 | J1: 2013
A2: Post Matric Education Per Population | B2: Education, Skills and Training | C2: Score | D2: Education, Skills and Training | E2: Score | F2: Education, Skills and Training | G2: Score | H2: Education, Skills and Training | I2: Score | J2: Education, Skills and Training | K2: Score
A3: Abaqulusi Local Municipality | B3: 0.016879824 | C3: 37 | D3: 0.031857636 | E3: 38 | F3: 0.038826182 | G3: 38 | H3: 0.046295705 | I3: 38 | J3: 0.030385276 | K3: 36
A4: Dannhauser Local Municipality | B4: 0.0081803125 | C4: 23 | D4: 0.016521434 | E4: 22 | F4: 0.020300382 | G4: 21 | H4: 0.024269171 | I4: 20 | J4: 0.017316307 | K4: 11
A5: eDumbe Local Municipality | B5: 0.0068406403 | C5: 20 | D5: 0.01441092 | E5: 19 | F5: 0.01861408 | G5: 19 | H5: 0.022999564 | I5: 18 | J5: 0.018857532 | K5: 13
A6: Emadlangeni Local Municipality (Utrecht) | B6: 0.012718844 | C6: 34 | D6: 0.027339711 | E6: 36 | F6: 0.03369086 | G6: 36 | H6: 0.039692043 | I6: 36 | J6: 0.042883191 | K6: 40
A7: Emnambithi-Ladysmith Local Municipality | B7: 0.020871966 | C7: 38 | D7: 0.037017839 | E7: 39 | F7: 0.044454938 | G7: 39 | H7: 0.051568418 | I7: 40 | J7: 0.049781316 | K7: 42
A8: Endumeni Local Municipality | B8: 0.03315661 | C8: 46 | D8: 0.045137679 | E8: 44 | F8: 0.050299891 | G8: 44 | H8: 0.056759727 | I8: 44 | J8: 0.059329322 | K8: 45
A9: eThekwini Metropolitan Municipality | B9: 0.045732362 | C9: 50 | D9: 0.063040892 | E9: 49 | F9: 0.072508185 | G9: 49 | H9: 0.080450247 | I9: 49 | J9: 0.075423922 | K9: 50
A10: Ezingoleni Local Municipality | B10: 0.0057973293 | C10: 17 | D10: 0.01231171 | E10: 14 | F10: 0.016497022 | G10: 13 | H10: 0.02085446 | I10: 13 | J10: 0.020389663 | K10: 17
A11: Greater Kokstad Local Municipality | B11: 0.024513684 | C11: 40 | D11: 0.048427832 | E11: 46 | F11: 0.059156164 | G11: 46 | H11: 0.068772927 | I11: 47 | J11: 0.060628429 | K11: 47
A12: Hibiscus Coast Local Municipality | B12: 0.030884889 | C12: 44 | D12: 0.042775668 | E12: 43 | F12: 0.049354915 | G12: 43 | H12: 0.056437338 | I12: 43 | J12: 0.066097482 | K12: 48
A13: Hlabisa Local Municipality | B13: 0.0025725599 | C13: 2 | D13: 0.012079815 | E13: 12 | F13: 0.016575265 | G13: 14 | H13: 0.02093773 | I13: 14 | J13: 0.010510996 | K13: 3
A14: Imbabazane Local Municipality | B14: 0.0038347073 | C14: 6 | D14: 0.010886445 | E14: 7 | F14: 0.013926628 | G14: 4 | H14: 0.017036525 | I14: 4 | J14: 0.017848042 | K14: 12
... A53: Vulamehlo Local Municipality | B53: 0.0043638135 | C53: 8 | D53: 0.010217307 | E53: 5 | F53: 0.014730257 | G53: 7 | H53: 0.019242028 | I53: 8 | J53: 0.012720535 | K53: 5

Sheet Rank-Living enviro
A1: KZN Multiple Deprivation Index | B1: 1996 | G1: 2002 | L1: 2007 | Q1: 2010 | V1: 2013
A2: Household Infrastructure | B2: Toilet-Index- Base KZN Total | C2: Water-Index- Base KZN Total | D2: Electricity -Index- Base KZN Total | E2: Weighted average inverse | F2: Score | G2: Toilet-Index- Base KZN Total | H2: Water-Index- Base KZN Total | I2: Electricity -Index- Base KZN Total | J2: Weighted average inverse | K2: Score | L2: Toilet-Index- Base KZN Total | M2: Water-Index- Base KZN Total | N2: Electricity -Index- Base KZN Total | O2: Weighted average inverse | P2: Score | Q2: Toilet-Index- Base KZN Total | R2: Water-Index- Base KZN Total | S2: Electricity -Index- Base KZN Total | T2: Weighted average inverse | U2: Score | V2: Toilet-Index- Base KZN Total | W2: Water-Index- Base KZN Total | X2: Electricity -Index- Base KZN Total | Y2: Weighted average inverse | Z2: Score
A3: Abaqulusi Local Municipality | B3: 0.5091958 | C3: 0.59097363 | D3: 0.36097156 | E3: =((B3*1/3)+(C3*1/3)+(D3*1/3)) -> 0.48704699 | F3: 37 | G3: 0.47280446 | H3: 0.56492151 | I3: 0.49164429 | J3: =((G3*1/3)+(H3*1/3)+(I3*1/3)) -> 0.50979009 | K3: 35 | L3: 0.54712453 | M3: 0.68164795 | N3: 0.63670166 | O3: =((L3*1/3)+(M3*1/3)+(N3*1/3)) -> 0.62182471 | P3: 37 | Q3: 0.6270117 | R3: 0.72479554 | S3: 0.68185992 | T3: =((Q3*1/3)+(R3*1/3)+(S3*1/3)) -> 0.67788906 | U3: 39 | V3: 0.63994222 | W3: 0.75686761 | X3: 0.74340869 | Y3: =((V3*1/3)+(W3*1/3)+(X3*1/3)) -> 0.71340617 | Z3: 38
A4: Dannhauser Local Municipality | B4: 0.31349841 | C4: 0.35441458 | D4: 0.28799669 | E4: =((B4*1/3)+(C4*1/3)+(D4*1/3)) -> 0.31863656 | F4: 30 | G4: 0.23537157 | H4: 0.33750659 | I4: 0.45925435 | J4: =((G4*1/3)+(H4*1/3)+(I4*1/3)) -> 0.34404417 | K4: 18 | L4: 0.35930992 | M4: 0.35033948 | N4: 0.39304252 | O4: =((L4*1/3)+(M4*1/3)+(N4*1/3)) -> 0.36756397 | P4: 14 | Q4: 0.33055024 | R4: 0.34730775 | S4: 0.30041843 | T4: =((Q4*1/3)+(R4*1/3)+(S4*1/3)) -> 0.32609214 | U4: 6 | V4: 0.36536335 | W4: 0.77736372 | X4: 0.8025093 | Y4: =((V4*1/3)+(W4*1/3)+(X4*1/3)) -> 0.64841213 | Z4: 29
A5: eDumbe Local Municipality | B5: 0.182074 | C5: 0.42028203 | D5: 0.3002875 | E5: =((B5*1/3)+(C5*1/3)+(D5*1/3)) -> 0.30088118 | F5: 26 | G5: 0.34954228 | H5: 0.52364325 | I5: 0.35776899 | J5: =((G5*1/3)+(H5*1/3)+(I5*1/3)) -> 0.41031817 | K5: 25 | L5: 0.48018687 | M5: 0.65358445 | N5: 0.35436888 | O5: =((L5*1/3)+(M5*1/3)+(N5*1/3)) -> 0.49604674 | P5: 23 | Q5: 0.48473477 | R5: 0.70611003 | S5: 0.33126229 | T5: =((Q5*1/3)+(R5*1/3)+(S5*1/3)) -> 0.50736903 | U5: 23 | V5: 0.80772286 | W5: 0.62442018 | X5: 0.63578881 | Y5: =((V5*1/3)+(W5*1/3)+(X5*1/3)) -> 0.68931061 | Z5: 35
A6: Emadlangeni Local Municipality (Utrecht) | B6: 0.37201015 | C6: 0.40547562 | D6: 0.29467946 | E6: =((B6*1/3)+(C6*1/3)+(D6*1/3)) -> 0.35738841 | F6: 33 | G6: 0.31351598 | H6: 0.4943643 | I6: 0.41855992 | J6: =((G6*1/3)+(H6*1/3)+(I6*1/3)) -> 0.4088134 | K6: 24 | L6: 0.45826265 | M6: 0.54484695 | N6: 0.81077216 | O6: =((L6*1/3)+(M6*1/3)+(N6*1/3)) -> 0.60462725 | P6: 35 | Q6: 0.4512829 | R6: 0.57916727 | S6: 0.9501247 | T6: =((Q6*1/3)+(R6*1/3)+(S6*1/3)) -> 0.66019162 | U6: 35 | V6: 0.64833453 | W6: 0.69497629 | X6: 0.72309933 | Y6: =((V6*1/3)+(W6*1/3)+(X6*1/3)) -> 0.68880338 | Z6: 34
A7: Emnambithi-Ladysmith Local Municipality | B7: 0.58118695 | C7: 0.69717729 | D7: 0.61252064 | E7: =((B7*1/3)+(C7*1/3)+(D7*1/3)) -> 0.63029496 | F7: 43 | G7: 0.57004672 | H7: 0.69797677 | I7: 0.66855803 | J7: =((G7*1/3)+(H7*1/3)+(I7*1/3)) -> 0.64552717 | K7: 41 | L7: 0.64638205 | M7: 0.68417653 | N7: 0.5539427 | O7: =((L7*1/3)+(M7*1/3)+(N7*1/3)) -> 0.62816709 | P7: 38 | Q7: 0.71554578 | R7: 0.70629366 | S7: 0.50236153 | T7: =((Q7*1/3)+(R7*1/3)+(S7*1/3)) -> 0.64140033 | U7: 33 | V7: 0.74249649 | W7: 0.75269279 | X7: 0.8332978 | Y7: =((V7*1/3)+(W7*1/3)+(X7*1/3)) -> 0.77616236 | Z7: 44
A8: Endumeni Local Municipality | B8: 0.81235407 | C8: 0.87533353 | D8: 0.6669826 | E8: =((B8*1/3)+(C8*1/3)+(D8*1/3)) -> 0.78489007 | F8: 51 | G8: 0.81344053 | H8: 0.88100135 | I8: 0.72007244 | J8: =((G8*1/3)+(H8*1/3)+(I8*1/3)) -> 0.80483811 | K8: 51 | L8: 0.81716866 | M8: 0.90547071 | N8: 0.77808638 | O8: =((L8*1/3)+(M8*1/3)+(N8*1/3)) -> 0.83357525 | P8: 52 | Q8: 0.84076815 | R8: 0.91479273 | S8: 0.81840946 | T8: =((Q8*1/3)+(R8*1/3)+(S8*1/3)) -> 0.85799012 | U8: 52 | V8: 0.87994509 | W8: 0.87408024 | X8: 0.81213151 | Y8: =((V8*1/3)+(W8*1/3)+(X8*1/3)) -> 0.85538561 | Z8: 49
A9: eThekwini Metropolitan Municipality | B9: 0.71625207 | C9: 0.86153016 | D9: 0.76227369 | E9: =((B9*1/3)+(C9*1/3)+(D9*1/3)) -> 0.78001864 | F9: 50 | G9: 0.73899811 | H9: 0.86981607 | I9: 0.83154334 | J9: =((G9*1/3)+(H9*1/3)+(I9*1/3)) -> 0.81345251 | K9: 52 | L9: 0.76532242 | M9: 0.83283883 | N9: 0.88056721 | O9: =((L9*1/3)+(M9*1/3)+(N9*1/3)) -> 0.82624282 | P9: 50 | Q9: 0.79720847 | R9: 0.83914678 | S9: 0.88624725 | T9: =((Q9*1/3)+(R9*1/3)+(S9*1/3)) -> 0.8408675 | U9: 51 | V9: 0.84738396 | W9: 0.88467432 | X9: 0.91004518 | Y9: =((V9*1/3)+(W9*1/3)+(X9*1/3)) -> 0.88070115 | Z9: 51
A10: Ezingoleni Local Municipality | B10: 0.16864192 | C10: 0.13166448 | D10: 0.30635984 | E10: =((B10*1/3)+(C10*1/3)+(D10*1/3)) -> 0.20222208 | F10: 18 | G10: 0.33646554 | H10: 0.23182034 | I10: 0.40756194 | J10: =((G10*1/3)+(H10*1/3)+(I10*1/3)) -> 0.32528261 | K10: 15 | L10: 0.47037835 | M10: 0.30452232 | N10: 0.348228 | O10: =((L10*1/3)+(M10*1/3)+(N10*1/3)) -> 0.37437623 | P10: 15 | Q10: 0.58620111 | R10: 0.30621665 | S10: 0.30951664 | T10: =((Q10*1/3)+(R10*1/3)+(S10*1/3)) -> 0.4006448 | U10: 15 | V10: 0.83992634 | W10: 0.38203496 | X10: 0.79984368 | Y10: =((V10*1/3)+(W10*1/3)+(X10*1/3)) -> 0.67393499 | Z10: 31
A11: Greater Kokstad Local Municipality | B11: 0.5665064 | C11: 0.7566089 | D11: 0.33808309 | E11: =((B11*1/3)+(C11*1/3)+(D11*1/3)) -> 0.5537328 | F11: 39 | G11: 0.67473071 | H11: 0.86209478 | I11: 0.52607513 | J11: =((G11*1/3)+(H11*1/3)+(I11*1/3)) -> 0.68763354 | K11: 45 | L11: 0.7232653 | M11: 0.77582549 | N11: 0.58452053 | O11: =((L11*1/3)+(M11*1/3)+(N11*1/3)) -> 0.69453711 | P11: 42 | Q11: 0.71372314 | R11: 0.76469488 | S11: 0.51210751 | T11: =((Q11*1/3)+(R11*1/3)+(S11*1/3)) -> 0.66350851 | U11: 36 | V11: 0.83291654 | W11: 0.83532475 | X11: 0.81646723 | Y11: =((V11*1/3)+(W11*1/3)+(X11*1/3)) -> 0.82823617 | Z11: 46
A12: Hibiscus Coast Local Municipality | B12: 0.57572117 | C12: 0.60501394 | D12: 0.7563539 | E12: =((B12*1/3)+(C12*1/3)+(D12*1/3)) -> 0.64569634 | F12: 45 | G12: 0.51918801 | H12: 0.56881527 | I12: 0.74743754 | J12: =((G12*1/3)+(H12*1/3)+(I12*1/3)) -> 0.6118136 | K12: 40 | L12: 0.5136506 | M12: 0.69026628 | N12: 0.64379926 | O12: =((L12*1/3)+(M12*1/3)+(N12*1/3)) -> 0.61590538 | P12: 36 | Q12: 0.57209002 | R12: 0.71021576 | S12: 0.60445867 | T12: =((Q12*1/3)+(R12*1/3)+(S12*1/3)) -> 0.62892148 | U12: 32 | V12: 0.67649406 | W12: 0.72319003 | X12: 0.87500546 | Y12: =((V12*1/3)+(W12*1/3)+(X12*1/3)) -> 0.75822985 | Z12: 43
A13: Hlabisa Local Municipality | B13: 0.086409152 | C13: 0.059650006 | D13: 0.18708227 | E13: =((B13*1/3)+(C13*1/3)+(D13*1/3)) -> 0.11104714 | F13: 7 | G13: 0.25289542 | H13: 0.2472767 | I13: 0.35041148 | J13: =((G13*1/3)+(H13*1/3)+(I13*1/3)) -> 0.28352786 | K13: 9 | L13: 0.30043804 | M13: 0.38027273 | N13: 0.39308654 | O13: =((L13*1/3)+(M13*1/3)+(N13*1/3)) -> 0.35793243 | P13: 11 | Q13: 0.39337778 | R13: 0.39652268 | S13: 0.40706392 | T13: =((Q13*1/3)+(R13*1/3)+(S13*1/3)) -> 0.39898813 | U13: 14 | V13: 0.53039211 | W13: 0.36952352 | X13: 0.56140476 | Y13: =((V13*1/3)+(W13*1/3)+(X13*1/3)) -> 0.4871068 | Z13: 12
A14: Imbabazane Local Municipality | B14: 0.18086843 | C14: 0.32887611 | D14: 0.40050614 | E14: =((B14*1/3)+(C14*1/3)+(D14*1/3)) -> 0.30341689 | F14: 27 | G14: 0.19445983 | H14: 0.28606973 | I14: 0.6076358 | J14: =((G14*1/3)+(H14*1/3)+(I14*1/3)) -> 0.36272179 | K14: 20 | L14: 0.34292929 | M14: 0.22949881 | N14: 0.33651856 | O14: =((L14*1/3)+(M14*1/3)+(N14*1/3)) -> 0.30298222 | P14: 5 | Q14: 0.47129058 | R14: 0.22038192 | S14: 0.24592128 | T14: =((Q14*1/3)+(R14*1/3)+(S14*1/3)) -> 0.31253126 | U14: 4 | V14: 0.7041258 | W14: 0.27524351 | X14: 0.70565337 | Y14: =((V14*1/3)+(W14*1/3)+(X14*1/3)) -> 0.56167423 | Z14: 18
... A53: Vulamehlo Local Municipality | B53: 0.19809984 | C53: 0.10511495 | D53: 0.14197638 | E53: =((B53*1/3)+(C53*1/3)+(D53*1/3)) -> 0.14839706 | F53: 14 | G53: 0.3850296 | H53: 0.18151043 | I53: 0.29134315 | J53: =((G53*1/3)+(H53*1/3)+(I53*1/3)) -> 0.28596106 | K53: 10 | L53: 0.39693165 | M53: 0.24592411 | N53: 0.45397815 | O53: =((L53*1/3)+(M53*1/3)+(N53*1/3)) -> 0.3656113 | P53: 13 | Q53: 0.47640667 | R53: 0.2606863 | S53: 0.49311273 | T53: =((Q53*1/3)+(R53*1/3)+(S53*1/3)) -> 0.41006857 | U53: 16 | V53: 0.60362527 | W53: 0.34707213 | X53: 0.37894889 | Y53: =((V53*1/3)+(W53*1/3)+(X53*1/3)) -> 0.44321543 | Z53: 7

Sheet Rank-crime
A1: KZN Multiple Deprivation Index | B1: 1996 | D1: 2002 | F1: 2007 | H1: 2010 | J1: 2013
A2: Global Insight Crime Index | B2: Crime | C2: Score | D2: Crime | E2: Score | F2: Crime | G2: Score | H2: Crime | I2: Score | J2: Crime | K2: Score
A3: Abaqulusi Local Municipality | B3: 118.2206 | C3: 37 | D3: 104.92816 | E3: 28 | F3: 79.704442 | G3: 31 | H3: 89.691008 | I3: 35 | J3: 81.407765 | K3: 32
A4: Dannhauser Local Municipality | B4: 81.231032 | C4: 25 | D4: 82.877003 | E4: 18 | F4: 67.777249 | G4: 24 | H4: 70.040189 | I4: 22 | J4: 62.008052 | K4: 17
A5: eDumbe Local Municipality | B5: 77.109668 | C5: 22 | D5: 85.864152 | E5: 23 | F5: 54.589983 | G5: 12 | H5: 55.565916 | I5: 10 | J5: 52.451966 | K5: 10
A6: Emadlangeni Local Municipality (Utrecht) | B6: 134.86542 | C6: 40 | D6: 112.77419 | E6: 31 | F6: 70.501587 | G6: 25 | H6: 76.355782 | I6: 26 | J6: 82.919586 | K6: 35
A7: Emnambithi-Ladysmith Local Municipality | B7: 143.21725 | C7: 42 | D7: 155.98197 | E7: 44 | F7: 104.89381 | G7: 40 | H7: 125.91453 | I7: 46 | J7: 116.55799 | K7: 46
A8: Endumeni Local Municipality | B8: 244.93424 | C8: 51 | D8: 216.87926 | E8: 51 | F8: 142.62461 | G8: 47 | H8: 151.94756 | I8: 51 | J8: 133.95884 | K8: 50
A9: eThekwini Metropolitan Municipality | B9: 147.91274 | C9: 44 | D9: 171.64363 | E9: 45 | F9: 146.56556 | G9: 49 | H9: 138.04869 | I9: 47 | J9: 128.53378 | K9: 47
A10: Ezingoleni Local Municipality | B10: 66.299352 | C10: 15 | D10: 74.181302 | E10: 12 | F10: 63.087193 | G10: 17 | H10: 79.383811 | I10: 29 | J10: 79.119583 | K10: 30
A11: Greater Kokstad Local Municipality | B11: 216.50799 | C11: 49 | D11: 179.40084 | E11: 46 | F11: 90.864065 | G11: 34 | H11: 114.02685 | I11: 44 | J11: 103.20828 | K11: 41
A12: Hibiscus Coast Local Municipality | B12: 166.81537 | C12: 46 | D12: 180.5426 | E12: 47 | F12: 146.54083 | G12: 48 | H12: 139.58315 | I12: 48 | J12: 128.74608 | K12: 48
A13: Hlabisa Local Municipality | B13: 64.505007 | C13: 13 | D13: 113.25571 | E13: 32 | F13: 85.939862 | G13: 33 | H13: 72.479519 | I13: 25 | J13: 68.190644 | K13: 22
A14: Imbabazane Local Municipality | B14: 86.416087 | C14: 28 | D14: 92.805778 | E14: 26 | F14: 65.047463 | G14: 20 | H14: 65.593804 | I14: 17 | J14: 62.381793 | K14: 19
... A53: Vulamehlo Local Municipality | B53: 75.928379 | C53: 21 | D53: 128.81882 | E53: 37 | F53: 108.34859 | G53: 43 | H53: 93.740435 | I53: 37 | J53: 85.167771 | K53: 36

Sheet Scores
A1: KZN Multiple Deprivation Index-Ranking | B1: 1996 | I1: 2002 | P1: 2007 | W1: 2010 | AD1: 2013
A2: Scores | B2: Income | C2: Employment | D2: Health | E2: Education | F2: Living Eviron | G2: Crime | H2: Weighted Average | I2: Income | J2: Employment | K2: Health | L2: Education | M2: Living Eviron | N2: Crime | O2: Weighted Average | P2: Income | Q2: Employment | R2: Health | S2: Education | T2: Living Eviron | U2: Crime | V2: Weighted Average | W2: Income | X2: Employment | Y2: Health | Z2: Education | AA2: Living Eviron | AB2: Crime | AC2: Weighted Average | AD2: Income | AE2: Employment | AF2: Health | AG2: Education | AH2: Living Eviron | AI2: Crime | AJ2: Weighted Average
A3: Abaqulusi Local Municipality | B3: ='Rank-income'!C3 -> 35 | C3: ='Rank-employment'!C3 -> 35 | D3: ='Rank-health'!C3 -> 19 | E3: ='Rank education'!C3 -> 37 | F3: ='Rank-Living enviro'!F3 -> 37 | G3: ='Rank-crime'!C3 -> 37 | H3: =0.25*(B3)+0.25*(C3)+0.14*(D3)+0.14*(E3)+0.14*(F3)+0.08*(G3) -> 33.48 | I3: ='Rank-income'!E3 -> 30 | J3: ='Rank-employment'!E3 -> 33 | K3: ='Rank-health'!E3 -> 21 | L3: ='Rank-employment'!E3 -> 33 | M3: ='Rank-Living enviro'!K3 -> 35 | N3: ='Rank-crime'!E3 -> 28 | O3: =0.25*(I3)+0.25*(J3)+0.14*(K3)+0.14*(L3)+0.14*(M3)+0.08*(N3) -> 30.45 | P3: ='Rank-income'!G3 -> 26 | Q3: ='Rank-employment'!G3 -> 34 | R3: ='Rank-health'!G3 -> 25 | S3: ='Rank education'!G3 -> 38 | T3: ='Rank-Living enviro'!P3 -> 37 | U3: ='Rank-crime'!G3 -> 31 | V3: =0.25*(P3)+0.25*(Q3)+0.14*(R3)+0.14*(S3)+0.14*(T3)+0.08*(U3) -> 31.48 | W3: ='Rank-income'!I3 -> 26 | X3: ='Rank-employment'!I3 -> 34 | Y3: ='Rank-health'!I3 -> 27 | Z3: ='Rank-employment'!I3 -> 34 | AA3: ='Rank-Living enviro'!U3 -> 39 | AB3: ='Rank-crime'!I3 -> 35 | AC3: =0.25*(W3)+0.25*(X3)+0.14*(Y3)+0.14*(Z3)+0.14*(AA3)+0.08*(AB3) -> 31.8 | AD3: ='Rank-income'!K3 -> 32 | AE3: ='Rank-employment'!K3 -> 32 | AF3: ='Rank-health'!K3 -> 26 | AG3: ='Rank education'!K3 -> 36 | AH3: ='Rank-Living enviro'!Z3 -> 38 | AI3: ='Rank-crime'!K3 -> 32 | AJ3: =0.25*(AD3)+0.25*(AE3)+0.14*(AF3)+0.14*(AG3)+0.14*(AH3)+0.08*(AI3) -> 32.56
A4: Dannhauser Local Municipality | B4: ='Rank-income'!C4 -> 26 | C4: ='Rank-employment'!C4 -> 27 | D4: ='Rank-health'!C4 -> 18 | E4: ='Rank education'!C4 -> 23 | F4: ='Rank-Living enviro'!F4 -> 30 | G4: ='Rank-crime'!C4 -> 25 | H4: =0.25*(B4)+0.25*(C4)+0.14*(D4)+0.14*(E4)+0.14*(F4)+0.08*(G4) -> 25.19 | I4: ='Rank-income'!E4 -> 2 | J4: ='Rank-employment'!E4 -> 8 | K4: ='Rank-health'!E4 -> 38 | L4: ='Rank-employment'!E4 -> 8 | M4: ='Rank-Living enviro'!K4 -> 18 | N4: ='Rank-crime'!E4 -> 18 | O4: =0.25*(I4)+0.25*(J4)+0.14*(K4)+0.14*(L4)+0.14*(M4)+0.08*(N4) -> 12.9 | P4: ='Rank-income'!G4 -> 2 | Q4: ='Rank-employment'!G4 -> 3 | R4: ='Rank-health'!G4 -> 44 | S4: ='Rank education'!G4 -> 21 | T4: ='Rank-Living enviro'!P4 -> 14 | U4: ='Rank-crime'!G4 -> 24 | V4: =0.25*(P4)+0.25*(Q4)+0.14*(R4)+0.14*(S4)+0.14*(T4)+0.08*(U4) -> 14.23 | W4: ='Rank-income'!I4 -> 3 | X4: ='Rank-employment'!I4 -> 1 | Y4: ='Rank-health'!I4 -> 45 | Z4: ='Rank-employment'!I4 -> 1 | AA4: ='Rank-Living enviro'!U4 -> 6 | AB4: ='Rank-crime'!I4 -> 22 | AC4: =0.25*(W4)+0.25*(X4)+0.14*(Y4)+0.14*(Z4)+0.14*(AA4)+0.08*(AB4) -> 10.04 | AD4: ='Rank-income'!K4 -> 15 | AE4: ='Rank-employment'!K4 -> 19 | AF4: ='Rank-health'!K54 -> 0 | AG4: ='Rank education'!K4 -> 11 | AH4: ='Rank-Living enviro'!Z4 -> 29 | AI4: ='Rank-crime'!K4 -> 17 | AJ4: =0.25*(AD4)+0.25*(AE4)+0.14*(AF4)+0.14*(AG4)+0.14*(AH4)+0.08*(AI4) -> 15.46
A5: eDumbe Local Municipality | B5: ='Rank-income'!C5 -> 21 | C5: ='Rank-employment'!C5 -> 25 | D5: ='Rank-health'!C5 -> 31 | E5: ='Rank education'!C5 -> 20 | F5: ='Rank-Living enviro'!F5 -> 26 | G5: ='Rank-crime'!C5 -> 22 | H5: =0.25*(B5)+0.25*(C5)+0.14*(D5)+0.14*(E5)+0.14*(F5)+0.08*(G5) -> 24.04 | I5: ='Rank-income'!E5 -> 17 | J5: ='Rank-employment'!E5 -> 26 | K5: ='Rank-health'!E5 -> 29 | L5: ='Rank-employment'!E5 -> 26 | M5: ='Rank-Living enviro'!K5 -> 25 | N5: ='Rank-crime'!E5 -> 23 | O5: =0.25*(I5)+0.25*(J5)+0.14*(K5)+0.14*(L5)+0.14*(M5)+0.08*(N5) -> 23.79 | P5: ='Rank-income'!G5 -> 9 | Q5: ='Rank-employment'!G5 -> 27 | R5: ='Rank-health'!G5 -> 24 | S5: ='Rank education'!G5 -> 19 | T5: ='Rank-Living enviro'!P5 -> 23 | U5: ='Rank-crime'!G5 -> 12 | V5: =0.25*(P5)+0.25*(Q5)+0.14*(R5)+0.14*(S5)+0.14*(T5)+0.08*(U5) -> 19.2 | W5: ='Rank-income'!I5 -> 10 | X5: ='Rank-employment'!I5 -> 27 | Y5: ='Rank-health'!I5 -> 23 | Z5: ='Rank-employment'!I5 -> 27 | AA5: ='Rank-Living enviro'!U5 -> 23 | AB5: ='Rank-crime'!I5 -> 10 | AC5: =0.25*(W5)+0.25*(X5)+0.14*(Y5)+0.14*(Z5)+0.14*(AA5)+0.08*(AB5) -> 20.27 | AD5: ='Rank-income'!K5 -> 18 | AE5: ='Rank-employment'!K5 -> 21 | AF5: ='Rank-health'!K55 -> 0 | AG5: ='Rank education'!K5 -> 13 | AH5: ='Rank-Living enviro'!Z5 -> 35 | AI5: ='Rank-crime'!K5 -> 10 | AJ5: =0.25*(AD5)+0.25*(AE5)+0.14*(AF5)+0.14*(AG5)+0.14*(AH5)+0.08*(AI5) -> 17.27
A6: Emadlangeni Local Municipality (Utrecht) | B6: ='Rank-income'!C6 -> 33 | C6: ='Rank-employment'!C6 -> 41 | D6: ='Rank-health'!C6 -> 7 | E6: ='Rank education'!C6 -> 34 | F6: ='Rank-Living enviro'!F6 -> 33 | G6: ='Rank-crime'!C6 -> 40 | H6: =0.25*(B6)+0.25*(C6)+0.14*(D6)+0.14*(E6)+0.14*(F6)+0.08*(G6) -> 32.06 | I6: ='Rank-income'!E6 -> 24 | J6: ='Rank-employment'!E6 -> 39 | K6: ='Rank-health'!E6 -> 7 | L6: ='Rank-employment'!E6 -> 39 | M6: ='Rank-Living enviro'!K6 -> 24 | N6: ='Rank-crime'!E6 -> 31 | O6: =0.25*(I6)+0.25*(J6)+0.14*(K6)+0.14*(L6)+0.14*(M6)+0.08*(N6) -> 28.03 | P6: ='Rank-income'!G6 -> 19 | Q6: ='Rank-employment'!G6 -> 38 | R6: ='Rank-health'!G6 -> 5 | S6: ='Rank education'!G6 -> 36 | T6: ='Rank-Living enviro'!P6 -> 35 | U6: ='Rank-crime'!G6 -> 25 | V6: =0.25*(P6)+0.25*(Q6)+0.14*(R6)+0.14*(S6)+0.14*(T6)+0.08*(U6) -> 26.89 | W6: ='Rank-income'!I6 -> 22 | X6: ='Rank-employment'!I6 -> 38 | Y6: ='Rank-health'!I6 -> 6 | Z6: ='Rank-employment'!I6 -> 38 | AA6: ='Rank-Living enviro'!U6 -> 35 | AB6: ='Rank-crime'!I6 -> 26 | AC6: =0.25*(W6)+0.25*(X6)+0.14*(Y6)+0.14*(Z6)+0.14*(AA6)+0.08*(AB6) -> 28.14 | AD6: ='Rank-income'!K6 -> 36 | AE6: ='Rank-employment'!K6 -> 37 | AF6: ='Rank-health'!K56 -> 0 | AG6: ='Rank education'!K6 -> 40 | AH6: ='Rank-Living enviro'!Z6 -> 34 | AI6: ='Rank-crime'!K6 -> 35 | AJ6: =0.25*(AD6)+0.25*(AE6)+0.14*(AF6)+0.14*(AG6)+0.14*(AH6)+0.08*(AI6) -> 31.41
A7: Emnambithi-Ladysmith Local Municipality | B7: ='Rank-income'!C7 -> 41 | C7: ='Rank-employment'!C7 -> 40 | D7: ='Rank-health'!C7 -> 15 | E7: ='Rank education'!C7 -> 38 | F7: ='Rank-Living enviro'!F7 -> 43 | G7: ='Rank-crime'!C7 -> 42 | H7: =0.25*(B7)+0.25*(C7)+0.14*(D7)+0.14*(E7)+0.14*(F7)+0.08*(G7) -> 37.05 | I7: ='Rank-income'!E7 -> 42 | J7: ='Rank-employment'!E7 -> 40 | K7: ='Rank-health'!E7 -> 12 | L7: ='Rank-employment'!E7 -> 40 | M7: ='Rank-Living enviro'!K7 -> 41 | N7: ='Rank-crime'!E7 -> 44 | O7: =0.25*(I7)+0.25*(J7)+0.14*(K7)+0.14*(L7)+0.14*(M7)+0.08*(N7) -> 37.04 | P7: ='Rank-income'!G7 -> 38 | Q7: ='Rank-employment'!G7 -> 39 | R7: ='Rank-health'!G7 -> 10 | S7: ='Rank education'!G7 -> 39 | T7: ='Rank-Living enviro'!P7 -> 38 | U7: ='Rank-crime'!G7 -> 40 | V7: =0.25*(P7)+0.25*(Q7)+0.14*(R7)+0.14*(S7)+0.14*(T7)+0.08*(U7) -> 34.63 | W7: ='Rank-income'!I7 -> 37 | X7: ='Rank-employment'!I7 -> 39 | Y7: ='Rank-health'!I7 -> 10 | Z7: ='Rank-employment'!I7 -> 39 | AA7: ='Rank-Living enviro'!U7 -> 33 | AB7: ='Rank-crime'!I7 -> 46 | AC7: =0.25*(W7)+0.25*(X7)+0.14*(Y7)+0.14*(Z7)+0.14*(AA7)+0.08*(AB7) -> 34.16 | AD7: ='Rank-income'!K7 -> 41 | AE7: ='Rank-employment'!K7 -> 41 | AF7: ='Rank-health'!K57 -> 0 | AG7: ='Rank education'!K7 -> 42 | AH7: ='Rank-Living enviro'!Z7 -> 44 | AI7: ='Rank-crime'!K7 -> 46 | AJ7: =0.25*(AD7)+0.25*(AE7)+0.14*(AF7)+0.14*(AG7)+0.14*(AH7)+0.08*(AI7) -> 36.22
A8: Endumeni Local Municipality | B8: ='Rank-income'!C8 -> 45 | C8: ='Rank-employment'!C8 -> 32 | D8: ='Rank-health'!C8 -> 34 | E8: ='Rank education'!C8 -> 46 | F8: ='Rank-Living enviro'!F8 -> 51 | G8: ='Rank-crime'!C8 -> 51 | H8: =0.25*(B8)+0.25*(C8)+0.14*(D8)+0.14*(E8)+0.14*(F8)+0.08*(G8) -> 41.67 | I8: ='Rank-income'!E8 -> 43 | J8: ='Rank-employment'!E8 -> 27 | K8: ='Rank-health'!E8 -> 16 | L8: ='Rank-employment'!E8 -> 27 | M8: ='Rank-Living enviro'!K8 -> 51 | N8: ='Rank-crime'!E8 -> 51 | O8: =0.25*(I8)+0.25*(J8)+0.14*(K8)+0.14*(L8)+0.14*(M8)+0.08*(N8) -> 34.74 | P8: ='Rank-income'!G8 -> 43 | Q8: ='Rank-employment'!G8 -> 28 | R8: ='Rank-health'!G8 -> 15 | S8: ='Rank education'!G8 -> 44 | T8: ='Rank-Living enviro'!P8 -> 52 | U8: ='Rank-crime'!G8 -> 47 | V8: =0.25*(P8)+0.25*(Q8)+0.14*(R8)+0.14*(S8)+0.14*(T8)+0.08*(U8) -> 37.05 | W8: ='Rank-income'!I8 -> 41 | X8: ='Rank-employment'!I8 -> 28 | Y8: ='Rank-health'!I8 -> 14 | Z8: ='Rank-employment'!I8 -> 28 | AA8: ='Rank-Living enviro'!U8 -> 52 | AB8: ='Rank-crime'!I8 -> 51 | AC8: =0.25*(W8)+0.25*(X8)+0.14*(Y8)+0.14*(Z8)+0.14*(AA8)+0.08*(AB8) -> 34.49 | AD8: ='Rank-income'!K8 -> 45 | AE8: ='Rank-employment'!K8 -> 33 | AF8: ='Rank-health'!K58 -> 0 | AG8: ='Rank education'!K8 -> 45 | AH8: ='Rank-Living enviro'!Z8 -> 49 | AI8: ='Rank-crime'!K8 -> 50 | AJ8: =0.25*(AD8)+0.25*(AE8)+0.14*(AF8)+0.14*(AG8)+0.14*(AH8)+0.08*(AI8) -> 36.66
A9: eThekwini Metropolitan Municipality | B9: ='Rank-income'!C9 -> 52 | C9: ='Rank-employment'!C9 -> 50 | D9: ='Rank-health'!C9 -> 36 | E9: ='Rank education'!C9 -> 50 | F9: ='Rank-Living enviro'!F9 -> 50 | G9: ='Rank-crime'!C9 -> 44 | H9: =0.25*(B9)+0.25*(C9)+0.14*(D9)+0.14*(E9)+0.14*(F9)+0.08*(G9) -> 48.06 | I9: ='Rank-income'!E9 -> 51 | J9: ='Rank-employment'!E9 -> 50 | K9: ='Rank-health'!E9 -> 35 | L9: ='Rank-employment'!E9 -> 50 | M9: ='Rank-Living enviro'!K9 -> 52 | N9: ='Rank-crime'!E9 -> 45 | O9: =0.25*(I9)+0.25*(J9)+0.14*(K9)+0.14*(L9)+0.14*(M9)+0.08*(N9) -> 48.03 | P9: ='Rank-income'!G9 -> 51 | Q9: ='Rank-employment'!G9 -> 48 | R9: ='Rank-health'!G9 -> 32 | S9: ='Rank education'!G9 -> 49 | T9: ='Rank-Living enviro'!P9 -> 50 | U9: ='Rank-crime'!G9 -> 49 | V9: =0.25*(P9)+0.25*(Q9)+0.14*(R9)+0.14*(S9)+0.14*(T9)+0.08*(U9) -> 47.01 | W9: ='Rank-income'!I9 -> 51 | X9: ='Rank-employment'!I9 -> 50 | Y9: ='Rank-health'!I9 -> 35 | Z9: ='Rank-employment'!I9 -> 50 | AA9: ='Rank-Living enviro'!U9 -> 51 | AB9: ='Rank-crime'!I9 -> 47 | AC9: =0.25*(W9)+0.25*(X9)+0.14*(Y9)+0.14*(Z9)+0.14*(AA9)+0.08*(AB9) -> 48.05 | AD9: ='Rank-income'!K9 -> 51 | AE9: ='Rank-employment'!K9 -> 51 | AF9: ='Rank-health'!K59 -> 0 | AG9: ='Rank education'!K9 -> 50 | AH9: ='Rank-Living enviro'!Z9 -> 51 | AI9: ='Rank-crime'!K9 -> 47 | AJ9: =0.25*(AD9)+0.25*(AE9)+0.14*(AF9)+0.14*(AG9)+0.14*(AH9)+0.08*(AI9) -> 43.4
A10: Ezingoleni Local Municipality | B10: ='Rank-income'!C10 -> 22 | C10: ='Rank-employment'!C10 -> 12 | D10: ='Rank-health'!C10 -> 32 | E10: ='Rank education'!C10 -> 17 | F10: ='Rank-Living enviro'!F10 -> 18 | G10: ='Rank-crime'!C10 -> 15 | H10: =0.25*(B10)+0.25*(C10)+0.14*(D10)+0.14*(E10)+0.14*(F10)+0.08*(G10) -> 19.08 | I10: ='Rank-income'!E10 -> 25 | J10: ='Rank-employment'!E10 -> 17 | K10: ='Rank-health'!E10 -> 30 | L10: ='Rank-employment'!E10 -> 17 | M10: ='Rank-Living enviro'!K10 -> 15 | N10: ='Rank-crime'!E10 -> 12 | O10: =0.25*(I10)+0.25*(J10)+0.14*(K10)+0.14*(L10)+0.14*(M10)+0.08*(N10) -> 20.14 | P10: ='Rank-income'!G10 -> 24 | Q10: ='Rank-employment'!G10 -> 25 | R10: ='Rank-health'!G10 -> 30 | S10: ='Rank education'!G10 -> 13 | T10: ='Rank-Living enviro'!P10 -> 15 | U10: ='Rank-crime'!G10 -> 17 | V10: =0.25*(P10)+0.25*(Q10)+0.14*(R10)+0.14*(S10)+0.14*(T10)+0.08*(U10) -> 21.73 | W10: ='Rank-income'!I10 -> 23 | X10: ='Rank-employment'!I10 -> 26 | Y10: ='Rank-health'!I10 -> 28 | Z10: ='Rank-employment'!I10 -> 26 | AA10: ='Rank-Living enviro'!U10 -> 15 | AB10: ='Rank-crime'!I10 -> 29 | AC10: =0.25*(W10)+0.25*(X10)+0.14*(Y10)+0.14*(Z10)+0.14*(AA10)+0.08*(AB10) -> 24.23 | AD10: ='Rank-income'!K10 -> 13 | AE10: ='Rank-employment'!K10 -> 18 | AF10: ='Rank-health'!K60 -> 0 | AG10: ='Rank education'!K10 -> 17 | AH10: ='Rank-Living enviro'!Z10 -> 31 | AI10: ='Rank-crime'!K10 -> 30 | AJ10: =0.25*(AD10)+0.25*(AE10)+0.14*(AF10)+0.14*(AG10)+0.14*(AH10)+0.08*(AI10) -> 16.87
A11: Greater Kokstad Local Municipality | B11: ='Rank-income'!C11 -> 40 | C11: ='Rank-employment'!C11 -> 52 | D11: ='Rank-health'!C11 -> 5 | E11: ='Rank education'!C11 -> 40 | F11: ='Rank-Living enviro'!F11 -> 39 | G11: ='Rank-crime'!C11 -> 49 | H11: =0.25*(B11)+0.25*(C11)+0.14*(D11)+0.14*(E11)+0.14*(F11)+0.08*(G11) -> 38.68 | I11: ='Rank-income'!E11 -> 34 | J11: ='Rank-employment'!E11 -> 47 | K11: ='Rank-health'!E11 -> 1 | L11: ='Rank-employment'!E11 -> 47 | M11: ='Rank-Living enviro'!K11 -> 45 | N11: ='Rank-crime'!E11 -> 46 | O11: =0.25*(I11)+0.25*(J11)+0.14*(K11)+0.14*(L11)+0.14*(M11)+0.08*(N11) -> 36.95 | P11: ='Rank-income'!G11 -> 30 | Q11: ='Rank-employment'!G11 -> 47 | R11: ='Rank-health'!G11 -> 1 | S11: ='Rank education'!G11 -> 46 | T11: ='Rank-Living enviro'!P11 -> 42 | U11: ='Rank-crime'!G11 -> 34 | V11: =0.25*(P11)+0.25*(Q11)+0.14*(R11)+0.14*(S11)+0.14*(T11)+0.08*(U11) -> 34.43 | W11: ='Rank-income'!I11 -> 28 | X11: ='Rank-employment'!I11 -> 47 | Y11: ='Rank-health'!I11 -> 1 | Z11: ='Rank-employment'!I11 -> 47 | AA11: ='Rank-Living enviro'!U11 -> 36 | AB11: ='Rank-crime'!I11 -> 44 | AC11: =0.25*(W11)+0.25*(X11)+0.14*(Y11)+0.14*(Z11)+0.14*(AA11)+0.08*(AB11) -> 34.03 | AD11: ='Rank-income'!K11 -> 43 | AE11: ='Rank-employment'!K11 -> 48 | AF11: ='Rank-health'!K61 -> 0 | AG11: ='Rank education'!K11 -> 47 | AH11: ='Rank-Living enviro'!Z11 -> 46 | AI11: ='Rank-crime'!K11 -> 41 | AJ11: =0.25*(AD11)+0.25*(AE11)+0.14*(AF11)+0.14*(AG11)+0.14*(AH11)+0.08*(AI11) -> 39.05
A12: Hibiscus Coast Local Municipality | B12: ='Rank-income'!C12 -> 46 | C12: ='Rank-employment'!C12 -> 43 | D12: ='Rank-health'!C12 -> 40 | E12: ='Rank education'!C12 -> 44 | F12: ='Rank-Living enviro'!F12 -> 45 | G12: ='Rank-crime'!C12 -> 46 | H12: =0.25*(B12)+0.25*(C12)+0.14*(D12)+0.14*(E12)+0.14*(F12)+0.08*(G12) -> 43.99 | I12: ='Rank-income'!E12 -> 46 | J12: ='Rank-employment'!E12 -> 43 | K12: ='Rank-health'!E12 -> 24 | L12: ='Rank-employment'!E12 -> 43 | M12: ='Rank-Living enviro'!K12 -> 40 | N12: ='Rank-crime'!E12 -> 47 | O12: =0.25*(I12)+0.25*(J12)+0.14*(K12)+0.14*(L12)+0.14*(M12)+0.08*(N12) -> 40.99 | P12: ='Rank-income'!G12 -> 48 | Q12: ='Rank-employment'!G12 -> 42 | R12: ='Rank-health'!G12 -> 18 | S12: ='Rank education'!G12 -> 43 | T12: ='Rank-Living enviro'!P12 -> 36 | U12: ='Rank-crime'!G12 -> 48 | V12: =0.25*(P12)+0.25*(Q12)+0.14*(R12)+0.14*(S12)+0.14*(T12)+0.08*(U12) -> 39.92 | W12: ='Rank-income'!I12 -> 48 | X12: ='Rank-employment'!I12 -> 42 | Y12: ='Rank-health'!I12 -> 17 | Z12: ='Rank-employment'!I12 -> 42 | AA12: ='Rank-Living enviro'!U12 -> 32 | AB12: ='Rank-crime'!I12 -> 48 | AC12: =0.25*(W12)+0.25*(X12)+0.14*(Y12)+0.14*(Z12)+0.14*(AA12)+0.08*(AB12) -> 39.08 | AD12: ='Rank-income'!K12 -> 46 | AE12: ='Rank-employment'!K12 -> 44 | AF12: ='Rank-health'!K62 -> 0 | AG12: ='Rank education'!K12 -> 48 | AH12: ='Rank-Living enviro'!Z12 -> 43 | AI12: ='Rank-crime'!K12 -> 48 | AJ12: =0.25*(AD12)+0.25*(AE12)+0.14*(AF12)+0.14*(AG12)+0.14*(AH12)+0.08*(AI12) -> 39.08
A13: Hlabisa Local Municipality | B13: ='Rank-income'!C13 -> 6 | C13: ='Rank-employment'!C13 -> 19 | D13: ='Rank-health'!C13 -> 46 | E13: ='Rank education'!C13 -> 2 | F13: ='Rank-Living enviro'!F13 -> 7 | G13: ='Rank-crime'!C13 -> 13 | H13: =0.25*(B13)+0.25*(C13)+0.14*(D13)+0.14*(E13)+0.14*(F13)+0.08*(G13) -> 14.99 | I13: ='Rank-income'!E13 -> 4 | J13: ='Rank-employment'!E13 -> 22 | K13: ='Rank-health'!E13 -> 41 | L13: ='Rank-employment'!E13 -> 22 | M13: ='Rank-Living enviro'!K13 -> 9 | N13: ='Rank-crime'!E13 -> 32 | O13: =0.25*(I13)+0.25*(J13)+0.14*(K13)+0.14*(L13)+0.14*(M13)+0.08*(N13) -> 19.14 | P13: ='Rank-income'!G13 -> 5 | Q13: ='Rank-employment'!G13 -> 21 | R13: ='Rank-health'!G13 -> 37 | S13: ='Rank education'!G13 -> 14 | T13: ='Rank-Living enviro'!P13 -> 11 | U13: ='Rank-crime'!G13 -> 33 | V13: =0.25*(P13)+0.25*(Q13)+0.14*(R13)+0.14*(S13)+0.14*(T13)+0.08*(U13) -> 17.82 | W13: ='Rank-income'!I13 -> 5 | X13: ='Rank-employment'!I13 -> 24 | Y13: ='Rank-health'!I13 -> 36 | Z13: ='Rank-employment'!I13 -> 24 | AA13: ='Rank-Living enviro'!U13 -> 14 | AB13: ='Rank-crime'!I13 -> 25 | AC13: =0.25*(W13)+0.25*(X13)+0.14*(Y13)+0.14*(Z13)+0.14*(AA13)+0.08*(AB13) -> 19.61 | AD13: ='Rank-income'!K13 -> 4 | AE13: ='Rank-employment'!K13 -> 22 | AF13: ='Rank-health'!K63 -> 0 | AG13: ='Rank education'!K13 -> 3 | AH13: ='Rank-Living enviro'!Z13 -> 12 | AI13: ='Rank-crime'!K13 -> 22 | AJ13: =0.25*(AD13)+0.25*(AE13)+0.14*(AF13)+0.14*(AG13)+0.14*(AH13)+0.08*(AI13) -> 10.36
A14: Imbabazane Local Municipality | B14: ='Rank-income'!C14 -> 17 | C14: ='Rank-employment'!C14 -> 26 | D14: ='Rank-health'!C14 -> 12 | E14: ='Rank education'!C14 -> 6 | F14: ='Rank-Living enviro'!F14 -> 27 | G14: ='Rank-crime'!C14 -> 28 | H14: =0.25*(B14)+0.25*(C14)+0.14*(D14)+0.14*(E14)+0.14*(F14)+0.08*(G14) -> 19.29 | I14: ='Rank-income'!E14 -> 12 | J14: ='Rank-employment'!E14 -> 20 | K14: ='Rank-health'!E14 -> 27 | L14: ='Rank-employment'!E14 -> 20 | M14: ='Rank-Living enviro'!K14 -> 20 | N14: ='Rank-crime'!E14 -> 26 | O14: =0.25*(I14)+0.25*(J14)+0.14*(K14)+0.14*(L14)+0.14*(M14)+0.08*(N14) -> 19.46 | P14: ='Rank-income'!G14 -> 17 | Q14: ='Rank-employment'!G14 -> 15 | R14: ='Rank-health'!G14 -> 40 | S14: ='Rank education'!G14 -> 4 | T14: ='Rank-Living enviro'!P14 -> 5 | U14: ='Rank-crime'!G14 -> 20 | V14: =0.25*(P14)+0.25*(Q14)+0.14*(R14)+0.14*(S14)+0.14*(T14)+0.08*(U14) -> 16.46 | W14: ='Rank-income'!I14 -> 16 | X14: ='Rank-employment'!I14 -> 19 | Y14: ='Rank-health'!I14 -> 42 | Z14: ='Rank-employment'!I14 -> 19 | AA14: ='Rank-Living enviro'!U14 -> 4 | AB14: ='Rank-crime'!I14 -> 17 | AC14: =0.25*(W14)+0.25*(X14)+0.14*(Y14)+0.14*(Z14)+0.14*(AA14)+0.08*(AB14) -> 19.21 | AD14: ='Rank-income'!K14 -> 8 | AE14: ='Rank-employment'!K14 -> 25 | AF14: ='Rank-health'!K64 -> 0 | AG14: ='Rank education'!K14 -> 12 | AH14: ='Rank-Living enviro'!Z14 -> 18 | AI14: ='Rank-crime'!K14 -> 19 | AJ14: =0.25*(AD14)+0.25*(AE14)+0.14*(AF14)+0.14*(AG14)+0.14*(AH14)+0.08*(AI14) -> 13.97
A15: Impendle Local Municipality | B15: ='Rank-income'!C15 -> 30 | C15: ='Rank-employment'!C15 -> 22 | D15: ='Rank-health'!C15 -> 29 | E15: ='Rank education'!C15 -> 21 | F15: ='Rank-Living enviro'!F15 -> 31 | G15: ='Rank-crime'!C15 -> 19 | H15: =0.25*(B15)+0.25*(C15)+0.14*(D15)+0.14*(E15)+0.14*(F15)+0.08*(G15) -> 25.86 | I15: ='Rank-income'!E15 -> 37 | J15: ='Rank-employment'!E15 -> 25 | K15: ='Rank-health'!E15 -> 45 | L15: ='Rank-employment'!E15 -> 25 | M15: ='Rank-Living enviro'!K15 -> 37 | N15: ='Rank-crime'!E15 -> 14 | O15: =0.25*(I15)+0.25*(J15)+0.14*(K15)+0.14*(L15)+0.14*(M15)+0.08*(N15) -> 31.6 | P15: ='Rank-income'!G15 -> 41 | Q15: ='Rank-employment'!G15 -> 20 | R15: ='Rank-health'!G15 -> 50 | S15: ='Rank education'!G15 -> 15 | T15: ='Rank-Living enviro'!P15 -> 19 | U15: ='Rank-crime'!G15 -> 22 | V15: =0.25*(P15)+0.25*(Q15)+0.14*(R15)+0.14*(S15)+0.14*(T15)+0.08*(U15) -> 28.77 | W15: ='Rank-income'!I15 -> 43 | X15: ='Rank-employment'!I15 -> 16 | Y15: ='Rank-health'!I15 -> 51 | Z15: ='Rank-employment'!I15 -> 16 | AA15: ='Rank-Living enviro'!U15 -> 9 | AB15: ='Rank-crime'!I15 -> 21 | AC15: =0.25*(W15)+0.25*(X15)+0.14*(Y15)+0.14*(Z15)+0.14*(AA15)+0.08*(AB15) -> 27.07 | AD15: ='Rank-income'!K15 -> 30 | AE15: ='Rank-employment'!K15 -> 29 | AF15: ='Rank-health'!K65 -> 0 | AG15: ='Rank education'!K15 -> 29 | AH15: ='Rank-Living enviro'!Z15 -> 20 | AI15: ='Rank-crime'!K15 -> 21 | AJ15: =0.25*(AD15)+0.25*(AE15)+0.14*(AF15)+0.14*(AG15)+0.14*(AH15)+0.08*(AI15) -> 23.29
... A25: Mooi Mpofana Local Municipality | B25: ='Rank-income'!C25 -> 38 | C25: ='Rank-employment'!C25 -> 48 | D25: ='Rank-health'!C25 -> 10 | E25: ='Rank education'!C25 -> 3 | F25: ='Rank-Living enviro'!F25 -> 40 | G25: ='Rank-crime'!C25 -> 43 | H25: =0.25*(B25)+0.25*(C25)+0.14*(D25)+0.14*(E25)+0.14*(F25)+0.08*(G25) -> 32.36 | I25: ='Rank-income'!E25 -> 32 | J25: ='Rank-employment'!E25 -> 45 | K25: ='Rank-health'!E25 -> 3 | L25: ='Rank-employment'!E25 -> 45 | M25: ='Rank-Living enviro'!K25 -> 39 | N25: ='Rank-crime'!E25 -> 30 | O25: =0.25*(I25)+0.25*(J25)+0.14*(K25)+0.14*(L25)+0.14*(M25)+0.08*(N25) -> 33.83 | P25: ='Rank-income'!G25 -> 27 | Q25: ='Rank-employment'!G25 -> 44 | R25: ='Rank-health'!G25 -> 3 | S25: ='Rank education'!G25 -> 6 | T25: ='Rank-Living enviro'!P25 -> 43 | U25: ='Rank-crime'!G25 -> 26 | V25: =0.25*(P25)+0.25*(Q25)+0.14*(R25)+0.14*(S25)+0.14*(T25)+0.08*(U25) -> 27.11 | W25: ='Rank-income'!I25 -> 27 | X25: ='Rank-employment'!I25 -> 43 | Y25: ='Rank-health'!I25 -> 3 | Z25: ='Rank-employment'!I25 -> 43 | AA25: ='Rank-Living enviro'!U25 -> 42 | AB25: ='Rank-crime'!I25 -> 36 | AC25: =0.25*(W25)+0.25*(X25)+0.14*(Y25)+0.14*(Z25)+0.14*(AA25)+0.08*(AB25) -> 32.7 | AD25: ='Rank-income'!K25 -> 42 | AE25: ='Rank-employment'!K25 -> 50 | AF25: ='Rank-health'!K75 -> 0 | AG25: ='Rank education'!K25 -> 38 | AH25: ='Rank-Living enviro'!Z25 -> 39 | AI25: ='Rank-crime'!K25 -> 39 | AJ25: =0.25*(AD25)+0.25*(AE25)+0.14*(AF25)+0.14*(AG25)+0.14*(AH25)+0.08*(AI25) -> 36.9
A26: Msinga Local Municipality | B26: ='Rank-income'!C26 -> 5 | C26: ='Rank-employment'!C26 -> 1 | D26: ='Rank-health'!C26 -> 51 | E26: ='Rank education'!C25 -> 3 | F26: ='Rank-Living enviro'!F26 -> 1 | G26: ='Rank-crime'!C26 -> 6 | H26: =0.25*(B26)+0.25*(C26)+0.14*(D26)+0.14*(E26)+0.14*(F26)+0.08*(G26) -> 9.68 | I26: ='Rank-income'!E26 -> 8 | J26: ='Rank-employment'!E26 -> 1 | K26: ='Rank-health'!E26 -> 52 | L26: ='Rank-employment'!E26 -> 1 | M26: ='Rank-Living enviro'!K26 -> 1 | N26: ='Rank-crime'!E26 -> 1 | O26: =0.25*(I26)+0.25*(J26)+0.14*(K26)+0.14*(L26)+0.14*(M26)+0.08*(N26) -> 9.89 | P26: ='Rank-income'!G26 -> 16 | Q26: ='Rank-employment'!G26 -> 1 | R26: ='Rank-health'!G26 -> 49 | S26: ='Rank education'!G26 -> 32 | T26: ='Rank-Living enviro'!P26 -> 2 | U26: ='Rank-crime'!G26 -> 1 | V26: =0.25*(P26)+0.25*(Q26)+0.14*(R26)+0.14*(S26)+0.14*(T26)+0.08*(U26) -> 15.95 | W26: ='Rank-income'!I26 -> 18 | X26: ='Rank-employment'!I26 -> 3 | Y26: ='Rank-health'!I26 -> 49 | Z26: ='Rank-employment'!I26 -> 3 | AA26: ='Rank-Living enviro'!U26 -> 3 | AB26: ='Rank-crime'!I26 -> 1 | AC26: =0.25*(W26)+0.25*(X26)+0.14*(Y26)+0.14*(Z26)+0.14*(AA26)+0.08*(AB26) -> 13.03 | AD26: ='Rank-income'!K26 -> 6 | AE26: ='Rank-employment'!K26 -> 2 | AF26: ='Rank-health'!K76 -> 0 | AG26: ='Rank education'!K26 -> 6 | AH26: ='Rank-Living enviro'!Z26 -> 4 | AI26: ='Rank-crime'!K26 -> 1 | AJ26: =0.25*(AD26)+0.25*(AE26)+0.14*(AF26)+0.14*(AG26)+0.14*(AH26)+0.08*(AI26) -> 3.48
A27: Mthonjaneni Local Municipality | B27: ='Rank-income'!C27 -> 24 | C27: ='Rank-employment'!C27 -> 17 | D27: ='Rank-health'!C27 -> 28 | E27: ='Rank education'!C26 -> 25 | F27: ='Rank-Living enviro'!F27 -> 17 | G27: ='Rank-crime'!C27 -> 24 | H27: =0.25*(B27)+0.25*(C27)+0.14*(D27)+0.14*(E27)+0.14*(F27)+0.08*(G27) -> 21.97 | I27: ='Rank-income'!E27 -> 15 | J27: ='Rank-employment'!E27 -> 35 | K27: ='Rank-health'!E27 -> 11 | L27: ='Rank-employment'!E27 -> 35 | M27: ='Rank-Living enviro'!K27 -> 27 | N27: ='Rank-crime'!E27 -> 9 | O27: =0.25*(I27)+0.25*(J27)+0.14*(K27)+0.14*(L27)+0.14*(M27)+0.08*(N27) -> 23.44 | P27: ='Rank-income'!G27 -> 3 | Q27: ='Rank-employment'!G27 -> 46 | R27: ='Rank-health'!G27 -> 7 | S27: ='Rank education'!G27 -> 51 | T27: ='Rank-Living enviro'!P27 -> 26 | U27: ='Rank-crime'!G27 -> 10 | V27: =0.25*(P27)+0.25*(Q27)+0.14*(R27)+0.14*(S27)+0.14*(T27)+0.08*(U27) -> 24.81 | W27: ='Rank-income'!I27 -> 2 | X27: ='Rank-employment'!I27 -> 45 | Y27: ='Rank-health'!I27 -> 7 | Z27: ='Rank-employment'!I27 -> 45 | AA27: ='Rank-Living enviro'!U27 -> 28 | AB27: ='Rank-crime'!I27 -> 8 | AC27: =0.25*(W27)+0.25*(X27)+0.14*(Y27)+0.14*(Z27)+0.14*(AA27)+0.08*(AB27) -> 23.59 | AD27: ='Rank-income'!K27 -> 26 | AE27: ='Rank-employment'!K27 -> 9 | AF27: ='Rank-health'!K77 -> 0 | AG27: ='Rank education'!K27 -> 21 | AH27: ='Rank-Living enviro'!Z27 -> 26 | AI27: ='Rank-crime'!K27 -> 12 | AJ27: =0.25*(AD27)+0.25*(AE27)+0.14*(AF27)+0.14*(AG27)+0.14*(AH27)+0.08*(AI27) -> 16.29
A28: Mtubatuba Local Municipality | B28: ='Rank-income'!C28 -> 44 | C28: ='Rank-employment'!C28 -> 24 | D28: ='Rank-health'!C28 -> 1 | E28: ='Rank education'!C27 -> 48 | F28: ='Rank-Living enviro'!F28 -> 41 | G28: ='Rank-crime'!C28 -> 27 | H28: =0.25*(B28)+0.25*(C28)+0.14*(D28)+0.14*(E28)+0.14*(F28)+0.08*(G28) -> 31.76 | I28: ='Rank-income'!E28 -> 38 | J28: ='Rank-employment'!E28 -> 28 | K28: ='Rank-health'!E28 -> 2 | L28: ='Rank-employment'!E28 -> 28 | M28: ='Rank-Living enviro'!K28 -> 46 | N28: ='Rank-crime'!E28 -> 40 | O28: =0.25*(I28)+0.25*(J28)+0.14*(K28)+0.14*(L28)+0.14*(M28)+0.08*(N28) -> 30.34 | P28: ='Rank-income'!G28 -> 36 | Q28: ='Rank-employment'!G28 -> 31 | R28: ='Rank-health'!G28 -> 2 | S28: ='Rank education'!G28 -> 2 | T28: ='Rank-Living enviro'!P28 -> 46 | U28: ='Rank-crime'!G28 -> 38 | V28: =0.25*(P28)+0.25*(Q28)+0.14*(R28)+0.14*(S28)+0.14*(T28)+0.08*(U28) -> 26.79 | W28: ='Rank-income'!I28 -> 33 | X28: ='Rank-employment'!I28 -> 30 | Y28: ='Rank-health'!I28 -> 2 | Z28: ='Rank-employment'!I28 -> 30 | AA28: ='Rank-Living enviro'!U28 -> 48 | AB28: ='Rank-crime'!I28 -> 34 | AC28: =0.25*(W28)+0.25*(X28)+0.14*(Y28)+0.14*(Z28)+0.14*(AA28)+0.08*(AB28) -> 29.67 | AD28: ='Rank-income'!K28 -> 28 | AE28: ='Rank-employment'!K28 -> 24 | AF28: ='Rank-health'!K78 -> 0 | AG28: ='Rank education'!K28 -> 32 | AH28: ='Rank-Living enviro'!Z28 -> 24 | AI28: ='Rank-crime'!K28 -> 33 | AJ28: =0.25*(AD28)+0.25*(AE28)+0.14*(AF28)+0.14*(AG28)+0.14*(AH28)+0.08*(AI28) -> 23.48
A29: Ndwedwe Local Municipality | B29: ='Rank-income'!C29 -> 15 | C29: ='Rank-employment'!C29 -> 13 | D29: ='Rank-health'!C29 -> 16 | E29: ='Rank education'!C28 -> 5 | F29: ='Rank-Living enviro'!F29 -> 15 | G29: ='Rank-crime'!C28 -> 27 | H29: =0.25*(B29)+0.25*(C29)+0.14*(D29)+0.14*(E29)+0.14*(F29)+0.08*(G29) -> 14.2 | I29: ='Rank-income'!E29 -> 28 | J29: ='Rank-employment'!E29 -> 7 | K29: ='Rank-health'!E29 -> 34 | L29: ='Rank-employment'!E29 -> 7 | M29: ='Rank-Living enviro'!K29 -> 16 | N29: ='Rank-crime'!E28 -> 40 | O29: =0.25*(I29)+0.25*(J29)+0.14*(K29)+0.14*(L29)+0.14*(M29)+0.08*(N29) -> 19.93 | P29: ='Rank-income'!G29 -> 33 | Q29: ='Rank-employment'!G29 -> 2 | R29: ='Rank-health'!G29 -> 41 | S29: ='Rank education'!G29 -> 45 | T29: ='Rank-Living enviro'!P29 -> 16 | U29: ='Rank-crime'!G28 -> 38 | V29: =0.25*(P29)+0.25*(Q29)+0.14*(R29)+0.14*(S29)+0.14*(T29)+0.08*(U29) -> 26.07 | W29: ='Rank-income'!I29 -> 34 | X29: ='Rank-employment'!I29 -> 2 | Y29: ='Rank-health'!I29 -> 43 | Z29: ='Rank-employment'!I29 -> 2 | AA29: ='Rank-Living enviro'!U29 -> 17 | AB29: ='Rank-crime'!I29 -> 23 | AC29: =0.25*(W29)+0.25*(X29)+0.14*(Y29)+0.14*(Z29)+0.14*(AA29)+0.08*(AB29) -> 19.52 | AD29: ='Rank-income'!K29 -> 16 | AE29: ='Rank-employment'!K29 -> 11 | AF29: ='Rank-health'!K79 -> 0 | AG29: ='Rank education'!K29 -> 8 | AH29: ='Rank-Living enviro'!Z29 -> 13 | AI29: ='Rank-crime'!K29 -> 23 | AJ29: =0.25*(AD29)+0.25*(AE29)+0.14*(AF29)+0.14*(AG29)+0.14*(AH29)+0.08*(AI29) -> 11.53
A30: Newcastle Local Municipality | B30: ='Rank-income'!C30 -> 42 | C30: ='Rank-employment'!C30 -> 42 | D30: ='Rank-health'!C30 -> 13 | E30: ='Rank education'!C29 -> 43 | F30: ='Rank-Living enviro'!F30 -> 52 | G30: ='Rank-crime'!C29 -> 5 | H30: =0.25*(B30)+0.25*(C30)+0.14*(D30)+0.14*(E30)+0.14*(F30)+0.08*(G30) -> 36.52 | I30: ='Rank-income'!E30 -> 45 | J30: ='Rank-employment'!E30 -> 44 | K30: ='Rank-health'!E30 -> 10 | L30: ='Rank-employment'!E30 -> 44 | M30: ='Rank-Living enviro'!K30 -> 48 | N30: ='Rank-crime'!E29 -> 10 | O30: =0.25*(I30)+0.25*(J30)+0.14*(K30)+0.14*(L30)+0.14*(M30)+0.08*(N30) -> 37.33 | P30: ='Rank-income'!G30 -> 45 | Q30: ='Rank-employment'!G30 -> 43 | R30: ='Rank-health'!G30 -> 12 | S30: ='Rank education'!G30 -> 9 | T30: ='Rank-Living enviro'!P30 -> 49 | U30: ='Rank-crime'!G29 -> 28 | V30: =0.25*(P30)+0.25*(Q30)+0.14*(R30)+0.14*(S30)+0.14*(T30)+0.08*(U30) -> 34.04 | W30: ='Rank-income'!I30 -> 45 | X30: ='Rank-employment'!I30 -> 44 | Y30: ='Rank-health'!I30 -> 12 | Z30: ='Rank-employment'!I30 -> 44 | AA30: ='Rank-Living enviro'!U30 -> 44 | AB30: ='Rank-crime'!I29 -> 23 | AC30: =0.25*(W30)+0.25*(X30)+0.14*(Y30)+0.14*(Z30)+0.14*(AA30)+0.08*(AB30) -> 38.09 | AD30: ='Rank-income'!K30 -> 40 | AE30: ='Rank-employment'!K30 -> 34 | AF30: ='Rank-health'!K80 -> 0 | AG30: ='Rank education'!K30 -> 46 | AH30: ='Rank-Living enviro'!Z30 -> 48 | AI30: ='Rank-crime'!K30 -> 38 | AJ30: =0.25*(AD30)+0.25*(AE30)+0.14*(AF30)+0.14*(AG30)+0.14*(AH30)+0.08*(AI30) -> 34.7
A31: Nkandla Local Municipality | B31: ='Rank-income'!C31 -> 4 | C31: ='Rank-employment'!C31 -> 2 | D31: ='Rank-health'!C31 -> 50 | E31: ='Rank education'!C30 -> 12 | F31: ='Rank-Living enviro'!F31 -> 3 | G31: ='Rank-crime'!C30 -> 39 | H31: =0.25*(B31)+0.25*(C31)+0.14*(D31)+0.14*(E31)+0.14*(F31)+0.08*(G31) -> 13.72 | I31: ='Rank-income'!E31 -> 7 | J31: ='Rank-employment'!E31 -> 2 | K31: ='Rank-health'!E31 -> 47 | L31: ='Rank-employment'!E31 -> 2 | M31: ='Rank-Living enviro'!K31 -> 4 | N31: ='Rank-crime'!E30 -> 39 | O31: =0.25*(I31)+0.25*(J31)+0.14*(K31)+0.14*(AJ25)+0.14*(M31)+0.08*(N31) -> 17.676 | P31: ='Rank-income'!G31 -> 15 | Q31: ='Rank-employment'!G31 -> 6 | R31: ='Rank-health'!G31 -> 45 | S31: ='Rank education'!G31 -> 17 | T31: ='Rank-Living enviro'!P31 -> 21 | U31: ='Rank-crime'!G30 -> 23 | V31: =0.25*(P31)+0.25*(Q31)+0.14*(R31)+0.14*(S31)+0.14*(T31)+0.08*(U31) -> 18.71 | W31: ='Rank-income'!I31 -> 17 | X31: ='Rank-employment'!I31 -> 8 | Y31: ='Rank-health'!I31 -> 41 | Z31: ='Rank-employment'!I31 -> 8 | AA31: ='Rank-Living enviro'!U31 -> 25 | AB31: ='Rank-crime'!I30 -> 30 | AC31: =0.25*(W31)+0.25*(X31)+0.14*(Y31)+0.14*(Z31)+0.14*(AA31)+0.08*(AB31) -> 19.01 | AD31: ='Rank-income'!K31 -> 17 | AE31: ='Rank-employment'!K31 -> 6 | AF31: ='Rank-health'!K81 -> 0 | AG31: ='Rank education'!K31 -> 30 | AH31: ='Rank-Living enviro'!Z31 -> 11 | AI31: ='Rank-crime'!K31 -> 3 | AJ31: =0.25*(AD31)+0.25*(AE31)+0.14*(AF31)+0.14*(AG31)+0.14*(AH31)+0.08*(AI31) -> 11.73
A32: Nongoma Local Municipality | B32: ='Rank-income'!C32 -> 1 | C32: ='Rank-employment'!C32 -> 3 | D32: ='Rank-health'!C32 -> 38 | E32: ='Rank education'!C31 -> 15 | F32: ='Rank-Living enviro'!F32 -> 8 | G32: ='Rank-crime'!C31 -> 7 | H32: =0.25*(B32)+0.25*(C32)+0.14*(D32)+0.14*(E32)+0.14*(F32)+0.08*(G32) -> 10.1 | I32: ='Rank-income'!E32 -> 6 | J32: ='Rank-employment'!E32 -> 3 | K32: ='Rank-health'!E32 -> 51 | L32: ='Rank-employment'!E32 -> 3 | M32: ='Rank-Living enviro'!K32 -> 6 | N32: ='Rank-crime'!E31 -> 6 | O32: =0.25*(I32)+0.25*(J32)+0.14*(K32)+0.14*(L32)+0.14*(M32)+0.08*(N32) -> 11.13 | P32: ='Rank-income'!G32 -> 13 | Q32: ='Rank-employment'!G32 -> 4 | R32: ='Rank-health'!G32 -> 52 | S32: ='Rank education'!G32 -> 3 | T32: ='Rank-Living enviro'!P32 -> 7 | U32: ='Rank-crime'!G31 -> 8 | V32: =0.25*(P32)+0.25*(Q32)+0.14*(R32)+0.14*(S32)+0.14*(T32)+0.08*(U32) -> 13.57 | W32: ='Rank-income'!I32 -> 14 | X32: ='Rank-employment'!I32 -> 6 | Y32: ='Rank-health'!I32 -> 52 | Z32: ='Rank-employment'!I32 -> 6 | AA32: ='Rank-Living enviro'!U32 -> 11 | AB32: ='Rank-crime'!I31 -> 2 | AC32: =0.25*(W32)+0.25*(X32)+0.14*(Y32)+0.14*(Z32)+0.14*(AA32)+0.08*(AB32) -> 14.82 | AD32: ='Rank-income'!K32 -> 7 | AE32: ='Rank-employment'!K32 -> 4 | AF32: ='Rank-health'!K82 -> 0 | AG32: ='Rank education'!K32 -> 22 | AH32: ='Rank-Living enviro'!Z32 -> 10 | AI32: ='Rank-crime'!K32 -> 2 | AJ32: =0.25*(AD32)+0.25*(AE32)+0.14*(AF32)+0.14*(AG32)+0.14*(AH32)+0.08*(AI32) -> 7.39
A33: Nquthu Local Municipality | B33: ='Rank-income'!C33 -> 3 | C33: ='Rank-employment'!C33 -> 4 | D33: ='Rank-health'!C33 -> 44 | E33: ='Rank education'!C32 -> 16 | F33: ='Rank-Living enviro'!F33 -> 13 | G33: ='Rank-crime'!C32 -> 3 | H33: =0.25*(B33)+0.25*(C33)+0.14*(D33)+0.14*(E33)+0.14*(F33)+0.08*(G33) -> 12.21 | I33: ='Rank-income'!E33 -> 5 | J33: ='Rank-employment'!E33 -> 4 | K33: ='Rank-health'!E33 -> 46 | L33: ='Rank-employment'!E33 -> 4 | M33: ='Rank-Living enviro'!K33 -> 11 | N33: ='Rank-crime'!E32 -> 5 | O33: =0.25*(I33)+0.25*(J33)+0.14*(K33)+0.14*(L33)+0.14*(M33)+0.08*(N33) -> 11.19 | P33: ='Rank-income'!G33 -> 8 | Q33: ='Rank-employment'!G33 -> 5 | R33: ='Rank-health'!G33 -> 47 | S33: ='Rank education'!G33 -> 1 | T33: ='Rank-Living enviro'!P33 -> 12 | U33: ='Rank-crime'!G32 -> 6 | V33: =0.25*(P33)+0.25*(Q33)+0.14*(R33)+0.14*(S33)+0.14*(T33)+0.08*(U33) -> 12.13 | W33: ='Rank-income'!I33 -> 9 | X33: ='Rank-employment'!I33 -> 9 | Y33: ='Rank-health'!I33 -> 46 | Z33: ='Rank-employment'!I33 -> 9 | AA33: ='Rank-Living enviro'!U33 -> 12 | AB33: ='Rank-crime'!I32 -> 4 | AC33: =0.25*(W33)+0.25*(X33)+0.14*(Y33)+0.14*(Z33)+0.14*(AA33)+0.08*(AB33) -> 14.2 | AD33: ='Rank-income'!K33 -> 5 | AE33: ='Rank-employment'!K33 -> 3 | AF33: ='Rank-health'!K83 -> 0 | AG33: ='Rank education'!K33 -> 9 | AH33: ='Rank-Living enviro'!Z33 -> 16 | AI33: ='Rank-crime'!K33 -> 5 | AJ33: =0.25*(AD33)+0.25*(AE33)+0.14*(AF33)+0.14*(AG33)+0.14*(AH33)+0.08*(AI33) -> 5.9
A34: Ntambanana Local Municipality | B34: ='Rank-income'!C34 -> 12 | C34: ='Rank-employment'!C34 -> 33 | D34: ='Rank-health'!C34 -> 27 | E34: ='Rank education'!C33 -> 1 | F34: ='Rank-Living enviro'!F34 -> 10 | G34: ='Rank-crime'!C33 -> 9 | H34: =0.25*(B34)+0.25*(C34)+0.14*(D34)+0.14*(E34)+0.14*(F34)+0.08*(G34) -> 17.29 | I34: ='Rank-income'!E34 -> 21 | J34: ='Rank-employment'!E34 -> 18 | K34: ='Rank-health'!E34 -> 20 | L34: ='Rank-employment'!E34 -> 18 | M34: ='Rank-Living enviro'!K34 -> 17 | N34: ='Rank-crime'!E33 -> 8 | O34: =0.25*(I34)+0.25*(J34)+0.14*(K34)+0.14*(L34)+0.14*(M34)+0.08*(N34) -> 18.09 | P34: ='Rank-income'!G34 -> 20 | Q34: ='Rank-employment'!G34 -> 8 | R34: ='Rank-health'!G34 -> 19 | S34: ='Rank education'!G34 -> 34 | T34: ='Rank-Living enviro'!P34 -> 18 | U34: ='Rank-crime'!G33 -> 9 | V34: =0.25*(P34)+0.25*(Q34)+0.14*(R34)+0.14*(S34)+0.14*(T34)+0.08*(U34) -> 17.66 | W34: ='Rank-income'!I34 -> 19 | X34: ='Rank-employment'!I34 -> 4 | Y34: ='Rank-health'!I34 -> 19 | Z34: ='Rank-employment'!I34 -> 4 | AA34: ='Rank-Living enviro'!U34 -> 19 | AB34: ='Rank-crime'!I33 -> 7 | AC34: =0.25*(W34)+0.25*(X34)+0.14*(Y34)+0.14*(Z34)+0.14*(AA34)+0.08*(AB34) -> 12.19 | AD34: ='Rank-income'!K34 -> 3 | AE34: ='Rank-employment'!K34 -> 43 | AF34: ='Rank-health'!K84 -> 0 | AG34: ='Rank education'!K34 -> 4 | AH34: ='Rank-Living enviro'!Z34 -> 15 | AI34: ='Rank-crime'!K34 -> 44 | AJ34: =0.25*(AD34)+0.25*(AE34)+0.14*(AF34)+0.14*(AG34)+0.14*(AH34)+0.08*(AI34) -> 17.68
A35: Okhahlamba Local Municipality | B35: ='Rank-income'!C35 -> 11 | C35: ='Rank-employment'!C35 -> 8 | D35: ='Rank-health'!C35 -> 35 | E35: ='Rank education'!C34 -> 22 | F35: ='Rank-Living enviro'!F35 -> 25 | G35: ='Rank-crime'!C34 -> 26 | H35: =0.25*(B35)+0.25*(C35)+0.14*(D35)+0.14*(E35)+0.14*(F35)+0.08*(G35) -> 18.31 | I35: ='Rank-income'!E35 -> 11 | J35: ='Rank-employment'!E35 -> 9 | K35: ='Rank-health'!E35 -> 31 | L35: ='Rank-employment'!E35 -> 9 | M35: ='Rank-Living enviro'!K35 -> 19 | N35: ='Rank-crime'!E34 -> 27 | O35: =0.25*(I35)+0.25*(J35)+0.14*(K35)+0.14*(L35)+0.14*(M35)+0.08*(N35) -> 15.42 | P35: ='Rank-income'!G35 -> 6 | Q35: ='Rank-employment'!G35 -> 14 | R35: ='Rank-health'!G35 -> 26 | S35: ='Rank education'!G35 -> 28 | T35: ='Rank-Living enviro'!P35 -> 8 | U35: ='Rank-crime'!G34 -> 42 | V35: =0.25*(P35)+0.25*(Q35)+0.14*(R35)+0.14*(S35)+0.14*(T35)+0.08*(U35) -> 17.04 | W35: ='Rank-income'!I35 -> 7 | X35: ='Rank-employment'!I35 -> 14 | Y35: ='Rank-health'!I35 -> 24 | Z35: ='Rank-employment'!I35 -> 14 | AA35: ='Rank-Living enviro'!U35 -> 10 | AB35: ='Rank-crime'!I34 -> 40 | AC35: =0.25*(W35)+0.25*(X35)+0.14*(Y35)+0.14*(Z35)+0.14*(AA35)+0.08*(AB35) -> 15.17 | AD35: ='Rank-income'!K35 -> 22 | AE35: ='Rank-employment'!K35 -> 12 | AF35: ='Rank-health'!K85 -> 0 | AG35: ='Rank education'!K35 -> 26 | AH35: ='Rank-Living enviro'!Z35 -> 22 | AI35: ='Rank-crime'!K35 -> 15 | AJ35: =0.25*(AD35)+0.25*(AE35)+0.14*(AF35)+0.14*(AG35)+0.14*(AH35)+0.08*(AI35) -> 16.42
A36: Richmond Local Municipality | B36: ='Rank-income'!C36 -> 32 | C36: ='Rank-employment'!C36 -> 38 | D36: ='Rank-health'!C36 -> 3 | E36: ='Rank education'!C35 -> 32 | F36: ='Rank-Living enviro'!F36 -> 36 | G36: ='Rank-crime'!C35 -> 14 | H36: =0.25*(B36)+0.25*(C36)+0.14*(D36)+0.14*(E36)+0.14*(F36)+0.08*(G36) -> 28.56 | I36: ='Rank-income'!E36 -> 33 | J36: ='Rank-employment'!E36 -> 37 | K36: ='Rank-health'!E36 -> 6 | L36: ='Rank-employment'!E36 -> 37 | M36: ='Rank-Living enviro'!K36 -> 32 | N36: ='Rank-crime'!E35 -> 17 | O36: =0.25*(I36)+0.25*(J36)+0.14*(K36)+0.14*(L36)+0.14*(M36)+0.08*(N36) -> 29.36 | P36: ='Rank-income'!G36 -> 35 | Q36: ='Rank-employment'!G36 -> 22 | R36: ='Rank-health'!G36 -> 6 | S36: ='Rank education'!G36 -> 27 | T36: ='Rank-Living enviro'!P36 -> 29 | U36: ='Rank-crime'!G35 -> 11 | V36: =0.25*(P36)+0.25*(Q36)+0.14*(R36)+0.14*(S36)+0.14*(T36)+0.08*(U36) -> 23.81 | W36: ='Rank-income'!I36 -> 35 | X36: ='Rank-employment'!I36 -> 18 | Y36: ='Rank-health'!I36 -> 8 | Z36: ='Rank-employment'!I36 -> 18 | AA36: ='Rank-Living enviro'!U36 -> 26 | AB36: ='Rank-crime'!I35 -> 15 | AC36: =0.25*(W36)+0.25*(X36)+0.14*(Y36)+0.14*(Z36)+0.14*(AA36)+0.08*(AB36) -> 21.73 | AD36: ='Rank-income'!K36 -> 33 | AE36: ='Rank-employment'!K36 -> 40 | AF36: ='Rank-health'!K86 -> 0 | AG36: ='Rank education'!K36 -> 28 | AH36: ='Rank-Living enviro'!Z36 -> 41 | AI36: ='Rank-crime'!K36 -> 24 | AJ36: =0.25*(AD36)+0.25*(AE36)+0.14*(AF36)+0.14*(AG36)+0.14*(AH36)+0.08*(AI36) -> 29.83
A37: The Big Five False Bay Local Municipality | B37: ='Rank-income'!C38 -> 49 | C37: ='Rank-employment'!C38 -> 46 | D37: ='Rank-health'!C38 -> 20 | E37: ='Rank education'!C37 -> 27 | F37: ='Rank-Living enviro'!F37 -> 9 | G37: ='Rank-crime'!C37 -> 2 | H37: =0.25*(B37)+0.25*(C37)+0.14*(D37)+0.14*(E37)+0.14*(F37)+0.08*(G37) -> 31.75 | I37: ='Rank-income'!E37 -> 1 | J37: ='Rank-employment'!E38 -> 42 | K37: ='Rank-health'!E38 -> 18 | L37: ='Rank-employment'!E37 -> 16 | M37: ='Rank-Living enviro'!K37 -> 21 | N37: ='Rank-crime'!E37 -> 7 | O37: =0.25*(I37)+0.25*(J37)+0.14*(K37)+0.14*(L37)+0.14*(M37)+0.08*(N37) -> 19.01 | P37: ='Rank-income'!G37 -> 1 | Q37: ='Rank-employment'!G37 -> 18 | R37: ='Rank-health'!G37 -> 28 | S37: ='Rank education'!G37 -> 26 | T37: ='Rank-Living enviro'!P37 -> 39 | U37: ='Rank-crime'!G37 -> 5 | V37: =0.25*(P37)+0.25*(Q37)+0.14*(R37)+0.14*(S37)+0.14*(T37)+0.08*(U37) -> 18.17 | W37: ='Rank-income'!I37 -> 1 | X37: ='Rank-employment'!I37 -> 15 | Y37: ='Rank-health'!I37 -> 33 | Z37: ='Rank-employment'!I37 -> 15 | AA37: ='Rank-Living enviro'!U37 -> 43 | AB37: ='Rank-crime'!I37 -> 6 | AC37: =0.25*(W37)+0.25*(X37)+0.14*(Y37)+0.14*(Z37)+0.14*(AA37)+0.08*(AB37) -> 17.22 | AD37: ='Rank-income'!K37 -> 29 | AE37: ='Rank-employment'!K37 -> 16 | AF37: ='Rank-health'!K87 -> 0 | AG37: ='Rank education'!K37 -> 34 | AH37: ='Rank-Living enviro'!Z37 -> 27 | AI37: ='Rank-crime'!K37 -> 7 | AJ37: =0.25*(AD37)+0.25*(AE37)+0.14*(AF37)+0.14*(AG37)+0.14*(AH37)+0.08*(AI37) -> 20.35
A38: The Msunduzi Local Municipality | B38: ='Rank-income'!C39 -> 28 | C38: ='Rank-employment'!C38 -> 46 | D38: ='Rank-health'!C39 -> 43 | E38: ='Rank education'!C38 -> 49 | F38: ='Rank-Living enviro'!F38 -> 49 | G38: ='Rank-crime'!C38 -> 45 | H38: =0.25*(B38)+0.25*(C38)+0.14*(D38)+0.14*(E38)+0.14*(F38)+0.08*(G38) -> 41.84 | I38: ='Rank-income'!E38 -> 49 | J38: ='Rank-employment'!E38 -> 42 | K38: ='Rank-health'!E38 -> 18 | L38: ='Rank-employment'!E38 -> 42 | M38: ='Rank-Living enviro'!K38 -> 50 | N38: ='Rank-crime'!E38 -> 48 | O38: =0.25*(I38)+0.25*(J38)+0.14*(K38)+0.14*(L38)+0.14*(M38)+0.08*(N38) -> 41.99 | P38: ='Rank-income'!G38 -> 50 | Q38: ='Rank-employment'!G38 -> 40 | R38: ='Rank-health'!G38 -> 20 | S38: ='Rank education'!G38 -> 48 | T38: ='Rank-Living enviro'!P38 -> 51 | U38: ='Rank-crime'!G38 -> 41 | V38: =0.25*(P38)+0.25*(Q38)+0.14*(R38)+0.14*(S38)+0.14*(T38)+0.08*(U38) -> 42.44 | W38: ='Rank-income'!I38 -> 50 | X38: ='Rank-employment'!I38 -> 41 | Y38: ='Rank-health'!I38 -> 20 | Z38: ='Rank-employment'!I38 -> 41 | AA38: ='Rank-Living enviro'!U38 -> 50 | AB38: ='Rank-crime'!I38 -> 45 | AC38: =0.25*(W38)+0.25*(X38)+0.14*(Y38)+0.14*(Z38)+0.14*(AA38)+0.08*(AB38) -> 41.89 | AD38: ='Rank-income'!K38 -> 50 | AE38: ='Rank-employment'!K38 -> 46 | AF38: ='Rank-health'!K88 -> 0 | AG38: ='Rank education'!K38 -> 49 | AH38: ='Rank-Living enviro'!Z38 -> 50 | AI38: ='Rank-crime'!K38 -> 45 | AJ38: =0.25*(AD38)+0.25*(AE38)+0.14*(AF38)+0.14*(AG38)+0.14*(AH38)+0.08*(AI38) -> 41.46
A39: Ubuhlebezwe Local Municipality | B39: ='Rank-income'!C40 -> 19 | C39: ='Rank-employment'!C39 -> 18 | D39: ='Rank-health'!C39 -> 43 | E39: ='Rank education'!C39 -> 24 | F39: ='Rank-Living enviro'!F39 -> 22 | G39: ='Rank-crime'!C39 -> 17 | H39: =0.25*(B39)+0.25*(C39)+0.14*(D39)+0.14*(E39)+0.14*(F39)+0.08*(G39) -> 23.07 | I39: ='Rank-income'!E39 -> 22 | J39: ='Rank-employment'!E39 -> 21 | K39: ='Rank-health'!E39 -> 39 | L39: ='Rank-employment'!E39 -> 21 | M39: ='Rank-Living enviro'!K39 -> 12 | N39: ='Rank-crime'!E39 -> 15 | O39: =0.25*(I39)+0.25*(J39)+0.14*(K39)+0.14*(L39)+0.14*(M39)+0.08*(N39) -> 22.03 | P39: ='Rank-income'!G39 -> 11 | Q39: ='Rank-employment'!G39 -> 24 | R39: ='Rank-health'!G39 -> 34 | S39: ='Rank education'!G39 -> 24 | T39: ='Rank-Living enviro'!P39 -> 17 | U39: ='Rank-crime'!G39 -> 4 | V39: =0.25*(P39)+0.25*(Q39)+0.14*(R39)+0.14*(S39)+0.14*(T39)+0.08*(U39) -> 19.57 | W39: ='Rank-income'!I39 -> 8 | X39: ='Rank-employment'!I39 -> 23 | Y39: ='Rank-health'!I39 -> 32 | Z39: ='Rank-employment'!I39 -> 23 | AA39: ='Rank-Living enviro'!U39 -> 18 | AB39: ='Rank-crime'!I39 -> 9 | AC39: =0.25*(W39)+0.25*(X39)+0.14*(Y39)+0.14*(Z39)+0.14*(AA39)+0.08*(AB39) -> 18.69 | AD39: ='Rank-income'!K39 -> 23 | AE39: ='Rank-employment'!K39 -> 17 | AF39: ='Rank-health'!K89 -> 0 | AG39: ='Rank education'!K39 -> 18 | AH39: ='Rank-Living enviro'!Z39 -> 17 | AI39: ='Rank-crime'!K39 -> 9 | AJ39: =0.25*(AD39)+0.25*(AE39)+0.14*(AF39)+0.14*(AG39)+0.14*(AH39)+0.08*(AI39) -> 15.62
A40: Ulundi Local Municipality | B40: ='Rank-income'!C40 -> 19 | C40: ='Rank-employment'!C40 -> 16 | D40: ='Rank-health'!C40 -> 33 | E40: ='Rank education'!C40 -> 28 | F40: ='Rank-Living enviro'!F40 -> 23 | G40: ='Rank-crime'!C40 -> 12 | H40: =0.25*(B40)+0.25*(C40)+0.14*(D40)+0.14*(E40)+0.14*(F40)+0.08*(G40) -> 21.47 | I40: ='Rank-income'!E40 -> 16 | J40: ='Rank-employment'!E40 -> 10 | K40: ='Rank-health'!E40 -> 36 | L40: ='Rank-employment'!E40 -> 10 | M40: ='Rank-Living enviro'!K40 -> 23 | N40: ='Rank-crime'!E40 -> 21 | O40: =0.25*(I40)+0.25*(J40)+0.14*(K40)+0.14*(L40)+0.14*(M40)+0.08*(N40) -> 17.84 | P40: ='Rank-income'!G40 -> 21 | Q40: ='Rank-employment'!G40 -> 16 | R40: ='Rank-health'!G40 -> 33 | S40: ='Rank education'!G40 -> 33 | T40: ='Rank-Living enviro'!P40 -> 30 | U40: ='Rank-crime'!G40 -> 16 | V40: =0.25*(P40)+0.25*(Q40)+0.14*(R40)+0.14*(S40)+0.14*(T40)+0.08*(U40) -> 23.97 | W40: ='Rank-income'!I40 -> 20 | X40: ='Rank-employment'!I40 -> 21 | Y40: ='Rank-health'!I40 -> 31 | Z40: ='Rank-employment'!I40 -> 21 | AA40: ='Rank-Living enviro'!U40 -> 31 | AB40: ='Rank-crime'!I40 -> 13 | AC40: =0.25*(W40)+0.25*(X40)+0.14*(Y40)+0.14*(Z40)+0.14*(AA40)+0.08*(AB40) -> 22.91 | AD40: ='Rank-income'!K40 -> 25 | AE40: ='Rank-employment'!K40 -> 15 | AF40: ='Rank-health'!K90 -> 0 | AG40: ='Rank education'!K40 -> 31 | AH40: ='Rank-Living enviro'!Z40 -> 30 | AI40: ='Rank-crime'!K40 -> 13 | AJ40: =0.25*(AD40)+0.25*(AE40)+0.14*(AF40)+0.14*(AG40)+0.14*(AH40)+0.08*(AI40) -> 19.58
A41: Umdoni Local Municipality | B41: ='Rank-income'!C41 -> 48 | C41: ='Rank-employment'!C41 -> 28 | D41: ='Rank-health'!C41 -> 52 | E41: ='Rank education'!C41 -> 47 | F41: ='Rank-Living enviro'!F41 -> 46 | G41: ='Rank-crime'!C41 -> 50 | H41: =0.25*(B41)+0.25*(C41)+0.14*(D41)+0.14*(E41)+0.14*(F41)+0.08*(G41) -> 43.3 | I41: ='Rank-income'!E41 -> 47 | J41: ='Rank-employment'!E41 -> 31 | K41: ='Rank-health'!E41 -> 44 | L41: ='Rank-employment'!E41 -> 31 | M41: ='Rank-Living enviro'!K41 -> 43 | N41: ='Rank-crime'!E41 -> 50 | O41: =0.25*(I41)+0.25*(J41)+0.14*(K41)+0.14*(L41)+0.14*(M41)+0.08*(N41) -> 40.02 | P41: ='Rank-income'!G41 -> 46 | Q41: ='Rank-employment'!G41 -> 36 | R41: ='Rank-health'!G41 -> 38 | S41: ='Rank education'!G41 -> 47 | T41: ='Rank-Living enviro'!P41 -> 41 | U41: ='Rank-crime'!G41 -> 51 | V41: =0.25*(P41)+0.25*(Q41)+0.14*(R41)+0.14*(S41)+0.14*(T41)+0.08*(U41) -> 42.22 | W41: ='Rank-income'!I41 -> 47 | X41: ='Rank-employment'!I41 -> 37 | Y41: ='Rank-health'!I41 -> 39 | Z41: ='Rank-employment'!I41 -> 37 | AA41: ='Rank-Living enviro'!U41 -> 40 | AB41: ='Rank-crime'!I41 -> 50 | AC41: =0.25*(W41)+0.25*(X41)+0.14*(Y41)+0.14*(Z41)+0.14*(AA41)+0.08*(AB41) -> 41.24 | AD41: ='Rank-income'!K41 -> 47 | AE41: ='Rank-employment'!K41 -> 23 | AF41: ='Rank-health'!K91 -> 0 | AG41: ='Rank education'!K41 -> 41 | AH41: ='Rank-Living enviro'!Z41 -> 42 | AI41: ='Rank-crime'!K41 -> 51 | AJ41: =0.25*(AD41)+0.25*(AE41)+0.14*(AF41)+0.14*(AG41)+0.14*(AH41)+0.08*(AI41) -> 33.2
A42: Umhlabuyalingana Local Municipality | B42: ='Rank-income'!C42 -> 8 | C42: ='Rank-employment'!C42 -> 7 | D42: ='Rank-health'!C42 -> 30 | E42: ='Rank education'!C42 -> 4 | F42: ='Rank-Living enviro'!F42 -> 2 | G42: ='Rank-crime'!C42 -> 1 | H42: =0.25*(B42)+0.25*(C42)+0.14*(D42)+0.14*(E42)+0.14*(F42)+0.08*(G42) -> 8.87 | I42: ='Rank-income'!E42 -> 9 | J42: ='Rank-employment'!E42 -> 11 | K42: ='Rank-health'!E42 -> 32 | L42: ='Rank-employment'!E42 -> 11 | M42: ='Rank-Living enviro'!K42 -> 3 | N42: ='Rank-crime'!E42 -> 3 | O42: =0.25*(I42)+0.25*(J42)+0.14*(K42)+0.14*(L42)+0.14*(M42)+0.08*(N42) -> 11.68 | P42: ='Rank-income'!G42 -> 10 | Q42: ='Rank-employment'!G42 -> 17 | R42: ='Rank-health'!G42 -> 27 | S42: ='Rank education'!G42 -> 12 | T42: ='Rank-Living enviro'!P42 -> 20 | U42: ='Rank-crime'!G42 -> 7 | V42: =0.25*(P42)+0.25*(Q42)+0.14*(R42)+0.14*(S42)+0.14*(T42)+0.08*(U42) -> 15.57 | W42: ='Rank-income'!I42 -> 11 | X42: ='Rank-employment'!I42 -> 13 | Y42: ='Rank-health'!I42 -> 26 | Z42: ='Rank-employment'!I42 -> 13 | AA42: ='Rank-Living enviro'!U42 -> 22 | AB42: ='Rank-crime'!I42 -> 5 | AC42: =0.25*(W42)+0.25*(X42)+0.14*(Y42)+0.14*(Z42)+0.14*(AA42)+0.08*(AB42) -> 14.94 | AD42: ='Rank-income'!K42 -> 10 | AE42: ='Rank-employment'!K42 -> 8 | AF42: ='Rank-health'!K92 -> 0 | AG42: ='Rank education'!K42 -> 23 | AH42: ='Rank-Living enviro'!Z42 -> 8 | AI42: ='Rank-crime'!K42 -> 6 | AJ42: =0.25*(AD42)+0.25*(AE42)+0.14*(AF42)+0.14*(AG42)+0.14*(AH42)+0.08*(AI42) -> 9.32
A43: uMhlathuze Local Municipality | B43: ='Rank-income'!C43 -> 50 | C43: ='Rank-employment'!C43 -> 39 | D43: ='Rank-health'!C43 -> 9 | E43: ='Rank education'!C43 -> 51 | F43: ='Rank-Living enviro'!F43 -> 47 | G43: ='Rank-crime'!C43 -> 47 | H43: =0.25*(B43)+0.25*(C43)+0.14*(D43)+0.14*(E43)+0.14*(F43)+0.08*(G43) -> 40.99 | I43: ='Rank-income'!E43 -> 50 | J43: ='Rank-employment'!E43 -> 41 | K43: ='Rank-health'!E43 -> 4 | L43: ='Rank-employment'!E43 -> 41 | M43: ='Rank-Living enviro'!K43 -> 47 | N43: ='Rank-crime'!E43 -> 49 | O43: =0.25*(I43)+0.25*(J43)+0.14*(K43)+0.14*(L43)+0.14*(M43)+0.08*(N43) -> 39.55 | P43: ='Rank-income'!G43 -> 47 | Q43: ='Rank-employment'!G43 -> 41 | R43: ='Rank-health'!G43 -> 4 | S43: ='Rank education'!G43 -> 50 | T43: ='Rank-Living enviro'!P43 -> 48 | U43: ='Rank-crime'!G43 -> 50 | V43: =0.25*(P43)+0.25*(Q43)+0.14*(R43)+0.14*(S43)+0.14*(T43)+0.08*(U43) -> 40.28 | W43: ='Rank-income'!I43 -> 46 | X43: ='Rank-employment'!I43 -> 40 | Y43: ='Rank-health'!I43 -> 5 | Z43: ='Rank-employment'!I43 -> 40 | AA43: ='Rank-Living enviro'!U43 -> 49 | AB43: ='Rank-crime'!I43 -> 49 | AC43: =0.25*(W43)+0.25*(X43)+0.14*(Y43)+0.14*(Z43)+0.14*(AA43)+0.08*(AB43) -> 38.58 | AD43: ='Rank-income'!K43 -> 49 | AE43: ='Rank-employment'!K43 -> 42 | AF43: ='Rank-health'!K93 -> 0 | AG43: ='Rank education'!K43 -> 51 | AH43: ='Rank-Living enviro'!Z43 -> 52 | AI43: ='Rank-crime'!K43 -> 49 | AJ43: =0.25*(AD43)+0.25*(AE43)+0.14*(AF43)+0.14*(AG43)+0.14*(AH43)+0.08*(AI43) -> 41.09
A44: uMlalazi Local Municipality | B44: ='Rank-income'!C44 -> 27 | C44: ='Rank-employment'!C44 -> 31 | D44: ='Rank-health'!C44 -> 25 | E44: ='Rank education'!C44 -> 30 | F44: ='Rank-Living enviro'!F44 -> 21 | G44: ='Rank-crime'!C44 -> 29 | H44: =0.25*(B44)+0.25*(C44)+0.14*(D44)+0.14*(E44)+0.14*(F44)+0.08*(G44) -> 27.46 | I44: ='Rank-income'!E44 -> 29 | J44: ='Rank-employment'!E44 -> 32 | K44: ='Rank-health'!E44 -> 26 | L44: ='Rank-employment'!E44 -> 32 | M44: ='Rank-Living enviro'!K44 -> 22 | N44: ='Rank-crime'!E44 -> 36 | O44: =0.25*(I44)+0.25*(J44)+0.14*(K44)+0.14*(L44)+0.14*(M44)+0.08*(N44) -> 29.33 | P44: ='Rank-income'!G44 -> 29 | Q44: ='Rank-employment'!G44 -> 29 | R44: ='Rank-health'!G44 -> 31 | S44: ='Rank education'!G44 -> 25 | T44: ='Rank-Living enviro'!P44 -> 22 | U44: ='Rank-crime'!G44 -> 39 | V44: =0.25*(P44)+0.25*(Q44)+0.14*(R44)+0.14*(S44)+0.14*(T44)+0.08*(U44) -> 28.54 | W44: ='Rank-income'!I44 -> 29 | X44: ='Rank-employment'!I44 -> 29 | Y44: ='Rank-health'!I44 -> 30 | Z44: ='Rank-employment'!I44 -> 29 | AA44: ='Rank-Living enviro'!U44 -> 20 | AB44: ='Rank-crime'!I44 -> 41 | AC44: =0.25*(W44)+0.25*(X44)+0.14*(Y44)+0.14*(Z44)+0.14*(AA44)+0.08*(AB44) -> 28.84 | AD44: ='Rank-income'!K44 -> 31 | AE44: ='Rank-employment'!K44 -> 28 | AF44: ='Rank-health'!K94 -> 0 | AG44: ='Rank education'!K44 -> 35 | AH44: ='Rank-Living enviro'!Z44 -> 14 | AI44: ='Rank-crime'!K44 -> 40 | AJ44: =0.25*(AD44)+0.25*(AE44)+0.14*(AF44)+0.14*(AG44)+0.14*(AH44)+0.08*(AI44) -> 24.81
A45: uMngeni Local Municipality | B45: ='Rank-income'!C45 -> 51 | C45: ='Rank-employment'!C45 -> 47 | D45: ='Rank-health'!C45 -> 17 | E45: ='Rank education'!C45 -> 52 | F45: ='Rank-Living enviro'!F45 -> 48 | G45: ='Rank-crime'!C45 -> 41 | H45: =0.25*(B45)+0.25*(C45)+0.14*(D45)+0.14*(E45)+0.14*(F45)+0.08*(G45) -> 44.16 | I45: ='Rank-income'!E45 -> 52 | J45: ='Rank-employment'!E45 -> 46 | K45: ='Rank-health'!E45 -> 17 | L45: ='Rank-employment'!E45 -> 46 | M45: ='Rank-Living enviro'!K45 -> 49 | N45: ='Rank-crime'!E45 -> 43 | O45: =0.25*(I45)+0.25*(J45)+0.14*(K45)+0.14*(L45)+0.14*(M45)+0.08*(N45) -> 43.62 | P45: ='Rank-income'!G45 -> 52 | Q45: ='Rank-employment'!G45 -> 45 | R45: ='Rank-health'!G45 -> 23 | S45: ='Rank education'!G45 -> 52 | T45: ='Rank-Living enviro'!P45 -> 47 | U45: ='Rank-crime'!G45 -> 36 | V45: =0.25*(P45)+0.25*(Q45)+0.14*(R45)+0.14*(S45)+0.14*(T45)+0.08*(U45) -> 44.21 | W45: ='Rank-income'!I45 -> 52 | X45: ='Rank-employment'!I45 -> 46 | Y45: ='Rank-health'!I45 -> 25 | Z45: ='Rank-employment'!I45 -> 46 | AA45: ='Rank-Living enviro'!U45 -> 46 | AB45: ='Rank-crime'!I45 -> 38 | AC45: =0.25*(W45)+0.25*(X45)+0.14*(Y45)+0.14*(Z45)+0.14*(AA45)+0.08*(AB45) -> 43.92 | AD45: ='Rank-income'!K45 -> 52 | AE45: ='Rank-employment'!K45 -> 49 | AF45: ='Rank-health'!K95 -> 0 | AG45: ='Rank education'!K45 -> 52 | AH45: ='Rank-Living enviro'!Z45 -> 47 | AI45: ='Rank-crime'!K45 -> 34 | AJ45: =0.25*(AD45)+0.25*(AE45)+0.14*(AF45)+0.14*(AG45)+0.14*(AH45)+0.08*(AI45) -> 41.83
A46: uMshwathi Local Municipality | B46: ='Rank-income'!C46 -> 31 | C46: ='Rank-employment'!C46 -> 37 | D46: ='Rank-health'!C46 -> 6 | E46: ='Rank education'!C46 -> 29 | F46: ='Rank-Living enviro'!F46 -> 28 | G46: ='Rank-crime'!C46 -> 33 | H46: =0.25*(B46)+0.25*(C46)+0.14*(D46)+0.14*(E46)+0.14*(F46)+0.08*(G46) -> 28.46 | I46: ='Rank-income'!E46 -> 35 | J46: ='Rank-employment'!E46 -> 38 | K46: ='Rank-health'!E46 -> 13 | L46: ='Rank-employment'!E46 -> 38 | M46: ='Rank-Living enviro'!K46 -> 34 | N46: ='Rank-crime'!E46 -> 29 | O46: =0.25*(I46)+0.25*(J46)+0.14*(K46)+0.14*(L46)+0.14*(M46)+0.08*(N46) -> 32.47 | P46: ='Rank-income'!G46 -> 34 | Q46: ='Rank-employment'!G46 -> 37 | R46: ='Rank-health'!G46 -> 14 | S46: ='Rank education'!G46 -> 22 | T46: ='Rank-Living enviro'!P46 -> 28 | U46: ='Rank-crime'!G46 -> 21 | V46: =0.25*(P46)+0.25*(Q46)+0.14*(R46)+0.14*(S46)+0.14*(T46)+0.08*(U46) -> 28.39 | W46: ='Rank-income'!I46 -> 32 | X46: ='Rank-employment'!I46 -> 36 | Y46: ='Rank-health'!I46 -> 15 | Z46: ='Rank-employment'!I46 -> 36 | AA46: ='Rank-Living enviro'!U46 -> 24 | AB46: ='Rank-crime'!I46 -> 24 | AC46: =0.25*(W46)+0.25*(X46)+0.14*(Y46)+0.14*(Z46)+0.14*(AA46)+0.08*(AB46) -> 29.42 | AD46: ='Rank-income'!K46 -> 38 | AE46: ='Rank-employment'!K46 -> 39 | AF46: ='Rank-health'!K96 -> 0 | AG46: ='Rank education'!K46 -> 33 | AH46: ='Rank-Living enviro'!Z46 -> 37 | AI46: ='Rank-crime'!K46 -> 20 | AJ46: =0.25*(AD46)+0.25*(AE46)+0.14*(AF46)+0.14*(AG46)+0.14*(AH46)+0.08*(AI46) -> 30.65
A47: Umtshezi Local Municipality | B47: ='Rank-income'!C47 -> 43 | C47: ='Rank-employment'!C47 -> 23 | D47: ='Rank-health'!C47 -> 41 | E47: ='Rank education'!C47 -> 42 | F47: ='Rank-Living enviro'!F47 -> 42 | G47: ='Rank-crime'!C47 -> 48 | H47: =0.25*(B47)+0.25*(C47)+0.14*(D47)+0.14*(E47)+0.14*(F47)+0.08*(G47) -> 37.84 | I47: ='Rank-income'!E47 -> 41 | J47: ='Rank-employment'!E47 -> 23 | K47: ='Rank-health'!E47 -> 22 | L47: ='Rank-employment'!E47 -> 23 | M47: ='Rank-Living enviro'!K47 -> 42 | N47: ='Rank-crime'!E47 -> 42 | O47: =0.25*(I47)+0.25*(J47)+0.14*(K47)+0.14*(L47)+0.14*(M47)+0.08*(N47) -> 31.54 | P47: ='Rank-income'!G47 -> 39 | Q47: ='Rank-employment'!G47 -> 26 | R47: ='Rank-health'!G47 -> 17 | S47: ='Rank education'!G47 -> 42 | T47: ='Rank-Living enviro'!P47 -> 44 | U47: ='Rank-crime'!G47 -> 32 | V47: =0.25*(P47)+0.25*(Q47)+0.14*(R47)+0.14*(S47)+0.14*(T47)+0.08*(U47) -> 33.23 | W47: ='Rank-income'!I47 -> 38 | X47: ='Rank-employment'!I47 -> 25 | Y47: ='Rank-health'!I47 -> 16 | Z47: ='Rank-employment'!I47 -> 25 | AA47: ='Rank-Living enviro'!U47 -> 45 | AB47: ='Rank-crime'!I47 -> 32 | AC47: =0.25*(W47)+0.25*(X47)+0.14*(Y47)+0.14*(Z47)+0.14*(AA47)+0.08*(AB47) -> 30.35 | AD47: ='Rank-income'!K47 -> 39 | AE47: ='Rank-employment'!K47 -> 20 | AF47: ='Rank-health'!K97 -> 0 | AG47: ='Rank education'!K47 -> 39 | AH47: ='Rank-Living enviro'!Z47 -> 36 | AI47: ='Rank-crime'!K47 -> 27 | AJ47: =0.25*(AD47)+0.25*(AE47)+0.14*(AF47)+0.14*(AG47)+0.14*(AH47)+0.08*(AI47) -> 27.41
A48: uMuziwabantu Local Municipality | B48: ='Rank-income'!C48 -> 23 | C48: ='Rank-employment'!C48 -> 9 | D48: ='Rank-health'!C48 -> 49 | E48: ='Rank education'!C48 -> 19 | F48: ='Rank-Living enviro'!F48 -> 16 | G48: ='Rank-crime'!C48 -> 20 | H48: =0.25*(B48)+0.25*(C48)+0.14*(D48)+0.14*(E48)+0.14*(F48)+0.08*(G48) -> 21.36 | I48: ='Rank-income'!E48 -> 23 | J48: ='Rank-employment'!E48 -> 12 | K48: ='Rank-health'!E48 -> 40 | L48: ='Rank-employment'!E48 -> 12 | M48: ='Rank-Living enviro'!K48 -> 13 | N48: ='Rank-crime'!E48 -> 25 | O48: =0.25*(I48)+0.25*(J48)+0.14*(K48)+0.14*(L48)+0.14*(M48)+0.08*(N48) -> 19.85 | P48: ='Rank-income'!G48 -> 22 | Q48: ='Rank-employment'!G48 -> 12 | R48: ='Rank-health'!G48 -> 35 | S48: ='Rank education'!G48 -> 23 | T48: ='Rank-Living enviro'!P48 -> 10 | U48: ='Rank-crime'!G48 -> 27 | V48: =0.25*(P48)+0.25*(Q48)+0.14*(R48)+0.14*(S48)+0.14*(T48)+0.08*(U48) -> 20.18 | W48: ='Rank-income'!I48 -> 21 | X48: ='Rank-employment'!I48 -> 11 | Y48: ='Rank-health'!I48 -> 29 | Z48: ='Rank-employment'!I48 -> 11 | AA48: ='Rank-Living enviro'!U48 -> 13 | AB48: ='Rank-crime'!I48 -> 19 | AC48: =0.25*(W48)+0.25*(X48)+0.14*(Y48)+0.14*(Z48)+0.14*(AA48)+0.08*(AB48) -> 16.94 | AD48: ='Rank-income'!K48 -> 19 | AE48: ='Rank-employment'!K48 -> 14 | AF48: ='Rank-health'!K98 -> 0 | AG48: ='Rank education'!K48 -> 20 | AH48: ='Rank-Living enviro'!Z48 -> 25 | AI48: ='Rank-crime'!K48 -> 18 | AJ48: =0.25*(AD48)+0.25*(AE48)+0.14*(AF48)+0.14*(AG48)+0.14*(AH48)+0.08*(AI48) -> 15.99
A49: Umvoti Local Municipality | B49: ='Rank-income'!C49 -> 36 | C49: ='Rank-employment'!C49 -> 34 | D49: ='Rank-health'!C49 -> 8 | E49: ='Rank education'!C49 -> 33 | F49: ='Rank-Living enviro'!F49 -> 32 | G49: ='Rank-crime'!C49 -> 36 | H49: =0.25*(B49)+0.25*(C49)+0.14*(D49)+0.14*(E49)+0.14*(F49)+0.08*(G49) -> 30.6 | I49: ='Rank-income'!E49 -> 39 | J49: ='Rank-employment'!E49 -> 36 | K49: ='Rank-health'!E49 -> 33 | L49: ='Rank-employment'!E49 -> 36 | M49: ='Rank-Living enviro'!K49 -> 28 | N49: ='Rank-crime'!E49 -> 33 | O49: =0.25*(I49)+0.25*(J49)+0.14*(K49)+0.14*(L49)+0.14*(M49)+0.08*(N49) -> 34.97 | P49: ='Rank-income'!G49 -> 42 | Q49: ='Rank-employment'!G49 -> 32 | R49: ='Rank-health'!G49 -> 43 | S49: ='Rank education'!G49 -> 35 | T49: ='Rank-Living enviro'!P49 -> 31 | U49: ='Rank-crime'!G49 -> 35 | V49: =0.25*(P49)+0.25*(Q49)+0.14*(R49)+0.14*(S49)+0.14*(T49)+0.08*(U49) -> 36.56 | W49: ='Rank-income'!I49 -> 42 | X49: ='Rank-employment'!I49 -> 31 | Y49: ='Rank-health'!I49 -> 47 | Z49: ='Rank-employment'!I49 -> 31 | AA49: ='Rank-Living enviro'!U49 -> 38 | AB49: ='Rank-crime'!I49 -> 31 | AC49: =0.25*(W49)+0.25*(X49)+0.14*(Y49)+0.14*(Z49)+0.14*(AA49)+0.08*(AB49) -> 36.97 | AD49: ='Rank-income'!K49 -> 35 | AE49: ='Rank-employment'!K49 -> 30 | AF49: ='Rank-health'!K99 -> 0 | AG49: ='Rank education'!K49 -> 27 | AH49: ='Rank-Living enviro'!Z49 -> 19 | AI49: ='Rank-crime'!K49 -> 31 | AJ49: =0.25*(AD49)+0.25*(AE49)+0.14*(AF49)+0.14*(AG49)+0.14*(AH49)+0.08*(AI49) -> 25.17
A50: Umzimkhulu Local Municipality (Umzimkulu) | B50: ='Rank-income'!C50 -> 20 | C50: ='Rank-employment'!C50 -> 10 | D50: ='Rank-health'!C50 -> 48 | E50: ='Rank education'!C50 -> 35 | F50: ='Rank-Living enviro'!F50 -> 12 | G50: ='Rank-crime'!C50 -> 10 | H50: =0.25*(B50)+0.25*(C50)+0.14*(D50)+0.14*(E50)+0.14*(F50)+0.08*(G50) -> 21.6 | I50: ='Rank-income'!E50 -> 26 | J50: ='Rank-employment'!E50 -> 13 | K50: ='Rank-health'!E50 -> 48 | L50: ='Rank-employment'!E50 -> 13 | M50: ='Rank-Living enviro'!K50 -> 8 | N50: ='Rank-crime'!E50 -> 11 | O50: =0.25*(I50)+0.25*(J50)+0.14*(K50)+0.14*(L50)+0.14*(M50)+0.08*(N50) -> 20.29 | P50: ='Rank-income'!G50 -> 28 | Q50: ='Rank-employment'!G50 -> 13 | R50: ='Rank-health'!G50 -> 46 | S50: ='Rank education'!G50 -> 30 | T50: ='Rank-Living enviro'!P50 -> 4 | U50: ='Rank-crime'!G50 -> 19 | V50: =0.25*(P50)+0.25*(Q50)+0.14*(R50)+0.14*(S50)+0.14*(T50)+0.08*(U50) -> 22.97 | W50: ='Rank-income'!I50 -> 30 | X50: ='Rank-employment'!I50 -> 17 | Y50: ='Rank-health'!I50 -> 44 | Z50: ='Rank-employment'!I50 -> 17 | AA50: ='Rank-Living enviro'!U50 -> 5 | AB50: ='Rank-crime'!I50 -> 12 | AC50: =0.25*(W50)+0.25*(X50)+0.14*(Y50)+0.14*(Z50)+0.14*(AA50)+0.08*(AB50) -> 21.95 | AD50: ='Rank-income'!K50 -> 14 | AE50: ='Rank-employment'!K50 -> 13 | AF50: ='Rank-health'!K100 -> 0 | AG50: ='Rank education'!K50 -> 16 | AH50: ='Rank-Living enviro'!Z50 -> 6 | AI50: ='Rank-crime'!K50 -> 11 | AJ50: =0.25*(AD50)+0.25*(AE50)+0.14*(AF50)+0.14*(AG50)+0.14*(AH50)+0.08*(AI50) -> 10.71
A51: Umzumbe Local Municipality | B51: ='Rank-income'!C51 -> 14 | C51: ='Rank-employment'!C51 -> 29 | D51: ='Rank-health'!C51 -> 42 | E51: ='Rank education'!C51 -> 10 | F51: ='Rank-Living enviro'!F51 -> 11 | G51: ='Rank-crime'!C51 -> 11 | H51: =0.25*(B51)+0.25*(C51)+0.14*(D51)+0.14*(E51)+0.14*(F51)+0.08*(G51) -> 20.45 | I51: ='Rank-income'!E51 -> 13 | J51: ='Rank-employment'!E51 -> 30 | K51: ='Rank-health'!E51 -> 42 | L51: ='Rank-employment'!E51 -> 30 | M51: ='Rank-Living enviro'!K51 -> 5 | N51: ='Rank-crime'!E51 -> 13 | O51: =0.25*(I51)+0.25*(J51)+0.14*(K51)+0.14*(L51)+0.14*(M51)+0.08*(N51) -> 22.57 | P51: ='Rank-income'!G51 -> 12 | Q51: ='Rank-employment'!G51 -> 35 | R51: ='Rank-health'!G51 -> 39 | S51: ='Rank education'!G51 -> 11 | T51: ='Rank-Living enviro'!P51 -> 9 | U51: ='Rank-crime'!G51 -> 15 | V51: =0.25*(P51)+0.25*(Q51)+0.14*(R51)+0.14*(S51)+0.14*(T51)+0.08*(U51) -> 21.21 | W51: ='Rank-income'!I51 -> 12 | X51: ='Rank-employment'!I51 -> 35 | Y51: ='Rank-health'!I51 -> 38 | Z51: ='Rank-employment'!I51 -> 35 | AA51: ='Rank-Living enviro'!U51 -> 7 | AB51: ='Rank-crime'!I51 -> 16 | AC51: =0.25*(W51)+0.25*(X51)+0.14*(Y51)+0.14*(Z51)+0.14*(AA51)+0.08*(AB51) -> 24.23 | AD51: ='Rank-income'!K51 -> 12 | AE51: ='Rank-employment'!K51 -> 36 | AF51: ='Rank-health'!K101 -> 0 | AG51: ='Rank education'!K51 -> 15 | AH51: ='Rank-Living enviro'!Z51 -> 3 | AI51: ='Rank-crime'!K51 -> 25 | AJ51: =0.25*(AD51)+0.25*(AE51)+0.14*(AF51)+0.14*(AG51)+0.14*(AH51)+0.08*(AI51) -> 16.52
A52: uPhongolo Local Municipality | B52: ='Rank-income'!C52 -> 29 | C52: ='Rank-employment'!C52 -> 14 | D52: ='Rank-health'!C52 -> 22 | E52: ='Rank education'!C52 -> 26 | F52: ='Rank-Living enviro'!F52 -> 29 | G52: ='Rank-crime'!C52 -> 16 | H52: =0.25*(B52)+0.25*(C52)+0.14*(D52)+0.14*(E52)+0.14*(F52)+0.08*(G52) -> 22.81 | I52: ='Rank-income'!E52 -> 20 | J52: ='Rank-employment'!E52 -> 19 | K52: ='Rank-health'!E52 -> 19 | L52: ='Rank-employment'!E52 -> 19 | M52: ='Rank-Living enviro'!K52 -> 29 | N52: ='Rank-crime'!E52 -> 20 | O52: =0.25*(I52)+0.25*(J52)+0.14*(K52)+0.14*(L52)+0.14*(M52)+0.08*(N52) -> 20.73 | P52: ='Rank-income'!G52 -> 18 | Q52: ='Rank-employment'!G52 -> 23 | R52: ='Rank-health'!G52 -> 21 | S52: ='Rank education'!G52 -> 29 | T52: ='Rank-Living enviro'!P52 -> 33 | U52: ='Rank-crime'!G52 -> 30 | V52: =0.25*(P52)+0.25*(Q52)+0.14*(R52)+0.14*(S52)+0.14*(T52)+0.08*(U52) -> 24.27 | W52: ='Rank-income'!I52 -> 15 | X52: ='Rank-employment'!I52 -> 22 | Y52: ='Rank-health'!I52 -> 21 | Z52: ='Rank-employment'!I52 -> 22 | AA52: ='Rank-Living enviro'!U52 -> 37 | AB52: ='Rank-crime'!I52 -> 18 | AC52: =0.25*(W52)+0.25*(X52)+0.14*(Y52)+0.14*(Z52)+0.14*(AA52)+0.08*(AB52) -> 21.89 | AD52: ='Rank-income'!K52 -> 27 | AE52: ='Rank-employment'!K52 -> 7 | AF52: ='Rank-health'!K102 -> 0 | AG52: ='Rank education'!K52 -> 19 | AH52: ='Rank-Living enviro'!Z52 -> 21 | AI52: ='Rank-crime'!K52 -> 28 | AJ52: =0.25*(AD52)+0.25*(AE52)+0.14*(AF52)+0.14*(AG52)+0.14*(AH52)+0.08*(AI52) -> 16.34
A53: Vulamehlo Local Municipality | B53: ='Rank-income'!C53 -> 13 | C53: ='Rank-employment'!C53 -> 21 | D53: ='Rank-health'!C53 -> 37 | E53: ='Rank education'!C53 -> 8 | F53: ='Rank-Living enviro'!F53 -> 14 | G53: ='Rank-crime'!C53 -> 21 | H53: =0.25*(B53)+0.25*(C53)+0.14*(D53)+0.14*(E53)+0.14*(F53)+0.08*(G53) -> 18.44 | I53: ='Rank-income'!E53 -> 18 | J53: ='Rank-employment'!E53 -> 14 | K53: ='Rank-health'!E53 -> 23 | L53: ='Rank-employment'!E53 -> 14 | M53: ='Rank-Living enviro'!K53 -> 10 | N53: ='Rank-crime'!E53 -> 37 | O53: =0.25*(I53)+0.25*(J53)+0.14*(K53)+0.14*(L53)+0.14*(M53)+0.08*(N53) -> 17.54 | P53: ='Rank-income'!G53 -> 31 | Q53: ='Rank-employment'!G53 -> 9 | R53: ='Rank-health'!G53 -> 9 | S53: ='Rank education'!G53 -> 7 | T53: ='Rank-Living enviro'!P53 -> 13 | U53: ='Rank-crime'!G53 -> 43 | V53: =0.25*(P53)+0.25*(Q53)+0.14*(R53)+0.14*(S53)+0.14*(T53)+0.08*(U53) -> 17.5 | W53: ='Rank-income'!I53 -> 36 | X53: ='Rank-employment'!I53 -> 7 | Y53: ='Rank-health'!I53 -> 4 | Z53: ='Rank education'!I53 -> 8 | AA53: ='Rank-Living enviro'!U53 -> 16 | AB53: ='Rank-crime'!I53 -> 37 | AC53: =0.25*(W53)+0.25*(X53)+0.14*(Y53)+0.14*(Z53)+0.14*(AA53)+0.08*(AB53) -> 17.63 | AD53: ='Rank-income'!K53 -> 9 | AE53: ='Rank-employment'!K53 -> 27 | AF53: ='Rank-health'!K103 -> 0 | AG53: ='Rank education'!K53 -> 5 | AH53: ='Rank-Living enviro'!Z53 -> 7 | AI53: ='Rank-crime'!K53 -> 36 | AJ53: =0.25*(AD53)+0.25*(AE53)+0.14*(AF53)+0.14*(AG53)+0.14*(AH53)+0.08*(AI53) -> 13.56
A55: Urban
A56: Rural

Sheet Final ranking
A1: Final Ranking | B1: 1996 | C1: 2002 | D1: 2007 | E1: 2010 | F1: 2013
A2: Abaqulusi Local Municipality | B2: =Scores!H3 -> 33.48 | C2: =Scores!O3 -> 30.45 | D2: =Scores!V3 -> 31.48 | E2: =Scores!AC3 -> 31.8 | F2: =Scores!AJ3 -> 32.56
A3: Dannhauser Local Municipality | B3: =Scores!H4 -> 25.19 | C3: =Scores!O4 -> 12.9 | D3: =Scores!V4 -> 14.23 | E3: =Scores!AC4 -> 10.04 | F3: =Scores!AJ4 -> 15.46
A4: eDumbe Local Municipality | B4: =Scores!H5 -> 24.04 | C4: =Scores!O5 -> 23.79 | D4: =Scores!V5 -> 19.2 | E4: =Scores!AC5 -> 20.27 | F4: =Scores!AJ5 -> 17.27
A5: Emadlangeni Local Municipality (Utrecht) | B5: =Scores!H6 -> 32.06 | C5: =Scores!O6 -> 28.03 | D5: =Scores!V6 -> 26.89 | E5: =Scores!AC6 -> 28.14 | F5: =Scores!AJ6 -> 31.41
A6: Emnambithi-Ladysmith Local Municipality | B6: =Scores!H7 -> 37.05 | C6: =Scores!O7 -> 37.04 | D6: =Scores!V7 -> 34.63 | E6: =Scores!AC7 -> 34.16 | F6: =Scores!AJ7 -> 36.22
A7: Endumeni Local Municipality | B7: =Scores!H8 -> 41.67 | C7: =Scores!O8 -> 34.74 | D7: =Scores!V8 -> 37.05 | E7: =Scores!AC8 -> 34.49 | F7: =Scores!AJ8 -> 36.66
A8: eThekwini Metropolitan Municipality | B8: =Scores!H9 -> 48.06 | C8: =Scores!O9 -> 48.03 | D8: =Scores!V9 -> 47.01 | E8: =Scores!AC9 -> 48.05 | F8: =Scores!AJ9 -> 43.4
A9: Ezingoleni Local Municipality | B9: =Scores!H10 -> 19.08 | C9: =Scores!O10 -> 20.14 | D9: =Scores!V10 -> 21.73 | E9: =Scores!AC10 -> 24.23 | F9: =Scores!AJ10 -> 16.87
A10: Greater Kokstad Local Municipality | B10: =Scores!H11 -> 38.68 | C10: =Scores!O11 -> 36.95 | D10: =Scores!V11 -> 34.43 | E10: =Scores!AC11 -> 34.03 | F10: =Scores!AJ11 -> 39.05
A11: Hibiscus Coast Local Municipality | B11: =Scores!H12 -> 43.99 | C11: =Scores!O12 -> 40.99 | D11: =Scores!V12 -> 39.92 | E11: =Scores!AC12 -> 39.08 | F11: =Scores!AJ12 -> 39.08
A12: Hlabisa Local Municipality | B12: =Scores!H13 -> 14.99 | C12: =Scores!O13 -> 19.14 | D12: =Scores!V13 -> 17.82 | E12: =Scores!AC13 -> 19.61 | F12: =Scores!AJ13 -> 10.36
A13: Imbabazane Local Municipality | B13: =Scores!H14 -> 19.29 | C13: =Scores!O14 -> 19.46 | D13: =Scores!V14 -> 16.46 | E13: =Scores!AC14 -> 19.21 | F13: =Scores!AJ14 -> 13.97
... A52: Vulamehlo Local Municipality | B52: =Scores!H53 -> 18.44 | C52: =Scores!O53 -> 17.54 | D52: =Scores!V53 -> 17.5 | E52: =Scores!AC53 -> 17.63 | F52: =Scores!AJ53 -> 13.56
A56: Rural KZN
A57: Urban KZN
A59: Correlation Matrix | B59: =B1 -> 1996 | C59: =C1 -> 2002 | D59: =D1 -> 2007 | E59: =E1 -> 2010 | F59: =F1 -> 2013
A60: 1996 | B60: na | C60: =CORREL($B2:$B52,C2:C52) -> 0.93218319 | D60: =CORREL($B2:$B52,D2:D52) -> 0.90917162 | E60: =CORREL($B2:$B52,E2:E52) -> 0.88864318 | F60: =CORREL($B2:$B52,F2:F52) -> 0.94312141
A61: 2002 | B61: =C60 -> 0.93218319 | C61: na | D61: =CORREL($C2:$C52,D2:D52) -> 0.9592568 | E61: =CORREL($C2:$C52,E2:E52) -> 0.96848084 | F61: =CORREL($C2:$C52,F2:F52) -> 0.93185648
A62: 2007 | B62: =D60 -> 0.90917162 | C62: =D61 -> 0.9592568 | D62: na | E62: =CORREL($D2:$D52,E2:E52) -> 0.96895162 | F62: =CORREL($D2:$D52,F2:F52) -> 0.90269431
A63: 2010 | B63: =E60 -> 0.88864318 | C63: =E61 -> 0.96848084 | D63: =E62 -> 0.96895162 | E63: na | F63: =E64 -> 0.88878489
A64: 2013 | B64: =F60 -> 0.94312141 | C64: =F61 -> 0.93185648 | D64: =F62 -> 0.90269431 | E64: =CORREL(E2:E52,F2:F52) -> 0.88878489 | F64: na

Sheet RankChange
B1: Rank Change1996 to 2013
A2: Mooi Mpofana Local Municipality | B2: ='Final ranking'!F24-'Final ranking'!B24 -> 4.54
A3: Jozini Local Municipality | B3: ='Final ranking'!F17-'Final ranking'!B17 -> 3.55
A4: uMngeni Local Municipality | B4: ='Final ranking'!F45-'Final ranking'!B45 -> 2.19
A5: Richmond Local Municipality | B5: ='Final ranking'!F35-'Final ranking'!B35 -> 1.27
A6: Umdoni Local Municipality | B6: ='Final ranking'!F41-'Final ranking'!B41 -> 0.45
A7: Ntambanana Local Municipality | B7: ='Final ranking'!F33-'Final ranking'!B33 -> 0.39
A8: Greater Kokstad Local Municipality | B8: ='Final ranking'!F10-'Final ranking'!B10 -> 0.37
A9: Umhlabuyalingana Local Municipality | B9: ='Final ranking'!F42-'Final ranking'!B42 -> 0.1
A10: Vulamehlo Local Municipality | B10: ='Final ranking'!F53-'Final ranking'!B53 -> 0
A11: The Big Five False Bay Local Municipality | B11: ='Final ranking'!F37-'Final ranking'!B37 -> -0.38
A12: Emadlangeni Local Municipality (Utrecht) | B12: ='Final ranking'!F5-'Final ranking'!B5 -> -0.65
A13: Kwa Sani Local Municipality | B13: ='Final ranking'!F18-'Final ranking'!B18 -> -0.72
A14: Emnambithi-Ladysmith Local Municipality | B14: ='Final ranking'!F6-'Final ranking'!B6 -> -0.83
A15: Abaqulusi Local Municipality | B15: ='Final ranking'!F2-'Final ranking'!B2 -> -0.92
A16: Mbonambi Local Municipality | B16: ='Final ranking'!F22-'Final ranking'!B22 -> -1.21
A17: Ingwe Local Municipality | B17: ='Final ranking'!F16-'Final ranking'!B16 -> -1.26
A18: Mandeni Local Municipality (Endondakusuka) | B18: ='Final ranking'!F20-'Final ranking'!B20 -> -1.34
A19: Newcastle Local Municipality | B19: ='Final ranking'!F29-'Final ranking'!B29 -> -1.82
A20: Okhahlamba Local Municipality | B20: ='Final ranking'!F34-'Final ranking'!B34 -> -1.89
A21: Ubuhlebezwe Local Municipality | B21: ='Final ranking'!F39-'Final ranking'!B39 -> -1.89
A22: Nkandla Local Municipality | B22: ='Final ranking'!F30-'Final ranking'!B30 -> -1.99
A23: Ezingoleni Local Municipality | B23: ='Final ranking'!F9-'Final ranking'!B9 -> -2.21
A24: uMlalazi Local Municipality | B24: ='Final ranking'!F44-'Final ranking'!B44 -> -2.33
A25: KwaDukuza Local Municipality | B25: ='Final ranking'!F19-'Final ranking'!B19 -> -2.47
A26: Impendle Local Municipality | B26: ='Final ranking'!F14-'Final ranking'!B14 -> -2.57
A27: uMhlathuze Local Municipality | B27: ='Final ranking'!F43-'Final ranking'!B43 -> -2.65
A28: Ndwedwe Local Municipality | B28: ='Final ranking'!F28-'Final ranking'!B28 -> -2.67
A29: Nongoma Local Municipality | B29: ='Final ranking'!F31-'Final ranking'!B31 -> -2.71
A30: Umzimkhulu Local Municipality (Umzimkulu) | B30: ='Final ranking'!F50-'Final ranking'!B50 -> -3.93
A31: Hlabisa Local Municipality | B31: ='Final ranking'!F12-'Final ranking'!B12 -> -4.63
A32: eThekwini Metropolitan Municipality | B32: ='Final ranking'!F8-'Final ranking'!B8 -> -4.66
A33: uPhongolo Local Municipality | B33: ='Final ranking'!F52-'Final ranking'!B52 -> -4.88
A34: Hibiscus Coast Local Municipality | B34: ='Final ranking'!F11-'Final ranking'!B11 -> -4.91
A35: Endumeni Local Municipality | B35: ='Final ranking'!F7-'Final ranking'!B7 -> -5.01
A36: Maphumulo Local Municipality | B36: ='Final ranking'!F21-'Final ranking'!B21 -> -5.26
A37: Imbabazane Local Municipality | B37: ='Final ranking'!F13-'Final ranking'!B13 -> -5.32
A38: Umtshezi Local Municipality | B38: ='Final ranking'!F47-'Final ranking'!B47 -> -5.37
A39: uMuziwabantu Local Municipality | B39: ='Final ranking'!F48-'Final ranking'!B48 -> -5.43
A40: Mthonjaneni Local Municipality | B40: ='Final ranking'!F26-'Final ranking'!B26 -> -5.68
A41: Mkhambathini Local Municipality | B41: ='Final ranking'!F23-'Final ranking'!B23 -> -6.13
A42: Msinga Local Municipality | B42: ='Final ranking'!F25-'Final ranking'!B25 -> -6.2
A43: Nquthu Local Municipality | B43: ='Final ranking'!F32-'Final ranking'!B32 -> -6.31
A44: Umzumbe Local Municipality | B44: ='Final ranking'!F51-'Final ranking'!B51 -> -6.47
A45: eDumbe Local Municipality | B45: ='Final ranking'!F4-'Final ranking'!B4 -> -6.77
A46: The Msunduzi Local Municipality | B46: ='Final ranking'!F38-'Final ranking'!B38 -> -7.45
A47: Mtubatuba Local Municipality | B47: ='Final ranking'!F27-'Final ranking'!B27 -> -8.28
A48: Dannhauser Local Municipality | B48: ='Final ranking'!F3-'Final ranking'!B3 -> -9.73
A49: Ulundi Local Municipality | B49: ='Final ranking'!F40-'Final ranking'!B40 -> -10.1
A50: uMshwathi Local Municipality | B50: ='Final ranking'!F46-'Final ranking'!B46 -> -10.43
A51: Indaka Local Municipality | B51: ='Final ranking'!F15-'Final ranking'!B15 -> -10.87
A52: Umvoti Local Municipality | B52: ='Final ranking'!F49-'Final ranking'!B49 -> -10.89
A53: St Lucia Park District Management Area | B53: ='Final ranking'!F36-'Final ranking'!B36 -> -11.4
A56: Rural KZN
A57: Urban KZN
