Workbook

Sheet Sum
N2: 2007 | O2: 2008 | P2: 2009 | Q2: 2010 | R2: 2011 | S2: 2012 | T2: 2013 | U2: 2014 | V2: 2015
M3: ='UIF Appl'!A4 -> Dundee | N3: =SUM('UIF Appl'!B4:J4)/9*12 -> 1045.3333 | O3: =SUM('UIF Appl'!K4:V4) -> 794 | P3: =SUM('UIF Appl'!W4:AH4) -> 1111 | Q3: =SUM('UIF Appl'!AI4:AT4) -> 1540 | R3: =SUM('UIF Appl'!AU4:BF4) -> 1303 | S3: =SUM('UIF Appl'!BG4:BR4) -> 1684 | T3: =SUM('UIF Appl'!BS4:CD4) -> 2554 | U3: =SUM('UIF Appl'!CE4:CP4) -> 2372 | V3: =SUM('UIF Appl'!CQ4:CZ4)/COUNTA('UIF Appl'!CQ4:CZ4)*12 -> 2200.8
M4: ='UIF Appl'!A5 -> Durban | N4: =SUM('UIF Appl'!B5:J5)/9*12 -> 19841.333 | O4: =SUM('UIF Appl'!K5:V5) -> 24333 | P4: =SUM('UIF Appl'!W5:AH5) -> 34766 | Q4: =SUM('UIF Appl'!AI5:AT5) -> 26946 | R4: =SUM('UIF Appl'!AU5:BF5) -> 23831 | S4: =SUM('UIF Appl'!BG5:BR5) -> 23106 | T4: =SUM('UIF Appl'!BS5:CD5) -> 32954 | U4: =SUM('UIF Appl'!CE5:CP5) -> 35445 | V4: =SUM('UIF Appl'!CQ5:CZ5)/COUNTA('UIF Appl'!CQ5:CZ5)*12 -> 39672
M5: ='UIF Appl'!A6 -> Estcourt | N5: =SUM('UIF Appl'!B6:J6)/9*12 -> 2608 | O5: =SUM('UIF Appl'!K6:V6) -> 2230 | P5: =SUM('UIF Appl'!W6:AH6) -> 2491 | Q5: =SUM('UIF Appl'!AI6:AT6) -> 2262 | R5: =SUM('UIF Appl'!AU6:BF6) -> 4827 | S5: =SUM('UIF Appl'!BG6:BR6) -> 3150 | T5: =SUM('UIF Appl'!BS6:CD6) -> 3619 | U5: =SUM('UIF Appl'!CE6:CP6) -> 2685 | V5: =SUM('UIF Appl'!CQ6:CZ6)/COUNTA('UIF Appl'!CQ6:CZ6)*12 -> 3283.2
M6: ='UIF Appl'!A7 -> Kokstad | N6: =SUM('UIF Appl'!B7:J7)/9*12 -> 3281.3333 | O6: =SUM('UIF Appl'!K7:V7) -> 2522 | P6: =SUM('UIF Appl'!W7:AH7) -> 2979 | Q6: =SUM('UIF Appl'!AI7:AT7) -> 1843 | R6: =SUM('UIF Appl'!AU7:BF7) -> 1749 | S6: =SUM('UIF Appl'!BG7:BR7) -> 1945 | T6: =SUM('UIF Appl'!BS7:CD7) -> 3432 | U6: =SUM('UIF Appl'!CE7:CP7) -> 2961 | V6: =SUM('UIF Appl'!CQ7:CZ7)/COUNTA('UIF Appl'!CQ7:CZ7)*12 -> 3464.4
M7: ='UIF Appl'!A8 -> Ladysmith | N7: =SUM('UIF Appl'!B8:J8)/9*12 -> 3574.6667 | O7: =SUM('UIF Appl'!K8:V8) -> 4484 | P7: =SUM('UIF Appl'!W8:AH8) -> 5084 | Q7: =SUM('UIF Appl'!AI8:AT8) -> 4294 | R7: =SUM('UIF Appl'!AU8:BF8) -> 4215 | S7: =SUM('UIF Appl'!BG8:BR8) -> 4640 | T7: =SUM('UIF Appl'!BS8:CD8) -> 5298 | U7: =SUM('UIF Appl'!CE8:CP8) -> 4580 | V7: =SUM('UIF Appl'!CQ8:CZ8)/COUNTA('UIF Appl'!CQ8:CZ8)*12 -> 4779.6
M8: ='UIF Appl'!A9 -> Newcastle | N8: =SUM('UIF Appl'!B9:J9)/9*12 -> 6090.6667 | O8: =SUM('UIF Appl'!K9:V9) -> 5372 | P8: =SUM('UIF Appl'!W9:AH9) -> 4766 | Q8: =SUM('UIF Appl'!AI9:AT9) -> 3072 | R8: =SUM('UIF Appl'!AU9:BF9) -> 3705 | S8: =SUM('UIF Appl'!BG9:BR9) -> 3000 | T8: =SUM('UIF Appl'!BS9:CD9) -> 4761 | U8: =SUM('UIF Appl'!CE9:CP9) -> 5559 | V8: =SUM('UIF Appl'!CQ9:CZ9)/COUNTA('UIF Appl'!CQ9:CZ9)*12 -> 5598
M9: ='UIF Appl'!A10 -> Pietermaritzburg | N9: =SUM('UIF Appl'!B10:J10)/9*12 -> 13237.333 | O9: =SUM('UIF Appl'!K10:V10) -> 13859 | P9: =SUM('UIF Appl'!W10:AH10) -> 15561 | Q9: =SUM('UIF Appl'!AI10:AT10) -> 13023 | R9: =SUM('UIF Appl'!AU10:BF10) -> 16041 | S9: =SUM('UIF Appl'!BG10:BR10) -> 14411 | T9: =SUM('UIF Appl'!BS10:CD10) -> 16623 | U9: =SUM('UIF Appl'!CE10:CP10) -> 19775 | V9: =SUM('UIF Appl'!CQ10:CZ10)/COUNTA('UIF Appl'!CQ10:CZ10)*12 -> 18940.8
M10: ='UIF Appl'!A11 -> Pinetown | N10: =SUM('UIF Appl'!B11:J11)/9*12 -> 10969.333 | O10: =SUM('UIF Appl'!K11:V11) -> 12817 | P10: =SUM('UIF Appl'!W11:AH11) -> 19973 | Q10: =SUM('UIF Appl'!AI11:AT11) -> 13563 | R10: =SUM('UIF Appl'!AU11:BF11) -> 11606 | S10: =SUM('UIF Appl'!BG11:BR11) -> 9508 | T10: =SUM('UIF Appl'!BS11:CD11) -> 14478 | U10: =SUM('UIF Appl'!CE11:CP11) -> 15603 | V10: =SUM('UIF Appl'!CQ11:CZ11)/COUNTA('UIF Appl'!CQ11:CZ11)*12 -> 15180
M11: ='UIF Appl'!A12 -> Port Shepstone | N11: =SUM('UIF Appl'!B12:J12)/9*12 -> 6948 | O11: =SUM('UIF Appl'!K12:V12) -> 8540 | P11: =SUM('UIF Appl'!W12:AH12) -> 8208 | Q11: =SUM('UIF Appl'!AI12:AT12) -> 7668 | R11: =SUM('UIF Appl'!AU12:BF12) -> 6616 | S11: =SUM('UIF Appl'!BG12:BR12) -> 7038 | T11: =SUM('UIF Appl'!BS12:CD12) -> 9335 | U11: =SUM('UIF Appl'!CE12:CP12) -> 7265 | V11: =SUM('UIF Appl'!CQ12:CZ12)/COUNTA('UIF Appl'!CQ12:CZ12)*12 -> 8245.2
M12: ='UIF Appl'!A13 -> Prospecton | N12: =SUM('UIF Appl'!B13:J13)/9*12 -> 12668 | O12: =SUM('UIF Appl'!K13:V13) -> 15744 | P12: =SUM('UIF Appl'!W13:AH13) -> 27992 | Q12: =SUM('UIF Appl'!AI13:AT13) -> 16188 | R12: =SUM('UIF Appl'!AU13:BF13) -> 11986 | S12: =SUM('UIF Appl'!BG13:BR13) -> 9251 | T12: =SUM('UIF Appl'!BS13:CD13) -> 12246 | U12: =SUM('UIF Appl'!CE13:CP13) -> 11641 | V12: =SUM('UIF Appl'!CQ13:CZ13)/COUNTA('UIF Appl'!CQ13:CZ13)*12 -> 15248.4
M13: ='UIF Appl'!A14 -> Richardsbay | N13: =SUM('UIF Appl'!B14:J14)/9*12 -> 11152 | O13: =SUM('UIF Appl'!K14:V14) -> 12685 | P13: =SUM('UIF Appl'!W14:AH14) -> 15937 | Q13: =SUM('UIF Appl'!AI14:AT14) -> 11062 | R13: =SUM('UIF Appl'!AU14:BF14) -> 9702 | S13: =SUM('UIF Appl'!BG14:BR14) -> 9301 | T13: =SUM('UIF Appl'!BS14:CD14) -> 12918 | U13: =SUM('UIF Appl'!CE14:CP14) -> 12375 | V13: =SUM('UIF Appl'!CQ14:CZ14)/COUNTA('UIF Appl'!CQ14:CZ14)*12 -> 14577.6
M14: ='UIF Appl'!A15 -> Richmond | N14: =SUM('UIF Appl'!B15:J15)/9*12 -> 2973.3333 | O14: =SUM('UIF Appl'!K15:V15) -> 3957 | P14: =SUM('UIF Appl'!W15:AH15) -> 2876 | Q14: =SUM('UIF Appl'!AI15:AT15) -> 2915 | R14: =SUM('UIF Appl'!AU15:BF15) -> 2019 | S14: =SUM('UIF Appl'!BG15:BR15) -> 1507 | T14: =SUM('UIF Appl'!BS15:CD15) -> 2580 | U14: =SUM('UIF Appl'!CE15:CP15) -> 2043 | V14: =SUM('UIF Appl'!CQ15:CZ15)/COUNTA('UIF Appl'!CQ15:CZ15)*12 -> 2286
... M18: ='UIF Appl'!A19 -> Vryheid | N18: =SUM('UIF Appl'!B19:J19)/9*12 -> 2205.3333 | O18: =SUM('UIF Appl'!K19:V19) -> 2731 | P18: =SUM('UIF Appl'!W19:AH19) -> 4996 | Q18: =SUM('UIF Appl'!AI19:AT19) -> 2654 | R18: =SUM('UIF Appl'!AU19:BF19) -> 1970 | S18: =SUM('UIF Appl'!BG19:BR19) -> 1857 | T18: =SUM('UIF Appl'!BS19:CD19) -> 2843 | U18: =SUM('UIF Appl'!CE19:CP19) -> 2374 | V18: =SUM('UIF Appl'!CQ19:CZ19)/COUNTA('UIF Appl'!CQ19:CZ19)*12 -> 3358.8

Sheet UIF Appl
A1: UNEMPLOYMENT INSURANCE APPLICATIONS : KWAZULU-NATAL PROVINCE
B2: Unemployment Insurance Applications Received - April 2007 - June 2015
A3: Labour Centre | B3: 39173 | C3: 39203 | D3: 39234 | E3: 39264 | F3: 39295 | G3: 39326 | H3: 39356 | I3: 39387 | J3: 39417 | K3: 39448 | L3: 39479 | M3: 39508 | N3: 39539 | O3: 39569 | P3: 39600 | Q3: 39630 | R3: 39661 | S3: 39692 | T3: 39722 | U3: 39753 | V3: 39783 | W3: 39814 | X3: 39845 | Y3: 39873 | Z3: 39904 | AA3: 39934 | AB3: 39965 | AC3: 39995 | AD3: 40026 | AE3: 40057 | AF3: 40087 | AG3: 40118 | AH3: 40148 | AI3: 40179 | AJ3: 40210 | AK3: 40238 | AL3: 40269 | AM3: 40299 | AN3: 40330 | AO3: 40360 | AP3: 40391 | AQ3: 40422 | AR3: 40452 | AS3: 40483 | AT3: 40513 | AU3: 40544 | AV3: 40575 | AW3: 40603 | AX3: 40634 | AY3: 40664 | AZ3: 40695 | BA3: 40725 | BB3: 40756 | BC3: 40787 | BD3: 40817 | BE3: 40848 | BF3: 40878 | BG3: 40909 | BH3: 40940 | BI3: 40969 | BJ3: 41000 | BK3: 41030 | BL3: 41061 | BM3: 41091 | BN3: 41122 | BO3: 41153 | BP3: 41183 | BQ3: 41214 | BR3: 41244 | BS3: 41275 | BT3: 41306 | BU3: 41334 | BV3: 41365 | BW3: 41395 | BX3: 41426 | BY3: 41456 | BZ3: 41487 | CA3: 41518 | CB3: 41548 | CC3: 41579 | CD3: 41609 | CE3: 41640 | CF3: 41671 | CG3: 41699 | CH3: 41730 | CI3: 41760 | CJ3: 41791 | CK3: 41821 | CL3: 41852 | CM3: 41883 | CN3: 41913 | CO3: 41944 | CP3: 41974 | CQ3: 42005 | CR3: 42036 | CS3: 42064 | CT3: 42095 | CU3: 42125 | CV3: 42156 | CW3: 42186 | CX3: 42217 | CY3: 42248 | CZ3: 42278 | DA3: 42309 | DB3: 42339 | DC3: 42370
A4: Dundee | B4: 83 | C4: 103 | D4: 25 | E4: 137 | F4: 129 | G4: 72 | H4: 106 | I4: 86 | J4: 43 | K4: 67 | L4: 75 | M4: 52 | N4: 68 | O4: 60 | P4: 86 | Q4: 92 | R4: 68 | S4: 54 | T4: 50 | U4: 65 | V4: 57 | W4: 73 | X4: 91 | Y4: 82 | Z4: 106 | AA4: 114 | AB4: 156 | AC4: 81 | AD4: 102 | AE4: 66 | AF4: 85 | AG4: 65 | AH4: 90 | AI4: 113 | AJ4: 111 | AK4: 115 | AL4: 168 | AM4: 167 | AN4: 249 | AO4: 146 | AP4: 65 | AQ4: 152 | AR4: 80 | AS4: 82 | AT4: 92 | AU4: 99 | AV4: 57 | AW4: 77 | AX4: 105 | AY4: 64 | AZ4: 96 | BA4: 106 | BB4: 123 | BC4: 146 | BD4: 186 | BE4: 144 | BF4: 100 | BG4: 159 | BH4: 98 | BI4: 131 | BJ4: 81 | BK4: 179 | BL4: 143 | BM4: 122 | BN4: 166 | BO4: 134 | BP4: 184 | BQ4: 148 | BR4: 139 | BS4: 175 | BT4: 224 | BU4: 254 | BV4: 234 | BW4: 254 | BX4: 204 | BY4: 198 | BZ4: 123 | CA4: 172 | CB4: 242 | CC4: 291 | CD4: 183 | CE4: 246 | CF4: 219 | CG4: 174 | CH4: 180 | CI4: 127 | CJ4: 128 | CK4: 280 | CL4: 124 | CM4: 167 | CN4: 331 | CO4: 234 | CP4: 162 | CQ4: 211 | CR4: 232 | CS4: 262 | CT4: 111 | CU4: 272 | CV4: 149 | CW4: 144 | CX4: 153 | CY4: 179 | CZ4: 121 | DA4: 67 | DB4: 55 | DC4: 152
A5: Durban | B5: 1611 | C5: 1839 | D5: 778 | E5: 2097 | F5: 1833 | G5: 2121 | H5: 1421 | I5: 1619 | J5: 1562 | K5: 1036 | L5: 2401 | M5: 2221 | N5: 2102 | O5: 2231 | P5: 2673 | Q5: 1591 | R5: 2406 | S5: 2124 | T5: 1513 | U5: 2340 | V5: 1695 | W5: 2837 | X5: 3355 | Y5: 3283 | Z5: 2923 | AA5: 3012 | AB5: 2927 | AC5: 2647 | AD5: 2054 | AE5: 2123 | AF5: 3392 | AG5: 3324 | AH5: 2889 | AI5: 3319 | AJ5: 3503 | AK5: 2336 | AL5: 2047 | AM5: 2006 | AN5: 1735 | AO5: 2930 | AP5: 913 | AQ5: 2371 | AR5: 2586 | AS5: 1735 | AT5: 1465 | AU5: 1864 | AV5: 2062 | AW5: 2302 | AX5: 1724 | AY5: 1667 | AZ5: 2433 | BA5: 2334 | BB5: 2486 | BC5: 2557 | BD5: 1467 | BE5: 1587 | BF5: 1348 | BG5: 2666 | BH5: 2047 | BI5: 1645 | BJ5: 1168 | BK5: 1834 | BL5: 2008 | BM5: 2134 | BN5: 2659 | BO5: 1633 | BP5: 2042 | BQ5: 2128 | BR5: 1142 | BS5: 2667 | BT5: 2964 | BU5: 2586 | BV5: 2178 | BW5: 2823 | BX5: 2556 | BY5: 3577 | BZ5: 2877 | CA5: 2627 | CB5: 3191 | CC5: 2966 | CD5: 1942 | CE5: 3265 | CF5: 2996 | CG5: 2241 | CH5: 2887 | CI5: 3180 | CJ5: 3267 | CK5: 3025 | CL5: 2546 | CM5: 3182 | CN5: 3198 | CO5: 3120 | CP5: 2538 | CQ5: 3355 | CR5: 3152 | CS5: 5179 | CT5: 2710 | CU5: 3299 | CV5: 2966 | CW5: 3015 | CX5: 3173 | CY5: 2698 | CZ5: 3513 | DA5: 3120 | DB5: 1628 | DC5: 2823
A6: Estcourt | B6: 271 | C6: 105 | D6: 103 | E6: 168 | F6: 360 | G6: 210 | H6: 283 | I6: 225 | J6: 231 | K6: 206 | L6: 242 | M6: 133 | N6: 148 | O6: 138 | P6: 178 | Q6: 264 | R6: 185 | S6: 142 | T6: 265 | U6: 206 | V6: 123 | W6: 90 | X6: 261 | Y6: 217 | Z6: 181 | AA6: 223 | AB6: 219 | AC6: 237 | AD6: 197 | AE6: 307 | AF6: 178 | AG6: 238 | AH6: 143 | AI6: 147 | AJ6: 159 | AK6: 240 | AL6: 97 | AM6: 170 | AN6: 324 | AO6: 345 | AP6: 139 | AQ6: 146 | AR6: 211 | AS6: 179 | AT6: 105 | AU6: 183 | AV6: 262 | AW6: 182 | AX6: 133 | AY6: 109 | AZ6: 135 | BA6: 2730 | BB6: 274 | BC6: 275 | BD6: 249 | BE6: 125 | BF6: 170 | BG6: 217 | BH6: 203 | BI6: 202 | BJ6: 237 | BK6: 126 | BL6: 178 | BM6: 271 | BN6: 972 | BO6: 177 | BP6: 271 | BQ6: 183 | BR6: 113 | BS6: 292 | BT6: 192 | BU6: 263 | BV6: 378 | BW6: 356 | BX6: 364 | BY6: 314 | BZ6: 385 | CA6: 263 | CB6: 327 | CC6: 203 | CD6: 282 | CE6: 244 | CF6: 159 | CG6: 145 | CH6: 241 | CI6: 231 | CJ6: 268 | CK6: 287 | CL6: 229 | CM6: 215 | CN6: 271 | CO6: 183 | CP6: 212 | CQ6: 166 | CR6: 451 | CS6: 197 | CT6: 224 | CU6: 200 | CV6: 232 | CW6: 277 | CX6: 224 | CY6: 347 | CZ6: 418 | DA6: 335 | DB6: 126 | DC6: 289
A7: Kokstad | B7: 288 | C7: 320 | D7: 102 | E7: 321 | F7: 259 | G7: 254 | H7: 233 | I7: 401 | J7: 283 | K7: 360 | L7: 276 | N7: 253 | O7: 166 | P7: 204 | Q7: 192 | R7: 183 | S7: 217 | T7: 203 | U7: 189 | V7: 279 | W7: 385 | X7: 272 | Y7: 251 | Z7: 239 | AA7: 502 | AB7: 220 | AC7: 230 | AD7: 267 | AE7: 182 | AF7: 126 | AG7: 206 | AH7: 99 | AI7: 171 | AJ7: 129 | AK7: 131 | AL7: 135 | AM7: 91 | AN7: 172 | AO7: 192 | AP7: 139 | AQ7: 159 | AR7: 244 | AS7: 188 | AT7: 92 | AU7: 139 | AV7: 168 | AW7: 156 | AX7: 84 | AY7: 149 | AZ7: 145 | BA7: 122 | BB7: 142 | BC7: 224 | BD7: 184 | BE7: 132 | BF7: 104 | BG7: 160 | BH7: 216 | BI7: 140 | BJ7: 149 | BK7: 182 | BL7: 132 | BM7: 203 | BN7: 140 | BO7: 152 | BP7: 140 | BQ7: 159 | BR7: 172 | BS7: 312 | BT7: 234 | BU7: 249 | BV7: 401 | BW7: 274 | BX7: 285 | BY7: 302 | BZ7: 294 | CA7: 214 | CB7: 480 | CC7: 213 | CD7: 174 | CE7: 342 | CF7: 276 | CG7: 144 | CH7: 338 | CI7: 273 | CJ7: 184 | CK7: 214 | CL7: 228 | CM7: 225 | CN7: 235 | CO7: 229 | CP7: 273 | CQ7: 433 | CR7: 366 | CS7: 279 | CT7: 308 | CU7: 311 | CV7: 196 | CW7: 251 | CX7: 208 | CY7: 217 | CZ7: 318 | DA7: 320 | DB7: 212 | DC7: 320
A8: Ladysmith | B8: 317 | C8: 253 | D8: 173 | E8: 314 | F8: 368 | G8: 357 | H8: 380 | I8: 256 | J8: 263 | K8: 238 | L8: 340 | M8: 487 | N8: 328 | O8: 291 | P8: 304 | Q8: 408 | R8: 603 | S8: 396 | T8: 530 | U8: 346 | V8: 213 | W8: 451 | X8: 769 | Y8: 588 | Z8: 377 | AA8: 434 | AB8: 294 | AC8: 383 | AD8: 384 | AE8: 297 | AF8: 457 | AG8: 414 | AH8: 236 | AI8: 480 | AJ8: 192 | AK8: 307 | AL8: 282 | AM8: 317 | AN8: 436 | AO8: 656 | AP8: 267 | AQ8: 360 | AR8: 451 | AS8: 219 | AT8: 327 | AU8: 130 | AV8: 461 | AW8: 378 | AX8: 243 | AY8: 283 | AZ8: 238 | BA8: 485 | BB8: 301 | BC8: 407 | BD8: 468 | BE8: 439 | BF8: 382 | BG8: 349 | BH8: 750 | BI8: 398 | BJ8: 318 | BK8: 400 | BL8: 378 | BM8: 334 | BN8: 366 | BO8: 374 | BP8: 463 | BQ8: 339 | BR8: 171 | BS8: 442 | BT8: 332 | BU8: 343 | BV8: 814 | BW8: 456 | BX8: 338 | BY8: 580 | BZ8: 423 | CA8: 383 | CB8: 483 | CC8: 417 | CD8: 287 | CE8: 457 | CF8: 401 | CG8: 349 | CH8: 343 | CI8: 375 | CJ8: 463 | CK8: 511 | CL8: 405 | CM8: 415 | CN8: 414 | CO8: 275 | CP8: 172 | CQ8: 364 | CR8: 346 | CS8: 278 | CT8: 327 | CU8: 372 | CV8: 265 | CW8: 520 | CX8: 588 | CY8: 452 | CZ8: 471 | DA8: 442 | DB8: 178 | DC8: 418
A9: Newcastle | B9: 499 | C9: 784 | D9: 563 | E9: 483 | F9: 485 | G9: 503 | H9: 482 | I9: 394 | J9: 375 | K9: 431 | L9: 563 | M9: 305 | N9: 491 | O9: 333 | P9: 468 | Q9: 342 | R9: 343 | S9: 423 | T9: 448 | U9: 518 | V9: 707 | W9: 502 | X9: 622 | Y9: 608 | Z9: 616 | AA9: 592 | AB9: 488 | AC9: 299 | AD9: 195 | AE9: 287 | AF9: 258 | AG9: 136 | AH9: 163 | AI9: 318 | AJ9: 173 | AK9: 199 | AL9: 263 | AM9: 363 | AN9: 192 | AO9: 182 | AP9: 97 | AQ9: 547 | AR9: 277 | AS9: 294 | AT9: 167 | AU9: 338 | AV9: 253 | AW9: 215 | AX9: 248 | AY9: 282 | AZ9: 174 | BA9: 286 | BB9: 750 | BC9: 409 | BD9: 401 | BE9: 255 | BF9: 94 | BG9: 371 | BH9: 0 | BI9: 0 | BJ9: 129 | BK9: 293 | BL9: 285 | BM9: 575 | BN9: 111 | BO9: 373 | BP9: 303 | BQ9: 318 | BR9: 242 | BS9: 382 | BT9: 352 | BU9: 310 | BV9: 370 | BW9: 551 | BX9: 319 | BY9: 408 | BZ9: 413 | CA9: 453 | CB9: 504 | CC9: 461 | CD9: 238 | CE9: 531 | CF9: 412 | CG9: 326 | CH9: 384 | CI9: 373 | CJ9: 395 | CK9: 688 | CL9: 395 | CM9: 407 | CN9: 442 | CO9: 661 | CP9: 545 | CQ9: 578 | CR9: 492 | CS9: 385 | CT9: 282 | CU9: 744 | CV9: 385 | CW9: 569 | CX9: 474 | CY9: 335 | CZ9: 421 | DA9: 586 | DB9: 453 | DC9: 549
A10: Pietermaritzburg | B10: 1284 | C10: 1021 | D10: 737 | E10: 1142 | F10: 938 | G10: 1369 | H10: 1296 | I10: 1125 | J10: 1016 | K10: 768 | L10: 1669 | M10: 1321 | N10: 1127 | O10: 1046 | P10: 1022 | Q10: 1116 | R10: 1287 | S10: 1168 | T10: 1187 | U10: 1176 | V10: 972 | W10: 889 | X10: 1018 | Y10: 1482 | Z10: 935 | AA10: 2385 | AB10: 1302 | AC10: 1635 | AD10: 1908 | AE10: 1218 | AF10: 970 | AG10: 1049 | AH10: 770 | AI10: 1070 | AJ10: 1357 | AK10: 1174 | AL10: 1080 | AM10: 1154 | AN10: 1018 | AO10: 1369 | AP10: 573 | AQ10: 1446 | AR10: 972 | AS10: 1084 | AT10: 726 | AU10: 1050 | AV10: 1038 | AW10: 1038 | AX10: 882 | AY10: 1059 | AZ10: 1045 | BA10: 3583 | BB10: 1504 | BC10: 1562 | BD10: 1201 | BE10: 1203 | BF10: 876 | BG10: 1283 | BH10: 1167 | BI10: 832 | BJ10: 1108 | BK10: 1131 | BL10: 1418 | BM10: 1199 | BN10: 1493 | BO10: 1678 | BP10: 1327 | BQ10: 547 | BR10: 1228 | BS10: 895 | BT10: 1601 | BU10: 2244 | BV10: 1642 | BW10: 1069 | BX10: 1203 | BY10: 1602 | BZ10: 1160 | CA10: 1744 | CB10: 1168 | CC10: 1258 | CD10: 1037 | CE10: 1818 | CF10: 1187 | CG10: 1130 | CH10: 1545 | CI10: 1050 | CJ10: 1389 | CK10: 1397 | CL10: 2473 | CM10: 2592 | CN10: 2555 | CO10: 1591 | CP10: 1048 | CQ10: 2839 | CR10: 1256 | CS10: 1457 | CT10: 1396 | CU10: 1473 | CV10: 1636 | CW10: 1621 | CX10: 1449 | CY10: 1419 | CZ10: 1238 | DA10: 1456 | DB10: 1048 | DC10: 1634
A11: Pinetown | B11: 1032 | C11: 800 | D11: 528 | E11: 1535 | F11: 990 | G11: 642 | H11: 1034 | I11: 924 | J11: 742 | K11: 542 | L11: 1386 | M11: 1045 | N11: 773 | O11: 933 | P11: 1237 | Q11: 1097 | R11: 1286 | S11: 1189 | T11: 1138 | U11: 1024 | V11: 1167 | W11: 1218 | X11: 2345 | Y11: 1844 | Z11: 1652 | AA11: 1836 | AB11: 1330 | AC11: 2307 | AD11: 1964 | AE11: 1117 | AF11: 1638 | AG11: 1595 | AH11: 1127 | AI11: 1200 | AJ11: 1442 | AK11: 1475 | AL11: 938 | AM11: 1316 | AN11: 1251 | AO11: 1154 | AP11: 340 | AQ11: 1212 | AR11: 1184 | AS11: 1038 | AT11: 1013 | AU11: 1031 | AV11: 1012 | AW11: 1239 | AX11: 980 | AY11: 841 | AZ11: 774 | BA11: 1136 | BB11: 1151 | BC11: 1158 | BD11: 939 | BE11: 774 | BF11: 571 | BG11: 880 | BH11: 821 | BI11: 735 | BJ11: 903 | BK11: 751 | BL11: 895 | BM11: 980 | BN11: 928 | BO11: 828 | BP11: 193 | BQ11: 988 | BR11: 606 | BS11: 1134 | BT11: 1170 | BU11: 1132 | BV11: 1267 | BW11: 1285 | BX11: 1102 | BY11: 1307 | BZ11: 1024 | CA11: 1193 | CB11: 1524 | CC11: 1321 | CD11: 1019 | CE11: 1490 | CF11: 1349 | CG11: 1324 | CH11: 1153 | CI11: 1286 | CJ11: 1112 | CK11: 1386 | CL11: 1310 | CM11: 1367 | CN11: 1532 | CO11: 1327 | CP11: 967 | CQ11: 1475 | CR11: 1394 | CS11: 1341 | CT11: 1098 | CU11: 1178 | CV11: 1196 | CW11: 1339 | CX11: 1188 | CY11: 1132 | CZ11: 1309 | DA11: 1144 | DB11: 696 | DC11: 1354
A12: Port Shepstone | B12: 419 | C12: 520 | D12: 330 | E12: 400 | F12: 846 | G12: 394 | H12: 740 | I12: 780 | J12: 782 | K12: 425 | L12: 878 | M12: 923 | N12: 507 | O12: 906 | P12: 585 | Q12: 603 | R12: 837 | S12: 856 | T12: 403 | U12: 855 | V12: 762 | W12: 845 | X12: 1044 | Y12: 735 | Z12: 818 | AA12: 859 | AB12: 886 | AC12: 607 | AD12: 453 | AE12: 459 | AF12: 421 | AG12: 544 | AH12: 537 | AI12: 1017 | AJ12: 742 | AK12: 613 | AL12: 490 | AM12: 705 | AN12: 647 | AO12: 528 | AP12: 433 | AQ12: 534 | AR12: 699 | AS12: 863 | AT12: 397 | AU12: 599 | AV12: 611 | AW12: 909 | AX12: 530 | AY12: 481 | AZ12: 452 | BA12: 528 | BB12: 805 | BC12: 619 | BD12: 426 | BE12: 396 | BF12: 260 | BG12: 1079 | BH12: 579 | BI12: 724 | BJ12: 670 | BK12: 576 | BL12: 521 | BM12: 426 | BN12: 640 | BO12: 355 | BP12: 527 | BQ12: 717 | BR12: 224 | BS12: 1438 | BT12: 724 | BU12: 693 | BV12: 781 | BW12: 900 | BX12: 536 | BY12: 704 | BZ12: 648 | CA12: 606 | CB12: 707 | CC12: 867 | CD12: 731 | CE12: 923 | CF12: 585 | CG12: 660 | CH12: 561 | CI12: 949 | CJ12: 392 | CK12: 560 | CL12: 566 | CM12: 444 | CN12: 580 | CO12: 741 | CP12: 304 | CQ12: 838 | CR12: 740 | CS12: 746 | CT12: 612 | CU12: 611 | CV12: 673 | CW12: 652 | CX12: 566 | CY12: 772 | CZ12: 661 | DA12: 703 | DB12: 663 | DC12: 663
A13: Prospecton | B13: 1147 | C13: 915 | D13: 533 | E13: 1012 | F13: 1235 | G13: 1669 | H13: 1013 | I13: 1033 | J13: 944 | K13: 534 | L13: 1389 | M13: 1389 | N13: 1018 | O13: 879 | P13: 1605 | Q13: 1288 | R13: 1704 | S13: 1416 | T13: 1313 | U13: 1495 | V13: 1714 | W13: 1806 | X13: 2829 | Y13: 2801 | Z13: 3731 | AA13: 4286 | AB13: 2768 | AC13: 2576 | AD13: 1619 | AE13: 1422 | AF13: 1330 | AG13: 1723 | AH13: 1101 | AI13: 1494 | AJ13: 1753 | AK13: 1925 | AL13: 1210 | AM13: 1577 | AN13: 1498 | AO13: 1362 | AP13: 510 | AQ13: 1558 | AR13: 1311 | AS13: 1169 | AT13: 821 | AU13: 1141 | AV13: 1517 | AW13: 1071 | AX13: 1103 | AY13: 895 | AZ13: 986 | BA13: 853 | BB13: 938 | BC13: 1037 | BD13: 928 | BE13: 789 | BF13: 728 | BG13: 1276 | BH13: 1049 | BI13: 690 | BJ13: 575 | BK13: 814 | BL13: 795 | BM13: 873 | BN13: 686 | BO13: 538 | BP13: 759 | BQ13: 743 | BR13: 453 | BS13: 1077 | BT13: 976 | BU13: 946 | BV13: 1111 | BW13: 1110 | BX13: 1015 | BY13: 1239 | BZ13: 1241 | CA13: 951 | CB13: 1123 | CC13: 861 | CD13: 596 | CE13: 913 | CF13: 948 | CG13: 595 | CH13: 1243 | CI13: 914 | CJ13: 914 | CK13: 1006 | CL13: 851 | CM13: 985 | CN13: 1056 | CO13: 1316 | CP13: 900 | CQ13: 1562 | CR13: 1504 | CS13: 1282 | CT13: 964 | CU13: 1400 | CV13: 1175 | CW13: 1308 | CX13: 1134 | CY13: 1040 | CZ13: 1338 | DA13: 1152 | DB13: 860 | DC13: 1371
A14: Richardsbay | B14: 1166 | C14: 1005 | D14: 648 | E14: 804 | F14: 861 | G14: 1307 | H14: 822 | I14: 933 | J14: 818 | K14: 601 | L14: 1415 | M14: 962 | N14: 631 | O14: 1075 | P14: 1524 | Q14: 1391 | R14: 1449 | S14: 1113 | T14: 1115 | U14: 712 | V14: 697 | W14: 1821 | X14: 2267 | Y14: 1706 | Z14: 980 | AA14: 923 | AB14: 1320 | AC14: 1055 | AD14: 1196 | AE14: 1207 | AF14: 1120 | AG14: 1297 | AH14: 1045 | AI14: 1347 | AJ14: 1138 | AK14: 1008 | AL14: 933 | AM14: 705 | AN14: 772 | AO14: 607 | AP14: 244 | AQ14: 1327 | AR14: 1029 | AS14: 1224 | AT14: 728 | AU14: 1134 | AV14: 812 | AW14: 845 | AX14: 674 | AY14: 601 | AZ14: 614 | BA14: 1031 | BB14: 935 | BC14: 796 | BD14: 705 | BE14: 896 | BF14: 659 | BG14: 1160 | BH14: 978 | BI14: 648 | BJ14: 677 | BK14: 777 | BL14: 772 | BM14: 733 | BN14: 556 | BO14: 663 | BP14: 962 | BQ14: 864 | BR14: 511 | BS14: 1260 | BT14: 905 | BU14: 677 | BV14: 1039 | BW14: 954 | BX14: 770 | BY14: 1152 | BZ14: 961 | CA14: 1490 | CB14: 1489 | CC14: 1466 | CD14: 755 | CE14: 1629 | CF14: 1291 | CG14: 696 | CH14: 1084 | CI14: 728 | CJ14: 853 | CK14: 1444 | CL14: 841 | CM14: 1188 | CN14: 1155 | CO14: 757 | CP14: 709 | CQ14: 1666 | CR14: 1115 | CS14: 1094 | CT14: 1216 | CU14: 1340 | CV14: 1186 | CW14: 1156 | CX14: 1072 | CY14: 1024 | CZ14: 1279 | DA14: 1395 | DB14: 803 | DC14: 178
A15: Richmond | B15: 243 | C15: 267 | D15: 70 | E15: 175 | F15: 221 | G15: 312 | H15: 318 | I15: 312 | J15: 312 | K15: 320 | L15: 309 | M15: 304 | N15: 315 | O15: 312 | P15: 309 | Q15: 315 | R15: 312 | S15: 315 | T15: 367 | U15: 391 | V15: 388 | W15: 254 | X15: 268 | Y15: 242 | Z15: 388 | AA15: 315 | AB15: 219 | AC15: 216 | AD15: 188 | AE15: 141 | AF15: 179 | AG15: 282 | AH15: 184 | AI15: 372 | AJ15: 236 | AK15: 369 | AL15: 285 | AM15: 287 | AN15: 292 | AO15: 252 | AP15: 102 | AQ15: 201 | AR15: 285 | AS15: 94 | AT15: 140 | AU15: 126 | AV15: 161 | AW15: 118 | AX15: 62 | AY15: 145 | AZ15: 145 | BA15: 125 | BB15: 146 | BC15: 145 | BD15: 280 | BE15: 399 | BF15: 167 | BG15: 182 | BH15: 119 | BI15: 121 | BJ15: 107 | BK15: 194 | BL15: 106 | BM15: 127 | BN15: 122 | BO15: 108 | BP15: 89 | BQ15: 137 | BR15: 95 | BS15: 221 | BT15: 191 | BU15: 180 | BV15: 208 | BW15: 307 | BX15: 154 | BY15: 196 | BZ15: 175 | CA15: 384 | CB15: 236 | CC15: 215 | CD15: 113 | CE15: 344 | CF15: 108 | CG15: 219 | CH15: 145 | CI15: 135 | CJ15: 216 | CK15: 140 | CL15: 152 | CM15: 184 | CN15: 201 | CO15: 115 | CP15: 84 | CQ15: 160 | CR15: 90 | CS15: 102 | CT15: 185 | CU15: 399 | CV15: 141 | CW15: 179 | CX15: 178 | CY15: 283 | CZ15: 188 | DA15: 166 | DB15: 97 | DC15: 231
A16: Stanger | B16: 746 | C16: 821 | D16: 575 | E16: 321 | F16: 1163 | G16: 482 | H16: 490 | I16: 362 | J16: 747 | K16: 196 | L16: 475 | M16: 598 | N16: 412 | O16: 929 | P16: 729 | Q16: 591 | R16: 929 | S16: 508 | T16: 517 | U16: 703 | V16: 411 | W16: 977 | X16: 1454 | Y16: 1567 | Z16: 1115 | AA16: 1415 | AB16: 987 | AC16: 728 | AD16: 889 | AE16: 977 | AF16: 316 | AG16: 462 | AH16: 1915 | AI16: 824 | AJ16: 970 | AK16: 634 | AL16: 432 | AM16: 276 | AN16: 348 | AO16: 455 | AP16: 168 | AQ16: 446 | AR16: 657 | AS16: 556 | AT16: 322 | AU16: 444 | AV16: 450 | AW16: 732 | AX16: 396 | AY16: 395 | AZ16: 360 | BA16: 343 | BB16: 465 | BC16: 521 | BD16: 210 | BE16: 205 | BF16: 160 | BG16: 649 | BH16: 443 | BI16: 385 | BJ16: 376 | BK16: 544 | BL16: 351 | BM16: 591 | BN16: 397 | BO16: 414 | BP16: 372 | BQ16: 613 | BR16: 442 | BS16: 1005 | BT16: 1026 | BU16: 913 | BV16: 769 | BW16: 671 | BX16: 598 | BY16: 799 | BZ16: 709 | CA16: 545 | CB16: 591 | CC16: 497 | CD16: 488 | CE16: 1022 | CF16: 680 | CG16: 1003 | CH16: 734 | CI16: 606 | CJ16: 575 | CK16: 691 | CL16: 506 | CM16: 532 | CN16: 593 | CO16: 999 | CP16: 793 | CQ16: 1069 | CR16: 762 | CS16: 841 | CT16: 1056 | CU16: 731 | CV16: 645 | CW16: 665 | CX16: 776 | CY16: 778 | CZ16: 743 | DA16: 742 | DB16: 518 | DC16: 881
A17: Ulundi | B17: 229 | C17: 363 | D17: 126 | E17: 259 | F17: 256 | G17: 259 | H17: 241 | I17: 229 | J17: 237 | K17: 121 | L17: 207 | M17: 201 | N17: 203 | O17: 205 | P17: 205 | Q17: 207 | R17: 209 | S17: 225 | T17: 201 | U17: 244 | V17: 352 | W17: 223 | X17: 259 | Y17: 262 | Z17: 247 | AA17: 239 | AB17: 362 | AC17: 165 | AD17: 227 | AE17: 213 | AF17: 204 | AG17: 175 | AH17: 168 | AI17: 215 | AJ17: 274 | AK17: 188 | AL17: 321 | AM17: 209 | AN17: 231 | AO17: 223 | AP17: 167 | AQ17: 155 | AR17: 125 | AS17: 159 | AT17: 300 | AU17: 325 | AV17: 233 | AW17: 276 | AX17: 144 | AY17: 180 | AZ17: 209 | BA17: 325 | BB17: 329 | BC17: 207 | BD17: 164 | BE17: 144 | BF17: 133 | BG17: 277 | BH17: 0 | BI17: 67 | BJ17: 101 | BK17: 124 | BL17: 432 | BM17: 348 | BN17: 297 | BO17: 152 | BP17: 287 | BQ17: 267 | BR17: 370 | BS17: 380 | BT17: 257 | BU17: 252 | BV17: 292 | BW17: 348 | BX17: 257 | BY17: 365 | BZ17: 292 | CA17: 297 | CB17: 398 | CC17: 343 | CD17: 370 | CE17: 444 | CF17: 271 | CG17: 243 | CH17: 458 | CI17: 322 | CJ17: 401 | CK17: 337 | CL17: 360 | CM17: 310 | CN17: 486 | CO17: 244 | CP17: 429 | CQ17: 657 | CR17: 400 | CS17: 260 | CT17: 219 | CU17: 250 | CV17: 253 | CW17: 411 | CX17: 374 | CY17: 384 | CZ17: 479 | DA17: 366 | DB17: 367 | DC17: 398
A18: Verulam | B18: 862 | C18: 953 | D18: 458 | E18: 811 | F18: 1014 | G18: 593 | H18: 749 | I18: 368 | J18: 824 | K18: 257 | L18: 666 | M18: 973 | N18: 628 | O18: 985 | P18: 798 | Q18: 647 | R18: 893 | S18: 788 | T18: 709 | U18: 617 | V18: 798 | W18: 1050 | X18: 2099 | Y18: 2183 | Z18: 2174 | AA18: 2061 | AB18: 843 | AC18: 1158 | AD18: 1327 | AE18: 1110 | AF18: 1189 | AG18: 1234 | AH18: 544 | AI18: 1169 | AJ18: 1270 | AK18: 908 | AL18: 902 | AM18: 1207 | AN18: 1072 | AO18: 735 | AP18: 420 | AQ18: 865 | AR18: 699 | AS18: 802 | AT18: 464 | AU18: 683 | AV18: 654 | AW18: 648 | AX18: 648 | AY18: 569 | AZ18: 585 | BA18: 760 | BB18: 765 | BC18: 736 | BD18: 470 | BE18: 505 | BF18: 432 | BG18: 701 | BH18: 637 | BI18: 667 | BJ18: 470 | BK18: 516 | BL18: 574 | BM18: 518 | BN18: 588 | BO18: 482 | BP18: 551 | BQ18: 588 | BR18: 330 | BS18: 835 | BT18: 823 | BU18: 864 | BV18: 867 | BW18: 867 | BX18: 513 | BY18: 939 | BZ18: 772 | CA18: 750 | CB18: 731 | CC18: 704 | CD18: 475 | CE18: 811 | CF18: 674 | CG18: 804 | CH18: 375 | CI18: 614 | CJ18: 692 | CK18: 814 | CL18: 645 | CM18: 714 | CN18: 886 | CO18: 908 | CP18: 674 | CQ18: 1163 | CR18: 966 | CS18: 1051 | CT18: 886 | CU18: 786 | CV18: 859 | CW18: 848 | CX18: 751 | CY18: 722 | CZ18: 816 | DA18: 773 | DB18: 474 | DC18: 893
A19: Vryheid | B19: 149 | C19: 139 | D19: 174 | E19: 100 | F19: 278 | G19: 204 | H19: 169 | I19: 267 | J19: 174 | K19: 235 | L19: 287 | M19: 249 | N19: 233 | O19: 154 | P19: 264 | Q19: 225 | R19: 187 | S19: 323 | T19: 209 | U19: 184 | V19: 181 | W19: 299 | X19: 529 | Y19: 449 | Z19: 616 | AA19: 695 | AB19: 471 | AC19: 305 | AD19: 279 | AE19: 382 | AF19: 345 | AG19: 321 | AH19: 305 | AI19: 311 | AJ19: 243 | AK19: 334 | AL19: 155 | AM19: 265 | AN19: 156 | AO19: 289 | AP19: 93 | AQ19: 238 | AR19: 249 | AS19: 187 | AT19: 134 | AU19: 292 | AV19: 156 | AW19: 114 | AX19: 131 | AY19: 179 | AZ19: 190 | BA19: 182 | BB19: 183 | BC19: 168 | BD19: 184 | BE19: 119 | BF19: 72 | BG19: 239 | BH19: 116 | BI19: 142 | BJ19: 147 | BK19: 187 | BL19: 169 | BM19: 135 | BN19: 185 | BO19: 129 | BP19: 169 | BQ19: 169 | BR19: 70 | BS19: 222 | BT19: 184 | BU19: 157 | BV19: 358 | BW19: 245 | BX19: 264 | BY19: 232 | BZ19: 246 | CA19: 231 | CB19: 298 | CC19: 233 | CD19: 173 | CE19: 291 | CF19: 321 | CG19: 192 | CH19: 311 | CI19: 0 | CJ19: 189 | CK19: 254 | CL19: 114 | CM19: 198 | CN19: 191 | CO19: 151 | CP19: 162 | CQ19: 242 | CR19: 256 | CS19: 250 | CT19: 242 | CU19: 371 | CV19: 301 | CW19: 317 | CX19: 277 | CY19: 250 | CZ19: 293 | DA19: 328 | DB19: 192 | DC19: 374
A20: Total | B20: =SUM(B4:B19) -> 10346 | C20: =SUM(C4:C19) -> 10208 | D20: =SUM(D4:D19) -> 5923 | E20: =SUM(E4:E19) -> 10079 | F20: =SUM(F4:F19) -> 11236 | G20: =SUM(G4:G19) -> 10748 | H20: =SUM(H4:H19) -> 9777 | I20: =SUM(I4:I19) -> 9314 | ... DC20: =SUM(DC4:DC19) -> 12528
A22: Dept of Labour DataBase | BF22: =SUM(BD20:BF20) -> 22830 | BI22: =SUM(BG20:BI20) -> 28398 | BL22: =SUM(BJ20:BL20) -> 25001 | BO22: =SUM(BM20:BO20) -> 28065 | BR22: =SUM(BP20:BR20) -> 23855 | BS22: =SUM(BS20:BU20) -> 36955
A23: June 2007 - Decrease in number of applications due to Public Service strike
B25: Total | C25: Total | D25: Total | E25: Total | F25: Total | G25: Total | H25: Total | I25: Total | J25: Total | K25: Total | L25: Total | M25: Total | N25: Total | O25: Total | P25: Total | Q25: Total | R25: Total | S25: Total | T25: Total | U25: Total | V25: Total | W25: Total | X25: Total | Y25: Total | Z25: Total | AA25: Total | AB25: Total | AC25: Total | AD25: Total | AE25: Total | AF25: Total | AG25: Total | AH25: Total | AI25: Total | AJ25: Total | AK25: Total | AL25: Total | AM25: Total | AN25: Total | AO25: Total | AP25: Total | AQ25: Total | AR25: Total | AS25: Total | AT25: Total | AU25: Total | AV25: Total | AW25: Total | AX25: Total | AY25: Total | AZ25: Total | BA25: Total | BB25: Total | BC25: Total | BD25: Total | BE25: Total | BF25: Total | BG25: Total | BH25: Total | BI25: Total | BJ25: Total | BK25: Total | BL25: Total | BM25: Total | BN25: Total | BO25: Total | BP25: Total | BQ25: Total | BR25: Total | BS25: Total | BT25: Total | BU25: Total | BV25: Total | BW25: Total | BX25: Total | BY25: Total | BZ25: Total | CA25: Total | CB25: Total | CC25: Total | CD25: Total | CE25: Total | CF25: Total | CG25: Total | CH25: Total | CI25: Total | CJ25: Total | CK25: Total | CL25: Total | CM25: Total | CN25: Total | CO25: Total | CP25: Total | CQ25: Total | CR25: Total | CS25: Total | CT25: Total | CU25: Total | CV25: Total | CW25: Total | CX25: Total | CY25: Total | CZ25: Total | DA25: Total | DB25: Total | DC25: Total
A26: Urban | B26: =SUM(B27:B31) -> 8020 | C26: =SUM(C27:C31) -> 7837 | D26: =SUM(D27:D31) -> 4575 | E26: =SUM(E27:E31) -> 8284 | F26: =SUM(F27:F31) -> 8202 | G26: =SUM(G27:G31) -> 8598 | H26: =SUM(H27:H31) -> 7557 | I26: =SUM(I27:I31) -> 7176 | ... DC26: =SUM(DC27:DC31) -> 9465
A27: Durban | B27: =B5+B11+B13+B18 -> 4652 | C27: =C5+C11+C13+C18 -> 4507 | D27: =D5+D11+D13+D18 -> 2297 | E27: =E5+E11+E13+E18 -> 5455 | F27: =F5+F11+F13+F18 -> 5072 | G27: =G5+G11+G13+G18 -> 5025 | H27: =H5+H11+H13+H18 -> 4217 | I27: =I5+I11+I13+I18 -> 3944 | ... CS27: =CS5+CS11+CS13+CS18 -> 8853 | CT27: =CT18+CT13+CT11+CT5 -> 5658 | CU27: =CU18+CU13+CU11+CU5 -> 6663 | CV27: =CV18+CV13+CV11+CV5 -> 6196 | CW27: =CW18+CW13+CW11+CW5 -> 6510 | CX27: =CX18+CX13+CX11+CX5 -> 6246 | CY27: =CY18+CY13+CY11+CY5 -> 5592 | CZ27: =CZ18+CZ13+CZ11+CZ5 -> 6976 | DA27: =DA18+DA13+DA11+DA5 -> 6189 | ... DC27: =DC18+DC13+DC11+DC5 -> 6441
A28: Pietermaritzburg | B28: =B10 -> 1284 | C28: =C10 -> 1021 | D28: =D10 -> 737 | E28: =E10 -> 1142 | F28: =F10 -> 938 | G28: =G10 -> 1369 | H28: =H10 -> 1296 | I28: =I10 -> 1125 | ... DC28: =DC10 -> 1634
A29: Richards Bay | B29: =B14 -> 1166 | C29: =C14 -> 1005 | D29: =D14 -> 648 | E29: =E14 -> 804 | F29: =F14 -> 861 | G29: =G14 -> 1307 | H29: =H14 -> 822 | I29: =I14 -> 933 | ... DC29: =DC14 -> 178
A30: Port Shepstone | B30: =B12 -> 419 | C30: =C12 -> 520 | D30: =D12 -> 330 | E30: =E12 -> 400 | F30: =F12 -> 846 | G30: =G12 -> 394 | H30: =H12 -> 740 | I30: =I12 -> 780 | ... DC30: =DC12 -> 663
A31: New Castle | B31: =B9 -> 499 | C31: =C9 -> 784 | D31: =D9 -> 563 | E31: =E9 -> 483 | F31: =F9 -> 485 | G31: =G9 -> 503 | H31: =H9 -> 482 | I31: =I9 -> 394 | ... DC31: =DC9 -> 549
A33: As a % of KZN | B33: % | C33: % | D33: % | E33: % | F33: % | G33: % | H33: % | I33: % | J33: % | K33: % | L33: % | M33: % | N33: % | O33: % | P33: % | Q33: % | R33: % | S33: % | T33: % | U33: % | V33: % | W33: % | X33: % | Y33: % | Z33: % | AA33: % | AB33: % | AC33: % | AD33: % | AE33: % | AF33: % | AG33: % | AH33: % | AI33: % | AJ33: % | AK33: % | AL33: % | AM33: % | AN33: % | AO33: % | AP33: % | AQ33: % | AR33: % | AS33: % | AT33: % | AU33: % | AV33: % | AW33: % | AX33: % | AY33: % | AZ33: % | BA33: % | BB33: % | BC33: % | BD33: % | BE33: % | BF33: % | BG33: % | BH33: % | BI33: % | BJ33: % | BK33: % | BL33: % | BM33: % | BN33: % | BO33: % | BP33: % | BQ33: % | BR33: % | BS33: % | BT33: % | BU33: % | BV33: % | BW33: % | BX33: % | BY33: % | BZ33: % | CA33: % | CB33: % | CC33: % | CD33: % | CE33: % | CF33: % | CG33: % | CH33: % | CI33: % | CJ33: % | CK33: % | CL33: % | CM33: % | CN33: % | CO33: % | CP33: % | CQ33: % | CR33: % | CS33: % | CT33: % | CU33: % | CV33: % | CW33: % | CX33: % | CY33: % | CZ33: % | DA33: % | DB33: % | DC33: %
A34: Urban | B34: =B26/B$20*100 -> 77.517881 | C34: =C26/C$20*100 -> 76.773119 | D34: =D26/D$20*100 -> 77.241263 | E34: =E26/E$20*100 -> 82.190694 | F34: =F26/F$20*100 -> 72.997508 | G34: =G26/G$20*100 -> 79.996278 | H34: =H26/H$20*100 -> 77.293648 | I34: =I26/I$20*100 -> 77.045308 | ... BU34: =BU26/BU$20*100 -> 78.355301 | BV34: =BV26/BV20*100 -> 72.822409 | BW34: =BW26/BW20*100 -> 76.655974 | BX34: =BX26/BX20*100 -> 76.484062 | BY34: =BY26/BY20*100 -> 78.5396 | BZ34: =BZ26/BZ20*100 -> 77.458912 | CA34: =CA26/CA20*100 -> 79.769162 | CB34: =CB26/CB20*100 -> 77.356952 | CC34: =CC26/CC20*100 -> 80.415719 | ... DC34: =DC26/DC20*100 -> 75.550766
A35: =A27 -> Durban | B35: =B27/B$20*100 -> 44.964237 | C35: =C27/C$20*100 -> 44.151646 | D35: =D27/D$20*100 -> 38.781023 | E35: =E27/E$20*100 -> 54.122433 | F35: =F27/F$20*100 -> 45.140619 | G35: =G27/G$20*100 -> 46.752884 | H35: =H27/H$20*100 -> 43.13184 | I35: =I27/I$20*100 -> 42.344857 | ... BU35: =BU27/BU$20*100 -> 45.82608 | BV35: =BV27/BV20*100 -> 42.670548 | BW35: =BW27/BW20*100 -> 48.797113 | BX35: =BX27/BX20*100 -> 49.494178 | BY35: =BY27/BY20*100 -> 50.754636 | BZ35: =BZ27/BZ20*100 -> 50.361918 | CA35: =CA27/CA20*100 -> 44.875234 | CB35: =CB27/CB20*100 -> 48.688111 | CC35: =CC27/CC20*100 -> 47.515427 | ... DC35: =DC27/DC20*100 -> 51.412835
A36: =A28 -> Pietermaritzburg | B36: =B28/B$20*100 -> 12.410593 | C36: =C28/C$20*100 -> 10.001959 | D36: =D28/D$20*100 -> 12.443019 | E36: =E28/E$20*100 -> 11.330489 | F36: =F28/F$20*100 -> 8.3481666 | G36: =G28/G$20*100 -> 12.737253 | H36: =H28/H$20*100 -> 13.2556 | I36: =I28/I$20*100 -> 12.078591 | ... BU36: =BU28/BU$20*100 -> 18.602338 | BV36: =BV28/BV20*100 -> 12.919978 | BW36: =BW28/BW20*100 -> 8.5725742 | BX36: =BX28/BX20*100 -> 11.481199 | BY36: =BY28/BY20*100 -> 11.513583 | BZ36: =BZ28/BZ20*100 -> 9.8782253 | CA36: =CA28/CA20*100 -> 14.175404 | CB36: =CB28/CB20*100 -> 8.6569819 | CC36: =CC28/CC20*100 -> 10.214355 | ... DC36: =DC28/DC20*100 -> 13.042784
A37: =A29 -> Richards Bay | B37: =B29/B$20*100 -> 11.270056 | C37: =C29/C$20*100 -> 9.8452194 | D37: =D29/D$20*100 -> 10.940402 | E37: =E29/E$20*100 -> 7.9769818 | F37: =F29/F$20*100 -> 7.6628693 | G37: =G29/G$20*100 -> 12.160402 | H37: =H29/H$20*100 -> 8.407487 | I37: =I29/I$20*100 -> 10.017178 | ... BU37: =BU29/BU$20*100 -> 5.6122026 | BV37: =BV29/BV20*100 -> 8.1753088 | BW37: =BW29/BW20*100 -> 7.6503609 | BX37: =BX29/BX20*100 -> 7.3487307 | BY37: =BY29/BY20*100 -> 8.2794308 | BZ37: =BZ29/BZ20*100 -> 8.1835987 | CA37: =CA29/CA20*100 -> 12.110867 | CB37: =CB29/CB20*100 -> 11.03617 | CC37: =CC29/CC20*100 -> 11.903215 | ... DC37: =DC29/DC20*100 -> 1.4208174
A38: =A30 -> Port Shepstone | B38: =B30/B$20*100 -> 4.0498743 | C38: =C30/C$20*100 -> 5.0940439 | D38: =D30/D$20*100 -> 5.5715009 | E38: =E30/E$20*100 -> 3.9686477 | F38: =F30/F$20*100 -> 7.5293699 | G38: =G30/G$20*100 -> 3.6657983 | H38: =H30/H$20*100 -> 7.5687839 | I38: =I30/I$20*100 -> 8.37449 | ... BU38: =BU30/BU$20*100 -> 5.7448396 | BV38: =BV30/BV20*100 -> 6.1452514 | BW38: =BW30/BW20*100 -> 7.2173216 | BX38: =BX30/BX20*100 -> 5.1154801 | BY38: =BY30/BY20*100 -> 5.0596521 | BZ38: =BZ30/BZ20*100 -> 5.518181 | CA38: =CA30/CA20*100 -> 4.9256279 | CB38: =CB30/CB20*100 -> 5.2401423 | CC38: =CC30/CC20*100 -> 7.0396233 | ... DC38: =DC30/DC20*100 -> 5.2921456
A39: =A31 -> New Castle | B39: =B31/B$20*100 -> 4.82312 | C39: =C31/C$20*100 -> 7.6802508 | D39: =D31/D$20*100 -> 9.5053183 | E39: =E31/E$20*100 -> 4.7921421 | F39: =F31/F$20*100 -> 4.3164827 | G39: =G31/G$20*100 -> 4.6799405 | H39: =H31/H$20*100 -> 4.9299376 | I39: =I31/I$20*100 -> 4.2301911 | ... BU39: =BU31/BU$20*100 -> 2.5698417 | BV39: =BV31/BV20*100 -> 2.9113227 | BW39: =BW31/BW20*100 -> 4.4186047 | BX39: =BX31/BX20*100 -> 3.0444741 | BY39: =BY31/BY20*100 -> 2.9322984 | BZ39: =BZ31/BZ20*100 -> 3.5169888 | CA39: =CA31/CA20*100 -> 3.6820288 | CB39: =CB31/CB20*100 -> 3.735547 | CC39: =CC31/CC20*100 -> 3.7430984 | ... DC39: =DC31/DC20*100 -> 4.3821839
B41: Total | C41: Total | D41: Total | E41: Total | F41: Total | G41: Total | H41: Total | I41: Total | J41: Total | K41: Total | L41: Total | M41: Total | N41: Total | O41: Total | P41: Total | Q41: Total | R41: Total | S41: Total | T41: Total | U41: Total | V41: Total | W41: Total | X41: Total | Y41: Total | Z41: Total | AA41: Total | AB41: Total | AC41: Total | AD41: Total | AE41: Total | AF41: Total | AG41: Total | AH41: Total | AI41: Total | AJ41: Total | AK41: Total | AL41: Total | AM41: Total | AN41: Total | AO41: Total | AP41: Total | AQ41: Total | AR41: Total | AS41: Total | AT41: Total | AU41: Total | AV41: Total | AW41: Total | AX41: Total | AY41: Total | AZ41: Total | BA41: Total | BB41: Total | BC41: Total | BD41: Total | BE41: Total | BF41: Total | BG41: Total | BH41: Total | BI41: Total | BJ41: Total | BK41: Total | BL41: Total | BM41: Total | BN41: Total | BO41: Total | BP41: Total | BQ41: Total | BR41: Total | BS41: Total | BT41: Total | BU41: Total | BV41: Total | BW41: Total | BX41: Total | BY41: Total | BZ41: Total | CA41: Total | CB41: Total | CC41: Total | CD41: Total | CE41: Total | CF41: Total | CG41: Total | CH41: Total | CI41: Total | CJ41: Total | CK41: Total | CL41: Total | CM41: Total | CN41: Total | CO41: Total | CP41: Total | CQ41: Total | CR41: Total | CS41: Total | CT41: Total | CU41: Total | CV41: Total | CW41: Total | CX41: Total | CY41: Total | CZ41: Total | DA41: Total | DB41: Total | DC41: Total
A42: Rural | B42: =B20-B26 -> 2326 | C42: =C20-C26 -> 2371 | D42: =D20-D26 -> 1348 | E42: =E20-E26 -> 1795 | F42: =F20-F26 -> 3034 | G42: =G20-G26 -> 2150 | H42: =H20-H26 -> 2220 | I42: =I20-I26 -> 2138 | ... DC42: =DC20-DC26 -> 3063
A44: As a % of KZN | B44: % | C44: % | D44: % | E44: % | F44: % | G44: % | H44: % | I44: % | J44: % | K44: % | L44: % | M44: % | N44: % | O44: % | P44: % | Q44: % | R44: % | S44: % | T44: % | U44: % | V44: % | W44: % | X44: % | Y44: % | Z44: % | AA44: % | AB44: % | AC44: % | AD44: % | AE44: % | AF44: % | AG44: % | AH44: % | AI44: % | AJ44: % | AK44: % | AL44: % | AM44: % | AN44: % | AO44: % | AP44: % | AQ44: % | AR44: % | AS44: % | AT44: % | AU44: % | AV44: % | AW44: % | AX44: % | AY44: % | AZ44: % | BA44: % | BB44: % | BC44: % | BD44: % | BE44: % | BF44: % | BG44: % | BH44: % | BI44: % | BJ44: % | BK44: % | BL44: % | BM44: % | BN44: % | BO44: % | BP44: % | BQ44: % | BR44: % | BS44: % | BT44: % | BU44: % | BV44: % | BW44: % | BX44: % | BY44: % | BZ44: % | CA44: % | CB44: % | CC44: % | CD44: % | CE44: % | CF44: % | CG44: % | CH44: % | CI44: % | CJ44: % | CK44: % | CL44: % | CM44: % | CN44: % | CO44: % | CP44: % | CQ44: % | CR44: % | CS44: % | CT44: % | CU44: % | CV44: % | CW44: % | CX44: % | CY44: % | CZ44: % | DA44: % | DB44: % | DC44: %
A45: Rural | B45: =B42/B20*100 -> 22.482119 | C45: =C42/C20*100 -> 23.226881 | D45: =D42/D20*100 -> 22.758737 | E45: =E42/E20*100 -> 17.809306 | F45: =F42/F20*100 -> 27.002492 | G45: =G42/G20*100 -> 20.003722 | H45: =H42/H20*100 -> 22.706352 | I45: =I42/I20*100 -> 22.954692 | ... DC45: =DC42/DC20*100 -> 24.449234
A48: Statistics | B48: Average Cont | C48: St Dev | D48: Min | E48: Max | F48: Range | G48: Median
A50: Urban | B50: =AVERAGE(B34:DC34) -> 79.050846 | C50: =STDEV(B34:DC34) -> 2.7261794 | D50: =MIN(B34:DC34) -> 70.406591 | E50: =MAX(B34:DC34) -> 84.518349 | F50: =E50-D50 -> 14.111757 | G50: =MEDIAN(B34:DC34) -> 79.071432
A51: Durban | B51: =AVERAGE(B35:DC35) -> 49.087363 | C51: =STDEV(B35:DC35) -> 4.8461474 | D51: =MIN(B35:DC35) -> 34.047826 | E51: =MAX(B35:DC35) -> 61.836501 | F51: =E51-D51 -> 27.788674 | G51: =MEDIAN(B35:DC35) -> 49.030069
A52: Pietermaritzburg | B52: =AVERAGE(B36:DC36) -> 11.747951 | C52: =STDEV(B36:DC36) -> 3.1646067 | D52: =MIN(B36:DC36) -> 5.2253362 | E52: =MAX(B36:DC36) -> 24.000268 | F52: =E52-D52 -> 18.774932 | G52: =MEDIAN(B36:DC36) -> 11.497391
A53: Richards Bay | B53: =AVERAGE(B37:DC37) -> 8.9133192 | C53: =STDEV(B37:DC37) -> 1.990633 | D53: =MIN(B37:DC37) -> 1.4208174 | E53: =MAX(B37:DC37) -> 13.414987 | F53: =E53-D53 -> 11.99417 | G53: =MEDIAN(B37:DC37) -> 8.8347998
A54: Port Shepstone | B54: =AVERAGE(B38:DC38) -> 5.8406816 | C54: =STDEV(B38:DC38) -> 1.6386622 | D54: =MIN(B38:DC38) -> 3.0485359 | E54: =MAX(B38:DC38) -> 11.289943 | F54: =E54-D54 -> 8.2414068 | G54: =MEDIAN(B38:DC38) -> 5.4895436
A55: New Castle | B55: =AVERAGE(B39:DC39) -> 3.4615312 | C55: =STDEV(B39:DC39) -> 1.4647314 | D55: =MIN(B39:DC39) -> 0 | E55: =MAX(B39:DC39) -> 9.5053183 | F55: =E55-D55 -> 9.5053183 | G55: =MEDIAN(B39:DC39) -> 3.3319
A57: Rural | B57: =AVERAGE(B45:DC45) -> 20.949154 | C57: =STDEV(B45:DC45) -> 2.7261794 | D57: =MIN(B45:DC45) -> 15.481651 | E57: =MAX(B45:DC45) -> 29.593409 | F57: =E57-D57 -> 14.111757 | G57: =MEDIAN(B45:DC45) -> 20.928568

Sheet Stats
A1: Unemployment Insurance Applications Received
B2: Total Claims | C2: Urban Claims | D2: Rural Claims
A3: 39173 | B3: 10346 | C3: 8020 | D3: =B3-C3 -> 2326
A4: 39203 | B4: 10208 | C4: 7837 | D4: =B4-C4 -> 2371
A5: 39234 | B5: 5923 | C5: 4575 | D5: =B5-C5 -> 1348
A6: 39264 | B6: 10079 | C6: 8284 | D6: =B6-C6 -> 1795
A7: 39295 | B7: 11236 | C7: 8202 | D7: =B7-C7 -> 3034
A8: 39326 | B8: 10748 | C8: 8598 | D8: =B8-C8 -> 2150
A9: 39356 | B9: 9777 | C9: 7557 | D9: =B9-C9 -> 2220
A10: 39387 | B10: 9314 | C10: 7176 | D10: =B10-C10 -> 2138
A11: 39417 | B11: 9353 | C11: 7063 | D11: =B11-C11 -> 2290
A12: 39448 | B12: 6337 | C12: 4594 | D12: =B12-C12 -> 1743
A13: 39479 | B13: 12578 | C13: 10367 | D13: =B13-C13 -> 2211
A14: 39508 | B14: 11445 | C14: 9139 | D14: =B14-C14 -> 2306
... A101: 42168 | B101: 12258 | C101: 10076 | D101: =B101-C101 -> 2182
A102: 42198 | B102: 13272 | C102: 10508 | D102: 2764
A103: 42229 | B103: 12585 | C103: 9807 | D103: 2778
A104: 42260 | B104: 12032 | C104: 9142 | D104: 2890
A105: 42290 | B105: 13606 | C105: 10575 | D105: 3031
A106: 42321 | B106: 13095 | C106: 10329 | D106: 2766
A107: 42351 | B107: 8370 | C107: 6625 | D107: 1745
A108: 42382 | B108: 12528 | C108: 9465 | D108: 3063
B109: =B2 -> Total Claims | C109: =C2 -> Urban Claims | D109: =D2 -> Rural Claims
A110: Average 2007 | B110: =AVERAGE(B3:B11) -> 9664.8889 | C110: =AVERAGE(C3:C11) -> 7479.1111 | D110: =AVERAGE(D3:D11) -> 2185.7778
A111: Average 2008 | B111: =AVERAGE(B12:B23) -> 10723.917 | C111: =AVERAGE(C12:C23) -> 8509.0833 | D111: =AVERAGE(D12:D23) -> 2214.8333
A112: Average 2009 | B112: =AVERAGE(B24:B35) -> 14938.167 | C112: =AVERAGE(C24:C35) -> 12014.583 | D112: =AVERAGE(D24:D35) -> 2923.5833
A113: Average 2010 | B113: =AVERAGE(B36:B47) -> 10516.5 | C113: =AVERAGE(C36:C47) -> 8502.9167 | D113: =AVERAGE(D36:D47) -> 2013.5833
A114: Average 2011 | B114: =AVERAGE(B48:B59) -> 9531.25 | C114: =AVERAGE(C48:C59) -> 7578.5 | D114: =AVERAGE(D48:D59) -> 1952.75
A115: Average 2012 | B115: =AVERAGE(B60:B71) -> 8776.5833 | C115: =AVERAGE(C60:C71) -> 6853.0833 | D115: =AVERAGE(D60:D71) -> 1923.5
A116: Average 2013 | B116: =AVERAGE(B72:B83) -> 12117.917 | C116: =AVERAGE(C72:C83) -> 9371.25 | D116: =AVERAGE(D72:D83) -> 2746.6667
A117: Average 2014 | B117: =AVERAGE(B84:B95) -> 12194 | C117: =AVERAGE(C84:C95) -> 9689.5 | D117: =AVERAGE(D84:D95) -> 2504.5
A118: Average 2015 | B118: =AVERAGE(B95:B107) -> 12015.077 | C118: =AVERAGE(C95:C107) -> 9280.6923 | D118: =AVERAGE(D95:D107) -> 2734.3846
A119: Average 2016 | B119: =AVERAGE(B108) -> 12528 | C119: =AVERAGE(C108) -> 9465 | D119: =AVERAGE(D108) -> 3063
A121: Year-on-Year 2008 | B121: =(B111-B110)/B110*100 -> 10.957475 | C121: =(C111-C110)/C110*100 -> 13.771319 | D121: =(D111-D110)/D110*100 -> 1.3293005
A122: Year-on-Year 2009 | B122: =(B112-B111)/B111*100 -> 39.297676 | C122: =(C112-C111)/C111*100 -> 41.197152 | D122: =(D112-D111)/D111*100 -> 32.000151
A123: Year-on-Year 2010 | B123: =(B113-B112)/B112*100 -> -29.599795 | C123: =(C113-C112)/C112*100 -> -29.228368 | D123: =(D113-D112)/D112*100 -> -31.126186
A124: Year-on-Year 2011 | B124: =(B114-B113)/B113*100 -> -9.3686112 | C124: =(C114-C113)/C113*100 -> -10.87176 | D124: =(D114-D113)/D113*100 -> -3.021148
A125: Year-on-Year 2012 | B125: =(B115-B114)/B114*100 -> -7.9178142 | C125: =(C115-C114)/C114*100 -> -9.5720349 | D125: =(D115-D114)/D114*100 -> -1.4978876
A126: Year-on-Year 2013 | B126: =(B116-B115)/B115*100 -> 38.071003 | C126: =(C116-C115)/C115*100 -> 36.745017 | D126: =(D116-D115)/D115*100 -> 42.795252
A127: Year-on-Year 2014 | B127: =(B117-B116)/B116*100 -> 0.6278582 | C127: =(C117-C116)/C116*100 -> 3.3960251 | D127: =(D117-D116)/D116*100 -> -8.8167476
A128: Year-on-Year 2015 | B128: =(B118-B117)/B117*100 -> -1.4673042 | C128: =(C118-C117)/C117*100 -> -4.2190793 | D128: =(D118-D117)/D117*100 -> 9.1788627
A129: Year-on-Year 2016 | B129: =(B119-B118)/B118*100 -> 4.2689954 | C129: =(C119-C118)/C118*100 -> 1.9859261 | D129: =(D119-D118)/D118*100 -> 12.017892

Sheet Stats1
A1: Unemployment Insurance Applications Received
B2: Urban Claims as a % of Total Claims | C2: Rural Claims as a % of Total Claims
A3: 39173 | B3: =Stats!C3/Stats!B3*100 -> 77.517881 | C3: =Stats!D3/Stats!B3*100 -> 22.482119
A4: 39203 | B4: =Stats!C4/Stats!B4*100 -> 76.773119 | C4: =Stats!D4/Stats!B4*100 -> 23.226881
A5: 39234 | B5: =Stats!C5/Stats!B5*100 -> 77.241263 | C5: =Stats!D5/Stats!B5*100 -> 22.758737
A6: 39264 | B6: =Stats!C6/Stats!B6*100 -> 82.190694 | C6: =Stats!D6/Stats!B6*100 -> 17.809306
A7: 39295 | B7: =Stats!C7/Stats!B7*100 -> 72.997508 | C7: =Stats!D7/Stats!B7*100 -> 27.002492
A8: 39326 | B8: =Stats!C8/Stats!B8*100 -> 79.996278 | C8: =Stats!D8/Stats!B8*100 -> 20.003722
A9: 39356 | B9: =Stats!C9/Stats!B9*100 -> 77.293648 | C9: =Stats!D9/Stats!B9*100 -> 22.706352
A10: 39387 | B10: =Stats!C10/Stats!B10*100 -> 77.045308 | C10: =Stats!D10/Stats!B10*100 -> 22.954692
A11: 39417 | B11: =Stats!C11/Stats!B11*100 -> 75.515877 | C11: =Stats!D11/Stats!B11*100 -> 24.484123
A12: 39448 | B12: =Stats!C12/Stats!B12*100 -> 72.494871 | C12: =Stats!D12/Stats!B12*100 -> 27.505129
A13: 39479 | B13: =Stats!C13/Stats!B13*100 -> 82.421689 | C13: =Stats!D13/Stats!B13*100 -> 17.578311
A14: 39508 | B14: =Stats!C14/Stats!B14*100 -> 79.851464 | C14: =Stats!D14/Stats!B14*100 -> 20.148536
... A101: 42156 | B101: =Stats!C101/Stats!B101*100 -> 82.19938 | C101: =Stats!D101/Stats!B101*100 -> 17.80062
A102: 42186 | B102: 79.174201 | C102: 20.825799
A103: 42217 | B103: 77.926103 | C103: 22.073897
A104: 42248 | B104: 75.980718 | C104: 24.019282
A105: 42278 | B105: 77.723063 | C105: 22.276937
A106: 42309 | B106: 78.877434 | C106: 21.122566
A107: 42339 | B107: 79.151732 | C107: 20.848268
A108: 42370 | B108: 75.550766 | C108: 24.449234
B110: =B2 -> Urban Claims as a % of Total Claims | C110: =C2 -> Rural Claims as a % of Total Claims
A111: Average 2007 | B111: =AVERAGE(B3:B11) -> 77.396842 | C111: =AVERAGE(C3:C11) -> 22.603158
A112: Average 2008 | B112: =AVERAGE(B12:B23) -> 79.02284 | C112: =AVERAGE(C12:C23) -> 20.97716
A113: Average 2009 | B113: =AVERAGE(B24:B35) -> 80.332456 | C113: =AVERAGE(C24:C35) -> 19.667544
A114: Average 2010 | B114: =AVERAGE(B36:B47) -> 80.523046 | C114: =AVERAGE(C36:C47) -> 19.476954
A115: Average 2011 | B115: =AVERAGE(B48:B59) -> 79.936526 | C115: =AVERAGE(C48:C59) -> 20.063474
A116: Average 2012 | B116: =AVERAGE(B60:B71) -> 78.02007 | C116: =AVERAGE(C60:C71) -> 21.97993
A117: Average 2013 | B117: =AVERAGE(B72:B83) -> 77.282158 | C117: =AVERAGE(C72:C83) -> 22.717842
A118: Average 2014 | B118: =AVERAGE(B84:B95) -> 79.390659 | C118: =AVERAGE(C84:C95) -> 20.609341
A119: Average 2015 | B119: =AVERAGE(B96:B107) -> 77.26333 | C119: =AVERAGE(C96:C107) -> 22.73667
A120: Average 2016 | B120: =AVERAGE(B108) -> 75.550766 | C120: =AVERAGE(C108) -> 24.449234
A122: Year-on-Year 2008 | B122: =(B112-B111)/B111*100 -> 2.100858 | C122: =(C112-C111)/C111*100 -> -7.193675
A123: Year-on-Year 2009 | B123: =(B113-B112)/B112*100 -> 1.6572626 | C123: =(C113-C112)/C112*100 -> -6.2430563
A124: Year-on-Year 2010 | B124: =(B114-B113)/B113*100 -> 0.23725185 | C124: =(C114-C113)/C113*100 -> -0.96905964
A125: Year-on-Year 2011 | B125: =(B115-B114)/B114*100 -> -0.72838719 | C125: =(C115-C114)/C114*100 -> 3.0113515
A126: Year-on-Year 2012 | B126: =(B116-B115)/B115*100 -> -2.3974721 | C126: =(C116-C115)/C115*100 -> 9.5519648
A127: Year-on-Year 2013 | B127: =(B117-B116)/B116*100 -> -0.94579839 | C127: =(C117-C116)/C116*100 -> 3.3572108
A128: Year-on-Year 2014 | B128: =(B118-B117)/B117*100 -> 2.7283162 | C128: =(C118-C117)/C117*100 -> -9.2812584
A129: Year-on-Year 2015 | B129: =(B119-B118)/B118*100 -> -2.6795715 | C129: =(C119-C118)/C118*100 -> 10.322162
A130: Year-on-Year 2016 | B130: =(B120-B119)/B119*100 -> -2.2165284 | C130: =(C120-C119)/C119*100 -> 7.5321655
