Workbook

Sheet R&D Spent
A1: Provincial split of R&D
A2: 2012/13.
A3: Province | B3: Business enterprise | D3: Government | F3: Higher education | H3: Not-for-profit | J3: Science Councils | L3: Total
B4: R000 | C4: % | D4: R000 | E4: % | F4: R000 | G4: % | H4: R000 | I4: % | J4: R000 | K4: % | L4: R000 | M4: %
A6: Eastern Cape | B6: 468197 | C6: =B6/$B$15*100 -> 4.4291849 | D6: 194258 | E6: =D6/$D$15*100 -> 13.513515 | F6: 592861 | G6: =F6/$F$15*100 -> 8.084667 | H6: 25610 | I6: =H6/$H$15*100 -> 5.0830335 | J6: 182664 | K6: =J6/$J$15*100 -> 4.537111 | L6: =(B6+D6+F6+H6+J6) -> 1463590 | M6: =L6/$L$15*100 -> 6.1311911
A7: Free State | B7: 1265285 | C7: =B7/$B$15*100 -> 11.969708 | D7: 38659 | E7: =D7/$D$15*100 -> 2.6893049 | F7: 356177 | G7: =F7/$F$15*100 -> 4.8570785 | H7: 15297 | I7: =H7/$H$15*100 -> 3.0361251 | J7: 39054 | K7: =J7/$J$15*100 -> 0.97004519 | L7: =(B7+D7+F7+H7+J7) -> 1714472 | M7: =L7/$L$15*100 -> 7.1821723
A8: Gauteng | B8: 5356550 | C8: =B8/$B$15*100 -> 50.673435 | D8: 427173 | E8: =D8/$D$15*100 -> 29.716197 | F8: 2118817 | G8: =F8/$F$15*100 -> 28.89367 | H8: 162866 | I8: =H8/$H$15*100 -> 32.325394 | J8: 2537028 | K8: =J8/$J$15*100 -> 63.016127 | L8: =(B8+D8+F8+H8+J8) -> 10602434 | M8: =L8/$L$15*100 -> 44.415136
A9: KwaZulu-Natal | B9: 1237563 | C9: =B9/$B$15*100 -> 11.707455 | D9: 168029 | E9: =D9/$D$15*100 -> 11.688901 | F9: 1137258 | G9: =F9/$F$15*100 -> 15.508445 | H9: 163221 | I9: =H9/$H$15*100 -> 32.395853 | J9: 307302 | K9: =J9/$J$15*100 -> 7.6329397 | L9: =(B9+D9+F9+H9+J9) -> 3013373 | M9: =L9/$L$15*100 -> 12.623457
A10: Limpopo | B10: 127451 | C10: =B10/$B$15*100 -> 1.2056977 | D10: 74621 | E10: =D10/$D$15*100 -> 5.1909936 | F10: 300435 | G10: =F10/$F$15*100 -> 4.0969417 | H10: 11779 | I10: =H10/$H$15*100 -> 2.3378778 | J10: 105150 | K10: =J10/$J$15*100 -> 2.6117748 | L10: =(B10+D10+F10+H10+J10) -> 619436 | M10: =L10/$L$15*100 -> 2.5949074
A11: Mpumalanga | B11: 222974 | C11: =B11/$B$15*100 -> 2.1093537 | D11: 80201 | E11: =D11/$D$15*100 -> 5.5791651 | F11: 182192 | G11: =F11/$F$15*100 -> 2.4844975 | H11: 23195 | I11: =H11/$H$15*100 -> 4.603708 | J11: 103468 | K11: =J11/$J$15*100 -> 2.5699963 | L11: =(B11+D11+F11+H11+J11) -> 612030 | M11: =L11/$L$15*100 -> 2.5638826
A12: North-West | B12: 380144 | C12: =B12/$B$15*100 -> 3.5961958 | D12: 45573 | E12: =D12/$D$15*100 -> 3.1702758 | F12: 311325 | G12: =F12/$F$15*100 -> 4.2454453 | H12: 42960 | I12: =H12/$H$15*100 -> 8.5266348 | J12: 110361 | K12: =J12/$J$15*100 -> 2.7412085 | L12: =(B12+D12+F12+H12+J12) -> 890363 | M12: =L12/$L$15*100 -> 3.72986
A13: Northern Cape | B13: 78471 | C13: =B13/$B$15*100 -> 0.74234258 | D13: 75440 | E13: =D13/$D$15*100 -> 5.2479671 | F13: 164483 | G13: =F13/$F$15*100 -> 2.2430052 | H13: 3867 | I13: =H13/$H$15*100 -> 0.76751622 | J13: 78714 | K13: =J13/$J$15*100 -> 1.9551426 | L13: =(B13+D13+F13+H13+J13) -> 400975 | M13: =L13/$L$15*100 -> 1.6797425
A14: Western Cape | B14: 1434090 | C14: =B14/$B$15*100 -> 13.566618 | D14: 333555 | E14: =D14/$D$15*100 -> 23.203681 | F14: 2169606 | G14: =F14/$F$15*100 -> 29.586264 | H14: 55038 | I14: =H14/$H$15*100 -> 10.923858 | J14: 562256 | K14: =J14/$J$15*100 -> 13.96563 | L14: =(B14+D14+F14+H14+J14) -> 4554545 | M14: =L14/$L$15*100 -> 19.079651
A15: Total | B15: 10570726 | D15: 1437509 | F15: 7333153 | H15: 503833 | J15: 4025998 | L15: =SUM(L6:L14) -> 23871218
A17: 2011/12.
A18: Province | B18: Business enterprise | D18: Government | F18: Higher education | H18: Not-for-profit | J18: Science Councils | L18: Total
B19: R000 | C19: % | D19: R000 | E19: % | F19: R000 | G19: % | H19: R000 | I19: % | J19: R000 | K19: % | L19: R000 | M19: %
A21: Eastern Cape | B21: 354553 | C21: =B21/B$30*100 -> 3.3883049 | D21: 127415 | E21: =D21/D$30*100 -> 10.311427 | F21: 608815 | G21: =F21/F$30*100 -> 9.2116083 | H21: 9493 | I21: =H21/H$30*100 -> 5.5643478 | J21: 178594 | K21: =J21/J$30*100 -> 4.7884537 | L21: =(B21+D21+F21+H21+J21) -> 1278870 | M21: =L21/L$30*100 -> 5.758292
A22: Free State | B22: 1308833 | C22: =B22/B$30*100 -> 12.507933 | D22: 44200 | E22: =D22/D$30*100 -> 3.5770126 | F22: 323335 | G22: =F22/F$30*100 -> 4.8921846 | H22: 5096 | I22: =H22/H$30*100 -> 2.9870343 | J22: 37138 | K22: =J22/J$30*100 -> 0.99574226 | L22: =(B22+D22+F22+H22+J22) -> 1718602 | M22: =L22/L$30*100 -> 7.7382471
A23: Gauteng | B23: 5558409 | C23: =B23/B$30*100 -> 53.119235 | D23: 447635 | E23: =D23/D$30*100 -> 36.226155 | F23: 2028145 | G23: =F23/F$30*100 -> 30.686625 | H23: 69321 | I23: =H23/H$30*100 -> 40.632693 | J23: 2287762 | K23: =J23/J$30*100 -> 61.339364 | L23: =(B23+D23+F23+H23+J23) -> 10391272 | M23: =L23/L$30*100 -> 46.788163
A24: KwaZulu-Natal | B24: 1160507 | C24: =B24/B$30*100 -> 11.090448 | D24: 126857 | E24: =D24/D$30*100 -> 10.266269 | F24: 902386 | G24: =F24/F$30*100 -> 13.653452 | H24: 33740 | I24: =H24/H$30*100 -> 19.776793 | J24: 292246 | K24: =J24/J$30*100 -> 7.8356856 | L24: =(B24+D24+F24+H24+J24) -> 2515736 | M24: =L24/L$30*100 -> 11.327455
A25: Limpopo | B25: 62728 | C25: =B25/B$30*100 -> 0.59946351 | D25: 65017 | E25: =D25/D$30*100 -> 5.2616884 | F25: 349559 | G25: =F25/F$30*100 -> 5.288964 | H25: 7449 | I25: =H25/H$30*100 -> 4.3662517 | J25: 99104 | K25: =J25/J$30*100 -> 2.6571717 | L25: =(B25+D25+F25+H25+J25) -> 583857 | M25: =L25/L$30*100 -> 2.6288982
A26: Mpumalanga | B26: 157158 | C26: =B26/B$30*100 -> 1.5018889 | D26: 78335 | E26: =D26/D$30*100 -> 6.339486 | F26: 170966 | G26: =F26/F$30*100 -> 2.5867822 | H26: 16027 | I26: =H26/H$30*100 -> 9.3942698 | J26: 100476 | K26: =J26/J$30*100 -> 2.6939577 | L26: =(B26+D26+F26+H26+J26) -> 522962 | M26: =L26/L$30*100 -> 2.3547099
A27: North-West | B27: 302164 | C27: =B27/B$30*100 -> 2.8876466 | D27: 44618 | E27: =D27/D$30*100 -> 3.6108405 | F27: 275088 | G27: =F27/F$30*100 -> 4.1621887 | H27: 6353 | I27: =H27/H$30*100 -> 3.7238283 | J27: 104139 | K27: =J27/J$30*100 -> 2.7921698 | L27: =(B27+D27+F27+H27+J27) -> 732362 | M27: =L27/L$30*100 -> 3.2975629
A28: Northern Cape | B28: 45267 | C28: =B28/B$30*100 -> 0.43259653 | D28: 63556 | E28: =D28/D$30*100 -> 5.1434528 | F28: 148425 | G28: =F28/F$30*100 -> 2.2457281 | H28: 1889 | I28: =H28/H$30*100 -> 1.1072425 | J28: 81998 | K28: =J28/J$30*100 -> 2.1985264 | L28: =(B28+D28+F28+H28+J28) -> 341135 | M28: =L28/L$30*100 -> 1.5360083
A29: Western Cape | B29: 1514404 | C29: =B29/B$30*100 -> 14.472483 | D29: 238035 | E29: =D29/D$30*100 -> 19.26367 | F29: 1802496 | G29: =F29/F$30*100 -> 27.272467 | H29: 21236 | I29: =H29/H$30*100 -> 12.447539 | J29: 548223 | K29: =J29/J$30*100 -> 14.698929 | L29: =(B29+D29+F29+H29+J29) -> 4124394 | M29: =L29/L$30*100 -> 18.570664
A30: Total | B30: =SUM(B21:B29) -> 10464023 | D30: =SUM(D21:D29) -> 1235668 | F30: =SUM(F21:F29) -> 6609215 | H30: =SUM(H21:H29) -> 170604 | J30: =SUM(J21:J29) -> 3729680 | L30: =SUM(L21:L29) -> 22209190
A32: 2010/11.
A33: Province | B33: Business enterprise | D33: Government | F33: Higher education | H33: Not-for-profit | J33: Science Councils | L33: Total
B34: R000 | C34: % | D34: R000 | E34: % | F34: R000 | G34: % | H34: R000 | I34: % | J34: R000 | K34: % | L34: R000 | M34: %
A36: Eastern Cape | B36: 217880 | C36: =B36/B$45*100 -> 2.1660185 | D36: 114127 | E36: =D36/D$45*100 -> 11.284731 | F36: 556496 | G36: =F36/F$45*100 -> 10.258742 | H36: 9790 | I36: =H36/H$45*100 -> 6.0124794 | J36: 150665 | K36: =J36/J$45*100 -> 4.1897686 | L36: =(B36+D36+F36+H36+J36) -> 1048958 | M36: =L36/L$45*100 -> 5.1790671
A37: Free State | B37: 943508 | C37: =B37/B$45*100 -> 9.3797311 | D37: 39998 | E37: =D37/D$45*100 -> 3.9549509 | F37: 281889 | G37: =F37/F$45*100 -> 5.1964909 | H37: 6385 | I37: =H37/H$45*100 -> 3.9213157 | J37: 60443 | K37: =J37/J$45*100 -> 1.6808295 | L37: =(B37+D37+F37+H37+J37) -> 1332223 | M37: =L37/L$45*100 -> 6.577644
A38: Gauteng | B38: 5439718 | C38: =B38/B$45*100 -> 54.078071 | D38: 343096 | E38: =D38/D$45*100 -> 33.924892 | F38: 1600783 | G38: =F38/F$45*100 -> 29.50968 | H38: 61496 | I38: =H38/H$45*100 -> 37.76746 | J38: 2327712 | K38: =J38/J$45*100 -> 64.730194 | L38: =(B38+D38+F38+H38+J38) -> 9772805 | M38: =L38/L$45*100 -> 48.251706
A39: KwaZulu-Natal | B39: 1280014 | C39: =B39/B$45*100 -> 12.725051 | D39: 48056 | E39: =D39/D$45*100 -> 4.7517155 | F39: 677740 | G39: =F39/F$45*100 -> 12.493818 | H39: 35765 | I39: =H39/H$45*100 -> 21.964895 | J39: 249137 | K39: =J39/J$45*100 -> 6.9281278 | L39: =(B39+D39+F39+H39+J39) -> 2290712 | M39: =L39/L$45*100 -> 11.310035
A40: Limpopo | B40: 41850 | C40: =B40/B$45*100 -> 0.41604496 | D40: 57797 | E40: =D40/D$45*100 -> 5.7148931 | F40: 224603 | G40: =F40/F$45*100 -> 4.1404505 | H40: 4541 | I40: =H40/H$45*100 -> 2.7888324 | J40: 66250 | K40: =J40/J$45*100 -> 1.8423135 | L40: =(B40+D40+F40+H40+J40) -> 395041 | M40: =L40/L$45*100 -> 1.9504535
A41: Mpumalanga | B41: 139771 | C41: =B41/B$45*100 -> 1.3895106 | D41: 69980 | E41: =D41/D$45*100 -> 6.9195325 | F41: 119231 | G41: =F41/F$45*100 -> 2.1979673 | H41: 13206 | I41: =H41/H$45*100 -> 8.1103987 | J41: 55690 | K41: =J41/J$45*100 -> 1.5486557 | L41: =(B41+D41+F41+H41+J41) -> 397878 | M41: =L41/L$45*100 -> 1.9644608
A42: North-West | B42: 256428 | C42: =B42/B$45*100 -> 2.5492372 | D42: 43048 | E42: =D42/D$45*100 -> 4.2565309 | F42: 184514 | G42: =F42/F$45*100 -> 3.4014286 | H42: 5612 | I42: =H42/H$45*100 -> 3.4465817 | J42: 42854 | K42: =J42/J$45*100 -> 1.1917057 | L42: =(B42+D42+F42+H42+J42) -> 532456 | M42: =L42/L$45*100 -> 2.6289188
A43: Northern Cape | B43: 17017 | C43: =B43/B$45*100 -> 0.16917173 | D43: 58918 | E43: =D43/D$45*100 -> 5.8257362 | F43: 107581 | G43: =F43/F$45*100 -> 1.983205 | H43: 2030 | I43: =H43/H$45*100 -> 1.2467143 | J43: 64774 | K43: =J43/J$45*100 -> 1.8012682 | L43: =(B43+D43+F43+H43+J43) -> 250320 | M43: =L43/L$45*100 -> 1.2359161
A44: Western Cape | B44: 1722823 | C44: =B44/B$45*100 -> 17.127164 | D44: 236320 | E44: =D44/D$45*100 -> 23.367018 | F44: 1671766 | G44: =F44/F$45*100 -> 30.818218 | H44: 24003 | I44: =H44/H$45*100 -> 14.741322 | J44: 578497 | K44: =J44/J$45*100 -> 16.087137 | L44: =(B44+D44+F44+H44+J44) -> 4233409 | M44: =L44/L$45*100 -> 20.901799
A45: Total | B45: =SUM(B36:B44) -> 10059009 | D45: =SUM(D36:D44) -> 1011340 | F45: =SUM(F36:F44) -> 5424603 | H45: =SUM(H36:H44) -> 162828 | J45: =SUM(J36:J44) -> 3596022 | L45: =SUM(L36:L44) -> 20253802
...

Sheet Graphs
A1: KZN R&D STATISTICS
B3: 2012/13 | D3: KZN as a %of national, 2012 | G3: 2001/02. | I3: KZN as a % of National, 2001 | O3: 2011/12 | P3: 2010/11 | Q3: 2009/10 | R3: 2008/09. | S3: 2007/08. | T3: 2006/07.
A4: ='R&D Spent'!B79 -> Business enterprise | B4: 1237563 | C4: 10570726 | D4: =B4/C4*100 -> 11.707455 | G4: ='R&D Spent'!B149 -> 309403 | H4: ='R&D Spent'!B155 -> 4023577 | I4: =G4/H4*100 -> 7.6897497
A5: ='R&D Spent'!D79 -> Government | B5: 168029 | C5: 1437509 | D5: =B5/C5*100 -> 11.688901 | G5: ='R&D Spent'!D149 -> 55362 | H5: ='R&D Spent'!D155 -> 203111 | I5: =G5/H5*100 -> 27.257017 | M5: Business enterprise | O5: 1160507 | P5: 1280014 | Q5: 1183636 | R5: 1255509 | S5: 1302260 | T5: 962308
A6: ='R&D Spent'!F79 -> Higher education | B6: 1137258 | C6: 7333153 | D6: =B6/C6*100 -> 15.508445 | G6: ='R&D Spent'!F149 -> 310589 | H6: ='R&D Spent'!F155 -> 1896156 | I6: =G6/H6*100 -> 16.379929 | M6: Government | O6: 126857 | P6: 48056 | Q6: 54914 | R6: 115302 | S6: 76458 | T6: 84192
A7: ='R&D Spent'!H79 -> Not-for-profit | B7: 163221 | C7: 503833 | D7: =B7/C7*100 -> 32.395853 | G7: ='R&D Spent'!H149 -> 11014 | H7: ='R&D Spent'!H155 -> 70778 | I7: =G7/H7*100 -> 15.561333 | M7: Higher education | O7: 902386 | P7: 677740 | Q7: 662518 | R7: 567999 | S7: 459299 | T7: 451992
A8: Science Councils | B8: 307302 | C8: 4025998 | D8: =B8/C8*100 -> 7.6329397 | G8: ='R&D Spent'!J149 -> 123037 | H8: ='R&D Spent'!J155 -> 1294454 | I8: =G8/H8*100 -> 9.5049341 | M8: Not-for-profit | O8: 33740 | P8: 35765 | Q8: 30548 | R8: 40492 | S8: 42141 | T8: 42902
M9: Science Councils | O9: 292246 | P9: 249137 | Q9: 235432 | R9: 231033 | S9: 201009 | T9: 267620
B10: 2011/12. | D10: KZN as a % of National, 2011 | G10: 2004/05. | I10: KZN as a % of National,2004 | O10: =V27 -> 2001/02. | P10: =U27 -> 2004/05. | Q10: =T27 -> 2005/06. | R10: =T3 -> 2006/07. | S10: =S3 -> 2007/08. | T10: =R3 -> 2008/09. | U10: 2009/10 | V10: 2010/11 | W10: 2011/12 | X10: 2012/13.
A11: Business enterprise | B11: ='R&D Spent'!B24 -> 1160507 | C11: ='R&D Spent'!B30 -> 10464023 | D11: =B11/C11*100 -> 11.090448 | G11: 615437 | H11: 6766360 | I11: =G11/H11*100 -> 9.0955403 | M11: Business enterprise | O11: =V29 -> 309403 | P11: =U29 -> 615437 | Q11: =T29 -> 843499 | R11: =T5 -> 962308 | S11: =S5 -> 1302260 | T11: =R5 -> 1255509 | U11: =Q5 -> 1183636 | V11: =P5 -> 1280014 | W11: =O5 -> 1160507 | X11: 1237563
A12: Government | B12: ='R&D Spent'!D24 -> 126857 | C12: ='R&D Spent'!D30 -> 1235668 | D12: =B12/C12*100 -> 10.266269 | G12: 31213 | H12: 515330 | I12: =G12/H12*100 -> 6.0568956 | M12: Government | O12: =V30 -> 55362 | P12: =U30 -> 31213 | Q12: =T30 -> 72131 | R12: =T6 -> 84192 | S12: =S6 -> 76458 | T12: =R6 -> 115302 | U12: =Q6 -> 54914 | V12: =P6 -> 48056 | W12: =O6 -> 126857 | X12: 168029
A13: Higher education | B13: ='R&D Spent'!F24 -> 902386 | C13: ='R&D Spent'!F30 -> 6609215 | D13: =B13/C13*100 -> 13.653452 | G13: 373595 | H13: 2533971 | I13: =G13/H13*100 -> 14.74346 | M13: Higher education | O13: =V31 -> 310589 | P13: =U31 -> 373595 | Q13: =T31 -> 379681 | R13: =T7 -> 451992 | S13: =S7 -> 459299 | T13: =R7 -> 567999 | U13: =Q7 -> 662518 | V13: =P7 -> 677740 | W13: =O7 -> 902386 | X13: 1137258
A14: Not-for-profit | B14: ='R&D Spent'!H24 -> 33740 | C14: ='R&D Spent'!H30 -> 170604 | D14: =B14/C14*100 -> 19.776793 | G14: 37729 | H14: 198269 | I14: =G14/H14*100 -> 19.029198 | M14: Not-for-profit | O14: =V32 -> 11014 | P14: =U32 -> 37729 | Q14: =T32 -> 35036 | R14: =T8 -> 42902 | S14: =S8 -> 42141 | T14: =R8 -> 40492 | U14: =Q8 -> 30548 | V14: =P8 -> 35765 | W14: =O8 -> 33740 | X14: 163221
A15: Science Councils | B15: ='R&D Spent'!J24 -> 292246 | C15: ='R&D Spent'!J30 -> 3729680 | D15: =B15/C15*100 -> 7.8356856 | G15: 171424 | H15: 1996050 | I15: =G15/H15*100 -> 8.5881616 | M15: Science Councils | O15: =V33 -> 123037 | P15: =U33 -> 171424 | Q15: =T33 -> 201811 | R15: =T9 -> 267620 | S15: =S9 -> 201009 | T15: =R9 -> 231033 | U15: =Q9 -> 235432 | V15: =P9 -> 249137 | W15: =O9 -> 292246 | X15: 307302
B17: 2010/11. | D17: KZN as a % of National, 2010 | G17: 2005/06. | I17: KZN as a % National,2005
A18: ='R&D Spent'!B94 -> Business enterprise | B18: 1280014 | C18: 10059009 | D18: =B18/C18*100 -> 12.725051 | G18: 843499 | H18: 8243776 | I18: =G18/H18*100 -> 10.23195
A19: ='R&D Spent'!D94 -> Government | B19: 48056 | C19: 1011340 | D19: =B19/C19*100 -> 4.7517155 | G19: 72131 | H19: 844641 | I19: =G19/H19*100 -> 8.5398412
A20: ='R&D Spent'!F94 -> Higher education | B20: 677740 | C20: 5424603 | D20: =B20/C20*100 -> 12.493818 | G20: 379681 | H20: 2732217 | I20: =G20/H20*100 -> 13.896444
A21: ='R&D Spent'!H94 -> Not-for-profit | B21: 35765 | C21: 162828 | D21: =B21/C21*100 -> 21.964895 | G21: 35036 | H21: 226514 | I21: =G21/H21*100 -> 15.467477
A22: ='R&D Spent'!J94 -> Science Councils | B22: 249137 | C22: 3596022 | D22: =B22/C22*100 -> 6.9281278 | G22: 201811 | H22: 2102094 | I22: =G22/H22*100 -> 9.6004746
B24: 2009/10. | D24: KZN as a % of National, 2010 | G24: 2006/07. | I24: KZN as a % National, 2006
A25: Business enterprise | B25: 1183636 | C25: 11139236 | D25: =B25/C25*100 -> 10.625827 | G25: 962308 | H25: 9243165 | I25: =G25/H25*100 -> 10.411023
A26: Government | B26: 54914 | C26: 1067303 | D26: =B26/C26*100 -> 5.1451181 | G26: 84192 | H26: 1021355 | I26: =G26/H26*100 -> 8.2431672
A27: Higher education | B27: 662518 | C27: 5101224 | D27: =B27/C27*100 -> 12.987432 | G27: 451992 | H27: 3298808 | I27: =G27/H27*100 -> 13.701676 | T27: 2005/06. | U27: 2004/05. | V27: 2001/02.
A28: Not-for-profit | B28: 30548 | C28: 188841 | D28: =B28/C28*100 -> 16.176572 | G28: 42902 | H28: 212539 | I28: =G28/H28*100 -> 20.185472
A29: Science Councils | B29: 235432 | C29: 3458074 | D29: =B29/C29*100 -> 6.8081828 | G29: 267620 | H29: 2744718 | I29: =G29/H29*100 -> 9.7503642 | T29: 843499 | U29: 615437 | V29: 309403
T30: 72131 | U30: 31213 | V30: 55362
B31: 2008/09. | D31: KZN as a % of National,2009 | G31: 2007/08. | I31: KZN as a % National,2007 | T31: 379681 | U31: 373595 | V31: 310589
A32: Business enterprise | B32: 1255509 | C32: 12332011 | D32: =B32/C32*100 -> 10.180894 | G32: 1302260 | H32: 10738456 | I32: =G32/H32*100 -> 12.127069 | T32: 35036 | U32: 37729 | V32: 11014
A33: Government | B33: 115302 | C33: 1139677 | D33: =B33/C33*100 -> 10.117077 | G33: 76458 | H33: 1154399 | I33: =G33/H33*100 -> 6.6231866 | T33: 201811 | U33: 171424 | V33: 123037
A34: Higher education | B34: 567999 | C34: 4191365 | D34: =B34/C34*100 -> 13.551647 | G34: 459299 | H34: 3621862 | I34: =G34/H34*100 -> 12.681295
A35: Not-for-profit | B35: 40492 | C35: 240649 | D35: =B35/C35*100 -> 16.826166 | G35: 42141 | H35: 223203 | I35: =G35/H35*100 -> 18.880123
A36: Scienced Councils | B36: 231033 | C36: 3137342 | D36: =B36/C36*100 -> 7.3639724 | G36: 201009 | H36: 2886094 | I36: =G36/H36*100 -> 6.964742
A49: Business enterprise
A50: Government
A51: Higher education
A52: Not-for-profit
A53: Science Councils
B128: ='R&D Spent'!B125 -> Business enterprise | C128: ='R&D Spent'!D125 -> Government | D128: ='R&D Spent'!F125 -> Higher education | E128: ='R&D Spent'!H125 -> Not-for-profit | F128: Science Councils | G128: Total
A129: 2012/13. | B129: 1237563 | C129: 168029 | D129: 1137258 | E129: 163221 | F129: 307302 | G129: =SUM(B129:F129) -> 3013373
...

Sheet Graphs1
A1: KZN R&D STATISTICS
