Workbook

Sheet R&D Spent
A1: Provincial split of R&D
A2: 2012/13.
A3: Province | B3: Business enterprise | D3: Government | F3: Higher education | H3: Not-for-profit | J3: Science Councils | L3: Total
B4: R000 | C4: % | D4: R000 | E4: % | F4: R000 | G4: % | H4: R000 | I4: % | J4: R000 | K4: % | L4: R000 | M4: %
A6: Eastern Cape | B6: 468197 | C6: =B6/$B$15*100 -> 4.4291849 | D6: 194258 | E6: =D6/$D$15*100 -> 13.513515 | F6: 592861 | G6: =F6/$F$15*100 -> 8.084667 | H6: 25610 | I6: =H6/$H$15*100 -> 5.0830335 | J6: 182664 | K6: =J6/$J$15*100 -> 4.537111 | L6: =(B6+D6+F6+H6+J6) -> 1463590 | M6: =L6/$L$15*100 -> 6.1311911
A7: Free State | B7: 1265285 | C7: =B7/$B$15*100 -> 11.969708 | D7: 38659 | E7: =D7/$D$15*100 -> 2.6893049 | F7: 356177 | G7: =F7/$F$15*100 -> 4.8570785 | H7: 15297 | I7: =H7/$H$15*100 -> 3.0361251 | J7: 39054 | K7: =J7/$J$15*100 -> 0.97004519 | L7: =(B7+D7+F7+H7+J7) -> 1714472 | M7: =L7/$L$15*100 -> 7.1821723
A8: Gauteng | B8: 5356550 | C8: =B8/$B$15*100 -> 50.673435 | D8: 427173 | E8: =D8/$D$15*100 -> 29.716197 | F8: 2118817 | G8: =F8/$F$15*100 -> 28.89367 | H8: 162866 | I8: =H8/$H$15*100 -> 32.325394 | J8: 2537028 | K8: =J8/$J$15*100 -> 63.016127 | L8: =(B8+D8+F8+H8+J8) -> 10602434 | M8: =L8/$L$15*100 -> 44.415136
A9: KwaZulu-Natal | B9: 1237563 | C9: =B9/$B$15*100 -> 11.707455 | D9: 168029 | E9: =D9/$D$15*100 -> 11.688901 | F9: 1137258 | G9: =F9/$F$15*100 -> 15.508445 | H9: 163221 | I9: =H9/$H$15*100 -> 32.395853 | J9: 307302 | K9: =J9/$J$15*100 -> 7.6329397 | L9: =(B9+D9+F9+H9+J9) -> 3013373 | M9: =L9/$L$15*100 -> 12.623457
A10: Limpopo | B10: 127451 | C10: =B10/$B$15*100 -> 1.2056977 | D10: 74621 | E10: =D10/$D$15*100 -> 5.1909936 | F10: 300435 | G10: =F10/$F$15*100 -> 4.0969417 | H10: 11779 | I10: =H10/$H$15*100 -> 2.3378778 | J10: 105150 | K10: =J10/$J$15*100 -> 2.6117748 | L10: =(B10+D10+F10+H10+J10) -> 619436 | M10: =L10/$L$15*100 -> 2.5949074
A11: Mpumalanga | B11: 222974 | C11: =B11/$B$15*100 -> 2.1093537 | D11: 80201 | E11: =D11/$D$15*100 -> 5.5791651 | F11: 182192 | G11: =F11/$F$15*100 -> 2.4844975 | H11: 23195 | I11: =H11/$H$15*100 -> 4.603708 | J11: 103468 | K11: =J11/$J$15*100 -> 2.5699963 | L11: =(B11+D11+F11+H11+J11) -> 612030 | M11: =L11/$L$15*100 -> 2.5638826
A12: North-West | B12: 380144 | C12: =B12/$B$15*100 -> 3.5961958 | D12: 45573 | E12: =D12/$D$15*100 -> 3.1702758 | F12: 311325 | G12: =F12/$F$15*100 -> 4.2454453 | H12: 42960 | I12: =H12/$H$15*100 -> 8.5266348 | J12: 110361 | K12: =J12/$J$15*100 -> 2.7412085 | L12: =(B12+D12+F12+H12+J12) -> 890363 | M12: =L12/$L$15*100 -> 3.72986
A13: Northern Cape | B13: 78471 | C13: =B13/$B$15*100 -> 0.74234258 | D13: 75440 | E13: =D13/$D$15*100 -> 5.2479671 | F13: 164483 | G13: =F13/$F$15*100 -> 2.2430052 | H13: 3867 | I13: =H13/$H$15*100 -> 0.76751622 | J13: 78714 | K13: =J13/$J$15*100 -> 1.9551426 | L13: =(B13+D13+F13+H13+J13) -> 400975 | M13: =L13/$L$15*100 -> 1.6797425
A14: Western Cape | B14: 1434090 | C14: =B14/$B$15*100 -> 13.566618 | D14: 333555 | E14: =D14/$D$15*100 -> 23.203681 | F14: 2169606 | G14: =F14/$F$15*100 -> 29.586264 | H14: 55038 | I14: =H14/$H$15*100 -> 10.923858 | J14: 562256 | K14: =J14/$J$15*100 -> 13.96563 | L14: =(B14+D14+F14+H14+J14) -> 4554545 | M14: =L14/$L$15*100 -> 19.079651
A15: Total | B15: 10570726 | D15: 1437509 | F15: 7333153 | H15: 503833 | J15: 4025998 | L15: =SUM(L6:L14) -> 23871218
A17: 2011/12.
A18: Province | B18: Business enterprise | D18: Government | F18: Higher education | H18: Not-for-profit | J18: Science Councils | L18: Total
B19: R000 | C19: % | D19: R000 | E19: % | F19: R000 | G19: % | H19: R000 | I19: % | J19: R000 | K19: % | L19: R000 | M19: %
A21: Eastern Cape | B21: 354553 | C21: =B21/B$30*100 -> 3.3883049 | D21: 127415 | E21: =D21/D$30*100 -> 10.311427 | F21: 608815 | G21: =F21/F$30*100 -> 9.2116083 | H21: 9493 | I21: =H21/H$30*100 -> 5.5643478 | J21: 178594 | K21: =J21/J$30*100 -> 4.7884537 | L21: =(B21+D21+F21+H21+J21) -> 1278870 | M21: =L21/L$30*100 -> 5.758292
A22: Free State | B22: 1308833 | C22: =B22/B$30*100 -> 12.507933 | D22: 44200 | E22: =D22/D$30*100 -> 3.5770126 | F22: 323335 | G22: =F22/F$30*100 -> 4.8921846 | H22: 5096 | I22: =H22/H$30*100 -> 2.9870343 | J22: 37138 | K22: =J22/J$30*100 -> 0.99574226 | L22: =(B22+D22+F22+H22+J22) -> 1718602 | M22: =L22/L$30*100 -> 7.7382471
A23: Gauteng | B23: 5558409 | C23: =B23/B$30*100 -> 53.119235 | D23: 447635 | E23: =D23/D$30*100 -> 36.226155 | F23: 2028145 | G23: =F23/F$30*100 -> 30.686625 | H23: 69321 | I23: =H23/H$30*100 -> 40.632693 | J23: 2287762 | K23: =J23/J$30*100 -> 61.339364 | L23: =(B23+D23+F23+H23+J23) -> 10391272 | M23: =L23/L$30*100 -> 46.788163
A24: KwaZulu-Natal | B24: 1160507 | C24: =B24/B$30*100 -> 11.090448 | D24: 126857 | E24: =D24/D$30*100 -> 10.266269 | F24: 902386 | G24: =F24/F$30*100 -> 13.653452 | H24: 33740 | I24: =H24/H$30*100 -> 19.776793 | J24: 292246 | K24: =J24/J$30*100 -> 7.8356856 | L24: =(B24+D24+F24+H24+J24) -> 2515736 | M24: =L24/L$30*100 -> 11.327455
A25: Limpopo | B25: 62728 | C25: =B25/B$30*100 -> 0.59946351 | D25: 65017 | E25: =D25/D$30*100 -> 5.2616884 | F25: 349559 | G25: =F25/F$30*100 -> 5.288964 | H25: 7449 | I25: =H25/H$30*100 -> 4.3662517 | J25: 99104 | K25: =J25/J$30*100 -> 2.6571717 | L25: =(B25+D25+F25+H25+J25) -> 583857 | M25: =L25/L$30*100 -> 2.6288982
A26: Mpumalanga | B26: 157158 | C26: =B26/B$30*100 -> 1.5018889 | D26: 78335 | E26: =D26/D$30*100 -> 6.339486 | F26: 170966 | G26: =F26/F$30*100 -> 2.5867822 | H26: 16027 | I26: =H26/H$30*100 -> 9.3942698 | J26: 100476 | K26: =J26/J$30*100 -> 2.6939577 | L26: =(B26+D26+F26+H26+J26) -> 522962 | M26: =L26/L$30*100 -> 2.3547099
A27: North-West | B27: 302164 | C27: =B27/B$30*100 -> 2.8876466 | D27: 44618 | E27: =D27/D$30*100 -> 3.6108405 | F27: 275088 | G27: =F27/F$30*100 -> 4.1621887 | H27: 6353 | I27: =H27/H$30*100 -> 3.7238283 | J27: 104139 | K27: =J27/J$30*100 -> 2.7921698 | L27: =(B27+D27+F27+H27+J27) -> 732362 | M27: =L27/L$30*100 -> 3.2975629
A28: Northern Cape | B28: 45267 | C28: =B28/B$30*100 -> 0.43259653 | D28: 63556 | E28: =D28/D$30*100 -> 5.1434528 | F28: 148425 | G28: =F28/F$30*100 -> 2.2457281 | H28: 1889 | I28: =H28/H$30*100 -> 1.1072425 | J28: 81998 | K28: =J28/J$30*100 -> 2.1985264 | L28: =(B28+D28+F28+H28+J28) -> 341135 | M28: =L28/L$30*100 -> 1.5360083
A29: Western Cape | B29: 1514404 | C29: =B29/B$30*100 -> 14.472483 | D29: 238035 | E29: =D29/D$30*100 -> 19.26367 | F29: 1802496 | G29: =F29/F$30*100 -> 27.272467 | H29: 21236 | I29: =H29/H$30*100 -> 12.447539 | J29: 548223 | K29: =J29/J$30*100 -> 14.698929 | L29: =(B29+D29+F29+H29+J29) -> 4124394 | M29: =L29/L$30*100 -> 18.570664
A30: Total | B30: =SUM(B21:B29) -> 10464023 | D30: =SUM(D21:D29) -> 1235668 | F30: =SUM(F21:F29) -> 6609215 | H30: =SUM(H21:H29) -> 170604 | J30: =SUM(J21:J29) -> 3729680 | L30: =SUM(L21:L29) -> 22209190
A32: 2010/11.
A33: Province | B33: Business enterprise | D33: Government | F33: Higher education | H33: Not-for-profit | J33: Science Councils | L33: Total
B34: R000 | C34: % | D34: R000 | E34: % | F34: R000 | G34: % | H34: R000 | I34: % | J34: R000 | K34: % | L34: R000 | M34: %
A36: Eastern Cape | B36: 217880 | C36: =B36/B$45*100 -> 2.1660185 | D36: 114127 | E36: =D36/D$45*100 -> 11.284731 | F36: 556496 | G36: =F36/F$45*100 -> 10.258742 | H36: 9790 | I36: =H36/H$45*100 -> 6.0124794 | J36: 150665 | K36: =J36/J$45*100 -> 4.1897686 | L36: =(B36+D36+F36+H36+J36) -> 1048958 | M36: =L36/L$45*100 -> 5.1790671
A37: Free State | B37: 943508 | C37: =B37/B$45*100 -> 9.3797311 | D37: 39998 | E37: =D37/D$45*100 -> 3.9549509 | F37: 281889 | G37: =F37/F$45*100 -> 5.1964909 | H37: 6385 | I37: =H37/H$45*100 -> 3.9213157 | J37: 60443 | K37: =J37/J$45*100 -> 1.6808295 | L37: =(B37+D37+F37+H37+J37) -> 1332223 | M37: =L37/L$45*100 -> 6.577644
A38: Gauteng | B38: 5439718 | C38: =B38/B$45*100 -> 54.078071 | D38: 343096 | E38: =D38/D$45*100 -> 33.924892 | F38: 1600783 | G38: =F38/F$45*100 -> 29.50968 | H38: 61496 | I38: =H38/H$45*100 -> 37.76746 | J38: 2327712 | K38: =J38/J$45*100 -> 64.730194 | L38: =(B38+D38+F38+H38+J38) -> 9772805 | M38: =L38/L$45*100 -> 48.251706
A39: KwaZulu-Natal | B39: 1280014 | C39: =B39/B$45*100 -> 12.725051 | D39: 48056 | E39: =D39/D$45*100 -> 4.7517155 | F39: 677740 | G39: =F39/F$45*100 -> 12.493818 | H39: 35765 | I39: =H39/H$45*100 -> 21.964895 | J39: 249137 | K39: =J39/J$45*100 -> 6.9281278 | L39: =(B39+D39+F39+H39+J39) -> 2290712 | M39: =L39/L$45*100 -> 11.310035
A40: Limpopo | B40: 41850 | C40: =B40/B$45*100 -> 0.41604496 | D40: 57797 | E40: =D40/D$45*100 -> 5.7148931 | F40: 224603 | G40: =F40/F$45*100 -> 4.1404505 | H40: 4541 | I40: =H40/H$45*100 -> 2.7888324 | J40: 66250 | K40: =J40/J$45*100 -> 1.8423135 | L40: =(B40+D40+F40+H40+J40) -> 395041 | M40: =L40/L$45*100 -> 1.9504535
A41: Mpumalanga | B41: 139771 | C41: =B41/B$45*100 -> 1.3895106 | D41: 69980 | E41: =D41/D$45*100 -> 6.9195325 | F41: 119231 | G41: =F41/F$45*100 -> 2.1979673 | H41: 13206 | I41: =H41/H$45*100 -> 8.1103987 | J41: 55690 | K41: =J41/J$45*100 -> 1.5486557 | L41: =(B41+D41+F41+H41+J41) -> 397878 | M41: =L41/L$45*100 -> 1.9644608
A42: North-West | B42: 256428 | C42: =B42/B$45*100 -> 2.5492372 | D42: 43048 | E42: =D42/D$45*100 -> 4.2565309 | F42: 184514 | G42: =F42/F$45*100 -> 3.4014286 | H42: 5612 | I42: =H42/H$45*100 -> 3.4465817 | J42: 42854 | K42: =J42/J$45*100 -> 1.1917057 | L42: =(B42+D42+F42+H42+J42) -> 532456 | M42: =L42/L$45*100 -> 2.6289188
A43: Northern Cape | B43: 17017 | C43: =B43/B$45*100 -> 0.16917173 | D43: 58918 | E43: =D43/D$45*100 -> 5.8257362 | F43: 107581 | G43: =F43/F$45*100 -> 1.983205 | H43: 2030 | I43: =H43/H$45*100 -> 1.2467143 | J43: 64774 | K43: =J43/J$45*100 -> 1.8012682 | L43: =(B43+D43+F43+H43+J43) -> 250320 | M43: =L43/L$45*100 -> 1.2359161
A44: Western Cape | B44: 1722823 | C44: =B44/B$45*100 -> 17.127164 | D44: 236320 | E44: =D44/D$45*100 -> 23.367018 | F44: 1671766 | G44: =F44/F$45*100 -> 30.818218 | H44: 24003 | I44: =H44/H$45*100 -> 14.741322 | J44: 578497 | K44: =J44/J$45*100 -> 16.087137 | L44: =(B44+D44+F44+H44+J44) -> 4233409 | M44: =L44/L$45*100 -> 20.901799
A45: Total | B45: =SUM(B36:B44) -> 10059009 | D45: =SUM(D36:D44) -> 1011340 | F45: =SUM(F36:F44) -> 5424603 | H45: =SUM(H36:H44) -> 162828 | J45: =SUM(J36:J44) -> 3596022 | L45: =SUM(L36:L44) -> 20253802
A47: 2009/10.
A48: Province | B48: Business enterprise | D48: Government | F48: Higher education | H48: Not-for-profit | J48: Science Councils | L48: Total
B49: R000 | C49: % | D49: R000 | E49: % | F49: R000 | G49: % | H49: R000 | I49: % | J49: R000 | K49: % | L49: R000 | M49: %
A51: Eastern Cape | B51: 320955 | C51: =(B51/B$60*100) -> 2.8813017 | D51: 100100 | E51: =(D51/D$60*100) -> 9.37878 | F51: 536792 | G51: =(F51/F$60*100) -> 10.522808 | H51: 8136 | I51: =H51/H$60*100 -> 4.3083864 | J51: 155501 | K51: =(J51/J$60*100) -> 4.4967517 | L51: =(B51+D51+F51+H51+J51) -> 1121484 | M51: =(L51/L$60*100) -> 5.3519505
A52: Free State | B52: 999554 | C52: =(B52/B$60*100) -> 8.9732725 | D52: 46155 | E52: =(D52/D$60*100) -> 4.3244514 | F52: 246298 | G52: =(F52/F$60*100) -> 4.8282138 | H52: 4418 | I52: =H52/H$60*100 -> 2.3395343 | J52: 74355 | K52: =(J52/J$60*100) -> 2.1501853 | L52: =(B52+D52+F52+H52+J52) -> 1370780 | M52: =(L52/L$60*100) -> 6.5416419
A53: Gauteng | B53: 6120062 | C53: =(B53/B$60*100) -> 54.941488 | D53: 396124 | E53: =(D53/D$60*100) -> 37.114484 | F53: 1537166 | G53: =(F53/F$60*100) -> 30.133278 | H53: 104420 | I53: =H53/H$60*100 -> 55.295195 | J53: 2219609 | K53: =(J53/J$60*100) -> 64.186278 | L53: =(B53+D53+F53+H53+J53) -> 10377381 | M53: =(L53/L$60*100) -> 49.52298
A54: KwaZulu-Natal | B54: 1183636 | C54: =(B54/B$60*100) -> 10.625827 | D54: 54914 | E54: =(D54/D$60*100) -> 5.1451181 | F54: 662518 | G54: =(F54/F$60*100) -> 12.987432 | H54: 30548 | I54: =H54/H$60*100 -> 16.176572 | J54: 235432 | K54: =(J54/J$60*100) -> 6.8081828 | L54: =(B54+D54+F54+H54+J54) -> 2167048 | M54: =(L54/L$60*100) -> 10.341595
A55: Limpopo | B55: 49375 | C55: =(B55/B$60*100) -> 0.44325302 | D55: 60421 | E55: =(D55/D$60*100) -> 5.6610916 | F55: 147397 | G55: =(F55/F$60*100) -> 2.8894438 | H55: 4524 | I55: =H55/H$60*100 -> 2.3956662 | J55: 78662 | K55: =(J55/J$60*100) -> 2.2747344 | L55: =(B55+D55+F55+H55+J55) -> 340379 | M55: =(L55/L$60*100) -> 1.6243581
A56: Mpumalanga | B56: 161154 | C56: =(B56/B$60*100) -> 1.446724 | D56: 68796 | E56: =(D56/D$60*100) -> 6.4457797 | F56: 88680 | G56: =(F56/F$60*100) -> 1.7384063 | H56: 8311 | I56: =H56/H$60*100 -> 4.401057 | J56: 66881 | K56: =(J56/J$60*100) -> 1.9340535 | L56: =(B56+D56+F56+H56+J56) -> 393822 | M56: =(L56/L$60*100) -> 1.879399
A57: North-West | B57: 7988 | C57: =(B57/B$60*100) -> 0.071710484 | D57: 77978 | E57: =(D57/D$60*100) -> 7.306079 | F57: 92062 | G57: =(F57/F$60*100) -> 1.8047041 | H57: 4493 | I57: =H57/H$60*100 -> 2.3792503 | J57: 35253 | K57: =(J57/J$60*100) -> 1.0194403 | L57: =(B57+D57+F57+H57+J57) -> 217774 | M57: =(L57/L$60*100) -> 1.039262
A58: Northern Cape | B58: 267528 | C58: =(B58/B$60*100) -> 2.4016728 | D58: 29176 | E58: =(D58/D$60*100) -> 2.7336192 | F58: 190570 | G58: =(F58/F$60*100) -> 3.7357701 | H58: 2382 | I58: =H58/H$60*100 -> 1.2613786 | J58: 51295 | K58: =(J58/J$60*100) -> 1.4833401 | L58: =(B58+D58+F58+H58+J58) -> 540951 | M58: =(L58/L$60*100) -> 2.5815286
A59: Western Cape | B59: 2028984 | C59: =(B59/B$60*100) -> 18.21475 | D59: 233639 | E59: =(D59/D$60*100) -> 21.890597 | F59: 1599741 | G59: =(F59/F$60*100) -> 31.359944 | H59: 21609 | I59: =H59/H$60*100 -> 11.44296 | J59: 541086 | K59: =(J59/J$60*100) -> 15.647034 | L59: =(B59+D59+F59+H59+J59) -> 4425059 | M59: =(L59/L$60*100) -> 21.117285
A60: Total | B60: =SUM(B51:B59) -> 11139236 | D60: =SUM(D51:D59) -> 1067303 | F60: =SUM(F51:F59) -> 5101224 | H60: =SUM(H51:H59) -> 188841 | J60: =SUM(J51:J59) -> 3458074 | L60: =SUM(L51:L59) -> 20954678
A62: 2008/09.
A63: Province | B63: Business enterprise | D63: Government | F63: Higher education | H63: Not-for-profit | J63: Science Councils | L63: Total
B64: R000 | C64: % | D64: R000 | E64: % | F64: R000 | G64: % | H64: R000 | I64: % | J64: R000 | K64: % | L64: R000 | M64: %
A66: Eastern Cape | B66: 316089 | C66: =B66/B$75*100 -> 2.5631586 | D66: 107929 | E66: =D66/D$75*100 -> 9.4701393 | F66: 286605 | G66: =F66/F$75*100 -> 6.8379871 | H66: 6790 | I66: =H66/H$75*100 -> 2.8215368 | J66: 171669 | K66: =J66/J$75*100 -> 5.4717975 | L66: =(B66+D66+F66+H66+J66) -> 889082 | M66: =L66/L$75*100 -> 4.2254652
A67: Free State | B67: 1213808 | C67: =B67/B$75*100 -> 9.8427418 | D67: 58697 | E67: =D67/D$75*100 -> 5.1503189 | F67: 226892 | G67: =F67/F$75*100 -> 5.41332 | H67: 4763 | I67: =H67/H$75*100 -> 1.9792312 | J67: 58561 | K67: =J67/J$75*100 -> 1.8665801 | L67: =(B67+D67+F67+H67+J67) -> 1562721 | M67: =L67/L$75*100 -> 7.4270127
A68: Gauteng | B68: 7131411 | C68: =B68/B$75*100 -> 57.828451 | D68: 264273 | E68: =D68/D$75*100 -> 23.188412 | F68: 1467914 | G68: =F68/F$75*100 -> 35.022338 | H68: 126136 | I68: =H68/H$75*100 -> 52.414928 | J68: 1991853 | K68: =J68/J$75*100 -> 63.488552 | L68: =(B68+D68+F68+H68+J68) -> 10981587 | M68: =L68/L$75*100 -> 52.191265
A69: KwaZulu-Natal | B69: 1255509 | C69: =B69/B$75*100 -> 10.180894 | D69: 115302 | E69: =D69/D$75*100 -> 10.117077 | F69: 567999 | G69: =F69/F$75*100 -> 13.551647 | H69: 40492 | I69: =H69/H$75*100 -> 16.826166 | J69: 231033 | K69: =J69/J$75*100 -> 7.3639724 | L69: =(B69+D69+F69+H69+J69) -> 2210335 | M69: =L69/L$75*100 -> 10.504873
A70: Limpopo | B70: 75675 | C70: =B70/B$75*100 -> 0.61364687 | D70: 55252 | E70: =D70/D$75*100 -> 4.8480403 | F70: 86635 | G70: =F70/F$75*100 -> 2.0669877 | H70: 5138 | I70: =H70/H$75*100 -> 2.1350598 | J70: 63455 | K70: =J70/J$75*100 -> 2.022572 | L70: =(B70+D70+F70+H70+J70) -> 286155 | M70: =L70/L$75*100 -> 1.3599848
A71: Mpumalanga | B71: 201550 | C71: =B71/B$75*100 -> 1.6343644 | D71: 39103 | E71: =D71/D$75*100 -> 3.4310599 | F71: 72590 | G71: =F71/F$75*100 -> 1.731894 | H71: 10332 | I71: =H71/H$75*100 -> 4.29339 | J71: 55547 | K71: =J71/J$75*100 -> 1.7705115 | L71: =(B71+D71+F71+H71+J71) -> 379122 | M71: =L71/L$75*100 -> 1.8018212
A72: North-West | B72: 7319 | C72: =B72/B$75*100 -> 0.059349606 | D72: 52907 | E72: =D72/D$75*100 -> 4.6422802 | F72: 68443 | G72: =F72/F$75*100 -> 1.6329525 | H72: 2159 | I72: =H72/H$75*100 -> 0.89715727 | J72: 43624 | K72: =J72/J$75*100 -> 1.3904764 | L72: =(B72+D72+F72+H72+J72) -> 174452 | M72: =L72/L$75*100 -> 0.82910335
A73: Northern Cape | B73: 222630 | C73: =B73/B$75*100 -> 1.8053017 | D73: 70741 | E73: =D73/D$75*100 -> 6.2071096 | F73: 150125 | G73: =F73/F$75*100 -> 3.5817687 | H73: 2339 | I73: =H73/H$75*100 -> 0.97195501 | J73: 41541 | K73: =J73/J$75*100 -> 1.3240826 | L73: =(B73+D73+F73+H73+J73) -> 487376 | M73: =L73/L$75*100 -> 2.3163109
A74: Western Cape | B74: 1908020 | C74: =B74/B$75*100 -> 15.472091 | D74: 375473 | E74: =D74/D$75*100 -> 32.945563 | F74: 1264162 | G74: =F74/F$75*100 -> 30.161105 | H74: 42500 | I74: =H74/H$75*100 -> 17.660576 | J74: 480059 | K74: =J74/J$75*100 -> 15.301456 | L74: =(B74+D74+F74+H74+J74) -> 4070214 | M74: =L74/L$75*100 -> 19.344164
A75: Total | B75: =SUM(B66:B74) -> 12332011 | D75: =SUM(D66:D74) -> 1139677 | F75: =SUM(F66:F74) -> 4191365 | H75: =SUM(H66:H74) -> 240649 | J75: =SUM(J66:J74) -> 3137342 | L75: =SUM(L66:L74) -> 21041044
A78: 2007/08.
A79: Province | B79: Business enterprise | D79: Government | F79: Higher education | H79: Not-for-profit | J79: Science Councils | L79: Total
B80: R000 | C80: % | D80: R000 | E80: % | F80: R000 | G80: % | H80: R000 | I80: % | J80: R000 | K80: % | L80: R000 | M80: %
A82: Eastern Cape | B82: 283488 | C82: =B82/B$91*100 -> 2.6399326 | D82: 122191 | E82: =D82/D$91*100 -> 10.584815 | F82: 276740 | G82: =F82/F$91*100 -> 7.6408212 | H82: 6164 | I82: =H82/H$91*100 -> 2.7616116 | J82: 138342 | K82: =J82/J$91*100 -> 4.793399 | L82: =B82+D82+F82+H82+J82 -> 826925 | M82: =L82/L$91*100 -> 4.4401008
A83: Free State | B83: 786225 | C83: =B83/B$91*100 -> 7.3215833 | D83: 62116 | E83: =D83/D$91*100 -> 5.3808085 | F83: 180713 | G83: =F83/F$91*100 -> 4.9895054 | H83: 1255 | I83: =H83/H$91*100 -> 0.56226843 | J83: 67901 | K83: =J83/J$91*100 -> 2.3526954 | L83: =B83+D83+F83+H83+J83 -> 1098210 | M83: =L83/L$91*100 -> 5.8967417
A84: Gauteng | B84: 6142233 | C84: =B84/B$91*100 -> 57.198474 | D84: 292757 | E84: =D84/D$91*100 -> 25.360122 | F84: 1260991 | G84: =F84/F$91*100 -> 34.816097 | H84: 115499 | I84: =H84/H$91*100 -> 51.746168 | J84: 1809272 | K84: =J84/J$91*100 -> 62.689296 | L84: =B84+D84+F84+H84+J84 -> 9620752 | M84: =L84/L$91*100 -> 51.657779
A85: KwaZulu-Natal | B85: 1302260 | C85: =B85/B$91*100 -> 12.127069 | D85: 76458 | E85: =D85/D$91*100 -> 6.6231866 | F85: 459299 | G85: =F85/F$91*100 -> 12.681295 | H85: 42141 | I85: =H85/H$91*100 -> 18.880123 | J85: 201009 | K85: =J85/J$91*100 -> 6.964742 | L85: =B85+D85+F85+H85+J85 -> 2081167 | M85: =L85/L$91*100 -> 11.174643
A86: Limpopo | B86: 71687 | C86: =B86/B$91*100 -> 0.66757269 | D86: 40217 | E86: =D86/D$91*100 -> 3.4838041 | F86: 79716 | G86: =F86/F$91*100 -> 2.2009673 | H86: 4602 | I86: =H86/H$91*100 -> 2.0618002 | J86: 67562 | K86: =J86/J$91*100 -> 2.3409494 | L86: =B86+D86+F86+H86+J86 -> 263784 | M86: =L86/L$91*100 -> 1.4163649
A87: Mpumalanga | B87: 196368 | C87: =B87/B$91*100 -> 1.8286428 | D87: 74690 | E87: =D87/D$91*100 -> 6.4700333 | F87: 105629 | G87: =F87/F$91*100 -> 2.9164281 | H87: 9930 | I87: =H87/H$91*100 -> 4.4488649 | J87: 66333 | K87: =J87/J$91*100 -> 2.2983659 | L87: =B87+D87+F87+H87+J87 -> 452950 | M87: =L87/L$91*100 -> 2.4320751
A88: North-West | B88: 193339 | C88: =B88/B$91*100 -> 1.8004357 | D88: 42500 | E88: =D88/D$91*100 -> 3.6815694 | F88: 166137 | G88: =F88/F$91*100 -> 4.5870605 | H88: 2207 | I88: =H88/H$91*100 -> 0.98878599 | J88: 49390 | K88: =J88/J$91*100 -> 1.7113095 | L88: =B88+D88+F88+H88+J88 -> 453573 | M88: =L88/L$91*100 -> 2.4354202
A89: Northern Cape | B89: 7450 | C89: =B89/B$91*100 -> 0.069376827 | D89: 66921 | E89: =D89/D$91*100 -> 5.7970424 | F89: 48277 | G89: =F89/F$91*100 -> 1.3329332 | H89: 2038 | I89: =H89/H$91*100 -> 0.91307016 | J89: 45250 | K89: =J89/J$91*100 -> 1.567863 | L89: =B89+D89+F89+H89+J89 -> 169936 | M89: =L89/L$91*100 -> 0.91245636
A90: Western Cape | B90: 1755404 | C90: =B90/B$91*100 -> 16.346894 | D90: 376550 | E90: =D90/D$91*100 -> 32.618705 | F90: 1044360 | G90: =F90/F$91*100 -> 28.834892 | H90: 39367 | I90: =H90/H$91*100 -> 17.637308 | J90: 441036 | K90: =J90/J$91*100 -> 15.281415 | L90: =B90+D90+F90+H90+J90 -> 3656717 | M90: =L90/L$91*100 -> 19.634419
A91: Total | B91: 10738456 | D91: 1154399 | F91: 3621862 | H91: 223203 | J91: 2886094 | L91: =B91+D91+F91+H91+J91 -> 18624014
A93: 2006/07.
A94: Province | B94: Business enterprise | D94: Government | F94: Higher education | H94: Not-for-profit | J94: Science Councils | L94: Total
B95: R000 | C95: % | D95: R000 | E95: % | F95: R000 | G95: % | H95: R000 | I95: % | J95: R000 | K95: % | L95: R000 | M95: %
A97: Eastern Cape | B97: 247295 | C97: =B97/B$106*100 -> 2.6754364 | D97: 109779 | E97: =D97/D$106*100 -> 10.748369 | F97: 259254 | G97: =F97/F$106*100 -> 7.8590206 | H97: 4850 | I97: =H97/H$106*100 -> 2.2819341 | J97: 131126 | K97: =J97/J$106*100 -> 4.7773943 | L97: =B97+D97+F97+H97+J97 -> 752304 | M97: =L97/L$106*100 -> 4.553737
A98: Free State | B98: 665443 | C98: =B98/B$106*100 -> 7.1992981 | D98: 69314 | E98: =D98/D$106*100 -> 6.7864748 | F98: 155326 | G98: =F98/F$106*100 -> 4.7085493 | H98: 1974 | I98: =H98/H$106*100 -> 0.92877072 | J98: 52773 | K98: =J98/J$106*100 -> 1.9227112 | L98: =B98+D98+F98+H98+J98 -> 944830 | M98: =L98/L$106*100 -> 5.7191074
A99: Gauteng | B99: 5263546 | C99: =B99/B$106*100 -> 56.945278 | D99: 321176 | E99: =D99/D$106*100 -> 31.446069 | F99: 1214575 | G99: =F99/F$106*100 -> 36.818602 | H99: 102141 | I99: =H99/H$106*100 -> 48.057533 | J99: 1546032 | K99: =J99/J$106*100 -> 56.327535 | L99: =B99+D99+F99+H99+J99 -> 8447470 | M99: =L99/L$106*100 -> 51.132996
A100: KwaZulu-Natal | B100: 962308 | C100: =B100/B$106*100 -> 10.411023 | D100: 84192 | E100: =D100/D$106*100 -> 8.2431672 | F100: 451992 | G100: =F100/F$106*100 -> 13.701676 | H100: 42902 | I100: =H100/H$106*100 -> 20.185472 | J100: 267620 | K100: =J100/J$106*100 -> 9.7503642 | L100: =B100+D100+F100+H100+J100 -> 1809014 | M100: =L100/L$106*100 -> 10.95006
A101: Limpopo | B101: 72813 | C101: =B101/B$106*100 -> 0.78774965 | D101: 31118 | E101: =D101/D$106*100 -> 3.0467369 | F101: 63233 | G101: =F101/F$106*100 -> 1.9168439 | H101: 3979 | I101: =H101/H$106*100 -> 1.872127 | J101: 69808 | K101: =J101/J$106*100 -> 2.5433578 | L101: =B101+D101+F101+H101+J101 -> 240951 | M101: =L101/L$106*100 -> 1.4584895
A102: Mpumalanga | B102: 172948 | C102: =B102/B$106*100 -> 1.8710907 | D102: 50568 | E102: =D102/D$106*100 -> 4.9510699 | F102: 67029 | G102: =F102/F$106*100 -> 2.0319158 | H102: 9131 | I102: =H102/H$106*100 -> 4.2961527 | J102: 69859 | K102: =J102/J$106*100 -> 2.5452159 | L102: =B102+D102+F102+H102+J102 -> 369535 | M102: =L102/L$106*100 -> 2.2368155
A103: North-West | B103: 15834 | C103: =B103/B$106*100 -> 0.17130496 | D103: 64733 | E103: =D103/D$106*100 -> 6.337953 | F103: 42944 | G103: =F103/F$106*100 -> 1.3018036 | H103: 1736 | I103: =H103/H$106*100 -> 0.81679127 | J103: 55676 | K103: =J103/J$106*100 -> 2.028478 | L103: =B103+D103+F103+H103+J103 -> 180923 | M103: =L103/L$106*100 -> 1.0951368
A104: Northern Cape | B104: 197383 | C104: =B104/B$106*100 -> 2.1354482 | D104: 32889 | E104: =D104/D$106*100 -> 3.220134 | F104: 97246 | G104: =F104/F$106*100 -> 2.9479133 | H104: 1974 | I104: =H104/H$106*100 -> 0.92877072 | J104: 72968 | K104: =J104/J$106*100 -> 2.658488 | L104: =B104+D104+F104+H104+J104 -> 402460 | M104: =L104/L$106*100 -> 2.4361123
A105: Western Cape | B105: 1645595 | C105: =B105/B$106*100 -> 17.803371 | D105: 257586 | E105: =D105/D$106*100 -> 25.220026 | F105: 947209 | G105: =F105/F$106*100 -> 28.713675 | H105: 43852 | I105: =H105/H$106*100 -> 20.632449 | J105: 478856 | K105: =J105/J$106*100 -> 17.446455 | L105: =B105+D105+F105+H105+J105 -> 3373098 | M105: =L105/L$106*100 -> 20.417546
A106: Total | B106: =SUM(B97:B105) -> 9243165 | D106: =SUM(D97:D105) -> 1021355 | F106: =SUM(F97:F105) -> 3298808 | H106: =SUM(H97:H105) -> 212539 | J106: =SUM(J97:J105) -> 2744718 | L106: =B106+D106+F106+H106+J106 -> 16520585
A108: 2005/06.
A109: Province | B109: Business enterprise | D109: Government | F109: Higher education | H109: Not-for-profit | J109: Science Councils | L109: Total
B110: R000 | C110: % | D110: R000 | E110: % | F110: R000 | G110: % | H110: R000 | I110: % | J110: R000 | K110: % | L110: R000 | M110: %
A112: Eastern Cape | B112: 242692 | C112: =B112/B$121*100 -> 2.9439422 | D112: 84071 | E112: =D112/D$121*100 -> 9.9534595 | F112: 214701 | G112: =F112/F$121*100 -> 7.858124 | H112: 6589 | I112: =H112/H$121*100 -> 2.908871 | J112: 123956 | K112: =J112/J$121*100 -> 5.8967867 | L112: =B112+D112+F112+H112+J112 -> 672009 | M112: =L112/L$121*100 -> 4.7494346
A113: Free State | B113: 476346 | C113: =B113/B$121*100 -> 5.7782502 | D113: 41856 | E113: =D113/D$121*100 -> 4.9554781 | F113: 146823 | G113: =F113/F$121*100 -> 5.3737679 | H113: 3687 | I113: =H113/H$121*100 -> 1.627714 | J113: 50197 | K113: =J113/J$121*100 -> 2.3879522 | L113: =B113+D113+F113+H113+J113 -> 718909 | M113: =L113/L$121*100 -> 5.0809012
A114: Gauteng | B114: 4643864 | C114: =B114/B$121*100 -> 56.331759 | D114: 291639 | E114: =D114/D$121*100 -> 34.52816 | F114: 1030801 | G114: =F114/F$121*100 -> 37.72764 | H114: 104002 | I114: =H114/H$121*100 -> 45.91416 | J114: 1103284 | K114: =J114/J$121*100 -> 52.484998 | L114: =B114+D114+F114+H114+J114 -> 7173590 | M114: =L114/L$121*100 -> 50.699465
A115: KwaZulu-Natal | B115: 843499 | C115: =B115/B$121*100 -> 10.23195 | D115: 72131 | E115: =D115/D$121*100 -> 8.5398412 | F115: 379681 | G115: =F115/F$121*100 -> 13.896444 | H115: 35036 | I115: =H115/H$121*100 -> 15.467477 | J115: 201811 | K115: =J115/J$121*100 -> 9.6004746 | L115: =B115+D115+F115+H115+J115 -> 1532158 | M115: =L115/L$121*100 -> 10.828552
A116: Limpopo | B116: 84187 | C116: =B116/B$121*100 -> 1.0212189 | D116: 15917 | E116: =D116/D$121*100 -> 1.8844693 | F116: 43564 | G116: =F116/F$121*100 -> 1.5944561 | H116: 5329 | I116: =H116/H$121*100 -> 2.352614 | J116: 48058 | K116: =J116/J$121*100 -> 2.2861965 | L116: =B116+D116+F116+H116+J116 -> 197055 | M116: =L116/L$121*100 -> 1.3926894
...

Sheet Graphs
A1: KZN R&D STATISTICS
B3: 2012/13 | D3: KZN as a %of national, 2012 | G3: 2001/02. | I3: KZN as a % of National, 2001 | O3: 2011/12 | P3: 2010/11 | Q3: 2009/10 | R3: 2008/09. | S3: 2007/08. | T3: 2006/07.
A4: ='R&D Spent'!B79 -> Business enterprise | B4: 1237563 | C4: 10570726 | D4: =B4/C4*100 -> 11.707455 | G4: ='R&D Spent'!B149 -> 309403 | H4: ='R&D Spent'!B155 -> 4023577 | I4: =G4/H4*100 -> 7.6897497
A5: ='R&D Spent'!D79 -> Government | B5: 168029 | C5: 1437509 | D5: =B5/C5*100 -> 11.688901 | G5: ='R&D Spent'!D149 -> 55362 | H5: ='R&D Spent'!D155 -> 203111 | I5: =G5/H5*100 -> 27.257017 | M5: Business enterprise | O5: 1160507 | P5: 1280014 | Q5: 1183636 | R5: 1255509 | S5: 1302260 | T5: 962308
A6: ='R&D Spent'!F79 -> Higher education | B6: 1137258 | C6: 7333153 | D6: =B6/C6*100 -> 15.508445 | G6: ='R&D Spent'!F149 -> 310589 | H6: ='R&D Spent'!F155 -> 1896156 | I6: =G6/H6*100 -> 16.379929 | M6: Government | O6: 126857 | P6: 48056 | Q6: 54914 | R6: 115302 | S6: 76458 | T6: 84192
A7: ='R&D Spent'!H79 -> Not-for-profit | B7: 163221 | C7: 503833 | D7: =B7/C7*100 -> 32.395853 | G7: ='R&D Spent'!H149 -> 11014 | H7: ='R&D Spent'!H155 -> 70778 | I7: =G7/H7*100 -> 15.561333 | M7: Higher education | O7: 902386 | P7: 677740 | Q7: 662518 | R7: 567999 | S7: 459299 | T7: 451992
A8: Science Councils | B8: 307302 | C8: 4025998 | D8: =B8/C8*100 -> 7.6329397 | G8: ='R&D Spent'!J149 -> 123037 | H8: ='R&D Spent'!J155 -> 1294454 | I8: =G8/H8*100 -> 9.5049341 | M8: Not-for-profit | O8: 33740 | P8: 35765 | Q8: 30548 | R8: 40492 | S8: 42141 | T8: 42902
M9: Science Councils | O9: 292246 | P9: 249137 | Q9: 235432 | R9: 231033 | S9: 201009 | T9: 267620
B10: 2011/12. | D10: KZN as a % of National, 2011 | G10: 2004/05. | I10: KZN as a % of National,2004 | O10: =V27 -> 2001/02. | P10: =U27 -> 2004/05. | Q10: =T27 -> 2005/06. | R10: =T3 -> 2006/07. | S10: =S3 -> 2007/08. | T10: =R3 -> 2008/09. | U10: 2009/10 | V10: 2010/11 | W10: 2011/12 | X10: 2012/13.
A11: Business enterprise | B11: ='R&D Spent'!B24 -> 1160507 | C11: ='R&D Spent'!B30 -> 10464023 | D11: =B11/C11*100 -> 11.090448 | G11: 615437 | H11: 6766360 | I11: =G11/H11*100 -> 9.0955403 | M11: Business enterprise | O11: =V29 -> 309403 | P11: =U29 -> 615437 | Q11: =T29 -> 843499 | R11: =T5 -> 962308 | S11: =S5 -> 1302260 | T11: =R5 -> 1255509 | U11: =Q5 -> 1183636 | V11: =P5 -> 1280014 | W11: =O5 -> 1160507 | X11: 1237563
A12: Government | B12: ='R&D Spent'!D24 -> 126857 | C12: ='R&D Spent'!D30 -> 1235668 | D12: =B12/C12*100 -> 10.266269 | G12: 31213 | H12: 515330 | I12: =G12/H12*100 -> 6.0568956 | M12: Government | O12: =V30 -> 55362 | P12: =U30 -> 31213 | Q12: =T30 -> 72131 | R12: =T6 -> 84192 | S12: =S6 -> 76458 | T12: =R6 -> 115302 | U12: =Q6 -> 54914 | V12: =P6 -> 48056 | W12: =O6 -> 126857 | X12: 168029
A13: Higher education | B13: ='R&D Spent'!F24 -> 902386 | C13: ='R&D Spent'!F30 -> 6609215 | D13: =B13/C13*100 -> 13.653452 | G13: 373595 | H13: 2533971 | I13: =G13/H13*100 -> 14.74346 | M13: Higher education | O13: =V31 -> 310589 | P13: =U31 -> 373595 | Q13: =T31 -> 379681 | R13: =T7 -> 451992 | S13: =S7 -> 459299 | T13: =R7 -> 567999 | U13: =Q7 -> 662518 | V13: =P7 -> 677740 | W13: =O7 -> 902386 | X13: 1137258
A14: Not-for-profit | B14: ='R&D Spent'!H24 -> 33740 | C14: ='R&D Spent'!H30 -> 170604 | D14: =B14/C14*100 -> 19.776793 | G14: 37729 | H14: 198269 | I14: =G14/H14*100 -> 19.029198 | M14: Not-for-profit | O14: =V32 -> 11014 | P14: =U32 -> 37729 | Q14: =T32 -> 35036 | R14: =T8 -> 42902 | S14: =S8 -> 42141 | T14: =R8 -> 40492 | U14: =Q8 -> 30548 | V14: =P8 -> 35765 | W14: =O8 -> 33740 | X14: 163221
A15: Science Councils | B15: ='R&D Spent'!J24 -> 292246 | C15: ='R&D Spent'!J30 -> 3729680 | D15: =B15/C15*100 -> 7.8356856 | G15: 171424 | H15: 1996050 | I15: =G15/H15*100 -> 8.5881616 | M15: Science Councils | O15: =V33 -> 123037 | P15: =U33 -> 171424 | Q15: =T33 -> 201811 | R15: =T9 -> 267620 | S15: =S9 -> 201009 | T15: =R9 -> 231033 | U15: =Q9 -> 235432 | V15: =P9 -> 249137 | W15: =O9 -> 292246 | X15: 307302
B17: 2010/11. | D17: KZN as a % of National, 2010 | G17: 2005/06. | I17: KZN as a % National,2005
A18: ='R&D Spent'!B94 -> Business enterprise | B18: 1280014 | C18: 10059009 | D18: =B18/C18*100 -> 12.725051 | G18: 843499 | H18: 8243776 | I18: =G18/H18*100 -> 10.23195
A19: ='R&D Spent'!D94 -> Government | B19: 48056 | C19: 1011340 | D19: =B19/C19*100 -> 4.7517155 | G19: 72131 | H19: 844641 | I19: =G19/H19*100 -> 8.5398412
A20: ='R&D Spent'!F94 -> Higher education | B20: 677740 | C20: 5424603 | D20: =B20/C20*100 -> 12.493818 | G20: 379681 | H20: 2732217 | I20: =G20/H20*100 -> 13.896444
A21: ='R&D Spent'!H94 -> Not-for-profit | B21: 35765 | C21: 162828 | D21: =B21/C21*100 -> 21.964895 | G21: 35036 | H21: 226514 | I21: =G21/H21*100 -> 15.467477
A22: ='R&D Spent'!J94 -> Science Councils | B22: 249137 | C22: 3596022 | D22: =B22/C22*100 -> 6.9281278 | G22: 201811 | H22: 2102094 | I22: =G22/H22*100 -> 9.6004746
B24: 2009/10. | D24: KZN as a % of National, 2010 | G24: 2006/07. | I24: KZN as a % National, 2006
A25: Business enterprise | B25: 1183636 | C25: 11139236 | D25: =B25/C25*100 -> 10.625827 | G25: 962308 | H25: 9243165 | I25: =G25/H25*100 -> 10.411023
A26: Government | B26: 54914 | C26: 1067303 | D26: =B26/C26*100 -> 5.1451181 | G26: 84192 | H26: 1021355 | I26: =G26/H26*100 -> 8.2431672
A27: Higher education | B27: 662518 | C27: 5101224 | D27: =B27/C27*100 -> 12.987432 | G27: 451992 | H27: 3298808 | I27: =G27/H27*100 -> 13.701676 | T27: 2005/06. | U27: 2004/05. | V27: 2001/02.
A28: Not-for-profit | B28: 30548 | C28: 188841 | D28: =B28/C28*100 -> 16.176572 | G28: 42902 | H28: 212539 | I28: =G28/H28*100 -> 20.185472
A29: Science Councils | B29: 235432 | C29: 3458074 | D29: =B29/C29*100 -> 6.8081828 | G29: 267620 | H29: 2744718 | I29: =G29/H29*100 -> 9.7503642 | T29: 843499 | U29: 615437 | V29: 309403
T30: 72131 | U30: 31213 | V30: 55362
B31: 2008/09. | D31: KZN as a % of National,2009 | G31: 2007/08. | I31: KZN as a % National,2007 | T31: 379681 | U31: 373595 | V31: 310589
A32: Business enterprise | B32: 1255509 | C32: 12332011 | D32: =B32/C32*100 -> 10.180894 | G32: 1302260 | H32: 10738456 | I32: =G32/H32*100 -> 12.127069 | T32: 35036 | U32: 37729 | V32: 11014
A33: Government | B33: 115302 | C33: 1139677 | D33: =B33/C33*100 -> 10.117077 | G33: 76458 | H33: 1154399 | I33: =G33/H33*100 -> 6.6231866 | T33: 201811 | U33: 171424 | V33: 123037
A34: Higher education | B34: 567999 | C34: 4191365 | D34: =B34/C34*100 -> 13.551647 | G34: 459299 | H34: 3621862 | I34: =G34/H34*100 -> 12.681295
A35: Not-for-profit | B35: 40492 | C35: 240649 | D35: =B35/C35*100 -> 16.826166 | G35: 42141 | H35: 223203 | I35: =G35/H35*100 -> 18.880123
A36: Scienced Councils | B36: 231033 | C36: 3137342 | D36: =B36/C36*100 -> 7.3639724 | G36: 201009 | H36: 2886094 | I36: =G36/H36*100 -> 6.964742
A49: Business enterprise
A50: Government
A51: Higher education
A52: Not-for-profit
A53: Science Councils
B128: ='R&D Spent'!B125 -> Business enterprise | C128: ='R&D Spent'!D125 -> Government | D128: ='R&D Spent'!F125 -> Higher education | E128: ='R&D Spent'!H125 -> Not-for-profit | F128: Science Councils | G128: Total
A129: 2012/13. | B129: 1237563 | C129: 168029 | D129: 1137258 | E129: 163221 | F129: 307302 | G129: =SUM(B129:F129) -> 3013373
A130: 2011/12. | B130: ='R&D Spent'!B24 -> 1160507 | C130: ='R&D Spent'!D24 -> 126857 | D130: ='R&D Spent'!F24 -> 902386 | E130: ='R&D Spent'!H24 -> 33740 | F130: ='R&D Spent'!J24 -> 292246 | G130: =SUM(B130:F130) -> 2515736
A131: 2010/11 | B131: ='R&D Spent'!B39 -> 1280014 | C131: ='R&D Spent'!D39 -> 48056 | D131: ='R&D Spent'!F39 -> 677740 | E131: ='R&D Spent'!H39 -> 35765 | F131: ='R&D Spent'!J39 -> 249137 | G131: =SUM(B131:F131) -> 2290712
A132: 2009/10 | B132: ='R&D Spent'!B54 -> 1183636 | C132: ='R&D Spent'!D54 -> 54914 | D132: ='R&D Spent'!F54 -> 662518 | E132: ='R&D Spent'!H54 -> 30548 | F132: ='R&D Spent'!J54 -> 235432 | G132: =SUM(B132:F132) -> 2167048
A133: 2008/09. | B133: ='R&D Spent'!B69 -> 1255509 | C133: ='R&D Spent'!D69 -> 115302 | D133: ='R&D Spent'!F69 -> 567999 | E133: ='R&D Spent'!H69 -> 40492 | F133: ='R&D Spent'!J69 -> 231033 | G133: =SUM(B133:F133) -> 2210335
A134: ='R&D Spent'!A78 -> 2007/08. | B134: ='R&D Spent'!B85 -> 1302260 | C134: ='R&D Spent'!D85 -> 76458 | D134: ='R&D Spent'!F85 -> 459299 | E134: ='R&D Spent'!H85 -> 42141 | F134: ='R&D Spent'!J85 -> 201009 | G134: =SUM(B134:F134) -> 2081167
A135: ='R&D Spent'!A93 -> 2006/07. | B135: ='R&D Spent'!B100 -> 962308 | C135: ='R&D Spent'!D100 -> 84192 | D135: ='R&D Spent'!F100 -> 451992 | E135: ='R&D Spent'!H100 -> 42902 | F135: ='R&D Spent'!J100 -> 267620 | G135: =SUM(B135:F135) -> 1809014
A136: ='R&D Spent'!A108 -> 2005/06. | B136: ='R&D Spent'!B115 -> 843499 | C136: ='R&D Spent'!D115 -> 72131 | D136: ='R&D Spent'!F115 -> 379681 | E136: ='R&D Spent'!H115 -> 35036 | F136: ='R&D Spent'!J115 -> 201811 | G136: =SUM(B136:F136) -> 1532158
A137: ='R&D Spent'!A124 -> 2004/05. | B137: ='R&D Spent'!B131 -> 615437 | C137: ='R&D Spent'!D131 -> 31213 | D137: ='R&D Spent'!F131 -> 373595 | E137: ='R&D Spent'!H131 -> 37729 | F137: ='R&D Spent'!J131 -> 171424 | G137: =SUM(B137:F137) -> 1229398
A138: ='R&D Spent'!A142 -> 2001/02. | B138: ='R&D Spent'!B149 -> 309403 | C138: ='R&D Spent'!D149 -> 55362 | D138: ='R&D Spent'!F149 -> 310589 | E138: ='R&D Spent'!H149 -> 11014 | F138: ='R&D Spent'!J149 -> 123037 | G138: =SUM(B138:F138) -> 809405

Sheet Graphs1
A1: KZN R&D STATISTICS
