Workbook

Sheet Introduction
B1: Annual COMP and COMP-R
B3: Quarterly COMP and COMP-R
B5: Year-on-Year Growth Rates per Sector
B7: Annualised Quarterly Rates per Sector
B9: Yearly Provincial Contribution Rates per Sector
B11: Yearly Provincial Sector as a % of National Sector COMP
B13: Ethekwini Municipal Area COMP
B15: Msunduzi Municipal Area COMP
B17: Mthlatuze Municipal Area COMP
D18: Model Assumptions
B19: Hibiscus Coast Municipal COMP
D20: Stable structural relationship between SA and KZN economy
B21: Newcastle Municipal COMP
D22: Stable relationship between GDP and Fuel Consumption
B23: Comparitive Growth Rates
D24: Fuel Consumption per R1 GDP are location insensitive
B25: Comparitive Contribution Rates

Sheet Annual
A1: Annual Compensation of Employees
A3: SA – Annual Compensation of Employees
A4: Rand million
A5: National Industry | B5: 1995 | C5: 1996 | D5: 1997 | E5: 1998 | F5: 1999 | G5: 2000 | H5: 2001 | I5: 2002 | J5: 2003 | K5: 2004 | L5: 2005 | M5: 2006 | N5: 2007 | O5: 2008 | P5: 2009 | Q5: 2010 | R5: 2011 | S5: 2012 | T5: 2013 | U5: 2014 | V5: 2015 | W5: 2016
A6: Primary Industries | B6: =SUM(B7:B8) -> 24998.352 | C6: =SUM(C7:C8) -> 26904.715 | D6: =SUM(D7:D8) -> 29495.059 | E6: =SUM(E7:E8) -> 31996.46 | F6: =SUM(F7:F8) -> 35031.29 | G6: =SUM(G7:G8) -> 37881.111 | H6: =SUM(H7:H8) -> 41501.749 | I6: =SUM(I7:I8) -> 46501.74 | ... W6: =SUM(W7:W8) -> 169091
A7: Agriculture, forestry and fishing | B7: 6431.8537 | C7: 6935.715 | D7: 7434.5586 | E7: 8346.7813 | F7: 8846.7118 | G7: 9446.0907 | H7: 10017.536 | I7: 11658.713 | J7: 13430.323 | K7: 13036.311 | L7: 12222 | M7: 12891 | N7: 14709 | O7: 16660 | P7: 18391 | Q7: 19494 | R7: 20100 | S7: 21429 | T7: 23111 | U7: 25259 | V7: 26797 | W7: 28298
A8: Mining and quarrying | B8: 18566.498 | C8: 19969 | D8: 22060.5 | E8: 23649.679 | F8: 26184.579 | G8: 28435.02 | H8: 31484.213 | I8: 34843.027 | J8: 36008.378 | K8: 38856.352 | L8: 42041.946 | M8: 49534.993 | N8: 58221.3 | O8: 69675.233 | P8: 75600.659 | Q8: 86399 | R8: 97479 | S8: 109796 | T8: 119408 | U8: 122910 | V8: 132502 | W8: 140793
A9: Secondary Industries | B9: =SUM(B10:B12) -> 72819.415 | C9: =SUM(C10:C12) -> 77995.802 | D9: =SUM(D10:D12) -> 83037.912 | E9: =SUM(E10:E12) -> 91900.32 | F9: =SUM(F10:F12) -> 96619.11 | G9: =SUM(G10:G12) -> 104652.29 | H9: =SUM(H10:H12) -> 110672.14 | I9: =SUM(I10:I12) -> 124108.26 | ... W9: =SUM(W10:W12) -> 447049
A10: Manufacturing | B10: 56905.261 | C10: 60412.891 | D10: 64000.706 | E10: 72677.595 | F10: 76254.047 | G10: 83595.343 | H10: 89315.521 | I10: 100404.08 | J10: 105133.05 | K10: 112755.17 | L10: 121243.86 | M10: 134466.92 | N10: 154326.2 | O10: 177186.3 | P10: 185106.19 | Q10: 205680 | R10: 218214 | S10: 236681 | T10: 261255 | U10: 284333 | V10: 304919 | W10: 331421
A11: Electricity, gas and water | B11: 4931.5593 | C11: 6092.0849 | D11: 6672.2839 | E11: 6734.4574 | F11: 7771.8523 | G11: 8178.2229 | H11: 8218.5575 | I11: 9880.1725 | J11: 10845.981 | K11: 11293.148 | L11: 12450.817 | M11: 13843.832 | N11: 15459.94 | O11: 17622.518 | P11: 20006.322 | Q11: 22091 | R11: 26054 | S11: 29475 | T11: 32835 | U11: 35433 | V11: 38665 | W11: 41913
A12: Construction | B12: 10982.594 | C12: 11490.825 | D12: 12364.923 | E12: 12488.268 | F12: 12593.211 | G12: 12878.723 | H12: 13138.057 | I12: 13824 | J12: 15588 | K12: 17460 | L12: 20023 | M12: 23600 | N12: 32229 | O12: 37604 | P12: 41938 | Q12: 44287 | R12: 48005 | S12: 52621 | T12: 58488 | U12: 63723 | V12: 68635 | W12: 73715
A13: Tertiary industries | B13: =SUM(B14:B18) -> 178693.95 | C13: =SUM(C14:C18) -> 205138.87 | D13: =SUM(D14:D18) -> 229736.76 | E13: =SUM(E14:E18) -> 252139.48 | F13: =SUM(F14:F18) -> 276613.92 | G13: =SUM(G14:G18) -> 304138.73 | H13: =SUM(H14:H18) -> 326487.75 | I13: =SUM(I14:I18) -> 361720.18 | ... W13: =SUM(W14:W18) -> 1435189
A14: Wholesale & retail trade; hotels & restaurants | B14: 35741.941 | C14: 38850.393 | D14: 42607.526 | E14: 46574.957 | F14: 55069.419 | G14: 62196.36 | H14: 62705.767 | I14: 67707 | J14: 75041 | K14: 84180 | L14: 92397.479 | M14: 104592.45 | N14: 113750.33 | O14: 126628.86 | P14: 134300.63 | Q14: 148043 | R14: 163163 | S14: 179360 | T14: 197755 | U14: 215456 | V14: 230424 | W14: 248065
A15: Transport , storage and communication | B15: 22531.779 | C15: 25579.974 | D15: 27849.883 | E15: 30054.171 | F15: 31415.79 | G15: 33962.871 | H15: 36600.334 | I15: 38048 | J15: 42313 | K15: 46788 | L15: 51135 | M15: 56134.428 | N15: 61219 | O15: 65628 | P15: 68776 | Q15: 74663 | R15: 82690 | S15: 89580 | T15: 101478 | U15: 110768 | V15: 119417 | W15: 128588
A16: Finance, real estate and business services | B16: 28385.911 | C16: 31997.583 | D16: 37110.609 | E16: 43775.655 | F16: 49087.224 | G16: 55085.563 | H16: 63471.253 | I16: 74261.179 | J16: 84449.821 | K16: 98008.343 | L16: 114144.01 | M16: 130444.73 | N16: 152782.38 | O16: 171442.74 | P16: 175083.83 | Q16: 196298 | R16: 218250 | S16: 236194 | T16: 259105 | U16: 285218 | V16: 311025 | W16: 337861
A17: Personal services | B17: 20013.317 | C17: 22419.424 | D17: 25752.742 | E17: 28207.701 | F17: 31643.491 | G17: 36446.939 | H17: 40006.401 | I17: 45700 | J17: 50781 | K17: 55241 | L17: 60863 | M17: 66255 | N17: 74786 | O17: 81043 | P17: 85246 | Q17: 90425 | R17: 97805 | S17: 105951 | T17: 113797 | U17: 122824 | V17: 131984 | W17: 141914
A18: General government services | B18: 72021 | C18: 86291.5 | D18: 96416 | E18: 103527 | F18: 109398 | G18: 116447 | H18: 123704 | I18: 136004 | J18: 151039 | K18: 166287 | L18: 181765 | M18: 196420 | N18: 220257 | O18: 257245 | P18: 301744 | Q18: 347326 | R18: 387618 | S18: 418879 | T18: 461218 | U18: 506693 | V18: 539067 | W18: 578761
A19: Annual Gross Operating Surplus | B19: =B13+B9+B6 -> 276511.71 | C19: =C13+C9+C6 -> 310039.39 | D19: =D13+D9+D6 -> 342269.73 | E19: =E13+E9+E6 -> 376036.26 | F19: =F13+F9+F6 -> 408264.32 | G19: =G13+G9+G6 -> 446672.13 | H19: =H13+H9+H6 -> 478661.64 | I19: =I13+I9+I6 -> 532330.18 | ... W19: =W13+W9+W6 -> 2051329
A20: 0 | B20: 0 | C20: 0 | D20: 0 | E20: 0 | F20: 0 | G20: 0 | H20: 0 | I20: 0 | J20: 0 | K20: 0 | L20: 0 | M20: 0 | N20: 0 | O20: 0 | P20: 0 | Q20: 0 | R20: 0 | S20: 0 | T20: 1 | U20: 2 | V20: 3 | W20: 4
A21: SA - Annual Compensation of Employees | B21: =B19+B20 -> 276511.71 | C21: =C19+C20 -> 310039.39 | D21: =D19+D20 -> 342269.73 | E21: =E19+E20 -> 376036.26 | F21: =F19+F20 -> 408264.32 | G21: =G19+G20 -> 446672.13 | H21: =H19+H20 -> 478661.64 | I21: =I19+I20 -> 532330.18 | ... W21: =W19+W20 -> 2051333
A23: KZN – Annual Compensation of Employees
A24: Rand million
A25: Provincial Industry | B25: 1995 | C25: 1996 | D25: 1997 | E25: 1998 | F25: 1999 | G25: 2000 | H25: 2001 | I25: 2002 | J25: 2003 | K25: 2004 | L25: 2005 | M25: 2006 | N25: 2007 | O25: 2008 | P25: 2009 | Q25: 2010 | R25: =R5 -> 2011 | S25: =S5 -> 2012 | T25: =T5 -> 2013 | U25: =U5 -> 2014 | V25: =V5 -> 2015 | W25: =W5 -> 2016
A26: Primary Industries | B26: =B27+B28 -> 2509.9226 | C26: =C27+C28 -> 2587.6718 | D26: =D27+D28 -> 2767.2256 | E26: =E27+E28 -> 3206.5682 | F26: =F27+F28 -> 3172.0913 | G26: =G27+G28 -> 3378.815 | H26: =H27+H28 -> 3727.386 | I26: =I27+I28 -> 4201.2729 | ... W26: =W27+W28 -> 12601.193
A27: Agriculture, forestry and fishing | B27: =B7*B46/100 -> 1832.0561 | C27: =C7*C46/100 -> 1839.0796 | D27: =D7*D46/100 -> 1945.0687 | E27: =E7*E46/100 -> 2336.2245 | F27: =F7*F46/100 -> 2260.5292 | G27: =G7*G46/100 -> 2385.6993 | H27: =H7*H46/100 -> 2618.0819 | I27: =I7*I46/100 -> 2981.6062 | ... W27: =W7*W46/100 -> 7798.1501
A28: Mining and quarrying | B28: =B8*B47/100 -> 677.86645 | C28: =C8*C47/100 -> 748.5922 | D28: =D8*D47/100 -> 822.15694 | E28: =E8*E47/100 -> 870.34372 | F28: =F8*F47/100 -> 911.56214 | G28: =G8*G47/100 -> 993.11563 | H28: =H8*H47/100 -> 1109.3041 | I28: =I8*I47/100 -> 1219.6667 | ... W28: =W8*W47/100 -> 4803.0434
A29: Secondary Industries | B29: =B30+B31+B32 -> 15045.481 | C29: =C30+C31+C32 -> 16000.612 | D29: =D30+D31+D32 -> 17079.232 | E29: =E30+E31+E32 -> 18703.646 | F29: =F30+F31+F32 -> 19666.309 | G29: =G30+G31+G32 -> 21407.429 | H29: =H30+H31+H32 -> 23188.498 | I29: =I30+I31+I32 -> 25125.565 | ... W29: =W30+W31+W32 -> 89767.217
A30: Manufacturing | B30: =B10*B49/100 -> 11683.554 | C30: =C10*C49/100 -> 12446.293 | D30: =D10*D49/100 -> 13179.163 | E30: =E10*E49/100 -> 14928.413 | F30: =F10*F49/100 -> 15825.138 | G30: =G10*G49/100 -> 17436.918 | H30: =H10*H49/100 -> 18595.989 | I30: =I10*I49/100 -> 20873.998 | ... W30: =W10*W49/100 -> 69172.608
A31: Electricity, gas and water | B31: =B11*B50/100 -> 771.78617 | C31: =C11*C50/100 -> 943.83975 | D31: =D11*D50/100 -> 1029.1923 | E31: =E11*E50/100 -> 1040.8716 | F31: =F11*F50/100 -> 1205.1277 | G31: =G11*G50/100 -> 1286.9081 | H31: =H11*H50/100 -> 1325.8332 | I31: =I11*I50/100 -> 1602.4381 | ... W31: =W11*W50/100 -> 6577.7494
A32: Construction | B32: =B12*B51/100 -> 2590.1407 | C32: =C12*C51/100 -> 2610.4793 | D32: =D12*D51/100 -> 2870.8764 | E32: =E12*E51/100 -> 2734.3618 | F32: =F12*F51/100 -> 2636.0437 | G32: =G12*G51/100 -> 2683.6023 | H32: =H12*H51/100 -> 3266.6757 | I32: =I12*I51/100 -> 2649.1286 | ... W32: =W12*W51/100 -> 14016.859
A33: Tertiary industries | B33: =SUM(B34:B38) -> 28363.395 | C33: =SUM(C34:C38) -> 32597.671 | D33: =SUM(D34:D38) -> 35849.875 | E33: =SUM(E34:E38) -> 39654.809 | F33: =SUM(F34:F38) -> 42903.619 | G33: =SUM(G34:G38) -> 47001.685 | H33: =SUM(H34:H38) -> 50960.547 | I33: =SUM(I34:I38) -> 56114.029 | ... W33: =SUM(W34:W38) -> 222730.65
A34: Wholesale & retail trade; hotels & restaurants | B34: =B14*B53/100 -> 5512.6527 | C34: =C14*C53/100 -> 5908.1282 | D34: =D14*D53/100 -> 6489.4429 | E34: =E14*E53/100 -> 7064.3656 | F34: =F14*F53/100 -> 8330.335 | G34: =G14*G53/100 -> 9443.2156 | H34: =H14*H53/100 -> 10072.884 | I34: =I14*I53/100 -> 10892.144 | ... W34: =W14*W53/100 -> 40801.772
A35: Transport , storage and communication | B35: =B15*B54/100 -> 4999.4286 | C35: =C15*C54/100 -> 5593.7582 | D35: =D15*D54/100 -> 5979.6215 | E35: =E15*E54/100 -> 6406.0388 | F35: =F15*F54/100 -> 6594.4257 | G35: =G15*G54/100 -> 7003.7401 | H35: =H15*H54/100 -> 7474.2472 | I35: =I15*I54/100 -> 7795.1944 | ... W35: =W15*W54/100 -> 26941.661
A36: Finance, real estate and business services | B36: =B16*B55/100 -> 3861.6737 | C36: =C16*C55/100 -> 4359.8616 | D36: =D16*D55/100 -> 5029.8344 | E36: =E16*E55/100 -> 5981.4107 | F36: =F16*F55/100 -> 6773.0282 | G36: =G16*G55/100 -> 7423.24 | H36: =H16*H55/100 -> 8283.8773 | I36: =I16*I55/100 -> 9580.4864 | ... W36: =W16*W55/100 -> 45561.437
A37: Personal services | B37: =B17*B56/100 -> 3309.2558 | C37: =C17*C56/100 -> 3706.7321 | D37: =D17*D56/100 -> 4256.3362 | E37: =E17*E56/100 -> 4662.2427 | F37: =F17*F56/100 -> 5219.2918 | G37: =G17*G56/100 -> 6005.1939 | H37: =H17*H56/100 -> 6593.4497 | I37: =I17*I56/100 -> 7527.8774 | ... W37: =W17*W56/100 -> 23423.027
A38: General government services | B38: =B18*B57/100 -> 10680.384 | C38: =C18*C57/100 -> 13029.191 | D38: =D18*D57/100 -> 14094.64 | E38: =E18*E57/100 -> 15540.751 | F38: =F18*F57/100 -> 15986.538 | G38: =G18*G57/100 -> 17126.295 | H38: =H18*H57/100 -> 18536.089 | I38: =I18*I57/100 -> 20318.327 | ... W38: =W18*W57/100 -> 86002.751
A39: =A21 -> SA - Annual Compensation of Employees | B39: =B33+B29+B26 -> 45918.799 | C39: =C33+C29+C26 -> 51185.955 | D39: =D33+D29+D26 -> 55696.332 | E39: =E33+E29+E26 -> 61565.024 | F39: =F33+F29+F26 -> 65742.019 | G39: =G33+G29+G26 -> 71787.928 | H39: =H33+H29+H26 -> 77876.431 | I39: =I33+I29+I26 -> 85440.867 | ... W39: =W33+W29+W26 -> 325099.06
A40: Taxes less subsidies on products | B40: 0 | C40: 0 | D40: 0 | E40: 0 | F40: 0 | G40: 0 | H40: 0 | I40: 0 | J40: 0 | K40: 0 | L40: 0 | M40: 0 | N40: 0 | O40: 0 | P40: 1 | Q40: 2 | R40: 3 | S40: 4 | T40: 5 | U40: 6 | V40: 7 | W40: 8
A41: KZN - Annual Compensation of Employees | B41: =B40+B39 -> 45918.799 | C41: =C40+C39 -> 51185.955 | D41: =D40+D39 -> 55696.332 | E41: =E40+E39 -> 61565.024 | F41: =F40+F39 -> 65742.019 | G41: =G40+G39 -> 71787.928 | H41: =H40+H39 -> 77876.431 | I41: =I40+I39 -> 85440.867 | ... W41: =W40+W39 -> 325107.06
A43: Structure Relationship
A44: National - Provincial Structure | B44: 1995 | C44: 1996 | D44: 1997 | E44: 1998 | F44: 1999 | G44: 2000 | H44: 2001 | I44: 2002 | J44: 2003 | K44: 2004 | L44: 2005 | M44: 2006 | N44: 2007 | O44: 2008 | P44: 2009 | Q44: 2010 | R44: =R25 -> 2011 | S44: =S25 -> 2012 | T44: =T25 -> 2013 | U44: =U25 -> 2014 | V44: =V25 -> 2015 | W44: =W25 -> 2016
A45: Primary Industries | B45: =B26/B6*100 -> 10.040352 | C45: =C26/C6*100 -> 9.6179118 | D45: =D26/D6*100 -> 9.3819974 | E45: =E26/E6*100 -> 10.021634 | F45: =F26/F6*100 -> 9.0550227 | G45: =G26/G6*100 -> 8.9195245 | H45: =H26/H6*100 -> 8.9812745 | I45: =I26/I6*100 -> 9.0346573 | ... W45: =W26/W6*100 -> 7.4523147 | X45: =W45+($W45-$U45) -> 7.4180654
A46: Agriculture, forestry and fishing | B46: 28.484108 | C46: 26.516077 | D46: 26.162531 | E46: 27.989526 | F46: 25.552196 | G46: 25.255943 | H46: 26.134989 | I46: 25.57406 | J46: 26.908553 | K46: 26.787345 | L46: 24.433353 | M46: 26.064321 | N46: 26.660137 | O46: 27.142303 | P46: 26.73888 | Q46: 27.000808 | R46: 29.095245 | S46: =AVERAGE(M46:R46) -> 27.116949 | T46: =AVERAGE(N46:S46) -> 27.292387 | U46: =AVERAGE(O46:T46) -> 27.397762 | V46: =AVERAGE(P46:U46) -> 27.440338 | W46: =AVERAGE(Q46:V46) -> 27.557248 | X46: =W46+($W46-$U46) -> 27.716734
A47: Mining and quarrying | B47: 3.6510194 | C47: 3.7487716 | D47: 3.7268282 | E47: 3.6801503 | F47: 3.4812939 | G47: 3.4925793 | H47: 3.5233661 | I47: 3.5004613 | J47: 3.5842707 | K47: 3.6016847 | L47: 3.342014 | M47: 3.2495596 | N47: 3.3518934 | O47: 3.3093611 | P47: 3.3935352 | Q47: 3.4565864 | R47: 3.4511954 | S47: =AVERAGE(M47:R47) -> 3.3686885 | T47: =AVERAGE(N47:S47) -> 3.3885433 | U47: =AVERAGE(O47:T47) -> 3.3946516 | V47: =AVERAGE(P47:U47) -> 3.4088667 | W47: =AVERAGE(Q47:V47) -> 3.411422 | X47: =W47+($W47-$U47) -> 3.4281923
A48: Secondary Industries | B48: =B29/B9*100 -> 20.661359 | C48: =C29/C9*100 -> 20.51471 | D48: =D29/D9*100 -> 20.567993 | E48: =E29/E9*100 -> 20.352101 | F48: =F29/F9*100 -> 20.354472 | G48: =G29/G9*100 -> 20.455767 | H48: =H29/H9*100 -> 20.952427 | I48: =I29/I9*100 -> 20.244878 | ... W48: =W29/W9*100 -> 20.07995 | X48: =W48+($W48-$U48) -> 20.087886
A49: Manufacturing | B49: 20.531588 | C49: 20.602049 | D49: 20.592216 | E49: 20.540598 | F49: 20.753178 | G49: 20.85872 | H49: 20.820557 | I49: 20.789989 | J49: 20.917481 | K49: 20.877356 | L49: 20.870402 | M49: 20.791574 | N49: 20.805721 | O49: 20.789956 | P49: 20.841308 | Q49: 20.92156 | R49: 20.89447 | S49: =AVERAGE(M49:R49) -> 20.840765 | T49: =AVERAGE(N49:S49) -> 20.848963 | U49: =AVERAGE(O49:T49) -> 20.85617 | V49: =AVERAGE(P49:U49) -> 20.867206 | W49: =AVERAGE(Q49:V49) -> 20.871522 | X49: =W49+($W49-$U49) -> 20.886874
A50: Electricity, gas and water | B50: 15.649942 | C50: 15.492886 | D50: 15.424888 | E50: 15.455909 | F50: 15.506313 | G50: 15.735791 | H50: 16.132189 | I50: 16.218726 | J50: 15.917855 | K50: 16.072764 | L50: 16.250491 | M50: 16.293038 | N50: 16.280177 | O50: 16.120778 | P50: 15.707339 | Q50: 15.519518 | R50: 15.462636 | S50: =AVERAGE(M50:R50) -> 15.897248 | T50: =AVERAGE(N50:S50) -> 15.831283 | U50: =AVERAGE(O50:T50) -> 15.756467 | V50: =AVERAGE(P50:U50) -> 15.695748 | W50: =AVERAGE(Q50:V50) -> 15.693817 | X50: =W50+($W50-$U50) -> 15.631166
A51: Construction | B51: 23.584052 | C51: 22.717944 | D51: 23.217908 | E51: 21.895444 | F51: 20.932261 | G51: 20.837487 | H51: 24.864223 | I51: 19.163257 | J51: 18.845883 | K51: 18.966101 | L51: 19.260466 | M51: 18.796396 | N51: 18.734172 | O51: 18.779613 | P51: 18.944957 | Q51: 19.120066 | R51: 19.134847 | S51: =AVERAGE(M51:R51) -> 18.918342 | T51: =AVERAGE(N51:S51) -> 18.938666 | U51: =AVERAGE(O51:T51) -> 18.972749 | V51: =AVERAGE(P51:U51) -> 19.004938 | W51: =AVERAGE(Q51:V51) -> 19.014935 | X51: =W51+($W51-$U51) -> 19.057121
A52: Tertiary industries | B52: =B33/B13*100 -> 15.872611 | C52: =C33/C13*100 -> 15.890538 | D52: =D33/D13*100 -> 15.604762 | E52: =E33/E13*100 -> 15.72733 | F52: =F33/F13*100 -> 15.510289 | G52: =G33/G13*100 -> 15.454028 | H52: =H33/H13*100 -> 15.608716 | I52: =I33/I13*100 -> 15.513104 | ... W52: =W33/W13*100 -> 15.519256 | X52: =W52+($W52-$U52) -> 15.525659
A53: Wholesale & retail trade; hotels & restaurants | B53: 15.423484 | C53: 15.207384 | D53: 15.230743 | E53: 15.167734 | F53: 15.126971 | G53: 15.182907 | H53: 16.063728 | I53: 16.087176 | J53: 16.213031 | K53: 16.219025 | L53: 16.13143 | M53: 16.198449 | N53: 16.273968 | O53: 16.227608 | P53: 16.444858 | Q53: 16.457494 | R53: 16.60343 | S53: =AVERAGE(M53:R53) -> 16.367635 | T53: =AVERAGE(N53:S53) -> 16.395832 | U53: =AVERAGE(O53:T53) -> 16.416143 | V53: =AVERAGE(P53:U53) -> 16.447565 | W53: =AVERAGE(Q53:V53) -> 16.448016 | X53: =W53+($W53-$U53) -> 16.47989
A54: Transport , storage and communication | B54: 22.188343 | C54: 21.867725 | D54: 21.470903 | E54: 21.314974 | F54: 20.9908 | G54: 20.621755 | H54: 20.421254 | I54: 20.48779 | J54: 20.611702 | K54: 20.531451 | L54: 20.652592 | M54: 20.669165 | N54: 20.821456 | O54: 20.866297 | P54: 20.927812 | Q54: 21.03568 | R54: 20.985981 | S54: =AVERAGE(M54:R54) -> 20.884398 | T54: =AVERAGE(N54:S54) -> 20.920271 | U54: =AVERAGE(O54:T54) -> 20.93674 | V54: =AVERAGE(P54:U54) -> 20.94848 | W54: =AVERAGE(Q54:V54) -> 20.951925 | X54: =W54+($W54-$U54) -> 20.96711
A55: Finance, real estate and business services | B55: 13.604192 | C55: 13.625597 | D55: 13.553629 | E55: 13.663784 | F55: 13.797945 | G55: 13.475836 | H55: 13.051385 | I55: 12.90107 | J55: 13.005614 | K55: 13.026333 | L55: 13.635085 | M55: 13.388254 | N55: 13.396457 | O55: 13.429066 | P55: 13.507346 | Q55: 13.50698 | R55: 13.511602 | S55: =AVERAGE(M55:R55) -> 13.456618 | T55: =AVERAGE(N55:S55) -> 13.468012 | U55: =AVERAGE(O55:T55) -> 13.479937 | V55: =AVERAGE(P55:U55) -> 13.488416 | W55: =AVERAGE(Q55:V55) -> 13.485261 | X55: =W55+($W55-$U55) -> 13.490584
A56: Personal services | B56: 16.535269 | C56: 16.533574 | D56: 16.527701 | E56: 16.528262 | F56: 16.494046 | G56: 16.476538 | H56: 16.480987 | I56: 16.472379 | J56: 16.465876 | K56: 16.465285 | L56: 16.39069 | M56: 16.419302 | N56: 16.403252 | O56: 16.372564 | P56: 16.491968 | Q56: 16.530521 | R56: 16.574026 | S56: =AVERAGE(M56:R56) -> 16.465272 | T56: =AVERAGE(N56:S56) -> 16.472934 | U56: =AVERAGE(O56:T56) -> 16.484548 | V56: =AVERAGE(P56:U56) -> 16.503211 | W56: =AVERAGE(Q56:V56) -> 16.505085 | X56: =W56+($W56-$U56) -> 16.525623
A57: General government services | B57: 14.829542 | C57: 15.099043 | D57: 14.618569 | E57: 15.011303 | F57: 14.61319 | G57: 14.707373 | H57: 14.984228 | I57: 14.939507 | J57: 14.856677 | K57: 14.774464 | L57: 14.80221 | M57: 14.790436 | N57: 14.831243 | O57: 14.823371 | P57: 14.837165 | Q57: 14.936146 | R57: 14.824858 | S57: =AVERAGE(M57:R57) -> 14.840537 | T57: =AVERAGE(N57:S57) -> 14.848887 | U57: =AVERAGE(O57:T57) -> 14.851827 | V57: =AVERAGE(P57:U57) -> 14.85657 | W57: =AVERAGE(Q57:V57) -> 14.859804 | X57: =W57+($W57-$U57) -> 14.867781
A58: All industries at basic prices | B58: =B39/B19*100 -> 16.606457 | C58: =C39/C19*100 -> 16.509501 | D58: =D39/D19*100 -> 16.272643 | E58: =E39/E19*100 -> 16.372097 | F58: =F39/F19*100 -> 16.102808 | G58: =G39/G19*100 -> 16.071728 | H58: =H39/H19*100 -> 16.26962 | I58: =I39/I19*100 -> 16.050352 | ... W58: =W39/W19*100 -> 15.848216 | X58: =W58+($W58-$U58) -> 15.868148
A59: Taxes less subsidies on products | B59: =B40/B20*100 -> #DIV/0! | C59: =C40/C20*100 -> #DIV/0! | D59: =D40/D20*100 -> #DIV/0! | E59: =E40/E20*100 -> #DIV/0! | F59: =F40/F20*100 -> #DIV/0! | G59: =G40/G20*100 -> #DIV/0! | H59: =H40/H20*100 -> #DIV/0! | I59: =I40/I20*100 -> #DIV/0! | ... W59: =W40/W20*100 -> 200 | X59: =W59+($W59-$U59) -> 100
A60: =A41 -> KZN - Annual Compensation of Employees | B60: =B41/B21*100 -> 16.606457 | C60: =C41/C21*100 -> 16.509501 | D60: =D41/D21*100 -> 16.272643 | E60: =E41/E21*100 -> 16.372097 | F60: =F41/F21*100 -> 16.102808 | G60: =G41/G21*100 -> 16.071728 | H60: =H41/H21*100 -> 16.26962 | I60: =I41/I21*100 -> 16.050352 | ... W60: =W41/W21*100 -> 15.848575 | X60: =W60+($W60-$U60) -> 15.868546
A62: SA – Annual Compensation of Employees
A63: PA Change
A64: National Industry | C64: 1996 | D64: 1997 | E64: 1998 | F64: 1999 | G64: 2000 | H64: 2001 | I64: 2002 | J64: 2003 | K64: 2004 | L64: 2005 | M64: 2006 | N64: 2007 | O64: 2008 | P64: 2009 | Q64: 2010 | R64: 2011 | S64: 2012 | T64: 2013 | U64: 2014 | V64: 2015 | W64: 2016
A65: Primary Industries | C65: =(C6-B6)/B6*100 -> 7.6259556 | D65: =(D6-C6)/C6*100 -> 9.6278425 | E65: =(E6-D6)/D6*100 -> 8.4807481 | F65: =(F6-E6)/E6*100 -> 9.4848933 | G65: =(G6-F6)/F6*100 -> 8.1350721 | H65: =(H6-G6)/G6*100 -> 9.5578966 | I65: =(I6-H6)/H6*100 -> 12.047665 | J65: =(J6-I6)/I6*100 -> 6.3158088 | ... W65: =(W6-V6)/V6*100 -> 6.1469312
A66: Agriculture, forestry and fishing | C66: =(C7-B7)/B7*100 -> 7.8338427 | D66: =(D7-C7)/C7*100 -> 7.1923887 | E66: =(E7-D7)/D7*100 -> 12.270032 | F66: =(F7-E7)/E7*100 -> 5.9895004 | G66: =(G7-F7)/F7*100 -> 6.7751607 | H66: =(H7-G7)/G7*100 -> 6.0495415 | I66: =(I7-H7)/H7*100 -> 16.383037 | J66: =(J7-I7)/I7*100 -> 15.195595 | ... W66: =(W7-V7)/V7*100 -> 5.6013733
A67: Mining and quarrying | C67: =(C8-B8)/B8*100 -> 7.5539388 | D67: =(D8-C8)/C8*100 -> 10.473734 | E67: =(E8-D8)/D8*100 -> 7.2037302 | F67: =(F8-E8)/E8*100 -> 10.718537 | G67: =(G8-F8)/F8*100 -> 8.5945312 | H67: =(H8-G8)/G8*100 -> 10.723369 | I67: =(I8-H8)/H8*100 -> 10.668251 | J67: =(J8-I8)/I8*100 -> 3.3445722 | ... W67: =(W8-V8)/V8*100 -> 6.257264
A68: Secondary Industries | C68: =(C9-B9)/B9*100 -> 7.108526 | D68: =(D9-C9)/C9*100 -> 6.4645927 | E68: =(E9-D9)/D9*100 -> 10.672724 | F68: =(F9-E9)/E9*100 -> 5.1346832 | G68: =(G9-F9)/F9*100 -> 8.3142758 | H68: =(H9-G9)/G9*100 -> 5.7522353 | I68: =(I9-H9)/H9*100 -> 12.140473 | J68: =(J9-I9)/I9*100 -> 6.0098956 | ... W68: =(W9-V9)/V9*100 -> 8.4493922
A69: Manufacturing | C69: =(C10-B10)/B10*100 -> 6.1639816 | D69: =(D10-C10)/C10*100 -> 5.9388224 | E69: =(E10-D10)/D10*100 -> 13.55749 | F69: =(F10-E10)/E10*100 -> 4.9209833 | G69: =(G10-F10)/F10*100 -> 9.6274187 | H69: =(H10-G10)/G10*100 -> 6.8426993 | I69: =(I10-H10)/H10*100 -> 12.415046 | J69: =(J10-I10)/I10*100 -> 4.7099361 | ... W69: =(W10-V10)/V10*100 -> 8.6914886
A70: Electricity, gas and water | C70: =(C11-B11)/B11*100 -> 23.532632 | D70: =(D11-C11)/C11*100 -> 9.5238162 | E70: =(E11-D11)/D11*100 -> 0.9318167 | F70: =(F11-E11)/E11*100 -> 15.404283 | G70: =(G11-F11)/F11*100 -> 5.2287489 | H70: =(H11-G11)/G11*100 -> 0.49319532 | I70: =(I11-H11)/H11*100 -> 20.217841 | J70: =(J11-I11)/I11*100 -> 9.7752185 | ... W70: =(W11-V11)/V11*100 -> 8.4003621
A71: Construction | C71: =(C12-B12)/B12*100 -> 4.627609 | D71: =(D12-C12)/C12*100 -> 7.6069178 | E71: =(E12-D12)/D12*100 -> 0.99753855 | F71: =(F12-E12)/E12*100 -> 0.84033338 | G71: =(G12-F12)/F12*100 -> 2.2671918 | H71: =(H12-G12)/G12*100 -> 2.0136574 | I71: =(I12-H12)/H12*100 -> 5.2210414 | J71: =(J12-I12)/I12*100 -> 12.760417 | ... W71: =(W12-V12)/V12*100 -> 7.4014716
A72: Tertiary industries | C72: =(C13-B13)/B13*100 -> 14.799005 | D72: =(D13-C13)/C13*100 -> 11.990846 | E72: =(E13-D13)/D13*100 -> 9.7514758 | F72: =(F13-E13)/E13*100 -> 9.7067066 | G72: =(G13-F13)/F13*100 -> 9.9506232 | H72: =(H13-G13)/G13*100 -> 7.3482982 | I72: =(I13-H13)/H13*100 -> 10.791347 | J72: =(J13-I13)/I13*100 -> 11.584546 | ... W72: =(W13-V13)/V13*100 -> 7.7536363
A73: Wholesale & retail trade; hotels & restaurants | C73: =(C14-B14)/B14*100 -> 8.696931 | D73: =(D14-C14)/C14*100 -> 9.6707724 | E73: =(E14-D14)/D14*100 -> 9.3115741 | F73: =(F14-E14)/E14*100 -> 18.23826 | G73: =(G14-F14)/F14*100 -> 12.941741 | H73: =(H14-G14)/G14*100 -> 0.81902933 | I73: =(I14-H14)/H14*100 -> 7.9757148 | J73: =(J14-I14)/I14*100 -> 10.831967 | ... W73: =(W14-V14)/V14*100 -> 7.6558865
A74: Transport , storage and communication | C74: =(C15-B15)/B15*100 -> 13.528423 | D74: =(D15-C15)/C15*100 -> 8.8737745 | E74: =(E15-D15)/D15*100 -> 7.9148929 | F74: =(F15-E15)/E15*100 -> 4.5305489 | G74: =(G15-F15)/F15*100 -> 8.107647 | H74: =(H15-G15)/G15*100 -> 7.7657237 | I74: =(I15-H15)/H15*100 -> 3.9553348 | J74: =(J15-I15)/I15*100 -> 11.209525 | ... W74: =(W15-V15)/V15*100 -> 7.6798111
A75: Finance, real estate and business services | C75: =(C16-B16)/B16*100 -> 12.723469 | D75: =(D16-C16)/C16*100 -> 15.979412 | E75: =(E16-D16)/D16*100 -> 17.959947 | F75: =(F16-E16)/E16*100 -> 12.133616 | G75: =(G16-F16)/F16*100 -> 12.219754 | H75: =(H16-G16)/G16*100 -> 15.223027 | I75: =(I16-H16)/H16*100 -> 16.999707 | J75: =(J16-I16)/I16*100 -> 13.72001 | ... W75: =(W16-V16)/V16*100 -> 8.6282453
A76: Personal services | C76: =(C17-B17)/B17*100 -> 12.022533 | D76: =(D17-C17)/C17*100 -> 14.867989 | E76: =(E17-D17)/D17*100 -> 9.5328067 | F76: =(F17-E17)/E17*100 -> 12.180324 | G76: =(G17-F17)/F17*100 -> 15.179894 | H76: =(H17-G17)/G17*100 -> 9.7661471 | I76: =(I17-H17)/H17*100 -> 14.231721 | J76: =(J17-I17)/I17*100 -> 11.118162 | ... W76: =(W17-V17)/V17*100 -> 7.5236392
... A79: Taxes less subsidies on products | C79: =(C20-B20)/B20*100 -> #DIV/0! | D79: =(D20-C20)/C20*100 -> #DIV/0! | E79: =(E20-D20)/D20*100 -> #DIV/0! | F79: =(F20-E20)/E20*100 -> #DIV/0! | G79: =(G20-F20)/F20*100 -> #DIV/0! | H79: =(H20-G20)/G20*100 -> #DIV/0! | I79: =(I20-H20)/H20*100 -> #DIV/0! | J79: =(J20-I20)/I20*100 -> #DIV/0! | ... W79: =(W20-V20)/V20*100 -> 33.333333
A80: =A21 -> SA - Annual Compensation of Employees | C80: =(C21-B21)/B21*100 -> 12.125228 | D80: =(D21-C21)/C21*100 -> 10.395563 | E80: =(E21-D21)/D21*100 -> 9.8654747 | F80: =(F21-E21)/E21*100 -> 8.570466 | G80: =(G21-F21)/F21*100 -> 9.407584 | H80: =(H21-G21)/G21*100 -> 7.1617417 | I80: =(I21-H21)/H21*100 -> 11.212208 | J80: =(J21-I21)/I21*100 -> 9.8246129 | ... W80: =(W21-V21)/V21*100 -> 7.769888
A82: KZN – Annual Compensation of Employees
A83: PA Change
A84: Provincial Industry | C84: 1996 | D84: 1997 | E84: 1998 | F84: 1999 | G84: 2000 | H84: 2001 | I84: 2002 | J84: 2003 | K84: 2004 | L84: 2005 | M84: 2006 | N84: 2007 | O84: 2008 | P84: 2009 | Q84: 2010 | R84: 2011 | S84: 2012 | T84: 2013 | U84: 2014 | V84: 2015 | W84: 2016
A85: Primary Industries | C85: =(C26-B26)/B26*100 -> 3.0976725 | D85: =(D26-C26)/C26*100 -> 6.9388195 | E85: =(E26-D26)/D26*100 -> 15.876645 | F85: =(F26-E26)/E26*100 -> -1.0751971 | G85: =(G26-F26)/F26*100 -> 6.5169523 | H85: =(H26-G26)/G26*100 -> 10.316368 | I85: =(I26-H26)/H26*100 -> 12.713653 | J85: =(J26-I26)/I26*100 -> 16.739463 | ... W85: =(W26-V26)/V26*100 -> 6.1599758
A86: Agriculture, forestry and fishing | C86: =(C27-B27)/B27*100 -> 0.38336369 | D86: =(D27-C27)/C27*100 -> 5.7631617 | E86: =(E27-D27)/D27*100 -> 20.110128 | F86: =(F27-E27)/E27*100 -> -3.2400717 | G86: =(G27-F27)/F27*100 -> 5.5372074 | H86: =(H27-G27)/G27*100 -> 9.7406475 | I86: =(I27-H27)/H27*100 -> 13.885138 | J86: =(J27-I27)/I27*100 -> 21.206673 | ... W86: =(W27-V27)/V27*100 -> 6.0512888
A87: Mining and quarrying | C87: =(C28-B28)/B28*100 -> 10.433581 | D87: =(D28-C28)/C28*100 -> 9.8270784 | E87: =(E28-D28)/D28*100 -> 5.8610196 | F87: =(F28-E28)/E28*100 -> 4.7358785 | G87: =(G28-F28)/F28*100 -> 8.9465639 | H87: =(H28-G28)/G28*100 -> 11.699386 | I87: =(I28-H28)/H28*100 -> 9.9488165 | J87: =(J28-I28)/I28*100 -> 5.81889 | ... W87: =(W28-V28)/V28*100 -> 6.3369136
A88: Secondary Industries | C88: =(C29-B29)/B29*100 -> 6.3482957 | D88: =(D29-C29)/C29*100 -> 6.7411141 | E88: =(E29-D29)/D29*100 -> 9.5110491 | F88: =(F29-E29)/E29*100 -> 5.1469273 | G88: =(G29-F29)/F29*100 -> 8.8533105 | H88: =(H29-G29)/G29*100 -> 8.3198649 | I88: =(I29-H29)/H29*100 -> 8.353567 | J88: =(J29-I29)/I29*100 -> 6.0884821 | ... W88: =(W29-V29)/V29*100 -> 8.4919821
A89: Manufacturing | C89: =(C30-B30)/B30*100 -> 6.5283172 | D89: =(D30-C30)/C30*100 -> 5.8882576 | E89: =(E30-D30)/D30*100 -> 13.272842 | F89: =(F30-E30)/E30*100 -> 6.0068337 | G89: =(G30-F30)/F30*100 -> 10.184938 | H89: =(H30-G30)/G30*100 -> 6.6472217 | I89: =(I30-H30)/H30*100 -> 12.250001 | J89: =(J30-I30)/I30*100 -> 5.3520584 | ... W89: =(W30-V30)/V30*100 -> 8.7139712
A90: Electricity, gas and water | C90: =(C31-B31)/B31*100 -> 22.292908 | D90: =(D31-C31)/C31*100 -> 9.0431192 | E90: =(E31-D31)/D31*100 -> 1.1348018 | F90: =(F31-E31)/E31*100 -> 15.780635 | G90: =(G31-F31)/F31*100 -> 6.7860319 | H90: =(H31-G31)/G31*100 -> 3.0247017 | I90: =(I31-H31)/H31*100 -> 20.86272 | J90: =(J31-I31)/I31*100 -> 7.7387932 | ... W90: =(W31-V31)/V31*100 -> 8.3870207
A91: Construction | C91: =(C32-B32)/B32*100 -> 0.78523023 | D91: =(D32-C32)/C32*100 -> 9.9750711 | E91: =(E32-D32)/D32*100 -> -4.7551562 | F91: =(F32-E32)/E32*100 -> -3.5956477 | G91: =(G32-F32)/F32*100 -> 1.8041633 | H91: =(H32-G32)/G32*100 -> 21.727266 | I91: =(I32-H32)/H32*100 -> -18.904449 | J91: =(J32-I32)/I32*100 -> 10.892924 | ... W91: =(W32-V32)/V32*100 -> 7.4579656
A92: Tertiary industries | C92: =(C33-B33)/B33*100 -> 14.928663 | D92: =(D33-C33)/C33*100 -> 9.9767984 | E92: =(E33-D33)/D33*100 -> 10.613522 | F92: =(F33-E33)/E33*100 -> 8.1927256 | G92: =(G33-F33)/F33*100 -> 9.5517953 | H92: =(H33-G33)/G33*100 -> 8.4228101 | I92: =(I33-H33)/H33*100 -> 10.112689 | J92: =(J33-I33)/I33*100 -> 11.68683 | ... W92: =(W33-V33)/V33*100 -> 7.7367531
A93: Wholesale & retail trade; hotels & restaurants | C93: =(C34-B34)/B34*100 -> 7.1739611 | D93: =(D34-C34)/C34*100 -> 9.8392354 | E93: =(E34-D34)/D34*100 -> 8.8593547 | F93: =(F34-E34)/E34*100 -> 17.920496 | G93: =(G34-F34)/F34*100 -> 13.359374 | H93: =(H34-G34)/G34*100 -> 6.6679456 | I93: =(I34-H34)/H34*100 -> 8.1333194 | J93: =(J34-I34)/I34*100 -> 11.699044 | ... W93: =(W34-V34)/V34*100 -> 7.6588395
A94: Transport , storage and communication | C94: =(C35-B35)/B35*100 -> 11.887952 | D94: =(D35-C35)/C35*100 -> 6.8981038 | E94: =(E35-D35)/D35*100 -> 7.1311766 | F94: =(F35-E35)/E35*100 -> 2.9407706 | G94: =(G35-F35)/F35*100 -> 6.2069756 | H94: =(H35-G35)/G35*100 -> 6.7179399 | I94: =(I35-H35)/H35*100 -> 4.2940402 | J94: =(J35-I35)/I35*100 -> 11.882131 | ... W94: =(W35-V35)/V35*100 -> 7.6975179
A95: Finance, real estate and business services | C95: =(C36-B36)/B36*100 -> 12.900829 | D95: =(D36-C36)/C36*100 -> 15.366837 | E95: =(E36-D36)/D36*100 -> 18.918641 | F95: =(F36-E36)/E36*100 -> 13.234629 | G95: =(G36-F36)/F36*100 -> 9.6000164 | H95: =(H36-G36)/G36*100 -> 11.593823 | I95: =(I36-H36)/H36*100 -> 15.652201 | J95: =(J36-I36)/I36*100 -> 14.641542 | ... W95: =(W36-V36)/V36*100 -> 8.6028362
A96: Personal services | C96: =(C37-B37)/B37*100 -> 12.011047 | D96: =(D37-C37)/C37*100 -> 14.827189 | E96: =(E37-D37)/D37*100 -> 9.536524 | F96: =(F37-E37)/E37*100 -> 11.948093 | G96: =(G37-F37)/F37*100 -> 15.057639 | H96: =(H37-G37)/G37*100 -> 9.7957835 | I96: =(I37-H37)/H37*100 -> 14.17206 | J96: =(J37-I37)/I37*100 -> 11.074291 | ... W96: =(W37-V37)/V37*100 -> 7.535848
... A99: Taxes less subsidies on products | C99: =(C40-B40)/B40*100 -> #DIV/0! | D99: =(D40-C40)/C40*100 -> #DIV/0! | E99: =(E40-D40)/D40*100 -> #DIV/0! | F99: =(F40-E40)/E40*100 -> #DIV/0! | G99: =(G40-F40)/F40*100 -> #DIV/0! | H99: =(H40-G40)/G40*100 -> #DIV/0! | I99: =(I40-H40)/H40*100 -> #DIV/0! | J99: =(J40-I40)/I40*100 -> #DIV/0! | ... W99: =(W40-V40)/V40*100 -> 14.285714
A100: =A60 -> KZN - Annual Compensation of Employees | C100: =(C41-B41)/B41*100 -> 11.470589 | D100: =(D41-C41)/C41*100 -> 8.8117479 | E100: =(E41-D41)/D41*100 -> 10.536944 | F100: =(F41-E41)/E41*100 -> 6.7846897 | G100: =G98 -> 9.196415 | H100: =(H41-G41)/G41*100 -> 8.4812349 | I100: =(I41-H41)/H41*100 -> 9.7133823 | J100: =(J41-I41)/I41*100 -> 10.288973 | K100: =(K41-J41)/J41*100 -> 9.5684575 | L100: =(L41-K41)/K41*100 -> 9.9152128 | M100: =(M41-L41)/L41*100 -> 10.6378 | N100: =(N41-M41)/M41*100 -> 14.047924 | O100: =(O41-N41)/N41*100 -> 13.295307 | ... W100: =(W41-V41)/V41*100 -> 7.8821563
A134: Primary Industries | B134: =B26/B$39*100 -> 5.4660023 | C134: =C26/C$39*100 -> 5.0554332 | D134: =D26/D$39*100 -> 4.9684163 | E134: =E26/E$39*100 -> 5.2084252 | F134: =F26/F$39*100 -> 4.8250591 | G134: =G26/G$39*100 -> 4.7066618 | H134: =H26/H$39*100 -> 4.7862825 | I134: =I26/I$39*100 -> 4.9171702 | ... P134: =P26/P$39*100 -> 4.2491856
A135: Agriculture, forestry and fishing | B135: =B27/B$39*100 -> 3.9897737 | C135: =C27/C$39*100 -> 3.5929379 | D135: =D27/D$39*100 -> 3.4922743 | E135: =E27/E$39*100 -> 3.7947269 | F135: =F27/F$39*100 -> 3.4384845 | G135: =G27/G$39*100 -> 3.3232598 | H135: =H27/H$39*100 -> 3.3618411 | I135: =I27/I$39*100 -> 3.4896722 | ... P135: =P27/P$39*100 -> 2.7923749
A136: Mining and quarrying | B136: =B28/B$39*100 -> 1.4762286 | C136: =C28/C$39*100 -> 1.4624953 | D136: =D28/D$39*100 -> 1.476142 | E136: =E28/E$39*100 -> 1.4136983 | F136: =F28/F$39*100 -> 1.3865746 | G136: =G28/G$39*100 -> 1.383402 | H136: =H28/H$39*100 -> 1.4244413 | I136: =I28/I$39*100 -> 1.427498 | ... P136: =P28/P$39*100 -> 1.4568107
A137: Secondary Industries | B137: =B29/B$39*100 -> 32.765406 | C137: =C29/C$39*100 -> 31.259771 | D137: =D29/D$39*100 -> 30.664913 | E137: =E29/E$39*100 -> 30.380312 | F137: =F29/F$39*100 -> 29.914367 | G137: =G29/G$39*100 -> 29.820374 | H137: =H29/H$39*100 -> 29.776015 | I137: =I29/I$39*100 -> 29.406964 | ... P137: =P29/P$39*100 -> 28.202374
A138: Manufacturing | B138: =B30/B$39*100 -> 25.443945 | C138: =C30/C$39*100 -> 24.315837 | D138: =D30/D$39*100 -> 23.662533 | E138: =E30/E$39*100 -> 24.248204 | F138: =F30/F$39*100 -> 24.071572 | G138: =G30/G$39*100 -> 24.289485 | H138: =H30/H$39*100 -> 23.878841 | I138: =I30/I$39*100 -> 24.430929 | ... P138: =P30/P$39*100 -> 21.906405
A139: Electricity, gas and water | B139: =B31/B$39*100 -> 1.680763 | C139: =C31/C$39*100 -> 1.8439428 | D139: =D31/D$39*100 -> 1.8478637 | E139: =E31/E$39*100 -> 1.6906866 | F139: =F31/F$39*100 -> 1.8331164 | G139: =G31/G$39*100 -> 1.7926525 | H139: =H31/H$39*100 -> 1.7024833 | I139: =I31/I$39*100 -> 1.8754937 | ... P139: =P31/P$39*100 -> 1.7844117
A140: Construction | B140: =B32/B$39*100 -> 5.6406979 | C140: =C32/C$39*100 -> 5.0999913 | D140: =D32/D$39*100 -> 5.1545161 | E140: =E32/E$39*100 -> 4.4414208 | F140: =F32/F$39*100 -> 4.0096787 | G140: =G32/G$39*100 -> 3.7382361 | H140: =H32/H$39*100 -> 4.194691 | I140: =I32/I$39*100 -> 3.1005405 | ... P140: =P32/P$39*100 -> 4.5115578
A141: Tertiary industries | B141: =B33/B$39*100 -> 61.768592 | C141: =C33/C$39*100 -> 63.684796 | D141: =D33/D$39*100 -> 64.36667 | E141: =E33/E$39*100 -> 64.411263 | F141: =F33/F$39*100 -> 65.260573 | G141: =G33/G$39*100 -> 65.472964 | H141: =H33/H$39*100 -> 65.437703 | I141: =I33/I$39*100 -> 65.675866 | ... P141: =P33/P$39*100 -> 67.54844
A142: Wholesale & retail trade; hotels & restaurants | B142: =B34/B$39*100 -> 12.00522 | C142: =C34/C$39*100 -> 11.542479 | D142: =D34/D$39*100 -> 11.651473 | E142: =E34/E$39*100 -> 11.474641 | F142: =F34/F$39*100 -> 12.671249 | G142: =G34/G$39*100 -> 13.154323 | H142: =H34/H$39*100 -> 12.934445 | I142: =I34/I$39*100 -> 12.748166 | ... P142: =P34/P$39*100 -> 12.541035
...

Sheet Quarterly
A1: Quarterly Compensation of Employees
A3: =Annual!A3 -> SA – Annual Compensation of Employees
A4: Rand million
A5: National Industry | B5: 1995q1 | C5: 1995q2 | D5: 1995q3 | E5: 1995q4 | F5: 1996q1 | G5: 1996q2 | H5: 1996q3 | I5: 1996q4 | J5: 1997q1 | K5: 1997q2 | L5: 1997q3 | M5: 1997q4 | N5: 1998q1 | O5: 1998q2 | P5: 1998q3 | Q5: 1998q4 | R5: 1999q1 | S5: 1999q2 | T5: 1999q3 | U5: 1999q4 | V5: 2000q1 | W5: 2000q2 | X5: 2000q3 | Y5: 2000q4 | Z5: 2001q1 | AA5: 2001q2 | AB5: 2001q3 | AC5: 2001q4 | AD5: 2002q1 | AE5: 2002q2 | AF5: 2002q3 | AG5: 2002q4 | AH5: 2003q1 | AI5: 2003q2 | AJ5: 2003q3 | AK5: 2003q4 | AL5: 2004q1 | AM5: 2004q2 | AN5: 2004q3 | AO5: 2004q4 | AP5: 2005q1 | AQ5: 2005q2 | AR5: 2005q3 | AS5: 2005q4 | AT5: 2006q1 | AU5: 2006q2 | AV5: 2006q3 | AW5: 2006q4 | AX5: 2007q1 | AY5: 2007q2 | AZ5: 2007q3 | BA5: 2007q4 | BB5: 2008q1 | BC5: 2008q2 | BD5: 2008q3 | BE5: 2008q4 | BF5: 2009q1 | BG5: 2009q2 | BH5: 2009q3 | BI5: 2009q4 | BJ5: 2010q1 | BK5: 2010q2 | BL5: 2010q3 | BM5: 2010q4 | BN5: 2011q1 | BO5: 2011q2 | BP5: 2011q3 | BQ5: 2011q4 | BR5: 2012q1 | BS5: 2012q2 | BT5: 2012q3 | BU5: 2012q4 | BV5: 2013q1 | BW5: 2013q2 | BX5: 2013q3 | BY5: 2013q4 | BZ5: 2014q1 | CA5: 2014q2 | CB5: 2014q3 | CC5: 2014q4 | CD5: 2015q1 | CE5: 2015q2 | CF5: 2015q3 | CG5: 2015q4 | CH5: 2016q1 | CI5: 2016q2 | CJ5: 2016q3 | CK5: 2016q4
A6: Primary Industries | B6: =SUM(B7:B8) -> 5897.3138 | C6: =SUM(C7:C8) -> 6093.5964 | D6: =SUM(D7:D8) -> 6408.0234 | E6: =SUM(E7:E8) -> 6599.4182 | F6: =SUM(F7:F8) -> 6558.7032 | G6: =SUM(G7:G8) -> 6585.0979 | H6: =SUM(H7:H8) -> 6799.2767 | I6: =SUM(I7:I8) -> 6961.6371 | ... CK6: =SUM(CK7:CK8) -> 45934
A7: Agriculture, forestry and fishing | B7: 1556.6449 | C7: 1674.1108 | D7: 1666.9524 | E7: 1534.1456 | F7: 1678.7032 | G7: 1805.0979 | H7: 1797.2767 | I7: 1654.6371 | J7: 1798.8623 | K7: 1935.284 | L7: 1927.5332 | M7: 1772.8791 | N7: 2019.7323 | O7: 2173.5364 | P7: 2163.6977 | Q7: 1989.8148 | R7: 2193.858 | S7: 2339.4292 | T7: 2256.1023 | U7: 2057.3223 | V7: 2295.9954 | W7: 2495.7999 | X7: 2435.463 | Y7: 2218.8324 | Z7: 2475.5201 | AA7: 2655.2293 | AB7: 2559.8529 | AC7: 2326.9336 | AD7: 2660.443 | AE7: 3101.1886 | AF7: 3119.553 | AG7: 2777.8154 | AH7: 3200.03 | AI7: 3546.785 | AJ7: 3518.03 | AK7: 3165.475 | AL7: 3192.108 | AM7: 3416.307 | AN7: 3391.106 | AO7: 3036.789 | AP7: 2958.275 | AQ7: 3189.926 | AR7: 3221.274 | AS7: 2852.525 | AT7: 3117.413 | AU7: 3342.67 | AV7: 3373.446 | AW7: 3057.472 | AX7: 3572.678 | AY7: 3797.059 | AZ7: 3845.421 | BA7: 3493.843 | BB7: 4174.234 | BC7: 4235.934 | BD7: 4259.458 | BE7: 3990.374 | BF7: 4687.906 | BG7: 4743.327 | BH7: 4687.231 | BI7: 4272.536 | BJ7: 4995 | BK7: 5086 | BL7: 4949 | BM7: 4464 | BN7: 5105 | BO7: 5279 | BP7: 5105 | BQ7: 4612 | BR7: 5398 | BS7: 5546 | BT7: 5467 | BU7: 5018 | BV7: 5692 | BW7: 6059 | BX7: 5933 | BY7: 5427 | BZ7: 6171 | CA7: 6662 | CB7: 6507 | CC7: 5919 | CD7: 6537 | CE7: 7024 | CF7: 6920 | CG7: 6316 | CH7: 6889 | CI7: 7432 | CJ7: 7302 | CK7: 6674
A8: Mining and quarrying | B8: 4340.6689 | C8: 4419.4856 | D8: 4741.071 | E8: 5065.2726 | F8: 4880 | G8: 4780 | H8: 5002 | I8: 5307 | J8: 5364.13 | K8: 5254.12 | L8: 5553.12 | M8: 5889.13 | N8: 5823.8442 | O8: 5672.8631 | P8: 5852.0273 | Q8: 6300.9444 | R8: 6193.9309 | S8: 6375.17 | T8: 6733.2205 | U8: 6882.2572 | V8: 6895.6786 | W8: 6881.5406 | X8: 7141.2574 | Y8: 7516.5437 | Z8: 7546.4684 | AA8: 7554.5202 | AB8: 7935.9701 | AC8: 8447.2539 | AD8: 8295.5 | AE8: 8294 | AF8: 8878.8 | AG8: 9374.73 | AH8: 8975.222 | AI8: 8583.665 | AJ8: 9037.381 | AK8: 9412.112 | AL8: 9449 | AM8: 9496 | AN8: 9737.5 | AO8: 10173.85 | AP8: 9899.042 | AQ8: 9951.791 | AR8: 10820.175 | AS8: 11370.942 | AT8: 11612.197 | AU8: 11694.733 | AV8: 12638.193 | AW8: 13589.867 | AX8: 13567.036 | AY8: 13846.642 | AZ8: 14811.428 | BA8: 15996.195 | BB8: 16253.652 | BC8: 16737.736 | BD8: 17785.138 | BE8: 18898.703 | BF8: 18215.705 | BG8: 18174.876 | BH8: 19268.328 | BI8: 19941.751 | BJ8: 20425 | BK8: 20838 | BL8: 22638 | BM8: 22498 | BN8: 22863 | BO8: 23509 | BP8: 24595 | BQ8: 26512 | BR8: 25979 | BS8: 26938 | BT8: 27435 | BU8: 29444 | BV8: 28393 | BW8: 29561 | BX8: 29773 | BY8: 31681 | BZ8: 27207 | CA8: 28384 | CB8: 32721 | CC8: 34597 | CD8: 30021 | CE8: 30894 | CF8: 34848 | CG8: 36738 | CH8: 31741 | CI8: 32753 | CJ8: 37040 | CK8: 39260
A9: Secondary Industries | B9: =SUM(B10:B12) -> 16921.966 | C9: =SUM(C10:C12) -> 17168.919 | D9: =SUM(D10:D12) -> 18139.969 | E9: =SUM(E10:E12) -> 20589.105 | F9: =SUM(F10:F12) -> 18467.653 | G9: =SUM(G10:G12) -> 18532.755 | H9: =SUM(H10:H12) -> 19572.132 | I9: =SUM(I10:I12) -> 21423.257 | ... CK9: =SUM(CK10:CK12) -> 125835
A10: Manufacturing | B10: 13221.256 | C10: 13255.51 | D10: 14160.085 | E10: 16268.41 | F10: 14380.899 | G10: 14247.612 | H10: 15143.143 | I10: 16641.238 | J10: 15025.542 | K10: 15291.488 | L10: 15968.442 | M10: 17715.233 | N10: 16958.105 | O10: 17401.323 | P10: 18010.747 | Q10: 20307.419 | R10: 17907.338 | S10: 18301.294 | T10: 18779.884 | U10: 21265.531 | V10: 19475.094 | W10: 20180.166 | X10: 20751.274 | Y10: 23188.809 | Z10: 21038.794 | AA10: 21518.953 | AB10: 22016.022 | AC10: 24741.752 | AD10: 23258.2 | AE10: 24376.3 | AF10: 25008.58 | AG10: 27761 | AH10: 24950.699 | AI10: 25483.153 | AJ10: 25804.203 | AK10: 28895 | AL10: 26541.347 | AM10: 27462.06 | AN10: 27791.325 | AO10: 30960.438 | AP10: 28731.672 | AQ10: 29255.912 | AR10: 29706.28 | AS10: 33550 | AT10: 31131.003 | AU10: 32435.731 | AV10: 32968.911 | AW10: 37931.276 | AX10: 35285.228 | AY10: 36944.97 | AZ10: 37981 | BA10: 44115 | BB10: 40489.53 | BC10: 42462.7 | BD10: 44023.473 | BE10: 50210.599 | BF10: 42489.856 | BG10: 43329.14 | BH10: 46265.8 | BI10: 53021.4 | BJ10: 47272 | BK10: 48865 | BL10: 50494 | BM10: 59049 | BN10: 51144 | BO10: 51897 | BP10: 52962 | BQ10: 62211 | BR10: 55228 | BS10: 56161 | BT10: 57634 | BU10: 67657 | BV10: 60461 | BW10: 62814 | BX10: 63999 | BY10: 73981 | BZ10: 65718 | CA10: 68449 | CB10: 69221 | CC10: 80944 | CD10: 70314 | CE10: 73627 | CF10: 74466 | CG10: 86513 | CH10: 76213 | CI10: 80186 | CJ10: 82012 | CK10: 93010
A11: Electricity, gas and water | B11: 1083.2189 | C11: 1219.9059 | D11: 1282.0635 | E11: 1346.9149 | F11: 1342.1933 | G11: 1497.3307 | H11: 1579.7143 | I11: 1672.8467 | J11: 1478.6574 | K11: 1653.1001 | L11: 1722.3966 | M11: 1818.1298 | N11: 1472.6868 | O11: 1648.9605 | P11: 1736.7969 | Q11: 1876.0131 | R11: 1771.101 | S11: 1835.5993 | T11: 1892.2858 | U11: 2272.8662 | V11: 1864.7871 | W11: 1950.9158 | X11: 2065.0864 | Y11: 2297.4337 | Z11: 1922.4696 | AA11: 1976.9396 | AB11: 2056.0412 | AC11: 2263.1072 | AD11: 2237.695 | AE11: 2438.901 | AF11: 2450.193 | AG11: 2753.383 | AH11: 2518.345 | AI11: 2664.751 | AJ11: 2647.153 | AK11: 3015.732 | AL11: 2530.9 | AM11: 2817 | AN11: 2732.07 | AO11: 3213.177 | AP11: 2794.831 | AQ11: 3107.127 | AR11: 3010.565 | AS11: 3538.297 | AT11: 3112.188 | AU11: 3483.577 | AV11: 3372.674 | AW11: 3875.39 | AX11: 3402.124 | AY11: 3830.278 | AZ11: 3803.411 | BA11: 4424.127 | BB11: 3851.157 | BC11: 4354.145 | BD11: 4399.404 | BE11: 5017.813 | BF11: 4299.033 | BG11: 4725.499 | BH11: 5153.539 | BI11: 5828.249 | BJ11: 4777 | BK11: 5299 | BL11: 5611 | BM11: 6405 | BN11: 5761 | BO11: 6164 | BP11: 6478 | BQ11: 7651 | BR11: 6447 | BS11: 7012 | BT11: 7378 | BU11: 8639 | BV11: 7251 | BW11: 7942 | BX11: 8016 | BY11: 9626 | BZ11: 7886 | CA11: 8587 | CB11: 8616 | CC11: 10344 | CD11: 8563 | CE11: 9436 | CF11: 9408 | CG11: 11259 | CH11: 9216 | CI11: 10179 | CJ11: 10216 | CK11: 12302
A12: Construction | B12: 2617.4907 | C12: 2693.5029 | D12: 2697.8201 | E12: 2973.7802 | F12: 2744.5613 | G12: 2787.8125 | H12: 2849.2744 | I12: 3109.1722 | J12: 2887.5006 | K12: 3015.9202 | L12: 3075.0057 | M12: 3386.5003 | N12: 2926.7001 | O12: 3060 | P12: 3111 | Q12: 3390.57 | R12: 3055.71 | S12: 3065.5 | T12: 3080 | U12: 3392 | V12: 3083.1052 | W12: 3091.9271 | X12: 3196.1274 | Y12: 3507.5636 | Z12: 3149.509 | AA12: 3150.3331 | AB12: 3254.4826 | AC12: 3583.732 | AD12: 3211 | AE12: 3278 | AF12: 3450 | AG12: 3885 | AH12: 3567 | AI12: 3708 | AJ12: 3932 | AK12: 4381 | AL12: 3946 | AM12: 4165 | AN12: 4426 | AO12: 4923 | AP12: 4300 | AQ12: 4856 | AR12: 5125 | AS12: 5742 | AT12: 5186 | AU12: 5739 | AV12: 6034 | AW12: 6641 | AX12: 6568 | AY12: 7972 | AZ12: 8380 | BA12: 9309 | BB12: 7638 | BC12: 9304 | BD12: 9918 | BE12: 10744 | BF12: 8608 | BG12: 10244 | BH12: 10825 | BI12: 12261 | BJ12: 9264 | BK12: 11136 | BL12: 11256 | BM12: 12631 | BN12: 10161 | BO12: 11835 | BP12: 12485 | BQ12: 13524 | BR12: 11096 | BS12: 13254 | BT12: 13535 | BU12: 14736 | BV12: 12546 | BW12: 14906 | BX12: 14821 | BY12: 16214 | BZ12: 13620 | CA12: 16181 | CB12: 16164 | CC12: 17758 | CD12: 14705 | CE12: 17519 | CF12: 17417 | CG12: 18994 | CH12: 15830 | CI12: 18681 | CJ12: 18680 | CK12: 20523
A13: Tertiary industries | B13: =SUM(B14:B18) -> 42083.219 | C13: =SUM(C14:C18) -> 43986.519 | D13: =SUM(D14:D18) -> 45067.447 | E13: =SUM(E14:E18) -> 47556.762 | F13: =SUM(F14:F18) -> 47849.745 | G13: =SUM(G14:G18) -> 50780.236 | H13: =SUM(H14:H18) -> 51925.791 | I13: =SUM(I14:I18) -> 54583.102 | ... CK13: =SUM(CK14:CK18) -> 375595
A14: Wholesale & retail trade; hotels & restaurants | B14: 8088.5216 | C14: 8528.5107 | D14: 8855.2518 | E14: 10269.657 | F14: 9260.0354 | G14: 9239.8603 | H14: 9521.2504 | I14: 10829.247 | J14: 9881.0265 | K14: 10112.612 | L14: 10517.127 | M14: 12096.761 | N14: 10522.243 | O14: 10563.705 | P14: 11501.151 | Q14: 13987.858 | R14: 12058.443 | S14: 13232.435 | T14: 13771.4 | U14: 16007.141 | V14: 13965.841 | W14: 15105.529 | X14: 15409.864 | Y14: 17715.126 | Z14: 14695.606 | AA14: 15140.521 | AB14: 15368.034 | AC14: 17501.606 | AD14: 15401.089 | AE14: 16146.44 | AF14: 16704.24 | AG14: 19455.231 | AH14: 16938.936 | AI14: 17899.037 | AJ14: 18566.281 | AK14: 21636.745 | AL14: 18587.033 | AM14: 19999.957 | AN14: 20686.368 | AO14: 24906.641 | AP14: 20428.994 | AQ14: 21641.865 | AR14: 23310.822 | AS14: 27015.799 | AT14: 23464.473 | AU14: 24871.592 | AV14: 25872.952 | AW14: 30383.434 | AX14: 25203.934 | AY14: 26946.437 | AZ14: 28488.481 | BA14: 33111.478 | BB14: 28093.746 | BC14: 30654.627 | BD14: 31600.923 | BE14: 36279.564 | BF14: 30033.538 | BG14: 31973.093 | BH14: 34150.436 | BI14: 38143.563 | BJ14: 32691 | BK14: 35277 | BL14: 37278 | BM14: 42797 | BN14: 36728 | BO14: 38844 | BP14: 40868 | BQ14: 46723 | BR14: 40802 | BS14: 43065 | BT14: 44916 | BU14: 50576 | BV14: 45537 | BW14: 47528 | BX14: 49124 | BY14: 55566 | BZ14: 49434 | CA14: 51324 | CB14: 54063 | CC14: 60634 | CD14: 53087 | CE14: 54786 | CF14: 57721 | CG14: 64830 | CH14: 56993 | CI14: 58725 | CJ14: 62139 | CK14: 70207
A15: Transport , storage and communication | B15: 5104.1206 | C15: 5588.6378 | D15: 5743.6125 | E15: 6095.4084 | F15: 5936.2347 | G15: 6346.7754 | H15: 6460.0796 | I15: 6836.8839 | J15: 6674.8542 | K15: 6832.6641 | L15: 6977.2954 | M15: 7365.069 | N15: 7062.6594 | O15: 7495.4427 | P15: 7550.2485 | Q15: 7945.8205 | R15: 7385.1155 | S15: 7776.1457 | T15: 7935.7911 | U15: 8318.7379 | V15: 7986.2138 | W15: 8450.8222 | X15: 8568.9943 | Y15: 8956.8413 | Z15: 8684.9278 | AA15: 9069.7798 | AB15: 9138.4673 | AC15: 9707.1594 | AD15: 8863.412 | AE15: 9377.594 | AF15: 9531.435 | AG15: 10275.56 | AH15: 9843.386 | AI15: 10507.583 | AJ15: 10575.41 | AK15: 11386.621 | AL15: 10235.61 | AM15: 10849.151 | AN15: 11927.421 | AO15: 13775.818 | AP15: 11226.749 | AQ15: 12720.895 | AR15: 13308.344 | AS15: 13879.013 | AT15: 12806.963 | AU15: 13736.665 | AV15: 14265.302 | AW15: 15325.07 | AX15: 14059.773 | AY15: 14836.51 | AZ15: 15602.633 | BA15: 16720.084 | BB15: 15172.791 | BC15: 15925.401 | BD15: 16904.825 | BE15: 17624.983 | BF15: 15630.06 | BG15: 16556.956 | BH15: 17792.8 | BI15: 18796.184 | BJ15: 17215 | BK15: 17955 | BL15: 18999 | BM15: 20493 | BN15: 18617 | BO15: 20401 | BP15: 20930 | BQ15: 22743 | BR15: 20147 | BS15: 22011 | BT15: 22693 | BU15: 24729 | BV15: 23065 | BW15: 25078 | BX15: 25472 | BY15: 27863 | BZ15: 25024 | CA15: 27400 | CB15: 27772 | CC15: 30571 | CD15: 26936 | CE15: 29637 | CF15: 29862 | CG15: 32981 | CH15: 29072 | CI15: 31757 | CJ15: 32503 | CK15: 35256
A16: Finance, real estate and business services | B16: 6486.91 | C16: 7016 | D16: 7225 | E16: 7658 | F16: 7276.9 | G16: 7922.9 | H16: 8154.9 | I16: 8642.88 | J16: 8507.9 | K16: 9264.9 | L16: 9353.9 | M16: 9983.91 | N16: 10292.9 | O16: 10910.9 | P16: 11188.9 | Q16: 11382.95 | R16: 11749.1 | S16: 12221.08 | T16: 12431.04 | U16: 12686 | V16: 12983.9 | W16: 13599.9 | X16: 14000.9 | Y16: 14500.86 | Z16: 14687.1 | AA16: 15471.1 | AB16: 16457.05 | AC16: 16856 | AD16: 17213.1 | AE16: 18591.08 | AF16: 19140 | AG16: 19317 | AH16: 19384.98 | AI16: 20636.93 | AJ16: 21940.95 | AK16: 22486.96 | AL16: 22571.1 | AM16: 23659.1 | AN16: 25494.1 | AO16: 26284.04 | AP16: 25467 | AQ16: 27729 | AR16: 29900 | AS16: 31048.01 | AT16: 29895.92 | AU16: 32168.93 | AV16: 33753.96 | AW16: 34625.92 | AX16: 34856.1 | AY16: 37341 | AZ16: 39282.2 | BA16: 41303.08 | BB16: 40738.93 | BC16: 41900.92 | BD16: 45278.92 | BE16: 43523.97 | BF16: 41530.92 | BG16: 42517.91 | BH16: 46105 | BI16: 44930 | BJ16: 46768 | BK16: 48269 | BL16: 50716 | BM16: 50545 | BN16: 52215 | BO16: 53814 | BP16: 56362 | BQ16: 55859 | BR16: 58243 | BS16: 59595 | BT16: 59359 | BU16: 58997 | BV16: 62253 | BW16: 64839 | BX16: 65524 | BY16: 66490 | BZ16: 67939 | CA16: 70995 | CB16: 71877 | CC16: 74407 | CD16: 75580 | CE16: 77628 | CF16: 77714 | CG16: 80103 | CH16: 82600 | CI16: 84171 | CJ16: 84990 | CK16: 86101
A17: Personal services | B17: 4746.6665 | C17: 4925.3704 | D17: 5136.5825 | E17: 5204.6969 | F17: 5303.8248 | G17: 5522.9499 | H17: 5751.5609 | I17: 5841.0916 | J17: 6134.1505 | K17: 6353.5331 | L17: 6588.2134 | M17: 6676.8497 | N17: 6745.1703 | O17: 6911.6658 | P17: 7232.3958 | Q17: 7318.4692 | R17: 7588.6656 | S17: 7756.7578 | T17: 8110.0101 | U17: 8188.0571 | V17: 8712.5564 | W17: 9070.9744 | X17: 9329.4833 | Y17: 9333.9249 | Z17: 9922.2909 | AA17: 10017.462 | AB17: 10088.093 | AC17: 9978.5551 | AD17: 11226.325 | AE17: 11457.018 | AF17: 11512.553 | AG17: 11504.104 | AH17: 12304.371 | AI17: 12668.438 | AJ17: 12759.126 | AK17: 13049.065 | AL17: 13808.792 | AM17: 13658.808 | AN17: 13649.128 | AO17: 14124.272 | AP17: 14924.491 | AQ17: 15196.135 | AR17: 15319.711 | AS17: 15422.664 | AT17: 16108.224 | AU17: 16560.226 | AV17: 16692.876 | AW17: 16893.674 | AX17: 18219.756 | AY17: 18701.346 | AZ17: 18785.758 | BA17: 19079.141 | BB17: 20020.224 | BC17: 20016.363 | BD17: 20338.975 | BE17: 20667.438 | BF17: 20971.752 | BG17: 20970.108 | BH17: 21599.411 | BI17: 21704.729 | BJ17: 22172 | BK17: 22320 | BL17: 22887 | BM17: 23046 | BN17: 24062 | BO17: 24040 | BP17: 25046 | BQ17: 24657 | BR17: 26137 | BS17: 26135 | BT17: 27084 | BU17: 26594 | BV17: 28157 | BW17: 28089 | BX17: 28856 | BY17: 28695 | BZ17: 30290 | CA17: 30486 | CB17: 31200 | CC17: 30848 | CD17: 32156 | CE17: 33232 | CF17: 33414 | CG17: 33182 | CH17: 34314 | CI17: 35799 | CJ17: 36050 | CK17: 35751
A18: General government services | B18: 17657 | C18: 17928 | D18: 18107 | E18: 18329 | F18: 20072.75 | G18: 21747.75 | H18: 22038 | I18: 22433 | J18: 23530 | K18: 23752 | L18: 24339 | M18: 24795 | N18: 25552 | O18: 25813 | P18: 25937 | Q18: 26225 | R18: 27049 | S18: 27309 | T18: 27386 | U18: 27654 | V18: 28826 | W18: 28856 | X18: 29204 | Y18: 29561 | Z18: 30819 | AA18: 30683 | AB18: 30874 | AC18: 31328 | AD18: 33408 | AE18: 33706 | AF18: 35155 | AG18: 33735 | AH18: 37038 | AI18: 37686 | AJ18: 38056 | AK18: 38259 | AL18: 41826 | AM18: 41298 | AN18: 40446 | AO18: 42717 | AP18: 44347 | AQ18: 44448 | AR18: 45521 | AS18: 47449 | AT18: 47124 | AU18: 47023 | AV18: 49685 | AW18: 52588 | AX18: 52183 | AY18: 52999 | AZ18: 56183 | BA18: 58892 | BB18: 59710 | BC18: 62050 | BD18: 65877 | BE18: 69608 | BF18: 71482 | BG18: 71160 | BH18: 75781 | BI18: 83321 | BJ18: 84882 | BK18: 83416 | BL18: 87425 | BM18: 91603 | BN18: 92170 | BO18: 96507 | BP18: 98934 | BQ18: 100007 | BR18: 100087 | BS18: 102501 | BT18: 106487 | BU18: 109804 | BV18: 108752 | BW18: 113633 | BX18: 117398 | BY18: 121436 | BZ18: 121263 | CA18: 126529 | CB18: 127769 | CC18: 131133 | CD18: 128403 | CE18: 133311 | CF18: 136738 | CG18: 140614 | CH18: 140179 | CI18: 143955 | CJ18: 146347 | CK18: 148280
A19: All industries at basic prices | B19: =B13+B9+B6 -> 64902.499 | C19: =C13+C9+C6 -> 67249.034 | D19: =D13+D9+D6 -> 69615.439 | E19: =E13+E9+E6 -> 74745.285 | F19: =F13+F9+F6 -> 72876.101 | G19: =G13+G9+G6 -> 75898.088 | H19: =H13+H9+H6 -> 78297.2 | I19: =I13+I9+I6 -> 82967.996 | ... CK19: =CK13+CK9+CK6 -> 547364
A21: SA - Annual Compensation of Employees | B21: =B19+B20 -> 64902.499 | C21: =C19+C20 -> 67249.034 | D21: =D19+D20 -> 69615.439 | E21: =E19+E20 -> 74745.285 | F21: =F19+F20 -> 72876.101 | G21: =G19+G20 -> 75898.088 | H21: =H19+H20 -> 78297.2 | I21: =I19+I20 -> 82967.996 | ... CK21: =CK19+CK20 -> 547364
A23: =Annual!A23 -> KZN – Annual Compensation of Employees
A24: Rand million
A25: Provincial Industry | B25: =B5 -> 1995q1 | C25: =C5 -> 1995q2 | D25: =D5 -> 1995q3 | E25: =E5 -> 1995q4 | F25: =F5 -> 1996q1 | G25: =G5 -> 1996q2 | H25: =H5 -> 1996q3 | I25: =I5 -> 1996q4 | ... CK25: =CK5 -> 2016q4
A26: Primary Industries | B26: =SUM(B27:B28) -> 601.87506 | C26: =SUM(C27:C28) -> 638.2118 | D26: =SUM(D27:D28) -> 647.91394 | E26: =SUM(E27:E28) -> 621.92177 | F26: =SUM(F27:F28) -> 628.0663 | G26: =SUM(G27:G28) -> 657.83245 | H26: =SUM(H27:H28) -> 664.08084 | I26: =SUM(I27:I28) -> 637.69217 | ... CK26: =SUM(CK27:CK28) -> 3178.495
A27: Agriculture, forestry and fishing | B27: =B7*Annual!$B46/100 -> 443.3964 | C27: =C7*Annual!$B46/100 -> 476.85553 | D27: =D7*Annual!$B46/100 -> 474.81652 | E27: =E7*Annual!$B46/100 -> 436.98768 | F27: =F7*Annual!$C46/100 -> 445.12625 | G27: =G7*Annual!$C46/100 -> 478.64117 | H27: =H7*Annual!$C46/100 -> 476.56728 | I27: =I7*Annual!$C46/100 -> 438.74486 | J27: =J7*Annual!$D46/100 -> 470.62791 | K27: =K7*Annual!$D46/100 -> 506.31927 | L27: =L7*Annual!$D46/100 -> 504.29147 | M27: =M7*Annual!$D46/100 -> 463.83005 | N27: =N7*Annual!$E46/100 -> 565.3135 | O27: =O7*Annual!$E46/100 -> 608.36253 | P27: =P7*Annual!$E46/100 -> 605.60874 | Q27: =Q7*Annual!$E46/100 -> 556.93974 | R27: =R7*Annual!$F46/100 -> 560.57891 | S27: =S7*Annual!$F46/100 -> 597.77554 | T27: =T7*Annual!$F46/100 -> 576.48367 | U27: =U7*Annual!$F46/100 -> 525.69103 | V27: =V7*Annual!$G46/100 -> 579.8753 | W27: =W7*Annual!$G46/100 -> 630.33782 | X27: =X7*Annual!$G46/100 -> 615.09916 | Y27: =Y7*Annual!$G46/100 -> 560.38706 | Z27: =Z7*Annual!H46/100 -> 646.97689 | AA27: =AA7*Annual!H46/100 -> 693.94389 | AB27: =AB7*Annual!H46/100 -> 669.01727 | AC27: =AC7*Annual!H46/100 -> 608.14385 | AD27: =AD7*Annual!$I46/100 -> 680.38328 | AE27: =AE7*Annual!$I46/100 -> 793.09984 | AF27: =AF7*Annual!$I46/100 -> 797.79637 | AG27: =AG7*Annual!$I46/100 -> 710.40019 | AH27: =AH7*Annual!$J46/100 -> 861.08176 | AI27: =AI7*Annual!$J46/100 -> 954.38851 | AJ27: =AJ7*Annual!$J46/100 -> 946.65096 | AK27: =AK7*Annual!$J46/100 -> 851.78351 | AL27: =AL7*Annual!$K46/100 -> 855.08099 | AM27: =AM7*Annual!$K46/100 -> 915.13796 | AN27: =AN7*Annual!$K46/100 -> 908.38728 | AO27: =AO7*Annual!$K46/100 -> 813.47516 | AP27: =AP7*Annual!$L46/100 -> 722.80579 | AQ27: =AQ7*Annual!$L46/100 -> 779.40589 | AR27: =AR7*Annual!$L46/100 -> 787.06526 | AS27: =AS7*Annual!$L46/100 -> 696.96751 | AT27: =AT7*Annual!$M46/100 -> 812.53252 | AU27: =AU7*Annual!$M46/100 -> 871.24423 | AV27: =AV7*Annual!$M46/100 -> 879.26579 | AW27: =AW7*Annual!$M46/100 -> 796.90931 | AX27: =AX7*Annual!$N46/100 -> 952.48083 | AY27: =AY7*Annual!$N46/100 -> 1012.3011 | AZ27: =AZ7*Annual!$N46/100 -> 1025.1945 | BA27: =BA7*Annual!$N46/100 -> 931.46332 | BB27: =BB7*Annual!$O46/100 -> 1132.9832 | BC27: =BC7*Annual!$O46/100 -> 1149.73 | BD27: =BD7*Annual!$O46/100 -> 1156.115 | BE27: =BE7*Annual!$O46/100 -> 1083.0794 | BF27: =BF7*Annual!P46/100 -> 1253.4935 | BG27: =BG7*Annual!P46/100 -> 1268.3125 | BH27: =BH7*Annual!P46/100 -> 1253.3131 | BI27: =BI7*Annual!P46/100 -> 1142.4283 | BJ27: =BJ7*Annual!Q46/100 -> 1348.6903 | BK27: =BK7*Annual!Q46/100 -> 1373.2611 | BL27: =BL7*Annual!Q46/100 -> 1336.27 | BM27: =BM7*Annual!Q46/100 -> 1205.3161 | BN27: =BN7*Annual!$R46/100 -> 1485.3123 | BO27: =BO7*Annual!$R46/100 -> 1535.938 | BP27: =BP7*Annual!$R46/100 -> 1485.3123 | BQ27: =BQ7*Annual!$R46/100 -> 1341.8727 | BR27: =BR7*Annual!$S46/100 -> 1463.7729 | BS27: =BS7*Annual!$S46/100 -> 1503.906 | BT27: =BT7*Annual!$S46/100 -> 1482.4836 | BU27: =BU7*Annual!$S46/100 -> 1360.7285 | BV27: =BV7*Annual!$T46/100 -> 1553.4827 | BW27: =BW7*Annual!$T46/100 -> 1653.6457 | BX27: =BX7*Annual!$T46/100 -> 1619.2573 | BY27: =BY7*Annual!$T46/100 -> 1481.1578 | BZ27: =BZ7*Annual!$U46/100 -> 1690.7159 | CA27: =CA7*Annual!$U46/100 -> 1825.2389 | CB27: =CB7*Annual!$U46/100 -> 1782.7724 | CC27: =CC7*Annual!$U46/100 -> 1621.6735 | CD27: =CD7*Annual!$V46/100 -> 1793.7749 | CE27: =CE7*Annual!$V46/100 -> 1927.4094 | CF27: =CF7*Annual!$V46/100 -> 1898.8714 | CG27: =CG7*Annual!$V46/100 -> 1733.1318 | CH27: =CH7*Annual!$W46/100 -> 1898.4188 | CI27: =CI7*Annual!$W46/100 -> 2048.0547 | CJ27: =CJ7*Annual!$W46/100 -> 2012.2303 | CK27: =CK7*Annual!$W46/100 -> 1839.1707
A28: Mining and quarrying | B28: =B8*Annual!$B47/100 -> 158.47867 | C28: =C8*Annual!$B47/100 -> 161.35628 | D28: =D8*Annual!$B47/100 -> 173.09742 | E28: =E8*Annual!$B47/100 -> 184.93409 | F28: =F8*Annual!$C47/100 -> 182.94005 | G28: =G8*Annual!$C47/100 -> 179.19128 | H28: =H8*Annual!$C47/100 -> 187.51355 | I28: =I8*Annual!$C47/100 -> 198.94731 | J28: =J8*Annual!$D47/100 -> 199.91191 | K28: =K8*Annual!$D47/100 -> 195.81203 | L28: =L8*Annual!$D47/100 -> 206.95524 | M28: =M8*Annual!$D47/100 -> 219.47776 | N28: =N8*Annual!$E47/100 -> 214.32622 | O28: =O8*Annual!$E47/100 -> 208.76988 | P28: =P8*Annual!$E47/100 -> 215.3634 | Q28: =Q8*Annual!$E47/100 -> 231.88422 | R28: =R8*Annual!$F47/100 -> 215.62894 | S28: =S8*Annual!$F47/100 -> 221.93841 | T28: =T8*Annual!$F47/100 -> 234.40319 | U28: =U8*Annual!$F47/100 -> 239.5916 | V28: =V8*Annual!$G47/100 -> 240.83704 | W28: =W8*Annual!$G47/100 -> 240.34326 | X28: =X8*Annual!$G47/100 -> 249.41408 | Y28: =Y8*Annual!$G47/100 -> 262.52125 | Z28: =Z8*Annual!H47/100 -> 265.88971 | AA28: =AA8*Annual!H47/100 -> 266.1734 | AB28: =AB8*Annual!H47/100 -> 279.61328 | AC28: =AC8*Annual!H47/100 -> 297.62768 | AD28: =AD8*Annual!$I47/100 -> 290.38077 | AE28: =AE8*Annual!$I47/100 -> 290.32826 | AF28: =AF8*Annual!$I47/100 -> 310.79896 | AG28: =AG8*Annual!$I47/100 -> 328.15879 | AH28: =AH8*Annual!$J47/100 -> 321.69626 | AI28: =AI8*Annual!$J47/100 -> 307.66179 | AJ28: =AJ8*Annual!$J47/100 -> 323.9242 | AK28: =AK8*Annual!$J47/100 -> 337.35558 | AL28: =AL8*Annual!$K47/100 -> 340.32319 | AM28: =AM8*Annual!$K47/100 -> 342.01598 | AN28: =AN8*Annual!$K47/100 -> 350.71405 | AO28: =AO8*Annual!$K47/100 -> 366.43 | AP28: =AP8*Annual!$L47/100 -> 330.82737 | AQ28: =AQ8*Annual!$L47/100 -> 332.59025 | AR28: =AR8*Annual!$L47/100 -> 361.61177 | AS28: =AS8*Annual!$L47/100 -> 380.01848 | AT28: =AT8*Annual!$M47/100 -> 377.34526 | AU28: =AU8*Annual!$M47/100 -> 380.02732 | AV28: =AV8*Annual!$M47/100 -> 410.68561 | AW28: =AW8*Annual!$M47/100 -> 441.61082 | AX28: =AX8*Annual!$N47/100 -> 454.75259 | AY28: =AY8*Annual!$N47/100 -> 464.12468 | AZ28: =AZ8*Annual!$N47/100 -> 496.46328 | BA28: =BA8*Annual!$N47/100 -> 536.17541 | BB28: =BB8*Annual!$O47/100 -> 537.89204 | BC28: =BC8*Annual!$O47/100 -> 553.91212 | BD28: =BD8*Annual!$O47/100 -> 588.57444 | BE28: =BE8*Annual!$O47/100 -> 625.42633 | BF28: =BF8*Annual!P47/100 -> 618.15636 | BG28: =BG8*Annual!P47/100 -> 616.77081 | BH28: =BH8*Annual!P47/100 -> 653.87749 | BI28: =BI8*Annual!P47/100 -> 676.73034 | BJ28: =BJ8*Annual!Q47/100 -> 706.00777 | BK28: =BK8*Annual!Q47/100 -> 720.28347 | BL28: =BL8*Annual!Q47/100 -> 782.50203 | BM28: =BM8*Annual!Q47/100 -> 777.66281 | BN28: =BN8*Annual!$W47/100 -> 779.95341 | BO28: =BO8*Annual!$W47/100 -> 801.9912 | BP28: =BP8*Annual!$W47/100 -> 839.03924 | BQ28: =BQ8*Annual!$W47/100 -> 904.4362 | BR28: =BR8*Annual!$S47/100 -> 875.15159 | BS28: =BS8*Annual!$S47/100 -> 907.45731 | BT28: =BT8*Annual!$S47/100 -> 924.19969 | BU28: =BU8*Annual!$S47/100 -> 991.87664 | BV28: =BV8*Annual!$T47/100 -> 962.10911 | BW28: =BW8*Annual!$T47/100 -> 1001.6873 | BX28: =BX8*Annual!$T47/100 -> 1008.871 | BY28: =BY8*Annual!$T47/100 -> 1073.5244 | BZ28: =BZ8*Annual!$U47/100 -> 923.58287 | CA28: =CA8*Annual!$U47/100 -> 963.53792 | CB28: =CB8*Annual!$U47/100 -> 1110.764 | CC28: =CC8*Annual!$U47/100 -> 1174.4476 | CD28: =CD8*Annual!$V47/100 -> 1023.3759 | CE28: =CE8*Annual!$V47/100 -> 1053.1353 | CF28: =CF8*Annual!$V47/100 -> 1187.9219 | CG28: =CG8*Annual!$V47/100 -> 1252.3495 | CH28: =CH8*Annual!$W47/100 -> 1082.8195 | CI28: =CI8*Annual!$W47/100 -> 1117.343 | CJ28: =CJ8*Annual!$W47/100 -> 1263.5907 | CK28: =CK8*Annual!$W47/100 -> 1339.3243
A29: Secondary Industries | B29: =SUM(B30:B32) -> 3501.3675 | C29: =SUM(C30:C32) -> 3547.7184 | D29: =SUM(D30:D32) -> 3744.1879 | E29: =SUM(E30:E32) -> 4252.2922 | F29: =SUM(F30:F32) -> 3794.2121 | G29: =SUM(G30:G32) -> 3800.6133 | H29: =SUM(H30:H32) -> 4011.8377 | I29: =SUM(I30:I32) -> 4393.9482 | ... CK29: =SUM(CK30:CK32) -> 25245.691
A30: Manufacturing | B30: =B10*Annual!$B49/100 -> 2714.5339 | C30: =C10*Annual!$B49/100 -> 2721.5667 | D30: =D10*Annual!$B49/100 -> 2907.2904 | E30: =E10*Annual!$B49/100 -> 3340.1629 | F30: =F10*Annual!$C49/100 -> 2962.7598 | G30: =G10*Annual!$C49/100 -> 2935.2999 | H30: =H10*Annual!$C49/100 -> 3119.7978 | I30: =I10*Annual!$C49/100 -> 3428.4359 | J30: =J10*Annual!$D49/100 -> 3094.0921 | K30: =K10*Annual!$D49/100 -> 3148.8563 | L30: =L10*Annual!$D49/100 -> 3288.2559 | M30: =M10*Annual!$D49/100 -> 3647.959 | N30: =N10*Annual!$E49/100 -> 3483.2963 | O30: =O10*Annual!$E49/100 -> 3574.3358 | P30: =P10*Annual!$E49/100 -> 3699.5152 | Q30: =Q10*Annual!$E49/100 -> 4171.2654 | R30: =R10*Annual!$F49/100 -> 3716.3417 | S30: =S10*Annual!$F49/100 -> 3798.1 | T30: =T10*Annual!$F49/100 -> 3897.4227 | U30: =U10*Annual!$F49/100 -> 4413.2734 | V30: =V10*Annual!$G49/100 -> 4062.2553 | W30: =W10*Annual!$G49/100 -> 4209.3243 | X30: =X10*Annual!$G49/100 -> 4328.4501 | Y30: =Y10*Annual!$G49/100 -> 4836.8886 | Z30: =Z10*Annual!H49/100 -> 4380.3941 | AA30: =AA10*Annual!H49/100 -> 4480.3658 | AB30: =AB10*Annual!H49/100 -> 4583.8584 | AC30: =AC10*Annual!H49/100 -> 5151.3706 | AD30: =AD10*Annual!$I49/100 -> 4835.3772 | AE30: =AE10*Annual!$I49/100 -> 5067.83 | AF30: =AF10*Annual!$I49/100 -> 5199.281 | AG30: =AG10*Annual!$I49/100 -> 5771.5088 | AH30: =AH10*Annual!$J49/100 -> 5219.0578 | AI30: =AI10*Annual!$J49/100 -> 5330.4337 | AJ30: =AJ10*Annual!$J49/100 -> 5397.5893 | AK30: =AK10*Annual!$J49/100 -> 6044.1062 | AL30: =AL10*Annual!$K49/100 -> 5541.1315 | AM30: =AM10*Annual!$K49/100 -> 5733.352 | AN30: =AN10*Annual!$K49/100 -> 5802.0938 | AO30: =AO10*Annual!$K49/100 -> 6463.7208 | AP30: =AP10*Annual!$L49/100 -> 5996.4153 | AQ30: =AQ10*Annual!$L49/100 -> 6105.8263 | AR30: =AR10*Annual!$L49/100 -> 6199.8199 | AS30: =AS10*Annual!$L49/100 -> 7002.0197 | AT30: =AT10*Annual!$M49/100 -> 6472.6256 | AU30: =AU10*Annual!$M49/100 -> 6743.8991 | AV30: =AV10*Annual!$M49/100 -> 6854.7556 | AW30: =AW10*Annual!$M49/100 -> 7886.5094 | AX30: =AX10*Annual!$N49/100 -> 7341.346 | AY30: =AY10*Annual!$N49/100 -> 7686.6673 | AZ30: =AZ10*Annual!$N49/100 -> 7902.2208 | BA30: =BA10*Annual!$N49/100 -> 9178.4437 | BB30: =BB10*Annual!$O49/100 -> 8417.7555 | BC30: =BC10*Annual!$O49/100 -> 8827.9767 | BD30: =BD10*Annual!$O49/100 -> 9152.4607 | BE30: =BE10*Annual!$O49/100 -> 10438.761 | BF30: =BF10*Annual!P49/100 -> 8855.4418 | BG30: =BG10*Annual!P49/100 -> 9030.3595 | BH30: =BH10*Annual!P49/100 -> 9642.3979 | BI30: =BI10*Annual!P49/100 -> 11050.353 | BJ30: =BJ10*Annual!Q49/100 -> 9890.0399 | BK30: =BK10*Annual!Q49/100 -> 10223.32 | BL30: =BL10*Annual!Q49/100 -> 10564.133 | BM30: =BM10*Annual!Q49/100 -> 12353.972 | BN30: =BN10*Annual!$R49/100 -> 10686.268 | BO30: =BO10*Annual!$R49/100 -> 10843.603 | BP30: =BP10*Annual!$R49/100 -> 11066.129 | BQ30: =BQ10*Annual!$R49/100 -> 12998.659 | BR30: =BR10*Annual!$S49/100 -> 11509.938 | BS30: =BS10*Annual!$S49/100 -> 11704.382 | BT30: =BT10*Annual!$S49/100 -> 12011.366 | BU30: =BU10*Annual!$S49/100 -> 14100.236 | BV30: =BV10*Annual!$T49/100 -> 12605.492 | BW30: =BW10*Annual!$T49/100 -> 13096.068 | BX30: =BX10*Annual!$T49/100 -> 13343.128 | BY30: =BY10*Annual!$T49/100 -> 15424.272 | BZ30: =BZ10*Annual!$U49/100 -> 13706.258 | CA30: =CA10*Annual!$U49/100 -> 14275.84 | CB30: =CB10*Annual!$U49/100 -> 14436.85 | CC30: =CC10*Annual!$U49/100 -> 16881.819 | CD30: =CD10*Annual!$V49/100 -> 14672.567 | CE30: =CE10*Annual!$V49/100 -> 15363.898 | CF30: =CF10*Annual!$V49/100 -> 15538.974 | CG30: =CG10*Annual!$V49/100 -> 18052.846 | CH30: =CH10*Annual!$W49/100 -> 15906.813 | CI30: =CI10*Annual!$W49/100 -> 16736.039 | CJ30: =CJ10*Annual!$W49/100 -> 17117.153 | CK30: =CK10*Annual!$W49/100 -> 19412.603
A31: Electricity, gas and water | B31: =B11*Annual!$B50/100 -> 169.52314 | C31: =C11*Annual!$B50/100 -> 190.91456 | D31: =D11*Annual!$B50/100 -> 200.64219 | E31: =E11*Annual!$B50/100 -> 210.79141 | F31: =F11*Annual!$C50/100 -> 207.94447 | G31: =G11*Annual!$C50/100 -> 231.97973 | H31: =H11*Annual!$C50/100 -> 244.74333 | I31: =I11*Annual!$C50/100 -> 259.17223 | J31: =J11*Annual!$D50/100 -> 228.08125 | K31: =K11*Annual!$D50/100 -> 254.98884 | L31: =L11*Annual!$D50/100 -> 265.67774 | M31: =M11*Annual!$D50/100 -> 280.44448 | N31: =N11*Annual!$E50/100 -> 227.61713 | O31: =O11*Annual!$E50/100 -> 254.86184 | P31: =P11*Annual!$E50/100 -> 268.43775 | Q31: =Q11*Annual!$E50/100 -> 289.95488 | R31: =R11*Annual!$F50/100 -> 274.63246 | S31: =S11*Annual!$F50/100 -> 284.63378 | T31: =T11*Annual!$F50/100 -> 293.42376 | U31: =U11*Annual!$F50/100 -> 352.43775 | V31: =V11*Annual!$G50/100 -> 293.439 | W31: =W11*Annual!$G50/100 -> 306.99204 | X31: =X11*Annual!$G50/100 -> 324.95769 | Y31: =Y11*Annual!$G50/100 -> 361.51937 | Z31: =Z11*Annual!H50/100 -> 310.13643 | AA31: =AA11*Annual!H50/100 -> 318.92363 | AB31: =AB11*Annual!H50/100 -> 331.68445 | AC31: =AC11*Annual!H50/100 -> 365.08873 | AD31: =AD11*Annual!$I50/100 -> 362.92562 | AE31: =AE11*Annual!$I50/100 -> 395.55867 | AF31: =AF11*Annual!$I50/100 -> 397.39009 | AG31: =AG11*Annual!$I50/100 -> 446.56365 | AH31: =AH11*Annual!$J50/100 -> 400.8665 | AI31: =AI11*Annual!$J50/100 -> 424.17119 | AJ31: =AJ11*Annual!$J50/100 -> 421.36997 | AK31: =AK11*Annual!$J50/100 -> 480.03984 | AL31: =AL11*Annual!$K50/100 -> 406.78559 | AM31: =AM11*Annual!$K50/100 -> 452.76977 | AN31: =AN11*Annual!$K50/100 -> 439.11917 | AO31: =AO11*Annual!$K50/100 -> 516.44637 | AP31: =AP11*Annual!$L50/100 -> 454.17375 | AQ31: =AQ11*Annual!$L50/100 -> 504.92339 | AR31: =AR11*Annual!$L50/100 -> 489.23159 | AS31: =AS11*Annual!$L50/100 -> 574.99063 | AT31: =AT11*Annual!$M50/100 -> 507.06998 | AU31: =AU11*Annual!$M50/100 -> 567.58053 | AV31: =AV11*Annual!$M50/100 -> 549.51106 | AW31: =AW11*Annual!$M50/100 -> 631.41877 | AX31: =AX11*Annual!$N50/100 -> 553.87183 | AY31: =AY11*Annual!$N50/100 -> 623.57606 | AZ31: =AZ11*Annual!$N50/100 -> 619.20206 | BA31: =BA11*Annual!$N50/100 -> 720.25573 | BB31: =BB11*Annual!$O50/100 -> 620.83647 | BC31: =BC11*Annual!$O50/100 -> 701.92205 | BD31: =BD11*Annual!$O50/100 -> 709.21815 | BE31: =BE11*Annual!$O50/100 -> 808.91049 | BF31: =BF11*Annual!P50/100 -> 675.26368 | BG31: =BG11*Annual!P50/100 -> 742.25014 | BH31: =BH11*Annual!P50/100 -> 809.48384 | BI31: =BI11*Annual!P50/100 -> 915.46282 | BJ31: =BJ11*Annual!Q50/100 -> 741.36736 | BK31: =BK11*Annual!Q50/100 -> 822.37924 | BL31: =BL11*Annual!Q50/100 -> 870.80014 | BM31: =BM11*Annual!Q50/100 -> 994.02511 | BN31: =BN11*Annual!$W50/100 -> 904.12078 | BO31: =BO11*Annual!$W50/100 -> 967.36686 | BP31: =BP11*Annual!$W50/100 -> 1016.6454 | BQ31: =BQ11*Annual!$W50/100 -> 1200.7339 | BR31: =BR11*Annual!$S50/100 -> 1024.8956 | BS31: =BS11*Annual!$S50/100 -> 1114.715 | BT31: =BT11*Annual!$S50/100 -> 1172.8989 | BU31: =BU11*Annual!$S50/100 -> 1373.3632 | BV31: =BV11*Annual!$T50/100 -> 1147.9263 | BW31: =BW11*Annual!$T50/100 -> 1257.3205 | BX31: =BX11*Annual!$T50/100 -> 1269.0356 | BY31: =BY11*Annual!$T50/100 -> 1523.9193 | BZ31: =BZ11*Annual!$U50/100 -> 1242.555 | CA31: =CA11*Annual!$U50/100 -> 1353.0078 | CB31: =CB11*Annual!$U50/100 -> 1357.5772 | CC31: =CC11*Annual!$U50/100 -> 1629.8489 | CD31: =CD11*Annual!$V50/100 -> 1344.0269 | CE31: =CE11*Annual!$V50/100 -> 1481.0508 | CF31: =CF11*Annual!$V50/100 -> 1476.656 | CG31: =CG11*Annual!$V50/100 -> 1767.1843 | CH31: =CH11*Annual!$W50/100 -> 1446.3421 | CI31: =CI11*Annual!$W50/100 -> 1597.4736 | CJ31: =CJ11*Annual!$W50/100 -> 1603.2803 | CK31: =CK11*Annual!$W50/100 -> 1930.6533
A32: Construction | B32: =B12*Annual!$B51/100 -> 617.31038 | C32: =C12*Annual!$B51/100 -> 635.23714 | D32: =D12*Annual!$B51/100 -> 636.2553 | E32: =E12*Annual!$B51/100 -> 701.33787 | F32: =F12*Annual!$C51/100 -> 623.5079 | G32: =G12*Annual!$C51/100 -> 633.33367 | H32: =H12*Annual!$C51/100 -> 647.29656 | I32: =I12*Annual!$C51/100 -> 706.33998 | J32: =J12*Annual!$D51/100 -> 670.41722 | K32: =K12*Annual!$D51/100 -> 700.23357 | L32: =L12*Annual!$D51/100 -> 713.95199 | M32: =M12*Annual!$D51/100 -> 786.27451 | N32: =N12*Annual!$E51/100 -> 640.81399 | O32: =O12*Annual!$E51/100 -> 670.0006 | P32: =P12*Annual!$E51/100 -> 681.16727 | Q32: =Q12*Annual!$E51/100 -> 742.38037 | R32: =R12*Annual!$F51/100 -> 639.62918 | S32: =S12*Annual!$F51/100 -> 641.67845 | T32: =T12*Annual!$F51/100 -> 644.71362 | U32: =U12*Annual!$F51/100 -> 710.02228 | V32: =V12*Annual!$G51/100 -> 642.44163 | W32: =W12*Annual!$G51/100 -> 644.27991 | X32: =X12*Annual!$G51/100 -> 665.99262 | Y32: =Y12*Annual!$G51/100 -> 730.88811 | Z32: =Z12*Annual!H51/100 -> 783.10092 | AA32: =AA12*Annual!H51/100 -> 783.30584 | AB32: =AB12*Annual!H51/100 -> 809.2018 | AC32: =AC12*Annual!H51/100 -> 891.06711 | AD32: =AD12*Annual!$I51/100 -> 615.33218 | AE32: =AE12*Annual!$I51/100 -> 628.17156 | AF32: =AF12*Annual!$I51/100 -> 661.13236 | AG32: =AG12*Annual!$I51/100 -> 744.49253 | AH32: =AH12*Annual!$J51/100 -> 672.23263 | AI32: =AI12*Annual!$J51/100 -> 698.80533 | AJ32: =AJ12*Annual!$J51/100 -> 741.02011 | AK32: =AK12*Annual!$J51/100 -> 825.63812 | AL32: =AL12*Annual!$K51/100 -> 748.40236 | AM32: =AM12*Annual!$K51/100 -> 789.93812 | AN32: =AN12*Annual!$K51/100 -> 839.43965 | AO32: =AO12*Annual!$K51/100 -> 933.70117 | AP32: =AP12*Annual!$L51/100 -> 828.20006 | AQ32: =AQ12*Annual!$L51/100 -> 935.28825 | AR32: =AR12*Annual!$L51/100 -> 987.0989 | AS32: =AS12*Annual!$L51/100 -> 1105.936 | AT32: =AT12*Annual!$M51/100 -> 974.78108 | AU32: =AU12*Annual!$M51/100 -> 1078.7251 | AV32: =AV12*Annual!$M51/100 -> 1134.1745 | AW32: =AW12*Annual!$M51/100 -> 1248.2686 | AX32: =AX12*Annual!$N51/100 -> 1230.4604 | AY32: =AY12*Annual!$N51/100 -> 1493.4882 | AZ32: =AZ12*Annual!$N51/100 -> 1569.9236 | BA32: =BA12*Annual!$N51/100 -> 1743.9641 | BB32: =BB12*Annual!$O51/100 -> 1434.3868 | BC32: =BC12*Annual!$O51/100 -> 1747.2552 | BD32: =BD12*Annual!$O51/100 -> 1862.562 | BE32: =BE12*Annual!$O51/100 -> 2017.6816 | BF32: =BF12*Annual!P51/100 -> 1630.7819 | BG32: =BG12*Annual!P51/100 -> 1940.7214 | BH32: =BH12*Annual!P51/100 -> 2050.7916 | BI32: =BI12*Annual!P51/100 -> 2322.8412 | BJ32: =BJ12*Annual!Q51/100 -> 1771.2829 | BK32: =BK12*Annual!Q51/100 -> 2129.2105 | BL32: =BL12*Annual!Q51/100 -> 2152.1546 | BM32: =BM12*Annual!Q51/100 -> 2415.0555 | BN32: =BN12*Annual!$W51/100 -> 1932.1075 | BO32: =BO12*Annual!$W51/100 -> 2250.4175 | BP32: =BP12*Annual!$W51/100 -> 2374.0146 | BQ32: =BQ12*Annual!$W51/100 -> 2571.5797 | BR32: =BR12*Annual!$S51/100 -> 2099.1792 | BS32: =BS12*Annual!$S51/100 -> 2507.437 | BT32: =BT12*Annual!$S51/100 -> 2560.5976 | BU32: =BU12*Annual!$S51/100 -> 2787.8069 | BV32: =BV12*Annual!$T51/100 -> 2376.0451 | BW32: =BW12*Annual!$T51/100 -> 2822.9976 | BX32: =BX12*Annual!$T51/100 -> 2806.8997 | BY32: =BY12*Annual!$T51/100 -> 3070.7153 | BZ32: =BZ12*Annual!$U51/100 -> 2584.0883 | CA32: =CA12*Annual!$U51/100 -> 3069.9804 | CB32: =CB12*Annual!$U51/100 -> 3066.7551 | CC32: =CC12*Annual!$U51/100 -> 3369.1807 | CD32: =CD12*Annual!$V51/100 -> 2794.6761 | CE32: =CE12*Annual!$V51/100 -> 3329.4751 | CF32: =CF12*Annual!$V51/100 -> 3310.09 | CG32: =CG12*Annual!$V51/100 -> 3609.7979 | CH32: =CH12*Annual!$W51/100 -> 3010.0641 | CI32: =CI12*Annual!$W51/100 -> 3552.1799 | CJ32: =CJ12*Annual!$W51/100 -> 3551.9898 | CK32: =CK12*Annual!$W51/100 -> 3902.435
A33: Tertiary industries | B33: =SUM(B34:B38) -> 6665.8696 | C33: =SUM(C34:C38) -> 6982.9533 | D33: =SUM(D34:D38) -> 7157.6366 | E33: =SUM(E34:E38) -> 7556.9354 | F33: =SUM(F34:F38) -> 7605.5545 | G33: =SUM(G34:G38) -> 8069.4219 | H33: =SUM(H34:H38) -> 8250.2249 | I33: =SUM(I34:I38) -> 8672.4695 | ... CK33: =SUM(CK34:CK38) -> 58480.265
A34: Wholesale & retail trade; hotels & restaurants | B34: =B14*Annual!$B53/100 -> 1247.5319 | C34: =C14*Annual!$B53/100 -> 1315.3935 | D34: =D14*Annual!$B53/100 -> 1365.7884 | E34: =E14*Annual!$B53/100 -> 1583.9389 | F34: =F14*Annual!$C53/100 -> 1408.2091 | G34: =G14*Annual!$C53/100 -> 1405.141 | H34: =H14*Annual!$C53/100 -> 1447.9331 | I34: =I14*Annual!$C53/100 -> 1646.8451 | J34: =J14*Annual!$D53/100 -> 1504.9538 | K34: =K14*Annual!$D53/100 -> 1540.2259 | L34: =L14*Annual!$D53/100 -> 1601.8366 | M34: =M14*Annual!$D53/100 -> 1842.4266 | N34: =N14*Annual!$E53/100 -> 1595.9859 | O34: =O14*Annual!$E53/100 -> 1602.2747 | P34: =P14*Annual!$E53/100 -> 1744.4639 | Q34: =Q14*Annual!$E53/100 -> 2121.6412 | R34: =R14*Annual!$F53/100 -> 1824.0772 | S34: =S14*Annual!$F53/100 -> 2001.6666 | T34: =T14*Annual!$F53/100 -> 2083.1956 | U34: =U14*Annual!$F53/100 -> 2421.3956 | V34: =V14*Annual!$G53/100 -> 2120.4206 | W34: =W14*Annual!$G53/100 -> 2293.4585 | X34: =X14*Annual!$G53/100 -> 2339.6654 | Y34: =Y14*Annual!$G53/100 -> 2689.6711 | Z34: =Z14*Annual!H53/100 -> 2360.6622 | AA34: =AA14*Annual!H53/100 -> 2432.1322 | AB34: =AB14*Annual!H53/100 -> 2468.6793 | AC34: =AC14*Annual!H53/100 -> 2811.4104 | AD34: =AD14*Annual!$I53/100 -> 2477.6002 | AE34: =AE14*Annual!$I53/100 -> 2597.5061 | AF34: =AF14*Annual!$I53/100 -> 2687.2404 | AG34: =AG14*Annual!$I53/100 -> 3129.7972 | AH34: =AH14*Annual!$J53/100 -> 2746.315 | AI34: =AI14*Annual!$J53/100 -> 2901.9764 | AJ34: =AJ14*Annual!$J53/100 -> 3010.1569 | AK34: =AK14*Annual!$J53/100 -> 3507.9722 | AL34: =AL14*Annual!$K53/100 -> 3014.6355 | AM34: =AM14*Annual!$K53/100 -> 3243.798 | AN34: =AN14*Annual!$K53/100 -> 3355.1272 | AO34: =AO14*Annual!$K53/100 -> 4039.6143 | AP34: =AP14*Annual!$L53/100 -> 3295.4888 | AQ34: =AQ14*Annual!$L53/100 -> 3491.1422 | AR34: =AR14*Annual!$L53/100 -> 3760.3688 | AS34: =AS14*Annual!$L53/100 -> 4358.0346 | AT34: =AT14*Annual!$M53/100 -> 3800.8806 | AU34: =AU14*Annual!$M53/100 -> 4028.8121 | AV34: =AV14*Annual!$M53/100 -> 4191.0168 | AW34: =AW14*Annual!$M53/100 -> 4921.645 | AX34: =AX14*Annual!$N53/100 -> 4101.6801 | AY34: =AY14*Annual!$N53/100 -> 4385.2545 | AZ34: =AZ14*Annual!$N53/100 -> 4636.2063 | BA34: =BA14*Annual!$N53/100 -> 5388.5513 | BB34: =BB14*Annual!$O53/100 -> 4558.943 | BC34: =BC14*Annual!$O53/100 -> 4974.5128 | BD34: =BD14*Annual!$O53/100 -> 5128.074 | BE34: =BE14*Annual!$O53/100 -> 5887.3055 | BF34: =BF14*Annual!P53/100 -> 4938.9728 | BG34: =BG14*Annual!P53/100 -> 5257.9299 | BH34: =BH14*Annual!P53/100 -> 5615.9909 | BI34: =BI14*Annual!P53/100 -> 6272.6549 | BJ34: =BJ14*Annual!Q53/100 -> 5380.1193 | BK34: =BK14*Annual!Q53/100 -> 5805.7101 | BL34: =BL14*Annual!Q53/100 -> 6135.0245 | BM34: =BM14*Annual!Q53/100 -> 7043.3136 | BN34: =BN14*Annual!$R53/100 -> 6098.1079 | BO34: =BO14*Annual!$R53/100 -> 6449.4364 | BP34: =BP14*Annual!$R53/100 -> 6785.4899 | BQ34: =BQ14*Annual!$R53/100 -> 7757.6207 | BR34: =BR14*Annual!$S53/100 -> 6678.3222 | BS34: =BS14*Annual!$S53/100 -> 7048.7218 | BT34: =BT14*Annual!$S53/100 -> 7351.6867 | BU34: =BU14*Annual!$S53/100 -> 8278.0948 | BV34: =BV14*Annual!$T53/100 -> 7466.1701 | BW34: =BW14*Annual!$T53/100 -> 7792.6111 | BX34: =BX14*Annual!$T53/100 -> 8054.2886 | BY34: =BY14*Annual!$T53/100 -> 9110.5081 | BZ34: =BZ14*Annual!$U53/100 -> 8115.1561 | CA34: =CA14*Annual!$U53/100 -> 8425.4212 | CB34: =CB14*Annual!$U53/100 -> 8875.0593 | CC34: =CC14*Annual!$U53/100 -> 9953.7641 | CD34: =CD14*Annual!$V53/100 -> 8731.519 | CE34: =CE14*Annual!$V53/100 -> 9010.9631 | CF34: =CF14*Annual!$V53/100 -> 9493.6992 | CG34: =CG14*Annual!$V53/100 -> 10662.957 | CH34: =CH14*Annual!$W53/100 -> 9374.218 | CI34: =CI14*Annual!$W53/100 -> 9659.0977 | CJ34: =CJ14*Annual!$W53/100 -> 10220.633 | CK34: =CK14*Annual!$W53/100 -> 11547.659
A35: Transport , storage and communication | B35: =B15*Annual!$B54/100 -> 1132.5198 | C35: =C15*Annual!$B54/100 -> 1240.0261 | D35: =D15*Annual!$B54/100 -> 1274.4125 | E35: =E15*Annual!$B54/100 -> 1352.4701 | F35: =F15*Annual!$C54/100 -> 1298.1195 | G35: =G15*Annual!$C54/100 -> 1387.8954 | H35: =H15*Annual!$C54/100 -> 1412.6724 | I35: =I15*Annual!$C54/100 -> 1495.0709 | J35: =J15*Annual!$D54/100 -> 1433.1515 | K35: =K15*Annual!$D54/100 -> 1467.0347 | L35: =L15*Annual!$D54/100 -> 1498.0884 | M35: =M15*Annual!$D54/100 -> 1581.3469 | N35: =N15*Annual!$E54/100 -> 1505.404 | O35: =O15*Annual!$E54/100 -> 1597.6517 | P35: =P15*Annual!$E54/100 -> 1609.3335 | Q35: =Q15*Annual!$E54/100 -> 1693.6496 | R35: =R15*Annual!$F54/100 -> 1550.1948 | S35: =S15*Annual!$F54/100 -> 1632.2752 | T35: =T15*Annual!$F54/100 -> 1665.786 | U35: =U15*Annual!$F54/100 -> 1746.1697 | V35: =V15*Annual!$G54/100 -> 1646.8974 | W35: =W15*Annual!$G54/100 -> 1742.7078 | X35: =X15*Annual!$G54/100 -> 1767.077 | Y35: =Y15*Annual!$G54/100 -> 1847.0579 | Z35: =Z15*Annual!H54/100 -> 1773.5712 | AA35: =AA15*Annual!H54/100 -> 1852.1628 | AB35: =AB15*Annual!H54/100 -> 1866.1896 | AC35: =AC15*Annual!H54/100 -> 1982.3237 | AD35: =AD15*Annual!$I54/100 -> 1815.9172 | AE35: =AE15*Annual!$I54/100 -> 1921.2618 | AF35: =AF15*Annual!$I54/100 -> 1952.7804 | AG35: =AG15*Annual!$I54/100 -> 2105.2352 | AH35: =AH15*Annual!$J54/100 -> 2028.8894 | AI35: =AI15*Annual!$J54/100 -> 2165.7917 | AJ35: =AJ15*Annual!$J54/100 -> 2179.772 | AK35: =AK15*Annual!$J54/100 -> 2346.9764 | AL35: =AL15*Annual!$K54/100 -> 2101.5193 | AM35: =AM15*Annual!$K54/100 -> 2227.4881 | AN35: =AN15*Annual!$K54/100 -> 2448.8726 | AO35: =AO15*Annual!$K54/100 -> 2828.3753 | AP35: =AP15*Annual!$L54/100 -> 2318.6146 | AQ35: =AQ15*Annual!$L54/100 -> 2627.1945 | AR35: =AR15*Annual!$L54/100 -> 2748.5179 | AS35: =AS15*Annual!$L54/100 -> 2866.3759 | AT35: =AT15*Annual!$M54/100 -> 2647.0923 | AU35: =AU15*Annual!$M54/100 -> 2839.2539 | AV35: =AV15*Annual!$M54/100 -> 2948.5188 | AW35: =AW15*Annual!$M54/100 -> 3167.564 | AX35: =AX15*Annual!$N54/100 -> 2927.4494 | AY35: =AY15*Annual!$N54/100 -> 3089.1774 | AZ35: =AZ15*Annual!$N54/100 -> 3248.6953 | BA35: =BA15*Annual!$N54/100 -> 3481.3649 | BB35: =BB15*Annual!$O54/100 -> 3165.9996 | BC35: =BC15*Annual!$O54/100 -> 3323.0414 | BD35: =BD15*Annual!$O54/100 -> 3527.411 | BE35: =BE15*Annual!$O54/100 -> 3677.6813 | BF35: =BF15*Annual!P54/100 -> 3271.0295 | BG35: =BG15*Annual!P54/100 -> 3465.0086 | BH35: =BH15*Annual!P54/100 -> 3723.6437 | BI35: =BI15*Annual!P54/100 -> 3933.63 | BJ35: =BJ15*Annual!Q54/100 -> 3621.2923 | BK35: =BK15*Annual!Q54/100 -> 3776.9563 | BL35: =BL15*Annual!Q54/100 -> 3996.5688 | BM35: =BM15*Annual!Q54/100 -> 4310.8419 | BN35: =BN15*Annual!$W54/100 -> 3900.6199 | BO35: =BO15*Annual!$W54/100 -> 4274.4022 | BP35: =BP15*Annual!$W54/100 -> 4385.2379 | BQ35: =BQ15*Annual!$W54/100 -> 4765.0963 | BR35: =BR15*Annual!$S54/100 -> 4207.5797 | BS35: =BS15*Annual!$S54/100 -> 4596.8649 | BT35: =BT15*Annual!$S54/100 -> 4739.2965 | BU35: =BU15*Annual!$S54/100 -> 5164.5029 | BV35: =BV15*Annual!$T54/100 -> 4825.2604 | BW35: =BW15*Annual!$T54/100 -> 5246.3855 | BX35: =BX15*Annual!$T54/100 -> 5328.8113 | BY35: =BY15*Annual!$T54/100 -> 5829.015 | BZ35: =BZ15*Annual!$U54/100 -> 5239.2098 | CA35: =CA15*Annual!$U54/100 -> 5736.6667 | CB35: =CB15*Annual!$U54/100 -> 5814.5514 | CC35: =CC15*Annual!$U54/100 -> 6400.5707 | CD35: =CD15*Annual!$V54/100 -> 5642.6826 | CE35: =CE15*Annual!$V54/100 -> 6208.5011 | CF35: =CF15*Annual!$V54/100 -> 6255.6352 | CG35: =CG15*Annual!$V54/100 -> 6909.0183 | CH35: =CH15*Annual!$W54/100 -> 6091.1436 | CI35: =CI15*Annual!$W54/100 -> 6653.7028 | CJ35: =CJ15*Annual!$W54/100 -> 6810.0042 | CK35: =CK15*Annual!$W54/100 -> 7386.8107
A36: Finance, real estate and business services | B36: =B16*Annual!$B55/100 -> 882.49166 | C36: =C16*Annual!$B55/100 -> 954.47008 | D36: =D16*Annual!$B55/100 -> 982.90284 | E36: =E16*Annual!$B55/100 -> 1041.809 | F36: =F16*Annual!$C55/100 -> 991.52103 | G36: =G16*Annual!$C55/100 -> 1079.5424 | H36: =H16*Annual!$C55/100 -> 1111.1538 | I36: =I16*Annual!$C55/100 -> 1177.644 | J36: =J16*Annual!$D55/100 -> 1153.1292 | K36: =K16*Annual!$D55/100 -> 1255.7302 | L36: =L16*Annual!$D55/100 -> 1267.7929 | M36: =M16*Annual!$D55/100 -> 1353.1822 | N36: =N16*Annual!$E55/100 -> 1406.3996 | O36: =O16*Annual!$E55/100 -> 1490.8418 | P36: =P16*Annual!$E55/100 -> 1528.8271 | Q36: =Q16*Annual!$E55/100 -> 1555.3417 | R36: =R16*Annual!$F55/100 -> 1621.1344 | S36: =S16*Annual!$F55/100 -> 1686.2579 | T36: =T16*Annual!$F55/100 -> 1715.2281 | U36: =U16*Annual!$F55/100 -> 1750.4073 | V36: =V16*Annual!$G55/100 -> 1749.6891 | W36: =W16*Annual!$G55/100 -> 1832.7002 | X36: =X16*Annual!$G55/100 -> 1886.7383 | Y36: =Y16*Annual!$G55/100 -> 1954.1121 | Z36: =Z16*Annual!H55/100 -> 1916.8699 | AA36: =AA16*Annual!H55/100 -> 2019.1928 | AB36: =AB16*Annual!H55/100 -> 2147.8729 | AC36: =AC16*Annual!H55/100 -> 2199.9414 | AD36: =AD16*Annual!$I55/100 -> 2220.674 | AE36: =AE16*Annual!$I55/100 -> 2398.4482 | AF36: =AF16*Annual!$I55/100 -> 2469.2647 | AG36: =AG16*Annual!$I55/100 -> 2492.0996 | AH36: =AH16*Annual!$J55/100 -> 2521.1356 | AI36: =AI16*Annual!$J55/100 -> 2683.9594 | AJ36: =AJ16*Annual!$J55/100 -> 2853.5552 | AK36: =AK16*Annual!$J55/100 -> 2924.5671 | AL36: =AL16*Annual!$K55/100 -> 2940.1866 | AM36: =AM16*Annual!$K55/100 -> 3081.9131 | AN36: =AN16*Annual!$K55/100 -> 3320.9463 | AO36: =AO16*Annual!$K55/100 -> 3423.8465 | AP36: =AP16*Annual!$L55/100 -> 3472.447 | AQ36: =AQ16*Annual!$L55/100 -> 3780.8726 | AR36: =AR16*Annual!$L55/100 -> 4076.8903 | AS36: =AS16*Annual!$L55/100 -> 4233.4225 | AT36: =AT16*Annual!$M55/100 -> 4002.5418 | AU36: =AU16*Annual!$M55/100 -> 4306.8582 | AV36: =AV16*Annual!$M55/100 -> 4519.066 | AW36: =AW16*Annual!$M55/100 -> 4635.8062 | AX36: =AX16*Annual!$N55/100 -> 4669.4826 | AY36: =AY16*Annual!$N55/100 -> 5002.3712 | AZ36: =AZ16*Annual!$N55/100 -> 5262.4232 | BA36: =BA16*Annual!$N55/100 -> 5533.1495 | BB36: =BB16*Annual!$O55/100 -> 5470.8578 | BC36: =BC16*Annual!$O55/100 -> 5626.9022 | BD36: =BD16*Annual!$O55/100 -> 6080.536 | BE36: =BE16*Annual!$O55/100 -> 5844.8626 | BF36: =BF16*Annual!P55/100 -> 5609.7251 | BG36: =BG16*Annual!P55/100 -> 5743.0413 | BH36: =BH16*Annual!P55/100 -> 6227.562 | BI36: =BI16*Annual!P55/100 -> 6068.8506 | BJ36: =BJ16*Annual!Q55/100 -> 6316.9444 | BK36: =BK16*Annual!Q55/100 -> 6519.6842 | BL36: =BL16*Annual!Q55/100 -> 6850.2 | BM36: =BM16*Annual!Q55/100 -> 6827.103 | BN36: =BN16*Annual!$W55/100 -> 7041.3289 | BO36: =BO16*Annual!$W55/100 -> 7256.9582 | BP36: =BP16*Annual!$W55/100 -> 7600.5627 | BQ36: =BQ16*Annual!$W55/100 -> 7532.7318 | BR36: =BR16*Annual!$S55/100 -> 7837.5378 | BS36: =BS16*Annual!$S55/100 -> 8019.4713 | BT36: =BT16*Annual!$S55/100 -> 7987.7137 | BU36: =BU16*Annual!$S55/100 -> 7939.0007 | BV36: =BV16*Annual!$T55/100 -> 8384.2413 | BW36: =BW16*Annual!$T55/100 -> 8732.524 | BX36: =BX16*Annual!$T55/100 -> 8824.7799 | BY36: =BY16*Annual!$T55/100 -> 8954.8809 | BZ36: =BZ16*Annual!$U55/100 -> 9158.1346 | CA36: =CA16*Annual!$U55/100 -> 9570.0815 | CB36: =CB16*Annual!$U55/100 -> 9688.9745 | CC36: =CC16*Annual!$U55/100 -> 10030.017 | CD36: =CD16*Annual!$V55/100 -> 10194.545 | CE36: =CE16*Annual!$V55/100 -> 10470.787 | CF36: =CF16*Annual!$V55/100 -> 10482.387 | CG36: =CG16*Annual!$V55/100 -> 10804.626 | CH36: =CH16*Annual!$W55/100 -> 11138.825 | CI36: =CI16*Annual!$W55/100 -> 11350.679 | CJ36: =CJ16*Annual!$W55/100 -> 11461.123 | CK36: =CK16*Annual!$W55/100 -> 11610.944
A37: Personal services | B37: =B17*Annual!$B56/100 -> 784.87408 | C37: =C17*Annual!$B56/100 -> 814.42325 | D37: =D17*Annual!$B56/100 -> 849.34773 | E37: =E17*Annual!$B56/100 -> 860.61064 | F37: =F17*Annual!$C56/100 -> 876.91178 | G37: =G17*Annual!$C56/100 -> 913.14099 | H37: =H17*Annual!$C56/100 -> 950.93855 | I37: =I17*Annual!$C56/100 -> 965.74119 | J37: =J17*Annual!$D56/100 -> 1013.8341 | K37: =K17*Annual!$D56/100 -> 1050.093 | L37: =L17*Annual!$D56/100 -> 1088.8802 | M37: =M17*Annual!$D56/100 -> 1103.5298 | N37: =N17*Annual!$E56/100 -> 1114.8594 | O37: =O17*Annual!$E56/100 -> 1142.3782 | P37: =P17*Annual!$E56/100 -> 1195.3893 | Q37: =Q17*Annual!$E56/100 -> 1209.6158 | R37: =R17*Annual!$F56/100 -> 1251.678 | S37: =S17*Annual!$F56/100 -> 1279.4032 | T37: =T17*Annual!$F56/100 -> 1337.6688 | U37: =U17*Annual!$F56/100 -> 1350.5419 | V37: =V17*Annual!$G56/100 -> 1435.5277 | W37: =W17*Annual!$G56/100 -> 1494.5826 | X37: =X17*Annual!$G56/100 -> 1537.1759 | Y37: =Y17*Annual!$G56/100 -> 1537.9077 | Z37: =Z17*Annual!H56/100 -> 1635.2915 | AA37: =AA17*Annual!H56/100 -> 1650.9766 | AB37: =AB17*Annual!H56/100 -> 1662.6173 | AC37: =AC17*Annual!H56/100 -> 1644.5644 | AD37: =AD17*Annual!$I56/100 -> 1849.2428 | AE37: =AE17*Annual!$I56/100 -> 1887.2435 | AF37: =AF17*Annual!$I56/100 -> 1896.3914 | AG37: =AG17*Annual!$I56/100 -> 1894.9996 | AH37: =AH17*Annual!$J56/100 -> 2026.0224 | AI37: =AI17*Annual!$J56/100 -> 2085.9693 | AJ37: =AJ17*Annual!$J56/100 -> 2100.9018 | AK37: =AK17*Annual!$J56/100 -> 2148.6428 | AL37: =AL17*Annual!$K56/100 -> 2273.657 | AM37: =AM17*Annual!$K56/100 -> 2248.9617 | AN37: =AN17*Annual!$K56/100 -> 2247.3678 | AO37: =AO17*Annual!$K56/100 -> 2325.6017 | AP37: =AP17*Annual!$L56/100 -> 2446.2271 | AQ37: =AQ17*Annual!$L56/100 -> 2490.7514 | AR37: =AR17*Annual!$L56/100 -> 2511.0064 | AS37: =AS17*Annual!$L56/100 -> 2527.8811 | AT37: =AT17*Annual!$M56/100 -> 2644.8579 | AU37: =AU17*Annual!$M56/100 -> 2719.0735 | AV37: =AV17*Annual!$M56/100 -> 2740.8537 | AW37: =AW17*Annual!$M56/100 -> 2773.8233 | AX37: =AX17*Annual!$N56/100 -> 2988.6324 | AY37: =AY17*Annual!$N56/100 -> 3067.6288 | AZ37: =AZ17*Annual!$N56/100 -> 3081.4752 | BA37: =BA17*Annual!$N56/100 -> 3129.5995 | BB37: =BB17*Annual!$O56/100 -> 3277.824 | BC37: =BC17*Annual!$O56/100 -> 3277.1919 | BD37: =BD17*Annual!$O56/100 -> 3330.0118 | BE37: =BE17*Annual!$O56/100 -> 3383.7896 | BF37: =BF17*Annual!P56/100 -> 3458.6547 | BG37: =BG17*Annual!P56/100 -> 3458.3836 | BH37: =BH17*Annual!P56/100 -> 3562.168 | BI37: =BI17*Annual!P56/100 -> 3579.537 | BJ37: =BJ17*Annual!Q56/100 -> 3665.1471 | BK37: =BK17*Annual!Q56/100 -> 3689.6123 | BL37: =BL17*Annual!Q56/100 -> 3783.3404 | BM37: =BM17*Annual!Q56/100 -> 3809.6239 | BN37: =BN17*Annual!$R56/100 -> 3988.0421 | BO37: =BO17*Annual!$R56/100 -> 3984.3958 | BP37: =BP17*Annual!$R56/100 -> 4151.1305 | BQ37: =BQ17*Annual!$R56/100 -> 4086.6575 | BR37: =BR17*Annual!$S56/100 -> 4303.5282 | BS37: =BS17*Annual!$S56/100 -> 4303.1989 | BT37: =BT17*Annual!$S56/100 -> 4459.4543 | BU37: =BU17*Annual!$S56/100 -> 4378.7745 | BV37: =BV17*Annual!$T56/100 -> 4638.284 | BW37: =BW17*Annual!$T56/100 -> 4627.0824 | BX37: =BX17*Annual!$T56/100 -> 4753.4298 | BY37: =BY17*Annual!$T56/100 -> 4726.9084 | BZ37: =BZ17*Annual!$U56/100 -> 4993.1695 | CA37: =CA17*Annual!$U56/100 -> 5025.4792 | CB37: =CB17*Annual!$U56/100 -> 5143.1788 | CC37: =CC17*Annual!$U56/100 -> 5085.1532 | CD37: =CD17*Annual!$V56/100 -> 5306.7727 | CE37: =CE17*Annual!$V56/100 -> 5484.3472 | CF37: =CF17*Annual!$V56/100 -> 5514.3831 | CG37: =CG17*Annual!$V56/100 -> 5476.0956 | CH37: =CH17*Annual!$W56/100 -> 5663.555 | CI37: =CI17*Annual!$W56/100 -> 5908.6555 | CJ37: =CJ17*Annual!$W56/100 -> 5950.0832 | CK37: =CK17*Annual!$W56/100 -> 5900.733
A38: General government services | B38: =B18*Annual!$B57/100 -> 2618.4522 | C38: =C18*Annual!$B57/100 -> 2658.6403 | D38: =D18*Annual!$B57/100 -> 2685.1852 | E38: =E18*Annual!$B57/100 -> 2718.1067 | F38: =F18*Annual!$C57/100 -> 3030.7932 | G38: =G18*Annual!$C57/100 -> 3283.7021 | H38: =H18*Annual!$C57/100 -> 3327.5271 | I38: =I18*Annual!$C57/100 -> 3387.1683 | J38: =J18*Annual!$D57/100 -> 3439.7494 | K38: =K18*Annual!$D57/100 -> 3472.2026 | L38: =L18*Annual!$D57/100 -> 3558.0136 | M38: =M18*Annual!$D57/100 -> 3624.6743 | N38: =N18*Annual!$E57/100 -> 3835.6881 | O38: =O18*Annual!$E57/100 -> 3874.8676 | P38: =P18*Annual!$E57/100 -> 3893.4816 | Q38: =Q18*Annual!$E57/100 -> 3936.7141 | R38: =R18*Annual!$F57/100 -> 3952.7219 | S38: =S18*Annual!$F57/100 -> 3990.7162 | T38: =T18*Annual!$F57/100 -> 4001.9683 | U38: =U18*Annual!$F57/100 -> 4041.1317 | V38: =V18*Annual!$G57/100 -> 4239.5474 | W38: =W18*Annual!$G57/100 -> 4243.9597 | X38: =X18*Annual!$G57/100 -> 4295.1413 | Y38: =Y18*Annual!$G57/100 -> 4347.6466 | Z38: =Z18*Annual!H57/100 -> 4617.9892 | AA38: =AA18*Annual!H57/100 -> 4597.6106 | AB38: =AB18*Annual!H57/100 -> 4626.2305 | AC38: =AC18*Annual!H57/100 -> 4694.2589 | AD38: =AD18*Annual!$I57/100 -> 4990.9905 | AE38: =AE18*Annual!$I57/100 -> 5035.5103 | AF38: =AF18*Annual!$I57/100 -> 5251.9837 | AG38: =AG18*Annual!$I57/100 -> 5039.8427 | AH38: =AH18*Annual!$J57/100 -> 5502.6161 | AI38: =AI18*Annual!$J57/100 -> 5598.8874 | AJ38: =AJ18*Annual!$J57/100 -> 5653.8571 | AK38: =AK18*Annual!$J57/100 -> 5684.0162 | AL38: =AL18*Annual!$K57/100 -> 6179.5674 | AM38: =AM18*Annual!$K57/100 -> 6101.5582 | AN38: =AN18*Annual!$K57/100 -> 5975.6797 | AO38: =AO18*Annual!$K57/100 -> 6311.2078 | AP38: =AP18*Annual!$L57/100 -> 6564.3361 | AQ38: =AQ18*Annual!$L57/100 -> 6579.2863 | AR38: =AR18*Annual!$L57/100 -> 6738.114 | AS38: =AS18*Annual!$L57/100 -> 7023.5006 | AT38: =AT18*Annual!$M57/100 -> 6969.845 | AU38: =AU18*Annual!$M57/100 -> 6954.9067 | AV38: =AV18*Annual!$M57/100 -> 7348.6281 | AW38: =AW18*Annual!$M57/100 -> 7777.9944 | AX38: =AX18*Annual!$N57/100 -> 7739.3877 | AY38: =AY18*Annual!$N57/100 -> 7860.4106 | AZ38: =AZ18*Annual!$N57/100 -> 8332.6374 | BA38: =BA18*Annual!$N57/100 -> 8734.4158 | BB38: =BB18*Annual!$O57/100 -> 8851.0349 | BC38: =BC18*Annual!$O57/100 -> 9197.9018 | BD38: =BD18*Annual!$O57/100 -> 9765.1922 | BE38: =BE18*Annual!$O57/100 -> 10318.252 | BF38: =BF18*Annual!P57/100 -> 10605.902 | BG38: =BG18*Annual!P57/100 -> 10558.127 | BH38: =BH18*Annual!P57/100 -> 11243.752 | BI38: =BI18*Annual!P57/100 -> 12362.474 | BJ38: =BJ18*Annual!Q57/100 -> 12678.099 | BK38: =BK18*Annual!Q57/100 -> 12459.135 | BL38: =BL18*Annual!Q57/100 -> 13057.926 | BM38: =BM18*Annual!Q57/100 -> 13681.958 | BN38: =BN18*Annual!$W57/100 -> 13696.281 | BO38: =BO18*Annual!$W57/100 -> 14340.751 | BP38: =BP18*Annual!$W57/100 -> 14701.399 | BQ38: =BQ18*Annual!$W57/100 -> 14860.844 | BR38: =BR18*Annual!$S57/100 -> 14853.448 | BS38: =BS18*Annual!$S57/100 -> 15211.698 | BT38: =BT18*Annual!$S57/100 -> 15803.242 | BU38: =BU18*Annual!$S57/100 -> 16295.503 | BV38: =BV18*Annual!$T57/100 -> 16148.461 | BW38: =BW18*Annual!$T57/100 -> 16873.235 | BX38: =BX18*Annual!$T57/100 -> 17432.296 | BY38: =BY18*Annual!$T57/100 -> 18031.894 | BZ38: =BZ18*Annual!$U57/100 -> 18009.771 | CA38: =CA18*Annual!$U57/100 -> 18791.869 | CB38: =CB18*Annual!$U57/100 -> 18976.031 | CC38: =CC18*Annual!$U57/100 -> 19475.647 | CD38: =CD18*Annual!$V57/100 -> 19076.282 | CE38: =CE18*Annual!$V57/100 -> 19805.442 | CF38: =CF18*Annual!$V57/100 -> 20314.577 | CG38: =CG18*Annual!$V57/100 -> 20890.417 | CH38: =CH18*Annual!$W57/100 -> 20830.325 | CI38: =CI18*Annual!$W57/100 -> 21391.431 | CJ38: =CJ18*Annual!$W57/100 -> 21746.878 | CK38: =CK18*Annual!$W57/100 -> 22034.118
A39: =A21 -> SA - Annual Compensation of Employees | B39: =B33+B29+B26 -> 10769.112 | C39: =C33+C29+C26 -> 11168.884 | D39: =D33+D29+D26 -> 11549.738 | E39: =E33+E29+E26 -> 12431.149 | F39: =F33+F29+F26 -> 12027.833 | G39: =G33+G29+G26 -> 12527.868 | H39: =H33+H29+H26 -> 12926.144 | I39: =I33+I29+I26 -> 13704.11 | ... CK39: =CK33+CK29+CK26 -> 86904.451
A41: KZN - Annual Compensation of Employees | B41: =B39+B40 -> 10769.112 | C41: =C39+C40 -> 11168.884 | D41: =D39+D40 -> 11549.738 | E41: =E39+E40 -> 12431.149 | F41: =F39+F40 -> 12027.833 | G41: =G39+G40 -> 12527.868 | H41: =H39+H40 -> 12926.144 | I41: =I39+I40 -> 13704.11 | ... CK41: =CK39+CK40 -> 86904.451
A43: =A3 -> SA – Annual Compensation of Employees
A44: Quarterly Change
A45: National Industry | B45: =B25 -> 1995q1 | C45: =C25 -> 1995q2 | D45: =D25 -> 1995q3 | E45: =E25 -> 1995q4 | F45: =F25 -> 1996q1 | G45: =G25 -> 1996q2 | H45: =H25 -> 1996q3 | I45: =I25 -> 1996q4 | ... CK45: =CK25 -> 2016q4
A46: Primary Industries | C46: =(C6-B6)/B6*100 -> 3.3283385 | D46: =(D6-C6)/C6*100 -> 5.1599586 | E46: =(E6-D6)/D6*100 -> 2.986799 | F46: =(F6-E6)/E6*100 -> -0.61694789 | G46: =(G6-F6)/F6*100 -> 0.40243789 | H46: =(H6-G6)/G6*100 -> 3.2524766 | I46: =(I6-H6)/H6*100 -> 2.3879073 | J46: =(J6-I6)/I6*100 -> 2.8923537 | ... CK46: =(CK6-CJ6)/CJ6*100 -> 3.5902756
A47: Agriculture, forestry and fishing | C47: =(C7-B7)/B7*100 -> 7.5460989 | D47: =(D7-C7)/C7*100 -> -0.4275939 | E47: =(E7-D7)/D7*100 -> -7.9670429 | F47: =(F7-E7)/E7*100 -> 9.4226795 | G47: =(G7-F7)/F7*100 -> 7.5293062 | H47: =(H7-G7)/G7*100 -> -0.43328568 | I47: =(I7-H7)/H7*100 -> -7.9364281 | J47: =(J7-I7)/I7*100 -> 8.716423 | ... CK47: =(CK7-CJ7)/CJ7*100 -> -8.6003835
A48: Mining and quarrying | C48: =(C8-B8)/B8*100 -> 1.815771 | D48: =(D8-C8)/C8*100 -> 7.2765357 | E48: =(E8-D8)/D8*100 -> 6.838151 | F48: =(F8-E8)/E8*100 -> -3.6577023 | G48: =(G8-F8)/F8*100 -> -2.0491803 | H48: =(H8-G8)/G8*100 -> 4.6443515 | I48: =(I8-H8)/H8*100 -> 6.097561 | J48: =(J8-I8)/I8*100 -> 1.0765027 | ... CK48: =(CK8-CJ8)/CJ8*100 -> 5.9935205
A49: Secondary Industries | C49: =(C9-B9)/B9*100 -> 1.4593615 | D49: =(D9-C9)/C9*100 -> 5.6558596 | E49: =(E9-D9)/D9*100 -> 13.501325 | F49: =(F9-E9)/E9*100 -> -10.303759 | G49: =(G9-F9)/F9*100 -> 0.35251613 | H49: =(H9-G9)/G9*100 -> 5.6083273 | I49: =(I9-H9)/H9*100 -> 9.4579595 | J49: =(J9-I9)/I9*100 -> -9.4829471 | ... CK49: =(CK9-CJ9)/CJ9*100 -> 13.458903
A50: Manufacturing | C50: =(C10-B10)/B10*100 -> 0.2590792 | D50: =(D10-C10)/C10*100 -> 6.8241446 | E50: =(E10-D10)/D10*100 -> 14.889209 | F50: =(F10-E10)/E10*100 -> -11.602309 | G50: =(G10-F10)/F10*100 -> -0.92683405 | H50: =(H10-G10)/G10*100 -> 6.285488 | I50: =(I10-H10)/H10*100 -> 9.892888 | J50: =(J10-I10)/I10*100 -> -9.7089847 | ... CK50: =(CK10-CJ10)/CJ10*100 -> 13.410233
A51: Electricity, gas and water | C51: =(C11-B11)/B11*100 -> 12.618587 | D51: =(D11-C11)/C11*100 -> 5.0952809 | E51: =(E11-D11)/D11*100 -> 5.0583658 | F51: =(F11-E11)/E11*100 -> -0.3505559 | G51: =(G11-F11)/F11*100 -> 11.5585 | H51: =(H11-G11)/G11*100 -> 5.5020348 | I51: =(I11-H11)/H11*100 -> 5.895521 | J51: =(J11-I11)/I11*100 -> -11.608313 | ... CK51: =(CK11-CJ11)/CJ11*100 -> 20.418951
A52: Construction | C52: =(C12-B12)/B12*100 -> 2.9040105 | D52: =(D12-C12)/C12*100 -> 0.16027978 | E52: =(E12-D12)/D12*100 -> 10.229002 | F52: =(F12-E12)/E12*100 -> -7.7079945 | G52: =(G12-F12)/F12*100 -> 1.5758846 | H52: =(H12-G12)/G12*100 -> 2.2046667 | I52: =(I12-H12)/H12*100 -> 9.1215406 | J52: =(J12-I12)/I12*100 -> -7.1296016 | ... CK52: =(CK12-CJ12)/CJ12*100 -> 9.866167
A53: Tertiary industries | C53: =(C13-B13)/B13*100 -> 4.5227057 | D53: =(D13-C13)/C13*100 -> 2.4574072 | E53: =(E13-D13)/D13*100 -> 5.5235332 | F53: =(F13-E13)/E13*100 -> 0.61606968 | G53: =(G13-F13)/F13*100 -> 6.1243601 | H53: =(H13-G13)/G13*100 -> 2.2559078 | I53: =(I13-H13)/H13*100 -> 5.1175173 | J53: =(J13-I13)/I13*100 -> 0.2653367 | ... CK53: =(CK13-CJ13)/CJ13*100 -> 3.7472136
A54: Wholesale & retail trade; hotels & restaurants | C54: =(C14-B14)/B14*100 -> 5.4396727 | D54: =(D14-C14)/C14*100 -> 3.8311627 | E54: =(E14-D14)/D14*100 -> 15.9725 | F54: =(F14-E14)/E14*100 -> -9.8311117 | G54: =(G14-F14)/F14*100 -> -0.21787325 | H54: =(H14-G14)/G14*100 -> 3.0453936 | I54: =(I14-H14)/H14*100 -> 13.737653 | J54: =(J14-I14)/I14*100 -> -8.7561054 | ... CK54: =(CK14-CJ14)/CJ14*100 -> 12.983794
A55: Transport , storage and communication | C55: =(C15-B15)/B15*100 -> 9.4926675 | D55: =(D15-C15)/C15*100 -> 2.7730317 | E55: =(E15-D15)/D15*100 -> 6.1249936 | F55: =(F15-E15)/E15*100 -> -2.61137 | G55: =(G15-F15)/F15*100 -> 6.9158433 | H55: =(H15-G15)/G15*100 -> 1.7852249 | I55: =(I15-H15)/H15*100 -> 5.8328115 | J55: =(J15-I15)/I15*100 -> -2.3699342 | ... CK55: =(CK15-CJ15)/CJ15*100 -> 8.4699874
A56: Finance, real estate and business services | C56: =(C16-B16)/B16*100 -> 8.1562716 | D56: =(D16-C16)/C16*100 -> 2.9789054 | E56: =(E16-D16)/D16*100 -> 5.9930796 | F56: =(F16-E16)/E16*100 -> -4.9764952 | G56: =(G16-F16)/F16*100 -> 8.8774066 | H56: =(H16-G16)/G16*100 -> 2.9282207 | I56: =(I16-H16)/H16*100 -> 5.983887 | J56: =(J16-I16)/I16*100 -> -1.5617479 | ... CK56: =(CK16-CJ16)/CJ16*100 -> 1.3072126
A57: Personal services | C57: =(C17-B17)/B17*100 -> 3.7648285 | D57: =(D17-C17)/C17*100 -> 4.2882474 | E57: =(E17-D17)/D17*100 -> 1.3260652 | F57: =(F17-E17)/E17*100 -> 1.9045853 | G57: =(G17-F17)/F17*100 -> 4.1314551 | H57: =(H17-G17)/G17*100 -> 4.1392907 | I57: =(I17-H17)/H17*100 -> 1.5566339 | J57: =(J17-I17)/I17*100 -> 5.0171941 | ... CK57: =(CK17-CJ17)/CJ17*100 -> -0.82940361
... A61: SA - Annual Compensation of Employees | C61: =(C21-B21)/B21*100 -> 3.6154777 | D61: =(D21-C21)/C21*100 -> 3.5188682 | E61: =(E21-D21)/D21*100 -> 7.3688344 | F61: =(F21-E21)/E21*100 -> -2.5007382 | G61: =(G21-F21)/F21*100 -> 4.146746 | H61: =(H21-G21)/G21*100 -> 3.1609645 | I61: =(I21-H21)/H21*100 -> 5.9654702 | J61: =(J21-I21)/I21*100 -> -2.0313518 | ... CK61: =(CK21-CJ21)/CJ21*100 -> 5.8160103
A63: =A23 -> KZN – Annual Compensation of Employees
A64: Quarterly Change
A65: Provincial Industry | B65: =B45 -> 1995q1 | C65: =C45 -> 1995q2 | D65: =D45 -> 1995q3 | E65: =E45 -> 1995q4 | F65: =F45 -> 1996q1 | G65: =G45 -> 1996q2 | H65: =H45 -> 1996q3 | I65: =I45 -> 1996q4 | ... CK65: =CK45 -> 2016q4
A66: Primary Industries | C66: =(C26-B26)/B26*100 -> 6.0372563 | D66: =(D26-C26)/C26*100 -> 1.5202072 | E66: =(E26-D26)/D26*100 -> -4.0116705 | F66: =(F26-E26)/E26*100 -> 0.98799099 | G66: =(G26-F26)/F26*100 -> 4.7393319 | H66: =(H26-G26)/G26*100 -> 0.9498451 | I66: =(I26-H26)/H26*100 -> -3.973713 | J66: =(J26-I26)/I26*100 -> 5.1510192 | ... CK66: =(CK26-CJ26)/CJ26*100 -> -2.97104
A67: Agriculture, forestry and fishing | C67: =(C27-B27)/B27*100 -> 7.5460989 | D67: =(D27-C27)/C27*100 -> -0.4275939 | E67: =(E27-D27)/D27*100 -> -7.9670429 | F67: =(F27-E27)/E27*100 -> 1.8624242 | G67: =(G27-F27)/F27*100 -> 7.5293062 | H67: =(H27-G27)/G27*100 -> -0.43328568 | I67: =(I27-H27)/H27*100 -> -7.9364281 | J67: =(J27-I27)/I27*100 -> 7.2668757 | ... CK67: =(CK27-CJ27)/CJ27*100 -> -8.6003835
A68: Mining and quarrying | C68: =(C28-B28)/B28*100 -> 1.815771 | D68: =(D28-C28)/C28*100 -> 7.2765357 | E68: =(E28-D28)/D28*100 -> 6.838151 | F68: =(F28-E28)/E28*100 -> -1.07824 | G68: =(G28-F28)/F28*100 -> -2.0491803 | H68: =(H28-G28)/G28*100 -> 4.6443515 | I68: =(I28-H28)/H28*100 -> 6.097561 | J68: =(J28-I28)/I28*100 -> 0.48485334 | ... CK68: =(CK28-CJ28)/CJ28*100 -> 5.9935205
A69: Secondary Industries | C69: =(C29-B29)/B29*100 -> 1.3237964 | D69: =(D29-C29)/C29*100 -> 5.5379096 | E69: =(E29-D29)/D29*100 -> 13.570482 | F69: =(F29-E29)/E29*100 -> -10.772544 | G69: =(G29-F29)/F29*100 -> 0.16870851 | H69: =(H29-G29)/G29*100 -> 5.5576405 | I69: =(I29-H29)/H29*100 -> 9.5245732 | J69: =(J29-I29)/I29*100 -> -9.1343269 | ... CK69: =(CK29-CJ29)/CJ29*100 -> 13.34955
A70: Manufacturing | C70: =(C30-B30)/B30*100 -> 0.2590792 | D70: =(D30-C30)/C30*100 -> 6.8241446 | E70: =(E30-D30)/D30*100 -> 14.889209 | F70: =(F30-E30)/E30*100 -> -11.298944 | G70: =(G30-F30)/F30*100 -> -0.92683405 | H70: =(H30-G30)/G30*100 -> 6.285488 | I70: =(I30-H30)/H30*100 -> 9.892888 | J70: =(J30-I30)/I30*100 -> -9.7520807 | ... CK70: =(CK30-CJ30)/CJ30*100 -> 13.410233
A71: Electricity, gas and water | C71: =(C31-B31)/B31*100 -> 12.618587 | D71: =(D31-C31)/C31*100 -> 5.0952809 | E71: =(E31-D31)/D31*100 -> 5.0583658 | F71: =(F31-E31)/E31*100 -> -1.3505975 | G71: =(G31-F31)/F31*100 -> 11.5585 | H71: =(H31-G31)/G31*100 -> 5.5020348 | I71: =(I31-H31)/H31*100 -> 5.895521 | J71: =(J31-I31)/I31*100 -> -11.996261 | ... CK71: =(CK31-CJ31)/CJ31*100 -> 20.418951
A72: Construction | C72: =(C32-B32)/B32*100 -> 2.9040105 | D72: =(D32-C32)/C32*100 -> 0.16027978 | E72: =(E32-D32)/D32*100 -> 10.229002 | F72: =(F32-E32)/E32*100 -> -11.097357 | G72: =(G32-F32)/F32*100 -> 1.5758846 | H72: =(H32-G32)/G32*100 -> 2.2046667 | I72: =(I32-H32)/H32*100 -> 9.1215406 | J72: =(J32-I32)/I32*100 -> -5.0857615 | ... CK72: =(CK32-CJ32)/CJ32*100 -> 9.866167
A73: Tertiary industries | C73: =(C33-B33)/B33*100 -> 4.7568231 | D73: =(D33-C33)/C33*100 -> 2.5015678 | E73: =(E33-D33)/D33*100 -> 5.5786412 | F73: =(F33-E33)/E33*100 -> 0.64337063 | G73: =(G33-F33)/F33*100 -> 6.09906 | H73: =(H33-G33)/G33*100 -> 2.2405948 | I73: =(I33-H33)/H33*100 -> 5.1179765 | J73: =(J33-I33)/I33*100 -> -1.4719171 | ... CK73: =(CK33-CJ33)/CJ33*100 -> 4.0782981
A74: Wholesale & retail trade; hotels & restaurants | C74: =(C34-B34)/B34*100 -> 5.4396727 | D74: =(D34-C34)/C34*100 -> 3.8311627 | E74: =(E34-D34)/D34*100 -> 15.9725 | F74: =(F34-E34)/E34*100 -> -11.094482 | G74: =(G34-F34)/F34*100 -> -0.21787325 | H74: =(H34-G34)/G34*100 -> 3.0453936 | I74: =(I34-H34)/H34*100 -> 13.737653 | J74: =(J34-I34)/I34*100 -> -8.6159476 | ... CK74: =(CK34-CJ34)/CJ34*100 -> 12.983794
A75: Transport , storage and communication | C75: =(C35-B35)/B35*100 -> 9.4926675 | D75: =(D35-C35)/C35*100 -> 2.7730317 | E75: =(E35-D35)/D35*100 -> 6.1249936 | F75: =(F35-E35)/E35*100 -> -4.0186232 | G75: =(G35-F35)/F35*100 -> 6.9158433 | H75: =(H35-G35)/G35*100 -> 1.7852249 | I75: =(I35-H35)/H35*100 -> 5.8328115 | J75: =(J35-I35)/I35*100 -> -4.1415717 | ... CK75: =(CK35-CJ35)/CJ35*100 -> 8.4699874
A76: Finance, real estate and business services | C76: =(C36-B36)/B36*100 -> 8.1562716 | D76: =(D36-C36)/C36*100 -> 2.9789054 | E76: =(E36-D36)/D36*100 -> 5.9930796 | F76: =(F36-E36)/E36*100 -> -4.8269845 | G76: =(G36-F36)/F36*100 -> 8.8774066 | H76: =(H36-G36)/G36*100 -> 2.9282207 | I76: =(I36-H36)/H36*100 -> 5.983887 | J76: =(J36-I36)/I36*100 -> -2.0816748 | ... CK76: =(CK36-CJ36)/CJ36*100 -> 1.3072126
A77: Personal services | C77: =(C37-B37)/B37*100 -> 3.7648285 | D77: =(D37-C37)/C37*100 -> 4.2882474 | E77: =(E37-D37)/D37*100 -> 1.3260652 | F77: =(F37-E37)/E37*100 -> 1.8941366 | G77: =(G37-F37)/F37*100 -> 4.1314551 | H77: =(H37-G37)/G37*100 -> 4.1392907 | I77: =(I37-H37)/H37*100 -> 1.5566339 | J77: =(J37-I37)/I37*100 -> 4.9798927 | ... CK77: =(CK37-CJ37)/CJ37*100 -> -0.82940361
... A79: All industries at basic prices | C79: =(C39-B39)/B39*100 -> 3.7122034 | D79: =(D39-C39)/C39*100 -> 3.4099638 | E79: =(E39-D39)/D39*100 -> 7.6314371 | F79: =(F39-E39)/E39*100 -> -3.2444017 | G79: =(G39-F39)/F39*100 -> 4.1573128 | H79: =(H39-G39)/G39*100 -> 3.1791193 | I79: =(I39-H39)/H39*100 -> 6.0185494 | J79: =(J39-I39)/I39*100 -> -3.6205307 | ... CK79: =(CK39-CJ39)/CJ39*100 -> 6.3220917
A81: =A41 -> KZN - Annual Compensation of Employees | C81: =(C41-B41)/B41*100 -> 3.7122034 | D81: =(D41-C41)/C41*100 -> 3.4099638 | E81: =(E41-D41)/D41*100 -> 7.6314371 | F81: =(F41-E41)/E41*100 -> -3.2444017 | G81: =(G41-F41)/F41*100 -> 4.1573128 | H81: =(H41-G41)/G41*100 -> 3.1791193 | I81: =(I41-H41)/H41*100 -> 6.0185494 | J81: =(J41-I41)/I41*100 -> -3.6205307 | ... CK81: =(CK41-CJ41)/CJ41*100 -> 6.3220917
A83: =A43 -> SA – Annual Compensation of Employees
A84: Annual Change
A85: National Industry | B85: =B65 -> 1995q1 | C85: =C65 -> 1995q2 | D85: =D65 -> 1995q3 | E85: =E65 -> 1995q4 | F85: =F65 -> 1996q1 | G85: =G65 -> 1996q2 | H85: =H65 -> 1996q3 | I85: =I65 -> 1996q4 | ... CK85: =CK65 -> 2016q4
A86: Primary Industries | F86: =(F6-B6)/B6*100 -> 11.215096 | G86: =(G6-C6)/C6*100 -> 8.06587 | H86: =(H6-D6)/D6*100 -> 6.1056781 | I86: =(I6-E6)/E6*100 -> 5.4886494 | J86: =(J6-F6)/F6*100 -> 9.213545 | K86: =(K6-G6)/G6*100 -> 9.1768722 | L86: =(L6-H6)/H6*100 -> 10.021308 | M86: =(M6-I6)/I6*100 -> 10.06045 | ... CK86: =(CK6-CG6)/CG6*100 -> 6.6892739
A87: Agriculture, forestry and fishing | F87: =(F7-B7)/B7*100 -> 7.8411189 | G87: =(G7-C7)/C7*100 -> 7.8242801 | H87: =(H7-D7)/D7*100 -> 7.8181166 | I87: =(I7-E7)/E7*100 -> 7.8539823 | J87: =(J7-F7)/F7*100 -> 7.1578508 | K87: =(K7-G7)/G7*100 -> 7.2121307 | L87: =(L7-H7)/H7*100 -> 7.247436 | M87: =(M7-I7)/I7*100 -> 7.1460989 | ... CK87: =(CK7-CG7)/CG7*100 -> 5.6681444
A88: Mining and quarrying | F88: =(F8-B8)/B8*100 -> 12.425068 | G88: =(G8-C8)/C8*100 -> 8.1573848 | H88: =(H8-D8)/D8*100 -> 5.5035877 | I88: =(I8-E8)/E8*100 -> 4.7722487 | J88: =(J8-F8)/F8*100 -> 9.9206967 | K88: =(K8-G8)/G8*100 -> 9.9188285 | L88: =(L8-H8)/H8*100 -> 11.017993 | M88: =(M8-I8)/I8*100 -> 10.969097 | ... CK88: =(CK8-CG8)/CG8*100 -> 6.8648266
A89: Secondary Industries | F89: =(F9-B9)/B9*100 -> 9.134205 | G89: =(G9-C9)/C9*100 -> 7.9436329 | H89: =(H9-D9)/D9*100 -> 7.8950714 | I89: =(I9-E9)/E9*100 -> 4.0514224 | J89: =(J9-F9)/F9*100 -> 5.0035987 | K89: =(K9-G9)/G9*100 -> 7.7039496 | L89: =(L9-H9)/H9*100 -> 6.0990381 | M89: =(M9-I9)/I9*100 -> 6.9858965 | ... CK89: =(CK9-CG9)/CG9*100 -> 7.7668157
A90: Manufacturing | F90: =(F10-B10)/B10*100 -> 8.7710433 | G90: =(G10-C10)/C10*100 -> 7.4844464 | H90: =(H10-D10)/D10*100 -> 6.9424603 | I90: =(I10-E10)/E10*100 -> 2.291729 | J90: =(J10-F10)/F10*100 -> 4.4826396 | K90: =(K10-G10)/G10*100 -> 7.3266797 | L90: =(L10-H10)/H10*100 -> 5.4499797 | M90: =(M10-I10)/I10*100 -> 6.4538189 | ... CK90: =(CK10-CG10)/CG10*100 -> 7.509854
A91: Electricity, gas and water | F91: =(F11-B11)/B11*100 -> 23.907847 | G91: =(G11-C11)/C11*100 -> 22.741493 | H91: =(H11-D11)/D11*100 -> 23.216543 | I91: =(I11-E11)/E11*100 -> 24.198392 | J91: =(J11-F11)/F11*100 -> 10.167252 | K91: =(K11-G11)/G11*100 -> 10.403145 | L91: =(L11-H11)/H11*100 -> 9.0321554 | M91: =(M11-I11)/I11*100 -> 8.6847807 | ... CK91: =(CK11-CG11)/CG11*100 -> 9.2637002
A92: Construction | F92: =(F12-B12)/B12*100 -> 4.8546729 | G92: =(G12-C12)/C12*100 -> 3.5013709 | H92: =(H12-D12)/D12*100 -> 5.6139533 | I92: =(I12-E12)/E12*100 -> 4.5528585 | J92: =(J12-F12)/F12*100 -> 5.2080901 | K92: =(K12-G12)/G12*100 -> 8.1823201 | L92: =(L12-H12)/H12*100 -> 7.9224137 | M92: =(M12-I12)/I12*100 -> 8.9196771 | ... CK92: =(CK12-CG12)/CG12*100 -> 8.0499105
A93: Tertiary industries | F93: =(F13-B13)/B13*100 -> 13.702674 | G93: =(G13-C13)/C13*100 -> 15.444998 | H93: =(H13-D13)/D13*100 -> 15.217956 | I93: =(I13-E13)/E13*100 -> 14.774639 | J93: =(J13-F13)/F13*100 -> 14.374552 | K93: =(K13-G13)/G13*100 -> 10.900842 | L93: =(L13-H13)/H13*100 -> 11.265587 | M93: =(M13-I13)/I13*100 -> 11.605216 | ... CK93: =(CK13-CG13)/CG13*100 -> 6.7911063
A94: Wholesale & retail trade; hotels & restaurants | F94: =(F14-B14)/B14*100 -> 14.483659 | G94: =(G14-C14)/C14*100 -> 8.3408423 | H94: =(H14-D14)/D14*100 -> 7.520945 | I94: =(I14-E14)/E14*100 -> 5.4489635 | J94: =(J14-F14)/F14*100 -> 6.706141 | K94: =(K14-G14)/G14*100 -> 9.4455037 | L94: =(L14-H14)/H14*100 -> 10.459517 | M94: =(M14-I14)/I14*100 -> 11.704543 | ... CK94: =(CK14-CG14)/CG14*100 -> 8.2939997
A95: Transport , storage and communication | F95: =(F15-B15)/B15*100 -> 16.302791 | G95: =(G15-C15)/C15*100 -> 13.565696 | H95: =(H15-D15)/D15*100 -> 12.474155 | I95: =(I15-E15)/E15*100 -> 12.164493 | J95: =(J15-F15)/F15*100 -> 12.442559 | K95: =(K15-G15)/G15*100 -> 7.6556787 | L95: =(L15-H15)/H15*100 -> 8.0063376 | M95: =(M15-I15)/I15*100 -> 7.7255244 | ... CK95: =(CK15-CG15)/CG15*100 -> 6.8979109
A96: Finance, real estate and business services | F96: =(F16-B16)/B16*100 -> 12.178217 | G96: =(G16-C16)/C16*100 -> 12.926169 | H96: =(H16-D16)/D16*100 -> 12.870588 | I96: =(I16-E16)/E16*100 -> 12.860799 | J96: =(J16-F16)/F16*100 -> 16.916544 | K96: =(K16-G16)/G16*100 -> 16.938242 | L96: =(L16-H16)/H16*100 -> 14.702817 | M96: =(M16-I16)/I16*100 -> 15.516009 | ... CK96: =(CK16-CG16)/CG16*100 -> 7.4878594
A97: Personal services | F97: =(F17-B17)/B17*100 -> 11.737885 | G97: =(G17-C17)/C17*100 -> 12.132682 | H97: =(H17-D17)/D17*100 -> 11.972521 | I97: =(I17-E17)/E17*100 -> 12.227316 | J97: =(J17-F17)/F17*100 -> 15.655226 | K97: =(K17-G17)/G17*100 -> 15.03876 | L97: =(L17-H17)/H17*100 -> 14.54653 | M97: =(M17-I17)/I17*100 -> 14.308251 | ... CK97: =(CK17-CG17)/CG17*100 -> 7.7421494
... A99: All industries at basic prices | F99: =(F19-B19)/B19*100 -> 12.28551 | G99: =(G19-C19)/C19*100 -> 12.861232 | H99: =(H19-D19)/D19*100 -> 12.471028 | I99: =(I19-E19)/E19*100 -> 11.000976 | J99: =(J19-F19)/F19*100 -> 11.535363 | K99: =(K19-G19)/G19*100 -> 9.9706508 | L99: =(L19-H19)/H19*100 -> 9.8660405 | M99: =(M19-I19)/I19*100 -> 10.282839 | ... CK99: =(CK19-CG19)/CG19*100 -> 7.0052587
A101: =A61 -> SA - Annual Compensation of Employees | F101: =(F21-B21)/B21*100 -> 12.28551 | G101: =(G21-C21)/C21*100 -> 12.861232 | H101: =(H21-D21)/D21*100 -> 12.471028 | I101: =(I21-E21)/E21*100 -> 11.000976 | J101: =(J21-F21)/F21*100 -> 11.535363 | K101: =(K21-G21)/G21*100 -> 9.9706508 | L101: =(L21-H21)/H21*100 -> 9.8660405 | M101: =(M21-I21)/I21*100 -> 10.282839 | ... CK101: =(CK21-CG21)/CG21*100 -> 7.0052587
A103: =A63 -> KZN – Annual Compensation of Employees
A104: Annual Change
A105: Provincial Industry | B105: =B85 -> 1995q1 | C105: =C85 -> 1995q2 | D105: =D85 -> 1995q3 | E105: =E85 -> 1995q4 | F105: =F85 -> 1996q1 | G105: =G85 -> 1996q2 | H105: =H85 -> 1996q3 | I105: =I85 -> 1996q4 | ... CK105: =CK85 -> 2016q4
A106: Primary Industries | F106: =(F26-B26)/B26*100 -> 4.3516075 | G106: =(G26-C26)/C26*100 -> 3.0743159 | H106: =(H26-D26)/D26*100 -> 2.4952225 | I106: =(I26-E26)/E26*100 -> 2.5357531 | J106: =(J26-F26)/F26*100 -> 6.7625847 | K106: =(K26-G26)/G26*100 -> 6.7340617 | L106: =(L26-H26)/H26*100 -> 7.1024293 | M106: =(M26-I26)/I26*100 -> 7.1532383 | ... CK106: =(CK26-CG26)/CG26*100 -> 6.4650811
A107: Agriculture, forestry and fishing | F107: =(F27-B27)/B27*100 -> 0.39013712 | G107: =(G27-C27)/C27*100 -> 0.37446178 | H107: =(H27-D27)/D27*100 -> 0.36872415 | I107: =(I27-E27)/E27*100 -> 0.40211181 | J107: =(J27-F27)/F27*100 -> 5.7290844 | K107: =(K27-G27)/G27*100 -> 5.7826405 | L107: =(L27-H27)/H27*100 -> 5.8174751 | M107: =(M27-I27)/I27*100 -> 5.7174892 | ... CK107: =(CK27-CG27)/CG27*100 -> 6.1183444
A108: Mining and quarrying | F108: =(F28-B28)/B28*100 -> 15.435129 | G108: =(G28-C28)/C28*100 -> 11.053184 | H108: =(H28-D28)/D28*100 -> 8.3283338 | I108: =(I28-E28)/E28*100 -> 7.577414 | J108: =(J28-F28)/F28*100 -> 9.277278 | K108: =(K28-G28)/G28*100 -> 9.2754207 | L108: =(L28-H28)/H28*100 -> 10.368151 | M108: =(M28-I28)/I28*100 -> 10.319542 | ... CK108: =(CK28-CG28)/CG28*100 -> 6.9449316
A109: Secondary Industries | F109: =(F29-B29)/B29*100 -> 8.3637232 | G109: =(G29-C29)/C29*100 -> 7.1283804 | H109: =(H29-D29)/D29*100 -> 7.1484087 | I109: =(I29-E29)/E29*100 -> 3.3312844 | J109: =(J29-F29)/F29*100 -> 5.2284482 | K109: =(K29-G29)/G29*100 -> 7.984642 | L109: =(L29-H29)/H29*100 -> 6.3823106 | M109: =(M29-I29)/I29*100 -> 7.2993537 | ... CK109: =(CK29-CG29)/CG29*100 -> 7.7502197
A110: Manufacturing | F110: =(F30-B30)/B30*100 -> 9.1443259 | G110: =(G30-C30)/C30*100 -> 7.8533137 | H110: =(H30-D30)/D30*100 -> 7.3094675 | I110: =(I30-E30)/E30*100 -> 2.6427757 | J110: =(J30-F30)/F30*100 -> 4.4327699 | K110: =(K30-G30)/G30*100 -> 7.2754525 | L110: =(L30-H30)/H30*100 -> 5.3996482 | M110: =(M30-I30)/I30*100 -> 6.4030084 | ... CK110: =(CK30-CG30)/CG30*100 -> 7.5320922
A111: Electricity, gas and water | F111: =(F31-B31)/B31*100 -> 22.664358 | G111: =(G31-C31)/C31*100 -> 21.509709 | H111: =(H31-D31)/D31*100 -> 21.979992 | I111: =(I31-E31)/E31*100 -> 22.951987 | J111: =(J31-F31)/F31*100 -> 9.6837307 | K111: =(K31-G31)/G31*100 -> 9.9185891 | L111: =(L31-H31)/H31*100 -> 8.5536163 | M111: =(M31-I31)/I31*100 -> 8.2077662 | ... CK111: =(CK31-CG31)/CG31*100 -> 9.2502526
A112: Construction | F112: =(F32-B32)/B32*100 -> 1.0039554 | G112: =(G32-C32)/C32*100 -> -0.29964755 | H112: =(H32-D32)/D32*100 -> 1.7353517 | I112: =(I32-E32)/E32*100 -> 0.7132249 | J112: =(J32-F32)/F32*100 -> 7.5234513 | K112: =(K32-G32)/G32*100 -> 10.563136 | L112: =(L32-H32)/H32*100 -> 10.29751 | M112: =(M32-I32)/I32*100 -> 11.316721 | ... CK112: =(CK32-CG32)/CG32*100 -> 8.1067456
A113: Tertiary industries | F113: =(F33-B33)/B33*100 -> 14.096959 | G113: =(G33-C33)/C33*100 -> 15.55887 | H113: =(H33-D33)/D33*100 -> 15.264653 | I113: =(I33-E33)/E33*100 -> 14.761725 | J113: =(J33-F33)/F33*100 -> 12.349703 | K113: =(K33-G33)/G33*100 -> 8.8713234 | L113: =(L33-H33)/H33*100 -> 9.2650422 | M113: =(M33-I33)/I33*100 -> 9.6015338 | ... CK113: =(CK33-CG33)/CG33*100 -> 6.8267054
A114: Wholesale & retail trade; hotels & restaurants | F114: =(F34-B34)/B34*100 -> 12.87961 | G114: =(G34-C34)/C34*100 -> 6.8228616 | H114: =(H34-D34)/D34*100 -> 6.014452 | I114: =(I34-E34)/E34*100 -> 3.9715013 | J114: =(J34-F34)/F34*100 -> 6.87005 | K114: =(K34-G34)/G34*100 -> 9.6136206 | L114: =(L34-H34)/H34*100 -> 10.629192 | M114: =(M34-I34)/I34*100 -> 11.87613 | ... CK114: =(CK34-CG34)/CG34*100 -> 8.2969701
A115: Transport , storage and communication | F115: =(F35-B35)/B35*100 -> 14.622231 | G115: =(G35-C35)/C35*100 -> 11.924686 | H115: =(H35-D35)/D35*100 -> 10.848918 | I115: =(I35-E35)/E35*100 -> 10.54373 | J115: =(J35-F35)/F35*100 -> 10.402128 | K115: =(K35-G35)/G35*100 -> 5.7021121 | L115: =(L35-H35)/H35*100 -> 6.0464078 | M115: =(M35-I35)/I35*100 -> 5.7706903 | ... CK115: =(CK35-CG35)/CG35*100 -> 6.9154891
...

Sheet Growth Rates Annual
A1: Year-on-Year Growth Rates per Sector
B2: Primary Industries | C2: Agriculture, forestry and fishing | D2: Mining and quarrying | E2: Secondary Industries | F2: Manufacturing | G2: Electricity, gas and water | H2: Construction | I2: Tertiary industries | J2: Wholesale & retail trade; hotels & restaurants | K2: Transport , storage and communication | L2: Finance, real estate and business services | M2: Personal services | N2: General government services | O2: All industries at basic prices | P2: Taxes less subsidies on products | Q2: Annual Compensation of Employees
A3: 1996 | B3: 3.0976725 | C3: 0.38336369 | D3: 10.433581 | E3: 6.3482957 | F3: 6.5283172 | G3: 22.292908 | H3: 0.78523023 | I3: 14.928663 | J3: 7.1739611 | K3: 11.887952 | L3: 12.900829 | M3: 12.011047 | N3: 21.991777 | O3: 12.133344 | P3: #DIV/0! | Q3: 11.470589
A4: =A3+1 -> 1997 | B4: 6.9388195 | C4: 5.7631617 | D4: 9.8270784 | E4: 6.7411141 | F4: 5.8882576 | G4: 9.0431192 | H4: 9.9750711 | I4: 9.9767984 | J4: 9.8392354 | K4: 6.8981038 | L4: 15.366837 | M4: 14.827189 | N4: 8.1774 | O4: 8.7742896 | P4: #DIV/0! | Q4: 8.8117479
A5: =A4+1 -> 1998 | B5: 15.876645 | C5: 20.110128 | D5: 5.8610196 | E5: 9.5110491 | F5: 13.272842 | G5: 1.1348018 | H5: -4.7551562 | I5: 10.613522 | J5: 8.8593547 | K5: 7.1311766 | L5: 18.918641 | M5: 9.536524 | N5: 10.260011 | O5: 10.342446 | P5: #DIV/0! | Q5: 10.536944
A6: =A5+1 -> 1999 | B6: -1.0751971 | C6: -3.2400717 | D6: 4.7358785 | E6: 5.1469273 | F6: 6.0068337 | G6: 15.780635 | H6: -3.5956477 | I6: 8.1927256 | J6: 17.920496 | K6: 2.9407706 | L6: 13.234629 | M6: 11.948093 | N6: 2.8685023 | O6: 6.4042784 | P6: #DIV/0! | Q6: 6.7846897
A7: =A6+1 -> 2000 | B7: 6.5169523 | C7: 5.5372074 | D7: 8.9465639 | E7: 8.8533105 | F7: 10.184938 | G7: 6.7860319 | H7: 1.8041633 | I7: 9.5517953 | J7: 13.359374 | K7: 6.2069756 | L7: 9.6000164 | M7: 15.057639 | N7: 7.1294794 | O7: 9.2432559 | P7: #DIV/0! | Q7: 9.196415
A8: =A7+1 -> 2001 | B8: 10.316368 | C8: 9.7406475 | D8: 11.699386 | E8: 8.3198649 | F8: 6.6472217 | G8: 3.0247017 | H8: 21.727266 | I8: 8.4228101 | J8: 6.6679456 | K8: 6.7179399 | L8: 11.593823 | M8: 9.7957835 | N8: 8.2317516 | O8: 8.7397102 | P8: #DIV/0! | Q8: 8.4812349
A9: =A8+1 -> 2002 | B9: 12.713653 | C9: 13.885138 | D9: 9.9488165 | E9: 8.353567 | F9: 12.250001 | G9: 20.86272 | H9: -18.904449 | I9: 10.112689 | J9: 8.1333194 | K9: 4.2940402 | L9: 15.652201 | M9: 14.17206 | N9: 9.6149631 | O9: 10.453622 | P9: #DIV/0! | Q9: 9.7133823
A10: =A9+1 -> 2003 | B10: 16.739463 | C10: 21.206673 | D10: 5.81889 | E10: 6.0884821 | F10: 5.3520584 | G10: 7.7387932 | H10: 10.892924 | I10: 11.68683 | J10: 11.699044 | K10: 11.882131 | L10: 14.641542 | M10: 11.074291 | N10: 10.439095 | O10: 9.2307969 | P10: #DIV/0! | Q10: 10.288973
A11: =A10+1 -> 2004 | B11: -0.26462388 | C11: -3.3709823 | D11: 8.4334685 | E11: 7.5465943 | F11: 7.0442353 | G11: 5.1361889 | H11: 12.72375 | I11: 11.197897 | J11: 12.220148 | K11: 10.145421 | L11: 16.240009 | M11: 8.7789098 | N11: 9.486165 | O11: 9.3374245 | P11: #DIV/0! | Q11: 9.5684575
A12: =A11+1 -> 2005 | B12: -10.227251 | C12: -14.485259 | D12: 0.39760841 | E12: 8.7802413 | F12: 7.4926125 | G12: 11.470189 | H12: 16.459157 | I12: 11.79589 | J12: 9.1689947 | K12: 9.9356859 | L12: 21.906186 | M12: 9.6780722 | N12: 9.5132801 | O12: 9.5834378 | P12: #DIV/0! | Q12: 9.9152128
A13: =A12+1 -> 2006 | B13: 13.169894 | C13: 12.514285 | D13: 14.563305 | E13: 11.11277 | F13: 10.487279 | G13: 11.479252 | H13: 15.024574 | I13: 10.304975 | J13: 13.66867 | K13: 9.865012 | L13: 12.21206 | M13: 9.0492675 | N13: 7.9766523 | O13: 10.453671 | P13: #DIV/0! | Q13: 10.6378
A14: =A13+1 -> 2007 | B14: 18.177135 | C14: 16.71119 | D14: 21.237084 | E14: 17.357051 | F14: 14.846983 | G14: 11.585704 | H14: 36.111482 | I14: 12.474955 | J14: 9.2628146 | K14: 9.8613916 | L14: 17.195989 | M14: 12.76567 | N14: 12.445116 | O14: 13.208284 | P14: #DIV/0! | Q14: 14.047924
A15: =A14+1 -> 2008 | B15: 16.256846 | C15: 15.312443 | D15: 18.154561 | E15: 14.942931 | F15: 14.725852 | G15: 12.872206 | H15: 16.960532 | I15: 12.422236 | J15: 11.004627 | K15: 7.4328829 | L15: 12.486826 | M15: 8.1638061 | N15: 16.731119 | O15: 11.965033 | P15: #DIV/0! | Q15: 13.295307
A16: =A15+1 -> 2009 | B16: 9.5986696 | C16: 8.7493969 | D16: 11.264176 | E16: 6.2611011 | F16: 4.7278531 | G16: 10.615483 | H16: 12.507291 | I16: 9.4690028 | J16: 7.4783462 | K16: 5.105679 | L16: 2.7190918 | M16: 5.9532512 | N16: 17.407446 | O16: 9.0583764 | P16: #DIV/0! | Q16: 8.550882
A17: 2010 | B17: 10.248601 | C17: 7.0358267 | D17: 16.406758 | E17: 10.593606 | F17: 11.542458 | G17: 9.0997402 | H17: 6.5771992 | I17: 12.148732 | J17: 10.317238 | K17: 9.1192206 | L17: 12.113538 | M17: 6.3233273 | N17: 15.874073 | O17: 12.097707 | P17: 100 | Q17: 11.629912
A18: 2011 | B18: 11.664754 | C18: 11.106729 | D18: 12.648257 | E18: 7.0663807 | F18: 5.9565576 | G18: 17.507168 | H18: 8.4790361 | I18: 10.642678 | J18: 11.190563 | K18: 10.489315 | L18: 11.221045 | M18: 8.4461165 | N18: 10.769106 | O18: 9.7165083 | P18: 50 | Q18: 9.6867388
A19: 2012 | B19: 3.2265563 | C19: -0.63701121 | D19: 9.9427927 | E19: 8.7705792 | F19: 8.1840114 | G19: 16.3102 | H19: 8.3753964 | I19: 8.0286721 | J19: 8.3657424 | K19: 7.8079421 | L19: 7.7813631 | M19: 7.617998 | N19: 8.1791836 | Q19: 8.026205
A20: 2013 | B20: 8.8769376 | C20: 8.5469261 | D20: 9.3954085 | E20: 10.594771 | F20: 10.426174 | G20: 10.937243 | H20: 11.268951 | I20: 10.236438 | J20: 10.445855 | K20: 13.476562 | L20: 9.7929615 | M20: 7.4552884 | N20: 10.169645 | Q20: 10.279592
A21: 2014 | B21: 7.1378266 | C21: 9.7162572 | D21: 3.1183525 | E21: 8.8063438 | F21: 8.8711368 | G21: 7.4023146 | H21: 9.146623 | I21: 9.5160263 | J21: 9.0859402 | K21: 9.2406239 | L21: 10.175626 | M21: 8.0086409 | N21: 9.8815185 | Q21: 9.2249348
A22: 2015 | B22: 7.0067014 | C22: 6.2537823 | D22: 8.2555135 | E22: 7.4920237 | F22: 7.2968467 | G22: 8.7009343 | H22: 7.8911015 | I22: 7.3907863 | J22: 7.1518356 | K22: 7.8686663 | L22: 9.1167553 | M22: 7.5794901 | N22: 6.4232469 | Q22: 7.4035731
A23: 2016 | B23: 6.1599758 | C23: 6.0512888 | D23: 6.3369136 | E23: 8.4919821 | F23: 8.7139712 | G23: 8.3870207 | H23: 7.4579656 | I23: 7.7367531 | J23: 7.6588395 | K23: 7.6975179 | L23: 8.6028362 | M23: 7.535848 | N23: 7.3868355 | O23: 8.6805937 | P23: 33.333333 | Q23: 7.8821563
A24: Average Year on Year Growth Rate | B24: =AVERAGE(B3:B23) -> 8.1979238 | C24: =AVERAGE(C3:C23) -> 7.4710057 | D24: =AVERAGE(D3:D23) -> 9.8774005 | E24: =AVERAGE(E3:E23) -> 8.913285 | F24: =AVERAGE(F3:F23) -> 8.8784019 | G24: =AVERAGE(G3:G23) -> 10.865112 | H24: =AVERAGE(H3:H23) -> 8.9005933 | I24: =AVERAGE(I3:I23) -> 10.326232 | ... Q24: =AVERAGE(Q3:Q23) -> 9.7825081

Sheet Growth Rates Annualised
A1: Annualised Quarterly Rates per Sector
B2: Primary Industries | C2: Agriculture, forestry and fishing | D2: Mining and quarrying | E2: Secondary Industries | F2: Manufacturing | G2: Electricity, gas and water | H2: Construction | I2: Tertiary industries | J2: Wholesale & retail trade; hotels & restaurants | K2: Transport , storage and communication | L2: Finance, real estate and business services | M2: Personal services | N2: General government services | O2: All industries at basic prices | P2: Taxes less subsidies on products | Q2: Annual Compensation of Employees
A3: 1996q1 | B3: 4.3516075 | C3: 0.39013712 | D3: 15.435129 | E3: 8.3637232 | F3: 9.1443259 | G3: 22.664358 | H3: 1.0039554 | I3: 14.096959 | J3: 12.87961 | K3: 14.622231 | L3: 12.354719 | M3: 11.726428 | N3: 15.747507 | O3: 11.928834 | Q3: 11.688251
A4: 1996q2 | B4: 3.0743159 | C4: 0.37446178 | D4: 11.053184 | E4: 7.1283804 | F4: 7.8533137 | G4: 21.509709 | H4: -0.29964755 | I4: 15.55887 | J4: 6.8228616 | K4: 11.924686 | L4: 13.103848 | M4: 12.121185 | N4: 23.510584 | O4: 12.964946 | Q4: 12.167592
A5: 1996q3 | B5: 2.4952225 | C5: 0.36872415 | D5: 8.3283338 | E5: 7.1484087 | F5: 7.3094675 | G5: 21.979992 | H5: 1.7353517 | I5: 15.264653 | J5: 6.014452 | K5: 10.848918 | L5: 13.04818 | M5: 11.96104 | N5: 23.9217 | O5: 12.531094 | Q5: 11.917197
A6: 1996q4 | B6: 2.5357531 | C6: 0.40211181 | D6: 7.577414 | E6: 3.3312844 | F6: 2.6427757 | G6: 22.951987 | H6: 0.7132249 | I6: 14.761725 | J6: 3.9715013 | K6: 10.54373 | L6: 13.038375 | M6: 12.215809 | N6: 24.614986 | O6: 11.347675 | Q6: 10.240086
A7: 1997q1 | B7: 6.7625847 | C7: 5.7290844 | D7: 9.277278 | E7: 5.2284482 | F7: 4.4327699 | G7: 9.6837307 | H7: 7.5234513 | I7: 12.349703 | J7: 6.87005 | K7: 10.402128 | L7: 16.299019 | M7: 15.614146 | N7: 13.493372 | O7: 11.526873 | Q7: 9.8115374
A8: 1997q2 | B8: 6.7340617 | C8: 5.7826405 | D8: 9.2754207 | E8: 7.984642 | F8: 7.2754525 | G8: 9.9185891 | H8: 10.563136 | I8: 8.8713234 | J8: 9.6136206 | K8: 5.7021121 | L8: 16.320603 | M8: 14.997899 | N8: 5.7404855 | O8: 9.9432308 | Q8: 8.4901018
A9: 1997q3 | B9: 7.1024293 | C9: 5.8174751 | D9: 10.368151 | E9: 6.3823106 | F9: 5.3996482 | G9: 8.5536163 | H9: 10.29751 | I9: 9.2650422 | J9: 10.629192 | K9: 6.0464078 | L9: 14.096984 | M9: 14.505844 | N9: 6.9266595 | O9: 9.8357018 | Q9: 8.2592356
A10: 1997q4 | B10: 7.1532383 | C10: 5.7174892 | D10: 10.319542 | E10: 7.2993537 | F10: 6.4030084 | G10: 8.2077662 | H10: 11.316721 | I10: 9.6015338 | J10: 11.87613 | K10: 5.7706903 | L10: 14.905881 | M10: 14.267649 | N10: 7.0119317 | O10: 10.254934 | Q10: 8.7494595
A11: 1998q1 | B11: 16.270458 | C11: 20.118993 | D11: 7.2103282 | E11: 8.9950841 | F11: 12.578947 | G11: -0.20348716 | H11: -4.415642 | I11: 10.690912 | J11: 6.0488292 | K11: 5.0415133 | L11: 21.963743 | M11: 9.9646838 | N11: 11.510685 | O11: 9.6505123 | Q11: 10.461547
A12: 1998q2 | B12: 16.378862 | C12: 20.153936 | D12: 6.6174982 | E12: 9.6274862 | F12: 13.512194 | G12: -0.049807844 | H12: -4.3175551 | I12: 10.503101 | J12: 4.0285508 | K12: 8.9034676 | L12: 18.723094 | M12: 8.7882957 | N12: 11.596817 | O12: 9.4952935 | Q12: 10.542241
A13: 1998q3 | B13: 15.427196 | C13: 20.091014 | D13: 4.0627886 | E13: 8.9326324 | F13: 12.506911 | G13: 1.0388577 | H13: -4.5920062 | I13: 10.614807 | J13: 8.9039839 | K13: 7.425807 | L13: 20.589651 | M13: 9.781526 | N13: 9.428519 | O13: 9.2749157 | Q13: 10.346363
A14: 1998q4 | B14: 15.441964 | C14: 20.074094 | D14: 5.6527201 | E14: 10.370225 | F14: 14.345185 | G14: 3.3911881 | H14: -5.5825464 | I14: 10.644774 | J14: 15.154722 | K14: 7.1017137 | L14: 14.939562 | M14: 9.6133352 | N14: 8.6087698 | O14: 9.7547897 | Q14: 10.77787
... A71: 2013q1 | B71: 7.5533555 | C71: 6.1286666 | D71: 9.9362809 | E71: 10.219006 | F71: 9.518332 | G71: 12.004223 | H71: 13.189243 | I71: 9.4560767 | J71: 11.797093 | K71: 14.68019 | L71: 6.9754484 | M71: 7.7786362 | N71: 8.7186048 | O71: 9.1636585 | Q71: 9.5784831
A72: 2013q2 | B72: 10.117502 | C72: 9.9567219 | D72: 10.383958 | E72: 12.069603 | F72: 11.890298 | G72: 12.792997 | H72: 12.584984 | I72: 10.443818 | J72: 10.553535 | K72: 14.129642 | L72: 8.8915178 | M72: 7.5265755 | N72: 10.922758 | Q72: 10.867776
A73: 2013q3 | B73: 9.2012536 | C73: 9.2259853 | D73: 9.1615821 | E73: 10.633312 | F73: 11.087511 | G73: 8.1965017 | H73: 9.6189325 | I73: 10.0448 | J73: 9.5570159 | K73: 12.438867 | L73: 10.479422 | M73: 6.5921851 | N73: 10.308352 | Q73: 10.168505
A74: 2013q4 | B74: 8.5895039 | C74: 8.8503579 | D74: 8.2316454 | E74: 9.6241206 | F74: 9.3901635 | G74: 10.96258 | H74: 10.148066 | I74: 10.931483 | J74: 10.055614 | K74: 12.866914 | L74: 12.796071 | M74: 7.950487 | N74: 10.655647 | Q74: 10.462613
A75: 2014q1 | B75: 3.9238081 | C75: 8.8339079 | D75: -4.0043518 | E75: 8.7010851 | F75: 8.7324349 | G75: 8.2434448 | H75: 8.7558644 | I75: 9.7751758 | J75: 8.6923545 | K75: 8.5787979 | L75: 9.2303323 | M75: 7.6512234 | N75: 11.526238 | Q75: 9.2420614
A76: 2014q2 | B76: 5.0255018 | C76: 10.376659 | D76: -3.8085109 | E76: 8.8635786 | F76: 9.0085992 | G76: 7.6104178 | H76: 8.7489572 | I76: 9.8855948 | J76: 8.1206421 | K76: 9.345124 | L76: 9.5912411 | M76: 8.6101077 | N76: 11.370867 | Q76: 9.4029008
A77: 2014q3 | B77: 10.098746 | C77: 10.098151 | D77: 10.099702 | E77: 8.2789675 | F77: 8.1968912 | G77: 6.977075 | H77: 9.2577355 | I77: 9.2450017 | J77: 10.190481 | K77: 9.1153543 | L77: 9.7928176 | M77: 8.1993226 | N77: 8.8556045 | Q77: 9.0186907
A78: 2014q4 | B78: 9.4508392 | C78: 9.4868817 | D78: 9.4011107 | E78: 9.3009179 | F78: 9.4496976 | G78: 6.9511335 | H78: 9.7197333 | I78: 9.1996789 | J78: 9.255861 | K78: 9.8053567 | L78: 12.006145 | M78: 7.5788408 | N78: 8.0066609 | Q78: 9.2382236
A79: 2015q1 | B79: 7.759329 | C79: 6.0955855 | D79: 10.804987 | E79: 7.2912573 | F79: 7.0501317 | G79: 8.1663956 | H79: 8.1494024 | I79: 7.549876 | J79: 7.5952074 | K79: 7.7010255 | L79: 11.316825 | M79: 6.2806443 | N79: 5.9218421 | O79: 9.1636585 | Q79: 7.4891601
A80: 2015q2 | B80: 6.8764139 | C80: 5.5976491 | D80: 9.2987898 | E80: 7.8913789 | F80: 7.6216724 | G80: 9.4635821 | H80: 8.4526473 | I80: 7.2146345 | J80: 6.9497056 | K80: 8.2248877 | L80: 9.4116855 | M80: 9.1308319 | N80: 5.393681 | Q80: 7.3842694
A81: 2015q3 | B81: 6.6789196 | C81: 6.5122755 | D81: 6.9463827 | E81: 7.7648249 | F81: 7.6341031 | G81: 8.7714217 | H81: 7.9346065 | I81: 7.3464913 | J81: 6.9705434 | K81: 7.5858613 | L81: 8.1888229 | M81: 7.2174086 | N81: 7.0538746 | Q81: 7.4313085
A82: 2015q4 | B82: 6.7722415 | C82: 6.8730384 | D82: 6.6330614 | E82: 7.079159 | F82: 6.9366191 | G82: 8.4262641 | H82: 7.1417127 | I82: 7.4550017 | J82: 7.1248678 | K82: 7.9437847 | L82: 7.7229062 | M82: 7.6879176 | N82: 7.2643063 | Q82: 7.3210087
A83: 2016q1 | B83: 5.8245898 | C83: 5.8337256 | D83: 5.8085766 | E83: 8.2501039 | F83: 8.4119301 | G83: 7.612586 | H83: 7.707084 | I83: 8.4700998 | J83: 7.3606783 | K83: 7.9476558 | L83: 9.262608 | M83: 6.7231502 | N83: 9.1948911 | Q83: 8.3058724
A84: 2016q2 | B84: 6.2019897 | C84: 6.2594547 | D84: 6.0968193 | E84: 8.4823677 | F84: 8.9309443 | G84: 7.8608226 | H84: 6.6888884 | I84: 7.8138913 | J84: 7.1927332 | K84: 7.1708408 | L84: 8.4032973 | M84: 7.736714 | N84: 8.0078449 | Q84: 7.930999
A85: 2016q3 | B85: 6.1237554 | C85: 5.9698011 | D85: 6.3698487 | E85: 9.5775371 | F85: 10.156265 | G85: 8.5750709 | H85: 7.307951 | I85: 7.9292845 | J85: 7.6570129 | K85: 8.861914 | L85: 9.3369536 | M85: 7.9011591 | N85: 7.0506068 | Q85: 8.2993314
A86: 2016q4 | B86: 6.4650811 | C86: 6.1183444 | D86: 6.9449316 | E86: 7.7502197 | F86: 7.5320922 | G86: 9.2502526 | H86: 8.1067456 | I86: 6.8267054 | J86: 8.2969701 | K86: 6.9154891 | L86: 7.462717 | M86: 7.7543829 | N86: 5.4747604 | O86: 7.5682871 | Q86: 7.0800144
A87: Average Year on Year Growth Rate | B87: =AVERAGE(B3:B86) -> 8.2063008 | C87: =AVERAGE(C3:C86) -> 7.4846334 | D87: =AVERAGE(D3:D86) -> 9.8962225 | E87: =AVERAGE(E3:E86) -> 8.917482 | F87: =AVERAGE(F3:F86) -> 8.8883058 | G87: =AVERAGE(G3:G86) -> 10.872122 | H87: =AVERAGE(H3:H86) -> 8.8964151 | I87: =AVERAGE(I3:I86) -> 10.332315 | ... Q87: =AVERAGE(Q3:Q86) -> 9.7866615

Sheet Prov Contributions
A1: Yearly Provincial Contribution Rates per Sector
B2: Primary Industries | C2: Agriculture, forestry and fishing | D2: Mining and quarrying | E2: Secondary Industries | F2: Manufacturing | G2: Electricity, gas and water | H2: Construction | I2: Tertiary industries | J2: Wholesale & retail trade; hotels & restaurants | K2: Transport , storage and communication | L2: Finance, real estate and business services | M2: Personal services | N2: General government services
A3: 1996 | B3: 5.0554332 | C3: 3.5929379 | D3: 1.4624953 | E3: 31.259771 | F3: 24.315837 | G3: 1.8439428 | H3: 5.0999913 | I3: 63.684796 | J3: 11.542479 | K3: 10.928307 | L3: 8.5176912 | M3: 7.2416976 | N3: 25.454621
A4: =A3+1 -> 1997 | B4: 4.9684163 | C4: 3.4922743 | D4: 1.476142 | E4: 30.664913 | F4: 23.662533 | G4: 1.8478637 | H4: 5.1545161 | I4: 64.36667 | J4: 11.651473 | K4: 10.736113 | L4: 9.030818 | M4: 7.6420404 | N4: 25.306226
A5: =A4+1 -> 1998 | B5: 5.2084252 | C5: 3.7947269 | D5: 1.4136983 | E5: 30.380312 | F5: 24.248204 | G5: 1.6906866 | H5: 4.4414208 | I5: 64.411263 | J5: 11.474641 | K5: 10.405322 | L5: 9.7155988 | M5: 7.5728757 | N5: 25.242825
A6: =A5+1 -> 1999 | B6: 4.8250591 | C6: 3.4384845 | D6: 1.3865746 | E6: 29.914367 | F6: 24.071572 | G6: 1.8331164 | H6: 4.0096787 | I6: 65.260573 | J6: 12.671249 | K6: 10.030762 | L6: 10.302434 | M6: 7.9390501 | N6: 24.317078
A7: =A6+1 -> 2000 | B7: 4.7066618 | C7: 3.3232598 | D7: 1.383402 | E7: 29.820374 | F7: 24.289485 | G7: 1.7926525 | H7: 3.7382361 | I7: 65.472964 | J7: 13.154323 | K7: 9.756153 | L7: 10.340513 | M7: 8.3651863 | N7: 23.85679
A8: =A7+1 -> 2001 | B8: 4.7862825 | C8: 3.3618411 | D8: 1.4244413 | E8: 29.776015 | F8: 23.878841 | G8: 1.7024833 | H8: 4.194691 | I8: 65.437703 | J8: 12.934445 | K8: 9.5975728 | L8: 10.637207 | M8: 8.4665535 | N8: 23.801924
A9: =A8+1 -> 2002 | B9: 4.9171702 | C9: 3.4896722 | D9: 1.427498 | E9: 29.406964 | F9: 24.430929 | G9: 1.8754937 | H9: 3.1005405 | I9: 65.675866 | J9: 12.748166 | K9: 9.1234964 | L9: 11.213002 | M9: 8.8106285 | N9: 23.780572
A10: =A9+1 -> 2003 | B10: 5.2047616 | C10: 3.835121 | D10: 1.3696406 | E10: 28.286963 | F10: 23.337317 | G10: 1.8321273 | H10: 3.1175192 | I10: 66.508275 | J10: 12.911155 | K10: 9.2552881 | L10: 11.655525 | M10: 8.873365 | N10: 23.812942
A11: =A10+1 -> 2004 | B11: 4.7376669 | C11: 3.3822141 | D11: 1.3554529 | E11: 27.764985 | F11: 22.799675 | G11: 1.758014 | H11: 3.2072959 | I11: 67.497348 | J11: 13.223621 | K11: 9.3040244 | L11: 12.365222 | M11: 8.8094238 | N11: 23.795057
A12: =A11+1 -> 2005 | B12: 3.8694679 | C12: 2.6313842 | D12: 1.2380837 | E12: 27.478287 | F12: 22.297156 | G12: 1.7828847 | H12: 3.3982463 | I12: 68.652245 | J12: 13.133845 | K12: 9.3057574 | L12: 13.714181 | M12: 8.7904176 | N12: 23.708044
A13: =A12+1 -> 2006 | B13: 3.9580258 | C13: 2.6760141 | D13: 1.2820117 | E13: 27.596252 | F13: 22.266821 | G13: 1.7964443 | H13: 3.5329863 | I13: 68.445723 | J13: 13.49364 | K13: 9.2407581 | L13: 13.909319 | M13: 8.6642051 | N13: 23.1378
A14: =A13+1 -> 2007 | B14: 4.1013298 | C14: 2.7385048 | D14: 1.362825 | E14: 28.396963 | F14: 22.42283 | G14: 1.7576603 | H14: 4.2164731 | I14: 67.501707 | J14: 12.927488 | K14: 8.9015434 | L14: 14.293258 | M14: 8.5667925 | N14: 22.812625
A15: =A14+1 -> 2008 | B15: 4.2085386 | C15: 2.7872618 | D15: 1.4212768 | E15: 28.809933 | F15: 22.705956 | G15: 1.7510963 | H15: 4.3528806 | I15: 66.981529 | J15: 12.666111 | K15: 8.4409363 | L15: 14.191261 | M15: 8.1787755 | N15: 23.504445
... A17: =A16+1 -> 2010 | B17: 4.1965823 | C17: 2.6774407 | D17: 1.5191416 | E17: 27.940401 | F17: 21.889118 | G17: 1.7439568 | H17: 4.3073264 | I17: 67.861999 | J17: 12.393493 | K17: 7.9892153 | L17: 13.487028 | M17: 7.6035639 | N17: 26.388699
A18: 2011 | B18: 4.2722606 | C18: 2.7121025 | D18: 1.5601581 | E18: 27.27292 | F18: 21.144722 | G18: 1.8682972 | H18: 4.2599007 | I18: 68.453428 | J18: 12.56341 | K18: 8.0476723 | L18: 13.675686 | M18: 7.517563 | N18: 26.649097
A19: 2012 | B19: 4.0824423 | C19: 2.494604 | D19: 1.5878383 | E19: 27.460849 | F19: 21.175611 | G19: 2.0115677 | H19: 4.2736707 | I19: 68.454991 | J19: 12.602898 | K19: 8.0314123 | L19: 13.64469 | M19: 7.4891558 | N19: 26.686836
A20: 2013 | B20: 4.0305174 | C20: 2.4554099 | D20: 1.5751075 | E20: 27.539332 | F20: 21.203757 | G20: 2.0235636 | H20: 4.3120114 | I20: 68.428204 | J20: 12.621898 | K20: 8.2642404 | L20: 13.58448 | M20: 7.2973556 | N20: 26.66023
A21: 2014 | B21: 3.9535009 | C21: 2.466455 | D21: 1.4870459 | E21: 27.433791 | F21: 21.135074 | G21: 1.9897967 | H21: 4.3089198 | I21: 68.61057 | J21: 12.605836 | K21: 8.2654274 | L21: 13.702719 | M21: 7.2160946 | N21: 26.820492
A22: 2015 | B22: 3.9388921 | C22: 2.4400507 | D22: 1.4988414 | E22: 27.456384 | F22: 21.114073 | G22: 2.0138321 | H22: 4.328479 | I22: 68.602401 | J22: 12.57629 | K22: 8.3012195 | L22: 13.921289 | M22: 7.2279139 | N22: 26.575688
A23: 2016 | B23: 3.8760135 | C23: 2.3986407 | D23: 1.4773728 | E23: 27.611587 | F23: 21.276871 | G23: 2.0232564 | H23: 4.3114595 | I23: 68.509939 | J23: 12.550257 | K23: 8.2870121 | L23: 14.014287 | M23: 7.2047118 | N23: 26.453671
A24: Average Yearly Contributions | B24: =AVERAGE(B3:B23) -> 4.4355528 | C24: =AVERAGE(C3:C23) -> 2.9990838 | D24: =AVERAGE(D3:D23) -> 1.4364691 | E24: =AVERAGE(E3:E23) -> 28.59398 | F24: =AVERAGE(F3:F23) -> 22.646317 | G24: =AVERAGE(G3:G23) -> 1.843959 | H24: =AVERAGE(H3:H23) -> 4.1037036 | I24: =AVERAGE(I3:I23) -> 66.969822 | ... N24: =AVERAGE(N3:N23) -> 24.961324
I26: \

Sheet National Contributions
A1: Yearly Provincial Sector as a % of National Sector GOS
B2: Primary Industries | C2: Agriculture, forestry and fishing | D2: Mining and quarrying | E2: Secondary Industries | F2: Manufacturing | G2: Electricity, gas and water | H2: Construction | I2: Tertiary industries | J2: Wholesale & retail trade; hotels & restaurants | K2: Transport , storage and communication | L2: Finance, real estate and business services | M2: Personal services | N2: General government services
A3: 1995 | B3: 10.040352 | C3: 28.484108 | D3: 3.6510194 | E3: 20.661359 | F3: 20.531588 | G3: 15.649942 | H3: 23.584052 | I3: 15.872611 | J3: 15.423484 | K3: 22.188343 | L3: 13.604192 | M3: 16.535269 | N3: 14.829542
A4: =A3+1 -> 1996 | B4: 9.6179118 | C4: 26.516077 | D4: 3.7487716 | E4: 20.51471 | F4: 20.602049 | G4: 15.492886 | H4: 22.717944 | I4: 15.890538 | J4: 15.207384 | K4: 21.867725 | L4: 13.625597 | M4: 16.533574 | N4: 15.099043
A5: =A4+1 -> 1997 | B5: 9.3819974 | C5: 26.162531 | D5: 3.7268282 | E5: 20.567993 | F5: 20.592216 | G5: 15.424888 | H5: 23.217908 | I5: 15.604762 | J5: 15.230743 | K5: 21.470903 | L5: 13.553629 | M5: 16.527701 | N5: 14.618569
A6: =A5+1 -> 1998 | B6: 10.021634 | C6: 27.989526 | D6: 3.6801503 | E6: 20.352101 | F6: 20.540598 | G6: 15.455909 | H6: 21.895444 | I6: 15.72733 | J6: 15.167734 | K6: 21.314974 | L6: 13.663784 | M6: 16.528262 | N6: 15.011303
A7: =A6+1 -> 1999 | B7: 9.0550227 | C7: 25.552196 | D7: 3.4812939 | E7: 20.354472 | F7: 20.753178 | G7: 15.506313 | H7: 20.932261 | I7: 15.510289 | J7: 15.126971 | K7: 20.9908 | L7: 13.797945 | M7: 16.494046 | N7: 14.61319
A8: =A7+1 -> 2000 | B8: 8.9195245 | C8: 25.255943 | D8: 3.4925793 | E8: 20.455767 | F8: 20.85872 | G8: 15.735791 | H8: 20.837487 | I8: 15.454028 | J8: 15.182907 | K8: 20.621755 | L8: 13.475836 | M8: 16.476538 | N8: 14.707373
A9: =A8+1 -> 2001 | B9: 8.9812745 | C9: 26.134989 | D9: 3.5233661 | E9: 20.952427 | F9: 20.820557 | G9: 16.132189 | H9: 24.864223 | I9: 15.608716 | J9: 16.063728 | K9: 20.421254 | L9: 13.051385 | M9: 16.480987 | N9: 14.984228
A10: =A9+1 -> 2002 | B10: 9.0346573 | C10: 25.57406 | D10: 3.5004613 | E10: 20.244878 | F10: 20.789989 | G10: 16.218726 | H10: 19.163257 | I10: 15.513104 | J10: 16.087176 | K10: 20.48779 | L10: 12.90107 | M10: 16.472379 | N10: 14.939507
A11: =A10+1 -> 2003 | B11: 9.9204536 | C11: 26.908553 | D11: 3.5842707 | E11: 20.259885 | F11: 20.917481 | G11: 15.917855 | H11: 18.845883 | I11: 15.527325 | J11: 16.213031 | K11: 20.611702 | L11: 13.005614 | M11: 16.465876 | N11: 14.856677
A12: =A11+1 -> 2004 | B12: 9.426313 | C12: 26.787345 | D12: 3.6016847 | E12: 20.258103 | F12: 20.877356 | G12: 16.072764 | H12: 18.966101 | I12: 15.469312 | J12: 16.219025 | K12: 20.531451 | L12: 13.026333 | M12: 16.465285 | N12: 14.774464
A13: =A12+1 -> 2005 | B13: 8.0924675 | C13: 24.433353 | D13: 3.342014 | E13: 20.286491 | F13: 20.870402 | G13: 16.250491 | H13: 19.260466 | I13: 15.572611 | J13: 16.13143 | K13: 20.652592 | L13: 13.635085 | M13: 16.39069 | N13: 14.80221
A14: =A13+1 -> 2006 | B14: 7.9608196 | C14: 26.064321 | D14: 3.2495596 | E14: 20.155412 | F14: 20.791574 | G14: 16.293038 | H14: 18.796396 | I14: 15.516774 | J14: 16.198449 | K14: 20.669165 | L14: 13.388254 | M14: 16.419302 | N14: 14.790436
A15: =A14+1 -> 2007 | B15: 8.0528332 | C15: 26.660137 | D15: 3.3518934 | E15: 20.128897 | F15: 20.805721 | G15: 16.280177 | H15: 18.734172 | I15: 15.520362 | J15: 16.273968 | K15: 20.821456 | L15: 13.396457 | M15: 16.403252 | N15: 14.831243
... A18: =A17+1 -> 2010 | B18: 7.7908771 | C18: 27.000808 | D18: 3.4565864 | E18: 20.18966 | F18: 20.92156 | G18: 15.519518 | H18: 19.120066 | I18: 15.571407 | J18: 16.457494 | K18: 21.03568 | L18: 13.50698 | M18: 16.530521 | N18: 14.936146
A19: 2011 | B19: 7.8350173 | C19: 29.095245 | D19: 3.4511954 | E19: 20.121249 | F19: 20.89447 | G19: 15.462636 | H19: 19.134847 | I19: 15.545344 | J19: 16.60343 | K19: 20.985981 | L19: 13.511602 | M19: 16.574026 | N19: 14.824858
A20: 2012 | B20: 7.2467717 | C20: 27.116949 | D20: 3.3686885 | E20: 20.066336 | F20: 20.840765 | G20: 15.897248 | H20: 18.918342 | I20: 15.481897 | J20: 16.367635 | K20: 20.884398 | L20: 13.456618 | M20: 16.465272 | N20: 14.840537
A21: 2013 | B21: 7.2648105 | C21: 27.292387 | D21: 3.3885433 | E21: 20.064782 | F21: 20.848963 | G21: 15.831283 | H21: 18.938666 | I21: 15.5098 | J21: 16.395832 | K21: 20.920271 | L21: 13.468012 | M21: 16.472934 | N21: 14.848887
A22: 2014 | B22: 7.486564 | C22: 27.397762 | D22: 3.3946516 | E22: 20.072015 | F22: 20.85617 | G22: 15.756467 | H22: 18.972749 | I22: 15.512852 | J22: 16.416143 | K22: 20.93674 | L22: 13.479937 | M22: 16.484548 | N22: 14.851827
A23: 2015 | B23: 7.451399 | C23: 27.440338 | D23: 3.4088667 | E23: 20.072068 | F23: 20.867206 | G23: 15.695748 | H23: 19.004938 | I23: 15.521688 | J23: 16.447565 | K23: 20.94848 | L23: 13.488416 | M23: 16.503211 | N23: 14.85657
A24: 2016 | B24: 7.4523147 | C24: 27.557248 | D24: 3.411422 | E24: 20.07995 | F24: 20.871522 | G24: 15.693817 | H24: 19.014935 | I24: 15.519256 | J24: 16.448016 | K24: 20.951925 | L24: 13.485261 | M24: 16.505085 | N24: 14.859804
A25: Average Yearly Contributions | B25: =AVERAGE(B3:B24) -> 8.4955828 | C25: =AVERAGE(C3:C24) -> 26.786594 | D25: =AVERAGE(D3:D24) -> 3.4780338 | E25: =AVERAGE(E3:E24) -> 20.276038 | F25: =AVERAGE(F3:F24) -> 20.794698 | G25: =AVERAGE(G3:G24) -> 15.823446 | H25: =AVERAGE(H3:H24) -> 20.120214 | I25: =AVERAGE(I3:I24) -> 15.567129 | ... N25: =AVERAGE(N3:N24) -> 14.842589

Sheet COMP Durban
D1: Ethekwini Municipal Area COMP
C2: SA COMP | D2: SA Quarterly COMP | E2: KZN Quarterly COMP | F2: SA Fuel Consumption | G2: KZN Fuel Consumption | H2: SA KZN GDP Ratio | I2: SA KZN Fuel Ratio | J2: SA Usage | K2: KZN Usage | L2: Durban Fuel Usage | M2: Durban Quarterly COMP | N2: Durban Quarterly Rate | O2: Durban Annual Rate
A3: 2001q1 | B3: 18690.882 | C3: 114941.69 | D3: =C3*1000000 -> 1.1494169e+11 | E3: =B3*1000000 -> 1.8690882e+10
A4: 2001q2 | B4: 19094.787 | C4: 117237.84 | D4: =C4*1000000 -> 1.1723784e+11 | E4: =B4*1000000 -> 1.9094787e+10
A5: 2001q3 | B5: 19444.965 | C5: 119748.01 | D5: =C5*1000000 -> 1.1974801e+11 | E5: =B5*1000000 -> 1.9444965e+10
A6: 2001q4 | B6: 20645.797 | C6: 126734.1 | D6: =C6*1000000 -> 1.267341e+11 | E6: =B6*1000000 -> 2.0645797e+10
A7: 2002q1 | B7: 20138.824 | C7: 125774.76 | D7: =C7*1000000 -> 1.2577476e+11 | E7: =B7*1000000 -> 2.0138824e+10 | F7: 4118958622 | G7: 674878797 | H7: =E7/D7*100 -> 16.011816 | I7: =G7/F7*100 -> 16.384695 | J7: =D7/F7 -> 30.535574 | K7: =E7/G7 -> 29.840653 | M7: =E7*$L$26 -> 1.1526156e+10
A8: 2002q2 | B8: 21014.958 | C8: 130766.52 | D8: =C8*1000000 -> 1.3076652e+11 | E8: =B8*1000000 -> 2.1014958e+10 | F8: 4128329079 | G8: 697677279 | H8: =E8/D8*100 -> 16.070595 | I8: =G8/F8*100 -> 16.89975 | J8: =D8/F8 -> 31.675411 | K8: =E8/G8 -> 30.121317 | M8: =E8*$L$26 -> 1.2027599e+10 | N8: =(M8-M7)/M7*100 -> 4.3504741
A9: 2002q3 | B9: 21624.059 | C9: 134950.35 | D9: =C9*1000000 -> 1.3495035e+11 | E9: =B9*1000000 -> 2.1624059e+10 | F9: 4479766142 | G9: 748604188 | H9: =E9/D9*100 -> 16.023714 | I9: =G9/F9*100 -> 16.710787 | J9: =D9/F9 -> 30.124419 | K9: =E9/G9 -> 28.885838 | M9: =E9*$L$26 -> 1.2376209e+10 | N9: =(M9-M8)/M8*100 -> 2.8984174
A10: 2002q4 | B10: 22663.098 | C10: 140838.82 | D10: =C10*1000000 -> 1.4083882e+11 | E10: =B10*1000000 -> 2.2663098e+10 | F10: 4393645140 | G10: 741841930 | H10: =E10/D10*100 -> 16.091513 | I10: =G10/F10*100 -> 16.88443 | J10: =D10/F10 -> 32.05512 | K10: =E10/G10 -> 30.549767 | M10: =E10*$L$26 -> 1.2970887e+10 | N10: =(M10-M9)/M9*100 -> 4.805013
A11: 2003q1 | B11: 22299.913 | C11: 138720.97 | D11: =C11*1000000 -> 138720969000 | E11: =B11*1000000 -> 2.2299913e+10 | F11: 4.3245102e+09 | G11: 7.3345414e+08 | H11: =E11/D11*100 -> 16.075373 | I11: =G11/F11*100 -> 16.960398 | J11: =D11/F11 -> 32.077846 | K11: =E11/G11 -> 30.403964 | M11: =E11*$L$26 -> 1.2763024e+10 | N11: =(M11-M10)/M10*100 -> -1.6025382 | O11: =(M11-M7)/M7*100 -> 10.730962 | R11: Yearly Growth Rate %
A12: 2003q2 | B12: 23152.045 | C12: 143384.34 | D12: =C12*1000000 -> 1.4338434e+11 | E12: =B12*1000000 -> 2.3152045e+10 | F12: 4.3448327e+09 | G12: 7.3310499e+08 | H12: =E12/D12*100 -> 16.146843 | I12: =G12/F12*100 -> 16.873032 | J12: =D12/F12 -> 33.00112 | K12: =E12/G12 -> 31.580804 | M12: =E12*$L$26 -> 1.3250728e+10 | N12: =(M12-M11)/M11*100 -> 3.8212314 | O12: =(M12-M8)/M8*100 -> 10.169359 | R12: 2001
A13: 2003q3 | B13: 23628.798 | C13: 146836.53 | D13: =C13*1000000 -> 146836534000 | E13: =B13*1000000 -> 2.3628798e+10 | F13: 4.469508e+09 | G13: 7.5596579e+08 | H13: =E13/D13*100 -> 16.091906 | I13: =G13/F13*100 -> 16.913848 | J13: =D13/F13 -> 32.852953 | K13: =E13/G13 -> 31.256438 | M13: =E13*$L$26 -> 1.3523591e+10 | N13: =(M13-M12)/M12*100 -> 2.0592256 | O13: =(M13-M9)/M9*100 -> 9.2708688 | R13: =R12+1 -> 2002 | S13: =SUM(M7:M10) -> 4.8900851e+10
A14: 2003q4 | B14: 25151.098 | C14: 155687.71 | D14: =C14*1000000 -> 155687710000 | E14: =B14*1000000 -> 2.5151098e+10 | F14: 4.7924549e+09 | G14: 792421454 | H14: =E14/D14*100 -> 16.154838 | I14: =G14/F14*100 -> 16.534771 | J14: =D14/F14 -> 32.486004 | K14: =E14/G14 -> 31.739547 | M14: =E14*$L$26 -> 1.4394857e+10 | N14: =(M14-M13)/M13*100 -> 6.4425638 | O14: =(M14-M10)/M10*100 -> 10.978198 | R14: =R13+1 -> 2003 | S14: =SUM(M11:M14) -> 5.39322e+10 | T14: =(S14-S13)/S13*100 -> 10.288878
A15: 2004q1 | B15: 24401.289 | C15: 152687.89 | D15: =C15*1000000 -> 152687890000 | E15: =B15*1000000 -> 2.4401289e+10 | F15: 4.4993406e+09 | G15: 7.3594163e+08 | H15: =E15/D15*100 -> 15.981156 | I15: =G15/F15*100 -> 16.356655 | J15: =D15/F15 -> 33.935615 | K15: =E15/G15 -> 33.156555 | M15: =E15*$L$26 -> 1.3965715e+10 | N15: =(M15-M14)/M14*100 -> -2.9812163 | O15: =(M15-M11)/M11*100 -> 9.4232467 | R15: =R14+1 -> 2004 | S15: =SUM(M15:M18) -> 5.9092679e+10 | T15: =(S15-S14)/S14*100 -> 9.568458
A16: 2004q2 | B16: 25136.933 | C16: 156821.38 | D16: =C16*1000000 -> 156821383000 | E16: =B16*1000000 -> 2.5136933e+10 | F16: 4.5436772e+09 | G16: 7.6518177e+08 | H16: =E16/D16*100 -> 16.029021 | I16: =G16/F16*100 -> 16.840584 | J16: =D16/F16 -> 34.5142 | K16: =E16/G16 -> 32.85093 | M16: =E16*$L$26 -> 1.438675e+10 | N16: =(M16-M15)/M15*100 -> 3.0147736 | O16: =(M16-M12)/M12*100 -> 8.5732738 | R16: =R15+1 -> 2005 | S16: =SUM(M19:M22) -> 6.4951846e+10 | T16: =(S16-S15)/S15*100 -> 9.915215
A17: 2004q3 | B17: 25687.748 | C17: 160281.02 | D17: =C17*1000000 -> 160281018000 | E17: =B17*1000000 -> 2.5687748e+10 | F17: 4.7754909e+09 | G17: 7.9366597e+08 | H17: =E17/D17*100 -> 16.026694 | I17: =G17/F17*100 -> 16.619568 | J17: =D17/F17 -> 33.563255 | K17: =E17/G17 -> 32.365943 | M17: =E17*$L$26 -> 1.4702e+10 | N17: =(M17-M16)/M16*100 -> 2.1912567 | O17: =(M17-M13)/M13*100 -> 8.7137319 | R17: =R16+1 -> 2006 | S17: =SUM(M23:M26) -> 7.1861241e+10 | T17: =(S17-S16)/S16*100 -> 10.63772
A18: 2004q4 | B18: 28022.419 | C18: 174115.02 | D18: =C18*1000000 -> 174115025000 | E18: =B18*1000000 -> 2.8022419e+10 | F18: 4.830257e+09 | G18: 826240651 | H18: =E18/D18*100 -> 16.094199 | I18: =G18/F18*100 -> 17.105521 | J18: =D18/F18 -> 36.046741 | K18: =E18/G18 -> 33.915566 | L18: =L31/G31 -> 0.58440942 | M18: =E18*$L$26 -> 1.6038215e+10 | N18: =(M18-M17)/M17*100 -> 9.088658 | O18: =(M18-M14)/M14*100 -> 11.416286 | R18: =R17+1 -> 2007 | S18: =SUM(M27:M30) -> 8.1956311e+10 | T18: =(S18-S17)/S17*100 -> 14.048004
A19: 2005q1 | B19: 26429.536 | C19: 165078.05 | D19: =C19*1000000 -> 165078054000 | E19: =B19*1000000 -> 2.6429536e+10 | F19: 4690209425 | G19: 774740717 | H19: =E19/D19*100 -> 16.010327 | I19: =G19/F19*100 -> 16.518254 | J19: =D19/F19 -> 35.196308 | K19: =E19/G19 -> 34.11404 | L19: =L32/G32 -> 0.58543455 | M19: =E19*$L$26 -> 1.5126552e+10 | N19: =(M19-M18)/M18*100 -> -5.6843177 | O19: =(M19-M15)/M15*100 -> 8.3120466 | R19: =R18+1 -> 2008 | S19: =SUM(M31:M34) -> 9.3766956e+10 | T19: =(S19-S18)/S18*100 -> 14.410904
A20: 2005q2 | B20: 27627.281 | C20: 172096.65 | D20: =C20*1000000 -> 172096651000 | E20: =B20*1000000 -> 2.7627281e+10 | F20: 4760343407 | G20: 805551748 | H20: =E20/D20*100 -> 16.053352 | I20: =G20/F20*100 -> 16.922135 | J20: =D20/F20 -> 36.15215 | K20: =E20/G20 -> 34.296097 | L20: =L33/G33 -> 0.58087082 | M20: =E20*$L$26 -> 1.5812063e+10 | N20: =(M20-M19)/M19*100 -> 4.5318438 | O20: =(M20-M16)/M16*100 -> 9.9071283 | R20: =R19+1 -> 2009 | S20: =SUM(M35:M38) -> 9.9114054e+10 | T20: =(S20-S19)/S19*100 -> 5.7025399
A21: 2005q3 | B21: 28659.725 | C21: 179243.17 | D21: =C21*1000000 -> 179243171000 | E21: =B21*1000000 -> 2.8659725e+10 | F21: 4824982237 | G21: 802738840 | H21: =E21/D21*100 -> 15.989298 | I21: =G21/F21*100 -> 16.637136 | J21: =D21/F21 -> 37.14898 | K21: =E21/G21 -> 35.702427 | L21: =L34/G34 -> 0.5631147 | M21: =E21*$L$26 -> 1.6402967e+10 | N21: =(M21-M20)/M20*100 -> 3.7370444 | O21: =(M21-M17)/M17*100 -> 11.56963 | R21: =R20+1 -> 2010 | S21: =SUM(M39:M42) -> 1.1225983e+11 | T21: =(S21-S20)/S20*100 -> 13.263284
A22: 2005q4 | B22: 30769.147 | C22: 191868.25 | D22: =C22*1000000 -> 191868250000 | E22: =B22*1000000 -> 3.0769147e+10 | F22: 5011501336 | G22: 832010091 | H22: =E22/D22*100 -> 16.036602 | I22: =G22/F22*100 -> 16.602013 | J22: =D22/F22 -> 38.285583 | K22: =E22/G22 -> 36.981699 | L22: =L35/G35 -> 0.56498434 | M22: =E22*$L$26 -> 1.7610263e+10 | N22: =(M22-M21)/M21*100 -> 7.3602312 | O22: =(M22-M18)/M18*100 -> 9.8018937 | R22: =R21+1 -> 2011 | S22: =SUM(M43:M46) -> 1.2305591e+11 | T22: =(S22-S21)/S21*100 -> 9.6170455
A23: 2006q1 | B23: 29209.572 | C23: 183558.38 | D23: =C23*1000000 -> 183558381000 | E23: =B23*1000000 -> 2.9209572e+10 | F23: 4675546289 | G23: 750919883 | H23: =E23/D23*100 -> 15.91296 | I23: =G23/F23*100 -> 16.060581 | J23: =D23/F23 -> 39.259237 | K23: =E23/G23 -> 38.898387 | L23: =L36/G36 -> 0.56386607 | M23: =E23*$L$26 -> 1.6717664e+10 | N23: =(M23-M22)/M22*100 -> -5.0686319 | O23: =(M23-M19)/M19*100 -> 10.518672 | R23: =R22+1 -> 2012 | S23: =SUM(M47:M50) -> 1.3234992e+11 | T23: =(S23-S22)/S22*100 -> 7.5526672
A24: 2006q2 | B24: 30490.381 | C24: 191056.12 | D24: =C24*1000000 -> 1.9105612e+11 | E24: =B24*1000000 -> 3.0490381e+10 | F24: 4859349229 | G24: 811777848 | H24: =E24/D24*100 -> 15.958861 | I24: =G24/F24*100 -> 16.705485 | J24: =D24/F24 -> 39.317224 | K24: =E24/G24 -> 37.560006 | L24: =L37/G37 -> 0.56366596 | M24: =E24*$L$26 -> 1.7450716e+10 | N24: =(M24-M23)/M23*100 -> 4.3848932 | O24: =(M24-M20)/M20*100 -> 10.363306 | R24: =R23+1 -> 2013 | S24: =SUM(M51:M54) -> 1.4641185e+11 | T24: =(S24-S23)/S23*100 -> 10.624815
A25: 2006q3 | B25: 31576.476 | C25: 198657.31 | D25: =C25*1000000 -> 198657314000 | E25: =B25*1000000 -> 3.1576476e+10 | F25: 4906222423 | G25: 827883368 | H25: =E25/D25*100 -> 15.894948 | I25: =G25/F25*100 -> 16.874151 | J25: =D25/F25 -> 40.49089 | K25: =E25/G25 -> 38.141213 | M25: =E25*$L$26 -> 1.8072326e+10 | N25: =(M25-M24)/M24*100 -> 3.5620918 | O25: =(M25-M21)/M21*100 -> 10.177178 | R25: 2014 | S25: =SUM(M55:M58) -> 1.5981462e+11 | T25: =(S25-S24)/S24*100 -> 9.1541557
A26: 2006q4 | B26: 34281.55 | C26: 214911.1 | D26: =C26*1000000 -> 214911103000 | E26: =B26*1000000 -> 3.428155e+10 | F26: 5280826192 | G26: 873224453 | H26: =E26/D26*100 -> 15.951502 | I26: =G26/F26*100 -> 16.535754 | J26: =D26/F26 -> 40.696492 | K26: =E26/G26 -> 39.258578 | L26: =AVERAGE(L18:L24) -> 0.57233512 | M26: =E26*$L$26 -> 1.9620535e+10 | N26: =(M26-M25)/M25*100 -> 8.5667377 | O26: =(M26-M22)/M22*100 -> 11.415341 | Q26: =M26/E26 -> 0.57233512 | R26: 2015 | S26: =SUM(M59:M62) -> 1.7154188e+11 | T26: =(S26-S25)/S25*100 -> 7.3380391
A27: 2007q1 | B27: 32959.544 | C27: 206917.63 | D27: =C27*1000000 -> 206917629000 | E27: =B27*1000000 -> 3.2959544e+10 | F27: 5154329343 | G27: 833477953 | H27: =E27/D27*100 -> 15.928824 | I27: =G27/F27*100 -> 16.170444 | J27: =D27/F27 -> 40.144433 | K27: =E27/G27 -> 39.54459 | M27: =E27*$L$26 -> 1.8863905e+10 | N27: =(M27-M26)/M26*100 -> -3.8563192 | O27: =(M27-M23)/M23*100 -> 12.838161 | Q27: =M27/E27 -> 0.57233512 | R27: 2016 | S27: =SUM(M63:M66) -> 1.8518405e+11 | T27: =(S27-S26)/S26*100 -> 7.9526794
A28: 2007q2 | B28: 34685 | C28: 217215.24 | D28: =C28*1000000 -> 217215242000 | E28: =B28*1000000 -> 3.4685e+10 | F28: 5056692012 | G28: 821281896 | H28: =E28/D28*100 -> 15.968032 | I28: =G28/F28*100 -> 16.241485 | J28: =D28/F28 -> 42.955996 | K28: =E28/G28 -> 42.232758 | M28: =E28*$L$26 -> 1.9851444e+10 | N28: =(M28-M27)/M27*100 -> 5.2350723 | O28: =(M28-M24)/M24*100 -> 13.757189 | Q28: =M28/E28 -> 0.57233512
A29: 2007q3 | B29: 36174.442 | C29: 227163.33 | D29: =C29*1000000 -> 2.2716333e+11 | E29: =B29*1000000 -> 3.6174442e+10 | F29: 5400223668 | G29: 898105429 | H29: =E29/D29*100 -> 15.924419 | I29: =G29/F29*100 -> 16.630893 | J29: =D29/F29 -> 42.065541 | K29: =E29/G29 -> 40.278614 | M29: =E29*$L$26 -> 2.0703904e+10 | N29: =(M29-M28)/M28*100 -> 4.2941956 | O29: =(M29-M25)/M25*100 -> 14.561364 | Q29: =M29/E29 -> 0.57233512
A30: 2007q4 | B30: 39377.383 | C30: 246443.95 | D30: =C30*1000000 -> 246443948000 | E30: =B30*1000000 -> 3.9377383e+10 | F30: 5579296845 | G30: 902642355 | H30: =E30/D30*100 -> 15.978231 | I30: =G30/F30*100 -> 16.178425 | J30: =D30/F30 -> 44.171148 | K30: =E30/G30 -> 43.624569 | M30: =E30*$L$26 -> 2.253706e+10 | N30: =(M30-M29)/M29*100 -> 8.8541565 | O30: =(M30-M26)/M26*100 -> 14.864653 | Q30: =M30/E30 -> 0.57233512
A31: 2008q1 | B31: 37468.513 | C31: 236142.26 | D31: =C31*1000000 -> 236142264000 | E31: =B31*1000000 -> 3.7468513e+10 | F31: 5543646776 | G31: 903773016 | H31: =E31/D31*100 -> 15.866924 | I31: =G31/F31*100 -> 16.302861 | J31: =D31/F31 -> 42.596917 | K31: =E31/G31 -> 41.45788 | L31: 528173464 | M31: =L31*K31 -> 2.1896952e+10 | N31: =(M31-M30)/M30*100 -> -2.8402432 | O31: =(M31-M27)/M27*100 -> 16.078578 | Q31: =M31/E31 -> 0.58440942
A32: 2008q2 | B32: 39380.346 | C32: 247641.83 | D32: =C32*1000000 -> 247641826000 | E32: =B32*1000000 -> 3.9380346e+10 | F32: 5265926862 | G32: 890535459 | H32: =E32/D32*100 -> 15.902139 | I32: =G32/F32*100 -> 16.911277 | J32: =D32/F32 -> 47.027206 | K32: =E32/G32 -> 44.220975 | L32: 521350226 | M32: =L32*K32 -> 2.3054615e+10 | N32: =(M32-M31)/M31*100 -> 5.2868683 | O32: =(M32-M28)/M28*100 -> 16.135711 | Q32: =M32/E32 -> 0.58543455
A33: 2008q3 | B33: 41300.155 | C33: 260386.12 | D33: =C33*1000000 -> 260386116000 | E33: =B33*1000000 -> 4.1300155e+10 | F33: 5202135900 | G33: 869534795 | H33: =E33/D33*100 -> 15.86112 | I33: =G33/F33*100 -> 16.714957 | J33: =D33/F33 -> 50.053694 | K33: =E33/G33 -> 47.49684 | L33: 505087388 | M33: =L33*K33 -> 2.3990055e+10 | N33: =(M33-M32)/M32*100 -> 4.0574944 | O33: =(M33-M29)/M29*100 -> 15.872135 | Q33: =M33/E33 -> 0.58087082
A34: 2008q4 | B34: 44085.75 | C34: 276565.44 | D34: =C34*1000000 -> 276565444000 | E34: =B34*1000000 -> 4.408575e+10 | F34: 5460259824 | G34: 899511198 | H34: =E34/D34*100 -> 15.940441 | I34: =G34/F34*100 -> 16.47378 | J34: =D34/F34 -> 50.650601 | K34: =E34/G34 -> 49.010786 | L34: 506527974 | M34: =L34*K34 -> 2.4825334e+10 | N34: =(M34-M33)/M33*100 -> 3.4817718 | O34: =(M34-M30)/M30*100 -> 10.153385 | Q34: =M34/E34 -> 0.5631147
A35: 2009q1 | B35: 40917.422 | C35: 257948.77 | D35: =C35*1000000 -> 257948770000 | E35: =B35*1000000 -> 4.0917422e+10 | F35: 5083035776 | G35: 823636857 | H35: =E35/D35*100 -> 15.862616 | I35: =G35/F35*100 -> 16.203641 | J35: =D35/F35 -> 50.746991 | K35: =E35/G35 -> 49.678959 | L35: 465341929 | M35: =L35*K35 -> 2.3117703e+10 | N35: =(M35-M34)/M34*100 -> -6.8785835 | O35: =(M35-M31)/M31*100 -> 5.5749786 | Q35: =M35/E35 -> 0.56498434
A36: 2009q2 | B36: 42080.904 | C36: 264394.91 | D36: =C36*1000000 -> 264394909000 | E36: =B36*1000000 -> 4.2080904e+10 | F36: 4994646966 | G36: 831381344 | H36: =E36/D36*100 -> 15.915928 | I36: =G36/F36*100 -> 16.645448 | J36: =D36/F36 -> 52.935655 | K36: =E36/G36 -> 50.615647 | L36: 468787734 | M36: =L36*K36 -> 2.3727994e+10 | N36: =(M36-M35)/M35*100 -> 2.6399321 | O36: =(M36-M32)/M32*100 -> 2.9207992 | Q36: =M36/E36 -> 0.56386607
A37: 2009q3 | B37: 44782.98 | C37: 281628.54 | D37: =C37*1000000 -> 281628545000 | E37: =B37*1000000 -> 4.478298e+10 | F37: 5002707417 | G37: 835393434 | H37: =E37/D37*100 -> 15.901435 | I37: =G37/F37*100 -> 16.698827 | J37: =D37/F37 -> 56.295226 | K37: =E37/G37 -> 53.607053 | L37: 470882842 | M37: =L37*K37 -> 2.5242642e+10 | N37: =(M37-M36)/M36*100 -> 6.3833771 | O37: =(M37-M33)/M33*100 -> 5.2212746 | Q37: =M37/E37 -> 0.56366596
A38: 2009q4 | B38: 48324.963 | C38: 302220.41 | D38: =C38*1000000 -> 302220412000 | E38: =B38*1000000 -> 4.8324963e+10 | F38: 5074816265 | G38: 901763015 | H38: =E38/D38*100 -> 15.989973 | I38: =G38/F38*100 -> 17.769373 | J38: =D38/F38 -> 59.552976 | K38: =E38/G38 -> 53.589426 | L38: 504310603 | M38: =L38*K38 -> 2.7025716e+10 | N38: =(M38-M37)/M37*100 -> 7.063739 | O38: =(M38-M34)/M34*100 -> 8.8634538 | Q38: =M38/E38 -> 0.5592496
A39: 2010q1 | B39: 46118.991 | C39: 290461 | D39: =C39*1000000 -> 290461000000 | E39: =B39*1000000 -> 4.6118991e+10 | H39: =E39/D39*100 -> 15.87786 | I39: =G39/F39*100 -> #DIV/0! | J39: =D39/F39 -> #DIV/0! | K39: =E39/G39 -> #DIV/0! | M39: =E39*Q39 -> 2.6468133e+10 | N39: =(M39-M38)/M38*100 -> -2.0631576 | O39: =(M39-M35)/M35*100 -> 14.49292 | Q39: =(Q27+Q31+Q35)/3 -> 0.57390963
A40: 2010q2 | B40: 47519.553 | C40: 298461 | D40: =C40*1000000 -> 298461000000 | E40: =B40*1000000 -> 4.7519553e+10 | H40: =E40/D40*100 -> 15.921528 | I40: =G40/F40*100 -> #DIV/0! | J40: =D40/F40 -> #DIV/0! | K40: =E40/G40 -> #DIV/0! | M40: =E40*Q40 -> 2.7270454e+10 | N40: =(M40-M39)/M39*100 -> 3.0312711 | O40: =(M40-M36)/M36*100 -> 14.929452 | Q40: =(Q28+Q32+Q36)/3 -> 0.57387858
A41: 2010q3 | B41: 49528.918 | C41: 312253 | D41: =C41*1000000 -> 312253000000 | E41: =B41*1000000 -> 4.9528918e+10 | H41: =E41/D41*100 -> 15.861791 | I41: =G41/F41*100 -> #DIV/0! | J41: =D41/F41 -> #DIV/0! | K41: =E41/G41 -> #DIV/0! | M41: =E41*Q41 -> 2.8344936e+10 | N41: =(M41-M40)/M40*100 -> 3.9400975 | O41: =(M41-M37)/M37*100 -> 12.289896 | Q41: =(Q29+Q33+Q37)/3 -> 0.57229063
A42: 2010q4 | B42: 53418.872 | C42: 333531 | D42: =C42*1000000 -> 333531000000 | E42: =B42*1000000 -> 5.3418872e+10 | H42: =E42/D42*100 -> 16.016164 | I42: =G42/F42*100 -> #DIV/0! | J42: =D42/F42 -> #DIV/0! | K42: =E42/G42 -> #DIV/0! | M42: =E42*Q42 -> 3.017631e+10 | N42: =(M42-M41)/M41*100 -> 6.4610271 | O42: =(M42-M38)/M38*100 -> 11.657764 | Q42: =(Q30+Q34+Q38)/3 -> 0.56489981
A43: 2011q1 | B43: 50512.142 | C43: 318826 | D43: =C43*1000000 -> 318826000000 | E43: =B43*1000000 -> 5.0512142e+10 | H43: =E43/D43*100 -> 15.843169 | I43: =G43/F43*100 -> #DIV/0! | J43: =D43/F43 -> #DIV/0! | K43: =E43/G43 -> #DIV/0! | M43: =E43*Q43 -> 2.9015915e+10 | N43: =(M43-M42)/M42*100 -> -3.845384 | O43: =(M43-M39)/M39*100 -> 9.6258483 | Q43: =(Q31+Q35+Q39)/3 -> 0.57443446
A44: 2011q2 | B44: 52705.26 | C44: 332290 | D44: =C44*1000000 -> 332290000000 | E44: =B44*1000000 -> 5.270526e+10 | H44: =E44/D44*100 -> 15.861224 | I44: =G44/F44*100 -> #DIV/0! | J44: =D44/F44 -> #DIV/0! | K44: =E44/G44 -> #DIV/0! | M44: =E44*Q44 -> 3.0273536e+10 | N44: =(M44-M43)/M43*100 -> 4.3342461 | O44: =(M44-M40)/M40*100 -> 11.012221 | Q44: =(Q32+Q36+Q40)/3 -> 0.57439307
A45: 2011q3 | B45: 54404.96 | C45: 343765 | D45: =C45*1000000 -> 343765000000 | E45: =B45*1000000 -> 5.440496e+10 | H45: =E45/D45*100 -> 15.826207 | I45: =G45/F45*100 -> #DIV/0! | J45: =D45/F45 -> #DIV/0! | K45: =E45/G45 -> #DIV/0! | M45: =E45*Q45 -> 3.1134642e+10 | N45: =(M45-M44)/M44*100 -> 2.8444185 | O45: =(M45-M41)/M41*100 -> 9.8419916 | Q45: =(Q33+Q37+Q41)/3 -> 0.5722758
A46: 2011q4 | B46: 58020.232 | C46: 364499 | D46: =C46*1000000 -> 364499000000 | E46: =B46*1000000 -> 5.8020232e+10 | H46: =E46/D46*100 -> 15.917803 | I46: =G46/F46*100 -> #DIV/0! | J46: =D46/F46 -> #DIV/0! | K46: =E46/G46 -> #DIV/0! | M46: =E46*Q46 -> 3.2631818e+10 | N46: =(M46-M45)/M45*100 -> 4.8087134 | O46: =(M46-M42)/M42*100 -> 8.1372041 | Q46: =(Q34+Q38+Q42)/3 -> 0.56242137
A47: 2012q1 | B47: 54853.353 | C47: 349564 | D47: =C47*1000000 -> 349564000000 | E47: =B47*1000000 -> 5.4853353e+10 | H47: =E47/D47*100 -> 15.691934 | I47: =G47/F47*100 -> #DIV/0! | J47: =D47/F47 -> #DIV/0! | K47: =E47/G47 -> #DIV/0! | M47: =E47*Q47 -> 3.132727e+10 | N47: =(M47-M46)/M46*100 -> -3.9977803 | O47: =(M47-M43)/M43*100 -> 7.9658165 | Q47: =(Q35+Q39+Q43)/3 -> 0.57110948
A48: 2012q2 | B48: 56917.853 | C48: 362218 | D48: =C48*1000000 -> 362218000000 | E48: =B48*1000000 -> 5.6917853e+10 | H48: =E48/D48*100 -> 15.713701 | I48: =G48/F48*100 -> #DIV/0! | J48: =D48/F48 -> #DIV/0! | K48: =E48/G48 -> #DIV/0! | M48: =E48*Q48 -> 3.2483734e+10 | N48: =(M48-M47)/M47*100 -> 3.6915586 | O48: =(M48-M44)/M44*100 -> 7.300759 | Q48: =(Q36+Q40+Q44)/3 -> 0.57071257
A49: 2012q3 | B49: 58492.94 | C49: 371988 | D49: =C49*1000000 -> 371988000000 | E49: =B49*1000000 -> 5.849294e+10 | H49: =E49/D49*100 -> 15.724416 | I49: =G49/F49*100 -> #DIV/0! | J49: =D49/F49 -> #DIV/0! | K49: =E49/G49 -> #DIV/0! | M49: =E49*Q49 -> 3.3306512e+10 | N49: =(M49-M48)/M48*100 -> 2.5328902 | O49: =(M49-M45)/M45*100 -> 6.9757318 | Q49: =(Q37+Q41+Q45)/3 -> 0.5694108
A50: 2012q4 | B50: 62669.887 | C50: 396194 | D50: =C50*1000000 -> 396194000000 | E50: =B50*1000000 -> 6.2669887e+10 | H50: =E50/D50*100 -> 15.81798 | I50: =G50/F50*100 -> #DIV/0! | J50: =D50/F50 -> #DIV/0! | K50: =E50/G50 -> #DIV/0! | M50: =E50*Q50 -> 3.52324e+10 | N50: =(M50-M49)/M49*100 -> 5.782318 | O50: =(M50-M46)/M46*100 -> 7.9694666 | Q50: =(Q38+Q42+Q46)/3 -> 0.56219026
... A66: 2016q4 | B66: 86904.451 | C66: 547364 | D66: =C66*1000000 -> 547364000000 | E66: =B66*1000000 -> 8.6904451e+10 | H66: =E66/D66*100 -> 15.876903 | I66: =G66/F66*100 -> #DIV/0! | J66: =D66/F66 -> #DIV/0! | K66: =E66/G66 -> #DIV/0! | M66: =E66*Q66 -> 4.8910291e+10 | N66: =(M66-M65)/M65*100 -> 4.8017247 | O66: =(M66-M62)/M62*100 -> 7.1092803 | Q66: =(Q54+Q58+Q62)/3 -> 0.56280537

Sheet COMP PMB
D1: Msunduzi Municipal Area COMP
C2: SA GDP | D2: SA Quarterly COMP | E2: KZN Quarterly COMP | F2: SA Fuel Consumption | G2: KZN Fuel Consumption | H2: KZN GDP Ratio | I2: KZN Fuel Ratio | J2: SA Usage | K2: KZN Usage | L2: PMB Fuel Usage | M2: Pietermaritzburg Quarterly COMP | N2: PMB Quarterly Rate | O2: PMB Annual Rate
A3: 2001g1 | B3: 37676.736 | C3: 228114.65 | D3: ='COMP Durban'!D3 -> 1.1494169e+11 | E3: ='COMP Durban'!E3 -> 1.8690882e+10
A4: 2001g2 | B4: 39785.999 | C4: 237077.62 | D4: ='COMP Durban'!D4 -> 1.1723784e+11 | E4: ='COMP Durban'!E4 -> 1.9094787e+10
A5: 2001g3 | B5: 40039.788 | C5: 239764.67 | D5: ='COMP Durban'!D5 -> 1.1974801e+11 | E5: ='COMP Durban'!E5 -> 1.9444965e+10
A6: 2001g4 | B6: 40074.592 | C6: 242416.26 | D6: ='COMP Durban'!D6 -> 1.267341e+11 | E6: ='COMP Durban'!E6 -> 2.0645797e+10
A7: 2002g1 | B7: 38164.554 | C7: 234422.23 | D7: ='COMP Durban'!D7 -> 1.2577476e+11 | E7: ='COMP Durban'!E7 -> 2.0138824e+10 | F7: 4118958622 | G7: 674878797 | H7: =E7/D7*100 -> 16.011816 | I7: =G7/F7*100 -> 16.384695 | J7: =D7/F7 -> 30.535574 | K7: =E7/G7 -> 29.840653 | M7: =E7*$L$23 -> 1.6174068e+09
A8: 2002g2 | B8: 40899.51 | C8: 246692 | D8: ='COMP Durban'!D8 -> 1.3076652e+11 | E8: ='COMP Durban'!E8 -> 2.1014958e+10 | F8: 4128329079 | G8: 697677279 | H8: =E8/D8*100 -> 16.070595 | I8: =G8/F8*100 -> 16.89975 | J8: =D8/F8 -> 31.675411 | K8: =E8/G8 -> 30.121317 | M8: =E8*$L$23 -> 1.6877717e+09 | N8: =(M8-M7)/M7*100 -> 4.3504741
A9: 2002g3 | B9: 40843.516 | C9: 248774.74 | D9: ='COMP Durban'!D9 -> 1.3495035e+11 | E9: ='COMP Durban'!E9 -> 2.1624059e+10 | F9: 4479766142 | G9: 748604188 | H9: =E9/D9*100 -> 16.023714 | I9: =G9/F9*100 -> 16.710787 | J9: =D9/F9 -> 30.124419 | K9: =E9/G9 -> 28.885838 | M9: =E9*$L$23 -> 1.7366904e+09 | N9: =(M9-M8)/M8*100 -> 2.8984174
A10: 2002g4 | B10: 41049.653 | C10: 252232.95 | D10: ='COMP Durban'!D10 -> 1.4083882e+11 | E10: ='COMP Durban'!E10 -> 2.2663098e+10 | F10: 4393645140 | G10: 741841930 | H10: =E10/D10*100 -> 16.091513 | I10: =G10/F10*100 -> 16.88443 | J10: =D10/F10 -> 32.05512 | K10: =E10/G10 -> 30.549767 | M10: =E10*$L$23 -> 1.8201386e+09 | N10: =(M10-M9)/M9*100 -> 4.805013
A11: ='COMP Durban'!A11 -> 2003q1 | B11: 39679.286 | C11: 242968.68 | D11: ='COMP Durban'!D11 -> 138720969000 | E11: ='COMP Durban'!E11 -> 2.2299913e+10 | F11: 4.3245102e+09 | G11: 7.3345414e+08 | H11: =E11/D11*100 -> 16.075373 | I11: =G11/F11*100 -> 16.960398 | J11: =D11/F11 -> 32.077846 | K11: =E11/G11 -> 30.403964 | M11: =E11*$L$23 -> 1.7909702e+09 | N11: =(M11-M10)/M10*100 -> -1.6025382 | O11: =(M11-M7)/M7*100 -> 10.730962 | R11: Yearly Growth Rate %
A12: ='COMP Durban'!A12 -> 2003q2 | B12: 42428.908 | C12: 254647.49 | D12: ='COMP Durban'!D12 -> 1.4338434e+11 | E12: ='COMP Durban'!E12 -> 2.3152045e+10 | F12: 4.3448327e+09 | G12: 7.3310499e+08 | H12: =E12/D12*100 -> 16.146843 | I12: =G12/F12*100 -> 16.873032 | J12: =D12/F12 -> 33.00112 | K12: =E12/G12 -> 31.580804 | M12: =E12*$L$23 -> 1.8594073e+09 | N12: =(M12-M11)/M11*100 -> 3.8212314 | O12: =(M12-M8)/M8*100 -> 10.169359 | R12: 2001
A13: ='COMP Durban'!A13 -> 2003q3 | B13: 42149.481 | C13: 256275.03 | D13: ='COMP Durban'!D13 -> 146836534000 | E13: ='COMP Durban'!E13 -> 2.3628798e+10 | F13: 4.469508e+09 | G13: 7.5596579e+08 | H13: =E13/D13*100 -> 16.091906 | I13: =G13/F13*100 -> 16.913848 | J13: =D13/F13 -> 32.852953 | K13: =E13/G13 -> 31.256438 | M13: =E13*$L$23 -> 1.8976967e+09 | N13: =(M13-M12)/M12*100 -> 2.0592256 | O13: =(M13-M9)/M9*100 -> 9.2708688 | R13: =R12+1 -> 2002 | S13: =SUM(M7:M10) -> 6.8620075e+09
A14: ='COMP Durban'!A14 -> 2003q4 | B14: 42100.347 | C14: 258872.64 | D14: ='COMP Durban'!D14 -> 155687710000 | E14: ='COMP Durban'!E14 -> 2.5151098e+10 | F14: 4.7924549e+09 | G14: 792421454 | H14: =E14/D14*100 -> 16.154838 | I14: =G14/F14*100 -> 16.534771 | J14: =D14/F14 -> 32.486004 | K14: =E14/G14 -> 31.739547 | L14: =L31/G31 -> 0.081954277 | M14: =E14*$L$23 -> 2.019957e+09 | N14: =(M14-M13)/M13*100 -> 6.4425638 | O14: =(M14-M10)/M10*100 -> 10.978198 | R14: =R13+1 -> 2003 | S14: =SUM(M11:M14) -> 7.5680311e+09 | T14: =(S14-S13)/S13*100 -> 10.288878
A15: ='COMP Durban'!A15 -> 2004q1 | B15: 40825.253 | C15: 251444.38 | D15: ='COMP Durban'!D15 -> 152687890000 | E15: ='COMP Durban'!E15 -> 2.4401289e+10 | F15: 4.4993406e+09 | G15: 7.3594163e+08 | H15: =E15/D15*100 -> 15.981156 | I15: =G15/F15*100 -> 16.356655 | J15: =D15/F15 -> 33.935615 | K15: =E15/G15 -> 33.156555 | L15: =L32/G32 -> 0.075731592 | M15: =E15*$L$23 -> 1.9597377e+09 | N15: =(M15-M14)/M14*100 -> -2.9812163 | O15: =(M15-M11)/M11*100 -> 9.4232467 | R15: =R14+1 -> 2004 | S15: =SUM(M15:M18) -> 8.2921749e+09 | T15: =(S15-S14)/S14*100 -> 9.568458
A16: ='COMP Durban'!A16 -> 2004q2 | B16: 43839.245 | C16: 264778.95 | D16: ='COMP Durban'!D16 -> 156821383000 | E16: ='COMP Durban'!E16 -> 2.5136933e+10 | F16: 4.5436772e+09 | G16: 7.6518177e+08 | H16: =E16/D16*100 -> 16.029021 | I16: =G16/F16*100 -> 16.840584 | J16: =D16/F16 -> 34.5142 | K16: =E16/G16 -> 32.85093 | L16: =L33/G33 -> 0.077303872 | M16: =E16*$L$23 -> 2.0188193e+09 | N16: =(M16-M15)/M15*100 -> 3.0147736 | O16: =(M16-M12)/M12*100 -> 8.5732738 | R16: =R15+1 -> 2005 | S16: =SUM(M19:M22) -> 9.1143619e+09 | T16: =(S16-S15)/S15*100 -> 9.915215
A17: ='COMP Durban'!A17 -> 2004q3 | B17: 44543.657 | C17: 270547.83 | D17: ='COMP Durban'!D17 -> 160281018000 | E17: ='COMP Durban'!E17 -> 2.5687748e+10 | F17: 4.7754909e+09 | G17: 7.9366597e+08 | H17: =E17/D17*100 -> 16.026694 | I17: =G17/F17*100 -> 16.619568 | J17: =D17/F17 -> 33.563255 | K17: =E17/G17 -> 32.365943 | L17: =L34/G34 -> 0.08154082 | M17: =E17*$L$23 -> 2.0630569e+09 | N17: =(M17-M16)/M16*100 -> 2.1912567 | O17: =(M17-M13)/M13*100 -> 8.7137319 | R17: =R16+1 -> 2006 | S17: =SUM(M23:M26) -> 1.0083922e+10 | T17: =(S17-S16)/S16*100 -> 10.63772
A18: ='COMP Durban'!A18 -> 2004q4 | B18: 44924.846 | C18: 275256.89 | D18: ='COMP Durban'!D18 -> 174115025000 | E18: ='COMP Durban'!E18 -> 2.8022419e+10 | F18: 4.830257e+09 | G18: 826240651 | H18: =E18/D18*100 -> 16.094199 | I18: =G18/F18*100 -> 17.105521 | J18: =D18/F18 -> 36.046741 | K18: =E18/G18 -> 33.915566 | L18: =L35/G35 -> 0.080220365 | M18: =E18*$L$23 -> 2.250561e+09 | N18: =(M18-M17)/M17*100 -> 9.088658 | O18: =(M18-M14)/M14*100 -> 11.416286 | R18: =R17+1 -> 2007 | S18: =SUM(M27:M30) -> 1.1500512e+10 | T18: =(S18-S17)/S17*100 -> 14.048004
A19: ='COMP Durban'!A19 -> 2005q1 | B19: 43267.605 | C19: 265766.29 | D19: ='COMP Durban'!D19 -> 165078054000 | E19: ='COMP Durban'!E19 -> 2.6429536e+10 | F19: 4690209425 | G19: 774740717 | H19: =E19/D19*100 -> 16.010327 | I19: =G19/F19*100 -> 16.518254 | J19: =D19/F19 -> 35.196308 | K19: =E19/G19 -> 34.11404 | L19: =L36/G36 -> 0.083003445 | M19: =E19*$L$23 -> 2.122632e+09 | N19: =(M19-M18)/M18*100 -> -5.6843177 | O19: =(M19-M15)/M15*100 -> 8.3120466 | R19: =R18+1 -> 2008 | S19: =SUM(M31:M34) -> 1.2840491e+10 | T19: =(S19-S18)/S18*100 -> 11.651476
A20: ='COMP Durban'!A20 -> 2005q2 | B20: 45920.175 | C20: 277268.9 | D20: ='COMP Durban'!D20 -> 172096651000 | E20: ='COMP Durban'!E20 -> 2.7627281e+10 | F20: 4760343407 | G20: 805551748 | H20: =E20/D20*100 -> 16.053352 | I20: =G20/F20*100 -> 16.922135 | J20: =D20/F20 -> 36.15215 | K20: =E20/G20 -> 34.296097 | L20: =L37/G37 -> 0.082435751 | M20: =E20*$L$23 -> 2.2188264e+09 | N20: =(M20-M19)/M19*100 -> 4.5318438 | O20: =(M20-M16)/M16*100 -> 9.9071283 | R20: =R19+1 -> 2009 | S20: =SUM(M35:M38) -> 1.4892524e+10 | T20: =(S20-S19)/S19*100 -> 15.980954
A21: ='COMP Durban'!A21 -> 2005q3 | B21: 47037.654 | C21: 283831.22 | D21: ='COMP Durban'!D21 -> 179243171000 | E21: ='COMP Durban'!E21 -> 2.8659725e+10 | F21: 4824982237 | G21: 802738840 | H21: =E21/D21*100 -> 15.989298 | I21: =G21/F21*100 -> 16.637136 | J21: =D21/F21 -> 37.14898 | K21: =E21/G21 -> 35.702427 | M21: =E21*$L$23 -> 2.3017449e+09 | N21: =(M21-M20)/M20*100 -> 3.7370444 | O21: =(M21-M17)/M17*100 -> 11.56963 | R21: =R20+1 -> 2010 | S21: =SUM(M39:M42) -> 1.5990113e+10 | T21: =(S21-S20)/S20*100 -> 7.3700668
A22: ='COMP Durban'!A22 -> 2005q4 | B22: 47137.581 | C22: 287892.13 | D22: ='COMP Durban'!D22 -> 191868250000 | E22: ='COMP Durban'!E22 -> 3.0769147e+10 | F22: 5011501336 | G22: 832010091 | H22: =E22/D22*100 -> 16.036602 | I22: =G22/F22*100 -> 16.602013 | J22: =D22/F22 -> 38.285583 | K22: =E22/G22 -> 36.981699 | M22: =E22*$L$23 -> 2.4711586e+09 | N22: =(M22-M21)/M21*100 -> 7.3602312 | O22: =(M22-M18)/M18*100 -> 9.8018937 | R22: =R21+1 -> 2011 | S22: =SUM(M43:M46) -> 1.7610106e+10 | T22: =(S22-S21)/S21*100 -> 10.131216
A23: ='COMP Durban'!A23 -> 2006q1 | B23: 45515.077 | C23: 278720.46 | D23: ='COMP Durban'!D23 -> 183558381000 | E23: ='COMP Durban'!E23 -> 2.9209572e+10 | F23: 4675546289 | G23: 750919883 | H23: =E23/D23*100 -> 15.91296 | I23: =G23/F23*100 -> 16.060581 | J23: =D23/F23 -> 39.259237 | K23: =E23/G23 -> 38.898387 | L23: =AVERAGE(L14:L20) -> 0.080312875 | M23: =E23*$L$23 -> 2.3459047e+09 | N23: =(M23-M22)/M22*100 -> -5.0686319 | O23: =(M23-M19)/M19*100 -> 10.518672 | R23: =R22+1 -> 2012 | S23: =SUM(M47:M50) -> 1.9217374e+10 | T23: =(S23-S22)/S22*100 -> 9.126963
A24: ='COMP Durban'!A24 -> 2006q2 | B24: 48049.393 | C24: 290944.86 | D24: ='COMP Durban'!D24 -> 1.9105612e+11 | E24: ='COMP Durban'!E24 -> 3.0490381e+10 | F24: 4859349229 | G24: 811777848 | H24: =E24/D24*100 -> 15.958861 | I24: =G24/F24*100 -> 16.705485 | J24: =D24/F24 -> 39.317224 | K24: =E24/G24 -> 37.560006 | M24: =E24*$L$23 -> 2.4487701e+09 | N24: =(M24-M23)/M23*100 -> 4.3848932 | O24: =(M24-M20)/M20*100 -> 10.363306 | R24: =R23+1 -> 2013 | S24: =SUM(M51:M54) -> 2.1020941e+10 | T24: =(S24-S23)/S23*100 -> 9.3850837
A25: ='COMP Durban'!A25 -> 2006q3 | B25: 49171.99 | C25: 297456.97 | D25: ='COMP Durban'!D25 -> 198657314000 | E25: ='COMP Durban'!E25 -> 3.1576476e+10 | F25: 4906222423 | G25: 827883368 | H25: =E25/D25*100 -> 15.894948 | I25: =G25/F25*100 -> 16.874151 | J25: =D25/F25 -> 40.49089 | K25: =E25/G25 -> 38.141213 | M25: =E25*$L$23 -> 2.5359976e+09 | N25: =(M25-M24)/M24*100 -> 3.5620918 | O25: =(M25-M21)/M21*100 -> 10.177178 | R25: 2014 | S25: =SUM(M55:M58) -> 2.3007291e+10 | T25: =(S25-S24)/S24*100 -> 9.4493875
A26: ='COMP Durban'!A26 -> 2006q4 | B26: 50201.911 | C26: 306956.06 | D26: ='COMP Durban'!D26 -> 214911103000 | E26: ='COMP Durban'!E26 -> 3.428155e+10 | F26: 5280826192 | G26: 873224453 | H26: =E26/D26*100 -> 15.951502 | I26: =G26/F26*100 -> 16.535754 | J26: =D26/F26 -> 40.696492 | K26: =E26/G26 -> 39.258578 | M26: =E26*$L$23 -> 2.7532498e+09 | N26: =(M26-M25)/M25*100 -> 8.5667377 | O26: =(M26-M22)/M22*100 -> 11.415341 | Q26: =M26/E26 -> 0.080312875 | R26: 2015 | S26: =SUM(M59:M62) -> 2.4743986e+10 | T26: =(S26-S25)/S25*100 -> 7.5484543
A27: ='COMP Durban'!A27 -> 2007q1 | B27: 48194.137 | C27: 294828.76 | D27: ='COMP Durban'!D27 -> 206917629000 | E27: ='COMP Durban'!E27 -> 3.2959544e+10 | F27: 5154329343 | G27: 833477953 | H27: =E27/D27*100 -> 15.928824 | I27: =G27/F27*100 -> 16.170444 | J27: =D27/F27 -> 40.144433 | K27: =E27/G27 -> 39.54459 | M27: =E27*$L$23 -> 2.6470757e+09 | N27: =(M27-M26)/M26*100 -> -3.8563192 | O27: =(M27-M23)/M23*100 -> 12.838161 | Q27: =M27/E27 -> 0.080312875 | R27: 2016 | S27: =SUM(M63:M66) -> 2.6648099e+10 | T27: =(S27-S26)/S26*100 -> 7.6952542
A28: ='COMP Durban'!A28 -> 2007q2 | B28: 50488.786 | C28: 305341.24 | D28: ='COMP Durban'!D28 -> 217215242000 | E28: ='COMP Durban'!E28 -> 3.4685e+10 | F28: 5056692012 | G28: 821281896 | H28: =E28/D28*100 -> 15.968032 | I28: =G28/F28*100 -> 16.241485 | J28: =D28/F28 -> 42.955996 | K28: =E28/G28 -> 42.232758 | M28: =E28*$L$23 -> 2.785652e+09 | N28: =(M28-M27)/M27*100 -> 5.2350723 | O28: =(M28-M24)/M24*100 -> 13.757189 | Q28: =M28/E28 -> 0.080312875
A29: ='COMP Durban'!A29 -> 2007q3 | B29: 51623.877 | C29: 312536.95 | D29: ='COMP Durban'!D29 -> 2.2716333e+11 | E29: ='COMP Durban'!E29 -> 3.6174442e+10 | F29: 5400223668 | G29: 898105429 | H29: =E29/D29*100 -> 15.924419 | I29: =G29/F29*100 -> 16.630893 | J29: =D29/F29 -> 42.065541 | K29: =E29/G29 -> 40.278614 | M29: =E29*$L$23 -> 2.9052734e+09 | N29: =(M29-M28)/M28*100 -> 4.2941956 | O29: =(M29-M25)/M25*100 -> 14.561364 | Q29: =M29/E29 -> 0.080312875
A30: ='COMP Durban'!A30 -> 2007q4 | B30: 52621.553 | C30: 321222.87 | D30: ='COMP Durban'!D30 -> 246443948000 | E30: ='COMP Durban'!E30 -> 3.9377383e+10 | F30: 5579296845 | G30: 902642355 | H30: =E30/D30*100 -> 15.978231 | I30: =G30/F30*100 -> 16.178425 | J30: =D30/F30 -> 44.171148 | K30: =E30/G30 -> 43.624569 | M30: =E30*$L$23 -> 3.1625109e+09 | N30: =(M30-M29)/M29*100 -> 8.8541565 | O30: =(M30-M26)/M26*100 -> 14.864653 | Q30: =M30/E30 -> 0.080312875
A31: ='COMP Durban'!A31 -> 2008q1 | B31: 50304.132 | C31: 306287.39 | D31: ='COMP Durban'!D31 -> 236142264000 | E31: ='COMP Durban'!E31 -> 3.7468513e+10 | F31: 5543646776 | G31: 903654581 | H31: =E31/D31*100 -> 15.866924 | I31: =G31/F31*100 -> 16.300724 | J31: =D31/F31 -> 42.596917 | K31: =E31/G31 -> 41.463314 | L31: 74058358 | M31: =L31*K31 -> 3.0707049e+09 | N31: =(M31-M30)/M30*100 -> -2.9029439 | O31: =(M31-M27)/M27*100 -> 16.003668 | Q31: =M31/E31 -> 0.081954277
A32: ='COMP Durban'!A32 -> 2008q2 | B32: 52106.987 | C32: 319011.07 | D32: ='COMP Durban'!D32 -> 247641826000 | E32: ='COMP Durban'!E32 -> 3.9380346e+10 | F32: 5265926862 | G32: 890416751 | H32: =E32/D32*100 -> 15.902139 | I32: =G32/F32*100 -> 16.909022 | J32: =D32/F32 -> 47.027206 | K32: =E32/G32 -> 44.22687 | L32: 67432678 | M32: =L32*K32 -> 2.9823363e+09 | N32: =(M32-M31)/M31*100 -> -2.8777963 | O32: =(M32-M28)/M28*100 -> 7.0606181 | Q32: =M32/E32 -> 0.075731592
A33: ='COMP Durban'!A33 -> 2008q3 | B33: 53105.277 | C33: 322043.51 | D33: ='COMP Durban'!D33 -> 260386116000 | E33: ='COMP Durban'!E33 -> 4.1300155e+10 | F33: 5202135900 | G33: 869415812 | H33: =E33/D33*100 -> 15.86112 | I33: =G33/F33*100 -> 16.71267 | J33: =D33/F33 -> 50.053694 | K33: =E33/G33 -> 47.50334 | L33: 67209209 | M33: =L33*K33 -> 3.1926619e+09 | N33: =(M33-M32)/M32*100 -> 7.0523779 | O33: =(M33-M29)/M29*100 -> 9.8919617 | Q33: =M33/E33 -> 0.077303872
A34: ='COMP Durban'!A34 -> 2008q4 | B34: 54606.741 | C34: 324375.43 | D34: ='COMP Durban'!D34 -> 276565444000 | E34: ='COMP Durban'!E34 -> 4.408575e+10 | F34: 5460259824 | G34: 899391940 | H34: =E34/D34*100 -> 15.940441 | I34: =G34/F34*100 -> 16.471596 | J34: =D34/F34 -> 50.650601 | K34: =E34/G34 -> 49.017284 | L34: 73337156 | M34: =L34*K34 -> 3.5947882e+09 | N34: =(M34-M33)/M33*100 -> 12.59533 | O34: =(M34-M30)/M30*100 -> 13.668803 | Q34: =M34/E34 -> 0.08154082
A35: ='COMP Durban'!A35 -> 2009q1 | B35: 49513.613 | C35: 302489.23 | D35: ='COMP Durban'!D35 -> 257948770000 | E35: ='COMP Durban'!E35 -> 4.0917422e+10 | F35: 5206564996 | G35: 842784368 | H35: =E35/D35*100 -> 15.862616 | I35: =G35/F35*100 -> 16.186956 | J35: =D35/F35 -> 49.542985 | K35: =E35/G35 -> 48.550285 | L35: 67608470 | M35: =L35*K35 -> 3.2824105e+09 | N35: =(M35-M34)/M34*100 -> -8.6897389 | O35: =(M35-M31)/M31*100 -> 6.8943642 | Q35: =M35/E35 -> 0.080220365
A36: ='COMP Durban'!A36 -> 2009q2 | B36: 51361.106 | C36: 310058.43 | D36: ='COMP Durban'!D36 -> 264394909000 | E36: ='COMP Durban'!E36 -> 4.2080904e+10 | F36: 4994646966 | G36: 831381344 | H36: =E36/D36*100 -> 15.915928 | I36: =G36/F36*100 -> 16.645448 | J36: =D36/F36 -> 52.935655 | K36: =E36/G36 -> 50.615647 | L36: 69007516 | M36: =L36*K36 -> 3.49286e+09 | N36: =(M36-M35)/M35*100 -> 6.4114321 | O36: =(M36-M32)/M32*100 -> 17.118248 | Q36: =M36/E36 -> 0.083003445
A37: ='COMP Durban'!A37 -> 2009q3 | D37: ='COMP Durban'!D37 -> 281628545000 | E37: ='COMP Durban'!E37 -> 4.478298e+10 | F37: 5002707417 | G37: 835393434 | H37: =E37/D37*100 -> 15.901435 | I37: =G37/F37*100 -> 16.698827 | J37: =D37/F37 -> 56.295226 | K37: =E37/G37 -> 53.607053 | L37: 68866285 | M37: =L37*K37 -> 3.6917186e+09 | N37: =(M37-M36)/M36*100 -> 5.6932877 | O37: =(M37-M33)/M33*100 -> 15.631366 | Q37: =M37/E37 -> 0.082435751
A38: ='COMP Durban'!A38 -> 2009q4 | D38: ='COMP Durban'!D38 -> 302220412000 | E38: ='COMP Durban'!E38 -> 4.8324963e+10 | F38: 5074816265 | G38: 901763015 | H38: =E38/D38*100 -> 15.989973 | I38: =G38/F38*100 -> 17.769373 | J38: =D38/F38 -> 59.552976 | K38: =E38/G38 -> 53.589426 | L38: 82582248 | M38: =L38*K38 -> 4.4255353e+09 | N38: =(M38-M37)/M37*100 -> 19.877373 | O38: =(M38-M34)/M34*100 -> 23.109764 | Q38: =M38/E38 -> 0.091578659
A39: ='COMP Durban'!A39 -> 2010q1 | D39: ='COMP Durban'!D39 -> 290461000000 | E39: ='COMP Durban'!E39 -> 4.6118991e+10 | H39: =E39/D39*100 -> 15.87786 | M39: =E39*Q39 -> 3.7277598e+09 | N39: =(M39-M38)/M38*100 -> -15.767029 | O39: =(M39-M35)/M35*100 -> 13.567752 | Q39: =(Q27+Q31+Q35)/3 -> 0.080829172
A40: ='COMP Durban'!A40 -> 2010q2 | D40: ='COMP Durban'!D40 -> 298461000000 | E40: ='COMP Durban'!E40 -> 4.7519553e+10 | H40: =E40/D40*100 -> 15.921528 | M40: =E40*Q40 -> 3.7864833e+09 | N40: =(M40-M39)/M39*100 -> 1.5753014 | O40: =(M40-M36)/M36*100 -> 8.406385 | Q40: =(Q28+Q32+Q36)/3 -> 0.079682637
A41: ='COMP Durban'!A41 -> 2010q3 | D41: ='COMP Durban'!D41 -> 312253000000 | E41: ='COMP Durban'!E41 -> 4.9528918e+10 | M41: =E41*Q41 -> 3.9631802e+09 | N41: =(M41-M40)/M40*100 -> 4.6665173 | O41: =(M41-M37)/M37*100 -> 7.3532578 | Q41: =(Q29+Q33+Q37)/3 -> 0.080017499
A42: ='COMP Durban'!A42 -> 2010q4 | D42: ='COMP Durban'!D42 -> 333531000000 | E42: ='COMP Durban'!E42 -> 5.3418872e+10 | M42: =E42*Q42 -> 4.5126901e+09 | N42: =(M42-M41)/M41*100 -> 13.865378 | O42: =(M42-M38)/M38*100 -> 1.9693622 | Q42: =(Q30+Q34+Q38)/3 -> 0.084477451
A43: ='COMP Durban'!A43 -> 2011q1 | D43: ='COMP Durban'!D43 -> 318826000000 | E43: ='COMP Durban'!E43 -> 5.0512142e+10 | M43: =E43*Q43 -> 4.0915477e+09 | N43: =(M43-M42)/M42*100 -> -9.3324022 | O43: =(M43-M39)/M39*100 -> 9.7588871 | Q43: =(Q31+Q35+Q39)/3 -> 0.081001272
A44: ='COMP Durban'!A44 -> 2011q2 | D44: ='COMP Durban'!D44 -> 332290000000 | E44: ='COMP Durban'!E44 -> 5.270526e+10 | M44: =E44*Q44 -> 4.1886219e+09 | N44: =(M44-M43)/M43*100 -> 2.3725534 | O44: =(M44-M40)/M40*100 -> 10.620371 | Q44: =(Q32+Q36+Q40)/3 -> 0.079472558
A45: ='COMP Durban'!A45 -> 2011q3 | D45: ='COMP Durban'!D45 -> 343765000000 | E45: ='COMP Durban'!E45 -> 5.440496e+10 | M45: =E45*Q45 -> 4.3479922e+09 | N45: =(M45-M44)/M44*100 -> 3.80484 | O45: =(M45-M41)/M41*100 -> 9.7096782 | Q45: =(Q33+Q37+Q41)/3 -> 0.079919041
A46: ='COMP Durban'!A46 -> 2011q4 | D46: ='COMP Durban'!D46 -> 364499000000 | E46: ='COMP Durban'!E46 -> 5.8020232e+10 | M46: =E46*Q46 -> 4.9819445e+09 | N46: =(M46-M45)/M45*100 -> 14.580346 | O46: =(M46-M42)/M42*100 -> 10.398552 | Q46: =(Q34+Q38+Q42)/3 -> 0.085865643
A47: ='COMP Durban'!A47 -> 2012q1 | D47: ='COMP Durban'!D47 -> 349564000000 | E47: ='COMP Durban'!E47 -> 5.4853353e+10 | M47: =E47*Q47 -> 4.4257661e+09 | N47: =(M47-M46)/M46*100 -> -11.163882 | O47: =(M47-M43)/M43*100 -> 8.1685084 | Q47: =(Q35+Q39+Q43)/3 -> 0.080683603
A48: ='COMP Durban'!A48 -> 2012q2 | D48: ='COMP Durban'!D48 -> 362218000000 | E48: ='COMP Durban'!E48 -> 5.6917853e+10 | M48: =E48*Q48 -> 4.5943833e+09 | N48: =(M48-M47)/M47*100 -> 3.809897 | O48: =(M48-M44)/M44*100 -> 9.6872291 | Q48: =(Q36+Q40+Q44)/3 -> 0.080719547
A49: ='COMP Durban'!A49 -> 2012q3 | D49: ='COMP Durban'!D49 -> 371988000000 | E49: ='COMP Durban'!E49 -> 5.849294e+10 | M49: =E49*Q49 -> 4.7256893e+09 | N49: =(M49-M48)/M48*100 -> 2.8579676 | O49: =(M49-M45)/M45*100 -> 8.6866996 | Q49: =(Q37+Q41+Q45)/3 -> 0.080790764
A50: ='COMP Durban'!A50 -> 2012q4 | D50: ='COMP Durban'!D50 -> 396194000000 | E50: ='COMP Durban'!E50 -> 6.2669887e+10 | M50: =E50*Q50 -> 5.4715356e+09 | N50: =(M50-M49)/M49*100 -> 15.782805 | O50: =(M50-M46)/M46*100 -> 9.8273083 | Q50: =(Q38+Q42+Q46)/3 -> 0.087307251
A51: ='COMP Durban'!A51 -> 2013q1 | D51: ='COMP Durban'!D51 -> 382107000000 | E51: ='COMP Durban'!E51 -> 6.0107472e+10 | M51: =E51*Q51 -> 4.8589688e+09 | N51: =(M51-M50)/M50*100 -> -11.19552 | O51: =(M51-M47)/M47*100 -> 9.7881948 | Q51: =(Q39+Q43+Q47)/3 -> 0.080838016
A52: ='COMP Durban'!A52 -> 2013q2 | D52: ='COMP Durban'!D52 -> 400449000000 | E52: ='COMP Durban'!E52 -> 6.3103557e+10 | M52: =E52*Q52 -> 5.0456499e+09 | N52: =(M52-M51)/M51*100 -> 3.84199 | O52: =(M52-M48)/M48*100 -> 9.822136 | Q52: =(Q40+Q44+Q48)/3 -> 0.079958248
... A66: ='COMP Durban'!A66 -> 2016q4 | D66: ='COMP Durban'!D66 -> 547364000000 | E66: ='COMP Durban'!E66 -> 8.6904451e+10 | M66: =E66*Q66 -> 7.4955041e+09 | N66: =(M66-M65)/M65*100 -> 14.148034 | O66: =(M66-M62)/M62*100 -> 6.7528534 | Q66: =(Q54+Q58+Q62)/3 -> 0.086249945

Sheet COMP RBay
D1: Mthlatuze Municipal Area COMP
C2: SA GDP | D2: SA Quarterly COMP | E2: KZN Quarterly COMP | F2: SA Fuel Consumption | G2: KZN Fuel Consumption | H2: KZN GDP Ratio | I2: KZN Fuel Ratio | J2: SA Usage | K2: KZN Usage | L2: RBay Fuel Usage | M2: Richards Bay Quarterly COMP | N2: RBay Quarterly Rate | O2: RBay Annual Rate
A3: 2001g1 | B3: 37676.736 | C3: 228114.65 | D3: ='COMP Durban'!D3 -> 1.1494169e+11 | E3: ='COMP Durban'!E3 -> 1.8690882e+10
A4: 2001g2 | B4: 39785.999 | C4: 237077.62 | D4: ='COMP Durban'!D4 -> 1.1723784e+11 | E4: ='COMP Durban'!E4 -> 1.9094787e+10
A5: 2001g3 | B5: 40039.788 | C5: 239764.67 | D5: ='COMP Durban'!D5 -> 1.1974801e+11 | E5: ='COMP Durban'!E5 -> 1.9444965e+10
A6: 2001g4 | B6: 40074.592 | C6: 242416.26 | D6: ='COMP Durban'!D6 -> 1.267341e+11 | E6: ='COMP Durban'!E6 -> 2.0645797e+10
A7: 2002g1 | B7: 38164.554 | C7: 234422.23 | D7: ='COMP Durban'!D7 -> 1.2577476e+11 | E7: ='COMP Durban'!E7 -> 2.0138824e+10 | F7: 4118958622 | G7: 674878797 | H7: =E7/D7*100 -> 16.011816 | I7: =G7/F7*100 -> 16.384695 | J7: =D7/F7 -> 30.535574 | K7: =E7/G7 -> 29.840653 | M7: =E7*$L$26 -> 1.2480251e+09
A8: 2002g2 | B8: 40899.51 | C8: 246692 | D8: ='COMP Durban'!D8 -> 1.3076652e+11 | E8: ='COMP Durban'!E8 -> 2.1014958e+10 | F8: 4128329079 | G8: 697677279 | H8: =E8/D8*100 -> 16.070595 | I8: =G8/F8*100 -> 16.89975 | J8: =D8/F8 -> 31.675411 | K8: =E8/G8 -> 30.121317 | M8: =E8*$L$26 -> 1.3023201e+09 | N8: =(M8-M7)/M7*100 -> 4.3504741
A9: 2002g3 | B9: 40843.516 | C9: 248774.74 | D9: ='COMP Durban'!D9 -> 1.3495035e+11 | E9: ='COMP Durban'!E9 -> 2.1624059e+10 | F9: 4479766142 | G9: 748604188 | H9: =E9/D9*100 -> 16.023714 | I9: =G9/F9*100 -> 16.710787 | J9: =D9/F9 -> 30.124419 | K9: =E9/G9 -> 28.885838 | M9: =E9*$L$26 -> 1.3400668e+09 | N9: =(M9-M8)/M8*100 -> 2.8984174
A10: 2002g4 | B10: 41049.653 | C10: 252232.95 | D10: ='COMP Durban'!D10 -> 1.4083882e+11 | E10: ='COMP Durban'!E10 -> 2.2663098e+10 | F10: 4393645140 | G10: 741841930 | H10: =E10/D10*100 -> 16.091513 | I10: =G10/F10*100 -> 16.88443 | J10: =D10/F10 -> 32.05512 | K10: =E10/G10 -> 30.549767 | M10: =E10*$L$26 -> 1.4044572e+09 | N10: =(M10-M9)/M9*100 -> 4.805013
A11: ='COMP Durban'!A11 -> 2003q1 | B11: 39679.286 | C11: 242968.68 | D11: ='COMP Durban'!D11 -> 138720969000 | E11: ='COMP Durban'!E11 -> 2.2299913e+10 | F11: 4.3245102e+09 | G11: 7.3345414e+08 | H11: =E11/D11*100 -> 16.075373 | I11: =G11/F11*100 -> 16.960398 | J11: =D11/F11 -> 32.077846 | K11: =E11/G11 -> 30.403964 | M11: =E11*$L$26 -> 1.3819502e+09 | N11: =(M11-M10)/M10*100 -> -1.6025382 | O11: =(M11-M7)/M7*100 -> 10.730962 | R11: Yearly Growth Rate %
A12: ='COMP Durban'!A12 -> 2003q2 | B12: 39679.286 | C12: 242968.68 | D12: ='COMP Durban'!D12 -> 1.4338434e+11 | E12: ='COMP Durban'!E12 -> 2.3152045e+10 | F12: 4.3448327e+09 | G12: 7.3310499e+08 | H12: =E12/D12*100 -> 16.146843 | I12: =G12/F12*100 -> 16.873032 | J12: =D12/F12 -> 33.00112 | K12: =E12/G12 -> 31.580804 | M12: =E12*$L$26 -> 1.4347577e+09 | N12: =(M12-M11)/M11*100 -> 3.8212314 | O12: =(M12-M8)/M8*100 -> 10.169359 | R12: 2001
A13: ='COMP Durban'!A13 -> 2003q3 | B13: 39679.286 | C13: 242968.68 | D13: ='COMP Durban'!D13 -> 146836534000 | E13: ='COMP Durban'!E13 -> 2.3628798e+10 | F13: 4.469508e+09 | G13: 7.5596579e+08 | H13: =E13/D13*100 -> 16.091906 | I13: =G13/F13*100 -> 16.913848 | J13: =D13/F13 -> 32.852953 | K13: =E13/G13 -> 31.256438 | M13: =E13*$L$26 -> 1.4643026e+09 | N13: =(M13-M12)/M12*100 -> 2.0592256 | O13: =(M13-M9)/M9*100 -> 9.2708688 | R13: =R12+1 -> 2002 | S13: =SUM(M7:M10) -> 5.2948692e+09
A14: ='COMP Durban'!A14 -> 2003q4 | B14: 39679.286 | C14: 242968.68 | D14: ='COMP Durban'!D14 -> 155687710000 | E14: ='COMP Durban'!E14 -> 2.5151098e+10 | F14: 4.7924549e+09 | G14: 792421454 | H14: =E14/D14*100 -> 16.154838 | I14: =G14/F14*100 -> 16.534771 | J14: =D14/F14 -> 32.486004 | K14: =E14/G14 -> 31.739547 | M14: =E14*$L$26 -> 1.5586413e+09 | N14: =(M14-M13)/M13*100 -> 6.4425638 | O14: =(M14-M10)/M10*100 -> 10.978198 | R14: =R13+1 -> 2003 | S14: =SUM(M11:M14) -> 5.8396519e+09 | T14: =(S14-S13)/S13*100 -> 10.288878
A15: ='COMP Durban'!A15 -> 2004q1 | B15: 39679.286 | C15: 242968.68 | D15: ='COMP Durban'!D15 -> 152687890000 | E15: ='COMP Durban'!E15 -> 2.4401289e+10 | F15: 4.4993406e+09 | G15: 7.3594163e+08 | H15: =E15/D15*100 -> 15.981156 | I15: =G15/F15*100 -> 16.356655 | J15: =D15/F15 -> 33.935615 | K15: =E15/G15 -> 33.156555 | M15: =E15*$L$26 -> 1.5121748e+09 | N15: =(M15-M14)/M14*100 -> -2.9812163 | O15: =(M15-M11)/M11*100 -> 9.4232467 | R15: =R14+1 -> 2004 | S15: =SUM(M15:M18) -> 6.3984165e+09 | T15: =(S15-S14)/S14*100 -> 9.568458
A16: ='COMP Durban'!A16 -> 2004q2 | B16: 39679.286 | C16: 242968.68 | D16: ='COMP Durban'!D16 -> 156821383000 | E16: ='COMP Durban'!E16 -> 2.5136933e+10 | F16: 4.5436772e+09 | G16: 7.6518177e+08 | H16: =E16/D16*100 -> 16.029021 | I16: =G16/F16*100 -> 16.840584 | J16: =D16/F16 -> 34.5142 | K16: =E16/G16 -> 32.85093 | M16: =E16*$L$26 -> 1.5577635e+09 | N16: =(M16-M15)/M15*100 -> 3.0147736 | O16: =(M16-M12)/M12*100 -> 8.5732738 | R16: =R15+1 -> 2005 | S16: =SUM(M19:M22) -> 7.0328333e+09 | T16: =(S16-S15)/S15*100 -> 9.915215
A17: ='COMP Durban'!A17 -> 2004q3 | B17: 39679.286 | C17: 242968.68 | D17: ='COMP Durban'!D17 -> 160281018000 | E17: ='COMP Durban'!E17 -> 2.5687748e+10 | F17: 4.7754909e+09 | G17: 7.9366597e+08 | H17: =E17/D17*100 -> 16.026694 | I17: =G17/F17*100 -> 16.619568 | J17: =D17/F17 -> 33.563255 | K17: =E17/G17 -> 32.365943 | M17: =E17*$L$26 -> 1.591898e+09 | N17: =(M17-M16)/M16*100 -> 2.1912567 | O17: =(M17-M13)/M13*100 -> 8.7137319 | R17: =R16+1 -> 2006 | S17: =SUM(M23:M26) -> 7.7809664e+09 | T17: =(S17-S16)/S16*100 -> 10.63772
A18: ='COMP Durban'!A18 -> 2004q4 | B18: 39679.286 | C18: 242968.68 | D18: ='COMP Durban'!D18 -> 174115025000 | E18: ='COMP Durban'!E18 -> 2.8022419e+10 | F18: 4.830257e+09 | G18: 826240651 | H18: =E18/D18*100 -> 16.094199 | I18: =G18/F18*100 -> 17.105521 | J18: =D18/F18 -> 36.046741 | K18: =E18/G18 -> 33.915566 | M18: =E18*$L$26 -> 1.7365802e+09 | N18: =(M18-M17)/M17*100 -> 9.088658 | O18: =(M18-M14)/M14*100 -> 11.416286 | R18: =R17+1 -> 2007 | S18: =SUM(M27:M30) -> 8.8740369e+09 | T18: =(S18-S17)/S17*100 -> 14.048004
A19: ='COMP Durban'!A19 -> 2005q1 | B19: 39679.286 | C19: 242968.68 | D19: ='COMP Durban'!D19 -> 165078054000 | E19: ='COMP Durban'!E19 -> 2.6429536e+10 | F19: 4690209425 | G19: 774740717 | H19: =E19/D19*100 -> 16.010327 | I19: =G19/F19*100 -> 16.518254 | J19: =D19/F19 -> 35.196308 | K19: =E19/G19 -> 34.11404 | L19: =M31/E31 -> 0.063044421 | M19: =E19*$L$26 -> 1.6378675e+09 | N19: =(M19-M18)/M18*100 -> -5.6843177 | O19: =(M19-M15)/M15*100 -> 8.3120466 | R19: =R18+1 -> 2008 | S19: =SUM(M31:M34) -> 1.0614049e+10 | T19: =(S19-S18)/S18*100 -> 19.607898
A20: ='COMP Durban'!A20 -> 2005q2 | B20: 39679.286 | C20: 242968.68 | D20: ='COMP Durban'!D20 -> 172096651000 | E20: ='COMP Durban'!E20 -> 2.7627281e+10 | F20: 4760343407 | G20: 805551748 | H20: =E20/D20*100 -> 16.053352 | I20: =G20/F20*100 -> 16.922135 | J20: =D20/F20 -> 36.15215 | K20: =E20/G20 -> 34.296097 | L20: =M32/E32 -> 0.068349777 | M20: =E20*$L$26 -> 1.7120931e+09 | N20: =(M20-M19)/M19*100 -> 4.5318438 | O20: =(M20-M16)/M16*100 -> 9.9071283 | R20: =R19+1 -> 2009 | S20: =SUM(M35:M38) -> 1.0187373e+10 | T20: =(S20-S19)/S19*100 -> -4.0199135
A21: ='COMP Durban'!A21 -> 2005q3 | B21: 39679.286 | C21: 242968.68 | D21: ='COMP Durban'!D21 -> 179243171000 | E21: ='COMP Durban'!E21 -> 2.8659725e+10 | F21: 4824982237 | G21: 802738840 | H21: =E21/D21*100 -> 15.989298 | I21: =G21/F21*100 -> 16.637136 | J21: =D21/F21 -> 37.14898 | K21: =E21/G21 -> 35.702427 | L21: =M33/E33 -> 0.067743762 | M21: =E21*$L$26 -> 1.7760748e+09 | N21: =(M21-M20)/M20*100 -> 3.7370444 | O21: =(M21-M17)/M17*100 -> 11.56963 | R21: =R20+1 -> 2010 | S21: =SUM(M39:M42) -> 1.213665e+10 | T21: =(S21-S20)/S20*100 -> 19.134246
A22: ='COMP Durban'!A22 -> 2005q4 | B22: 39679.286 | C22: 242968.68 | D22: ='COMP Durban'!D22 -> 191868250000 | E22: ='COMP Durban'!E22 -> 3.0769147e+10 | F22: 5011501336 | G22: 832010091 | H22: =E22/D22*100 -> 16.036602 | I22: =G22/F22*100 -> 16.602013 | J22: =D22/F22 -> 38.285583 | K22: =E22/G22 -> 36.981699 | L22: =M34/E34 -> 0.062659759 | M22: =E22*$L$26 -> 1.906798e+09 | N22: =(M22-M21)/M21*100 -> 7.3602312 | O22: =(M22-M18)/M18*100 -> 9.8018937 | R22: =R21+1 -> 2011 | S22: =SUM(M43:M46) -> 1.3297285e+10 | T22: =(S22-S21)/S21*100 -> 9.5630556
A23: ='COMP Durban'!A23 -> 2006q1 | B23: 39679.286 | C23: 242968.68 | D23: ='COMP Durban'!D23 -> 183558381000 | E23: ='COMP Durban'!E23 -> 2.9209572e+10 | F23: 4675546289 | G23: 750919883 | H23: =E23/D23*100 -> 15.91296 | I23: =G23/F23*100 -> 16.060581 | J23: =D23/F23 -> 39.259237 | K23: =E23/G23 -> 38.898387 | L23: =M35/E35 -> 0.05623937 | M23: =E23*$L$26 -> 1.8101494e+09 | N23: =(M23-M22)/M22*100 -> -5.0686319 | O23: =(M23-M19)/M19*100 -> 10.518672 | R23: =R22+1 -> 2012 | S23: =SUM(M47:M50) -> 1.4070796e+10 | T23: =(S23-S22)/S22*100 -> 5.8170561
A24: ='COMP Durban'!A24 -> 2006q2 | B24: 39679.286 | C24: 242968.68 | D24: ='COMP Durban'!D24 -> 1.9105612e+11 | E24: ='COMP Durban'!E24 -> 3.0490381e+10 | F24: 4859349229 | G24: 811777848 | H24: =E24/D24*100 -> 15.958861 | I24: =G24/F24*100 -> 16.705485 | J24: =D24/F24 -> 39.317224 | K24: =E24/G24 -> 37.560006 | L24: =M36/E36 -> 0.056442926 | M24: =E24*$L$26 -> 1.8895225e+09 | N24: =(M24-M23)/M23*100 -> 4.3848932 | O24: =(M24-M20)/M20*100 -> 10.363306 | R24: =R23+1 -> 2013 | S24: =SUM(M51:M54) -> 1.5739002e+10 | T24: =(S24-S23)/S23*100 -> 11.855806
A25: ='COMP Durban'!A25 -> 2006q3 | B25: 39679.286 | C25: 242968.68 | D25: ='COMP Durban'!D25 -> 198657314000 | E25: ='COMP Durban'!E25 -> 3.1576476e+10 | F25: 4906222423 | G25: 827883368 | H25: =E25/D25*100 -> 15.894948 | I25: =G25/F25*100 -> 16.874151 | J25: =D25/F25 -> 40.49089 | K25: =E25/G25 -> 38.141213 | L25: 0.059317703 | M25: =E25*$L$26 -> 1.956829e+09 | N25: =(M25-M24)/M24*100 -> 3.5620918 | O25: =(M25-M21)/M21*100 -> 10.177178 | R25: 2014 | S25: =SUM(M55:M58) -> 1.7146782e+10 | T25: =(S25-S24)/S24*100 -> 8.9445325
A26: ='COMP Durban'!A26 -> 2006q4 | B26: 39679.286 | C26: 242968.68 | D26: ='COMP Durban'!D26 -> 214911103000 | E26: ='COMP Durban'!E26 -> 3.428155e+10 | F26: 5280826192 | G26: 873224453 | H26: =E26/D26*100 -> 15.951502 | I26: =G26/F26*100 -> 16.535754 | J26: =D26/F26 -> 40.696492 | K26: =E26/G26 -> 39.258578 | L26: =AVERAGE(L19:L25) -> 0.061971103 | M26: =E26*$L$26 -> 2.1244655e+09 | N26: =(M26-M25)/M25*100 -> 8.5667377 | O26: =(M26-M22)/M22*100 -> 11.415341 | Q26: =M26/E26 -> 0.061971103 | R26: 2015 | S26: =SUM(M59:M62) -> 1.8361088e+10 | T26: =(S26-S25)/S25*100 -> 7.0818319
A27: ='COMP Durban'!A27 -> 2007q1 | B27: 39679.286 | C27: 242968.68 | D27: ='COMP Durban'!D27 -> 206917629000 | E27: ='COMP Durban'!E27 -> 3.2959544e+10 | F27: 5154329343 | G27: 833477953 | H27: =E27/D27*100 -> 15.928824 | I27: =G27/F27*100 -> 16.170444 | J27: =D27/F27 -> 40.144433 | K27: =E27/G27 -> 39.54459 | M27: =E27*$L$26 -> 2.0425393e+09 | N27: =(M27-M26)/M26*100 -> -3.8563192 | O27: =(M27-M23)/M23*100 -> 12.838161 | Q27: =M27/E27 -> 0.061971103 | R27: 2016 | S27: =SUM(M63:M66) -> 1.9864999e+10 | T27: =(S27-S26)/S26*100 -> 8.190751
A28: ='COMP Durban'!A28 -> 2007q2 | B28: 39679.286 | C28: 242968.68 | D28: ='COMP Durban'!D28 -> 217215242000 | E28: ='COMP Durban'!E28 -> 3.4685e+10 | F28: 5056692012 | G28: 821281896 | H28: =E28/D28*100 -> 15.968032 | I28: =G28/F28*100 -> 16.241485 | J28: =D28/F28 -> 42.955996 | K28: =E28/G28 -> 42.232758 | M28: =E28*$L$26 -> 2.1494677e+09 | N28: =(M28-M27)/M27*100 -> 5.2350723 | O28: =(M28-M24)/M24*100 -> 13.757189 | Q28: =M28/E28 -> 0.061971103
A29: ='COMP Durban'!A29 -> 2007q3 | B29: 39679.286 | C29: 242968.68 | D29: ='COMP Durban'!D29 -> 2.2716333e+11 | E29: ='COMP Durban'!E29 -> 3.6174442e+10 | F29: 5400223668 | G29: 898105429 | H29: =E29/D29*100 -> 15.924419 | I29: =G29/F29*100 -> 16.630893 | J29: =D29/F29 -> 42.065541 | K29: =E29/G29 -> 40.278614 | M29: =E29*$L$26 -> 2.24177e+09 | N29: =(M29-M28)/M28*100 -> 4.2941956 | O29: =(M29-M25)/M25*100 -> 14.561364 | Q29: =M29/E29 -> 0.061971103
A30: ='COMP Durban'!A30 -> 2007q4 | B30: 39679.286 | C30: 242968.68 | D30: ='COMP Durban'!D30 -> 246443948000 | E30: ='COMP Durban'!E30 -> 3.9377383e+10 | F30: 5579296845 | G30: 902642355 | H30: =E30/D30*100 -> 15.978231 | I30: =G30/F30*100 -> 16.178425 | J30: =D30/F30 -> 44.171148 | K30: =E30/G30 -> 43.624569 | M30: =E30*$L$26 -> 2.4402599e+09 | N30: =(M30-M29)/M29*100 -> 8.8541565 | O30: =(M30-M26)/M26*100 -> 14.864653 | Q30: =M30/E30 -> 0.061971103
A31: ='COMP Durban'!A31 -> 2008q1 | B31: 39679.286 | C31: 242968.68 | D31: ='COMP Durban'!D31 -> 236142264000 | E31: ='COMP Durban'!E31 -> 3.7468513e+10 | F31: 5543646776 | G31: 903654581 | H31: =E31/D31*100 -> 15.866924 | I31: =G31/F31*100 -> 16.300724 | J31: =D31/F31 -> 42.596917 | K31: =E31/G31 -> 41.463314 | L31: 56970380 | M31: =L31*K31 -> 2.3621807e+09 | N31: =(M31-M30)/M30*100 -> -3.1996232 | O31: =(M31-M27)/M27*100 -> 15.64922 | Q31: =M31/E31 -> 0.063044421
A32: ='COMP Durban'!A32 -> 2008q2 | B32: 39679.286 | C32: 242968.68 | D32: ='COMP Durban'!D32 -> 247641826000 | E32: ='COMP Durban'!E32 -> 3.9380346e+10 | F32: 5265926862 | G32: 890416751 | H32: =E32/D32*100 -> 15.902139 | I32: =G32/F32*100 -> 16.909022 | J32: =D32/F32 -> 47.027206 | K32: =E32/G32 -> 44.22687 | L32: 60859786 | M32: =L32*K32 -> 2.6916379e+09 | N32: =(M32-M31)/M31*100 -> 13.94716 | O32: =(M32-M28)/M28*100 -> 25.223462 | Q32: =M32/E32 -> 0.068349777
A33: ='COMP Durban'!A33 -> 2008q3 | B33: 39679.286 | C33: 242968.68 | D33: ='COMP Durban'!D33 -> 260386116000 | E33: ='COMP Durban'!E33 -> 4.1300155e+10 | F33: 5202135900 | G33: 869415812 | H33: =E33/D33*100 -> 15.86112 | I33: =G33/F33*100 -> 16.71267 | J33: =D33/F33 -> 50.053694 | K33: =E33/G33 -> 47.50334 | L33: 58897498 | M33: =L33*K33 -> 2.7978279e+09 | N33: =(M33-M32)/M32*100 -> 3.9451827 | O33: =(M33-M29)/M29*100 -> 24.804411 | Q33: =M33/E33 -> 0.067743762
A34: ='COMP Durban'!A34 -> 2008q4 | B34: 39679.286 | C34: 242968.68 | D34: ='COMP Durban'!D34 -> 276565444000 | E34: ='COMP Durban'!E34 -> 4.408575e+10 | F34: 5460259824 | G34: 899391940 | H34: =E34/D34*100 -> 15.940441 | I34: =G34/F34*100 -> 16.471596 | J34: =D34/F34 -> 50.650601 | K34: =E34/G34 -> 49.017284 | L34: 56355682 | M34: =L34*K34 -> 2.7624025e+09 | N34: =(M34-M33)/M33*100 -> -1.2661752 | O34: =(M34-M30)/M30*100 -> 13.201161 | Q34: =M34/E34 -> 0.062659759
A35: ='COMP Durban'!A35 -> 2009q1 | B35: 39679.286 | C35: 242968.68 | D35: ='COMP Durban'!D35 -> 257948770000 | E35: ='COMP Durban'!E35 -> 4.0917422e+10 | F35: 5206564996 | G35: 842784368 | H35: =E35/D35*100 -> 15.862616 | I35: =G35/F35*100 -> 16.186956 | J35: =D35/F35 -> 49.542985 | K35: =E35/G35 -> 48.550285 | L35: 47397662 | M35: =L35*K35 -> 2.30117e+09 | N35: =(M35-M34)/M34*100 -> -16.696787 | O35: =(M35-M31)/M31*100 -> -2.5828134 | Q35: =M35/E35 -> 0.05623937
A36: ='COMP Durban'!A36 -> 2009q2 | B36: 39679.286 | C36: 242968.68 | D36: ='COMP Durban'!D36 -> 264394909000 | E36: ='COMP Durban'!E36 -> 4.2080904e+10 | F36: 4994646966 | G36: 831381344 | H36: =E36/D36*100 -> 15.915928 | I36: =G36/F36*100 -> 16.645448 | J36: =D36/F36 -> 52.935655 | K36: =E36/G36 -> 50.615647 | L36: 46925596 | M36: =L36*K36 -> 2.3751694e+09 | N36: =(M36-M35)/M35*100 -> 3.2157277 | O36: =(M36-M32)/M32*100 -> -11.757469 | Q36: =M36/E36 -> 0.056442926
A37: ='COMP Durban'!A37 -> 2009q3 | B37: 39679.286 | C37: 242968.68 | D37: ='COMP Durban'!D37 -> 281628545000 | E37: ='COMP Durban'!E37 -> 4.478298e+10 | F37: 5002707417 | G37: 835393434 | H37: =E37/D37*100 -> 15.901435 | I37: =G37/F37*100 -> 16.698827 | J37: =D37/F37 -> 56.295226 | K37: =E37/G37 -> 53.607053 | L37: 49355219 | M37: =L37*K37 -> 2.6457879e+09 | N37: =(M37-M36)/M36*100 -> 11.393649 | O37: =(M37-M33)/M33*100 -> -5.4342169 | Q37: =M37/E37 -> 0.059080209
A38: ='COMP Durban'!A38 -> 2009q4 | B38: 39679.286 | C38: 242968.68 | D38: ='COMP Durban'!D38 -> 302220412000 | E38: ='COMP Durban'!E38 -> 4.8324963e+10 | F38: 5074816265 | G38: 901763015 | H38: =E38/D38*100 -> 15.989973 | I38: =G38/F38*100 -> 17.769373 | J38: =D38/F38 -> 59.552976 | K38: =E38/G38 -> 53.589426 | L38: 53466632 | M38: =L38*K38 -> 2.8652461e+09 | N38: =(M38-M37)/M37*100 -> 8.2946289 | O38: =(M38-M34)/M34*100 -> 3.7229785 | Q38: =M38/E38 -> 0.059291223
A39: ='COMP Durban'!A39 -> 2010q1 | B39: 39679.286 | C39: 242968.68 | D39: ='COMP Durban'!D39 -> 290461000000 | E39: ='COMP Durban'!E39 -> 4.6118991e+10 | M39: =E39*Q39 -> 2.7864309e+09 | N39: =(M39-M38)/M38*100 -> -2.7507312 | O39: =(M39-M35)/M35*100 -> 21.087573 | Q39: =(Q27+Q31+Q35)/3 -> 0.060418298
A40: ='COMP Durban'!A40 -> 2010q2 | B40: 39679.286 | C40: 242968.68 | D40: ='COMP Durban'!D40 -> 298461000000 | E40: ='COMP Durban'!E40 -> 4.7519553e+10 | M40: =E40*Q40 -> 2.9583108e+09 | N40: =(M40-M39)/M39*100 -> 6.1684619 | O40: =(M40-M36)/M36*100 -> 24.551574 | Q40: =(Q28+Q32+Q36)/3 -> 0.062254602
A41: ='COMP Durban'!A41 -> 2010q3 | B41: 39679.286 | C41: 242968.68 | D41: ='COMP Durban'!D41 -> 312253000000 | E41: ='COMP Durban'!E41 -> 4.9528918e+10 | M41: =E41*Q41 -> 3.1169386e+09 | N41: =(M41-M40)/M40*100 -> 5.362106 | O41: =(M41-M37)/M37*100 -> 17.807579 | Q41: =(Q29+Q33+Q37)/3 -> 0.062931691
A42: ='COMP Durban'!A42 -> 2010q4 | B42: 39679.286 | C42: 242968.68 | D42: ='COMP Durban'!D42 -> 333531000000 | E42: ='COMP Durban'!E42 -> 5.3418872e+10 | M42: =E42*Q42 -> 3.2749701e+09 | N42: =(M42-M41)/M41*100 -> 5.0700856 | O42: =(M42-M38)/M38*100 -> 14.299781 | Q42: =(Q30+Q34+Q38)/3 -> 0.061307361
A43: ='COMP Durban'!A43 -> 2011q1 | B43: 39679.286 | C43: 242968.68 | D43: ='COMP Durban'!D43 -> 318826000000 | E43: ='COMP Durban'!E43 -> 5.0512142e+10 | M43: =E43*Q43 -> 3.0257125e+09 | N43: =(M43-M42)/M42*100 -> -7.6109884 | O43: =(M43-M39)/M39*100 -> 8.5873851 | Q43: =(Q31+Q35+Q39)/3 -> 0.059900696
A44: ='COMP Durban'!A44 -> 2011q2 | B44: 39679.286 | C44: 242968.68 | D44: ='COMP Durban'!D44 -> 332290000000 | E44: ='COMP Durban'!E44 -> 5.270526e+10 | M44: =E44*Q44 -> 3.2861256e+09 | N44: =(M44-M43)/M43*100 -> 8.6066726 | O44: =(M44-M40)/M40*100 -> 11.081148 | Q44: =(Q32+Q36+Q40)/3 -> 0.062349102
A45: ='COMP Durban'!A45 -> 2011q3 | B45: 39679.286 | C45: 242968.68 | D45: ='COMP Durban'!D45 -> 343765000000 | E45: ='COMP Durban'!E45 -> 5.440496e+10 | M45: =E45*Q45 -> 3.4412164e+09 | N45: =(M45-M44)/M44*100 -> 4.7195637 | O45: =(M45-M41)/M41*100 -> 10.403728 | Q45: =(Q33+Q37+Q41)/3 -> 0.063251888
A46: ='COMP Durban'!A46 -> 2011q4 | B46: 39679.286 | C46: 242968.68 | D46: ='COMP Durban'!D46 -> 364499000000 | E46: ='COMP Durban'!E46 -> 5.8020232e+10 | M46: =E46*Q46 -> 3.5442305e+09 | N46: =(M46-M45)/M45*100 -> 2.9935371 | O46: =(M46-M42)/M42*100 -> 8.2217685 | Q46: =(Q34+Q38+Q42)/3 -> 0.061086114
A47: ='COMP Durban'!A47 -> 2012q1 | B47: 39679.286 | C47: 242968.68 | D47: ='COMP Durban'!D47 -> 349564000000 | E47: ='COMP Durban'!E47 -> 5.4853353e+10 | M47: =E47*Q47 -> 3.2282727e+09 | N47: =(M47-M46)/M46*100 -> -8.9147073 | O47: =(M47-M43)/M43*100 -> 6.6946306 | Q47: =(Q35+Q39+Q43)/3 -> 0.058852788
A48: ='COMP Durban'!A48 -> 2012q2 | B48: 39679.286 | C48: 242968.68 | D48: ='COMP Durban'!D48 -> 362218000000 | E48: ='COMP Durban'!E48 -> 5.6917853e+10 | M48: =E48*Q48 -> 3.4349285e+09 | N48: =(M48-M47)/M47*100 -> 6.401433 | O48: =(M48-M44)/M44*100 -> 4.5282147 | Q48: =(Q36+Q40+Q44)/3 -> 0.060348877
A49: ='COMP Durban'!A49 -> 2012q3 | B49: 39679.286 | C49: 242968.68 | D49: ='COMP Durban'!D49 -> 371988000000 | E49: ='COMP Durban'!E49 -> 5.849294e+10 | M49: =E49*Q49 -> 3.6122079e+09 | N49: =(M49-M48)/M48*100 -> 5.1610798 | O49: =(M49-M45)/M45*100 -> 4.9689241 | Q49: =(Q37+Q41+Q45)/3 -> 0.061754596
A50: ='COMP Durban'!A50 -> 2012q4 | B50: 39679.286 | C50: 242968.68 | D50: ='COMP Durban'!D50 -> 396194000000 | E50: ='COMP Durban'!E50 -> 6.2669887e+10 | M50: =E50*Q50 -> 3.7953865e+09 | N50: =(M50-M49)/M49*100 -> 5.0710997 | O50: =(M50-M46)/M46*100 -> 7.0863337 | Q50: =(Q38+Q42+Q46)/3 -> 0.060561566
... A66: ='COMP Durban'!A66 -> 2016q4 | B66: 39679.286 | C66: 242968.68 | D66: ='COMP Durban'!D66 -> 547364000000 | E66: ='COMP Durban'!E66 -> 8.6904451e+10 | M66: =E66*Q66 -> 5.2916302e+09 | N66: =(M66-M65)/M65*100 -> 3.5758163 | O66: =(M66-M62)/M62*100 -> 7.2246954 | Q66: =(Q54+Q58+Q62)/3 -> 0.060890209
Q67: =(Q48+Q52+Q56)/3 -> 0.061149783

Sheet COMP Port Shepstone
D1: Hibiscus Coast Municipal Area GOS
C2: SA GDP | D2: SA Quarterly GOS | E2: KZN Quarterly GOS | F2: SA Fuel Consumption | G2: KZN Fuel Consumption | H2: KZN GDP Ratio | I2: KZN Fuel Ratio | J2: SA Usage | K2: KZN Usage | L2: PS Fuel Usage | M2: Port Shepstone Quarterly GOS | N2: Port Shepstone Quarterly Rate | O2: Port Shepstone Annual Rate
A3: 2001g1 | B3: 37676.736 | C3: 228114.65 | D3: ='COMP Durban'!D3 -> 1.1494169e+11 | E3: ='COMP Durban'!E3 -> 1.8690882e+10
A4: 2001g2 | B4: 39785.999 | C4: 237077.62 | D4: ='COMP Durban'!D4 -> 1.1723784e+11 | E4: ='COMP Durban'!E4 -> 1.9094787e+10
A5: 2001g3 | B5: 40039.788 | C5: 239764.67 | D5: ='COMP Durban'!D5 -> 1.1974801e+11 | E5: ='COMP Durban'!E5 -> 1.9444965e+10
A6: 2001g4 | B6: 40074.592 | C6: 242416.26 | D6: ='COMP Durban'!D6 -> 1.267341e+11 | E6: ='COMP Durban'!E6 -> 2.0645797e+10
A7: 2002g1 | B7: 38164.554 | C7: 234422.23 | D7: ='COMP Durban'!D7 -> 1.2577476e+11 | E7: ='COMP Durban'!E7 -> 2.0138824e+10 | F7: 4118958622 | G7: 674878797 | H7: =E7/D7*100 -> 16.011816 | I7: =G7/F7*100 -> 16.384695 | J7: =D7/F7 -> 30.535574 | K7: =E7/G7 -> 29.840653 | M7: =E7*$L$26 -> 6.1498803e+08
