Workbook

Sheet Introduction
B1: Annual COMP and COMP-R
B3: Quarterly COMP and COMP-R
B5: Year-on-Year Growth Rates per Sector
B7: Annualised Quarterly Rates per Sector
B9: Yearly Provincial Contribution Rates per Sector
B11: Yearly Provincial Sector as a % of National Sector COMP
B13: Ethekwini Municipal Area COMP
B15: Msunduzi Municipal Area COMP
B17: Mthlatuze Municipal Area COMP
D18: Model Assumptions
B19: Hibiscus Coast Municipal COMP
D20: Stable structural relationship between SA and KZN economy
B21: Newcastle Municipal COMP
D22: Stable relationship between GDP and Fuel Consumption
B23: Comparitive Growth Rates
D24: Fuel Consumption per R1 GDP are location insensitive
B25: Comparitive Contribution Rates

Sheet Annual
A1: Annual Compensation of Employees
A3: SA – Annual Compensation of Employees
A4: Rand million
A5: National Industry | B5: 1995 | C5: 1996 | D5: 1997 | E5: 1998 | F5: 1999 | G5: 2000 | H5: 2001 | I5: 2002 | J5: 2003 | K5: 2004 | L5: 2005 | M5: 2006 | N5: 2007 | O5: 2008 | P5: 2009 | Q5: 2010 | R5: 2011 | S5: 2012 | T5: 2013 | U5: 2014 | V5: 2015 | W5: 2016
A6: Primary Industries | B6: =SUM(B7:B8) -> 24998.352 | C6: =SUM(C7:C8) -> 26904.715 | D6: =SUM(D7:D8) -> 29495.059 | E6: =SUM(E7:E8) -> 31996.46 | F6: =SUM(F7:F8) -> 35031.29 | G6: =SUM(G7:G8) -> 37881.111 | H6: =SUM(H7:H8) -> 41501.749 | I6: =SUM(I7:I8) -> 46501.74 | ... W6: =SUM(W7:W8) -> 169091
A7: Agriculture, forestry and fishing | B7: 6431.8537 | C7: 6935.715 | D7: 7434.5586 | E7: 8346.7813 | F7: 8846.7118 | G7: 9446.0907 | H7: 10017.536 | I7: 11658.713 | J7: 13430.323 | K7: 13036.311 | L7: 12222 | M7: 12891 | N7: 14709 | O7: 16660 | P7: 18391 | Q7: 19494 | R7: 20100 | S7: 21429 | T7: 23111 | U7: 25259 | V7: 26797 | W7: 28298
A8: Mining and quarrying | B8: 18566.498 | C8: 19969 | D8: 22060.5 | E8: 23649.679 | F8: 26184.579 | G8: 28435.02 | H8: 31484.213 | I8: 34843.027 | J8: 36008.378 | K8: 38856.352 | L8: 42041.946 | M8: 49534.993 | N8: 58221.3 | O8: 69675.233 | P8: 75600.659 | Q8: 86399 | R8: 97479 | S8: 109796 | T8: 119408 | U8: 122910 | V8: 132502 | W8: 140793
A9: Secondary Industries | B9: =SUM(B10:B12) -> 72819.415 | C9: =SUM(C10:C12) -> 77995.802 | D9: =SUM(D10:D12) -> 83037.912 | E9: =SUM(E10:E12) -> 91900.32 | F9: =SUM(F10:F12) -> 96619.11 | G9: =SUM(G10:G12) -> 104652.29 | H9: =SUM(H10:H12) -> 110672.14 | I9: =SUM(I10:I12) -> 124108.26 | ... W9: =SUM(W10:W12) -> 447049
A10: Manufacturing | B10: 56905.261 | C10: 60412.891 | D10: 64000.706 | E10: 72677.595 | F10: 76254.047 | G10: 83595.343 | H10: 89315.521 | I10: 100404.08 | J10: 105133.05 | K10: 112755.17 | L10: 121243.86 | M10: 134466.92 | N10: 154326.2 | O10: 177186.3 | P10: 185106.19 | Q10: 205680 | R10: 218214 | S10: 236681 | T10: 261255 | U10: 284333 | V10: 304919 | W10: 331421
A11: Electricity, gas and water | B11: 4931.5593 | C11: 6092.0849 | D11: 6672.2839 | E11: 6734.4574 | F11: 7771.8523 | G11: 8178.2229 | H11: 8218.5575 | I11: 9880.1725 | J11: 10845.981 | K11: 11293.148 | L11: 12450.817 | M11: 13843.832 | N11: 15459.94 | O11: 17622.518 | P11: 20006.322 | Q11: 22091 | R11: 26054 | S11: 29475 | T11: 32835 | U11: 35433 | V11: 38665 | W11: 41913
A12: Construction | B12: 10982.594 | C12: 11490.825 | D12: 12364.923 | E12: 12488.268 | F12: 12593.211 | G12: 12878.723 | H12: 13138.057 | I12: 13824 | J12: 15588 | K12: 17460 | L12: 20023 | M12: 23600 | N12: 32229 | O12: 37604 | P12: 41938 | Q12: 44287 | R12: 48005 | S12: 52621 | T12: 58488 | U12: 63723 | V12: 68635 | W12: 73715
A13: Tertiary industries | B13: =SUM(B14:B18) -> 178693.95 | C13: =SUM(C14:C18) -> 205138.87 | D13: =SUM(D14:D18) -> 229736.76 | E13: =SUM(E14:E18) -> 252139.48 | F13: =SUM(F14:F18) -> 276613.92 | G13: =SUM(G14:G18) -> 304138.73 | H13: =SUM(H14:H18) -> 326487.75 | I13: =SUM(I14:I18) -> 361720.18 | ... W13: =SUM(W14:W18) -> 1435189
A14: Wholesale & retail trade; hotels & restaurants | B14: 35741.941 | C14: 38850.393 | D14: 42607.526 | E14: 46574.957 | F14: 55069.419 | G14: 62196.36 | H14: 62705.767 | I14: 67707 | J14: 75041 | K14: 84180 | L14: 92397.479 | M14: 104592.45 | N14: 113750.33 | O14: 126628.86 | P14: 134300.63 | Q14: 148043 | R14: 163163 | S14: 179360 | T14: 197755 | U14: 215456 | V14: 230424 | W14: 248065
A15: Transport , storage and communication | B15: 22531.779 | C15: 25579.974 | D15: 27849.883 | E15: 30054.171 | F15: 31415.79 | G15: 33962.871 | H15: 36600.334 | I15: 38048 | J15: 42313 | K15: 46788 | L15: 51135 | M15: 56134.428 | N15: 61219 | O15: 65628 | P15: 68776 | Q15: 74663 | R15: 82690 | S15: 89580 | T15: 101478 | U15: 110768 | V15: 119417 | W15: 128588
A16: Finance, real estate and business services | B16: 28385.911 | C16: 31997.583 | D16: 37110.609 | E16: 43775.655 | F16: 49087.224 | G16: 55085.563 | H16: 63471.253 | I16: 74261.179 | J16: 84449.821 | K16: 98008.343 | L16: 114144.01 | M16: 130444.73 | N16: 152782.38 | O16: 171442.74 | P16: 175083.83 | Q16: 196298 | R16: 218250 | S16: 236194 | T16: 259105 | U16: 285218 | V16: 311025 | W16: 337861
A17: Personal services | B17: 20013.317 | C17: 22419.424 | D17: 25752.742 | E17: 28207.701 | F17: 31643.491 | G17: 36446.939 | H17: 40006.401 | I17: 45700 | J17: 50781 | K17: 55241 | L17: 60863 | M17: 66255 | N17: 74786 | O17: 81043 | P17: 85246 | Q17: 90425 | R17: 97805 | S17: 105951 | T17: 113797 | U17: 122824 | V17: 131984 | W17: 141914
A18: General government services | B18: 72021 | C18: 86291.5 | D18: 96416 | E18: 103527 | F18: 109398 | G18: 116447 | H18: 123704 | I18: 136004 | J18: 151039 | K18: 166287 | L18: 181765 | M18: 196420 | N18: 220257 | O18: 257245 | P18: 301744 | Q18: 347326 | R18: 387618 | S18: 418879 | T18: 461218 | U18: 506693 | V18: 539067 | W18: 578761
A19: Annual Gross Operating Surplus | B19: =B13+B9+B6 -> 276511.71 | C19: =C13+C9+C6 -> 310039.39 | D19: =D13+D9+D6 -> 342269.73 | E19: =E13+E9+E6 -> 376036.26 | F19: =F13+F9+F6 -> 408264.32 | G19: =G13+G9+G6 -> 446672.13 | H19: =H13+H9+H6 -> 478661.64 | I19: =I13+I9+I6 -> 532330.18 | ... W19: =W13+W9+W6 -> 2051329
A20: 0 | B20: 0 | C20: 0 | D20: 0 | E20: 0 | F20: 0 | G20: 0 | H20: 0 | I20: 0 | J20: 0 | K20: 0 | L20: 0 | M20: 0 | N20: 0 | O20: 0 | P20: 0 | Q20: 0 | R20: 0 | S20: 0 | T20: 1 | U20: 2 | V20: 3 | W20: 4
A21: SA - Annual Compensation of Employees | B21: =B19+B20 -> 276511.71 | C21: =C19+C20 -> 310039.39 | D21: =D19+D20 -> 342269.73 | E21: =E19+E20 -> 376036.26 | F21: =F19+F20 -> 408264.32 | G21: =G19+G20 -> 446672.13 | H21: =H19+H20 -> 478661.64 | I21: =I19+I20 -> 532330.18 | ... W21: =W19+W20 -> 2051333
A23: KZN – Annual Compensation of Employees
A24: Rand million
A25: Provincial Industry | B25: 1995 | C25: 1996 | D25: 1997 | E25: 1998 | F25: 1999 | G25: 2000 | H25: 2001 | I25: 2002 | J25: 2003 | K25: 2004 | L25: 2005 | M25: 2006 | N25: 2007 | O25: 2008 | P25: 2009 | Q25: 2010 | R25: =R5 -> 2011 | S25: =S5 -> 2012 | T25: =T5 -> 2013 | U25: =U5 -> 2014 | V25: =V5 -> 2015 | W25: =W5 -> 2016
A26: Primary Industries | B26: =B27+B28 -> 2509.9226 | C26: =C27+C28 -> 2587.6718 | D26: =D27+D28 -> 2767.2256 | E26: =E27+E28 -> 3206.5682 | F26: =F27+F28 -> 3172.0913 | G26: =G27+G28 -> 3378.815 | H26: =H27+H28 -> 3727.386 | I26: =I27+I28 -> 4201.2729 | ... W26: =W27+W28 -> 12601.193
A27: Agriculture, forestry and fishing | B27: =B7*B46/100 -> 1832.0561 | C27: =C7*C46/100 -> 1839.0796 | D27: =D7*D46/100 -> 1945.0687 | E27: =E7*E46/100 -> 2336.2245 | F27: =F7*F46/100 -> 2260.5292 | G27: =G7*G46/100 -> 2385.6993 | H27: =H7*H46/100 -> 2618.0819 | I27: =I7*I46/100 -> 2981.6062 | ... W27: =W7*W46/100 -> 7798.1501
A28: Mining and quarrying | B28: =B8*B47/100 -> 677.86645 | C28: =C8*C47/100 -> 748.5922 | D28: =D8*D47/100 -> 822.15694 | E28: =E8*E47/100 -> 870.34372 | F28: =F8*F47/100 -> 911.56214 | G28: =G8*G47/100 -> 993.11563 | H28: =H8*H47/100 -> 1109.3041 | I28: =I8*I47/100 -> 1219.6667 | ... W28: =W8*W47/100 -> 4803.0434
A29: Secondary Industries | B29: =B30+B31+B32 -> 15045.481 | C29: =C30+C31+C32 -> 16000.612 | D29: =D30+D31+D32 -> 17079.232 | E29: =E30+E31+E32 -> 18703.646 | F29: =F30+F31+F32 -> 19666.309 | G29: =G30+G31+G32 -> 21407.429 | H29: =H30+H31+H32 -> 23188.498 | I29: =I30+I31+I32 -> 25125.565 | ... W29: =W30+W31+W32 -> 89767.217
A30: Manufacturing | B30: =B10*B49/100 -> 11683.554 | C30: =C10*C49/100 -> 12446.293 | D30: =D10*D49/100 -> 13179.163 | E30: =E10*E49/100 -> 14928.413 | F30: =F10*F49/100 -> 15825.138 | G30: =G10*G49/100 -> 17436.918 | H30: =H10*H49/100 -> 18595.989 | I30: =I10*I49/100 -> 20873.998 | ... W30: =W10*W49/100 -> 69172.608
A31: Electricity, gas and water | B31: =B11*B50/100 -> 771.78617 | C31: =C11*C50/100 -> 943.83975 | D31: =D11*D50/100 -> 1029.1923 | E31: =E11*E50/100 -> 1040.8716 | F31: =F11*F50/100 -> 1205.1277 | G31: =G11*G50/100 -> 1286.9081 | H31: =H11*H50/100 -> 1325.8332 | I31: =I11*I50/100 -> 1602.4381 | ... W31: =W11*W50/100 -> 6577.7494
A32: Construction | B32: =B12*B51/100 -> 2590.1407 | C32: =C12*C51/100 -> 2610.4793 | D32: =D12*D51/100 -> 2870.8764 | E32: =E12*E51/100 -> 2734.3618 | F32: =F12*F51/100 -> 2636.0437 | G32: =G12*G51/100 -> 2683.6023 | H32: =H12*H51/100 -> 3266.6757 | I32: =I12*I51/100 -> 2649.1286 | ... W32: =W12*W51/100 -> 14016.859
A33: Tertiary industries | B33: =SUM(B34:B38) -> 28363.395 | C33: =SUM(C34:C38) -> 32597.671 | D33: =SUM(D34:D38) -> 35849.875 | E33: =SUM(E34:E38) -> 39654.809 | F33: =SUM(F34:F38) -> 42903.619 | G33: =SUM(G34:G38) -> 47001.685 | H33: =SUM(H34:H38) -> 50960.547 | I33: =SUM(I34:I38) -> 56114.029 | ... W33: =SUM(W34:W38) -> 222730.65
A34: Wholesale & retail trade; hotels & restaurants | B34: =B14*B53/100 -> 5512.6527 | C34: =C14*C53/100 -> 5908.1282 | D34: =D14*D53/100 -> 6489.4429 | E34: =E14*E53/100 -> 7064.3656 | F34: =F14*F53/100 -> 8330.335 | G34: =G14*G53/100 -> 9443.2156 | H34: =H14*H53/100 -> 10072.884 | I34: =I14*I53/100 -> 10892.144 | ... W34: =W14*W53/100 -> 40801.772
A35: Transport , storage and communication | B35: =B15*B54/100 -> 4999.4286 | C35: =C15*C54/100 -> 5593.7582 | D35: =D15*D54/100 -> 5979.6215 | E35: =E15*E54/100 -> 6406.0388 | F35: =F15*F54/100 -> 6594.4257 | G35: =G15*G54/100 -> 7003.7401 | H35: =H15*H54/100 -> 7474.2472 | I35: =I15*I54/100 -> 7795.1944 | ... W35: =W15*W54/100 -> 26941.661
A36: Finance, real estate and business services | B36: =B16*B55/100 -> 3861.6737 | C36: =C16*C55/100 -> 4359.8616 | D36: =D16*D55/100 -> 5029.8344 | E36: =E16*E55/100 -> 5981.4107 | F36: =F16*F55/100 -> 6773.0282 | G36: =G16*G55/100 -> 7423.24 | H36: =H16*H55/100 -> 8283.8773 | I36: =I16*I55/100 -> 9580.4864 | ... W36: =W16*W55/100 -> 45561.437
A37: Personal services | B37: =B17*B56/100 -> 3309.2558 | C37: =C17*C56/100 -> 3706.7321 | D37: =D17*D56/100 -> 4256.3362 | E37: =E17*E56/100 -> 4662.2427 | F37: =F17*F56/100 -> 5219.2918 | G37: =G17*G56/100 -> 6005.1939 | H37: =H17*H56/100 -> 6593.4497 | I37: =I17*I56/100 -> 7527.8774 | ... W37: =W17*W56/100 -> 23423.027
A38: General government services | B38: =B18*B57/100 -> 10680.384 | C38: =C18*C57/100 -> 13029.191 | D38: =D18*D57/100 -> 14094.64 | E38: =E18*E57/100 -> 15540.751 | F38: =F18*F57/100 -> 15986.538 | G38: =G18*G57/100 -> 17126.295 | H38: =H18*H57/100 -> 18536.089 | I38: =I18*I57/100 -> 20318.327 | ... W38: =W18*W57/100 -> 86002.751
A39: =A21 -> SA - Annual Compensation of Employees | B39: =B33+B29+B26 -> 45918.799 | C39: =C33+C29+C26 -> 51185.955 | D39: =D33+D29+D26 -> 55696.332 | E39: =E33+E29+E26 -> 61565.024 | F39: =F33+F29+F26 -> 65742.019 | G39: =G33+G29+G26 -> 71787.928 | H39: =H33+H29+H26 -> 77876.431 | I39: =I33+I29+I26 -> 85440.867 | ... W39: =W33+W29+W26 -> 325099.06
A40: Taxes less subsidies on products | B40: 0 | C40: 0 | D40: 0 | E40: 0 | F40: 0 | G40: 0 | H40: 0 | I40: 0 | J40: 0 | K40: 0 | L40: 0 | M40: 0 | N40: 0 | O40: 0 | P40: 1 | Q40: 2 | R40: 3 | S40: 4 | T40: 5 | U40: 6 | V40: 7 | W40: 8
A41: KZN - Annual Compensation of Employees | B41: =B40+B39 -> 45918.799 | C41: =C40+C39 -> 51185.955 | D41: =D40+D39 -> 55696.332 | E41: =E40+E39 -> 61565.024 | F41: =F40+F39 -> 65742.019 | G41: =G40+G39 -> 71787.928 | H41: =H40+H39 -> 77876.431 | I41: =I40+I39 -> 85440.867 | ... W41: =W40+W39 -> 325107.06
A43: Structure Relationship
...

Sheet Quarterly
A1: Quarterly Compensation of Employees
A3: =Annual!A3 -> SA – Annual Compensation of Employees
A4: Rand million
A5: National Industry | B5: 1995q1 | C5: 1995q2 | D5: 1995q3 | E5: 1995q4 | F5: 1996q1 | G5: 1996q2 | H5: 1996q3 | I5: 1996q4 | J5: 1997q1 | K5: 1997q2 | L5: 1997q3 | M5: 1997q4 | N5: 1998q1 | O5: 1998q2 | P5: 1998q3 | Q5: 1998q4 | R5: 1999q1 | S5: 1999q2 | T5: 1999q3 | U5: 1999q4 | V5: 2000q1 | W5: 2000q2 | X5: 2000q3 | Y5: 2000q4 | Z5: 2001q1 | AA5: 2001q2 | AB5: 2001q3 | AC5: 2001q4 | AD5: 2002q1 | AE5: 2002q2 | AF5: 2002q3 | AG5: 2002q4 | AH5: 2003q1 | AI5: 2003q2 | AJ5: 2003q3 | AK5: 2003q4 | AL5: 2004q1 | AM5: 2004q2 | AN5: 2004q3 | AO5: 2004q4 | AP5: 2005q1 | AQ5: 2005q2 | AR5: 2005q3 | AS5: 2005q4 | AT5: 2006q1 | AU5: 2006q2 | AV5: 2006q3 | AW5: 2006q4 | AX5: 2007q1 | AY5: 2007q2 | AZ5: 2007q3 | BA5: 2007q4 | BB5: 2008q1 | BC5: 2008q2 | BD5: 2008q3 | BE5: 2008q4 | BF5: 2009q1 | BG5: 2009q2 | BH5: 2009q3 | BI5: 2009q4 | BJ5: 2010q1 | BK5: 2010q2 | BL5: 2010q3 | BM5: 2010q4 | BN5: 2011q1 | BO5: 2011q2 | BP5: 2011q3 | BQ5: 2011q4 | BR5: 2012q1 | BS5: 2012q2 | BT5: 2012q3 | BU5: 2012q4 | BV5: 2013q1 | BW5: 2013q2 | BX5: 2013q3 | BY5: 2013q4 | BZ5: 2014q1 | CA5: 2014q2 | CB5: 2014q3 | CC5: 2014q4 | CD5: 2015q1 | CE5: 2015q2 | CF5: 2015q3 | CG5: 2015q4 | CH5: 2016q1 | CI5: 2016q2 | CJ5: 2016q3 | CK5: 2016q4
A6: Primary Industries | B6: =SUM(B7:B8) -> 5897.3138 | C6: =SUM(C7:C8) -> 6093.5964 | D6: =SUM(D7:D8) -> 6408.0234 | E6: =SUM(E7:E8) -> 6599.4182 | F6: =SUM(F7:F8) -> 6558.7032 | G6: =SUM(G7:G8) -> 6585.0979 | H6: =SUM(H7:H8) -> 6799.2767 | I6: =SUM(I7:I8) -> 6961.6371 | ... CK6: =SUM(CK7:CK8) -> 45934
A7: Agriculture, forestry and fishing | B7: 1556.6449 | C7: 1674.1108 | D7: 1666.9524 | E7: 1534.1456 | F7: 1678.7032 | G7: 1805.0979 | H7: 1797.2767 | I7: 1654.6371 | J7: 1798.8623 | K7: 1935.284 | L7: 1927.5332 | M7: 1772.8791 | N7: 2019.7323 | O7: 2173.5364 | P7: 2163.6977 | Q7: 1989.8148 | R7: 2193.858 | S7: 2339.4292 | T7: 2256.1023 | U7: 2057.3223 | V7: 2295.9954 | W7: 2495.7999 | X7: 2435.463 | Y7: 2218.8324 | Z7: 2475.5201 | AA7: 2655.2293 | AB7: 2559.8529 | AC7: 2326.9336 | AD7: 2660.443 | AE7: 3101.1886 | AF7: 3119.553 | AG7: 2777.8154 | AH7: 3200.03 | AI7: 3546.785 | AJ7: 3518.03 | AK7: 3165.475 | AL7: 3192.108 | AM7: 3416.307 | AN7: 3391.106 | AO7: 3036.789 | AP7: 2958.275 | AQ7: 3189.926 | AR7: 3221.274 | AS7: 2852.525 | AT7: 3117.413 | AU7: 3342.67 | AV7: 3373.446 | AW7: 3057.472 | AX7: 3572.678 | AY7: 3797.059 | AZ7: 3845.421 | BA7: 3493.843 | BB7: 4174.234 | BC7: 4235.934 | BD7: 4259.458 | BE7: 3990.374 | BF7: 4687.906 | BG7: 4743.327 | BH7: 4687.231 | BI7: 4272.536 | BJ7: 4995 | BK7: 5086 | BL7: 4949 | BM7: 4464 | BN7: 5105 | BO7: 5279 | BP7: 5105 | BQ7: 4612 | BR7: 5398 | BS7: 5546 | BT7: 5467 | BU7: 5018 | BV7: 5692 | BW7: 6059 | BX7: 5933 | BY7: 5427 | BZ7: 6171 | CA7: 6662 | CB7: 6507 | CC7: 5919 | CD7: 6537 | CE7: 7024 | CF7: 6920 | CG7: 6316 | CH7: 6889 | CI7: 7432 | CJ7: 7302 | CK7: 6674
A8: Mining and quarrying | B8: 4340.6689 | C8: 4419.4856 | D8: 4741.071 | E8: 5065.2726 | F8: 4880 | G8: 4780 | H8: 5002 | I8: 5307 | J8: 5364.13 | K8: 5254.12 | L8: 5553.12 | M8: 5889.13 | N8: 5823.8442 | O8: 5672.8631 | P8: 5852.0273 | Q8: 6300.9444 | R8: 6193.9309 | S8: 6375.17 | T8: 6733.2205 | U8: 6882.2572 | V8: 6895.6786 | W8: 6881.5406 | X8: 7141.2574 | Y8: 7516.5437 | Z8: 7546.4684 | AA8: 7554.5202 | AB8: 7935.9701 | AC8: 8447.2539 | AD8: 8295.5 | AE8: 8294 | AF8: 8878.8 | AG8: 9374.73 | AH8: 8975.222 | AI8: 8583.665 | AJ8: 9037.381 | AK8: 9412.112 | AL8: 9449 | AM8: 9496 | AN8: 9737.5 | AO8: 10173.85 | AP8: 9899.042 | AQ8: 9951.791 | AR8: 10820.175 | AS8: 11370.942 | AT8: 11612.197 | AU8: 11694.733 | AV8: 12638.193 | AW8: 13589.867 | AX8: 13567.036 | AY8: 13846.642 | AZ8: 14811.428 | BA8: 15996.195 | BB8: 16253.652 | BC8: 16737.736 | BD8: 17785.138 | BE8: 18898.703 | BF8: 18215.705 | BG8: 18174.876 | BH8: 19268.328 | BI8: 19941.751 | BJ8: 20425 | BK8: 20838 | BL8: 22638 | BM8: 22498 | BN8: 22863 | BO8: 23509 | BP8: 24595 | BQ8: 26512 | BR8: 25979 | BS8: 26938 | BT8: 27435 | BU8: 29444 | BV8: 28393 | BW8: 29561 | BX8: 29773 | BY8: 31681 | BZ8: 27207 | CA8: 28384 | CB8: 32721 | CC8: 34597 | CD8: 30021 | CE8: 30894 | CF8: 34848 | CG8: 36738 | CH8: 31741 | CI8: 32753 | CJ8: 37040 | CK8: 39260
A9: Secondary Industries | B9: =SUM(B10:B12) -> 16921.966 | C9: =SUM(C10:C12) -> 17168.919 | D9: =SUM(D10:D12) -> 18139.969 | E9: =SUM(E10:E12) -> 20589.105 | F9: =SUM(F10:F12) -> 18467.653 | G9: =SUM(G10:G12) -> 18532.755 | H9: =SUM(H10:H12) -> 19572.132 | I9: =SUM(I10:I12) -> 21423.257 | ... CK9: =SUM(CK10:CK12) -> 125835
A10: Manufacturing | B10: 13221.256 | C10: 13255.51 | D10: 14160.085 | E10: 16268.41 | F10: 14380.899 | G10: 14247.612 | H10: 15143.143 | I10: 16641.238 | J10: 15025.542 | K10: 15291.488 | L10: 15968.442 | M10: 17715.233 | N10: 16958.105 | O10: 17401.323 | P10: 18010.747 | Q10: 20307.419 | R10: 17907.338 | S10: 18301.294 | T10: 18779.884 | U10: 21265.531 | V10: 19475.094 | W10: 20180.166 | X10: 20751.274 | Y10: 23188.809 | Z10: 21038.794 | AA10: 21518.953 | AB10: 22016.022 | AC10: 24741.752 | AD10: 23258.2 | AE10: 24376.3 | AF10: 25008.58 | AG10: 27761 | AH10: 24950.699 | AI10: 25483.153 | AJ10: 25804.203 | AK10: 28895 | AL10: 26541.347 | AM10: 27462.06 | AN10: 27791.325 | AO10: 30960.438 | AP10: 28731.672 | AQ10: 29255.912 | AR10: 29706.28 | AS10: 33550 | AT10: 31131.003 | AU10: 32435.731 | AV10: 32968.911 | AW10: 37931.276 | AX10: 35285.228 | AY10: 36944.97 | AZ10: 37981 | BA10: 44115 | BB10: 40489.53 | BC10: 42462.7 | BD10: 44023.473 | BE10: 50210.599 | BF10: 42489.856 | BG10: 43329.14 | BH10: 46265.8 | BI10: 53021.4 | BJ10: 47272 | BK10: 48865 | BL10: 50494 | BM10: 59049 | BN10: 51144 | BO10: 51897 | BP10: 52962 | BQ10: 62211 | BR10: 55228 | BS10: 56161 | BT10: 57634 | BU10: 67657 | BV10: 60461 | BW10: 62814 | BX10: 63999 | BY10: 73981 | BZ10: 65718 | CA10: 68449 | CB10: 69221 | CC10: 80944 | CD10: 70314 | CE10: 73627 | CF10: 74466 | CG10: 86513 | CH10: 76213 | CI10: 80186 | CJ10: 82012 | CK10: 93010
A11: Electricity, gas and water | B11: 1083.2189 | C11: 1219.9059 | D11: 1282.0635 | E11: 1346.9149 | F11: 1342.1933 | G11: 1497.3307 | H11: 1579.7143 | I11: 1672.8467 | J11: 1478.6574 | K11: 1653.1001 | L11: 1722.3966 | M11: 1818.1298 | N11: 1472.6868 | O11: 1648.9605 | P11: 1736.7969 | Q11: 1876.0131 | R11: 1771.101 | S11: 1835.5993 | T11: 1892.2858 | U11: 2272.8662 | V11: 1864.7871 | W11: 1950.9158 | X11: 2065.0864 | Y11: 2297.4337 | Z11: 1922.4696 | AA11: 1976.9396 | AB11: 2056.0412 | AC11: 2263.1072 | AD11: 2237.695 | AE11: 2438.901 | AF11: 2450.193 | AG11: 2753.383 | AH11: 2518.345 | AI11: 2664.751 | AJ11: 2647.153 | AK11: 3015.732 | AL11: 2530.9 | AM11: 2817 | AN11: 2732.07 | AO11: 3213.177 | AP11: 2794.831 | AQ11: 3107.127 | AR11: 3010.565 | AS11: 3538.297 | AT11: 3112.188 | AU11: 3483.577 | AV11: 3372.674 | AW11: 3875.39 | AX11: 3402.124 | AY11: 3830.278 | AZ11: 3803.411 | BA11: 4424.127 | BB11: 3851.157 | BC11: 4354.145 | BD11: 4399.404 | BE11: 5017.813 | BF11: 4299.033 | BG11: 4725.499 | BH11: 5153.539 | BI11: 5828.249 | BJ11: 4777 | BK11: 5299 | BL11: 5611 | BM11: 6405 | BN11: 5761 | BO11: 6164 | BP11: 6478 | BQ11: 7651 | BR11: 6447 | BS11: 7012 | BT11: 7378 | BU11: 8639 | BV11: 7251 | BW11: 7942 | BX11: 8016 | BY11: 9626 | BZ11: 7886 | CA11: 8587 | CB11: 8616 | CC11: 10344 | CD11: 8563 | CE11: 9436 | CF11: 9408 | CG11: 11259 | CH11: 9216 | CI11: 10179 | CJ11: 10216 | CK11: 12302
A12: Construction | B12: 2617.4907 | C12: 2693.5029 | D12: 2697.8201 | E12: 2973.7802 | F12: 2744.5613 | G12: 2787.8125 | H12: 2849.2744 | I12: 3109.1722 | J12: 2887.5006 | K12: 3015.9202 | L12: 3075.0057 | M12: 3386.5003 | N12: 2926.7001 | O12: 3060 | P12: 3111 | Q12: 3390.57 | R12: 3055.71 | S12: 3065.5 | T12: 3080 | U12: 3392 | V12: 3083.1052 | W12: 3091.9271 | X12: 3196.1274 | Y12: 3507.5636 | Z12: 3149.509 | AA12: 3150.3331 | AB12: 3254.4826 | AC12: 3583.732 | AD12: 3211 | AE12: 3278 | AF12: 3450 | AG12: 3885 | AH12: 3567 | AI12: 3708 | AJ12: 3932 | AK12: 4381 | AL12: 3946 | AM12: 4165 | AN12: 4426 | AO12: 4923 | AP12: 4300 | AQ12: 4856 | AR12: 5125 | AS12: 5742 | AT12: 5186 | AU12: 5739 | AV12: 6034 | AW12: 6641 | AX12: 6568 | AY12: 7972 | AZ12: 8380 | BA12: 9309 | BB12: 7638 | BC12: 9304 | BD12: 9918 | BE12: 10744 | BF12: 8608 | BG12: 10244 | BH12: 10825 | BI12: 12261 | BJ12: 9264 | BK12: 11136 | BL12: 11256 | BM12: 12631 | BN12: 10161 | BO12: 11835 | BP12: 12485 | BQ12: 13524 | BR12: 11096 | BS12: 13254 | BT12: 13535 | BU12: 14736 | BV12: 12546 | BW12: 14906 | BX12: 14821 | BY12: 16214 | BZ12: 13620 | CA12: 16181 | CB12: 16164 | CC12: 17758 | CD12: 14705 | CE12: 17519 | CF12: 17417 | CG12: 18994 | CH12: 15830 | CI12: 18681 | CJ12: 18680 | CK12: 20523
A13: Tertiary industries | B13: =SUM(B14:B18) -> 42083.219 | C13: =SUM(C14:C18) -> 43986.519 | D13: =SUM(D14:D18) -> 45067.447 | E13: =SUM(E14:E18) -> 47556.762 | F13: =SUM(F14:F18) -> 47849.745 | G13: =SUM(G14:G18) -> 50780.236 | H13: =SUM(H14:H18) -> 51925.791 | I13: =SUM(I14:I18) -> 54583.102 | ... CK13: =SUM(CK14:CK18) -> 375595
A14: Wholesale & retail trade; hotels & restaurants | B14: 8088.5216 | C14: 8528.5107 | D14: 8855.2518 | E14: 10269.657 | F14: 9260.0354 | G14: 9239.8603 | H14: 9521.2504 | I14: 10829.247 | J14: 9881.0265 | K14: 10112.612 | L14: 10517.127 | M14: 12096.761 | N14: 10522.243 | O14: 10563.705 | P14: 11501.151 | Q14: 13987.858 | R14: 12058.443 | S14: 13232.435 | T14: 13771.4 | U14: 16007.141 | V14: 13965.841 | W14: 15105.529 | X14: 15409.864 | Y14: 17715.126 | Z14: 14695.606 | AA14: 15140.521 | AB14: 15368.034 | AC14: 17501.606 | AD14: 15401.089 | AE14: 16146.44 | AF14: 16704.24 | AG14: 19455.231 | AH14: 16938.936 | AI14: 17899.037 | AJ14: 18566.281 | AK14: 21636.745 | AL14: 18587.033 | AM14: 19999.957 | AN14: 20686.368 | AO14: 24906.641 | AP14: 20428.994 | AQ14: 21641.865 | AR14: 23310.822 | AS14: 27015.799 | AT14: 23464.473 | AU14: 24871.592 | AV14: 25872.952 | AW14: 30383.434 | AX14: 25203.934 | AY14: 26946.437 | AZ14: 28488.481 | BA14: 33111.478 | BB14: 28093.746 | BC14: 30654.627 | BD14: 31600.923 | BE14: 36279.564 | BF14: 30033.538 | BG14: 31973.093 | BH14: 34150.436 | BI14: 38143.563 | BJ14: 32691 | BK14: 35277 | BL14: 37278 | BM14: 42797 | BN14: 36728 | BO14: 38844 | BP14: 40868 | BQ14: 46723 | BR14: 40802 | BS14: 43065 | BT14: 44916 | BU14: 50576 | BV14: 45537 | BW14: 47528 | BX14: 49124 | BY14: 55566 | BZ14: 49434 | CA14: 51324 | CB14: 54063 | CC14: 60634 | CD14: 53087 | CE14: 54786 | CF14: 57721 | CG14: 64830 | CH14: 56993 | CI14: 58725 | CJ14: 62139 | CK14: 70207
A15: Transport , storage and communication | B15: 5104.1206 | C15: 5588.6378 | D15: 5743.6125 | E15: 6095.4084 | F15: 5936.2347 | G15: 6346.7754 | H15: 6460.0796 | I15: 6836.8839 | J15: 6674.8542 | K15: 6832.6641 | L15: 6977.2954 | M15: 7365.069 | N15: 7062.6594 | O15: 7495.4427 | P15: 7550.2485 | Q15: 7945.8205 | R15: 7385.1155 | S15: 7776.1457 | T15: 7935.7911 | U15: 8318.7379 | V15: 7986.2138 | W15: 8450.8222 | X15: 8568.9943 | Y15: 8956.8413 | Z15: 8684.9278 | AA15: 9069.7798 | AB15: 9138.4673 | AC15: 9707.1594 | AD15: 8863.412 | AE15: 9377.594 | AF15: 9531.435 | AG15: 10275.56 | AH15: 9843.386 | AI15: 10507.583 | AJ15: 10575.41 | AK15: 11386.621 | AL15: 10235.61 | AM15: 10849.151 | AN15: 11927.421 | AO15: 13775.818 | AP15: 11226.749 | AQ15: 12720.895 | AR15: 13308.344 | AS15: 13879.013 | AT15: 12806.963 | AU15: 13736.665 | AV15: 14265.302 | AW15: 15325.07 | AX15: 14059.773 | AY15: 14836.51 | AZ15: 15602.633 | BA15: 16720.084 | BB15: 15172.791 | BC15: 15925.401 | BD15: 16904.825 | BE15: 17624.983 | BF15: 15630.06 | BG15: 16556.956 | BH15: 17792.8 | BI15: 18796.184 | BJ15: 17215 | BK15: 17955 | BL15: 18999 | BM15: 20493 | BN15: 18617 | BO15: 20401 | BP15: 20930 | BQ15: 22743 | BR15: 20147 | BS15: 22011 | BT15: 22693 | BU15: 24729 | BV15: 23065 | BW15: 25078 | BX15: 25472 | BY15: 27863 | BZ15: 25024 | CA15: 27400 | CB15: 27772 | CC15: 30571 | CD15: 26936 | CE15: 29637 | CF15: 29862 | CG15: 32981 | CH15: 29072 | CI15: 31757 | CJ15: 32503 | CK15: 35256
A16: Finance, real estate and business services | B16: 6486.91 | C16: 7016 | D16: 7225 | E16: 7658 | F16: 7276.9 | G16: 7922.9 | H16: 8154.9 | I16: 8642.88 | J16: 8507.9 | K16: 9264.9 | L16: 9353.9 | M16: 9983.91 | N16: 10292.9 | O16: 10910.9 | P16: 11188.9 | Q16: 11382.95 | R16: 11749.1 | S16: 12221.08 | T16: 12431.04 | U16: 12686 | V16: 12983.9 | W16: 13599.9 | X16: 14000.9 | Y16: 14500.86 | Z16: 14687.1 | AA16: 15471.1 | AB16: 16457.05 | AC16: 16856 | AD16: 17213.1 | AE16: 18591.08 | AF16: 19140 | AG16: 19317 | AH16: 19384.98 | AI16: 20636.93 | AJ16: 21940.95 | AK16: 22486.96 | AL16: 22571.1 | AM16: 23659.1 | AN16: 25494.1 | AO16: 26284.04 | AP16: 25467 | AQ16: 27729 | AR16: 29900 | AS16: 31048.01 | AT16: 29895.92 | AU16: 32168.93 | AV16: 33753.96 | AW16: 34625.92 | AX16: 34856.1 | AY16: 37341 | AZ16: 39282.2 | BA16: 41303.08 | BB16: 40738.93 | BC16: 41900.92 | BD16: 45278.92 | BE16: 43523.97 | BF16: 41530.92 | BG16: 42517.91 | BH16: 46105 | BI16: 44930 | BJ16: 46768 | BK16: 48269 | BL16: 50716 | BM16: 50545 | BN16: 52215 | BO16: 53814 | BP16: 56362 | BQ16: 55859 | BR16: 58243 | BS16: 59595 | BT16: 59359 | BU16: 58997 | BV16: 62253 | BW16: 64839 | BX16: 65524 | BY16: 66490 | BZ16: 67939 | CA16: 70995 | CB16: 71877 | CC16: 74407 | CD16: 75580 | CE16: 77628 | CF16: 77714 | CG16: 80103 | CH16: 82600 | CI16: 84171 | CJ16: 84990 | CK16: 86101
A17: Personal services | B17: 4746.6665 | C17: 4925.3704 | D17: 5136.5825 | E17: 5204.6969 | F17: 5303.8248 | G17: 5522.9499 | H17: 5751.5609 | I17: 5841.0916 | J17: 6134.1505 | K17: 6353.5331 | L17: 6588.2134 | M17: 6676.8497 | N17: 6745.1703 | O17: 6911.6658 | P17: 7232.3958 | Q17: 7318.4692 | R17: 7588.6656 | S17: 7756.7578 | T17: 8110.0101 | U17: 8188.0571 | V17: 8712.5564 | W17: 9070.9744 | X17: 9329.4833 | Y17: 9333.9249 | Z17: 9922.2909 | AA17: 10017.462 | AB17: 10088.093 | AC17: 9978.5551 | AD17: 11226.325 | AE17: 11457.018 | AF17: 11512.553 | AG17: 11504.104 | AH17: 12304.371 | AI17: 12668.438 | AJ17: 12759.126 | AK17: 13049.065 | AL17: 13808.792 | AM17: 13658.808 | AN17: 13649.128 | AO17: 14124.272 | AP17: 14924.491 | AQ17: 15196.135 | AR17: 15319.711 | AS17: 15422.664 | AT17: 16108.224 | AU17: 16560.226 | AV17: 16692.876 | AW17: 16893.674 | AX17: 18219.756 | AY17: 18701.346 | AZ17: 18785.758 | BA17: 19079.141 | BB17: 20020.224 | BC17: 20016.363 | BD17: 20338.975 | BE17: 20667.438 | BF17: 20971.752 | BG17: 20970.108 | BH17: 21599.411 | BI17: 21704.729 | BJ17: 22172 | BK17: 22320 | BL17: 22887 | BM17: 23046 | BN17: 24062 | BO17: 24040 | BP17: 25046 | BQ17: 24657 | BR17: 26137 | BS17: 26135 | BT17: 27084 | BU17: 26594 | BV17: 28157 | BW17: 28089 | BX17: 28856 | BY17: 28695 | BZ17: 30290 | CA17: 30486 | CB17: 31200 | CC17: 30848 | CD17: 32156 | CE17: 33232 | CF17: 33414 | CG17: 33182 | CH17: 34314 | CI17: 35799 | CJ17: 36050 | CK17: 35751
A18: General government services | B18: 17657 | C18: 17928 | D18: 18107 | E18: 18329 | F18: 20072.75 | G18: 21747.75 | H18: 22038 | I18: 22433 | J18: 23530 | K18: 23752 | L18: 24339 | M18: 24795 | N18: 25552 | O18: 25813 | P18: 25937 | Q18: 26225 | R18: 27049 | S18: 27309 | T18: 27386 | U18: 27654 | V18: 28826 | W18: 28856 | X18: 29204 | Y18: 29561 | Z18: 30819 | AA18: 30683 | AB18: 30874 | AC18: 31328 | AD18: 33408 | AE18: 33706 | AF18: 35155 | AG18: 33735 | AH18: 37038 | AI18: 37686 | AJ18: 38056 | AK18: 38259 | AL18: 41826 | AM18: 41298 | AN18: 40446 | AO18: 42717 | AP18: 44347 | AQ18: 44448 | AR18: 45521 | AS18: 47449 | AT18: 47124 | AU18: 47023 | AV18: 49685 | AW18: 52588 | AX18: 52183 | AY18: 52999 | AZ18: 56183 | BA18: 58892 | BB18: 59710 | BC18: 62050 | BD18: 65877 | BE18: 69608 | BF18: 71482 | BG18: 71160 | BH18: 75781 | BI18: 83321 | BJ18: 84882 | BK18: 83416 | BL18: 87425 | BM18: 91603 | BN18: 92170 | BO18: 96507 | BP18: 98934 | BQ18: 100007 | BR18: 100087 | BS18: 102501 | BT18: 106487 | BU18: 109804 | BV18: 108752 | BW18: 113633 | BX18: 117398 | BY18: 121436 | BZ18: 121263 | CA18: 126529 | CB18: 127769 | CC18: 131133 | CD18: 128403 | CE18: 133311 | CF18: 136738 | CG18: 140614 | CH18: 140179 | CI18: 143955 | CJ18: 146347 | CK18: 148280
A19: All industries at basic prices | B19: =B13+B9+B6 -> 64902.499 | C19: =C13+C9+C6 -> 67249.034 | D19: =D13+D9+D6 -> 69615.439 | E19: =E13+E9+E6 -> 74745.285 | F19: =F13+F9+F6 -> 72876.101 | G19: =G13+G9+G6 -> 75898.088 | H19: =H13+H9+H6 -> 78297.2 | I19: =I13+I9+I6 -> 82967.996 | ... CK19: =CK13+CK9+CK6 -> 547364
A21: SA - Annual Compensation of Employees | B21: =B19+B20 -> 64902.499 | C21: =C19+C20 -> 67249.034 | D21: =D19+D20 -> 69615.439 | E21: =E19+E20 -> 74745.285 | F21: =F19+F20 -> 72876.101 | G21: =G19+G20 -> 75898.088 | H21: =H19+H20 -> 78297.2 | I21: =I19+I20 -> 82967.996 | ... CK21: =CK19+CK20 -> 547364
A23: =Annual!A23 -> KZN – Annual Compensation of Employees
A24: Rand million
A25: Provincial Industry | B25: =B5 -> 1995q1 | C25: =C5 -> 1995q2 | D25: =D5 -> 1995q3 | E25: =E5 -> 1995q4 | F25: =F5 -> 1996q1 | G25: =G5 -> 1996q2 | H25: =H5 -> 1996q3 | I25: =I5 -> 1996q4 | ... CK25: =CK5 -> 2016q4
A26: Primary Industries | B26: =SUM(B27:B28) -> 601.87506 | C26: =SUM(C27:C28) -> 638.2118 | D26: =SUM(D27:D28) -> 647.91394 | E26: =SUM(E27:E28) -> 621.92177 | F26: =SUM(F27:F28) -> 628.0663 | G26: =SUM(G27:G28) -> 657.83245 | H26: =SUM(H27:H28) -> 664.08084 | I26: =SUM(I27:I28) -> 637.69217 | ... CK26: =SUM(CK27:CK28) -> 3178.495
A27: Agriculture, forestry and fishing | B27: =B7*Annual!$B46/100 -> 443.3964 | C27: =C7*Annual!$B46/100 -> 476.85553 | D27: =D7*Annual!$B46/100 -> 474.81652 | E27: =E7*Annual!$B46/100 -> 436.98768 | F27: =F7*Annual!$C46/100 -> 445.12625 | G27: =G7*Annual!$C46/100 -> 478.64117 | H27: =H7*Annual!$C46/100 -> 476.56728 | I27: =I7*Annual!$C46/100 -> 438.74486 | J27: =J7*Annual!$D46/100 -> 470.62791 | K27: =K7*Annual!$D46/100 -> 506.31927 | L27: =L7*Annual!$D46/100 -> 504.29147 | M27: =M7*Annual!$D46/100 -> 463.83005 | N27: =N7*Annual!$E46/100 -> 565.3135 | O27: =O7*Annual!$E46/100 -> 608.36253 | P27: =P7*Annual!$E46/100 -> 605.60874 | Q27: =Q7*Annual!$E46/100 -> 556.93974 | R27: =R7*Annual!$F46/100 -> 560.57891 | S27: =S7*Annual!$F46/100 -> 597.77554 | T27: =T7*Annual!$F46/100 -> 576.48367 | U27: =U7*Annual!$F46/100 -> 525.69103 | V27: =V7*Annual!$G46/100 -> 579.8753 | W27: =W7*Annual!$G46/100 -> 630.33782 | X27: =X7*Annual!$G46/100 -> 615.09916 | Y27: =Y7*Annual!$G46/100 -> 560.38706 | Z27: =Z7*Annual!H46/100 -> 646.97689 | AA27: =AA7*Annual!H46/100 -> 693.94389 | AB27: =AB7*Annual!H46/100 -> 669.01727 | AC27: =AC7*Annual!H46/100 -> 608.14385 | AD27: =AD7*Annual!$I46/100 -> 680.38328 | AE27: =AE7*Annual!$I46/100 -> 793.09984 | AF27: =AF7*Annual!$I46/100 -> 797.79637 | AG27: =AG7*Annual!$I46/100 -> 710.40019 | AH27: =AH7*Annual!$J46/100 -> 861.08176 | AI27: =AI7*Annual!$J46/100 -> 954.38851 | AJ27: =AJ7*Annual!$J46/100 -> 946.65096 | AK27: =AK7*Annual!$J46/100 -> 851.78351 | AL27: =AL7*Annual!$K46/100 -> 855.08099 | AM27: =AM7*Annual!$K46/100 -> 915.13796 | AN27: =AN7*Annual!$K46/100 -> 908.38728 | AO27: =AO7*Annual!$K46/100 -> 813.47516 | AP27: =AP7*Annual!$L46/100 -> 722.80579 | AQ27: =AQ7*Annual!$L46/100 -> 779.40589 | AR27: =AR7*Annual!$L46/100 -> 787.06526 | AS27: =AS7*Annual!$L46/100 -> 696.96751 | AT27: =AT7*Annual!$M46/100 -> 812.53252 | AU27: =AU7*Annual!$M46/100 -> 871.24423 | AV27: =AV7*Annual!$M46/100 -> 879.26579 | AW27: =AW7*Annual!$M46/100 -> 796.90931 | AX27: =AX7*Annual!$N46/100 -> 952.48083 | AY27: =AY7*Annual!$N46/100 -> 1012.3011 | AZ27: =AZ7*Annual!$N46/100 -> 1025.1945 | BA27: =BA7*Annual!$N46/100 -> 931.46332 | BB27: =BB7*Annual!$O46/100 -> 1132.9832 | BC27: =BC7*Annual!$O46/100 -> 1149.73 | BD27: =BD7*Annual!$O46/100 -> 1156.115 | BE27: =BE7*Annual!$O46/100 -> 1083.0794 | BF27: =BF7*Annual!P46/100 -> 1253.4935 | BG27: =BG7*Annual!P46/100 -> 1268.3125 | BH27: =BH7*Annual!P46/100 -> 1253.3131 | BI27: =BI7*Annual!P46/100 -> 1142.4283 | BJ27: =BJ7*Annual!Q46/100 -> 1348.6903 | BK27: =BK7*Annual!Q46/100 -> 1373.2611 | BL27: =BL7*Annual!Q46/100 -> 1336.27 | BM27: =BM7*Annual!Q46/100 -> 1205.3161 | BN27: =BN7*Annual!$R46/100 -> 1485.3123 | BO27: =BO7*Annual!$R46/100 -> 1535.938 | BP27: =BP7*Annual!$R46/100 -> 1485.3123 | BQ27: =BQ7*Annual!$R46/100 -> 1341.8727 | BR27: =BR7*Annual!$S46/100 -> 1463.7729 | BS27: =BS7*Annual!$S46/100 -> 1503.906 | BT27: =BT7*Annual!$S46/100 -> 1482.4836 | BU27: =BU7*Annual!$S46/100 -> 1360.7285 | BV27: =BV7*Annual!$T46/100 -> 1553.4827 | BW27: =BW7*Annual!$T46/100 -> 1653.6457 | BX27: =BX7*Annual!$T46/100 -> 1619.2573 | BY27: =BY7*Annual!$T46/100 -> 1481.1578 | BZ27: =BZ7*Annual!$U46/100 -> 1690.7159 | CA27: =CA7*Annual!$U46/100 -> 1825.2389 | CB27: =CB7*Annual!$U46/100 -> 1782.7724 | CC27: =CC7*Annual!$U46/100 -> 1621.6735 | CD27: =CD7*Annual!$V46/100 -> 1793.7749 | CE27: =CE7*Annual!$V46/100 -> 1927.4094 | CF27: =CF7*Annual!$V46/100 -> 1898.8714 | CG27: =CG7*Annual!$V46/100 -> 1733.1318 | CH27: =CH7*Annual!$W46/100 -> 1898.4188 | CI27: =CI7*Annual!$W46/100 -> 2048.0547 | CJ27: =CJ7*Annual!$W46/100 -> 2012.2303 | CK27: =CK7*Annual!$W46/100 -> 1839.1707
A28: Mining and quarrying | B28: =B8*Annual!$B47/100 -> 158.47867 | C28: =C8*Annual!$B47/100 -> 161.35628 | D28: =D8*Annual!$B47/100 -> 173.09742 | E28: =E8*Annual!$B47/100 -> 184.93409 | F28: =F8*Annual!$C47/100 -> 182.94005 | G28: =G8*Annual!$C47/100 -> 179.19128 | H28: =H8*Annual!$C47/100 -> 187.51355 | I28: =I8*Annual!$C47/100 -> 198.94731 | J28: =J8*Annual!$D47/100 -> 199.91191 | K28: =K8*Annual!$D47/100 -> 195.81203 | L28: =L8*Annual!$D47/100 -> 206.95524 | M28: =M8*Annual!$D47/100 -> 219.47776 | N28: =N8*Annual!$E47/100 -> 214.32622 | O28: =O8*Annual!$E47/100 -> 208.76988 | P28: =P8*Annual!$E47/100 -> 215.3634 | Q28: =Q8*Annual!$E47/100 -> 231.88422 | R28: =R8*Annual!$F47/100 -> 215.62894 | S28: =S8*Annual!$F47/100 -> 221.93841 | T28: =T8*Annual!$F47/100 -> 234.40319 | U28: =U8*Annual!$F47/100 -> 239.5916 | V28: =V8*Annual!$G47/100 -> 240.83704 | W28: =W8*Annual!$G47/100 -> 240.34326 | X28: =X8*Annual!$G47/100 -> 249.41408 | Y28: =Y8*Annual!$G47/100 -> 262.52125 | Z28: =Z8*Annual!H47/100 -> 265.88971 | AA28: =AA8*Annual!H47/100 -> 266.1734 | AB28: =AB8*Annual!H47/100 -> 279.61328 | AC28: =AC8*Annual!H47/100 -> 297.62768 | AD28: =AD8*Annual!$I47/100 -> 290.38077 | AE28: =AE8*Annual!$I47/100 -> 290.32826 | AF28: =AF8*Annual!$I47/100 -> 310.79896 | AG28: =AG8*Annual!$I47/100 -> 328.15879 | AH28: =AH8*Annual!$J47/100 -> 321.69626 | AI28: =AI8*Annual!$J47/100 -> 307.66179 | AJ28: =AJ8*Annual!$J47/100 -> 323.9242 | AK28: =AK8*Annual!$J47/100 -> 337.35558 | AL28: =AL8*Annual!$K47/100 -> 340.32319 | AM28: =AM8*Annual!$K47/100 -> 342.01598 | AN28: =AN8*Annual!$K47/100 -> 350.71405 | AO28: =AO8*Annual!$K47/100 -> 366.43 | AP28: =AP8*Annual!$L47/100 -> 330.82737 | AQ28: =AQ8*Annual!$L47/100 -> 332.59025 | AR28: =AR8*Annual!$L47/100 -> 361.61177 | AS28: =AS8*Annual!$L47/100 -> 380.01848 | AT28: =AT8*Annual!$M47/100 -> 377.34526 | AU28: =AU8*Annual!$M47/100 -> 380.02732 | AV28: =AV8*Annual!$M47/100 -> 410.68561 | AW28: =AW8*Annual!$M47/100 -> 441.61082 | AX28: =AX8*Annual!$N47/100 -> 454.75259 | AY28: =AY8*Annual!$N47/100 -> 464.12468 | AZ28: =AZ8*Annual!$N47/100 -> 496.46328 | BA28: =BA8*Annual!$N47/100 -> 536.17541 | BB28: =BB8*Annual!$O47/100 -> 537.89204 | BC28: =BC8*Annual!$O47/100 -> 553.91212 | BD28: =BD8*Annual!$O47/100 -> 588.57444 | BE28: =BE8*Annual!$O47/100 -> 625.42633 | BF28: =BF8*Annual!P47/100 -> 618.15636 | BG28: =BG8*Annual!P47/100 -> 616.77081 | BH28: =BH8*Annual!P47/100 -> 653.87749 | BI28: =BI8*Annual!P47/100 -> 676.73034 | BJ28: =BJ8*Annual!Q47/100 -> 706.00777 | BK28: =BK8*Annual!Q47/100 -> 720.28347 | BL28: =BL8*Annual!Q47/100 -> 782.50203 | BM28: =BM8*Annual!Q47/100 -> 777.66281 | BN28: =BN8*Annual!$W47/100 -> 779.95341 | BO28: =BO8*Annual!$W47/100 -> 801.9912 | BP28: =BP8*Annual!$W47/100 -> 839.03924 | BQ28: =BQ8*Annual!$W47/100 -> 904.4362 | BR28: =BR8*Annual!$S47/100 -> 875.15159 | BS28: =BS8*Annual!$S47/100 -> 907.45731 | BT28: =BT8*Annual!$S47/100 -> 924.19969 | BU28: =BU8*Annual!$S47/100 -> 991.87664 | BV28: =BV8*Annual!$T47/100 -> 962.10911 | BW28: =BW8*Annual!$T47/100 -> 1001.6873 | BX28: =BX8*Annual!$T47/100 -> 1008.871 | BY28: =BY8*Annual!$T47/100 -> 1073.5244 | BZ28: =BZ8*Annual!$U47/100 -> 923.58287 | CA28: =CA8*Annual!$U47/100 -> 963.53792 | CB28: =CB8*Annual!$U47/100 -> 1110.764 | CC28: =CC8*Annual!$U47/100 -> 1174.4476 | CD28: =CD8*Annual!$V47/100 -> 1023.3759 | CE28: =CE8*Annual!$V47/100 -> 1053.1353 | CF28: =CF8*Annual!$V47/100 -> 1187.9219 | CG28: =CG8*Annual!$V47/100 -> 1252.3495 | CH28: =CH8*Annual!$W47/100 -> 1082.8195 | CI28: =CI8*Annual!$W47/100 -> 1117.343 | CJ28: =CJ8*Annual!$W47/100 -> 1263.5907 | CK28: =CK8*Annual!$W47/100 -> 1339.3243
A29: Secondary Industries | B29: =SUM(B30:B32) -> 3501.3675 | C29: =SUM(C30:C32) -> 3547.7184 | D29: =SUM(D30:D32) -> 3744.1879 | E29: =SUM(E30:E32) -> 4252.2922 | F29: =SUM(F30:F32) -> 3794.2121 | G29: =SUM(G30:G32) -> 3800.6133 | H29: =SUM(H30:H32) -> 4011.8377 | I29: =SUM(I30:I32) -> 4393.9482 | ... CK29: =SUM(CK30:CK32) -> 25245.691
A30: Manufacturing | B30: =B10*Annual!$B49/100 -> 2714.5339 | C30: =C10*Annual!$B49/100 -> 2721.5667 | D30: =D10*Annual!$B49/100 -> 2907.2904 | E30: =E10*Annual!$B49/100 -> 3340.1629 | F30: =F10*Annual!$C49/100 -> 2962.7598 | G30: =G10*Annual!$C49/100 -> 2935.2999 | H30: =H10*Annual!$C49/100 -> 3119.7978 | I30: =I10*Annual!$C49/100 -> 3428.4359 | J30: =J10*Annual!$D49/100 -> 3094.0921 | K30: =K10*Annual!$D49/100 -> 3148.8563 | L30: =L10*Annual!$D49/100 -> 3288.2559 | M30: =M10*Annual!$D49/100 -> 3647.959 | N30: =N10*Annual!$E49/100 -> 3483.2963 | O30: =O10*Annual!$E49/100 -> 3574.3358 | P30: =P10*Annual!$E49/100 -> 3699.5152 | Q30: =Q10*Annual!$E49/100 -> 4171.2654 | R30: =R10*Annual!$F49/100 -> 3716.3417 | S30: =S10*Annual!$F49/100 -> 3798.1 | T30: =T10*Annual!$F49/100 -> 3897.4227 | U30: =U10*Annual!$F49/100 -> 4413.2734 | V30: =V10*Annual!$G49/100 -> 4062.2553 | W30: =W10*Annual!$G49/100 -> 4209.3243 | X30: =X10*Annual!$G49/100 -> 4328.4501 | Y30: =Y10*Annual!$G49/100 -> 4836.8886 | Z30: =Z10*Annual!H49/100 -> 4380.3941 | AA30: =AA10*Annual!H49/100 -> 4480.3658 | AB30: =AB10*Annual!H49/100 -> 4583.8584 | AC30: =AC10*Annual!H49/100 -> 5151.3706 | AD30: =AD10*Annual!$I49/100 -> 4835.3772 | AE30: =AE10*Annual!$I49/100 -> 5067.83 | AF30: =AF10*Annual!$I49/100 -> 5199.281 | AG30: =AG10*Annual!$I49/100 -> 5771.5088 | AH30: =AH10*Annual!$J49/100 -> 5219.0578 | AI30: =AI10*Annual!$J49/100 -> 5330.4337 | AJ30: =AJ10*Annual!$J49/100 -> 5397.5893 | AK30: =AK10*Annual!$J49/100 -> 6044.1062 | AL30: =AL10*Annual!$K49/100 -> 5541.1315 | AM30: =AM10*Annual!$K49/100 -> 5733.352 | AN30: =AN10*Annual!$K49/100 -> 5802.0938 | AO30: =AO10*Annual!$K49/100 -> 6463.7208 | AP30: =AP10*Annual!$L49/100 -> 5996.4153 | AQ30: =AQ10*Annual!$L49/100 -> 6105.8263 | AR30: =AR10*Annual!$L49/100 -> 6199.8199 | AS30: =AS10*Annual!$L49/100 -> 7002.0197 | AT30: =AT10*Annual!$M49/100 -> 6472.6256 | AU30: =AU10*Annual!$M49/100 -> 6743.8991 | AV30: =AV10*Annual!$M49/100 -> 6854.7556 | AW30: =AW10*Annual!$M49/100 -> 7886.5094 | AX30: =AX10*Annual!$N49/100 -> 7341.346 | AY30: =AY10*Annual!$N49/100 -> 7686.6673 | AZ30: =AZ10*Annual!$N49/100 -> 7902.2208 | BA30: =BA10*Annual!$N49/100 -> 9178.4437 | BB30: =BB10*Annual!$O49/100 -> 8417.7555 | BC30: =BC10*Annual!$O49/100 -> 8827.9767 | BD30: =BD10*Annual!$O49/100 -> 9152.4607 | BE30: =BE10*Annual!$O49/100 -> 10438.761 | BF30: =BF10*Annual!P49/100 -> 8855.4418 | BG30: =BG10*Annual!P49/100 -> 9030.3595 | BH30: =BH10*Annual!P49/100 -> 9642.3979 | BI30: =BI10*Annual!P49/100 -> 11050.353 | BJ30: =BJ10*Annual!Q49/100 -> 9890.0399 | BK30: =BK10*Annual!Q49/100 -> 10223.32 | BL30: =BL10*Annual!Q49/100 -> 10564.133 | BM30: =BM10*Annual!Q49/100 -> 12353.972 | BN30: =BN10*Annual!$R49/100 -> 10686.268 | BO30: =BO10*Annual!$R49/100 -> 10843.603 | BP30: =BP10*Annual!$R49/100 -> 11066.129 | BQ30: =BQ10*Annual!$R49/100 -> 12998.659 | BR30: =BR10*Annual!$S49/100 -> 11509.938 | BS30: =BS10*Annual!$S49/100 -> 11704.382 | BT30: =BT10*Annual!$S49/100 -> 12011.366 | BU30: =BU10*Annual!$S49/100 -> 14100.236 | BV30: =BV10*Annual!$T49/100 -> 12605.492 | BW30: =BW10*Annual!$T49/100 -> 13096.068 | BX30: =BX10*Annual!$T49/100 -> 13343.128 | BY30: =BY10*Annual!$T49/100 -> 15424.272 | BZ30: =BZ10*Annual!$U49/100 -> 13706.258 | CA30: =CA10*Annual!$U49/100 -> 14275.84 | CB30: =CB10*Annual!$U49/100 -> 14436.85 | CC30: =CC10*Annual!$U49/100 -> 16881.819 | CD30: =CD10*Annual!$V49/100 -> 14672.567 | CE30: =CE10*Annual!$V49/100 -> 15363.898 | CF30: =CF10*Annual!$V49/100 -> 15538.974 | CG30: =CG10*Annual!$V49/100 -> 18052.846 | CH30: =CH10*Annual!$W49/100 -> 15906.813 | CI30: =CI10*Annual!$W49/100 -> 16736.039 | CJ30: =CJ10*Annual!$W49/100 -> 17117.153 | CK30: =CK10*Annual!$W49/100 -> 19412.603
A31: Electricity, gas and water | B31: =B11*Annual!$B50/100 -> 169.52314 | C31: =C11*Annual!$B50/100 -> 190.91456 | D31: =D11*Annual!$B50/100 -> 200.64219 | E31: =E11*Annual!$B50/100 -> 210.79141 | F31: =F11*Annual!$C50/100 -> 207.94447 | G31: =G11*Annual!$C50/100 -> 231.97973 | H31: =H11*Annual!$C50/100 -> 244.74333 | I31: =I11*Annual!$C50/100 -> 259.17223 | J31: =J11*Annual!$D50/100 -> 228.08125 | K31: =K11*Annual!$D50/100 -> 254.98884 | L31: =L11*Annual!$D50/100 -> 265.67774 | M31: =M11*Annual!$D50/100 -> 280.44448 | N31: =N11*Annual!$E50/100 -> 227.61713 | O31: =O11*Annual!$E50/100 -> 254.86184 | P31: =P11*Annual!$E50/100 -> 268.43775 | Q31: =Q11*Annual!$E50/100 -> 289.95488 | R31: =R11*Annual!$F50/100 -> 274.63246 | S31: =S11*Annual!$F50/100 -> 284.63378 | T31: =T11*Annual!$F50/100 -> 293.42376 | U31: =U11*Annual!$F50/100 -> 352.43775 | V31: =V11*Annual!$G50/100 -> 293.439 | W31: =W11*Annual!$G50/100 -> 306.99204 | X31: =X11*Annual!$G50/100 -> 324.95769 | Y31: =Y11*Annual!$G50/100 -> 361.51937 | Z31: =Z11*Annual!H50/100 -> 310.13643 | AA31: =AA11*Annual!H50/100 -> 318.92363 | AB31: =AB11*Annual!H50/100 -> 331.68445 | AC31: =AC11*Annual!H50/100 -> 365.08873 | AD31: =AD11*Annual!$I50/100 -> 362.92562 | AE31: =AE11*Annual!$I50/100 -> 395.55867 | AF31: =AF11*Annual!$I50/100 -> 397.39009 | AG31: =AG11*Annual!$I50/100 -> 446.56365 | AH31: =AH11*Annual!$J50/100 -> 400.8665 | AI31: =AI11*Annual!$J50/100 -> 424.17119 | AJ31: =AJ11*Annual!$J50/100 -> 421.36997 | AK31: =AK11*Annual!$J50/100 -> 480.03984 | AL31: =AL11*Annual!$K50/100 -> 406.78559 | AM31: =AM11*Annual!$K50/100 -> 452.76977 | AN31: =AN11*Annual!$K50/100 -> 439.11917 | AO31: =AO11*Annual!$K50/100 -> 516.44637 | AP31: =AP11*Annual!$L50/100 -> 454.17375 | AQ31: =AQ11*Annual!$L50/100 -> 504.92339 | AR31: =AR11*Annual!$L50/100 -> 489.23159 | AS31: =AS11*Annual!$L50/100 -> 574.99063 | AT31: =AT11*Annual!$M50/100 -> 507.06998 | AU31: =AU11*Annual!$M50/100 -> 567.58053 | AV31: =AV11*Annual!$M50/100 -> 549.51106 | AW31: =AW11*Annual!$M50/100 -> 631.41877 | AX31: =AX11*Annual!$N50/100 -> 553.87183 | AY31: =AY11*Annual!$N50/100 -> 623.57606 | AZ31: =AZ11*Annual!$N50/100 -> 619.20206 | BA31: =BA11*Annual!$N50/100 -> 720.25573 | BB31: =BB11*Annual!$O50/100 -> 620.83647 | BC31: =BC11*Annual!$O50/100 -> 701.92205 | BD31: =BD11*Annual!$O50/100 -> 709.21815 | BE31: =BE11*Annual!$O50/100 -> 808.91049 | BF31: =BF11*Annual!P50/100 -> 675.26368 | BG31: =BG11*Annual!P50/100 -> 742.25014 | BH31: =BH11*Annual!P50/100 -> 809.48384 | BI31: =BI11*Annual!P50/100 -> 915.46282 | BJ31: =BJ11*Annual!Q50/100 -> 741.36736 | BK31: =BK11*Annual!Q50/100 -> 822.37924 | BL31: =BL11*Annual!Q50/100 -> 870.80014 | BM31: =BM11*Annual!Q50/100 -> 994.02511 | BN31: =BN11*Annual!$W50/100 -> 904.12078 | BO31: =BO11*Annual!$W50/100 -> 967.36686 | BP31: =BP11*Annual!$W50/100 -> 1016.6454 | BQ31: =BQ11*Annual!$W50/100 -> 1200.7339 | BR31: =BR11*Annual!$S50/100 -> 1024.8956 | BS31: =BS11*Annual!$S50/100 -> 1114.715 | BT31: =BT11*Annual!$S50/100 -> 1172.8989 | BU31: =BU11*Annual!$S50/100 -> 1373.3632 | BV31: =BV11*Annual!$T50/100 -> 1147.9263 | BW31: =BW11*Annual!$T50/100 -> 1257.3205 | BX31: =BX11*Annual!$T50/100 -> 1269.0356 | BY31: =BY11*Annual!$T50/100 -> 1523.9193 | BZ31: =BZ11*Annual!$U50/100 -> 1242.555 | CA31: =CA11*Annual!$U50/100 -> 1353.0078 | CB31: =CB11*Annual!$U50/100 -> 1357.5772 | CC31: =CC11*Annual!$U50/100 -> 1629.8489 | CD31: =CD11*Annual!$V50/100 -> 1344.0269 | CE31: =CE11*Annual!$V50/100 -> 1481.0508 | CF31: =CF11*Annual!$V50/100 -> 1476.656 | CG31: =CG11*Annual!$V50/100 -> 1767.1843 | CH31: =CH11*Annual!$W50/100 -> 1446.3421 | CI31: =CI11*Annual!$W50/100 -> 1597.4736 | CJ31: =CJ11*Annual!$W50/100 -> 1603.2803 | CK31: =CK11*Annual!$W50/100 -> 1930.6533
A32: Construction | B32: =B12*Annual!$B51/100 -> 617.31038 | C32: =C12*Annual!$B51/100 -> 635.23714 | D32: =D12*Annual!$B51/100 -> 636.2553 | E32: =E12*Annual!$B51/100 -> 701.33787 | F32: =F12*Annual!$C51/100 -> 623.5079 | G32: =G12*Annual!$C51/100 -> 633.33367 | H32: =H12*Annual!$C51/100 -> 647.29656 | I32: =I12*Annual!$C51/100 -> 706.33998 | J32: =J12*Annual!$D51/100 -> 670.41722 | K32: =K12*Annual!$D51/100 -> 700.23357 | L32: =L12*Annual!$D51/100 -> 713.95199 | M32: =M12*Annual!$D51/100 -> 786.27451 | N32: =N12*Annual!$E51/100 -> 640.81399 | O32: =O12*Annual!$E51/100 -> 670.0006 | P32: =P12*Annual!$E51/100 -> 681.16727 | Q32: =Q12*Annual!$E51/100 -> 742.38037 | R32: =R12*Annual!$F51/100 -> 639.62918 | S32: =S12*Annual!$F51/100 -> 641.67845 | T32: =T12*Annual!$F51/100 -> 644.71362 | U32: =U12*Annual!$F51/100 -> 710.02228 | V32: =V12*Annual!$G51/100 -> 642.44163 | W32: =W12*Annual!$G51/100 -> 644.27991 | X32: =X12*Annual!$G51/100 -> 665.99262 | Y32: =Y12*Annual!$G51/100 -> 730.88811 | Z32: =Z12*Annual!H51/100 -> 783.10092 | AA32: =AA12*Annual!H51/100 -> 783.30584 | AB32: =AB12*Annual!H51/100 -> 809.2018 | AC32: =AC12*Annual!H51/100 -> 891.06711 | AD32: =AD12*Annual!$I51/100 -> 615.33218 | AE32: =AE12*Annual!$I51/100 -> 628.17156 | AF32: =AF12*Annual!$I51/100 -> 661.13236 | AG32: =AG12*Annual!$I51/100 -> 744.49253 | AH32: =AH12*Annual!$J51/100 -> 672.23263 | AI32: =AI12*Annual!$J51/100 -> 698.80533 | AJ32: =AJ12*Annual!$J51/100 -> 741.02011 | AK32: =AK12*Annual!$J51/100 -> 825.63812 | AL32: =AL12*Annual!$K51/100 -> 748.40236 | AM32: =AM12*Annual!$K51/100 -> 789.93812 | AN32: =AN12*Annual!$K51/100 -> 839.43965 | AO32: =AO12*Annual!$K51/100 -> 933.70117 | AP32: =AP12*Annual!$L51/100 -> 828.20006 | AQ32: =AQ12*Annual!$L51/100 -> 935.28825 | AR32: =AR12*Annual!$L51/100 -> 987.0989 | AS32: =AS12*Annual!$L51/100 -> 1105.936 | AT32: =AT12*Annual!$M51/100 -> 974.78108 | AU32: =AU12*Annual!$M51/100 -> 1078.7251 | AV32: =AV12*Annual!$M51/100 -> 1134.1745 | AW32: =AW12*Annual!$M51/100 -> 1248.2686 | AX32: =AX12*Annual!$N51/100 -> 1230.4604 | AY32: =AY12*Annual!$N51/100 -> 1493.4882 | AZ32: =AZ12*Annual!$N51/100 -> 1569.9236 | BA32: =BA12*Annual!$N51/100 -> 1743.9641 | BB32: =BB12*Annual!$O51/100 -> 1434.3868 | BC32: =BC12*Annual!$O51/100 -> 1747.2552 | BD32: =BD12*Annual!$O51/100 -> 1862.562 | BE32: =BE12*Annual!$O51/100 -> 2017.6816 | BF32: =BF12*Annual!P51/100 -> 1630.7819 | BG32: =BG12*Annual!P51/100 -> 1940.7214 | BH32: =BH12*Annual!P51/100 -> 2050.7916 | BI32: =BI12*Annual!P51/100 -> 2322.8412 | BJ32: =BJ12*Annual!Q51/100 -> 1771.2829 | BK32: =BK12*Annual!Q51/100 -> 2129.2105 | BL32: =BL12*Annual!Q51/100 -> 2152.1546 | BM32: =BM12*Annual!Q51/100 -> 2415.0555 | BN32: =BN12*Annual!$W51/100 -> 1932.1075 | BO32: =BO12*Annual!$W51/100 -> 2250.4175 | BP32: =BP12*Annual!$W51/100 -> 2374.0146 | BQ32: =BQ12*Annual!$W51/100 -> 2571.5797 | BR32: =BR12*Annual!$S51/100 -> 2099.1792 | BS32: =BS12*Annual!$S51/100 -> 2507.437 | BT32: =BT12*Annual!$S51/100 -> 2560.5976 | BU32: =BU12*Annual!$S51/100 -> 2787.8069 | BV32: =BV12*Annual!$T51/100 -> 2376.0451 | BW32: =BW12*Annual!$T51/100 -> 2822.9976 | BX32: =BX12*Annual!$T51/100 -> 2806.8997 | BY32: =BY12*Annual!$T51/100 -> 3070.7153 | BZ32: =BZ12*Annual!$U51/100 -> 2584.0883 | CA32: =CA12*Annual!$U51/100 -> 3069.9804 | CB32: =CB12*Annual!$U51/100 -> 3066.7551 | CC32: =CC12*Annual!$U51/100 -> 3369.1807 | CD32: =CD12*Annual!$V51/100 -> 2794.6761 | CE32: =CE12*Annual!$V51/100 -> 3329.4751 | CF32: =CF12*Annual!$V51/100 -> 3310.09 | CG32: =CG12*Annual!$V51/100 -> 3609.7979 | CH32: =CH12*Annual!$W51/100 -> 3010.0641 | CI32: =CI12*Annual!$W51/100 -> 3552.1799 | CJ32: =CJ12*Annual!$W51/100 -> 3551.9898 | CK32: =CK12*Annual!$W51/100 -> 3902.435
A33: Tertiary industries | B33: =SUM(B34:B38) -> 6665.8696 | C33: =SUM(C34:C38) -> 6982.9533 | D33: =SUM(D34:D38) -> 7157.6366 | E33: =SUM(E34:E38) -> 7556.9354 | F33: =SUM(F34:F38) -> 7605.5545 | G33: =SUM(G34:G38) -> 8069.4219 | H33: =SUM(H34:H38) -> 8250.2249 | I33: =SUM(I34:I38) -> 8672.4695 | ... CK33: =SUM(CK34:CK38) -> 58480.265
A34: Wholesale & retail trade; hotels & restaurants | B34: =B14*Annual!$B53/100 -> 1247.5319 | C34: =C14*Annual!$B53/100 -> 1315.3935 | D34: =D14*Annual!$B53/100 -> 1365.7884 | E34: =E14*Annual!$B53/100 -> 1583.9389 | F34: =F14*Annual!$C53/100 -> 1408.2091 | G34: =G14*Annual!$C53/100 -> 1405.141 | H34: =H14*Annual!$C53/100 -> 1447.9331 | I34: =I14*Annual!$C53/100 -> 1646.8451 | J34: =J14*Annual!$D53/100 -> 1504.9538 | K34: =K14*Annual!$D53/100 -> 1540.2259 | L34: =L14*Annual!$D53/100 -> 1601.8366 | M34: =M14*Annual!$D53/100 -> 1842.4266 | N34: =N14*Annual!$E53/100 -> 1595.9859 | O34: =O14*Annual!$E53/100 -> 1602.2747 | P34: =P14*Annual!$E53/100 -> 1744.4639 | Q34: =Q14*Annual!$E53/100 -> 2121.6412 | R34: =R14*Annual!$F53/100 -> 1824.0772 | S34: =S14*Annual!$F53/100 -> 2001.6666 | T34: =T14*Annual!$F53/100 -> 2083.1956 | U34: =U14*Annual!$F53/100 -> 2421.3956 | V34: =V14*Annual!$G53/100 -> 2120.4206 | W34: =W14*Annual!$G53/100 -> 2293.4585 | X34: =X14*Annual!$G53/100 -> 2339.6654 | Y34: =Y14*Annual!$G53/100 -> 2689.6711 | Z34: =Z14*Annual!H53/100 -> 2360.6622 | AA34: =AA14*Annual!H53/100 -> 2432.1322 | AB34: =AB14*Annual!H53/100 -> 2468.6793 | AC34: =AC14*Annual!H53/100 -> 2811.4104 | AD34: =AD14*Annual!$I53/100 -> 2477.6002 | AE34: =AE14*Annual!$I53/100 -> 2597.5061 | AF34: =AF14*Annual!$I53/100 -> 2687.2404 | AG34: =AG14*Annual!$I53/100 -> 3129.7972 | AH34: =AH14*Annual!$J53/100 -> 2746.315 | AI34: =AI14*Annual!$J53/100 -> 2901.9764 | AJ34: =AJ14*Annual!$J53/100 -> 3010.1569 | AK34: =AK14*Annual!$J53/100 -> 3507.9722 | AL34: =AL14*Annual!$K53/100 -> 3014.6355 | AM34: =AM14*Annual!$K53/100 -> 3243.798 | AN34: =AN14*Annual!$K53/100 -> 3355.1272 | AO34: =AO14*Annual!$K53/100 -> 4039.6143 | AP34: =AP14*Annual!$L53/100 -> 3295.4888 | AQ34: =AQ14*Annual!$L53/100 -> 3491.1422 | AR34: =AR14*Annual!$L53/100 -> 3760.3688 | AS34: =AS14*Annual!$L53/100 -> 4358.0346 | AT34: =AT14*Annual!$M53/100 -> 3800.8806 | AU34: =AU14*Annual!$M53/100 -> 4028.8121 | AV34: =AV14*Annual!$M53/100 -> 4191.0168 | AW34: =AW14*Annual!$M53/100 -> 4921.645 | AX34: =AX14*Annual!$N53/100 -> 4101.6801 | AY34: =AY14*Annual!$N53/100 -> 4385.2545 | AZ34: =AZ14*Annual!$N53/100 -> 4636.2063 | BA34: =BA14*Annual!$N53/100 -> 5388.5513 | BB34: =BB14*Annual!$O53/100 -> 4558.943 | BC34: =BC14*Annual!$O53/100 -> 4974.5128 | BD34: =BD14*Annual!$O53/100 -> 5128.074 | BE34: =BE14*Annual!$O53/100 -> 5887.3055 | BF34: =BF14*Annual!P53/100 -> 4938.9728 | BG34: =BG14*Annual!P53/100 -> 5257.9299 | BH34: =BH14*Annual!P53/100 -> 5615.9909 | BI34: =BI14*Annual!P53/100 -> 6272.6549 | BJ34: =BJ14*Annual!Q53/100 -> 5380.1193 | BK34: =BK14*Annual!Q53/100 -> 5805.7101 | BL34: =BL14*Annual!Q53/100 -> 6135.0245 | BM34: =BM14*Annual!Q53/100 -> 7043.3136 | BN34: =BN14*Annual!$R53/100 -> 6098.1079 | BO34: =BO14*Annual!$R53/100 -> 6449.4364 | BP34: =BP14*Annual!$R53/100 -> 6785.4899 | BQ34: =BQ14*Annual!$R53/100 -> 7757.6207 | BR34: =BR14*Annual!$S53/100 -> 6678.3222 | BS34: =BS14*Annual!$S53/100 -> 7048.7218 | BT34: =BT14*Annual!$S53/100 -> 7351.6867 | BU34: =BU14*Annual!$S53/100 -> 8278.0948 | BV34: =BV14*Annual!$T53/100 -> 7466.1701 | BW34: =BW14*Annual!$T53/100 -> 7792.6111 | BX34: =BX14*Annual!$T53/100 -> 8054.2886 | BY34: =BY14*Annual!$T53/100 -> 9110.5081 | BZ34: =BZ14*Annual!$U53/100 -> 8115.1561 | CA34: =CA14*Annual!$U53/100 -> 8425.4212 | CB34: =CB14*Annual!$U53/100 -> 8875.0593 | CC34: =CC14*Annual!$U53/100 -> 9953.7641 | CD34: =CD14*Annual!$V53/100 -> 8731.519 | CE34: =CE14*Annual!$V53/100 -> 9010.9631 | CF34: =CF14*Annual!$V53/100 -> 9493.6992 | CG34: =CG14*Annual!$V53/100 -> 10662.957 | CH34: =CH14*Annual!$W53/100 -> 9374.218 | CI34: =CI14*Annual!$W53/100 -> 9659.0977 | CJ34: =CJ14*Annual!$W53/100 -> 10220.633 | CK34: =CK14*Annual!$W53/100 -> 11547.659
A35: Transport , storage and communication | B35: =B15*Annual!$B54/100 -> 1132.5198 | C35: =C15*Annual!$B54/100 -> 1240.0261 | D35: =D15*Annual!$B54/100 -> 1274.4125 | E35: =E15*Annual!$B54/100 -> 1352.4701 | F35: =F15*Annual!$C54/100 -> 1298.1195 | G35: =G15*Annual!$C54/100 -> 1387.8954 | H35: =H15*Annual!$C54/100 -> 1412.6724 | I35: =I15*Annual!$C54/100 -> 1495.0709 | J35: =J15*Annual!$D54/100 -> 1433.1515 | K35: =K15*Annual!$D54/100 -> 1467.0347 | L35: =L15*Annual!$D54/100 -> 1498.0884 | M35: =M15*Annual!$D54/100 -> 1581.3469 | N35: =N15*Annual!$E54/100 -> 1505.404 | O35: =O15*Annual!$E54/100 -> 1597.6517 | P35: =P15*Annual!$E54/100 -> 1609.3335 | Q35: =Q15*Annual!$E54/100 -> 1693.6496 | R35: =R15*Annual!$F54/100 -> 1550.1948 | S35: =S15*Annual!$F54/100 -> 1632.2752 | T35: =T15*Annual!$F54/100 -> 1665.786 | U35: =U15*Annual!$F54/100 -> 1746.1697 | V35: =V15*Annual!$G54/100 -> 1646.8974 | W35: =W15*Annual!$G54/100 -> 1742.7078 | X35: =X15*Annual!$G54/100 -> 1767.077 | Y35: =Y15*Annual!$G54/100 -> 1847.0579 | Z35: =Z15*Annual!H54/100 -> 1773.5712 | AA35: =AA15*Annual!H54/100 -> 1852.1628 | AB35: =AB15*Annual!H54/100 -> 1866.1896 | AC35: =AC15*Annual!H54/100 -> 1982.3237 | AD35: =AD15*Annual!$I54/100 -> 1815.9172 | AE35: =AE15*Annual!$I54/100 -> 1921.2618 | AF35: =AF15*Annual!$I54/100 -> 1952.7804 | AG35: =AG15*Annual!$I54/100 -> 2105.2352 | AH35: =AH15*Annual!$J54/100 -> 2028.8894 | AI35: =AI15*Annual!$J54/100 -> 2165.7917 | AJ35: =AJ15*Annual!$J54/100 -> 2179.772 | AK35: =AK15*Annual!$J54/100 -> 2346.9764 | AL35: =AL15*Annual!$K54/100 -> 2101.5193 | AM35: =AM15*Annual!$K54/100 -> 2227.4881 | AN35: =AN15*Annual!$K54/100 -> 2448.8726 | AO35: =AO15*Annual!$K54/100 -> 2828.3753 | AP35: =AP15*Annual!$L54/100 -> 2318.6146 | AQ35: =AQ15*Annual!$L54/100 -> 2627.1945 | AR35: =AR15*Annual!$L54/100 -> 2748.5179 | AS35: =AS15*Annual!$L54/100 -> 2866.3759 | AT35: =AT15*Annual!$M54/100 -> 2647.0923 | AU35: =AU15*Annual!$M54/100 -> 2839.2539 | AV35: =AV15*Annual!$M54/100 -> 2948.5188 | AW35: =AW15*Annual!$M54/100 -> 3167.564 | AX35: =AX15*Annual!$N54/100 -> 2927.4494 | AY35: =AY15*Annual!$N54/100 -> 3089.1774 | AZ35: =AZ15*Annual!$N54/100 -> 3248.6953 | BA35: =BA15*Annual!$N54/100 -> 3481.3649 | BB35: =BB15*Annual!$O54/100 -> 3165.9996 | BC35: =BC15*Annual!$O54/100 -> 3323.0414 | BD35: =BD15*Annual!$O54/100 -> 3527.411 | BE35: =BE15*Annual!$O54/100 -> 3677.6813 | BF35: =BF15*Annual!P54/100 -> 3271.0295 | BG35: =BG15*Annual!P54/100 -> 3465.0086 | BH35: =BH15*Annual!P54/100 -> 3723.6437 | BI35: =BI15*Annual!P54/100 -> 3933.63 | BJ35: =BJ15*Annual!Q54/100 -> 3621.2923 | BK35: =BK15*Annual!Q54/100 -> 3776.9563 | BL35: =BL15*Annual!Q54/100 -> 3996.5688 | BM35: =BM15*Annual!Q54/100 -> 4310.8419 | BN35: =BN15*Annual!$W54/100 -> 3900.6199 | BO35: =BO15*Annual!$W54/100 -> 4274.4022 | BP35: =BP15*Annual!$W54/100 -> 4385.2379 | BQ35: =BQ15*Annual!$W54/100 -> 4765.0963 | BR35: =BR15*Annual!$S54/100 -> 4207.5797 | BS35: =BS15*Annual!$S54/100 -> 4596.8649 | BT35: =BT15*Annual!$S54/100 -> 4739.2965 | BU35: =BU15*Annual!$S54/100 -> 5164.5029 | BV35: =BV15*Annual!$T54/100 -> 4825.2604 | BW35: =BW15*Annual!$T54/100 -> 5246.3855 | BX35: =BX15*Annual!$T54/100 -> 5328.8113 | BY35: =BY15*Annual!$T54/100 -> 5829.015 | BZ35: =BZ15*Annual!$U54/100 -> 5239.2098 | CA35: =CA15*Annual!$U54/100 -> 5736.6667 | CB35: =CB15*Annual!$U54/100 -> 5814.5514 | CC35: =CC15*Annual!$U54/100 -> 6400.5707 | CD35: =CD15*Annual!$V54/100 -> 5642.6826 | CE35: =CE15*Annual!$V54/100 -> 6208.5011 | CF35: =CF15*Annual!$V54/100 -> 6255.6352 | CG35: =CG15*Annual!$V54/100 -> 6909.0183 | CH35: =CH15*Annual!$W54/100 -> 6091.1436 | CI35: =CI15*Annual!$W54/100 -> 6653.7028 | CJ35: =CJ15*Annual!$W54/100 -> 6810.0042 | CK35: =CK15*Annual!$W54/100 -> 7386.8107
A36: Finance, real estate and business services | B36: =B16*Annual!$B55/100 -> 882.49166 | C36: =C16*Annual!$B55/100 -> 954.47008 | D36: =D16*Annual!$B55/100 -> 982.90284 | E36: =E16*Annual!$B55/100 -> 1041.809 | F36: =F16*Annual!$C55/100 -> 991.52103 | G36: =G16*Annual!$C55/100 -> 1079.5424 | H36: =H16*Annual!$C55/100 -> 1111.1538 | I36: =I16*Annual!$C55/100 -> 1177.644 | J36: =J16*Annual!$D55/100 -> 1153.1292 | K36: =K16*Annual!$D55/100 -> 1255.7302 | L36: =L16*Annual!$D55/100 -> 1267.7929 | M36: =M16*Annual!$D55/100 -> 1353.1822 | N36: =N16*Annual!$E55/100 -> 1406.3996 | O36: =O16*Annual!$E55/100 -> 1490.8418 | P36: =P16*Annual!$E55/100 -> 1528.8271 | Q36: =Q16*Annual!$E55/100 -> 1555.3417 | R36: =R16*Annual!$F55/100 -> 1621.1344 | S36: =S16*Annual!$F55/100 -> 1686.2579 | T36: =T16*Annual!$F55/100 -> 1715.2281 | U36: =U16*Annual!$F55/100 -> 1750.4073 | V36: =V16*Annual!$G55/100 -> 1749.6891 | W36: =W16*Annual!$G55/100 -> 1832.7002 | X36: =X16*Annual!$G55/100 -> 1886.7383 | Y36: =Y16*Annual!$G55/100 -> 1954.1121 | Z36: =Z16*Annual!H55/100 -> 1916.8699 | AA36: =AA16*Annual!H55/100 -> 2019.1928 | AB36: =AB16*Annual!H55/100 -> 2147.8729 | AC36: =AC16*Annual!H55/100 -> 2199.9414 | AD36: =AD16*Annual!$I55/100 -> 2220.674 | AE36: =AE16*Annual!$I55/100 -> 2398.4482 | AF36: =AF16*Annual!$I55/100 -> 2469.2647 | AG36: =AG16*Annual!$I55/100 -> 2492.0996 | AH36: =AH16*Annual!$J55/100 -> 2521.1356 | AI36: =AI16*Annual!$J55/100 -> 2683.9594 | AJ36: =AJ16*Annual!$J55/100 -> 2853.5552 | AK36: =AK16*Annual!$J55/100 -> 2924.5671 | AL36: =AL16*Annual!$K55/100 -> 2940.1866 | AM36: =AM16*Annual!$K55/100 -> 3081.9131 | AN36: =AN16*Annual!$K55/100 -> 3320.9463 | AO36: =AO16*Annual!$K55/100 -> 3423.8465 | AP36: =AP16*Annual!$L55/100 -> 3472.447 | AQ36: =AQ16*Annual!$L55/100 -> 3780.8726 | AR36: =AR16*Annual!$L55/100 -> 4076.8903 | AS36: =AS16*Annual!$L55/100 -> 4233.4225 | AT36: =AT16*Annual!$M55/100 -> 4002.5418 | AU36: =AU16*Annual!$M55/100 -> 4306.8582 | AV36: =AV16*Annual!$M55/100 -> 4519.066 | AW36: =AW16*Annual!$M55/100 -> 4635.8062 | AX36: =AX16*Annual!$N55/100 -> 4669.4826 | AY36: =AY16*Annual!$N55/100 -> 5002.3712 | AZ36: =AZ16*Annual!$N55/100 -> 5262.4232 | BA36: =BA16*Annual!$N55/100 -> 5533.1495 | BB36: =BB16*Annual!$O55/100 -> 5470.8578 | BC36: =BC16*Annual!$O55/100 -> 5626.9022 | BD36: =BD16*Annual!$O55/100 -> 6080.536 | BE36: =BE16*Annual!$O55/100 -> 5844.8626 | BF36: =BF16*Annual!P55/100 -> 5609.7251 | BG36: =BG16*Annual!P55/100 -> 5743.0413 | BH36: =BH16*Annual!P55/100 -> 6227.562 | BI36: =BI16*Annual!P55/100 -> 6068.8506 | BJ36: =BJ16*Annual!Q55/100 -> 6316.9444 | BK36: =BK16*Annual!Q55/100 -> 6519.6842 | BL36: =BL16*Annual!Q55/100 -> 6850.2 | BM36: =BM16*Annual!Q55/100 -> 6827.103 | BN36: =BN16*Annual!$W55/100 -> 7041.3289 | BO36: =BO16*Annual!$W55/100 -> 7256.9582 | BP36: =BP16*Annual!$W55/100 -> 7600.5627 | BQ36: =BQ16*Annual!$W55/100 -> 7532.7318 | BR36: =BR16*Annual!$S55/100 -> 7837.5378 | BS36: =BS16*Annual!$S55/100 -> 8019.4713 | BT36: =BT16*Annual!$S55/100 -> 7987.7137 | BU36: =BU16*Annual!$S55/100 -> 7939.0007 | BV36: =BV16*Annual!$T55/100 -> 8384.2413 | BW36: =BW16*Annual!$T55/100 -> 8732.524 | BX36: =BX16*Annual!$T55/100 -> 8824.7799 | BY36: =BY16*Annual!$T55/100 -> 8954.8809 | BZ36: =BZ16*Annual!$U55/100 -> 9158.1346 | CA36: =CA16*Annual!$U55/100 -> 9570.0815 | CB36: =CB16*Annual!$U55/100 -> 9688.9745 | CC36: =CC16*Annual!$U55/100 -> 10030.017 | CD36: =CD16*Annual!$V55/100 -> 10194.545 | CE36: =CE16*Annual!$V55/100 -> 10470.787 | CF36: =CF16*Annual!$V55/100 -> 10482.387 | CG36: =CG16*Annual!$V55/100 -> 10804.626 | CH36: =CH16*Annual!$W55/100 -> 11138.825 | CI36: =CI16*Annual!$W55/100 -> 11350.679 | CJ36: =CJ16*Annual!$W55/100 -> 11461.123 | CK36: =CK16*Annual!$W55/100 -> 11610.944
