Workbook

Sheet Introduction
B1: Annual GDP and GDPR
B3: Quarterly GDP and GDPR | F3: SUMMARY PAGE
B5: Seasonally adjusted and annualised quarterly GDP and GDPR | F5: SUMMARY PAGE
B7: Year-on-Year Growth Rates per Sector | F7: Sector Ratings
B9: Seasonally adjusted and annualised quarterly Rates per Sector
B11: Yearly Provincial Contribution Rates per Sector
B13: Yearly Provincial Sector as a % of National Sector GDP
B15: Ethekwini Municipal Area GDP
B17: Msunduzi Municipal Area GDP
B19: Mthlatuze Municipal Area GDP
B21: Hibiscus Coast Municipal GDP
B23: Newcastle Municipal GDP | D23: Model Assumptions
B25: Comparitive Growth Rates | D25: Stable structural relationship between SA and KZN economy
B27: Comparitive Contribution Rates | D27: Stable relationship between GDP and Fuel Consumption
B29: KZN GDP and Provincial Government Budget | D29: Fuel Consumption per R1 GDP are location insensitive
B31: KZN Socio Economic Analysis
B32: KZN Economic Analysis

Sheet Summary
A1: SUMMARY PAGE
A3: Annual GDP and GDPR
A35: Quarterly GDP and GDPR
A103: Seasonally adjusted and annualised quarterly GDP and GDPR
A163: Ethekwini Municipal Area
A196: Msunduzi Municipal Area
A230: Mthlatuze Municipal Area
A266: Hibiscus Coast Municipal Area
A302: Newcastle Municipal Area

Sheet Sector Summary
A1: SUMMARY PAGE
A3: PLEASE TAKE NOTE
A4: BLACK = NON-SEASONAL ANNUAL RATE
A5: RED = SEASONAL ANNUAL RATE

Sheet Annual
A1: Annual GDP and GDPR
A3: SA – GDP by activity
A4: Constant 2010 prices - Rand million
A5: National Industry | B5: 1995 | C5: 1996 | D5: 1997 | E5: 1998 | F5: 1999 | G5: 2000 | H5: 2001 | I5: 2002 | J5: 2003 | K5: 2004 | L5: 2005 | M5: 2006 | N5: 2007 | O5: 2008 | P5: 2009 | Q5: 2010 | R5: 2011 | S5: 2012 | T5: 2013 | U5: 2014 | V5: 2015 | W5: 2016
A6: Primary Industries | B6: =SUM(B7:B8) -> 275336.39 | C6: =SUM(C7:C8) -> 283235.14 | D6: =SUM(D7:D8) -> 287646.08 | E6: =SUM(E7:E8) -> 284708.42 | F6: =SUM(F7:F8) -> 284390.32 | G6: =SUM(G7:G8) -> 284234.7 | H6: =SUM(H7:H8) -> 282233.28 | I6: =SUM(I7:I8) -> 287909.62 | ... W6: =SUM(W7:W8) -> 291143 | X6: =W6/W$21*100 -> 9.4783664 | Y6: =N6/N$21*100 -> 11.422823 | Z6: =S6/S$21*100 -> 9.999152 | AA6: =T6/T$21*100 -> 10.154233 | AB6: =U6/U$21*100 -> 10.039037 | AC6: =W6/W$21*100 -> 9.4783664
A7: Agriculture, forestry and fishing | B7: 40731.596 | C7: 50507.179 | D7: 50961.743 | E7: 48260.771 | F7: 51252.939 | G7: 53661.827 | H7: 51890.986 | I7: 55263.901 | J7: 55640.286 | K7: 56118.481 | L7: 57695.29 | M7: 54543.523 | N7: 56168.463 | O7: 67071.609 | P7: 65802.425 | Q7: 65605 | R7: 66913 | S7: 68093 | T7: 71143 | U7: 76041 | V7: 71418 | W7: 65843 | X7: =W7/W$21*100 -> 2.1435655 | Y7: =N7/N$21*100 -> 2.1398806 | Z7: =S7/S$21*100 -> 2.3471636 | AA7: =T7/T$21*100 -> 2.3927351 | AB7: =U7/U$21*100 -> 2.514728 | AC7: =W7/W$21*100 -> 2.1435655
A8: Mining and quarrying | B8: 234604.8 | C8: 232727.96 | D8: 236684.33 | E8: 236447.65 | F8: 233137.38 | G8: 230572.87 | H8: 230342.3 | I8: 232645.72 | J8: 240547.25 | K8: 244179 | L8: 246684.77 | M8: 245224 | N8: 243662.48 | O8: 230662.83 | P8: 218830.36 | Q8: 230350 | R8: 228646 | S8: 221990 | T8: 230772 | U8: 227522 | V8: 236457 | W8: 225300 | X8: =W8/W$21*100 -> 7.3348009 | Y8: =N8/N$21*100 -> 9.2829427 | Z8: =S8/S$21*100 -> 7.6519884 | AA8: =T8/T$21*100 -> 7.761498 | AB8: =U8/U$21*100 -> 7.5243086 | AC8: =W8/W$21*100 -> 7.3348009
A9: Secondary Industries | B9: =SUM(B10:B12) -> 343514.26 | C9: =SUM(C10:C12) -> 353393.94 | D9: =SUM(D10:D12) -> 363929.18 | E9: =SUM(E10:E12) -> 357126.12 | F9: =SUM(F10:F12) -> 357859.67 | G9: =SUM(G10:G12) -> 383106.94 | H9: =SUM(H10:H12) -> 392190.17 | I9: =SUM(I10:I12) -> 404900.7 | ... W9: =SUM(W10:W12) -> 556935 | X9: =W9/W$21*100 -> 18.131413 | Y9: =N9/N$21*100 -> 19.804787 | Z9: =S9/S$21*100 -> 18.765175 | AA9: =T9/T$21*100 -> 18.574698 | AB9: =U9/U$21*100 -> 18.388227 | AC9: =W9/W$21*100 -> 18.131413
A10: Manufacturing | B10: 251055.1 | C10: 254569.87 | D10: 261443.26 | E10: 260920.37 | F10: 262485.89 | G10: 283747.25 | H10: 292827.16 | I10: 301026.32 | J10: 296498.17 | K10: 311010.69 | L10: 330306.32 | M10: 351572.05 | N10: 370389.34 | O10: 378964.09 | P10: 338691.7 | Q10: 358699 | R10: 369582 | S10: 377330 | T10: 381173 | U10: 382006 | V10: 381078 | W10: 383639 | X10: =W10/W$21*100 -> 12.489639 | Y10: =N10/N$21*100 -> 14.110925 | Z10: =S10/S$21*100 -> 13.006553 | AA10: =T10/T$21*100 -> 12.819898 | AB10: =U10/U$21*100 -> 12.6332 | AC10: =W10/W$21*100 -> 12.489639
A11: Electricity, gas and water | B11: 51240.215 | C11: 56774.158 | D11: 58988.35 | E11: 55272.084 | F11: 54995.724 | G11: 56700.591 | H11: 54602.669 | I11: 56513.763 | J11: 58181.239 | K11: 62128.855 | L11: 65450.325 | M11: 67688.431 | N11: 70000 | O11: 67522 | P11: 66337 | Q11: 67940 | R11: 68978 | S11: 68733 | T11: 68289 | U11: 67515 | V11: 66484 | W11: 64164 | X11: =W11/W$21*100 -> 2.0889044 | Y11: =N11/N$21*100 -> 2.6668282 | Z11: =S11/S$21*100 -> 2.3692244 | AA11: =T11/T$21*100 -> 2.2967472 | AB11: =U11/U$21*100 -> 2.2327674 | AC11: =W11/W$21*100 -> 2.0889044
A12: Construction | B12: 41218.949 | C12: 42049.913 | D12: 43497.575 | E12: 40933.665 | F12: 40378.05 | G12: 42659.101 | H12: 44760.336 | I12: 47360.614 | J12: 51001.377 | K12: 55646.823 | L12: 62280.636 | M12: 68780.384 | N12: 79454.824 | O12: 87300.371 | P12: 94759.083 | Q12: 95453 | R12: 95860 | S12: 98329 | T12: 102818 | U12: 106507 | V12: 108353 | W12: 109132 | X12: =W12/W$21*100 -> 3.5528695 | Y12: =N12/N$21*100 -> 3.0270338 | Z12: =S12/S$21*100 -> 3.3893976 | AA12: =T12/T$21*100 -> 3.4580526 | AB12: =U12/U$21*100 -> 3.5222595 | AC12: =W12/W$21*100 -> 3.5528695
A13: Tertiary industries | B13: =SUM(B14:B18) -> 960953.41 | C13: =SUM(C14:C18) -> 1000115.9 | D13: =SUM(D14:D18) -> 1024062.7 | E13: =SUM(E14:E18) -> 1043337.1 | F13: =SUM(F14:F18) -> 1082416.6 | G13: =SUM(G14:G18) -> 1124445.8 | H13: =SUM(H14:H18) -> 1162130.1 | I13: =SUM(I14:I18) -> 1207340 | ... W13: =SUM(W14:W18) -> 1945596 | X13: =W13/W$21*100 -> 63.340255 | Y13: =N13/N$21*100 -> 59.481846 | Z13: =S13/S$21*100 -> 61.980658 | AA13: =T13/T$21*100 -> 62.078935 | AB13: =U13/U$21*100 -> 62.463416 | AC13: =W13/W$21*100 -> 63.340255
A14: Wholesale & retail trade; hotels & restaurants | B14: 212794.61 | C14: 220668.01 | D14: 221550.68 | E14: 224430.84 | F14: 241487.59 | G14: 261048.08 | H14: 266007.99 | I14: 272126.18 | J14: 279380.41 | K14: 294460.74 | L14: 315210.31 | M14: 333998.57 | N14: 352697.83 | O14: 358880.34 | P14: 354870.48 | Q14: 370580 | R14: 385696 | S14: 400938 | T14: 408968 | U14: 415480 | V14: 421407 | W14: 426525 | X14: =W14/W$21*100 -> 13.885823 | Y14: =N14/N$21*100 -> 13.436922 | Z14: =S14/S$21*100 -> 13.82032 | AA14: =T14/T$21*100 -> 13.75472 | AB14: =U14/U$21*100 -> 13.740209 | AC14: =W14/W$21*100 -> 13.885823
A15: Transport , storage and communication | B15: 103921.26 | C15: 110260.46 | D15: 118640.26 | E15: 125165.47 | F15: 131674.08 | G15: 142603.02 | H15: 151016.6 | I15: 164608.1 | J15: 175057.16 | K15: 183612.69 | L15: 193333.73 | M15: 203224.44 | N15: 218488.43 | O15: 226135.87 | P15: 225711.74 | Q15: 229499 | R15: 237442 | S15: 243188 | T15: 250129 | U15: 258023 | V15: 260932 | W15: 261952 | X15: =W15/W$21*100 -> 8.5280327 | Y15: =N15/N$21*100 -> 8.3238732 | Z15: =S15/S$21*100 -> 8.3826828 | AA15: =T15/T$21*100 -> 8.4125273 | AB15: =U15/U$21*100 -> 8.5329976 | AC15: =W15/W$21*100 -> 8.5280327
A16: Finance, real estate and business services | B16: 243687.77 | C16: 260222.88 | D16: 272469.2 | E16: 278741.59 | F16: 292986.84 | G16: 302304.49 | H16: 326995.31 | I16: 347518.67 | J16: 364196.89 | K16: 389889.27 | L16: 412148.51 | M16: 451896.31 | N16: 484674.59 | O16: 511716.48 | P16: 517114.31 | Q16: 523526 | R16: 545802 | S16: 562042 | T16: 576707 | U16: 589314 | V16: 605550 | W16: 617168 | X16: =W16/W$21*100 -> 20.092341 | Y16: =N16/N$21*100 -> 18.464913 | Z16: =S16/S$21*100 -> 19.37357 | AA16: =T16/T$21*100 -> 19.396245 | AB16: =U16/U$21*100 -> 19.489018 | AC16: =W16/W$21*100 -> 20.092341
A17: Personal services | B17: 93458.786 | C17: 95943.108 | D17: 95911.718 | E17: 101869.01 | F17: 105810.46 | G17: 110908.44 | H17: 113401.96 | I17: 116195.9 | J17: 122654 | K17: 124796.44 | L17: 129534.87 | M17: 136298 | N17: 143807 | O17: 149216.21 | P17: 148015 | Q17: 148561 | R17: 152226 | S17: 155472 | T17: 159530 | U17: 162653 | V17: 164439 | W17: 166359 | X17: =W17/W$21*100 -> 5.415935 | Y17: =N17/N$21*100 -> 5.4786938 | Z17: =S17/S$21*100 -> 5.359115 | AA17: =T17/T$21*100 -> 5.3654333 | AB17: =U17/U$21*100 -> 5.3790463 | AC17: =W17/W$21*100 -> 5.415935
A18: General government services | B18: 307090.98 | C18: 313021.42 | D18: 315490.85 | E18: 313130.15 | F18: 310457.6 | G18: 307581.77 | H18: 304708.25 | I18: 306891.11 | J18: 315383.62 | K18: 321418.24 | L18: 335265.07 | M18: 345531 | N18: 361636 | O18: 381768 | P18: 393921 | Q18: 404647 | R18: 423833 | S18: 436466 | T18: 450454 | U18: 463315 | V18: 467062 | W18: 473592 | X18: =W18/W$21*100 -> 15.418123 | Y18: =N18/N$21*100 -> 13.777444 | Z18: =S18/S$21*100 -> 15.04497 | AA18: =T18/T$21*100 -> 15.150009 | AB18: =U18/U$21*100 -> 15.322145 | AC18: =W18/W$21*100 -> 15.418123
A19: All industries at basic prices | B19: =B13+B9+B6 -> 1579804.1 | C19: =C13+C9+C6 -> 1636745 | D19: =D13+D9+D6 -> 1675638 | E19: =E13+E9+E6 -> 1685171.6 | F19: =F13+F9+F6 -> 1724666.5 | G19: =G13+G9+G6 -> 1791787.4 | H19: =H13+H9+H6 -> 1836553.6 | I19: =I13+I9+I6 -> 1900150.3 | ... W19: =W13+W9+W6 -> 2793674 | X19: =W19/W$21*100 -> 90.950034
A20: Taxes less subsidies on products | B20: 172092.4 | C20: 180501.72 | D20: 185774.79 | E20: 183658.74 | F20: 182665.91 | G20: 185548.64 | H20: 188216.11 | I20: 193319.04 | J20: 198504.6 | K20: 208477.91 | L20: 218873.49 | M20: 232539 | N20: 243862 | O20: 249363 | P20: 242887 | Q20: 253148 | R20: 263280 | S20: 268495 | T20: 273309 | U20: 275450 | V20: 279921 | W20: 277984 | X20: =W20/W$21*100 -> 9.0499658
A21: SA - GDP at constant 2010 prices | B21: =B19+B20 -> 1751896.5 | C21: =C19+C20 -> 1817246.7 | D21: =D19+D20 -> 1861412.8 | E21: =E19+E20 -> 1868830.3 | F21: =F19+F20 -> 1907332.4 | G21: =G19+G20 -> 1977336.1 | H21: =H19+H20 -> 2024769.7 | I21: =I19+I20 -> 2093469.3 | ... W21: =W19+W20 -> 3071658 | X21: =W21/W$21*100 -> 100
A23: KZN – GDPR by activity
A24: Constant 2010 prices - Rand million
A25: Provincial Industry | B25: 1995 | C25: 1996 | D25: 1997 | E25: 1998 | F25: 1999 | G25: 2000 | H25: 2001 | I25: 2002 | J25: 2003 | K25: 2004 | L25: 2005 | M25: 2006 | N25: 2007 | O25: 2008 | P25: 2009 | Q25: 2010 | R25: 2011 | S25: 2012 | T25: 2013 | U25: 2014 | V25: 2015 | W25: 2016
A26: Primary Industries | B26: 21852.784 | C26: 27703.05 | D26: 27806.333 | E26: 27742.534 | F26: 23573.963 | G26: 23825.489 | H26: 23277.519 | I26: 22944.505 | J26: 24190.633 | K26: 24412.128 | L26: 22949.77 | M26: 22747.481 | N26: 23442.173 | O26: =SUM(O27:O28) -> 25453.317 | P26: =SUM(P27:P28) -> 24541.606 | Q26: =SUM(Q27:Q28) -> 25676 | R26: =SUM(R27:R28) -> 27362 | S26: =SUM(S27:S28) -> 27978 | T26: =SUM(T27:T28) -> 29321 | U26: =SUM(U27:U28) -> 31763 | V26: =SUM(V27:V28) -> 29763 | W26: =SUM(W27:W28) -> 26784.541
A27: Agriculture, forestry and fishing | B27: 11917.285 | C27: 13863.781 | D27: 13814.183 | E27: 13939.449 | F27: 13572.867 | G27: 14082.409 | H27: 14032.405 | I27: 14685.31 | J27: 15446.463 | K27: 15492.815 | L27: 14588.582 | M27: 14665.741 | N27: 15329.064 | O27: 17872.418 | P27: 17303.054 | Q27: 17714 | R27: 19470 | S27: 19920 | T27: 20917 | U27: 22661 | V27: 21015 | W27: =W7*AB27/100 -> 19127.182 | Y27: =T27/T7*100 -> 29.401347 | Z27: =U27/U7*100 -> 29.801028 | AA27: =V27/V7*100 -> 29.425355 | AB27: =AA27+(AA27-Z27) -> 29.049682
A28: Mining and quarrying | B28: 9935.4987 | C28: 13839.268 | D28: 13992.151 | E28: 13803.084 | F28: 10001.095 | G28: 9743.0802 | H28: 9245.1145 | I28: 8259.1954 | J28: 8744.1703 | K28: 8919.3129 | L28: 8361.1884 | M28: 8081.7399 | N28: 8113.1091 | O28: 7580.8997 | P28: 7238.5517 | Q28: 7962 | R28: 7892 | S28: 8058 | T28: 8404 | U28: 9102 | V28: 8748 | W28: =W8*AB28/100 -> 7657.3587 | Y28: =T28/T8*100 -> 3.6416896 | Z28: =U28/U8*100 -> 4.0004923 | AA28: =V28/V8*100 -> 3.6996156 | AB28: =AA28+(AA28-Z28) -> 3.3987389
A29: Secondary Industries | B29: 69677.692 | C29: 71344.419 | D29: 73600.635 | E29: 71639.628 | F29: 71998.905 | G29: 77546.561 | H29: 82267.185 | I29: 82349.715 | J29: 81003.296 | K29: 85509.394 | L29: 91599.633 | M29: 97025.007 | N29: 103271.93 | O29: 105995.61 | P29: 98872.305 | Q29: 103840.11 | R29: =SUM(R30:R32) -> 106260 | S29: =SUM(S30:S32) -> 108401 | T29: =SUM(T30:T32) -> 110354 | U29: =SUM(U30:U32) -> 111229 | V29: =SUM(V30:V32) -> 111510 | W29: =SUM(W30:W32) -> 112124.45 | Y29: =T29/T9*100 -> 19.981531 | Z29: =U29/U9*100 -> 20.004208 | AA29: =V29/V9*100 -> 20.058822 | AB29: =AA29+(AA29-Z29) -> 20.113435
A30: Manufacturing | B30: 51622.49 | C30: 52524.844 | D30: 53917.267 | E30: 53674.552 | F30: 54535.071 | G30: 59219.606 | H30: 60982.056 | I30: 62589.302 | J30: 62015.95 | K30: 64930.808 | L30: 68936.255 | M30: 73097.363 | N30: 77062.172 | O30: 78786.467 | P30: 70587.78 | Q30: 75045 | R30: 77251 | S30: 78888 | T30: 79868 | U30: 80138 | V30: 80191 | W30: =W10*AB30/100 -> 80979.259 | Y30: =T30/T10*100 -> 20.953215 | Z30: =U30/U10*100 -> 20.978205 | AA30: =V30/V10*100 -> 21.043199 | AB30: =AA30+(AA30-Z30) -> 21.108192
A31: Electricity, gas and water | B31: 8410.2231 | C31: 9341.5013 | D31: 9663.2213 | E31: 9072.6479 | F31: 9077.977 | G31: 9610.6014 | H31: 9595.6979 | I31: 10526.844 | J31: 9315.2118 | K31: 9996.9391 | L31: 10647.837 | M31: 10999.41 | N31: 11324.558 | O31: 10814.474 | P31: 10332.457 | Q31: 10544 | R31: 10660 | S31: 10657 | T31: 10635 | U31: 10469 | V31: 10259 | W31: =W11*AB31/100 -> 9852.624 | Y31: =T31/T11*100 -> 15.573518 | Z31: =U31/U11*100 -> 15.506184 | AA31: =V31/V11*100 -> 15.43078 | AB31: =AA31+(AA31-Z31) -> 15.355377
A32: Construction | B32: 9644.9795 | C32: 9478.0736 | D32: 10020.147 | E32: 8892.4279 | F32: 8385.8566 | G32: 8716.3533 | H32: 11689.431 | I32: 9233.5693 | J32: 9672.135 | K32: 10581.646 | L32: 12015.541 | M32: 12928.233 | N32: 14885.204 | O32: 16394.672 | P32: 17952.068 | Q32: 18251 | R32: 18349 | S32: 18856 | T32: 19851 | U32: 20622 | V32: 21060 | W32: =W12*AB32/100 -> 21292.565 | Y32: =T32/T12*100 -> 19.306931 | Z32: =U32/U12*100 -> 19.362108 | AA32: =V32/V12*100 -> 19.436472 | AB32: =AA32+(AA32-Z32) -> 19.510835
A33: Tertiary industries | B33: 149290.37 | C33: 155435.67 | D33: 157291.31 | E33: 161200.32 | F33: 165766.64 | G33: 171565.64 | H33: 180626.5 | I33: 187357.47 | J33: 195815.57 | K33: 204307.23 | L33: 217832.54 | M33: 230092.75 | N33: 245043.46 | O33: 255163.98 | P33: 258302.42 | Q33: 264974.01 | R33: =SUM(R34:R38) -> 275810 | S33: =SUM(S34:S38) -> 283854 | T33: =SUM(T34:T38) -> 291231 | U33: =SUM(U34:U38) -> 298356 | V33: =SUM(V34:V38) -> 303119 | W33: =SUM(W34:W38) -> 307173.12 | Y33: =T33/T13*100 -> 15.778139 | Z33: =U33/U13*100 -> 15.796186 | AA33: =V33/V13*100 -> 15.792465 | AB33: =AA33+(AA33-Z33) -> 15.788744
A34: Wholesale & retail trade; hotels & restaurants | B34: 32946.139 | C34: 33686.453 | D34: 33873.151 | E34: 34171.547 | F34: 36615.988 | G34: 39634.699 | H34: 42730.814 | I34: 43777.429 | J34: 45296.046 | K34: 47758.766 | L34: 50847.944 | M34: 54102.604 | N34: 57397.731 | O34: 58237.357 | P34: 58358.628 | Q34: 60988 | R34: 63989 | S34: 66356 | T34: 67378 | U34: 68397 | V34: 69792 | W34: =W14*AB34/100 -> 71064.006 | Y34: =T34/T14*100 -> 16.475128 | Z34: =U34/U14*100 -> 16.462164 | AA34: =V34/V14*100 -> 16.561661 | AB34: =AA34+(AA34-Z34) -> 16.661158
A35: Transport , storage and communication | B35: 23266.489 | C35: 24305.849 | D35: 25657.226 | E35: 26819.151 | F35: 27771.639 | G35: 29564.146 | H35: 30839.484 | I35: 33724.561 | J35: 36082.261 | K35: 37698.351 | L35: 39928.426 | M35: 42004.795 | N35: 45492.473 | O35: 47186.183 | P35: 47236.527 | Q35: 48277 | R35: 49874 | S35: 51215 | T35: 52729 | U35: 54240 | V35: 54907 | W35: =W15*AB35/100 -> 55177.34 | Y35: =T35/T15*100 -> 21.080722 | Z35: =U35/U15*100 -> 21.021382 | AA35: =V35/V15*100 -> 21.042647 | AB35: =AA35+(AA35-Z35) -> 21.063912
A36: Finance, real estate and business services | B36: 32091.992 | C36: 34332.793 | D36: 35809.15 | E36: 36389.272 | F36: 38573.884 | G36: 38871.488 | H36: 42714.152 | I36: 44873.269 | J36: 47381.501 | K36: 50804.852 | L36: 56177.866 | M36: 60500.627 | N36: 64929.112 | O36: 68719.03 | P36: 69849.973 | Q36: 70713 | R36: 73766 | S36: 75289 | T36: 77189 | U36: 78702 | V36: 80454 | W36: =W16*AB36/100 -> 81573.299 | Y36: =T36/T16*100 -> 13.38444 | Z36: =U36/U16*100 -> 13.35485 | AA36: =V36/V16*100 -> 13.286104 | AB36: =AA36+(AA36-Z36) -> 13.217357
A37: Personal services | B37: 15445.566 | C37: 15847.336 | D37: 15831.534 | E37: 16815.436 | F37: 17437.373 | G37: 18258.112 | H37: 18683.867 | I37: 19134.193 | J37: 20200.239 | K37: 20557.437 | L37: 21251.659 | M37: 22379.18 | N37: 23589.024 | O37: 24430.519 | P37: 24410.587 | Q37: 24558 | R37: 25273 | S37: 25874 | T37: 26594 | U37: 27241 | V37: 27646 | W37: =W17*AB37/100 -> 28075.915 | Y37: =T37/T17*100 -> 16.670219 | Z37: =U37/U17*100 -> 16.747923 | AA37: =V37/V17*100 -> 16.812313 | AB37: =AA37+(AA37-Z37) -> 16.876703
A38: General government services | B38: 45540.186 | C38: 47263.239 | D38: 46120.249 | E38: 47004.915 | F38: 45367.76 | G38: 45237.199 | H38: 45658.179 | I38: 45848.019 | J38: 46855.527 | K38: 47487.823 | L38: 49626.64 | M38: 51105.541 | N38: 53635.115 | O38: 56590.888 | P38: 58446.708 | Q38: 60439 | R38: 62908 | S38: 65120 | T38: 67341 | U38: 69776 | V38: 70320 | W38: =W18*AB38/100 -> 71282.557 | Y38: =T38/T18*100 -> 14.949584 | Z38: =U38/U18*100 -> 15.060164 | AA38: =V38/V18*100 -> 15.055817 | AB38: =AA38+(AA38-Z38) -> 15.05147
A39: All industries at basic prices | B39: 240820.85 | C39: 254483.14 | D39: 258698.28 | E39: 260582.48 | F39: 261339.51 | G39: 272937.69 | H39: 286171.2 | I39: 292651.69 | J39: 301009.5 | K39: 314228.75 | L39: 332381.94 | M39: 349865.23 | N39: 371757.56 | O39: =O33+O29+O26 -> 386612.91 | P39: =P33+P29+P26 -> 381716.34 | Q39: =Q33+Q29+Q26 -> 394490.12 | R39: =R33+R29+R26 -> 409432 | S39: =S33+S29+S26 -> 420233 | T39: =T33+T29+T26 -> 430906 | U39: =U33+U29+U26 -> 441348 | V39: =V33+V29+V26 -> 444392 | W39: =W33+W29+W26 -> 446082.1 | Y39: =T39/T19*100 -> 15.959582 | Z39: =U39/U19*100 -> 16.058501 | AA39: =V39/V19*100 -> 15.967059 | AB39: =AA39+(AA39-Z39) -> 15.875617
A40: Taxes less subsidies on products | B40: 26240.839 | C40: 27619.245 | D40: 28381.331 | E40: 28222.347 | F40: 27668.618 | G40: 28373.653 | H40: 30140.802 | I40: 29999.17 | J40: 30494.647 | K40: 31950.408 | L40: 33392.978 | M40: 35532.645 | N40: 37152.101 | O40: 38027.059 | P40: 37162.869 | Q40: 39356 | R40: 40393 | S40: 41370 | T40: 42334 | U40: 42726 | V40: 43470 | W40: =W20*AB40/100 -> 43219.334 | Y40: =T40/T20*100 -> 15.489428 | Z40: =U40/U20*100 -> 15.511345 | AA40: =V40/V20*100 -> 15.529382 | AB40: =AA40+(AA40-Z40) -> 15.547418
A41: KZN - GDPR at constant 2010 prices | B41: 267061.69 | C41: 282102.38 | D41: 287079.61 | E41: 288804.83 | F41: 289008.13 | G41: 301311.35 | H41: 316312 | I41: 322650.86 | J41: 331504.15 | K41: 346179.16 | L41: 365774.92 | M41: 385397.88 | N41: 408909.66 | O41: =O39+O40 -> 424639.97 | P41: =P39+P40 -> 418879.2 | Q41: =Q39+Q40 -> 433846.12 | R41: =R39+R40 -> 449825 | S41: =S39+S40 -> 461603 | T41: =T39+T40 -> 473240 | U41: =U39+U40 -> 484074 | V41: =V39+V40 -> 487862 | W41: =W39+W40 -> 489301.44 | Y41: =T41/T21*100 -> 15.916365 | Z41: =U41/U21*100 -> 16.008659 | AA41: =V41/V21*100 -> 15.927062 | AB41: =AA41+(AA41-Z41) -> 15.845465
A43: Structure Relationship | Y43: =FV(0.06,20,,W41) -> -1569256
...

Sheet Quarterly
A1: Quarterly GDP and GDPR
A3: SA – GDP by activity
A4: Constant 2010 prices - Rand million
A5: National Industry | B5: 1995q1 | C5: 1995q2 | D5: 1995q3 | E5: 1995q4 | F5: 1996q1 | G5: 1996q2 | H5: 1996q3 | I5: 1996q4 | J5: 1997q1 | K5: 1997q2 | L5: 1997q3 | M5: 1997q4 | N5: 1998q1 | O5: 1998q2 | P5: 1998q3 | Q5: 1998q4 | R5: 1999q1 | S5: 1999q2 | T5: 1999q3 | U5: 1999q4 | V5: 2000q1 | W5: 2000q2 | X5: 2000q3 | Y5: 2000q4 | Z5: 2001q1 | AA5: 2001q2 | AB5: 2001q3 | AC5: 2001q4 | AD5: 2002q1 | AE5: 2002q2 | AF5: 2002q3 | AG5: 2002q4 | AH5: 2003q1 | AI5: 2003q2 | AJ5: 2003q3 | AK5: 2003q4 | AL5: 2004q1 | AM5: 2004q2 | AN5: 2004q3 | AO5: 2004q4 | AP5: 2005q1 | AQ5: 2005q2 | AR5: 2005q3 | AS5: 2005q4 | AT5: 2006q1 | AU5: 2006q2 | AV5: 2006q3 | AW5: 2006q4 | AX5: 2007q1 | AY5: 2007q2 | AZ5: 2007q3 | BA5: 2007q4 | BB5: 2008q1 | BC5: 2008q2 | BD5: 2008q3 | BE5: 2008q4 | BF5: 2009q1 | BG5: 2009q2 | BH5: 2009q3 | BI5: 2009q4 | BJ5: 2010q1 | BK5: 2010q2 | BL5: 2010q3 | BM5: 2010q4 | BN5: 2011q1 | BO5: 2011q2 | BP5: 2011q3 | BQ5: 2011q4 | BR5: 2012q1 | BS5: 2012q2 | BT5: 2012q3 | BU5: 2012q4 | BV5: 2013q1 | BW5: 2013q2 | BX5: 2013q3 | BY5: 2013q4 | BZ5: 2014q1 | CA5: 2014q2 | CB5: 2014q3 | CC5: 2014q4 | CD5: 2015q1 | CE5: 2015q2 | CF5: 2015q3 | CG5: 2015q4 | CH5: 2016q1 | CI5: 2016q2 | CJ5: 2016q3 | CK5: 2016q4
A6: Primary Industries | B6: =SUM(B7:B8) -> 66451.388 | C6: =SUM(C7:C8) -> 69582.845 | D6: =SUM(D7:D8) -> 71297.39 | E6: =SUM(E7:E8) -> 68005.396 | F6: =SUM(F7:F8) -> 66542.205 | G6: =SUM(G7:G8) -> 76676.168 | H6: =SUM(H7:H8) -> 72285.846 | I6: =SUM(I7:I8) -> 67731.541 | ... CK6: =SUM(CK7:CK8) -> 69779
A7: Agriculture, forestry and fishing | B7: 7808.6148 | C7: 11347.134 | D7: 12167.747 | E7: 9408.0997 | F7: 8573.7264 | G7: 19103.301 | H7: 13679.614 | I7: 9150.5374 | J7: 9466.7634 | K7: 18725.188 | L7: 13582.279 | M7: 9187.513 | N7: 9162.8312 | O7: 18080.503 | P7: 13113.338 | Q7: 7904.0988 | R7: 10054.371 | S7: 19983.855 | T7: 13977.512 | U7: 7237.2013 | V7: 8541.3628 | W7: 17124.159 | X7: 19090.928 | Y7: 8905.3771 | Z7: 9491.5501 | AA7: 19794.365 | AB7: 15172.844 | AC7: 7432.2272 | AD7: 10381.456 | AE7: 21742.441 | AF7: 14285.686 | AG7: 8854.3178 | AH7: 9534.5886 | AI7: 24048.574 | AJ7: 15012.234 | AK7: 7044.8901 | AL7: 9590.1209 | AM7: 21819.569 | AN7: 16496.18 | AO7: 8212.6111 | AP7: 11050.621 | AQ7: 20247.388 | AR7: 18072.372 | AS7: 8324.9098 | AT7: 11298.216 | AU7: 18265.598 | AV7: 15860.192 | AW7: 9119.513 | AX7: 11700.973 | AY7: 18877.074 | AZ7: 16246.529 | BA7: 9343.884 | BB7: 14448.318 | BC7: 22623.534 | BD7: 19281.361 | BE7: 10718.397 | BF7: 14121.695 | BG7: 21764.437 | BH7: 18713.038 | BI7: 11203.26 | BJ7: 14236 | BK7: 22159 | BL7: 18301 | BM7: 10908 | BN7: 14186 | BO7: 22233 | BP7: 19004 | BQ7: 11489 | BR7: 14871 | BS7: 23588 | BT7: 18372 | BU7: 11262 | BV7: 15894 | BW7: 25651 | BX7: 18224 | BY7: 11374 | BZ7: 15806 | CA7: 27664 | CB7: 20595 | CC7: 11977 | CD7: 17620 | CE7: 25745 | CF7: 16708 | CG7: 11345 | CH7: 16772 | CI7: 21623 | CJ7: 15835 | CK7: 11614
A8: Mining and quarrying | B8: 58642.774 | C8: 58235.712 | D8: 59129.642 | E8: 58597.296 | F8: 57968.478 | G8: 57572.867 | H8: 58606.232 | I8: 58581.003 | J8: 57740.205 | K8: 58897.155 | L8: 60135.332 | M8: 59912.274 | N8: 59095.22 | O8: 59099.875 | P8: 59276.524 | Q8: 58976.662 | R8: 57763.478 | S8: 58056.963 | T8: 58627.176 | U8: 58690.388 | V8: 57126.055 | W8: 57821.901 | X8: 57789.317 | Y8: 57836.214 | Z8: 56774.455 | AA8: 58066.278 | AB8: 58101.189 | AC8: 57400.991 | AD8: 56490.857 | AE8: 58043.464 | AF8: 58892.965 | AG8: 59219.057 | AH8: 58130.651 | AI8: 60091.113 | AJ8: 61306.015 | AK8: 61020.117 | AL8: 61019.906 | AM8: 60856.825 | AN8: 62702.452 | AO8: 59600.472 | AP8: 63571.039 | AQ8: 62327.859 | AR8: 61526.536 | AS8: 59259.998 | AT8: 60131.256 | AU8: 60856.401 | AV8: 61270.299 | AW8: 62966.695 | AX8: 61301.183 | AY8: 60768.499 | AZ8: 61090.631 | BA8: 60502.848 | BB8: 56013.971 | BC8: 58711.499 | BD8: 57801.947 | BE8: 58136.084 | BF8: 52487.809 | BG8: 54872.811 | BH8: 55383.597 | BI8: 56086.793 | BJ8: 57311 | BK8: 54667 | BL8: 58679 | BM8: 59694 | BN8: 57537 | BO8: 58283 | BP8: 56204 | BQ8: 56621 | BR8: 52472 | BS8: 58154 | BT8: 55994 | BU8: 55370 | BV8: 54638 | BW8: 57307 | BX8: 57881 | BY8: 60946 | BZ8: 54047 | CA8: 56907 | CB8: 56480 | CC8: 60088 | CD8: 58231 | CE8: 60393 | CF8: 57824 | CG8: 60009 | CH8: 51664 | CI8: 57717 | CJ8: 57754 | CK8: 58165
A9: Secondary Industries | B9: =SUM(B10:B12) -> 83002.24 | C9: =SUM(C10:C12) -> 84540.063 | D9: =SUM(D10:D12) -> 88952.483 | E9: =SUM(E10:E12) -> 87019.486 | F9: =SUM(F10:F12) -> 84811.274 | G9: =SUM(G10:G12) -> 86285.611 | H9: =SUM(H10:H12) -> 91230.288 | I9: =SUM(I10:I12) -> 91066.776 | ... CK9: =SUM(CK10:CK12) -> 142483
A10: Manufacturing | B10: 59932.646 | C10: 61081.256 | D10: 65401.611 | E10: 64639.59 | F10: 61296.726 | G10: 61799.016 | H10: 65690.039 | I10: 65784.095 | J10: 62320.706 | K10: 64461.104 | L10: 67583.131 | M10: 67078.313 | N10: 63536.636 | O10: 64625.556 | P10: 66593.894 | Q10: 66164.281 | R10: 62195.608 | S10: 63823.705 | T10: 67460.739 | U10: 69005.837 | V10: 66591.169 | W10: 68957.294 | X10: 73175.793 | Y10: 75022.993 | Z10: 70866.633 | AA10: 72291.908 | AB10: 74346.056 | AC10: 75322.566 | AD10: 71202.307 | AE10: 73938.114 | AF10: 77877.809 | AG10: 78008.095 | AH10: 72543.465 | AI10: 72785.68 | AJ10: 75949.776 | AK10: 75219.256 | AL10: 73926.641 | AM10: 75959.974 | AN10: 80648.751 | AO10: 80475.326 | AP10: 76594.578 | AQ10: 81417.564 | AR10: 86325.609 | AS10: 85968.563 | AT10: 81925.419 | AU10: 85868.174 | AV10: 91141.294 | AW10: 92637.155 | AX10: 87770.456 | AY10: 90785.762 | AZ10: 94519.206 | BA10: 97313.916 | BB10: 90118.83 | BC10: 96634.291 | BD10: 98624.099 | BE10: 93586.87 | BF10: 80618.515 | BG10: 81908.748 | BH10: 87368.739 | BI10: 88795.699 | BJ10: 83985.452 | BK10: 89493.433 | BL10: 92552.781 | BM10: 92667.673 | BN10: 88788.206 | BO10: 91015.158 | BP10: 94452.509 | BQ10: 95326.478 | BR10: 89340.175 | BS10: 92773.698 | BT10: 96584.708 | BU10: 98631.869 | BV10: 89457.659 | BW10: 95349.054 | BX10: 96451.714 | BY10: 99915.043 | BZ10: 91204.482 | CA10: 94243.438 | CB10: 96380.406 | CC10: 100178.14 | CD10: 91456.792 | CE10: 92672.543 | CF10: 97851.118 | CG10: 99097.847 | CH10: 90721.024 | CI10: 96225.032 | CJ10: 98296.856 | CK10: 98396.447
A11: Electricity, gas and water | B11: 12695.422 | C11: 12943.779 | D11: 13153.433 | E11: 12447.581 | F11: 12939.299 | G11: 13785.925 | H11: 14931.15 | I11: 15117.784 | J11: 14351.002 | K11: 14882.513 | L11: 15072.716 | M11: 14682.118 | N11: 13584.48 | O11: 13912.325 | P11: 14013.146 | Q11: 13762.133 | R11: 13034.072 | S11: 13725.649 | T11: 14130.859 | U11: 14105.143 | V11: 13561.081 | W11: 14239.235 | X11: 14717.806 | Y11: 14182.469 | Z11: 13272.397 | AA11: 13633.254 | AB11: 14055.833 | AC11: 13641.185 | AD11: 13478.601 | AE11: 14125.764 | AF11: 14605.585 | AG11: 14303.813 | AH11: 13962.387 | AI11: 14511.603 | AJ11: 14995.389 | AK11: 14711.859 | AL11: 14807.823 | AM11: 15490.279 | AN11: 16115.632 | AO11: 15715.121 | AP11: 15588.622 | AQ11: 16300.026 | AR11: 16744.158 | AS11: 16817.519 | AT11: 16031.057 | AU11: 16836.47 | AV11: 17397.208 | AW11: 17423.695 | AX11: 16610.062 | AY11: 17327.923 | AZ11: 18091.772 | BA11: 17970.244 | BB11: 16087.417 | BC11: 16579.152 | BD11: 17839.499 | BE11: 17015.932 | BF11: 15693.848 | BG11: 16345.493 | BH11: 17221.826 | BI11: 17075.834 | BJ11: 16148.336 | BK11: 16780.416 | BL11: 17525.935 | BM11: 17484.912 | BN11: 16511.346 | BO11: 17160.586 | BP11: 17727.666 | BQ11: 17578.304 | BR11: 16492.934 | BS11: 17089.185 | BT11: 17673.466 | BU11: 17477.763 | BV11: 16033.644 | BW11: 17066.892 | BX11: 17736.478 | BY11: 17452.337 | BZ11: 16047.163 | CA11: 16711.531 | CB11: 17326.098 | CC11: 17430.578 | CD11: 16307.482 | CE11: 16554.484 | CF11: 16779.833 | CG11: 16841.781 | CH11: 15401.103 | CI11: 16034.407 | CJ11: 16431.285 | CK11: 16297.326
A12: Construction | B12: 10374.172 | C12: 10515.028 | D12: 10397.439 | E12: 9932.3153 | F12: 10575.249 | G12: 10700.67 | H12: 10609.099 | I12: 10164.897 | J12: 10781.584 | K12: 10846.994 | L12: 10718.955 | M12: 11150.04 | N12: 10467.798 | O12: 10205.09 | P12: 9922.2901 | Q12: 10338.488 | R12: 10057.657 | S12: 10045.463 | T12: 9887.994 | U12: 10386.937 | V12: 10229.415 | W12: 10463.78 | X12: 10584.953 | Y12: 11380.956 | Z12: 11041.639 | AA12: 11132.5 | AB12: 10968.799 | AC12: 11617.4 | AD12: 11524.792 | AE12: 11536.059 | AF12: 11767.058 | AG12: 12532.7 | AH12: 12466.495 | AI12: 12468.12 | AJ12: 12695.799 | AK12: 13370.968 | AL12: 13249.885 | AM12: 13553.449 | AN12: 14067.295 | AO12: 14776.193 | AP12: 14810.003 | AQ12: 15226.954 | AR12: 15756.742 | AS12: 16486.939 | AT12: 16393.1 | AU12: 16803.1 | AV12: 17396.1 | AW12: 18188.08 | AX12: 18742.82 | AY12: 19202 | AZ12: 19850 | BA12: 21660 | BB12: 20925.12 | BC12: 21283.12 | BD12: 21920.1 | BE12: 23172.03 | BF12: 23052.08 | BG12: 23089 | BH12: 23657 | BI12: 24961 | BJ12: 23760.42 | BK12: 23637.42 | BL12: 23495.44 | BM12: 24559.42 | BN12: 23428.243 | BO12: 23647.881 | BP12: 23828.495 | BQ12: 24954.931 | BR12: 24357.731 | BS12: 24182.717 | BT12: 24261.255 | BU12: 25527.767 | BV12: 25421.722 | BW12: 25485.545 | BX12: 25506.073 | BY12: 26404.281 | BZ12: 26428.579 | CA12: 26356.776 | CB12: 26346.536 | CC12: 27374.769 | CD12: 26990.959 | CE12: 26878.875 | CF12: 26758.426 | CG12: 27724.339 | CH12: 27429.795 | CI12: 26896.033 | CJ12: 27017.004 | CK12: 27789.227
A13: Tertiary industries | B13: =SUM(B14:B18) -> 231961.06 | C13: =SUM(C14:C18) -> 234621.08 | D13: =SUM(D14:D18) -> 242400.92 | E13: =SUM(E14:E18) -> 251970.35 | F13: =SUM(F14:F18) -> 242021.85 | G13: =SUM(G14:G18) -> 244693.4 | H13: =SUM(H14:H18) -> 251769.43 | I13: =SUM(I14:I18) -> 261631.2 | ... CK13: =SUM(CK14:CK18) -> 504879
A14: Wholesale & retail trade; hotels & restaurants | B14: 48609.405 | C14: 49866.385 | D14: 53184.776 | E14: 61134.044 | F14: 51363.796 | G14: 52192.327 | H14: 54721.933 | I14: 62389.954 | J14: 52450.741 | K14: 52791.793 | L14: 54818.711 | M14: 61489.437 | N14: 52475.789 | O14: 53629.274 | P14: 55609.317 | Q14: 62716.461 | R14: 54794.542 | S14: 56910.489 | T14: 60185.239 | U14: 69597.315 | V14: 60001.198 | W14: 62249.558 | X14: 64881.092 | Y14: 73916.232 | Z14: 62437.252 | AA14: 63719.027 | AB14: 65472.78 | AC14: 74378.934 | AD14: 63220.443 | AE14: 64781.849 | AF14: 67256.499 | AG14: 76867.387 | AH14: 64263.481 | AI14: 65980.058 | AJ14: 69595.698 | AK14: 79541.173 | AL14: 67174.388 | AM14: 69167.362 | AN14: 72314.419 | AO14: 85804.576 | AP14: 72273.363 | AQ14: 73933.367 | AR14: 77418.89 | AS14: 91584.686 | AT14: 76190.835 | AU14: 78373.553 | AV14: 82255.282 | AW14: 97178.905 | AX14: 81001.363 | AY14: 83088.505 | AZ14: 87014.281 | BA14: 101593.68 | BB14: 85186.756 | BC14: 85956.774 | BD14: 86367.209 | BE14: 101369.6 | BF14: 84232.192 | BG14: 84201.797 | BH14: 86309.913 | BI14: 100126.58 | BJ14: 86088 | BK14: 87915 | BL14: 90554 | BM14: 106024 | BN14: 89467 | BO14: 91008 | BP14: 94224 | BQ14: 110996 | BR14: 93897 | BS14: 95056 | BT14: 97713 | BU14: 114271 | BV14: 95828 | BW14: 97110 | BX14: 99530 | BY14: 116501 | BZ14: 97890 | CA14: 98225 | CB14: 101335 | CC14: 118030 | CD14: 99407 | CE14: 99350 | CF14: 102581 | CG14: 120070 | CH14: 100700 | CI14: 101045 | CJ14: 103349 | CK14: 121431
A15: Transport , storage and communication | B15: 24777.506 | C15: 24835.795 | D15: 26875.359 | E15: 27432.605 | F15: 26709.014 | G15: 26588.416 | H15: 28403.459 | I15: 28559.572 | J15: 28289.266 | K15: 28554.859 | L15: 30526.569 | M15: 31269.564 | N15: 30566.49 | O15: 30690.138 | P15: 31771.528 | Q15: 32137.315 | R15: 31251.545 | S15: 31963.489 | T15: 33840.453 | U15: 34618.588 | V15: 34015.598 | W15: 34885.568 | X15: 36611.701 | Y15: 37090.157 | Z15: 35931.359 | AA15: 36614.693 | AB15: 38630.206 | AC15: 39840.345 | AD15: 39116.758 | AE15: 40166.932 | AF15: 42175.514 | AG15: 43148.893 | AH15: 41973.685 | AI15: 42794.307 | AJ15: 44468.819 | AK15: 45820.349 | AL15: 43714.734 | AM15: 44639.319 | AN15: 47079.005 | AO15: 48179.636 | AP15: 46194.48 | AQ15: 47178.672 | AR15: 49468.788 | AS15: 50491.793 | AT15: 48332.346 | AU15: 49486.752 | AV15: 52392.265 | AW15: 53013.078 | AX15: 52288.735 | AY15: 53319.34 | AZ15: 55961.955 | BA15: 56918.4 | BB15: 54391.89 | BC15: 55386.176 | BD15: 58000.578 | BE15: 58357.225 | BF15: 54584.494 | BG15: 55250.796 | BH15: 57750.345 | BI15: 58126.105 | BJ15: 54784 | BK15: 56121 | BL15: 59041 | BM15: 59552 | BN15: 56612 | BO15: 58151 | BP15: 60958 | BQ15: 61721 | BR15: 58258 | BS15: 59708 | BT15: 62303 | BU15: 62919 | BV15: 59790 | BW15: 61227 | BX15: 64319 | BY15: 64793 | BZ15: 61360 | CA15: 63198 | CB15: 66255 | CC15: 67210 | CD15: 62711 | CE15: 64035 | CF15: 66850 | CG15: 67335 | CH15: 62124 | CI15: 64251 | CJ15: 67112 | CK15: 68465
A16: Finance, real estate and business services | B16: 59354.498 | C16: 59935.792 | D16: 61703.433 | E16: 62694.047 | F16: 61961.449 | G16: 63925.101 | H16: 66250.209 | I16: 68086.126 | J16: 67107.406 | K16: 68184.102 | L16: 68581.428 | M16: 68596.258 | N16: 67695.505 | O16: 69628.181 | P16: 70622.792 | Q16: 70795.111 | R16: 71207.154 | S16: 72934.7 | T16: 74167.11 | U16: 74677.874 | V16: 73764.818 | W16: 74896.496 | X16: 76183.178 | Y16: 77459.997 | Z16: 78410.22 | AA16: 81017.919 | AB16: 82935.216 | AC16: 84631.957 | AD16: 87007.795 | AE16: 86787.227 | AF16: 86368.787 | AG16: 87354.863 | AH16: 90926.972 | AI16: 90412.166 | AJ16: 90826.351 | AK16: 92031.4 | AL16: 96600.792 | AM16: 96730.272 | AN16: 97242.119 | AO16: 99316.086 | AP16: 102050.9 | AQ16: 102217 | AR16: 103148.8 | AS16: 104731.81 | AT16: 108259.01 | AU16: 111990.1 | AV16: 114925.1 | AW16: 116722.1 | AX16: 118778.9 | AY16: 119610.9 | AZ16: 121964.9 | BA16: 124319.89 | BB16: 127008.12 | BC16: 127417.12 | BD16: 128211.12 | BE16: 129080.12 | BF16: 129560.1 | BG16: 129156.1 | BH16: 128918.1 | BI16: 129480.01 | BJ16: 130988 | BK16: 131110 | BL16: 130730 | BM16: 130698 | BN16: 134588 | BO16: 135465 | BP16: 137790 | BQ16: 137958 | BR16: 140692 | BS16: 140046 | BT16: 140709 | BU16: 140595 | BV16: 143154 | BW16: 143478 | BX16: 144207 | BY16: 145868 | BZ16: 146453 | CA16: 146555 | CB16: 147461 | CC16: 148845 | CD16: 150233 | CE16: 151071 | CF16: 152005 | CG16: 152241 | CH16: 153517 | CI16: 154130 | CJ16: 154559 | CK16: 154962
A17: Personal services | B17: 22682.454 | C17: 23324.34 | D17: 23739.231 | E17: 23712.761 | F17: 23991.525 | G17: 23896.516 | H17: 24021.649 | I17: 24033.418 | J17: 23771.625 | K17: 24041.351 | L17: 24237.959 | M17: 23860.782 | N17: 24532.899 | O17: 25247.532 | P17: 26012.639 | Q17: 26075.936 | R17: 25943 | S17: 26274.969 | T17: 26845.428 | U17: 26747.06 | V17: 26945.334 | W17: 27432.986 | X17: 28282.496 | Y17: 28247.624 | Z17: 28032.07 | AA17: 28167.977 | AB17: 28719.801 | AC17: 28482.11 | AD17: 28375.621 | AE17: 28723.624 | AF17: 29518.717 | AG17: 29577.939 | AH17: 29818.528 | AI17: 30512.663 | AJ17: 31439.642 | AK17: 30883.162 | AL17: 30418.355 | AM17: 31037.512 | AN17: 31703.237 | AO17: 31637.338 | AP17: 31914.407 | AQ17: 32224.864 | AR17: 32763.771 | AS17: 32631.826 | AT17: 33825.058 | AU17: 33926.855 | AV17: 34270.007 | AW17: 34276.08 | AX17: 36139.192 | AY17: 36360.434 | AZ17: 36350.309 | BA17: 34957.066 | BB17: 37562.545 | BC17: 38015.458 | BD17: 37754.608 | BE17: 35883.599 | BF17: 37176.469 | BG17: 37244.714 | BH17: 37161.173 | BI17: 36432.645 | BJ17: 36858 | BK17: 37281 | BL17: 37434 | BM17: 36989 | BN17: 38159 | BO17: 38321 | BP17: 38092 | BQ17: 37655 | BR17: 38890 | BS17: 39507 | BT17: 39189 | BU17: 37887 | BV17: 39771 | BW17: 40434 | BX17: 40188 | BY17: 39137 | BZ17: 40636 | CA17: 41205 | CB17: 40988 | CC17: 39824 | CD17: 41103 | CE17: 41784 | CF17: 41443 | CG17: 40110 | CH17: 41522 | CI17: 42235 | CJ17: 42051 | CK17: 40551
A18: General government services | B18: 76537.2 | C18: 76658.772 | D18: 76898.117 | E18: 76996.895 | F18: 77996.065 | G18: 78091.043 | H18: 78372.178 | I18: 78562.135 | J18: 78679.908 | K18: 78706.501 | L18: 78995.235 | M18: 79109.209 | N18: 78213.241 | O18: 78294.087 | P18: 78282.538 | Q18: 78340.285 | R18: 77589.567 | S18: 77718.922 | T18: 77675.034 | U18: 77474.072 | V18: 76878.118 | W18: 76988.993 | X18: 76956.655 | Y18: 76758.003 | Z18: 76411.518 | AA18: 76309.882 | AB18: 76041.934 | AC18: 75944.918 | AD18: 75784.791 | AE18: 76675.356 | AF18: 77088.487 | AG18: 77342.475 | AH18: 77585.21 | AI18: 78723.332 | AJ18: 79300.431 | AK18: 79774.649 | AL18: 78919.45 | AM18: 80131.517 | AN18: 80650.746 | AO18: 81716.529 | AP18: 82034.518 | AQ18: 83823.964 | AR18: 84563.442 | AS18: 84843.15 | AT18: 85599 | AU18: 85929 | AV18: 86713 | AW18: 87290 | AX18: 88815 | AY18: 89824 | AZ18: 90891 | BA18: 92106 | BB18: 93530 | BC18: 94657 | BD18: 96279 | BE18: 97302 | BF18: 98060 | BG18: 98558 | BH18: 98604 | BI18: 98699 | BJ18: 99361 | BK18: 100718 | BL18: 101676 | BM18: 102892 | BN18: 104381 | BO18: 105407 | BP18: 106490 | BQ18: 107555 | BR18: 107724 | BS18: 108567 | BT18: 109745 | BU18: 110431 | BV18: 111466 | BW18: 112149 | BX18: 112951 | BY18: 113888 | BZ18: 114739 | CA18: 115798 | CB18: 116349 | CC18: 116430 | CD18: 116538 | CE18: 116727 | CF18: 116925 | CG18: 116873 | CH18: 117923 | CI18: 118019 | CJ18: 118179 | CK18: 119470
A19: All industries at basic prices | B19: =B13+B9+B6 -> 381414.69 | C19: =C13+C9+C6 -> 388743.99 | D19: =D13+D9+D6 -> 402650.79 | E19: =E13+E9+E6 -> 406995.23 | F19: =F13+F9+F6 -> 393375.33 | G19: =G13+G9+G6 -> 407655.18 | H19: =H13+H9+H6 -> 415285.56 | I19: =I13+I9+I6 -> 420429.52 | ... CK19: =CK13+CK9+CK6 -> 717141
A20: Taxes less subsidies on products | B20: 42787.113 | C20: 42794.388 | D20: 43168.245 | E20: 43342.651 | F20: 44426.159 | G20: 44902.082 | H20: 45310.64 | I20: 45862.842 | J20: 46222.157 | K20: 46356.918 | L20: 46560.307 | M20: 46635.404 | N20: 45639.631 | O20: 45191.242 | P20: 46097.802 | Q20: 46730.065 | R20: 44774.237 | S20: 44697.957 | T20: 46125.528 | U20: 47068.188 | V20: 45352.176 | W20: 45426.416 | X20: 46918.163 | Y20: 47851.886 | Z20: 46088.867 | AA20: 46131.581 | AB20: 47489.909 | AC20: 48505.753 | AD20: 46708.631 | AE20: 48034.63 | AF20: 48943.518 | AG20: 49632.265 | AH20: 48038.492 | AI20: 49536.999 | AJ20: 49939.948 | AK20: 50989.161 | AL20: 49652.863 | AM20: 51805.358 | AN20: 52867.445 | AO20: 54152.248 | AP20: 52398.839 | AQ20: 54543.61 | AR20: 55532.316 | AS20: 56398.721 | AT20: 55914 | AU20: 57129 | AV20: 58502 | AW20: 60994 | AX20: 58952 | AY20: 59956 | AZ20: 61528 | BA20: 63426 | BB20: 61023 | BC20: 62159 | BD20: 62949 | BE20: 63232 | BF20: 59467 | BG20: 59485 | BH20: 60776 | BI20: 63159 | BJ20: 60568 | BK20: 62287 | BL20: 64286 | BM20: 66007 | BN20: 63611 | BO20: 64738 | BP20: 66642 | BQ20: 68289 | BR20: 65163 | BS20: 66120 | BT20: 67681 | BU20: 69531 | BV20: 66059 | BW20: 67958 | BX20: 68686 | BY20: 70606 | BZ20: 66547 | CA20: 67913 | CB20: 69217 | CC20: 71773 | CD20: 69227 | CE20: 69077 | CF20: 69718 | CG20: 71899 | CH20: 67511 | CI20: 68699 | CJ20: 69998 | CK20: 71776
A21: SA - GDP at constant 2010 prices | B21: =B19+B20 -> 424201.8 | C21: =C19+C20 -> 431538.38 | D21: =D19+D20 -> 445819.03 | E21: =E19+E20 -> 450337.88 | F21: =F19+F20 -> 437801.49 | G21: =G19+G20 -> 452557.26 | H21: =H19+H20 -> 460596.2 | I21: =I19+I20 -> 466292.36 | ... CK21: =CK19+CK20 -> 788917
A23: KZN – GDPR by activity
A24: Constant 2010 prices - Rand million
A25: Provincial Industry | B25: =B5 -> 1995q1 | C25: =C5 -> 1995q2 | D25: =D5 -> 1995q3 | E25: =E5 -> 1995q4 | F25: =F5 -> 1996q1 | G25: =G5 -> 1996q2 | H25: =H5 -> 1996q3 | I25: =I5 -> 1996q4 | ... CK25: =CK5 -> 2016q4
A26: Primary Industries | B26: =SUM(B27:B28) -> 4768.169 | C26: =SUM(C27:C28) -> 5786.2329 | D26: =SUM(D27:D28) -> 6064.1866 | E26: =SUM(E27:E28) -> 5234.2217 | F26: =SUM(F27:F28) -> 5800.5339 | G26: =SUM(G27:G28) -> 8667.2854 | H26: =SUM(H27:H28) -> 7239.98 | I26: =SUM(I27:I28) -> 5995.2876 | ... CK26: =SUM(CK27:CK28) -> 5350.7065
A27: Agriculture, forestry and fishing | B27: =B7*Annual!$B46/100 -> 2284.6511 | C27: =C7*Annual!$B46/100 -> 3319.9541 | D27: =D7*Annual!$B46/100 -> 3560.0498 | E27: =E7*Annual!$B46/100 -> 2752.6298 | F27: =F7*Annual!$C46/100 -> 2353.4134 | G27: =G7*Annual!$C46/100 -> 5243.69 | H27: =H7*Annual!$C46/100 -> 3754.9351 | I27: =I7*Annual!$C46/100 -> 2511.743 | J27: =J7*Annual!$D46/100 -> 2566.1524 | K27: =K7*Annual!$D46/100 -> 5075.8304 | L27: =L7*Annual!$D46/100 -> 3681.7437 | M27: =M7*Annual!$D46/100 -> 2490.4561 | N27: =N7*Annual!$E46/100 -> 2646.5557 | O27: =O7*Annual!$E46/100 -> 5222.3005 | P27: =P7*Annual!$E46/100 -> 3787.6044 | Q27: =Q7*Annual!$E46/100 -> 2282.9885 | R27: =R7*Annual!$F46/100 -> 2662.6109 | S27: =S7*Annual!$F46/100 -> 5292.1494 | T27: =T7*Annual!$F46/100 -> 3701.5421 | U27: =U7*Annual!$F46/100 -> 1916.5647 | V27: =V7*Annual!$G46/100 -> 2241.4996 | W27: =W7*Annual!$G46/100 -> 4493.8725 | X27: =X7*Annual!$G46/100 -> 5010.0094 | Y27: =Y7*Annual!$G46/100 -> 2337.0275 | Z27: =Z7*Annual!H46/100 -> 2566.713 | AA27: =AA7*Annual!H46/100 -> 5352.8091 | AB27: =AB7*Annual!H46/100 -> 4103.0533 | AC27: =AC7*Annual!H46/100 -> 2009.8292 | AD27: =AD7*Annual!$I46/100 -> 2758.6707 | AE27: =AE7*Annual!$I46/100 -> 5777.632 | AF27: =AF7*Annual!$I46/100 -> 3796.144 | AG27: =AG7*Annual!$I46/100 -> 2352.8633 | AH27: =AH7*Annual!$J46/100 -> 2646.925 | AI27: =AI7*Annual!$J46/100 -> 6676.195 | AJ27: =AJ7*Annual!$J46/100 -> 4167.5901 | AK27: =AK7*Annual!$J46/100 -> 1955.7526 | AL27: =AL7*Annual!$K46/100 -> 2647.5764 | AM27: =AM7*Annual!$K46/100 -> 6023.8007 | AN27: =AN7*Annual!$K46/100 -> 4554.1551 | AO27: =AO7*Annual!$K46/100 -> 2267.2828 | AP27: =AP7*Annual!$L46/100 -> 2794.2122 | AQ27: =AQ7*Annual!$L46/100 -> 5119.667 | AR27: =AR7*Annual!$L46/100 -> 4569.702 | AS27: =AS7*Annual!$L46/100 -> 2105.0007 | AT27: =AT7*Annual!$M46/100 -> 3037.8805 | AU27: =AU7*Annual!$M46/100 -> 4911.2802 | AV27: =AV7*Annual!$M46/100 -> 4264.5111 | AW27: =AW7*Annual!$M46/100 -> 2452.0677 | AX27: =AX7*Annual!$N46/100 -> 3193.3394 | AY27: =AY7*Annual!$N46/100 -> 5151.7856 | AZ27: =AZ7*Annual!$N46/100 -> 4433.8775 | BA27: =BA7*Annual!$N46/100 -> 2550.0608 | BB27: =BB7*Annual!$O46/100 -> 3850.0101 | BC27: =BC7*Annual!$O46/100 -> 6028.4411 | BD27: =BD7*Annual!$O46/100 -> 5137.86 | BE27: =BE7*Annual!$O46/100 -> 2856.1066 | BF27: =BF7*Annual!P46/100 -> 3713.3655 | BG27: =BG7*Annual!P46/100 -> 5723.0602 | BH27: =BH7*Annual!P46/100 -> 4920.6806 | BI27: =BI7*Annual!P46/100 -> 2945.9494 | BJ27: =BJ7*Annual!Q46/100 -> 3843.861 | BK27: =BK7*Annual!Q46/100 -> 5983.1495 | BL27: =BL7*Annual!Q46/100 -> 4941.4513 | BM27: =BM7*Annual!Q46/100 -> 2945.2681 | BN27: =BN7*Annual!$R46/100 -> 4127.7692 | BO27: =BO7*Annual!$R46/100 -> 6469.2438 | BP27: =BP7*Annual!$R46/100 -> 5529.686 | BQ27: =BQ7*Annual!$R46/100 -> 3343.01 | BR27: =BR7*Annual!$S46/100 -> 4350.3785 | BS27: =BS7*Annual!$S46/100 -> 6900.4591 | BT27: =BT7*Annual!$S46/100 -> 5374.5648 | BU27: =BU7*Annual!$S46/100 -> 3294.5977 | BV27: =BV7*Annual!$T46/100 -> 4673.05 | BW27: =BW7*Annual!$T46/100 -> 7541.7394 | BX27: =BX7*Annual!$T46/100 -> 5358.1014 | BY27: =BY7*Annual!$T46/100 -> 3344.1092 | BZ27: =BZ7*Annual!$U46/100 -> 4710.3505 | CA27: =CA7*Annual!$U46/100 -> 8244.1565 | CB27: =CB7*Annual!$U46/100 -> 6137.5218 | CC27: =CC7*Annual!$U46/100 -> 3569.2692 | CD27: =CD7*Annual!$V46/100 -> 5184.7475 | CE27: =CE7*Annual!$V46/100 -> 7575.5576 | CF27: =CF7*Annual!$V46/100 -> 4916.3883 | CG27: =CG7*Annual!$V46/100 -> 3338.3065 | CH27: =CH7*Annual!$W46/100 -> 4872.2126 | CI27: =CI7*Annual!$W46/100 -> 6281.4126 | CJ27: =CJ7*Annual!$W46/100 -> 4600.0171 | CK27: =CK7*Annual!$W46/100 -> 3373.83
A28: Mining and quarrying | B28: =B8*Annual!$B47/100 -> 2483.5179 | C28: =C8*Annual!$B47/100 -> 2466.2788 | D28: =D8*Annual!$B47/100 -> 2504.1367 | E28: =E8*Annual!$B47/100 -> 2481.5919 | F28: =F8*Annual!$C47/100 -> 3447.1206 | G28: =G8*Annual!$C47/100 -> 3423.5954 | H28: =H8*Annual!$C47/100 -> 3485.0449 | I28: =I8*Annual!$C47/100 -> 3483.5446 | J28: =J8*Annual!$D47/100 -> 3413.448 | K28: =K8*Annual!$D47/100 -> 3481.8438 | L28: =L8*Annual!$D47/100 -> 3555.0415 | M28: =M8*Annual!$D47/100 -> 3541.8549 | N28: =N8*Annual!$E47/100 -> 3449.7967 | O28: =O8*Annual!$E47/100 -> 3450.0684 | P28: =P8*Annual!$E47/100 -> 3460.3807 | Q28: =Q8*Annual!$E47/100 -> 3442.8756 | R28: =R8*Annual!$F47/100 -> 2477.9298 | S28: =S8*Annual!$F47/100 -> 2490.5197 | T28: =T8*Annual!$F47/100 -> 2514.9806 | U28: =U8*Annual!$F47/100 -> 2517.6922 | V28: =V8*Annual!$G47/100 -> 2413.9168 | W28: =W8*Annual!$G47/100 -> 2443.3205 | X28: =X8*Annual!$G47/100 -> 2441.9436 | Y28: =Y8*Annual!$G47/100 -> 2443.9253 | Z28: =Z8*Annual!H47/100 -> 2278.7232 | AA28: =AA8*Annual!H47/100 -> 2330.5724 | AB28: =AB8*Annual!H47/100 -> 2331.9736 | AC28: =AC8*Annual!H47/100 -> 2303.8701 | AD28: =AD8*Annual!$I47/100 -> 2005.4915 | AE28: =AE8*Annual!$I47/100 -> 2060.6109 | AF28: =AF8*Annual!$I47/100 -> 2090.7692 | AG28: =AG8*Annual!$I47/100 -> 2102.3458 | AH28: =AH8*Annual!$J47/100 -> 2113.1163 | AI28: =AI8*Annual!$J47/100 -> 2184.3813 | AJ28: =AJ8*Annual!$J47/100 -> 2228.5444 | AK28: =AK8*Annual!$J47/100 -> 2218.1517 | AL28: =AL8*Annual!$K47/100 -> 2228.9207 | AM28: =AM8*Annual!$K47/100 -> 2222.9637 | AN28: =AN8*Annual!$K47/100 -> 2290.3804 | AO28: =AO8*Annual!$K47/100 -> 2177.072 | AP28: =AP8*Annual!$L47/100 -> 2154.6909 | AQ28: =AQ8*Annual!$L47/100 -> 2112.5543 | AR28: =AR8*Annual!$L47/100 -> 2085.3941 | AS28: =AS8*Annual!$L47/100 -> 2008.5715 | AT28: =AT8*Annual!$M47/100 -> 1981.7195 | AU28: =AU8*Annual!$M47/100 -> 2005.6178 | AV28: =AV8*Annual!$M47/100 -> 2019.2584 | AW28: =AW8*Annual!$M47/100 -> 2075.1658 | AX28: =AX8*Annual!$N47/100 -> 2041.1152 | AY28: =AY8*Annual!$N47/100 -> 2023.3787 | AZ28: =AZ8*Annual!$N47/100 -> 2034.1045 | BA28: =BA8*Annual!$N47/100 -> 2014.5334 | BB28: =BB8*Annual!$O47/100 -> 1840.9394 | BC28: =BC8*Annual!$O47/100 -> 1929.5956 | BD28: =BD8*Annual!$O47/100 -> 1899.7025 | BE28: =BE8*Annual!$O47/100 -> 1910.6842 | BF28: =BF8*Annual!P47/100 -> 1736.2112 | BG28: =BG8*Annual!P47/100 -> 1815.1031 | BH28: =BH8*Annual!P47/100 -> 1831.9991 | BI28: =BI8*Annual!P47/100 -> 1855.2597 | BJ28: =BJ8*Annual!Q47/100 -> 1980.9428 | BK28: =BK8*Annual!Q47/100 -> 1889.5535 | BL28: =BL8*Annual!Q47/100 -> 2028.2275 | BM28: =BM8*Annual!Q47/100 -> 2063.3107 | BN28: =BN8*Annual!$R47/100 -> 1985.9608 | BO28: =BO8*Annual!$R47/100 -> 2011.71 | BP28: =BP8*Annual!$R47/100 -> 1939.9507 | BQ28: =BQ8*Annual!$R47/100 -> 1954.344 | BR28: =BR8*Annual!$S47/100 -> 1904.6776 | BS28: =BS8*Annual!$S47/100 -> 2110.9281 | BT28: =BT8*Annual!$S47/100 -> 2032.5224 | BU28: =BU8*Annual!$S47/100 -> 2009.8719 | BV28: =BV8*Annual!$T47/100 -> 1989.7464 | BW28: =BW8*Annual!$T47/100 -> 2086.9431 | BX28: =BX8*Annual!$T47/100 -> 2107.8464 | BY28: =BY8*Annual!$T47/100 -> 2219.4642 | BZ28: =BZ8*Annual!$U47/100 -> 2162.1461 | CA28: =CA8*Annual!$U47/100 -> 2276.5601 | CB28: =CB8*Annual!$U47/100 -> 2259.478 | CC28: =CC8*Annual!$U47/100 -> 2403.8158 | CD28: =CD8*Annual!$V47/100 -> 2154.3231 | CE28: =CE8*Annual!$V47/100 -> 2234.3088 | CF28: =CF8*Annual!$V47/100 -> 2139.2657 | CG28: =CG8*Annual!$V47/100 -> 2220.1023 | CH28: =CH8*Annual!$W47/100 -> 1755.9245 | CI28: =CI8*Annual!$W47/100 -> 1961.6501 | CJ28: =CJ8*Annual!$W47/100 -> 1962.9077 | CK28: =CK8*Annual!$W47/100 -> 1976.8765
A29: Secondary Industries | B29: =SUM(B30:B32) -> 16834.713 | C29: =SUM(C30:C32) -> 17144.615 | D29: =SUM(D30:D32) -> 18039.872 | E29: =SUM(E30:E32) -> 17658.494 | F29: =SUM(F30:F32) -> 17159.891 | G29: =SUM(G30:G32) -> 17431.1 | H29: =SUM(H30:H32) -> 18401.719 | I29: =SUM(I30:I32) -> 18351.71 | ... CK29: =SUM(CK30:CK32) -> 28694.138
A30: Manufacturing | B30: =B10*Annual!$B49/100 -> 12323.48 | C30: =C10*Annual!$B49/100 -> 12559.659 | D30: =D10*Annual!$B49/100 -> 13448.02 | E30: =E10*Annual!$B49/100 -> 13291.331 | F30: =F10*Annual!$C49/100 -> 12647.219 | G30: =G10*Annual!$C49/100 -> 12750.856 | H30: =H10*Annual!$C49/100 -> 13553.682 | I30: =I10*Annual!$C49/100 -> 13573.088 | J30: =J10*Annual!$D49/100 -> 12852.357 | K30: =K10*Annual!$D49/100 -> 13293.77 | L30: =L10*Annual!$D49/100 -> 13937.624 | M30: =M10*Annual!$D49/100 -> 13833.515 | N30: =N10*Annual!$E49/100 -> 13070.273 | O30: =O10*Annual!$E49/100 -> 13294.277 | P30: =P10*Annual!$E49/100 -> 13699.189 | Q30: =Q10*Annual!$E49/100 -> 13610.812 | R30: =R10*Annual!$F49/100 -> 12921.997 | S30: =S10*Annual!$F49/100 -> 13260.257 | T30: =T10*Annual!$F49/100 -> 14015.901 | U30: =U10*Annual!$F49/100 -> 14336.916 | V30: =V10*Annual!$G49/100 -> 13897.942 | W30: =W10*Annual!$G49/100 -> 14391.765 | X30: =X10*Annual!$G49/100 -> 15272.189 | Y30: =Y10*Annual!$G49/100 -> 15657.71 | Z30: =Z10*Annual!H49/100 -> 14758.17 | AA30: =AA10*Annual!H49/100 -> 15054.987 | AB30: =AB10*Annual!H49/100 -> 15482.769 | AC30: =AC10*Annual!H49/100 -> 15686.13 | AD30: =AD10*Annual!$I49/100 -> 14804.362 | AE30: =AE10*Annual!$I49/100 -> 15373.19 | AF30: =AF10*Annual!$I49/100 -> 16192.33 | AG30: =AG10*Annual!$I49/100 -> 16219.42 | AH30: =AH10*Annual!$J49/100 -> 15173.287 | AI30: =AI10*Annual!$J49/100 -> 15223.949 | AJ30: =AJ10*Annual!$J49/100 -> 15885.755 | AK30: =AK10*Annual!$J49/100 -> 15732.959 | AL30: =AL10*Annual!$K49/100 -> 15433.928 | AM30: =AM10*Annual!$K49/100 -> 15858.434 | AN30: =AN10*Annual!$K49/100 -> 16837.327 | AO30: =AO10*Annual!$K49/100 -> 16801.12 | AP30: =AP10*Annual!$L49/100 -> 15985.596 | AQ30: =AQ10*Annual!$L49/100 -> 16992.172 | AR30: =AR10*Annual!$L49/100 -> 18016.501 | AS30: =AS10*Annual!$L49/100 -> 17941.984 | AT30: =AT10*Annual!$M49/100 -> 17033.584 | AU30: =AU10*Annual!$M49/100 -> 17853.345 | AV30: =AV10*Annual!$M49/100 -> 18949.71 | AW30: =AW10*Annual!$M49/100 -> 19260.723 | AX30: =AX10*Annual!$N49/100 -> 18261.276 | AY30: =AY10*Annual!$N49/100 -> 18888.632 | AZ30: =AZ10*Annual!$N49/100 -> 19665.402 | BA30: =BA10*Annual!$N49/100 -> 20246.862 | BB30: =BB10*Annual!$O49/100 -> 18735.665 | BC30: =BC10*Annual!$O49/100 -> 20090.227 | BD30: =BD10*Annual!$O49/100 -> 20503.907 | BE30: =BE10*Annual!$O49/100 -> 19456.669 | BF30: =BF10*Annual!P49/100 -> 16801.953 | BG30: =BG10*Annual!P49/100 -> 17070.854 | BH30: =BH10*Annual!P49/100 -> 18208.788 | BI30: =BI10*Annual!P49/100 -> 18506.185 | BJ30: =BJ10*Annual!Q49/100 -> 17570.967 | BK30: =BK10*Annual!Q49/100 -> 18723.316 | BL30: =BL10*Annual!Q49/100 -> 19363.376 | BM30: =BM10*Annual!Q49/100 -> 19387.413 | BN30: =BN10*Annual!$R49/100 -> 18558.744 | BO30: =BO10*Annual!$R49/100 -> 19024.227 | BP30: =BP10*Annual!$R49/100 -> 19742.711 | BQ30: =BQ10*Annual!$R49/100 -> 19925.391 | BR30: =BR10*Annual!$S49/100 -> 18678.26 | BS30: =BS10*Annual!$S49/100 -> 19396.103 | BT30: =BT10*Annual!$S49/100 -> 20192.867 | BU30: =BU10*Annual!$S49/100 -> 20620.865 | BV30: =BV10*Annual!$T49/100 -> 18744.256 | BW30: =BW10*Annual!$T49/100 -> 19978.693 | BX30: =BX10*Annual!$T49/100 -> 20209.735 | BY30: =BY10*Annual!$T49/100 -> 20935.414 | BZ30: =BZ10*Annual!$U49/100 -> 19133.063 | CA30: =CA10*Annual!$U49/100 -> 19770.581 | CB30: =CB10*Annual!$U49/100 -> 20218.879 | CC30: =CC10*Annual!$U49/100 -> 21015.576 | CD30: =CD10*Annual!$V49/100 -> 19245.434 | CE30: =CE10*Annual!$V49/100 -> 19501.267 | CF30: =CF10*Annual!$V49/100 -> 20591.005 | CG30: =CG10*Annual!$V49/100 -> 20853.357 | CH30: =CH10*Annual!$W49/100 -> 19149.568 | CI30: =CI10*Annual!$W49/100 -> 20311.365 | CJ30: =CJ10*Annual!$W49/100 -> 20748.69 | CK30: =CK10*Annual!$W49/100 -> 20769.711
A31: Electricity, gas and water | B31: =B11*Annual!$B50/100 -> 2083.7409 | C31: =C11*Annual!$B50/100 -> 2124.5045 | D31: =D11*Annual!$B50/100 -> 2158.9157 | E31: =E11*Annual!$B50/100 -> 2043.0619 | F31: =F11*Annual!$C50/100 -> 2129.0052 | G31: =G11*Annual!$C50/100 -> 2268.3073 | H31: =H11*Annual!$C50/100 -> 2456.7402 | I31: =I11*Annual!$C50/100 -> 2487.4486 | J31: =J11*Annual!$D50/100 -> 2350.9203 | K31: =K11*Annual!$D50/100 -> 2437.9902 | L31: =L11*Annual!$D50/100 -> 2469.1485 | M31: =M11*Annual!$D50/100 -> 2405.1624 | N31: =N11*Annual!$E50/100 -> 2229.8273 | O31: =O11*Annual!$E50/100 -> 2283.6415 | P31: =P11*Annual!$E50/100 -> 2300.1909 | Q31: =Q11*Annual!$E50/100 -> 2258.9882 | R31: =R11*Annual!$F50/100 -> 2151.4947 | S31: =S11*Annual!$F50/100 -> 2265.6511 | T31: =T11*Annual!$F50/100 -> 2332.538 | U31: =U11*Annual!$F50/100 -> 2328.2931 | V31: =V11*Annual!$G50/100 -> 2298.5677 | W31: =W11*Annual!$G50/100 -> 2413.5129 | X31: =X11*Annual!$G50/100 -> 2494.6295 | Y31: =Y11*Annual!$G50/100 -> 2403.8913 | Z31: =Z11*Annual!H50/100 -> 2332.4485 | AA31: =AA11*Annual!H50/100 -> 2395.8643 | AB31: =AB11*Annual!H50/100 -> 2470.1271 | AC31: =AC11*Annual!H50/100 -> 2397.2581 | AD31: =AD11*Annual!$I50/100 -> 2510.665 | AE31: =AE11*Annual!$I50/100 -> 2631.2123 | AF31: =AF11*Annual!$I50/100 -> 2720.5888 | AG31: =AG11*Annual!$I50/100 -> 2664.3776 | AH31: =AH11*Annual!$J50/100 -> 2235.4731 | AI31: =AI11*Annual!$J50/100 -> 2323.4063 | AJ31: =AJ11*Annual!$J50/100 -> 2400.8638 | AK31: =AK11*Annual!$J50/100 -> 2355.4686 | AL31: =AL11*Annual!$K50/100 -> 2382.6756 | AM31: =AM11*Annual!$K50/100 -> 2492.4872 | AN31: =AN11*Annual!$K50/100 -> 2593.1106 | AO31: =AO11*Annual!$K50/100 -> 2528.6657 | AP31: =AP11*Annual!$L50/100 -> 2536.0472 | AQ31: =AQ11*Annual!$L50/100 -> 2651.7825 | AR31: =AR11*Annual!$L50/100 -> 2724.0364 | AS31: =AS11*Annual!$L50/100 -> 2735.9712 | AT31: =AT11*Annual!$M50/100 -> 2605.0563 | AU31: =AU11*Annual!$M50/100 -> 2735.9364 | AV31: =AV11*Annual!$M50/100 -> 2827.0567 | AW31: =AW11*Annual!$M50/100 -> 2831.3608 | AX31: =AX11*Annual!$N50/100 -> 2687.1659 | AY31: =AY11*Annual!$N50/100 -> 2803.301 | AZ31: =AZ11*Annual!$N50/100 -> 2926.876 | BA31: =BA11*Annual!$N50/100 -> 2907.2153 | BB31: =BB11*Annual!$O50/100 -> 2576.5965 | BC31: =BC11*Annual!$O50/100 -> 2655.3538 | BD31: =BD11*Annual!$O50/100 -> 2857.2138 | BE31: =BE11*Annual!$O50/100 -> 2725.3095 | BF31: =BF11*Annual!P50/100 -> 2444.4279 | BG31: =BG11*Annual!P50/100 -> 2545.9262 | BH31: =BH11*Annual!P50/100 -> 2682.4213 | BI31: =BI11*Annual!P50/100 -> 2659.682 | BJ31: =BJ11*Annual!Q50/100 -> 2506.1533 | BK31: =BK11*Annual!Q50/100 -> 2604.2494 | BL31: =BL11*Annual!Q50/100 -> 2719.9508 | BM31: =BM11*Annual!Q50/100 -> 2713.5842 | BN31: =BN11*Annual!$R50/100 -> 2551.6969 | BO31: =BO11*Annual!$R50/100 -> 2652.0317 | BP31: =BP11*Annual!$R50/100 -> 2739.6694 | BQ31: =BQ11*Annual!$R50/100 -> 2716.5867 | BR31: =BR11*Annual!$S50/100 -> 2557.2171 | BS31: =BS11*Annual!$S50/100 -> 2649.6653 | BT31: =BT11*Annual!$S50/100 -> 2740.2577 | BU31: =BU11*Annual!$S50/100 -> 2709.9141 | BV31: =BV11*Annual!$T50/100 -> 2497.0025 | BW31: =BW11*Annual!$T50/100 -> 2657.9156 | BX31: =BX11*Annual!$T50/100 -> 2762.1937 | BY31: =BY11*Annual!$T50/100 -> 2717.9429 | BZ31: =BZ11*Annual!$U50/100 -> 2488.3026 | CA31: =CA11*Annual!$U50/100 -> 2591.3207 | CB31: =CB11*Annual!$U50/100 -> 2686.6166 | CC31: =CC11*Annual!$U50/100 -> 2702.8175 | CD31: =CD11*Annual!$V50/100 -> 2516.3717 | CE31: =CE11*Annual!$V50/100 -> 2554.4861 | CF31: =CF11*Annual!$V50/100 -> 2589.2592 | CG31: =CG11*Annual!$V50/100 -> 2598.8182 | CH31: =CH11*Annual!$W50/100 -> 2364.8974 | CI31: =CI11*Annual!$W50/100 -> 2462.1436 | CJ31: =CJ11*Annual!$W50/100 -> 2523.0857 | CK31: =CK11*Annual!$W50/100 -> 2502.5158
A32: Construction | B32: =B12*Annual!$B51/100 -> 2427.4922 | C32: =C12*Annual!$B51/100 -> 2460.4516 | D32: =D12*Annual!$B51/100 -> 2432.9364 | E32: =E12*Annual!$B51/100 -> 2324.1004 | F32: =F12*Annual!$C51/100 -> 2383.667 | G32: =G12*Annual!$C51/100 -> 2411.937 | H32: =H12*Annual!$C51/100 -> 2391.2969 | I32: =I12*Annual!$C51/100 -> 2291.1734 | J32: =J12*Annual!$D51/100 -> 2483.657 | K32: =K12*Annual!$D51/100 -> 2498.725 | L32: =L12*Annual!$D51/100 -> 2469.2296 | M32: =M12*Annual!$D51/100 -> 2568.5348 | N32: =N12*Annual!$E51/100 -> 2274.024 | O32: =O12*Annual!$E51/100 -> 2216.9534 | P32: =P12*Annual!$E51/100 -> 2155.5179 | Q32: =Q12*Annual!$E51/100 -> 2245.9328 | R32: =R12*Annual!$F51/100 -> 2088.8098 | S32: =S12*Annual!$F51/100 -> 2086.2773 | T32: =T12*Annual!$F51/100 -> 2053.5737 | U32: =U12*Annual!$F51/100 -> 2157.196 | V32: =V12*Annual!$G51/100 -> 2090.133 | W32: =W12*Annual!$G51/100 -> 2138.0197 | X32: =X12*Annual!$G51/100 -> 2162.7786 | Y32: =Y12*Annual!$G51/100 -> 2325.4225 | Z32: =Z12*Annual!H51/100 -> 2883.5906 | AA32: =AA12*Annual!H51/100 -> 2907.3195 | AB32: =AB12*Annual!H51/100 -> 2864.568 | AC32: =AC12*Annual!H51/100 -> 3033.954 | AD32: =AD12*Annual!$I51/100 -> 2246.9086 | AE32: =AE12*Annual!$I51/100 -> 2249.1051 | AF32: =AF12*Annual!$I51/100 -> 2294.1414 | AG32: =AG12*Annual!$I51/100 -> 2443.4133 | AH32: =AH12*Annual!$J51/100 -> 2364.2033 | AI32: =AI12*Annual!$J51/100 -> 2364.5115 | AJ32: =AJ12*Annual!$J51/100 -> 2407.6895 | AK32: =AK12*Annual!$J51/100 -> 2535.7316 | AL32: =AL12*Annual!$K51/100 -> 2519.5615 | AM32: =AM12*Annual!$K51/100 -> 2577.2865 | AN32: =AN12*Annual!$K51/100 -> 2674.9979 | AO32: =AO12*Annual!$K51/100 -> 2809.8001 | AP32: =AP12*Annual!$L51/100 -> 2857.2316 | AQ32: =AQ12*Annual!$L51/100 -> 2937.6722 | AR32: =AR12*Annual!$L51/100 -> 3039.8819 | AS32: =AS12*Annual!$L51/100 -> 3180.7557 | AT32: =AT12*Annual!$M51/100 -> 3081.3119 | AU32: =AU12*Annual!$M51/100 -> 3158.3772 | AV32: =AV12*Annual!$M51/100 -> 3269.8398 | AW32: =AW12*Annual!$M51/100 -> 3418.7035 | AX32: =AX12*Annual!$N51/100 -> 3511.3122 | AY32: =AY12*Annual!$N51/100 -> 3597.3358 | AZ32: =AZ12*Annual!$N51/100 -> 3718.7332 | BA32: =BA12*Annual!$N51/100 -> 4057.8217 | BB32: =BB12*Annual!$O51/100 -> 3929.6565 | BC32: =BC12*Annual!$O51/100 -> 3996.8875 | BD32: =BD12*Annual!$O51/100 -> 4116.5099 | BE32: =BE12*Annual!$O51/100 -> 4351.6175 | BF32: =BF12*Annual!P51/100 -> 4367.2067 | BG32: =BG12*Annual!P51/100 -> 4374.2012 | BH32: =BH12*Annual!P51/100 -> 4481.8085 | BI32: =BI12*Annual!P51/100 -> 4728.8508 | BJ32: =BJ12*Annual!Q51/100 -> 4543.0885 | BK32: =BK12*Annual!Q51/100 -> 4519.5704 | BL32: =BL12*Annual!Q51/100 -> 4492.4232 | BM32: =BM12*Annual!Q51/100 -> 4695.8605 | BN32: =BN12*Annual!$R51/100 -> 4484.5069 | BO32: =BO12*Annual!$R51/100 -> 4526.5488 | BP32: =BP12*Annual!$R51/100 -> 4561.121 | BQ32: =BQ12*Annual!$R51/100 -> 4776.7372 | BR32: =BR12*Annual!$S51/100 -> 4670.9453 | BS32: =BS12*Annual!$S51/100 -> 4637.3838 | BT32: =BT12*Annual!$S51/100 -> 4652.4446 | BU32: =BU12*Annual!$S51/100 -> 4895.3165 | BV32: =BV12*Annual!$T51/100 -> 4908.1542 | BW32: =BW12*Annual!$T51/100 -> 4920.4765 | BX32: =BX12*Annual!$T51/100 -> 4924.4398 | BY32: =BY12*Annual!$T51/100 -> 5097.8562 | BZ32: =BZ12*Annual!$U51/100 -> 5117.1299 | CA32: =CA12*Annual!$U51/100 -> 5103.2273 | CB32: =CB12*Annual!$U51/100 -> 5101.2447 | CC32: =CC12*Annual!$U51/100 -> 5300.3322 | CD32: =CD12*Annual!$V51/100 -> 5246.0901 | CE32: =CE12*Annual!$V51/100 -> 5224.3049 | CF32: =CF12*Annual!$V51/100 -> 5200.8939 | CG32: =CG12*Annual!$V51/100 -> 5388.6333 | CH32: =CH12*Annual!$W51/100 -> 5351.7822 | CI32: =CI12*Annual!$W51/100 -> 5247.6407 | CJ32: =CJ12*Annual!$W51/100 -> 5271.2432 | CK32: =CK12*Annual!$W51/100 -> 5421.9104
A33: Tertiary industries | B33: =SUM(B34:B38) -> 35988.663 | C33: =SUM(C34:C38) -> 36396.989 | D33: =SUM(D34:D38) -> 37704.239 | E33: =SUM(E34:E38) -> 39200.482 | F33: =SUM(F34:F38) -> 37643.166 | G33: =SUM(G34:G38) -> 38000.787 | H33: =SUM(H34:H38) -> 39156.94 | I33: =SUM(I34:I38) -> 40634.777 | ... CK33: =SUM(CK34:CK38) -> 79960.763
