Workbook

Sheet Introduction
B1: Annual GOS and GOS-R
B3: Quarterly GOS and GOS-R
B5: Year-on-Year Growth Rates per Sector
B7: Annualised Quarterly Rates per Sector
B9: Yearly Provincial Contribution Rates per Sector
B11: Yearly Provincial Sector as a % of National Sector GOS
B13: Ethekwini Municipal Area GOS
B15: Msunduzi Municipal Area GOS
B17: Mthlatuze Municipal Area GOS
D18: Model Assumptions
B19: Hibiscus Coast Municipal GOS
D20: Stable structural relationship between SA and KZN economy
B21: Newcastle Municipal GOS
D22: Stable relationship between GDP and Fuel Consumption
B23: Comparitive Growth Rates
D24: Fuel Consumption per R1 GDP are location insensitive
B25: Comparitive Contribution Rates

Sheet Annual
A1: Annual Gross Operating Surplus
A3: SA – Annual Gross Operating Surplus
A4: Rand million
A5: National Industry | B5: 1995 | C5: 1996 | D5: 1997 | E5: 1998 | F5: 1999 | G5: 2000 | H5: 2001 | I5: 2002 | J5: 2003 | K5: 2004 | L5: 2005 | M5: 2006 | N5: 2007 | O5: 2008 | P5: 2009 | Q5: 2010 | R5: 2011 | S5: 2012 | T5: 2013 | U5: 2014 | V5: 2015 | W5: 2016
A6: Primary Industries | B6: =SUM(B7:B8) -> 29927.719 | C6: =SUM(C7:C8) -> 36536.546 | D6: =SUM(D7:D8) -> 37163.746 | E6: =SUM(E7:E8) -> 40314.905 | F6: =SUM(F7:F8) -> 44354.367 | G6: =SUM(G7:G8) -> 54094.677 | H6: =SUM(H7:H8) -> 69684.172 | I6: =SUM(I7:I8) -> 88009.203 | ... W6: =SUM(W7:W8) -> 229680
A7: Agriculture, forestry and fishing | B7: 13512.833 | C7: 17560.327 | D7: 18528.28 | E7: 17916.444 | F7: 18182.216 | G7: 18893.764 | H7: 23630.216 | I7: 29537.6 | J7: 27036.531 | K7: 27769.95 | L7: 26950 | M7: 29992.799 | N7: 41053.179 | O7: 51083 | P7: 49653.4 | Q7: 46111 | R7: 49005 | S7: 49163 | T7: 51149 | U7: 57658 | V7: 57491 | W7: 66111
A8: Mining and quarrying | B8: 16414.885 | C8: 18976.218 | D8: 18635.466 | E8: 22398.461 | F8: 26172.151 | G8: 35200.913 | H8: 46053.956 | I8: 58471.603 | J8: 51170.211 | K8: 53688.694 | L8: 65358 | M8: 83308.379 | N8: 99450.889 | O8: 127967.97 | P8: 125223.63 | Q8: 143950 | R8: 164096 | S8: 157548 | T8: 168893 | U8: 163857 | V8: 151510 | W8: 163569
A9: Secondary Industries | B9: =SUM(B10:B12) -> 72169.534 | C9: =SUM(C10:C12) -> 78580.864 | D9: =SUM(D10:D12) -> 88193.485 | E9: =SUM(E10:E12) -> 86643.51 | F9: =SUM(F10:F12) -> 89301.967 | G9: =SUM(G10:G12) -> 106767.29 | H9: =SUM(H10:H12) -> 120929.05 | I9: =SUM(I10:I12) -> 144018.62 | ... W9: =SUM(W10:W12) -> 368768
A10: Manufacturing | B10: 53309.838 | C10: 58115.9 | D10: 65421.119 | E10: 63378.598 | F10: 66143.629 | G10: 81758.667 | H10: 94514.156 | I10: 115012.15 | J10: 124172.7 | K10: 135220.81 | L10: 145271.13 | M10: 135302.02 | N10: 148664.63 | O10: 164510.7 | P10: 156551.6 | Q10: 153020 | R10: 144479 | S10: 144588 | T10: 149415 | U10: 174044 | V10: 180572 | W10: 186018
A11: Electricity, gas and water | B11: 12052.594 | C11: 12065.89 | D11: 12769.359 | E11: 13241.811 | F11: 12924.922 | G11: 14070.592 | H11: 14256.01 | I11: 16210.875 | J11: 14328.763 | K11: 16010.053 | L11: 15966.18 | M11: 17005.311 | N11: 17818.061 | O11: 20156.237 | P11: 33466.68 | Q11: 45848 | R11: 60493 | S11: 76256 | T11: 83633 | U11: 89228 | V11: 98434 | W11: 102139
A12: Construction | B12: 6807.1018 | C12: 8399.0746 | D12: 10003.007 | E12: 10023.102 | F12: 10233.416 | G12: 10938.035 | H12: 12158.88 | I12: 12795.6 | J12: 14069 | K12: 18035.4 | L12: 22496 | M12: 25517.2 | N12: 33401.7 | O12: 55349 | P12: 53815.2 | Q12: 51166 | R12: 55831 | S12: 61199 | T12: 70118 | U12: 76803 | V12: 81648 | W12: 80611
A13: Tertiary industries | B13: =SUM(B14:B18) -> 137514.43 | C13: =SUM(C14:C18) -> 156970.49 | D13: =SUM(D14:D18) -> 176926.06 | E13: =SUM(E14:E18) -> 191115.26 | F13: =SUM(F14:F18) -> 218021.83 | G13: =SUM(G14:G18) -> 254859.45 | H13: =SUM(H14:H18) -> 285075.51 | I13: =SUM(I14:I18) -> 347516.07 | ... W13: =SUM(W14:W18) -> 1219683
A14: Wholesale & retail trade; hotels & restaurants | B14: 38619.131 | C14: 43493.839 | D14: 46300.799 | E14: 47594.051 | F14: 51786.998 | G14: 64901.635 | H14: 72340.833 | I14: 86306 | J14: 95779 | K14: 107502 | L14: 115636.52 | M14: 127406.34 | N14: 145157.47 | O14: 170889.43 | P14: 183353.97 | Q14: 222537 | R14: 241306 | S14: 258623 | T14: 275733 | U14: 287963 | V14: 313810 | W14: 341680
A15: Transport , storage and communication | B15: 25420.207 | C15: 30182.081 | D15: 34515.716 | E15: 38510.154 | F15: 44169.666 | G15: 53238.012 | H15: 59966.349 | I15: 69629.954 | J15: 84919.92 | K15: 97155.18 | L15: 108419.48 | M15: 139920.39 | N15: 149775.88 | O15: 155920.76 | P15: 154650.99 | Q15: 154836 | R15: 174645 | S15: 199423 | T15: 225168 | U15: 241053 | V15: 250867 | W15: 260599
A16: Finance, real estate and business services | B16: 50760 | C16: 57814.51 | D16: 67927.54 | E16: 73014.49 | F16: 85901.67 | G16: 94650.77 | H16: 106208.49 | I16: 136695.82 | J16: 153059.58 | K16: 169598.48 | L16: 191949.3 | M16: 217310.67 | N16: 266197.42 | O16: 275313.5 | P16: 307788.17 | Q16: 327228 | R16: 347867 | S16: 369480 | T16: 385805 | U16: 402197 | V16: 424143 | W16: 443879
A17: Personal services | B17: 9100.0955 | C17: 10387.557 | D17: 11415.004 | E17: 12974.57 | F17: 14838.491 | G17: 17835.036 | H17: 19403.838 | I17: 23369.301 | J17: 27144.4 | K17: 29834 | L17: 33006.599 | M17: 38592.001 | N17: 40942.599 | O17: 42879.801 | P17: 51374.6 | Q17: 58136 | R17: 66141 | S17: 70293 | T17: 71922 | U17: 72890 | V17: 79409 | W17: 81027
A18: General government services | B18: 13615 | C18: 15092.5 | D18: 16767 | E18: 19022 | F18: 21325 | G18: 24234 | H18: 27156 | I18: 31515 | J18: 32069 | K18: 33231 | L18: 35900 | M18: 39684 | N18: 44520 | O18: 52384 | P18: 55075 | Q18: 57321 | R18: 61160 | S18: 66343 | T18: 73147 | U18: 79752 | V18: 84144 | W18: 92498
A19: Annual Gross Operating Surplus | B19: =B13+B9+B6 -> 239611.69 | C19: =C13+C9+C6 -> 272087.9 | D19: =D13+D9+D6 -> 302283.29 | E19: =E13+E9+E6 -> 318073.68 | F19: =F13+F9+F6 -> 351678.16 | G19: =G13+G9+G6 -> 415721.42 | H19: =H13+H9+H6 -> 475688.73 | I19: =I13+I9+I6 -> 579543.9 | ... W19: =W13+W9+W6 -> 1818131
A20: 0 | B20: 0 | C20: 0 | D20: 0 | E20: 0 | F20: 0 | G20: 0 | H20: 0 | I20: 0 | J20: 0 | K20: 0 | L20: 0 | M20: 0 | N20: 0 | O20: 0 | P20: 0 | Q20: 0 | R20: 0 | S20: 0 | T20: 0 | U20: 1 | V20: 2 | W20: 3
A21: SA - Annual Gross Operating Surplus | B21: =B19+B20 -> 239611.69 | C21: =C19+C20 -> 272087.9 | D21: =D19+D20 -> 302283.29 | E21: =E19+E20 -> 318073.68 | F21: =F19+F20 -> 351678.16 | G21: =G19+G20 -> 415721.42 | H21: =H19+H20 -> 475688.73 | I21: =I19+I20 -> 579543.9 | ... W21: =W19+W20 -> 1818134
A23: KZN – Annual Gross Operating Surplus
A24: Rand million
A25: Provincial Industry | B25: 1995 | C25: 1996 | D25: 1997 | E25: 1998 | F25: 1999 | G25: 2000 | H25: 2001 | I25: 2002 | J25: 2003 | K25: 2004 | L25: 2005 | M25: 2006 | N25: 2007 | O25: 2008 | P25: 2009 | Q25: 2010 | R25: =R5 -> 2011 | S25: =S5 -> 2012 | T25: =T5 -> 2013 | U25: =U5 -> 2014 | V25: =V5 -> 2015 | W25: =W5 -> 2016
A26: Primary Industries | B26: =B27+B28 -> 4448.3206 | C26: =C27+C28 -> 5367.6851 | D26: =D27+D28 -> 5541.9788 | E26: =E27+E28 -> 5839.0247 | F26: =F27+F28 -> 5557.085 | G26: =G27+G28 -> 6001.2181 | H26: =H27+H28 -> 7798.4037 | I26: =I27+I28 -> 9600.7394 | ... W26: =W27+W28 -> 23798.401
A27: Agriculture, forestry and fishing | B27: =B7*B46/100 -> 3849.01 | C27: =C7*C46/100 -> 4656.31 | D27: =D7*D46/100 -> 4847.467 | E27: =E7*E46/100 -> 5014.7277 | F27: =F7*F46/100 -> 4645.9555 | G27: =G7*G46/100 -> 4771.7984 | H27: =H7*H46/100 -> 6175.7542 | I27: =I7*I46/100 -> 7553.9636 | ... W27: =W7*W46/100 -> 18218.372
A28: Mining and quarrying | B28: =B8*B47/100 -> 599.31065 | C28: =C8*C47/100 -> 711.37508 | D28: =D8*D47/100 -> 694.5118 | E28: =E8*E47/100 -> 824.29703 | F28: =F8*F47/100 -> 911.12949 | G28: =G8*G47/100 -> 1229.4198 | H28: =H8*H47/100 -> 1622.6495 | I28: =I8*I47/100 -> 2046.7758 | ... W28: =W8*W47/100 -> 5580.0288
A29: Secondary Industries | B29: =B30+B31+B32 -> 14436.971 | C29: =C30+C31+C32 -> 15750.518 | D29: =D30+D31+D32 -> 17763.806 | E29: =E30+E31+E32 -> 17259.588 | F29: =F30+F31+F32 -> 17873.169 | G29: =G30+G31+G32 -> 21547.142 | H29: =H30+H31+H32 -> 25001.391 | I29: =I30+I31+I32 -> 28992.264 | ... W29: =W30+W31+W32 -> 70182.425
A30: Manufacturing | B30: =B10*B49/100 -> 10945.356 | C30: =C10*C49/100 -> 11973.066 | D30: =D10*D49/100 -> 13471.658 | E30: =E10*E49/100 -> 13018.343 | F30: =F10*F49/100 -> 13726.905 | G30: =G10*G49/100 -> 17053.811 | H30: =H10*H49/100 -> 19678.374 | I30: =I10*I49/100 -> 23911.013 | ... W30: =W10*W49/100 -> 38824.789
A31: Electricity, gas and water | B31: =B11*B50/100 -> 1886.2239 | C31: =C11*C50/100 -> 1869.3545 | D31: =D11*D50/100 -> 1969.6593 | E31: =E11*E50/100 -> 2046.6422 | F31: =F11*F50/100 -> 2004.1788 | G31: =G11*G50/100 -> 2214.1191 | H31: =H11*H50/100 -> 2299.8065 | I31: =I11*I50/100 -> 2629.1974 | ... W31: =W11*W50/100 -> 16029.507
A32: Construction | B32: =B12*B51/100 -> 1605.3904 | C32: =C12*C51/100 -> 1908.097 | D32: =D12*D51/100 -> 2322.4889 | E32: =E12*E51/100 -> 2194.6027 | F32: =F12*F51/100 -> 2142.0853 | G32: =G12*G51/100 -> 2279.2116 | H32: =H12*H51/100 -> 3023.2109 | I32: =I12*I51/100 -> 2452.0537 | ... W32: =W12*W51/100 -> 15328.129
A33: Tertiary industries | B33: =SUM(B34:B38) -> 22025.994 | C33: =SUM(C34:C38) -> 25088.239 | D33: =SUM(D34:D38) -> 28007.172 | E33: =SUM(E34:E38) -> 30403.831 | F33: =SUM(F34:F38) -> 34521.766 | G33: =SUM(G34:G38) -> 40090.331 | H33: =SUM(H34:H38) -> 44995.255 | I33: =SUM(I34:I38) -> 54342.725 | ... W33: =SUM(W34:W38) -> 197776.93
A34: Wholesale & retail trade; hotels & restaurants | B34: =B14*B53/100 -> 5956.4156 | C34: =C14*C53/100 -> 6614.2749 | D34: =D14*D53/100 -> 7051.9557 | E34: =E14*E53/100 -> 7218.939 | F34: =F14*F53/100 -> 7833.8042 | G34: =G14*G53/100 -> 9853.955 | H34: =H14*H53/100 -> 11620.635 | I34: =I14*I53/100 -> 13884.198 | ... W34: =W14*W53/100 -> 56199.583
A35: Transport , storage and communication | B35: =B15*B54/100 -> 5640.3229 | C35: =C15*C54/100 -> 6600.1344 | D35: =D15*D54/100 -> 7410.836 | E35: =E15*E54/100 -> 8208.4294 | F35: =F15*F54/100 -> 9271.5664 | G35: =G15*G54/100 -> 10978.612 | H35: =H15*H54/100 -> 12245.88 | I35: =I15*I54/100 -> 14265.639 | ... W35: =W15*W54/100 -> 54600.507
A36: Finance, real estate and business services | B36: =B16*B55/100 -> 6905.4876 | C36: =C16*C55/100 -> 7877.5719 | D36: =D16*D55/100 -> 9206.6471 | E36: =E16*E55/100 -> 9976.5419 | F36: =F16*F55/100 -> 11852.665 | G36: =G16*G55/100 -> 12754.982 | H36: =H16*H55/100 -> 13861.679 | I36: =I16*I55/100 -> 17635.223 | ... W36: =W16*W55/100 -> 59858.241
A37: Personal services | B37: =B17*B56/100 -> 1504.7253 | C37: =C17*C56/100 -> 1717.4344 | D37: =D17*D56/100 -> 1886.6377 | E37: =E17*E56/100 -> 2144.4709 | F37: =F17*F56/100 -> 2447.4675 | G37: =G17*G56/100 -> 2938.5966 | H37: =H17*H56/100 -> 3197.9441 | I37: =I17*I56/100 -> 3849.4799 | ... W37: =W17*W56/100 -> 13373.575
A38: General government services | B38: =B18*B57/100 -> 2019.0421 | C38: =C18*C57/100 -> 2278.8231 | D38: =D18*D57/100 -> 2451.0955 | E38: =E18*E57/100 -> 2855.45 | F38: =F18*F57/100 -> 3116.2629 | G38: =G18*G57/100 -> 3564.1849 | H38: =H18*H57/100 -> 4069.1169 | I38: =I18*I57/100 -> 4708.1857 | ... W38: =W18*W57/100 -> 13745.022
A39: =A21 -> SA - Annual Gross Operating Surplus | B39: =B33+B29+B26 -> 40911.285 | C39: =C33+C29+C26 -> 46206.441 | D39: =D33+D29+D26 -> 51312.957 | E39: =E33+E29+E26 -> 53502.444 | F39: =F33+F29+F26 -> 57952.02 | G39: =G33+G29+G26 -> 67638.691 | H39: =H33+H29+H26 -> 77795.05 | I39: =I33+I29+I26 -> 92935.729 | ... W39: =W33+W29+W26 -> 291757.75
A40: Taxes less subsidies on products | B40: 0 | C40: 0 | D40: 0 | E40: 0 | F40: 0 | G40: 0 | H40: 0 | I40: 0 | J40: 0 | K40: 0 | L40: 0 | M40: 0 | N40: 0 | O40: 0 | P40: 1 | Q40: 2 | R40: 3 | S40: 4 | T40: 5 | U40: 6 | V40: 7 | W40: 8
A41: KZN - Annual Gross Operating Surplus | B41: =B40+B39 -> 40911.285 | C41: =C40+C39 -> 46206.441 | D41: =D40+D39 -> 51312.957 | E41: =E40+E39 -> 53502.444 | F41: =F40+F39 -> 57952.02 | G41: =G40+G39 -> 67638.691 | H41: =H40+H39 -> 77795.05 | I41: =I40+I39 -> 92935.729 | ... W41: =W40+W39 -> 291765.75
A43: Structure Relationship
...

Sheet Quarterly
A1: Quarterly Gross Operating Surplus
A3: =Annual!A3 -> SA – Annual Gross Operating Surplus
A4: Rand million
A5: National Industry | B5: 1995q1 | C5: 1995q2 | D5: 1995q3 | E5: 1995q4 | F5: 1996q1 | G5: 1996q2 | H5: 1996q3 | I5: 1996q4 | J5: 1997q1 | K5: 1997q2 | L5: 1997q3 | M5: 1997q4 | N5: 1998q1 | O5: 1998q2 | P5: 1998q3 | Q5: 1998q4 | R5: 1999q1 | S5: 1999q2 | T5: 1999q3 | U5: 1999q4 | V5: 2000q1 | W5: 2000q2 | X5: 2000q3 | Y5: 2000q4 | Z5: 2001q1 | AA5: 2001q2 | AB5: 2001q3 | AC5: 2001q4 | AD5: 2002q1 | AE5: 2002q2 | AF5: 2002q3 | AG5: 2002q4 | AH5: 2003q1 | AI5: 2003q2 | AJ5: 2003q3 | AK5: 2003q4 | AL5: 2004q1 | AM5: 2004q2 | AN5: 2004q3 | AO5: 2004q4 | AP5: 2005q1 | AQ5: 2005q2 | AR5: 2005q3 | AS5: 2005q4 | AT5: 2006q1 | AU5: 2006q2 | AV5: 2006q3 | AW5: 2006q4 | AX5: 2007q1 | AY5: 2007q2 | AZ5: 2007q3 | BA5: 2007q4 | BB5: 2008q1 | BC5: 2008q2 | BD5: 2008q3 | BE5: 2008q4 | BF5: 2009q1 | BG5: 2009q2 | BH5: 2009q3 | BI5: 2009q4 | BJ5: 2010q1 | BK5: 2010q2 | BL5: 2010q3 | BM5: 2010q4 | BN5: 2011q1 | BO5: 2011q2 | BP5: 2011q3 | BQ5: 2011q4 | BR5: 2012q1 | BS5: 2012q2 | BT5: 2012q3 | BU5: 2012q4 | BV5: 2013q1 | BW5: 2013q2 | BX5: 2013q3 | BY5: 2013q4 | BZ5: 2014q1 | CA5: 2014q2 | CB5: 2014q3 | CC5: 2014q4 | CD5: 2015q1 | CE5: 2015q2 | CF5: 2015q3 | CG5: 2015q4 | CH5: 2016q1 | CI5: 2016q2 | CJ5: 2016q3 | CK5: 2016q4
A6: Primary Industries | B6: =SUM(B7:B8) -> 6033.0164 | C6: =SUM(C7:C8) -> 8538.8958 | D6: =SUM(D7:D8) -> 8767.2633 | E6: =SUM(E7:E8) -> 6588.5432 | F6: =SUM(F7:F8) -> 6553.0273 | G6: =SUM(G7:G8) -> 12507.211 | H6: =SUM(H7:H8) -> 10047.779 | I6: =SUM(I7:I8) -> 7428.5285 | ... CK6: =SUM(CK7:CK8) -> 50893
A7: Agriculture, forestry and fishing | B7: 2410.2984 | C7: 4031.7328 | D7: 4082.514 | E7: 2988.2881 | F7: 2524.5528 | G7: 7180.2712 | H7: 4663.4952 | I7: 3192.008 | J7: 3264.7021 | K7: 7692.958 | L7: 4670.52 | M7: 2900.0999 | N7: 3686.2927 | O7: 7443.1057 | P7: 4737.2696 | Q7: 2049.7758 | R7: 3168.0174 | S7: 8082.4848 | T7: 5069.4935 | U7: 1862.2201 | V7: 2934.2982 | W7: 6853.6886 | X7: 6692.0639 | Y7: 2413.7133 | Z7: 3531.7459 | AA7: 9642.1079 | AB7: 6777.1653 | AC7: 3679.1965 | AD7: 4198.9356 | AE7: 12683.727 | AF7: 8711.6829 | AG7: 3943.2542 | AH7: 3799.481 | AI7: 11987.338 | AJ7: 8001.48 | AK7: 3248.232 | AL7: 3812.182 | AM7: 11615.15 | AN7: 8913.423 | AO7: 3429.195 | AP7: 4921.531 | AQ7: 9479.275 | AR7: 8709.728 | AS7: 3839.466 | AT7: 5089.344 | AU7: 9248.106 | AV7: 10789.689 | AW7: 4865.66 | AX7: 7734.093 | AY7: 14655.402 | AZ7: 13264.304 | BA7: 5399.38 | BB7: 9088.288 | BC7: 20477.426 | BD7: 16392.78 | BE7: 5124.506 | BF7: 9700.525 | BG7: 21853.124 | BH7: 13412.971 | BI7: 4686.78 | BJ7: 9424 | BK7: 23267 | BL7: 10617 | BM7: 2803 | BN7: 8409 | BO7: 21203 | BP7: 14366 | BQ7: 5026 | BR7: 7909 | BS7: 24474 | BT7: 12471 | BU7: 4308 | BV7: 8773 | BW7: 27078 | BX7: 11731 | BY7: 3567 | BZ7: 9715 | CA7: 28674 | CB7: 15284 | CC7: 3985 | CD7: 12270 | CE7: 27566 | CF7: 12675 | CG7: 4980 | CH7: 15620 | CI7: 27319 | CJ7: 16675 | CK7: 6497
A8: Mining and quarrying | B8: 3622.718 | C8: 4507.163 | D8: 4684.7493 | E8: 3600.2551 | F8: 4028.4745 | G8: 5326.9398 | H8: 5384.2836 | I8: 4236.5204 | J8: 4193.4557 | K8: 5147.768 | L8: 5218.3273 | M8: 4075.9149 | N8: 4081.5967 | O8: 6024.1506 | P8: 6712.0675 | Q8: 5580.6465 | R8: 5604.3814 | S8: 6830.7711 | T8: 6991.6879 | U8: 6745.3103 | V8: 7627.0936 | W8: 9748.6162 | X8: 8980.8254 | Y8: 8844.3776 | Z8: 10582.076 | AA8: 12789.28 | AB8: 12028.244 | AC8: 10654.356 | AD8: 12693.5 | AE8: 16029 | AF8: 16476.2 | AG8: 13272.903 | AH8: 11980.778 | AI8: 13359.935 | AJ8: 14481.69 | AK8: 11347.808 | AL8: 11772 | AM8: 14268.4 | AN8: 15142.5 | AO8: 12505.794 | AP8: 12967.837 | AQ8: 18145.925 | AR8: 18055.778 | AS8: 16188.46 | AT8: 15240.927 | AU8: 20136.512 | AV8: 25756.807 | AW8: 22174.133 | AX8: 22279.644 | AY8: 25820.663 | AZ8: 26535.032 | BA8: 24815.55 | BB8: 25937.768 | BC8: 34303.961 | BD8: 36560.295 | BE8: 31165.947 | BF8: 26514.201 | BG8: 32940.388 | BH8: 34925.792 | BI8: 30843.244 | BJ8: 26024 | BK8: 37484 | BL8: 41223 | BM8: 39220 | BN8: 34815 | BO8: 40023 | BP8: 45640 | BQ8: 43619 | BR8: 35501 | BS8: 40451 | BT8: 44166 | BU8: 37429 | BV8: 38813 | BW8: 39600 | BX8: 47719 | BY8: 42760 | BZ8: 40591 | CA8: 38935 | CB8: 44112 | CC8: 40218 | CD8: 36814 | CE8: 37817 | CF8: 39092 | CG8: 37787 | CH8: 34666 | CI8: 42511 | CJ8: 41996 | CK8: 44396
A9: Secondary Industries | B9: =SUM(B10:B12) -> 16820.335 | C9: =SUM(C10:C12) -> 18116.757 | D9: =SUM(D10:D12) -> 19729.372 | E9: =SUM(E10:E12) -> 17503.069 | F9: =SUM(F10:F12) -> 18791.687 | G9: =SUM(G10:G12) -> 19824.123 | H9: =SUM(H10:H12) -> 20784.855 | I9: =SUM(I10:I12) -> 19180.199 | ... CK9: =SUM(CK10:CK12) -> 74658
A10: Manufacturing | B10: 12015.177 | C10: 13227.208 | D10: 14840.843 | E10: 13226.61 | F10: 13484.686 | G10: 14445.453 | H10: 15554.24 | I10: 14631.521 | J10: 15321.832 | K10: 16598.604 | L10: 17518.312 | M10: 15982.371 | N10: 15788.233 | O10: 15969.069 | P10: 16982.17 | Q10: 14639.126 | R10: 15190.107 | S10: 15669.023 | T10: 18189.373 | U10: 17095.126 | V10: 18353.328 | W10: 19284.049 | X10: 22725.518 | Y10: 21395.771 | Z10: 22561.412 | AA10: 22823.816 | AB10: 24852.869 | AC10: 24276.059 | AD10: 25620.283 | AE10: 27875.995 | AF10: 31294.969 | AG10: 30220.903 | AH10: 30698.714 | AI10: 30071.916 | AJ10: 32488.63 | AK10: 30913.435 | AL10: 32020.45 | AM10: 32467.936 | AN10: 36320.371 | AO10: 34412.054 | AP10: 32900.428 | AQ10: 36762.836 | AR10: 40186.371 | AS10: 35421.499 | AT10: 31658.295 | AU10: 33505.879 | AV10: 37343.41 | AW10: 32794.44 | AX10: 37514.867 | AY10: 35747.113 | AZ10: 38853.906 | BA10: 36548.739 | BB10: 40306.918 | BC10: 41349.353 | BD10: 45030.431 | BE10: 37823.996 | BF10: 41086.5 | BG10: 37466.314 | BH10: 41356.697 | BI10: 36642.092 | BJ10: 40128 | BK10: 37675 | BL10: 41421 | BM10: 33796 | BN10: 37701 | BO10: 35195 | BP10: 39918 | BQ10: 31665 | BR10: 39295 | BS10: 35687 | BT10: 38808 | BU10: 30798 | BV10: 35706 | BW10: 35710 | BX10: 41654 | BY10: 36345 | BZ10: 43337 | CA10: 42587 | CB10: 47831 | CC10: 40288 | CD10: 46193 | CE10: 44186 | CF10: 50618 | CG10: 39575 | CH10: 45875 | CI10: 48253 | CJ10: 52250 | CK10: 39639
A11: Electricity, gas and water | B11: 2991.6917 | C11: 3019.451 | D11: 3224.671 | E11: 2816.7801 | F11: 2978.2698 | G11: 3038.0926 | H11: 3279.7793 | I11: 2769.7479 | J11: 3016.6779 | K11: 3319.2469 | L11: 3422.6217 | M11: 3010.8123 | N11: 3168.7111 | O11: 3493.1889 | P11: 3476.7211 | Q11: 3103.1895 | R11: 2837.2505 | S11: 3340.9372 | T11: 3887.3859 | U11: 2859.348 | V11: 3231.1172 | W11: 3698.5728 | X11: 3990.3639 | Y11: 3150.5385 | Z11: 3291.3248 | AA11: 3678.7729 | AB11: 3986.1422 | AC11: 3299.7703 | AD11: 3527.305 | AE11: 4076.608 | AF11: 4629.341 | AG11: 3978.621 | AH11: 3176.155 | AI11: 3703.249 | AJ11: 4194.19 | AK11: 3255.169 | AL11: 3721.034 | AM11: 4025.932 | AN11: 4656.091 | AO11: 3606.996 | AP11: 3697.112 | AQ11: 4164.807 | AR11: 4585.139 | AS11: 3519.122 | AT11: 3736.105 | AU11: 4513.393 | AV11: 5062.817 | AW11: 3692.996 | AX11: 4167.34 | AY11: 4851.284 | AZ11: 5358.776 | BA11: 3440.661 | BB11: 4710.843 | BC11: 5537.855 | BD11: 6275.896 | BE11: 3631.643 | BF11: 7365.848 | BG11: 8832.257 | BH11: 10710.777 | BI11: 6557.798 | BJ11: 11938 | BK11: 13452 | BL11: 12517 | BM11: 7942 | BN11: 13472 | BO11: 19398 | BP11: 17042 | BQ11: 10581 | BR11: 17427 | BS11: 24342 | BT11: 20880 | BU11: 13607 | BV11: 19107 | BW11: 26834 | BX11: 22870 | BY11: 14822 | BZ11: 20954 | CA11: 29014 | CB11: 23798 | CC11: 15462 | CD11: 23542 | CE11: 31494 | CF11: 26104 | CG11: 17295 | CH11: 24205 | CI11: 32964 | CJ11: 27262 | CK11: 17709
A12: Construction | B12: 1813.4661 | C12: 1870.0978 | D12: 1663.8588 | E12: 1459.6792 | F12: 2328.7314 | G12: 2340.5775 | H12: 1950.8354 | I12: 1778.9303 | J12: 2674.9089 | K12: 2638.9871 | L12: 2472.7282 | M12: 2216.3826 | N12: 2745.9597 | O12: 2674.8178 | P12: 2480.9598 | Q12: 2121.3645 | R12: 2835.3447 | S12: 2737.3796 | T12: 2520.0577 | U12: 2140.6342 | V12: 2975.9243 | W12: 2898.4607 | X12: 2708.9831 | Y12: 2354.6668 | Z12: 3247.4538 | AA12: 3258.5942 | AB12: 3012.6584 | AC12: 2640.1731 | AD12: 3397 | AE12: 3352 | AF12: 3094 | AG12: 2952.6 | AH12: 3849 | AI12: 3729 | AJ12: 3354 | AK12: 3137 | AL12: 4227 | AM12: 4893 | AN12: 4514 | AO12: 4401.4 | AP12: 5449 | AQ12: 5903 | AR12: 5791 | AS12: 5353 | AT12: 6126 | AU12: 6766 | AV12: 6666 | AW12: 5959.2 | AX12: 8567 | AY12: 8715 | AZ12: 8495 | BA12: 7624.7 | BB12: 12580 | BC12: 14162 | BD12: 14831 | BE12: 13776 | BF12: 13783 | BG12: 14734 | BH12: 13760 | BI12: 11538.2 | BJ12: 13158 | BK12: 13839 | BL12: 13307 | BM12: 10862 | BN12: 13294 | BO12: 15148 | BP12: 14381 | BQ12: 13007 | BR12: 15236 | BS12: 16777 | BT12: 15277 | BU12: 13909 | BV12: 16192 | BW12: 18807 | BX12: 18415 | BY12: 16704 | BZ12: 20188 | CA12: 21265 | CB12: 18798 | CC12: 16552 | CD12: 21031 | CE12: 22836 | CF12: 19924 | CG12: 17856 | CH12: 20870 | CI12: 22895 | CJ12: 19537 | CK12: 17310
A13: Tertiary industries | B13: =SUM(B14:B18) -> 32683.383 | C13: =SUM(C14:C18) -> 32806.683 | D13: =SUM(D14:D18) -> 35143.91 | E13: =SUM(E14:E18) -> 36880.458 | F13: =SUM(F14:F18) -> 37464.035 | G13: =SUM(G14:G18) -> 37565.553 | H13: =SUM(H14:H18) -> 39962.018 | I13: =SUM(I14:I18) -> 41978.881 | ... CK13: =SUM(CK14:CK18) -> 319980
A14: Wholesale & retail trade; hotels & restaurants | B14: 9019.6688 | C14: 8786.6887 | D14: 9592.0358 | E14: 11220.738 | F14: 10078.063 | G14: 9938.5302 | H14: 10700.647 | I14: 12776.599 | J14: 10843.87 | K14: 11026.354 | L14: 11515.504 | M14: 12915.07 | N14: 11245.429 | O14: 12048.847 | P14: 11825.933 | Q14: 12473.842 | R14: 11650.429 | S14: 11664.05 | T14: 12896.963 | U14: 15575.556 | V14: 14629.219 | W14: 14828.799 | X14: 16534.946 | Y14: 18908.671 | Z14: 17120.215 | AA14: 16880.375 | AB14: 17684.092 | AC14: 20656.15 | AD14: 19732.618 | AE14: 20018.716 | AF14: 21263.531 | AG14: 25291.136 | AH14: 22615.329 | AI14: 22130.719 | AJ14: 23676.644 | AK14: 27356.308 | AL14: 25133.524 | AM14: 24144.923 | AN14: 27544.06 | AO14: 30679.495 | AP14: 27063.369 | AQ14: 26436.948 | AR14: 28953.299 | AS14: 33182.904 | AT14: 29729.224 | AU14: 29268.599 | AV14: 32119.643 | AW14: 36288.874 | AX14: 34061.749 | AY14: 33577.234 | AZ14: 36259.825 | BA14: 41258.662 | BB14: 40553.473 | BC14: 40543.474 | BD14: 42509.204 | BE14: 47283.279 | BF14: 44303.006 | BG14: 44298.409 | BH14: 44177.35 | BI14: 50575.204 | BJ14: 50688 | BK14: 55072 | BL14: 53023 | BM14: 63755 | BN14: 54018 | BO14: 58637 | BP14: 58437 | BQ14: 70215 | BR14: 58756 | BS14: 63080 | BT14: 62739 | BU14: 74048 | BV14: 63855 | BW14: 66721 | BX14: 68023 | BY14: 77134 | BZ14: 69110 | CA14: 70710 | CB14: 69793 | CC14: 78350 | CD14: 72808 | CE14: 78140 | CF14: 76258 | CG14: 86604 | CH14: 79349 | CI14: 85970 | CJ14: 82686 | CK14: 93675
A15: Transport , storage and communication | B15: 5648.0822 | C15: 5900.973 | D15: 6771.069 | E15: 7100.083 | F15: 7211.0466 | G15: 7009.3064 | H15: 7865.0719 | I15: 8096.6559 | J15: 7906.3116 | K15: 8287.3522 | L15: 9230.9173 | M15: 9091.1345 | N15: 8676.4861 | O15: 9323.8086 | P15: 10073.401 | Q15: 10436.458 | R15: 9875.1828 | S15: 10593.966 | T15: 11566.946 | U15: 12133.571 | V15: 11680.578 | W15: 12726.669 | X15: 14024.909 | Y15: 14805.855 | Z15: 13770.868 | AA15: 14524.115 | AB15: 15128.526 | AC15: 16542.84 | AD15: 16086.988 | AE15: 16610.706 | AF15: 17491.765 | AG15: 19440.495 | AH15: 19908.102 | AI15: 20296.315 | AJ15: 21313.655 | AK15: 23401.848 | AL15: 23389.886 | AM15: 23720.747 | AN15: 24640.173 | AO15: 25404.374 | AP15: 25812.519 | AQ15: 25491.005 | AR15: 27303.261 | AS15: 29812.698 | AT15: 31474.028 | AU15: 33943.75 | AV15: 36398.602 | AW15: 38104.011 | AX15: 33324.927 | AY15: 36497.99 | AZ15: 39317.167 | BA15: 40635.796 | BB15: 34413.709 | BC15: 38436.599 | BD15: 40023.175 | BE15: 43047.272 | BF15: 34736.44 | BG15: 38281.544 | BH15: 39665.19 | BI15: 41967.816 | BJ15: 33495 | BK15: 38130 | BL15: 39803 | BM15: 43407 | BN15: 38616 | BO15: 43469 | BP15: 45684 | BQ15: 46876 | BR15: 45384 | BS15: 49691 | BT15: 51860 | BU15: 52489 | BV15: 52001 | BW15: 54968 | BX15: 58520 | BY15: 59680 | BZ15: 55282 | CA15: 59385 | CB15: 62422 | CC15: 63964 | CD15: 59286 | CE15: 61654 | CF15: 63604 | CG15: 66323 | CH15: 60910 | CI15: 63257 | CJ15: 66926 | CK15: 69505
A16: Finance, real estate and business services | B16: 12585.09 | C16: 12494 | D16: 12978 | E16: 12702.91 | F16: 14145.1 | G16: 14323.1 | H16: 14857.2 | I16: 14489.11 | J16: 16208.2 | K16: 16799.2 | L16: 17635.18 | M16: 17284.96 | N16: 17967.2 | O16: 18464.2 | P16: 18194.18 | Q16: 18388.91 | R16: 20660.93 | S16: 20550.92 | T16: 22171.96 | U16: 22517.86 | V16: 22243.99 | W16: 22651.95 | X16: 24779.95 | Y16: 24974.88 | Z16: 25737.83 | AA16: 26036.9 | AB16: 26937.95 | AC16: 27495.81 | AD16: 32497.9 | AE16: 32635.92 | AF16: 34736 | AG16: 36826 | AH16: 38957.02 | AI16: 38621.07 | AJ16: 38097.05 | AK16: 37384.44 | AL16: 42637.9 | AM16: 41442.9 | AN16: 42575.9 | AO16: 42941.78 | AP16: 47654 | AQ16: 48319 | AR16: 48026.31 | AS16: 47949.99 | AT16: 52556.08 | AU16: 52874.07 | AV16: 55951.04 | AW16: 55929.48 | AX16: 65990.9 | AY16: 63700 | AZ16: 67186.8 | BA16: 69319.72 | BB16: 70034.07 | BC16: 66554.216 | BD16: 69031.18 | BE16: 69694.03 | BF16: 78302.08 | BG16: 75595.09 | BH16: 74607 | BI16: 79284 | BJ16: 83341 | BK16: 80188 | BL16: 79999 | BM16: 83700 | BN16: 87751 | BO16: 85468 | BP16: 85409 | BQ16: 89238 | BR16: 90998 | BS16: 90140 | BT16: 91053 | BU16: 97290 | BV16: 96622 | BW16: 97203 | BX16: 94750 | BY16: 97230 | BZ16: 103250 | CA16: 95472 | CB16: 100038 | CC16: 103438 | CD16: 108361 | CE16: 102405 | CF16: 106835 | CG16: 106543 | CH16: 112396 | CI16: 107962 | CJ16: 110954 | CK16: 112566
A17: Personal services | B17: 2143.5418 | C17: 2240.0217 | D17: 2361.8051 | E17: 2354.7269 | F17: 2442.5754 | G17: 2566.3661 | H17: 2692.0995 | I17: 2686.5163 | J17: 2693.7528 | K17: 2822.5148 | L17: 2955.9265 | M17: 2942.8097 | N17: 3130.9311 | O17: 3197.3269 | P17: 3350.5417 | Q17: 3295.77 | R17: 3497.8421 | S17: 3604.7441 | T17: 3899.695 | U17: 3836.2096 | V17: 4197.389 | W17: 4402.1424 | X17: 4655.6733 | Y17: 4579.8315 | Z17: 4875.5093 | AA17: 4808.6406 | AB17: 4862.1186 | AC17: 4857.5697 | AD17: 5673.737 | AE17: 5726.965 | AF17: 5929.086 | AG17: 6039.513 | AH17: 6765.433 | AI17: 6736.39 | AJ17: 6799.399 | AK17: 6843.178 | AL17: 7097.895 | AM17: 7411.295 | AN17: 7605.655 | AO17: 7719.155 | AP17: 7860.024 | AQ17: 8073.435 | AR17: 8375.927 | AS17: 8697.213 | AT17: 9049.944 | AU17: 9439.629 | AV17: 9852.909 | AW17: 10249.519 | AX17: 9560.711 | AY17: 10504.843 | AZ17: 10801.32 | BA17: 10075.725 | BB17: 9548.813 | BC17: 11234.935 | BD17: 11528.811 | BE17: 10567.242 | BF17: 11290.925 | BG17: 13599.183 | BH17: 13738.71 | BI17: 12745.782 | BJ17: 12402 | BK17: 15365 | BL17: 15542 | BM17: 14827 | BN17: 13780 | BO17: 16759 | BP17: 17532 | BQ17: 18069 | BR17: 15408 | BS17: 17776 | BT17: 18627 | BU17: 18481 | BV17: 16320 | BW17: 18055 | BX17: 18822 | BY17: 18724 | BZ17: 16779 | CA17: 18557 | CB17: 18936 | CC17: 18619 | CD17: 18659 | CE17: 19729 | CF17: 20648 | CG17: 20373 | CH17: 19381 | CI17: 20002 | CJ17: 20897 | CK17: 20747
A18: General government services | B18: 3287 | C18: 3385 | D18: 3441 | E18: 3502 | F18: 3587.25 | G18: 3728.25 | H18: 3847 | I18: 3930 | J18: 4013 | K18: 4111 | L18: 4307 | M18: 4336 | N18: 4379 | O18: 4604 | P18: 4997 | Q18: 5042 | R18: 5111 | S18: 5219 | T18: 5456 | U18: 5539 | V18: 5711 | W18: 5908 | X18: 6221 | Y18: 6394 | Z18: 6609 | AA18: 6640 | AB18: 6806 | AC18: 7101 | AD18: 7685 | AE18: 7749 | AF18: 7939 | AG18: 8142 | AH18: 8005 | AI18: 7995 | AJ18: 8024 | AK18: 8045 | AL18: 8141 | AM18: 8163 | AN18: 8385 | AO18: 8542 | AP18: 8645 | AQ18: 8829 | AR18: 9120 | AS18: 9306 | AT18: 9479 | AU18: 9698 | AV18: 10115 | AW18: 10392 | AX18: 10517 | AY18: 10965 | AZ18: 11424 | BA18: 11614 | BB18: 12028 | BC18: 12872 | BD18: 13621 | BE18: 13863 | BF18: 13767 | BG18: 13558 | BH18: 13735 | BI18: 14015 | BJ18: 14174 | BK18: 14254 | BL18: 14463 | BM18: 14430 | BN18: 14849 | BO18: 15032 | BP18: 15401 | BQ18: 15878 | BR18: 16138 | BS18: 16381 | BT18: 16789 | BU18: 17035 | BV18: 17542 | BW18: 18014 | BX18: 18661 | BY18: 18929 | BZ18: 19521 | CA18: 19776 | CB18: 20204 | CC18: 20250 | CD18: 20457 | CE18: 20539 | CF18: 21495 | CG18: 21654 | CH18: 22467 | CI18: 23037 | CJ18: 23507 | CK18: 23487
A19: All industries at basic prices | B19: =B13+B9+B6 -> 55536.734 | C19: =C13+C9+C6 -> 59462.336 | D19: =D13+D9+D6 -> 63640.546 | E19: =E13+E9+E6 -> 60972.07 | F19: =F13+F9+F6 -> 62808.749 | G19: =G13+G9+G6 -> 69896.887 | H19: =H13+H9+H6 -> 70794.652 | I19: =I13+I9+I6 -> 68587.608 | ... CK19: =CK13+CK9+CK6 -> 445531
A21: SA - Annual Gross Operating Surplus | B21: =B19+B20 -> 55536.734 | C21: =C19+C20 -> 59462.336 | D21: =D19+D20 -> 63640.546 | E21: =E19+E20 -> 60972.07 | F21: =F19+F20 -> 62808.749 | G21: =G19+G20 -> 69896.887 | H21: =H19+H20 -> 70794.652 | I21: =I19+I20 -> 68587.608 | ... CK21: =CK19+CK20 -> 445531
A23: =Annual!A23 -> KZN – Annual Gross Operating Surplus
A24: Rand million
A25: Provincial Industry | B25: =B5 -> 1995q1 | C25: =C5 -> 1995q2 | D25: =D5 -> 1995q3 | E25: =E5 -> 1995q4 | F25: =F5 -> 1996q1 | G25: =G5 -> 1996q2 | H25: =H5 -> 1996q3 | I25: =I5 -> 1996q4 | ... CK25: =CK5 -> 2016q4
A26: Primary Industries | B26: =SUM(B27:B28) -> 818.81813 | C26: =SUM(C27:C28) -> 1312.9605 | D26: =SUM(D27:D28) -> 1333.9088 | E26: =SUM(E27:E28) -> 982.6332 | F26: =SUM(F27:F28) -> 820.43069 | G26: =SUM(G27:G28) -> 2103.6211 | H26: =SUM(H27:H28) -> 1438.4205 | I26: =SUM(I27:I28) -> 1005.2128 | ... CK26: =SUM(CK27:CK28) -> 3322.7365
A27: Agriculture, forestry and fishing | B27: =B7*Annual!$B46/100 -> 686.55199 | C27: =C7*Annual!$B46/100 -> 1148.4031 | D27: =D7*Annual!$B46/100 -> 1162.8677 | E27: =E7*Annual!$B46/100 -> 851.18718 | F27: =F7*Annual!$C46/100 -> 669.41238 | G27: =G7*Annual!$C46/100 -> 1903.9263 | H27: =H7*Annual!$C46/100 -> 1236.576 | I27: =I7*Annual!$C46/100 -> 846.39532 | J27: =J7*Annual!$D46/100 -> 854.12869 | K27: =K7*Annual!$D46/100 -> 2012.6725 | L27: =L7*Annual!$D46/100 -> 1221.9263 | M27: =M7*Annual!$D46/100 -> 758.73953 | N27: =N7*Annual!$E46/100 -> 1031.7758 | O27: =O7*Annual!$E46/100 -> 2083.29 | P27: =P7*Annual!$E46/100 -> 1325.9393 | Q27: =Q7*Annual!$E46/100 -> 573.72253 | R27: =R7*Annual!$F46/100 -> 809.49802 | S27: =S7*Annual!$F46/100 -> 2065.2524 | T27: =T7*Annual!$F46/100 -> 1295.3669 | U27: =U7*Annual!$F46/100 -> 475.83814 | V27: =V7*Annual!$G46/100 -> 741.08469 | W27: =W7*Annual!$G46/100 -> 1730.9637 | X27: =X7*Annual!$G46/100 -> 1690.1439 | Y27: =Y7*Annual!$G46/100 -> 609.60608 | Z27: =Z7*Annual!H46/100 -> 923.02139 | AA27: =AA7*Annual!H46/100 -> 2519.9638 | AB27: =AB7*Annual!H46/100 -> 1771.2114 | AC27: =AC7*Annual!H46/100 -> 961.5576 | AD27: =AD7*Annual!$I46/100 -> 1073.8383 | AE27: =AE7*Annual!$I46/100 -> 3243.744 | AF27: =AF7*Annual!$I46/100 -> 2227.931 | AG27: =AG7*Annual!$I46/100 -> 1008.4502 | AH27: =AH7*Annual!$J46/100 -> 1022.3853 | AI27: =AI7*Annual!$J46/100 -> 3225.6192 | AJ27: =AJ7*Annual!$J46/100 -> 2153.0825 | AK27: =AK7*Annual!$J46/100 -> 874.05222 | AL27: =AL7*Annual!$K46/100 -> 1021.1824 | AM27: =AM7*Annual!$K46/100 -> 3111.3903 | AN27: =AN7*Annual!$K46/100 -> 2387.6694 | AO27: =AO7*Annual!$K46/100 -> 918.59031 | AP27: =AP7*Annual!$L46/100 -> 1202.4951 | AQ27: =AQ7*Annual!$L46/100 -> 2316.1048 | AR27: =AR7*Annual!$L46/100 -> 2128.0786 | AS27: =AS7*Annual!$L46/100 -> 938.1103 | AT27: =AT7*Annual!$M46/100 -> 1326.5029 | AU27: =AU7*Annual!$M46/100 -> 2410.456 | AV27: =AV7*Annual!$M46/100 -> 2812.2591 | AW27: =AW7*Annual!$M46/100 -> 1268.2012 | AX27: =AX7*Annual!$N46/100 -> 2061.9198 | AY27: =AY7*Annual!$N46/100 -> 3907.1502 | AZ27: =AZ7*Annual!$N46/100 -> 3536.2816 | BA27: =BA7*Annual!$N46/100 -> 1439.4821 | BB27: =BB7*Annual!$O46/100 -> 2466.7707 | BC27: =BC7*Annual!$O46/100 -> 5558.045 | BD27: =BD7*Annual!$O46/100 -> 4449.378 | BE27: =BE7*Annual!$O46/100 -> 1390.9089 | BF27: =BF7*Annual!P46/100 -> 2593.8117 | BG27: =BG7*Annual!P46/100 -> 5843.2805 | BH27: =BH7*Annual!P46/100 -> 3586.4782 | BI27: =BI7*Annual!P46/100 -> 1253.1925 | BJ27: =BJ7*Annual!Q46/100 -> 2544.5561 | BK27: =BK7*Annual!Q46/100 -> 6282.2779 | BL27: =BL7*Annual!Q46/100 -> 2866.6758 | BM27: =BM7*Annual!Q46/100 -> 756.83264 | BN27: =BN7*Annual!$R46/100 -> 2446.6192 | BO27: =BO7*Annual!$R46/100 -> 6169.0648 | BP27: =BP7*Annual!$R46/100 -> 4179.8229 | BQ27: =BQ7*Annual!$R46/100 -> 1462.327 | BR27: =BR7*Annual!$S46/100 -> 2144.6795 | BS27: =BS7*Annual!$S46/100 -> 6636.6021 | BT27: =BT7*Annual!$S46/100 -> 3381.7547 | BU27: =BU7*Annual!$S46/100 -> 1168.1982 | BV27: =BV7*Annual!$T46/100 -> 2394.3611 | BW27: =BW7*Annual!$T46/100 -> 7390.2325 | BX27: =BX7*Annual!$T46/100 -> 3201.6699 | BY27: =BY7*Annual!$T46/100 -> 973.51944 | BZ27: =BZ7*Annual!$U46/100 -> 2661.6926 | CA27: =CA7*Annual!$U46/100 -> 7856.0342 | CB27: =CB7*Annual!$U46/100 -> 4187.4739 | CC27: =CC7*Annual!$U46/100 -> 1091.8008 | CD27: =CD7*Annual!$W46/100 -> 3381.2743 | CE27: =CE7*Annual!$W46/100 -> 7596.431 | CF27: =CF7*Annual!$W46/100 -> 3492.8812 | CG27: =CG7*Annual!$W46/100 -> 1372.351 | CH27: =CH7*Annual!$X46/100 -> 4329.3539 | CI27: =CI7*Annual!$X46/100 -> 7571.9347 | CJ27: =CJ7*Annual!$X46/100 -> 4621.7655 | CK27: =CK7*Annual!$X46/100 -> 1800.7562
A28: Mining and quarrying | B28: =B8*Annual!$B47/100 -> 132.26614 | C28: =C8*Annual!$B47/100 -> 164.5574 | D28: =D8*Annual!$B47/100 -> 171.04111 | E28: =E8*Annual!$B47/100 -> 131.44601 | F28: =F8*Annual!$C47/100 -> 151.01831 | G28: =G8*Annual!$C47/100 -> 199.6948 | H28: =H8*Annual!$C47/100 -> 201.84449 | I28: =I8*Annual!$C47/100 -> 158.81747 | J28: =J8*Annual!$D47/100 -> 156.28289 | K28: =K8*Annual!$D47/100 -> 191.84847 | L28: =L8*Annual!$D47/100 -> 194.47809 | M28: =M8*Annual!$D47/100 -> 151.90235 | N28: =N8*Annual!$E47/100 -> 150.20889 | O28: =O8*Annual!$E47/100 -> 221.6978 | P28: =P8*Annual!$E47/100 -> 247.01417 | Q28: =Q8*Annual!$E47/100 -> 205.37617 | R28: =R8*Annual!$F47/100 -> 195.10499 | S28: =S8*Annual!$F47/100 -> 237.79922 | T28: =T8*Annual!$F47/100 -> 243.4012 | U28: =U8*Annual!$F47/100 -> 234.82408 | V28: =V8*Annual!$G47/100 -> 266.38229 | W28: =W8*Annual!$G47/100 -> 340.47815 | X28: =X8*Annual!$G47/100 -> 313.66245 | Y28: =Y8*Annual!$G47/100 -> 308.8969 | Z28: =Z8*Annual!H47/100 -> 372.84527 | AA28: =AA8*Annual!H47/100 -> 450.61315 | AB28: =AB8*Annual!H47/100 -> 423.79907 | AC28: =AC8*Annual!H47/100 -> 375.39197 | AD28: =AD8*Annual!$I47/100 -> 444.33105 | AE28: =AE8*Annual!$I47/100 -> 561.08894 | AF28: =AF8*Annual!$I47/100 -> 576.743 | AG28: =AG8*Annual!$I47/100 -> 464.61283 | AH28: =AH8*Annual!$J47/100 -> 429.42352 | AI28: =AI8*Annual!$J47/100 -> 478.85624 | AJ28: =AJ8*Annual!$J47/100 -> 519.06298 | AK28: =AK8*Annual!$J47/100 -> 406.73616 | AL28: =AL8*Annual!$K47/100 -> 423.99032 | AM28: =AM8*Annual!$K47/100 -> 513.90278 | AN28: =AN8*Annual!$K47/100 -> 545.3851 | AO28: =AO8*Annual!$K47/100 -> 450.41927 | AP28: =AP8*Annual!$L47/100 -> 433.38693 | AQ28: =AQ8*Annual!$L47/100 -> 606.43936 | AR28: =AR8*Annual!$L47/100 -> 603.42664 | AS28: =AS8*Annual!$L47/100 -> 541.02061 | AT28: =AT8*Annual!$M47/100 -> 495.263 | AU28: =AU8*Annual!$M47/100 -> 654.34795 | AV28: =AV8*Annual!$M47/100 -> 836.98279 | AW28: =AW8*Annual!$M47/100 -> 720.56166 | AX28: =AX8*Annual!$N47/100 -> 746.78992 | AY28: =AY8*Annual!$N47/100 -> 865.4811 | AZ28: =AZ8*Annual!$N47/100 -> 889.42599 | BA28: =BA8*Annual!$N47/100 -> 831.79079 | BB28: =BB8*Annual!$O47/100 -> 858.3744 | BC28: =BC8*Annual!$O47/100 -> 1135.2419 | BD28: =BD8*Annual!$O47/100 -> 1209.9122 | BE28: =BE8*Annual!$O47/100 -> 1031.3937 | BF28: =BF8*Annual!P47/100 -> 899.76874 | BG28: =BG8*Annual!P47/100 -> 1117.8437 | BH28: =BH8*Annual!P47/100 -> 1185.219 | BI28: =BI8*Annual!P47/100 -> 1046.6763 | BJ28: =BJ8*Annual!Q47/100 -> 899.54204 | BK28: =BK8*Annual!Q47/100 -> 1295.6668 | BL28: =BL8*Annual!Q47/100 -> 1424.9086 | BM28: =BM8*Annual!Q47/100 -> 1355.6732 | BN28: =BN8*Annual!$W47/100 -> 1187.6866 | BO28: =BO8*Annual!$W47/100 -> 1365.3534 | BP28: =BP8*Annual!$W47/100 -> 1556.973 | BQ28: =BQ8*Annual!$W47/100 -> 1488.0282 | BR28: =BR8*Annual!$S47/100 -> 1195.9181 | BS28: =BS8*Annual!$S47/100 -> 1362.6682 | BT28: =BT8*Annual!$S47/100 -> 1487.815 | BU28: =BU8*Annual!$S47/100 -> 1260.8664 | BV28: =BV8*Annual!$T47/100 -> 1315.1953 | BW28: =BW8*Annual!$T47/100 -> 1341.8632 | BX28: =BX8*Annual!$T47/100 -> 1616.979 | BY28: =BY8*Annual!$T47/100 -> 1448.9411 | BZ28: =BZ8*Annual!$W47/100 -> 1384.7303 | CA28: =CA8*Annual!$U47/100 -> 1321.7076 | CB28: =CB8*Annual!$U47/100 -> 1497.4487 | CC28: =CC8*Annual!$U47/100 -> 1365.261 | CD28: =CD8*Annual!$W47/100 -> 1255.8809 | CE28: =CE8*Annual!$W47/100 -> 1290.0975 | CF28: =CF8*Annual!$W47/100 -> 1333.5931 | CG28: =CG8*Annual!$W47/100 -> 1289.074 | CH28: =CH8*Annual!$X47/100 -> 1188.4172 | CI28: =CI8*Annual!$X47/100 -> 1457.3588 | CJ28: =CJ8*Annual!$X47/100 -> 1439.7037 | CK28: =CK8*Annual!$X47/100 -> 1521.9803
A29: Secondary Industries | B29: =SUM(B30:B32) -> 3362.7934 | C29: =SUM(C30:C32) -> 3629.3432 | D29: =SUM(D30:D32) -> 3944.1252 | E29: =SUM(E30:E32) -> 3500.7091 | F29: =SUM(F30:F32) -> 3768.5814 | G29: =SUM(G30:G32) -> 3978.4786 | H29: =SUM(H30:H32) -> 4155.8143 | I29: =SUM(I30:I32) -> 3847.6433 | ... CK29: =SUM(CK30:CK32) -> 14346.259
A30: Manufacturing | B30: =B10*Annual!$B49/100 -> 2466.9066 | C30: =C10*Annual!$B49/100 -> 2715.756 | D30: =D10*Annual!$B49/100 -> 3047.0607 | E30: =E10*Annual!$B49/100 -> 2715.6332 | F30: =F10*Annual!$C49/100 -> 2778.1216 | G30: =G10*Annual!$C49/100 -> 2976.0594 | H30: =H10*Annual!$C49/100 -> 3204.4922 | I30: =I10*Annual!$C49/100 -> 3014.3931 | J30: =J10*Annual!$D49/100 -> 3155.1047 | K30: =K10*Annual!$D49/100 -> 3418.0202 | L30: =L10*Annual!$D49/100 -> 3607.4086 | M30: =M10*Annual!$D49/100 -> 3291.1243 | N30: =N10*Annual!$E49/100 -> 3242.9974 | O30: =O10*Annual!$E49/100 -> 3280.1423 | P30: =P10*Annual!$E49/100 -> 3488.2394 | Q30: =Q10*Annual!$E49/100 -> 3006.964 | R30: =R10*Annual!$F49/100 -> 3152.4298 | S30: =S10*Annual!$F49/100 -> 3251.8203 | T30: =T10*Annual!$F49/100 -> 3774.8728 | U30: =U10*Annual!$F49/100 -> 3547.7818 | V30: =V10*Annual!$G49/100 -> 3828.2692 | W30: =W10*Annual!$G49/100 -> 4022.4057 | X30: =X10*Annual!$G49/100 -> 4740.2522 | Y30: =Y10*Annual!$G49/100 -> 4462.884 | Z30: =Z10*Annual!H49/100 -> 4697.4117 | AA30: =AA10*Annual!H49/100 -> 4752.0455 | AB30: =AB10*Annual!H49/100 -> 5174.5058 | AC30: =AC10*Annual!H49/100 -> 5054.4107 | AD30: =AD10*Annual!$I49/100 -> 5326.454 | AE30: =AE10*Annual!$I49/100 -> 5795.4162 | AF30: =AF10*Annual!$I49/100 -> 6506.2206 | AG30: =AG10*Annual!$I49/100 -> 6282.9224 | AH30: =AH10*Annual!$J49/100 -> 6421.3977 | AI30: =AI10*Annual!$J49/100 -> 6290.2874 | AJ30: =AJ10*Annual!$J49/100 -> 6795.8031 | AK30: =AK10*Annual!$J49/100 -> 6466.3119 | AL30: =AL10*Annual!$K49/100 -> 6685.0233 | AM30: =AM10*Annual!$K49/100 -> 6778.4466 | AN30: =AN10*Annual!$K49/100 -> 7582.7331 | AO30: =AO10*Annual!$K49/100 -> 7184.327 | AP30: =AP10*Annual!$L49/100 -> 6866.4514 | AQ30: =AQ10*Annual!$L49/100 -> 7672.5515 | AR30: =AR10*Annual!$L49/100 -> 8387.057 | AS30: =AS10*Annual!$L49/100 -> 7392.6091 | AT30: =AT10*Annual!$M49/100 -> 6582.2579 | AU30: =AU10*Annual!$M49/100 -> 6966.3996 | AV30: =AV10*Annual!$M49/100 -> 7764.2827 | AW30: =AW10*Annual!$M49/100 -> 6818.4803 | AX30: =AX10*Annual!$N49/100 -> 7805.2385 | AY30: =AY10*Annual!$N49/100 -> 7437.4446 | AZ30: =AZ10*Annual!$N49/100 -> 8083.8353 | BA30: =BA10*Annual!$N49/100 -> 7604.2287 | BB30: =BB10*Annual!$O49/100 -> 8379.7906 | BC30: =BC10*Annual!$O49/100 -> 8596.5123 | BD30: =BD10*Annual!$O49/100 -> 9361.8068 | BE30: =BE10*Annual!$O49/100 -> 7863.5922 | BF30: =BF10*Annual!P49/100 -> 8562.964 | BG30: =BG10*Annual!P49/100 -> 7808.4699 | BH30: =BH10*Annual!P49/100 -> 8619.2766 | BI30: =BI10*Annual!P49/100 -> 7636.6913 | BJ30: =BJ10*Annual!Q49/100 -> 8395.4036 | BK30: =BK10*Annual!Q49/100 -> 7882.1977 | BL30: =BL10*Annual!Q49/100 -> 8665.9194 | BM30: =BM10*Annual!Q49/100 -> 7070.6504 | BN30: =BN10*Annual!$R49/100 -> 7877.4241 | BO30: =BO10*Annual!$R49/100 -> 7353.8087 | BP30: =BP10*Annual!$R49/100 -> 8340.6545 | BQ30: =BQ10*Annual!$R49/100 -> 6616.2339 | BR30: =BR10*Annual!$S49/100 -> 8189.3786 | BS30: =BS10*Annual!$S49/100 -> 7437.4438 | BT30: =BT10*Annual!$S49/100 -> 8087.884 | BU30: =BU10*Annual!$S49/100 -> 6418.5388 | BV30: =BV10*Annual!$T49/100 -> 7444.3308 | BW30: =BW10*Annual!$T49/100 -> 7445.1648 | BX30: =BX10*Annual!$T49/100 -> 8684.4272 | BY30: =BY10*Annual!$T49/100 -> 7577.5557 | BZ30: =BZ10*Annual!$W49/100 -> 9045.0917 | CA30: =CA10*Annual!$U49/100 -> 8882.0173 | CB30: =CB10*Annual!$U49/100 -> 9975.7149 | CC30: =CC10*Annual!$U49/100 -> 8402.5339 | CD30: =CD10*Annual!$W49/100 -> 9641.1824 | CE30: =CE10*Annual!$W49/100 -> 9222.2909 | CF30: =CF10*Annual!$W49/100 -> 10564.747 | CG30: =CG10*Annual!$W49/100 -> 8259.905 | CH30: =CH10*Annual!$X49/100 -> 9581.8537 | CI30: =CI10*Annual!$X49/100 -> 10078.544 | CJ30: =CJ10*Annual!$X49/100 -> 10913.392 | CK30: =CK10*Annual!$X49/100 -> 8279.3482
A31: Electricity, gas and water | B31: =B11*Annual!$B50/100 -> 468.19802 | C31: =C11*Annual!$B50/100 -> 472.54234 | D31: =D11*Annual!$B50/100 -> 504.65914 | E31: =E11*Annual!$B50/100 -> 440.82445 | F31: =F11*Annual!$C50/100 -> 461.41994 | G31: =G11*Annual!$C50/100 -> 470.68821 | H31: =H11*Annual!$C50/100 -> 508.13245 | I31: =I11*Annual!$C50/100 -> 429.11388 | J31: =J11*Annual!$D50/100 -> 465.31919 | K31: =K11*Annual!$D50/100 -> 511.99011 | L31: =L11*Annual!$D50/100 -> 527.93556 | M31: =M11*Annual!$D50/100 -> 464.41442 | N31: =N11*Annual!$E50/100 -> 489.7531 | O31: =O11*Annual!$E50/100 -> 539.9041 | P31: =P11*Annual!$E50/100 -> 537.35885 | Q31: =Q11*Annual!$E50/100 -> 479.62615 | R31: =R11*Annual!$F50/100 -> 439.95295 | S31: =S11*Annual!$F50/100 -> 518.05618 | T31: =T11*Annual!$F50/100 -> 602.79024 | U31: =U11*Annual!$F50/100 -> 443.37945 | V31: =V11*Annual!$G50/100 -> 508.44187 | W31: =W11*Annual!$G50/100 -> 581.9997 | X31: =X11*Annual!$G50/100 -> 627.91534 | Y31: =Y11*Annual!$G50/100 -> 495.76216 | Z31: =Z11*Annual!H50/100 -> 530.96273 | AA31: =AA11*Annual!H50/100 -> 593.4666 | AB31: =AB11*Annual!H50/100 -> 643.052 | AC31: =AC11*Annual!H50/100 -> 532.32518 | AD31: =AD11*Annual!$I50/100 -> 572.08394 | AE31: =AE11*Annual!$I50/100 -> 661.17389 | AF31: =AF11*Annual!$I50/100 -> 750.82014 | AG31: =AG11*Annual!$I50/100 -> 645.28164 | AH31: =AH11*Annual!$J50/100 -> 505.57574 | AI31: =AI11*Annual!$J50/100 -> 589.4778 | AJ31: =AJ11*Annual!$J50/100 -> 667.62507 | AK31: =AK11*Annual!$J50/100 -> 518.15307 | AL31: =AL11*Annual!$K50/100 -> 598.07303 | AM31: =AM11*Annual!$K50/100 -> 647.07856 | AN31: =AN11*Annual!$K50/100 -> 748.36253 | AO31: =AO11*Annual!$K50/100 -> 579.74397 | AP31: =AP11*Annual!$L50/100 -> 600.79884 | AQ31: =AQ11*Annual!$L50/100 -> 676.80158 | AR31: =AR11*Annual!$L50/100 -> 745.10759 | AS31: =AS11*Annual!$L50/100 -> 571.8746 | AT31: =AT11*Annual!$M50/100 -> 608.72501 | AU31: =AU11*Annual!$M50/100 -> 735.36884 | AV31: =AV11*Annual!$M50/100 -> 824.8867 | AW31: =AW11*Annual!$M50/100 -> 601.70125 | AX31: =AX11*Annual!$N50/100 -> 678.45035 | AY31: =AY11*Annual!$N50/100 -> 789.79765 | AZ31: =AZ11*Annual!$N50/100 -> 872.41824 | BA31: =BA11*Annual!$N50/100 -> 560.14572 | BB31: =BB11*Annual!$O50/100 -> 759.42454 | BC31: =BC11*Annual!$O50/100 -> 892.74531 | BD31: =BD11*Annual!$O50/100 -> 1011.7233 | BE31: =BE11*Annual!$O50/100 -> 585.4491 | BF31: =BF11*Annual!P50/100 -> 1156.9787 | BG31: =BG11*Annual!P50/100 -> 1387.3125 | BH31: =BH11*Annual!P50/100 -> 1682.378 | BI31: =BI11*Annual!P50/100 -> 1030.0556 | BJ31: =BJ11*Annual!Q50/100 -> 1852.72 | BK31: =BK11*Annual!Q50/100 -> 2087.6855 | BL31: =BL11*Annual!Q50/100 -> 1942.578 | BM31: =BM11*Annual!Q50/100 -> 1232.5601 | BN31: =BN11*Annual!$R50/100 -> 2083.1264 | BO31: =BO11*Annual!$R50/100 -> 2999.4422 | BP31: =BP11*Annual!$R50/100 -> 2635.1425 | BQ31: =BQ11*Annual!$R50/100 -> 1636.1016 | BR31: =BR11*Annual!$S50/100 -> 2770.4134 | BS31: =BS11*Annual!$S50/100 -> 3869.7081 | BT31: =BT11*Annual!$S50/100 -> 3319.3453 | BU31: =BU11*Annual!$S50/100 -> 2163.1385 | BV31: =BV11*Annual!$T50/100 -> 3024.8832 | BW31: =BW11*Annual!$T50/100 -> 4248.1664 | BX31: =BX11*Annual!$T50/100 -> 3620.6144 | BY31: =BY11*Annual!$T50/100 -> 2346.5127 | BZ31: =BZ11*Annual!$W50/100 -> 3288.4823 | CA31: =CA11*Annual!$U50/100 -> 4571.5813 | CB31: =CB11*Annual!$U50/100 -> 3749.724 | CC31: =CC11*Annual!$U50/100 -> 2436.2649 | CD31: =CD11*Annual!$W50/100 -> 3694.6383 | CE31: =CE11*Annual!$W50/100 -> 4942.6106 | CF31: =CF11*Annual!$W50/100 -> 4096.7139 | CG31: =CG11*Annual!$W50/100 -> 2714.2456 | CH31: =CH11*Annual!$X50/100 -> 3783.5238 | CI31: =CI11*Annual!$X50/100 -> 5152.6577 | CJ31: =CJ11*Annual!$X50/100 -> 4261.3686 | CK31: =CK11*Annual!$X50/100 -> 2768.1233
A32: Construction | B32: =B12*Annual!$B51/100 -> 427.68879 | C32: =C12*Annual!$B51/100 -> 441.04483 | D32: =D12*Annual!$B51/100 -> 392.40532 | E32: =E12*Annual!$B51/100 -> 344.2515 | F32: =F12*Annual!$C51/100 -> 529.03989 | G32: =G12*Annual!$C51/100 -> 531.73108 | H32: =H12*Annual!$C51/100 -> 443.18969 | I32: =I12*Annual!$C51/100 -> 404.13638 | J32: =J12*Annual!$D51/100 -> 621.05789 | K32: =K12*Annual!$D51/100 -> 612.71758 | L32: =L12*Annual!$D51/100 -> 574.11575 | M32: =M12*Annual!$D51/100 -> 514.59767 | N32: =N12*Annual!$E51/100 -> 601.24007 | O32: =O12*Annual!$E51/100 -> 585.66324 | P32: =P12*Annual!$E51/100 -> 543.21717 | Q32: =Q12*Annual!$E51/100 -> 464.48219 | R32: =R12*Annual!$F51/100 -> 593.50173 | S32: =S12*Annual!$F51/100 -> 572.99543 | T32: =T12*Annual!$F51/100 -> 527.50505 | U32: =U12*Annual!$F51/100 -> 448.08314 | V32: =V12*Annual!$G51/100 -> 620.10783 | W32: =W12*Annual!$G51/100 -> 603.96638 | X32: =X12*Annual!$G51/100 -> 564.48401 | Y32: =Y12*Annual!$G51/100 -> 490.65338 | Z32: =Z12*Annual!H51/100 -> 807.45414 | AA32: =AA12*Annual!H51/100 -> 810.22413 | AB32: =AB12*Annual!H51/100 -> 749.0741 | AC32: =AC12*Annual!H51/100 -> 656.45852 | AD32: =AD12*Annual!$I51/100 -> 650.97584 | AE32: =AE12*Annual!$I51/100 -> 642.35237 | AF32: =AF12*Annual!$I51/100 -> 592.91117 | AG32: =AG12*Annual!$I51/100 -> 565.81432 | AH32: =AH12*Annual!$J51/100 -> 725.37802 | AI32: =AI12*Annual!$J51/100 -> 702.76296 | AJ32: =AJ12*Annual!$J51/100 -> 632.0909 | AK32: =AK12*Annual!$J51/100 -> 591.19534 | AL32: =AL12*Annual!$K51/100 -> 801.69711 | AM32: =AM12*Annual!$K51/100 -> 928.01134 | AN32: =AN12*Annual!$K51/100 -> 856.12982 | AO32: =AO12*Annual!$K51/100 -> 834.77399 | AP32: =AP12*Annual!$L51/100 -> 1049.5028 | AQ32: =AQ12*Annual!$L51/100 -> 1136.9453 | AR32: =AR12*Annual!$L51/100 -> 1115.3736 | AS32: =AS12*Annual!$L51/100 -> 1031.0128 | AT32: =AT12*Annual!$M51/100 -> 1151.4672 | AU32: =AU12*Annual!$M51/100 -> 1271.7641 | AV32: =AV12*Annual!$M51/100 -> 1252.9677 | AW32: =AW12*Annual!$M51/100 -> 1120.1148 | AX32: =AX12*Annual!$N51/100 -> 1604.9565 | AY32: =AY12*Annual!$N51/100 -> 1632.6831 | AZ32: =AZ12*Annual!$N51/100 -> 1591.4679 | BA32: =BA12*Annual!$N51/100 -> 1428.4244 | BB32: =BB12*Annual!$O51/100 -> 2362.4753 | BC32: =BC12*Annual!$O51/100 -> 2659.5688 | BD32: =BD12*Annual!$O51/100 -> 2785.2044 | BE32: =BE12*Annual!$O51/100 -> 2587.0795 | BF32: =BF12*Annual!P51/100 -> 2611.1835 | BG32: =BG12*Annual!P51/100 -> 2791.35 | BH32: =BH12*Annual!P51/100 -> 2606.8261 | BI32: =BI12*Annual!P51/100 -> 2185.9071 | BJ32: =BJ12*Annual!Q51/100 -> 2515.8183 | BK32: =BK12*Annual!Q51/100 -> 2646.0259 | BL32: =BL12*Annual!Q51/100 -> 2544.3072 | BM32: =BM12*Annual!Q51/100 -> 2076.8216 | BN32: =BN12*Annual!$R51/100 -> 2543.7866 | BO32: =BO12*Annual!$R51/100 -> 2898.5466 | BP32: =BP12*Annual!$R51/100 -> 2751.7823 | BQ32: =BQ12*Annual!$R51/100 -> 2488.8695 | BR32: =BR12*Annual!$S51/100 -> 2882.3986 | BS32: =BS12*Annual!$S51/100 -> 3173.9302 | BT32: =BT12*Annual!$S51/100 -> 2890.1551 | BU32: =BU12*Annual!$S51/100 -> 2631.3522 | BV32: =BV12*Annual!$T51/100 -> 3066.5488 | BW32: =BW12*Annual!$T51/100 -> 3561.795 | BX32: =BX12*Annual!$T51/100 -> 3487.5554 | BY32: =BY12*Annual!$T51/100 -> 3163.5148 | BZ32: =BZ12*Annual!$W51/100 -> 3838.735 | CA32: =CA12*Annual!$U51/100 -> 4034.555 | CB32: =CB12*Annual!$U51/100 -> 3566.4973 | CC32: =CC12*Annual!$U51/100 -> 3140.3693 | CD32: =CD12*Annual!$W51/100 -> 3999.0309 | CE32: =CE12*Annual!$W51/100 -> 4342.2505 | CF32: =CF12*Annual!$W51/100 -> 3788.5356 | CG32: =CG12*Annual!$W51/100 -> 3395.3067 | CH32: =CH12*Annual!$X51/100 -> 3977.2211 | CI32: =CI12*Annual!$X51/100 -> 4363.1278 | CJ32: =CJ12*Annual!$X51/100 -> 3723.1896 | CK32: =CK12*Annual!$X51/100 -> 3298.7876
A33: Tertiary industries | B33: =SUM(B34:B38) -> 5198.3503 | C33: =SUM(C34:C38) -> 5236.623 | D33: =SUM(D34:D38) -> 5648.1816 | E33: =SUM(E34:E38) -> 5942.8387 | F33: =SUM(F34:F38) -> 5982.3412 | G33: =SUM(G34:G38) -> 5983.0162 | H33: =SUM(H34:H38) -> 6397.5433 | I33: =SUM(I34:I38) -> 6725.338 | ... CK33: =SUM(CK34:CK38) -> 52117.105
A34: Wholesale & retail trade; hotels & restaurants | B34: =B14*Annual!$B53/100 -> 1391.1472 | C34: =C14*Annual!$B53/100 -> 1355.2136 | D34: =D14*Annual!$B53/100 -> 1479.4261 | E34: =E14*Annual!$B53/100 -> 1730.6287 | F34: =F14*Annual!$C53/100 -> 1532.6097 | G34: =G14*Annual!$C53/100 -> 1511.3904 | H34: =H14*Annual!$C53/100 -> 1627.2884 | I34: =I14*Annual!$C53/100 -> 1942.9864 | J34: =J14*Annual!$D53/100 -> 1651.602 | K34: =K14*Annual!$D53/100 -> 1679.3957 | L34: =L14*Annual!$D53/100 -> 1753.8969 | M34: =M14*Annual!$D53/100 -> 1967.0612 | N34: =N14*Annual!$E53/100 -> 1705.6767 | O34: =O14*Annual!$E53/100 -> 1827.5371 | P34: =P14*Annual!$E53/100 -> 1793.7261 | Q34: =Q14*Annual!$E53/100 -> 1891.9991 | R34: =R14*Annual!$F53/100 -> 1762.357 | S34: =S14*Annual!$F53/100 -> 1764.4175 | T34: =T14*Annual!$F53/100 -> 1950.9199 | U34: =U14*Annual!$F53/100 -> 2356.1099 | V34: =V14*Annual!$G53/100 -> 2221.1407 | W34: =W14*Annual!$G53/100 -> 2251.4427 | X34: =X14*Annual!$G53/100 -> 2510.4855 | Y34: =Y14*Annual!$G53/100 -> 2870.886 | Z34: =Z14*Annual!H53/100 -> 2750.1449 | AA34: =AA14*Annual!H53/100 -> 2711.6177 | AB34: =AB14*Annual!H53/100 -> 2840.7245 | AC34: =AC14*Annual!H53/100 -> 3318.1479 | AD34: =AD14*Annual!$I53/100 -> 3174.4209 | AE34: =AE14*Annual!$I53/100 -> 3220.4459 | AF34: =AF14*Annual!$I53/100 -> 3420.7015 | AG34: =AG14*Annual!$I53/100 -> 4068.6294 | AH34: =AH14*Annual!$J53/100 -> 3666.6303 | AI34: =AI14*Annual!$J53/100 -> 3588.0604 | AJ34: =AJ14*Annual!$J53/100 -> 3838.7017 | AK34: =AK14*Annual!$J53/100 -> 4435.2867 | AL34: =AL14*Annual!$K53/100 -> 4076.4126 | AM34: =AM14*Annual!$K53/100 -> 3916.0711 | AN34: =AN14*Annual!$K53/100 -> 4467.378 | AO34: =AO14*Annual!$K53/100 -> 4975.915 | AP34: =AP14*Annual!$L53/100 -> 4365.7083 | AQ34: =AQ14*Annual!$L53/100 -> 4264.6576 | AR34: =AR14*Annual!$L53/100 -> 4670.581 | AS34: =AS14*Annual!$L53/100 -> 5352.8768 | AT34: =AT14*Annual!$M53/100 -> 4815.6731 | AU34: =AU14*Annual!$M53/100 -> 4741.059 | AV34: =AV14*Annual!$M53/100 -> 5202.8839 | AW34: =AW14*Annual!$M53/100 -> 5878.2346 | AX34: =AX14*Annual!$N53/100 -> 5543.1981 | AY34: =AY14*Annual!$N53/100 -> 5464.3483 | AZ34: =AZ14*Annual!$N53/100 -> 5900.9123 | BA34: =BA14*Annual!$N53/100 -> 6714.4214 | BB34: =BB14*Annual!$O53/100 -> 6580.8587 | BC34: =BC14*Annual!$O53/100 -> 6579.2361 | BD34: =BD14*Annual!$O53/100 -> 6898.2271 | BE34: =BE14*Annual!$O53/100 -> 7672.9452 | BF34: =BF14*Annual!P53/100 -> 7285.5666 | BG34: =BG14*Annual!P53/100 -> 7284.8106 | BH34: =BH14*Annual!P53/100 -> 7264.9027 | BI34: =BI14*Annual!P53/100 -> 8317.0207 | BJ34: =BJ14*Annual!Q53/100 -> 8341.9744 | BK34: =BK14*Annual!Q53/100 -> 9063.4709 | BL34: =BL14*Annual!Q53/100 -> 8726.2569 | BM34: =BM14*Annual!Q53/100 -> 10492.475 | BN34: =BN14*Annual!$R53/100 -> 8968.8409 | BO34: =BO14*Annual!$R53/100 -> 9735.7534 | BP34: =BP14*Annual!$R53/100 -> 9702.5465 | BQ34: =BQ14*Annual!$R53/100 -> 11658.099 | BR34: =BR14*Annual!$S53/100 -> 9616.9673 | BS34: =BS14*Annual!$S53/100 -> 10324.704 | BT34: =BT14*Annual!$S53/100 -> 10268.89 | BU34: =BU14*Annual!$S53/100 -> 12119.906 | BV34: =BV14*Annual!$T53/100 -> 10469.559 | BW34: =BW14*Annual!$T53/100 -> 10939.463 | BX34: =BX14*Annual!$T53/100 -> 11152.937 | BY34: =BY14*Annual!$T53/100 -> 12646.761 | BZ34: =BZ14*Annual!$W53/100 -> 11367.224 | CA34: =CA14*Annual!$U53/100 -> 11607.855 | CB34: =CB14*Annual!$U53/100 -> 11457.319 | CC34: =CC14*Annual!$U53/100 -> 12862.048 | CD34: =CD14*Annual!$W53/100 -> 11975.472 | CE34: =CE14*Annual!$W53/100 -> 12852.48 | CF34: =CF14*Annual!$W53/100 -> 12542.928 | CG34: =CG14*Annual!$W53/100 -> 14244.64 | CH34: =CH14*Annual!$X53/100 -> 13076.628 | CI34: =CI14*Annual!$X53/100 -> 14167.761 | CJ34: =CJ14*Annual!$X53/100 -> 13626.562 | CK34: =CK14*Annual!$X53/100 -> 15437.537
A35: Transport , storage and communication | B35: =B15*Annual!$B54/100 -> 1253.2159 | C35: =C15*Annual!$B54/100 -> 1309.3282 | D35: =D15*Annual!$B54/100 -> 1502.388 | E35: =E15*Annual!$B54/100 -> 1575.3908 | F35: =F15*Annual!$C54/100 -> 1576.8918 | G35: =G15*Annual!$C54/100 -> 1532.7758 | H35: =H15*Annual!$C54/100 -> 1719.9123 | I35: =I15*Annual!$C54/100 -> 1770.5544 | J35: =J15*Annual!$D54/100 -> 1697.5565 | K35: =K15*Annual!$D54/100 -> 1779.3694 | L35: =L15*Annual!$D54/100 -> 1981.9613 | M35: =M15*Annual!$D54/100 -> 1951.9487 | N35: =N15*Annual!$E54/100 -> 1849.3908 | O35: =O15*Annual!$E54/100 -> 1987.3674 | P35: =P15*Annual!$E54/100 -> 2147.1429 | Q35: =Q15*Annual!$E54/100 -> 2224.5283 | R35: =R15*Annual!$F54/100 -> 2072.8799 | S35: =S15*Annual!$F54/100 -> 2223.7582 | T35: =T15*Annual!$F54/100 -> 2427.9946 | U35: =U15*Annual!$F54/100 -> 2546.9337 | V35: =V15*Annual!$G54/100 -> 2408.7402 | W35: =W15*Annual!$G54/100 -> 2624.4625 | X35: =X15*Annual!$G54/100 -> 2892.1824 | Y35: =Y15*Annual!$G54/100 -> 3053.2272 | Z35: =Z15*Annual!H54/100 -> 2812.184 | AA35: =AA15*Annual!H54/100 -> 2966.0065 | AB35: =AB15*Annual!H54/100 -> 3089.4347 | AC35: =AC15*Annual!H54/100 -> 3378.2553 | AD35: =AD15*Annual!$I54/100 -> 3295.8683 | AE35: =AE15*Annual!$I54/100 -> 3403.1666 | AF35: =AF15*Annual!$I54/100 -> 3583.6761 | AG35: =AG15*Annual!$I54/100 -> 3982.9278 | AH35: =AH15*Annual!$J54/100 -> 4103.3987 | AI35: =AI15*Annual!$J54/100 -> 4183.416 | AJ35: =AJ15*Annual!$J54/100 -> 4393.1071 | AK35: =AK15*Annual!$J54/100 -> 4823.5192 | AL35: =AL15*Annual!$K54/100 -> 4802.283 | AM35: =AM15*Annual!$K54/100 -> 4870.2136 | AN35: =AN15*Annual!$K54/100 -> 5058.9851 | AO35: =AO15*Annual!$K54/100 -> 5215.8866 | AP35: =AP15*Annual!$L54/100 -> 5330.9541 | AQ35: =AQ15*Annual!$L54/100 -> 5264.5532 | AR35: =AR15*Annual!$L54/100 -> 5638.831 | AS35: =AS15*Annual!$L54/100 -> 6157.0948 | AT35: =AT15*Annual!$M54/100 -> 6505.4187 | AU35: =AU15*Annual!$M54/100 -> 7015.8896 | AV35: =AV15*Annual!$M54/100 -> 7523.287 | AW35: =AW15*Annual!$M54/100 -> 7875.7808 | AX35: =AX15*Annual!$N54/100 -> 6938.7349 | AY35: =AY15*Annual!$N54/100 -> 7599.4128 | AZ35: =AZ15*Annual!$N54/100 -> 8186.4065 | BA35: =BA15*Annual!$N54/100 -> 8460.9643 | BB35: =BB15*Annual!$O54/100 -> 7180.8667 | BC35: =BC15*Annual!$O54/100 -> 8020.2948 | BD35: =BD15*Annual!$O54/100 -> 8351.3545 | BE35: =BE15*Annual!$O54/100 -> 8982.3716 | BF35: =BF15*Annual!P54/100 -> 7269.5768 | BG35: =BG15*Annual!P54/100 -> 8011.4894 | BH35: =BH15*Annual!P54/100 -> 8301.0563 | BI35: =BI15*Annual!P54/100 -> 8782.9455 | BJ35: =BJ15*Annual!Q54/100 -> 7045.901 | BK35: =BK15*Annual!Q54/100 -> 8020.9047 | BL35: =BL15*Annual!Q54/100 -> 8372.8316 | BM35: =BM15*Annual!Q54/100 -> 9130.9575 | BN35: =BN15*Annual!$R54/100 -> 8103.9465 | BO35: =BO15*Annual!$R54/100 -> 9122.3961 | BP35: =BP15*Annual!$R54/100 -> 9587.2356 | BQ35: =BQ15*Annual!$R54/100 -> 9837.3885 | BR35: =BR15*Annual!$S54/100 -> 9478.1753 | BS35: =BS15*Annual!$S54/100 -> 10377.666 | BT35: =BT15*Annual!$S54/100 -> 10830.649 | BU35: =BU15*Annual!$S54/100 -> 10962.012 | BV35: =BV15*Annual!$T54/100 -> 10878.75 | BW35: =BW15*Annual!$T54/100 -> 11499.454 | BX35: =BX15*Annual!$T54/100 -> 12242.542 | BY35: =BY15*Annual!$T54/100 -> 12485.217 | BZ35: =BZ15*Annual!$W54/100 -> 11582.643 | CA35: =CA15*Annual!$U54/100 -> 12433.283 | CB35: =CB15*Annual!$U54/100 -> 13069.132 | CC35: =CC15*Annual!$U54/100 -> 13391.976 | CD35: =CD15*Annual!$W54/100 -> 12421.558 | CE35: =CE15*Annual!$W54/100 -> 12917.7 | CF35: =CF15*Annual!$W54/100 -> 13326.262 | CG35: =CG15*Annual!$W54/100 -> 13895.945 | CH35: =CH15*Annual!$X54/100 -> 12771.067 | CI35: =CI15*Annual!$X54/100 -> 13263.165 | CJ35: =CJ15*Annual!$X54/100 -> 14032.448 | CK35: =CK15*Annual!$X54/100 -> 14573.19
