Workbook

Sheet Introduction
B1: Annual GOS and GOS-R
B3: Quarterly GOS and GOS-R
B5: Year-on-Year Growth Rates per Sector
B7: Annualised Quarterly Rates per Sector
B9: Yearly Provincial Contribution Rates per Sector
B11: Yearly Provincial Sector as a % of National Sector GOS
B13: Ethekwini Municipal Area GOS
B15: Msunduzi Municipal Area GOS
B17: Mthlatuze Municipal Area GOS
D18: Model Assumptions
B19: Hibiscus Coast Municipal GOS
D20: Stable structural relationship between SA and KZN economy
B21: Newcastle Municipal GOS
D22: Stable relationship between GDP and Fuel Consumption
B23: Comparitive Growth Rates
D24: Fuel Consumption per R1 GDP are location insensitive
B25: Comparitive Contribution Rates

Sheet Annual
A1: Annual Gross Operating Surplus
A3: SA – Annual Gross Operating Surplus
A4: Rand million
A5: National Industry | B5: 1995 | C5: 1996 | D5: 1997 | E5: 1998 | F5: 1999 | G5: 2000 | H5: 2001 | I5: 2002 | J5: 2003 | K5: 2004 | L5: 2005 | M5: 2006 | N5: 2007 | O5: 2008 | P5: 2009 | Q5: 2010 | R5: 2011 | S5: 2012 | T5: 2013 | U5: 2014 | V5: 2015 | W5: 2016
A6: Primary Industries | B6: =SUM(B7:B8) -> 29927.719 | C6: =SUM(C7:C8) -> 36536.546 | D6: =SUM(D7:D8) -> 37163.746 | E6: =SUM(E7:E8) -> 40314.905 | F6: =SUM(F7:F8) -> 44354.367 | G6: =SUM(G7:G8) -> 54094.677 | H6: =SUM(H7:H8) -> 69684.172 | I6: =SUM(I7:I8) -> 88009.203 | ... W6: =SUM(W7:W8) -> 229680
A7: Agriculture, forestry and fishing | B7: 13512.833 | C7: 17560.327 | D7: 18528.28 | E7: 17916.444 | F7: 18182.216 | G7: 18893.764 | H7: 23630.216 | I7: 29537.6 | J7: 27036.531 | K7: 27769.95 | L7: 26950 | M7: 29992.799 | N7: 41053.179 | O7: 51083 | P7: 49653.4 | Q7: 46111 | R7: 49005 | S7: 49163 | T7: 51149 | U7: 57658 | V7: 57491 | W7: 66111
A8: Mining and quarrying | B8: 16414.885 | C8: 18976.218 | D8: 18635.466 | E8: 22398.461 | F8: 26172.151 | G8: 35200.913 | H8: 46053.956 | I8: 58471.603 | J8: 51170.211 | K8: 53688.694 | L8: 65358 | M8: 83308.379 | N8: 99450.889 | O8: 127967.97 | P8: 125223.63 | Q8: 143950 | R8: 164096 | S8: 157548 | T8: 168893 | U8: 163857 | V8: 151510 | W8: 163569
A9: Secondary Industries | B9: =SUM(B10:B12) -> 72169.534 | C9: =SUM(C10:C12) -> 78580.864 | D9: =SUM(D10:D12) -> 88193.485 | E9: =SUM(E10:E12) -> 86643.51 | F9: =SUM(F10:F12) -> 89301.967 | G9: =SUM(G10:G12) -> 106767.29 | H9: =SUM(H10:H12) -> 120929.05 | I9: =SUM(I10:I12) -> 144018.62 | ... W9: =SUM(W10:W12) -> 368768
A10: Manufacturing | B10: 53309.838 | C10: 58115.9 | D10: 65421.119 | E10: 63378.598 | F10: 66143.629 | G10: 81758.667 | H10: 94514.156 | I10: 115012.15 | J10: 124172.7 | K10: 135220.81 | L10: 145271.13 | M10: 135302.02 | N10: 148664.63 | O10: 164510.7 | P10: 156551.6 | Q10: 153020 | R10: 144479 | S10: 144588 | T10: 149415 | U10: 174044 | V10: 180572 | W10: 186018
A11: Electricity, gas and water | B11: 12052.594 | C11: 12065.89 | D11: 12769.359 | E11: 13241.811 | F11: 12924.922 | G11: 14070.592 | H11: 14256.01 | I11: 16210.875 | J11: 14328.763 | K11: 16010.053 | L11: 15966.18 | M11: 17005.311 | N11: 17818.061 | O11: 20156.237 | P11: 33466.68 | Q11: 45848 | R11: 60493 | S11: 76256 | T11: 83633 | U11: 89228 | V11: 98434 | W11: 102139
A12: Construction | B12: 6807.1018 | C12: 8399.0746 | D12: 10003.007 | E12: 10023.102 | F12: 10233.416 | G12: 10938.035 | H12: 12158.88 | I12: 12795.6 | J12: 14069 | K12: 18035.4 | L12: 22496 | M12: 25517.2 | N12: 33401.7 | O12: 55349 | P12: 53815.2 | Q12: 51166 | R12: 55831 | S12: 61199 | T12: 70118 | U12: 76803 | V12: 81648 | W12: 80611
A13: Tertiary industries | B13: =SUM(B14:B18) -> 137514.43 | C13: =SUM(C14:C18) -> 156970.49 | D13: =SUM(D14:D18) -> 176926.06 | E13: =SUM(E14:E18) -> 191115.26 | F13: =SUM(F14:F18) -> 218021.83 | G13: =SUM(G14:G18) -> 254859.45 | H13: =SUM(H14:H18) -> 285075.51 | I13: =SUM(I14:I18) -> 347516.07 | ... W13: =SUM(W14:W18) -> 1219683
A14: Wholesale & retail trade; hotels & restaurants | B14: 38619.131 | C14: 43493.839 | D14: 46300.799 | E14: 47594.051 | F14: 51786.998 | G14: 64901.635 | H14: 72340.833 | I14: 86306 | J14: 95779 | K14: 107502 | L14: 115636.52 | M14: 127406.34 | N14: 145157.47 | O14: 170889.43 | P14: 183353.97 | Q14: 222537 | R14: 241306 | S14: 258623 | T14: 275733 | U14: 287963 | V14: 313810 | W14: 341680
A15: Transport , storage and communication | B15: 25420.207 | C15: 30182.081 | D15: 34515.716 | E15: 38510.154 | F15: 44169.666 | G15: 53238.012 | H15: 59966.349 | I15: 69629.954 | J15: 84919.92 | K15: 97155.18 | L15: 108419.48 | M15: 139920.39 | N15: 149775.88 | O15: 155920.76 | P15: 154650.99 | Q15: 154836 | R15: 174645 | S15: 199423 | T15: 225168 | U15: 241053 | V15: 250867 | W15: 260599
A16: Finance, real estate and business services | B16: 50760 | C16: 57814.51 | D16: 67927.54 | E16: 73014.49 | F16: 85901.67 | G16: 94650.77 | H16: 106208.49 | I16: 136695.82 | J16: 153059.58 | K16: 169598.48 | L16: 191949.3 | M16: 217310.67 | N16: 266197.42 | O16: 275313.5 | P16: 307788.17 | Q16: 327228 | R16: 347867 | S16: 369480 | T16: 385805 | U16: 402197 | V16: 424143 | W16: 443879
A17: Personal services | B17: 9100.0955 | C17: 10387.557 | D17: 11415.004 | E17: 12974.57 | F17: 14838.491 | G17: 17835.036 | H17: 19403.838 | I17: 23369.301 | J17: 27144.4 | K17: 29834 | L17: 33006.599 | M17: 38592.001 | N17: 40942.599 | O17: 42879.801 | P17: 51374.6 | Q17: 58136 | R17: 66141 | S17: 70293 | T17: 71922 | U17: 72890 | V17: 79409 | W17: 81027
A18: General government services | B18: 13615 | C18: 15092.5 | D18: 16767 | E18: 19022 | F18: 21325 | G18: 24234 | H18: 27156 | I18: 31515 | J18: 32069 | K18: 33231 | L18: 35900 | M18: 39684 | N18: 44520 | O18: 52384 | P18: 55075 | Q18: 57321 | R18: 61160 | S18: 66343 | T18: 73147 | U18: 79752 | V18: 84144 | W18: 92498
A19: Annual Gross Operating Surplus | B19: =B13+B9+B6 -> 239611.69 | C19: =C13+C9+C6 -> 272087.9 | D19: =D13+D9+D6 -> 302283.29 | E19: =E13+E9+E6 -> 318073.68 | F19: =F13+F9+F6 -> 351678.16 | G19: =G13+G9+G6 -> 415721.42 | H19: =H13+H9+H6 -> 475688.73 | I19: =I13+I9+I6 -> 579543.9 | ... W19: =W13+W9+W6 -> 1818131
A20: 0 | B20: 0 | C20: 0 | D20: 0 | E20: 0 | F20: 0 | G20: 0 | H20: 0 | I20: 0 | J20: 0 | K20: 0 | L20: 0 | M20: 0 | N20: 0 | O20: 0 | P20: 0 | Q20: 0 | R20: 0 | S20: 0 | T20: 0 | U20: 1 | V20: 2 | W20: 3
A21: SA - Annual Gross Operating Surplus | B21: =B19+B20 -> 239611.69 | C21: =C19+C20 -> 272087.9 | D21: =D19+D20 -> 302283.29 | E21: =E19+E20 -> 318073.68 | F21: =F19+F20 -> 351678.16 | G21: =G19+G20 -> 415721.42 | H21: =H19+H20 -> 475688.73 | I21: =I19+I20 -> 579543.9 | ... W21: =W19+W20 -> 1818134
A23: KZN – Annual Gross Operating Surplus
A24: Rand million
A25: Provincial Industry | B25: 1995 | C25: 1996 | D25: 1997 | E25: 1998 | F25: 1999 | G25: 2000 | H25: 2001 | I25: 2002 | J25: 2003 | K25: 2004 | L25: 2005 | M25: 2006 | N25: 2007 | O25: 2008 | P25: 2009 | Q25: 2010 | R25: =R5 -> 2011 | S25: =S5 -> 2012 | T25: =T5 -> 2013 | U25: =U5 -> 2014 | V25: =V5 -> 2015 | W25: =W5 -> 2016
A26: Primary Industries | B26: =B27+B28 -> 4448.3206 | C26: =C27+C28 -> 5367.6851 | D26: =D27+D28 -> 5541.9788 | E26: =E27+E28 -> 5839.0247 | F26: =F27+F28 -> 5557.085 | G26: =G27+G28 -> 6001.2181 | H26: =H27+H28 -> 7798.4037 | I26: =I27+I28 -> 9600.7394 | ... W26: =W27+W28 -> 23798.401
A27: Agriculture, forestry and fishing | B27: =B7*B46/100 -> 3849.01 | C27: =C7*C46/100 -> 4656.31 | D27: =D7*D46/100 -> 4847.467 | E27: =E7*E46/100 -> 5014.7277 | F27: =F7*F46/100 -> 4645.9555 | G27: =G7*G46/100 -> 4771.7984 | H27: =H7*H46/100 -> 6175.7542 | I27: =I7*I46/100 -> 7553.9636 | ... W27: =W7*W46/100 -> 18218.372
A28: Mining and quarrying | B28: =B8*B47/100 -> 599.31065 | C28: =C8*C47/100 -> 711.37508 | D28: =D8*D47/100 -> 694.5118 | E28: =E8*E47/100 -> 824.29703 | F28: =F8*F47/100 -> 911.12949 | G28: =G8*G47/100 -> 1229.4198 | H28: =H8*H47/100 -> 1622.6495 | I28: =I8*I47/100 -> 2046.7758 | ... W28: =W8*W47/100 -> 5580.0288
A29: Secondary Industries | B29: =B30+B31+B32 -> 14436.971 | C29: =C30+C31+C32 -> 15750.518 | D29: =D30+D31+D32 -> 17763.806 | E29: =E30+E31+E32 -> 17259.588 | F29: =F30+F31+F32 -> 17873.169 | G29: =G30+G31+G32 -> 21547.142 | H29: =H30+H31+H32 -> 25001.391 | I29: =I30+I31+I32 -> 28992.264 | ... W29: =W30+W31+W32 -> 70182.425
A30: Manufacturing | B30: =B10*B49/100 -> 10945.356 | C30: =C10*C49/100 -> 11973.066 | D30: =D10*D49/100 -> 13471.658 | E30: =E10*E49/100 -> 13018.343 | F30: =F10*F49/100 -> 13726.905 | G30: =G10*G49/100 -> 17053.811 | H30: =H10*H49/100 -> 19678.374 | I30: =I10*I49/100 -> 23911.013 | ... W30: =W10*W49/100 -> 38824.789
A31: Electricity, gas and water | B31: =B11*B50/100 -> 1886.2239 | C31: =C11*C50/100 -> 1869.3545 | D31: =D11*D50/100 -> 1969.6593 | E31: =E11*E50/100 -> 2046.6422 | F31: =F11*F50/100 -> 2004.1788 | G31: =G11*G50/100 -> 2214.1191 | H31: =H11*H50/100 -> 2299.8065 | I31: =I11*I50/100 -> 2629.1974 | ... W31: =W11*W50/100 -> 16029.507
A32: Construction | B32: =B12*B51/100 -> 1605.3904 | C32: =C12*C51/100 -> 1908.097 | D32: =D12*D51/100 -> 2322.4889 | E32: =E12*E51/100 -> 2194.6027 | F32: =F12*F51/100 -> 2142.0853 | G32: =G12*G51/100 -> 2279.2116 | H32: =H12*H51/100 -> 3023.2109 | I32: =I12*I51/100 -> 2452.0537 | ... W32: =W12*W51/100 -> 15328.129
A33: Tertiary industries | B33: =SUM(B34:B38) -> 22025.994 | C33: =SUM(C34:C38) -> 25088.239 | D33: =SUM(D34:D38) -> 28007.172 | E33: =SUM(E34:E38) -> 30403.831 | F33: =SUM(F34:F38) -> 34521.766 | G33: =SUM(G34:G38) -> 40090.331 | H33: =SUM(H34:H38) -> 44995.255 | I33: =SUM(I34:I38) -> 54342.725 | ... W33: =SUM(W34:W38) -> 197776.93
A34: Wholesale & retail trade; hotels & restaurants | B34: =B14*B53/100 -> 5956.4156 | C34: =C14*C53/100 -> 6614.2749 | D34: =D14*D53/100 -> 7051.9557 | E34: =E14*E53/100 -> 7218.939 | F34: =F14*F53/100 -> 7833.8042 | G34: =G14*G53/100 -> 9853.955 | H34: =H14*H53/100 -> 11620.635 | I34: =I14*I53/100 -> 13884.198 | ... W34: =W14*W53/100 -> 56199.583
A35: Transport , storage and communication | B35: =B15*B54/100 -> 5640.3229 | C35: =C15*C54/100 -> 6600.1344 | D35: =D15*D54/100 -> 7410.836 | E35: =E15*E54/100 -> 8208.4294 | F35: =F15*F54/100 -> 9271.5664 | G35: =G15*G54/100 -> 10978.612 | H35: =H15*H54/100 -> 12245.88 | I35: =I15*I54/100 -> 14265.639 | ... W35: =W15*W54/100 -> 54600.507
A36: Finance, real estate and business services | B36: =B16*B55/100 -> 6905.4876 | C36: =C16*C55/100 -> 7877.5719 | D36: =D16*D55/100 -> 9206.6471 | E36: =E16*E55/100 -> 9976.5419 | F36: =F16*F55/100 -> 11852.665 | G36: =G16*G55/100 -> 12754.982 | H36: =H16*H55/100 -> 13861.679 | I36: =I16*I55/100 -> 17635.223 | ... W36: =W16*W55/100 -> 59858.241
A37: Personal services | B37: =B17*B56/100 -> 1504.7253 | C37: =C17*C56/100 -> 1717.4344 | D37: =D17*D56/100 -> 1886.6377 | E37: =E17*E56/100 -> 2144.4709 | F37: =F17*F56/100 -> 2447.4675 | G37: =G17*G56/100 -> 2938.5966 | H37: =H17*H56/100 -> 3197.9441 | I37: =I17*I56/100 -> 3849.4799 | ... W37: =W17*W56/100 -> 13373.575
A38: General government services | B38: =B18*B57/100 -> 2019.0421 | C38: =C18*C57/100 -> 2278.8231 | D38: =D18*D57/100 -> 2451.0955 | E38: =E18*E57/100 -> 2855.45 | F38: =F18*F57/100 -> 3116.2629 | G38: =G18*G57/100 -> 3564.1849 | H38: =H18*H57/100 -> 4069.1169 | I38: =I18*I57/100 -> 4708.1857 | ... W38: =W18*W57/100 -> 13745.022
A39: =A21 -> SA - Annual Gross Operating Surplus | B39: =B33+B29+B26 -> 40911.285 | C39: =C33+C29+C26 -> 46206.441 | D39: =D33+D29+D26 -> 51312.957 | E39: =E33+E29+E26 -> 53502.444 | F39: =F33+F29+F26 -> 57952.02 | G39: =G33+G29+G26 -> 67638.691 | H39: =H33+H29+H26 -> 77795.05 | I39: =I33+I29+I26 -> 92935.729 | ... W39: =W33+W29+W26 -> 291757.75
A40: Taxes less subsidies on products | B40: 0 | C40: 0 | D40: 0 | E40: 0 | F40: 0 | G40: 0 | H40: 0 | I40: 0 | J40: 0 | K40: 0 | L40: 0 | M40: 0 | N40: 0 | O40: 0 | P40: 1 | Q40: 2 | R40: 3 | S40: 4 | T40: 5 | U40: 6 | V40: 7 | W40: 8
A41: KZN - Annual Gross Operating Surplus | B41: =B40+B39 -> 40911.285 | C41: =C40+C39 -> 46206.441 | D41: =D40+D39 -> 51312.957 | E41: =E40+E39 -> 53502.444 | F41: =F40+F39 -> 57952.02 | G41: =G40+G39 -> 67638.691 | H41: =H40+H39 -> 77795.05 | I41: =I40+I39 -> 92935.729 | ... W41: =W40+W39 -> 291765.75
A43: Structure Relationship
A44: National - Provincial Structure | B44: 1995 | C44: 1996 | D44: 1997 | E44: 1998 | F44: 1999 | G44: 2000 | H44: 2001 | I44: 2002 | J44: 2003 | K44: 2004 | L44: 2005 | M44: 2006 | N44: 2007 | O44: 2008 | P44: 2009 | Q44: 2010 | R44: =R25 -> 2011 | S44: =S25 -> 2012 | T44: =T25 -> 2013 | U44: =U25 -> 2014 | V44: =V25 -> 2015 | W44: =W25 -> 2016 | X44: 2013
A45: Primary Industries | B45: =B26/B6*100 -> 14.863547 | C45: =C26/C6*100 -> 14.691277 | D45: =D26/D6*100 -> 14.912326 | E45: =E26/E6*100 -> 14.483538 | F45: =F26/F6*100 -> 12.528834 | G45: =G26/G6*100 -> 11.093916 | H45: =H26/H6*100 -> 11.191069 | I45: =I26/I6*100 -> 10.90879 | ... W45: =W26/W6*100 -> 10.361547 | X45: =W45+($W45-$U45) -> 11.080688
A46: Agriculture, forestry and fishing | B46: 28.484108 | C46: 26.516077 | D46: 26.162531 | E46: 27.989526 | F46: 25.552196 | G46: 25.255943 | H46: 26.134989 | I46: 25.57406 | J46: 26.908553 | K46: 26.787345 | L46: 24.433353 | M46: 26.064321 | N46: 26.660137 | O46: 27.142303 | P46: 26.73888 | Q46: 27.000808 | R46: 29.095245 | S46: =AVERAGE(M46:R46) -> 27.116949 | T46: =AVERAGE(N46:S46) -> 27.292387 | U46: =AVERAGE(O46:T46) -> 27.397762 | V46: =AVERAGE(P46:U46) -> 27.440338 | W46: =AVERAGE(Q46:V46) -> 27.557248 | X46: =W46+($W46-$U46) -> 27.716734
A47: Mining and quarrying | B47: 3.6510194 | C47: 3.7487716 | D47: 3.7268282 | E47: 3.6801503 | F47: 3.4812939 | G47: 3.4925793 | H47: 3.5233661 | I47: 3.5004613 | J47: 3.5842707 | K47: 3.6016847 | L47: 3.342014 | M47: 3.2495596 | N47: 3.3518934 | O47: 3.3093611 | P47: 3.3935352 | Q47: 3.4565864 | R47: 3.4511954 | S47: =AVERAGE(M47:R47) -> 3.3686885 | T47: =AVERAGE(N47:S47) -> 3.3885433 | U47: =AVERAGE(O47:T47) -> 3.3946516 | V47: =AVERAGE(P47:U47) -> 3.4088667 | W47: =AVERAGE(Q47:V47) -> 3.411422 | X47: =W47+($W47-$U47) -> 3.4281923
A48: Secondary Industries | B48: =B29/B9*100 -> 20.004246 | C48: =C29/C9*100 -> 20.043706 | D48: =D29/D9*100 -> 20.141858 | E48: =E29/E9*100 -> 19.920232 | F48: =F29/F9*100 -> 20.014306 | G48: =G29/G9*100 -> 20.181407 | H48: =H29/H9*100 -> 20.67443 | I48: =I29/I9*100 -> 20.130913 | ... W48: =W29/W9*100 -> 19.031593 | X48: =W48+($W48-$U48) -> 18.970417
A49: Manufacturing | B49: 20.531588 | C49: 20.602049 | D49: 20.592216 | E49: 20.540598 | F49: 20.753178 | G49: 20.85872 | H49: 20.820557 | I49: 20.789989 | J49: 20.917481 | K49: 20.877356 | L49: 20.870402 | M49: 20.791574 | N49: 20.805721 | O49: 20.789956 | P49: 20.841308 | Q49: 20.92156 | R49: 20.89447 | S49: =AVERAGE(M49:R49) -> 20.840765 | T49: =AVERAGE(N49:S49) -> 20.848963 | U49: =AVERAGE(O49:T49) -> 20.85617 | V49: =AVERAGE(P49:U49) -> 20.867206 | W49: =AVERAGE(Q49:V49) -> 20.871522 | X49: =W49+($W49-$U49) -> 20.886874
A50: Electricity, gas and water | B50: 15.649942 | C50: 15.492886 | D50: 15.424888 | E50: 15.455909 | F50: 15.506313 | G50: 15.735791 | H50: 16.132189 | I50: 16.218726 | J50: 15.917855 | K50: 16.072764 | L50: 16.250491 | M50: 16.293038 | N50: 16.280177 | O50: 16.120778 | P50: 15.707339 | Q50: 15.519518 | R50: 15.462636 | S50: =AVERAGE(M50:R50) -> 15.897248 | T50: =AVERAGE(N50:S50) -> 15.831283 | U50: =AVERAGE(O50:T50) -> 15.756467 | V50: =AVERAGE(P50:U50) -> 15.695748 | W50: =AVERAGE(Q50:V50) -> 15.693817 | X50: =W50+($W50-$U50) -> 15.631166
A51: Construction | B51: 23.584052 | C51: 22.717944 | D51: 23.217908 | E51: 21.895444 | F51: 20.932261 | G51: 20.837487 | H51: 24.864223 | I51: 19.163257 | J51: 18.845883 | K51: 18.966101 | L51: 19.260466 | M51: 18.796396 | N51: 18.734172 | O51: 18.779613 | P51: 18.944957 | Q51: 19.120066 | R51: 19.134847 | S51: =AVERAGE(M51:R51) -> 18.918342 | T51: =AVERAGE(N51:S51) -> 18.938666 | U51: =AVERAGE(O51:T51) -> 18.972749 | V51: =AVERAGE(P51:U51) -> 19.004938 | W51: =AVERAGE(Q51:V51) -> 19.014935 | X51: =W51+($W51-$U51) -> 19.057121
A52: Tertiary industries | B52: =B33/B13*100 -> 16.017223 | C52: =C33/C13*100 -> 15.982774 | D52: =D33/D13*100 -> 15.829874 | E52: =E33/E13*100 -> 15.908636 | F52: =F33/F13*100 -> 15.834087 | G52: =G33/G13*100 -> 15.730369 | H52: =H33/H13*100 -> 15.783627 | I52: =I33/I13*100 -> 15.637471 | ... W52: =W33/W13*100 -> 16.215437 | X52: =W52+($W52-$U52) -> 16.209407
A53: Wholesale & retail trade; hotels & restaurants | B53: 15.423484 | C53: 15.207384 | D53: 15.230743 | E53: 15.167734 | F53: 15.126971 | G53: 15.182907 | H53: 16.063728 | I53: 16.087176 | J53: 16.213031 | K53: 16.219025 | L53: 16.13143 | M53: 16.198449 | N53: 16.273968 | O53: 16.227608 | P53: 16.444858 | Q53: 16.457494 | R53: 16.60343 | S53: =AVERAGE(M53:R53) -> 16.367635 | T53: =AVERAGE(N53:S53) -> 16.395832 | U53: =AVERAGE(O53:T53) -> 16.416143 | V53: =AVERAGE(P53:U53) -> 16.447565 | W53: =AVERAGE(Q53:V53) -> 16.448016 | X53: =W53+($W53-$U53) -> 16.47989
A54: Transport , storage and communication | B54: 22.188343 | C54: 21.867725 | D54: 21.470903 | E54: 21.314974 | F54: 20.9908 | G54: 20.621755 | H54: 20.421254 | I54: 20.48779 | J54: 20.611702 | K54: 20.531451 | L54: 20.652592 | M54: 20.669165 | N54: 20.821456 | O54: 20.866297 | P54: 20.927812 | Q54: 21.03568 | R54: 20.985981 | S54: =AVERAGE(M54:R54) -> 20.884398 | T54: =AVERAGE(N54:S54) -> 20.920271 | U54: =AVERAGE(O54:T54) -> 20.93674 | V54: =AVERAGE(P54:U54) -> 20.94848 | W54: =AVERAGE(Q54:V54) -> 20.951925 | X54: =W54+($W54-$U54) -> 20.96711
A55: Finance, real estate and business services | B55: 13.604192 | C55: 13.625597 | D55: 13.553629 | E55: 13.663784 | F55: 13.797945 | G55: 13.475836 | H55: 13.051385 | I55: 12.90107 | J55: 13.005614 | K55: 13.026333 | L55: 13.635085 | M55: 13.388254 | N55: 13.396457 | O55: 13.429066 | P55: 13.507346 | Q55: 13.50698 | R55: 13.511602 | S55: =AVERAGE(M55:R55) -> 13.456618 | T55: =AVERAGE(N55:S55) -> 13.468012 | U55: =AVERAGE(O55:T55) -> 13.479937 | V55: =AVERAGE(P55:U55) -> 13.488416 | W55: =AVERAGE(Q55:V55) -> 13.485261 | X55: =W55+($W55-$U55) -> 13.490584
A56: Personal services | B56: 16.535269 | C56: 16.533574 | D56: 16.527701 | E56: 16.528262 | F56: 16.494046 | G56: 16.476538 | H56: 16.480987 | I56: 16.472379 | J56: 16.465876 | K56: 16.465285 | L56: 16.39069 | M56: 16.419302 | N56: 16.403252 | O56: 16.372564 | P56: 16.491968 | Q56: 16.530521 | R56: 16.574026 | S56: =AVERAGE(M56:R56) -> 16.465272 | T56: =AVERAGE(N56:S56) -> 16.472934 | U56: =AVERAGE(O56:T56) -> 16.484548 | V56: =AVERAGE(P56:U56) -> 16.503211 | W56: =AVERAGE(Q56:V56) -> 16.505085 | X56: =W56+($W56-$U56) -> 16.525623
A57: General government services | B57: 14.829542 | C57: 15.099043 | D57: 14.618569 | E57: 15.011303 | F57: 14.61319 | G57: 14.707373 | H57: 14.984228 | I57: 14.939507 | J57: 14.856677 | K57: 14.774464 | L57: 14.80221 | M57: 14.790436 | N57: 14.831243 | O57: 14.823371 | P57: 14.837165 | Q57: 14.936146 | R57: 14.824858 | S57: =AVERAGE(M57:R57) -> 14.840537 | T57: =AVERAGE(N57:S57) -> 14.848887 | U57: =AVERAGE(O57:T57) -> 14.851827 | V57: =AVERAGE(P57:U57) -> 14.85657 | W57: =AVERAGE(Q57:V57) -> 14.859804 | X57: =W57+($W57-$U57) -> 14.867781
A58: All industries at basic prices | B58: =B39/B19*100 -> 17.073994 | C58: =C39/C19*100 -> 16.982174 | D58: =D39/D19*100 -> 16.975122 | E58: =E39/E19*100 -> 16.820771 | F58: =F39/F19*100 -> 16.478709 | G58: =G39/G19*100 -> 16.270196 | H58: =H39/H19*100 -> 16.354192 | I58: =I39/I19*100 -> 16.036012 | ... W58: =W39/W19*100 -> 16.047125 | X58: =W58+($W58-$U58) -> 16.165046
A59: Taxes less subsidies on products | B59: =B40/B20*100 -> #DIV/0! | C59: =C40/C20*100 -> #DIV/0! | D59: =D40/D20*100 -> #DIV/0! | E59: =E40/E20*100 -> #DIV/0! | F59: =F40/F20*100 -> #DIV/0! | G59: =G40/G20*100 -> #DIV/0! | H59: =H40/H20*100 -> #DIV/0! | I59: =I40/I20*100 -> #DIV/0! | ... W59: =W40/W20*100 -> 266.66667 | X59: =W59+($W59-$U59) -> -66.666667
A60: =A41 -> KZN - Annual Gross Operating Surplus | B60: =B41/B21*100 -> 17.073994 | C60: =C41/C21*100 -> 16.982174 | D60: =D41/D21*100 -> 16.975122 | E60: =E41/E21*100 -> 16.820771 | F60: =F41/F21*100 -> 16.478709 | G60: =G41/G21*100 -> 16.270196 | H60: =H41/H21*100 -> 16.354192 | I60: =I41/I21*100 -> 16.036012 | ... W60: =W41/W21*100 -> 16.047538 | X60: =W60+($W60-$U60) -> 16.165518
A62: SA – Annual Gross Operating Surplus
A63: PA Change
A64: National Industry | C64: 1996 | D64: 1997 | E64: 1998 | F64: 1999 | G64: 2000 | H64: 2001 | I64: 2002 | J64: 2003 | K64: 2004 | L64: 2005 | M64: 2006 | N64: 2007 | O64: 2008 | P64: 2009 | Q64: 2010 | R64: 2011 | S64: 2012 | T64: 2013 | U64: 2014 | V64: 2015 | W64: 2016
A65: Primary Industries | C65: =(C6-B6)/B6*100 -> 22.082629 | D65: =(D6-C6)/C6*100 -> 1.7166383 | E65: =(E6-D6)/D6*100 -> 8.4791215 | F65: =(F6-E6)/E6*100 -> 10.019772 | G65: =(G6-F6)/F6*100 -> 21.960206 | H65: =(H6-G6)/G6*100 -> 28.818908 | I65: =(I6-H6)/H6*100 -> 26.297265 | J65: =(J6-I6)/I6*100 -> -11.137995 | ... W65: =(W6-V6)/V6*100 -> 9.894211
A66: Agriculture, forestry and fishing | C66: =(C7-B7)/B7*100 -> 29.952963 | D66: =(D7-C7)/C7*100 -> 5.5121564 | E66: =(E7-D7)/D7*100 -> -3.3021746 | F66: =(F7-E7)/E7*100 -> 1.4833975 | G66: =(G7-F7)/F7*100 -> 3.9134289 | H66: =(H7-G7)/G7*100 -> 25.068862 | I66: =(I7-H7)/H7*100 -> 24.999283 | J66: =(J7-I7)/I7*100 -> -8.4674076 | ... W66: =(W7-V7)/V7*100 -> 14.993651
A67: Mining and quarrying | C67: =(C8-B8)/B8*100 -> 15.603722 | D67: =(D8-C8)/C8*100 -> -1.7956812 | E67: =(E8-D8)/D8*100 -> 20.192655 | F67: =(F8-E8)/E8*100 -> 16.847985 | G67: =(G8-F8)/F8*100 -> 34.497594 | H67: =(H8-G8)/G8*100 -> 30.83171 | I67: =(I8-H8)/H8*100 -> 26.963258 | J67: =(J8-I8)/I8*100 -> -12.487073 | ... W67: =(W8-V8)/V8*100 -> 7.9592106
A68: Secondary Industries | C68: =(C9-B9)/B9*100 -> 8.883708 | D68: =(D9-C9)/C9*100 -> 12.232776 | E68: =(E9-D9)/D9*100 -> -1.7574711 | F68: =(F9-E9)/E9*100 -> 3.0682697 | G68: =(G9-F9)/F9*100 -> 19.557607 | H68: =(H9-G9)/G9*100 -> 13.264129 | I68: =(I9-H9)/H9*100 -> 19.093493 | J68: =(J9-I9)/I9*100 -> 5.9380049 | ... W68: =(W9-V9)/V9*100 -> 2.2498017
A69: Manufacturing | C69: =(C10-B10)/B10*100 -> 9.0153378 | D69: =(D10-C10)/C10*100 -> 12.570087 | E69: =(E10-D10)/D10*100 -> -3.1221136 | F69: =(F10-E10)/E10*100 -> 4.3627206 | G69: =(G10-F10)/F10*100 -> 23.607773 | H69: =(H10-G10)/G10*100 -> 15.601391 | I69: =(I10-H10)/H10*100 -> 21.68775 | J69: =(J10-I10)/I10*100 -> 7.9648498 | ... W69: =(W10-V10)/V10*100 -> 3.0159715
A70: Electricity, gas and water | C70: =(C11-B11)/B11*100 -> 0.11031554 | D70: =(D11-C11)/C11*100 -> 5.8302316 | E70: =(E11-D11)/D11*100 -> 3.6998859 | F70: =(F11-E11)/E11*100 -> -2.3930946 | G70: =(G11-F11)/F11*100 -> 8.8640444 | H70: =(H11-G11)/G11*100 -> 1.3177688 | I70: =(I11-H11)/H11*100 -> 13.712566 | J70: =(J11-I11)/I11*100 -> -11.610181 | ... W70: =(W11-V11)/V11*100 -> 3.7639434
A71: Construction | C71: =(C12-B12)/B12*100 -> 23.38694 | D71: =(D12-C12)/C12*100 -> 19.096535 | E71: =(E12-D12)/D12*100 -> 0.20088885 | F71: =(F12-E12)/E12*100 -> 2.0982971 | G71: =(G12-F12)/F12*100 -> 6.885469 | H71: =(H12-G12)/G12*100 -> 11.161462 | I71: =(I12-H12)/H12*100 -> 5.2366708 | J71: =(J12-I12)/I12*100 -> 9.9518585 | ... W71: =(W12-V12)/V12*100 -> -1.2700862
A72: Tertiary industries | C72: =(C13-B13)/B13*100 -> 14.148372 | D72: =(D13-C13)/C13*100 -> 12.712945 | E72: =(E13-D13)/D13*100 -> 8.019851 | F72: =(F13-E13)/E13*100 -> 14.078709 | G72: =(G13-F13)/F13*100 -> 16.896303 | H72: =(H13-G13)/G13*100 -> 11.855969 | I72: =(I13-H13)/H13*100 -> 21.903167 | J72: =(J13-I13)/I13*100 -> 13.080208 | ... W72: =(W13-V13)/V13*100 -> 5.8409907
A73: Wholesale & retail trade; hotels & restaurants | C73: =(C14-B14)/B14*100 -> 12.622521 | D73: =(D14-C14)/C14*100 -> 6.4536952 | E73: =(E14-D14)/D14*100 -> 2.7931527 | F73: =(F14-E14)/E14*100 -> 8.8098152 | G73: =(G14-F14)/F14*100 -> 25.324188 | H73: =(H14-G14)/G14*100 -> 11.462265 | I73: =(I14-H14)/H14*100 -> 19.304681 | J73: =(J14-I14)/I14*100 -> 10.976062 | ... W73: =(W14-V14)/V14*100 -> 8.8811701
A74: Transport , storage and communication | C74: =(C15-B15)/B15*100 -> 18.732631 | D74: =(D15-C15)/C15*100 -> 14.358304 | E74: =(E15-D15)/D15*100 -> 11.57281 | F74: =(F15-E15)/E15*100 -> 14.696156 | G74: =(G15-F15)/F15*100 -> 20.530708 | H74: =(H15-G15)/G15*100 -> 12.638222 | I74: =(I15-H15)/H15*100 -> 16.115046 | J74: =(J15-I15)/I15*100 -> 21.958891 | ... W74: =(W15-V15)/V15*100 -> 3.8793464
A75: Finance, real estate and business services | C75: =(C16-B16)/B16*100 -> 13.897774 | D75: =(D16-C16)/C16*100 -> 17.4922 | E75: =(E16-D16)/D16*100 -> 7.4887888 | F75: =(F16-E16)/E16*100 -> 17.650168 | G75: =(G16-F16)/F16*100 -> 10.185017 | H75: =(H16-G16)/G16*100 -> 12.21091 | I75: =(I16-H16)/H16*100 -> 28.705172 | J75: =(J16-I16)/I16*100 -> 11.970929 | ... W75: =(W16-V16)/V16*100 -> 4.6531476
A76: Personal services | C76: =(C17-B17)/B17*100 -> 14.147783 | D76: =(D17-C17)/C17*100 -> 9.8911273 | E76: =(E17-D17)/D17*100 -> 13.662421 | F76: =(F17-E17)/E17*100 -> 14.365956 | G76: =(G17-F17)/F17*100 -> 20.194409 | H76: =(H17-G17)/G17*100 -> 8.7961804 | I76: =(I17-H17)/H17*100 -> 20.436487 | J76: =(J17-I17)/I17*100 -> 16.154095 | ... W76: =(W17-V17)/V17*100 -> 2.0375524
... A79: Taxes less subsidies on products | C79: =(C20-B20)/B20*100 -> #DIV/0! | D79: =(D20-C20)/C20*100 -> #DIV/0! | E79: =(E20-D20)/D20*100 -> #DIV/0! | F79: =(F20-E20)/E20*100 -> #DIV/0! | G79: =(G20-F20)/F20*100 -> #DIV/0! | H79: =(H20-G20)/G20*100 -> #DIV/0! | I79: =(I20-H20)/H20*100 -> #DIV/0! | J79: =(J20-I20)/I20*100 -> #DIV/0! | ... W79: =(W20-V20)/V20*100 -> 50
A80: =A21 -> SA - Annual Gross Operating Surplus | C80: =(C21-B21)/B21*100 -> 13.553684 | D80: =(D21-C21)/C21*100 -> 11.097661 | E80: =(E21-D21)/D21*100 -> 5.223706 | F80: =(F21-E21)/E21*100 -> 10.564998 | G80: =(G21-F21)/F21*100 -> 18.21076 | H80: =(H21-G21)/G21*100 -> 14.424877 | I80: =(I21-H21)/H21*100 -> 21.832591 | J80: =(J21-I21)/I21*100 -> 7.6275838 | ... W80: =(W21-V21)/V21*100 -> 5.5808552
A82: KZN – Annual Gross Operating Surplus
A83: PA Change
A84: Provincial Industry | C84: 1996 | D84: 1997 | E84: 1998 | F84: 1999 | G84: 2000 | H84: 2001 | I84: 2002 | J84: 2003 | K84: 2004 | L84: 2005 | M84: 2006 | N84: 2007 | O84: 2008 | P84: 2009 | Q84: 2010 | R84: 2011 | S84: 2012 | T84: 2013 | U84: 2014 | V84: 2015 | W84: 2016
A85: Primary Industries | C85: =(C26-B26)/B26*100 -> 20.667675 | D85: =(D26-C26)/C26*100 -> 3.2470931 | E85: =(E26-D26)/D26*100 -> 5.3599247 | F85: =(F26-E26)/E26*100 -> -4.8285414 | G85: =(G26-F26)/F26*100 -> 7.9921971 | H85: =(H26-G26)/G26*100 -> 29.947012 | I85: =(I26-H26)/H26*100 -> 23.111599 | J85: =(J26-I26)/I26*100 -> -5.1196197 | ... W85: =(W26-V26)/V26*100 -> 13.647728
A86: Agriculture, forestry and fishing | C86: =(C27-B27)/B27*100 -> 20.974225 | D86: =(D27-C27)/C27*100 -> 4.1053325 | E86: =(E27-D27)/D27*100 -> 3.4504756 | F86: =(F27-E27)/E27*100 -> -7.3537829 | G86: =(G27-F27)/F27*100 -> 2.7086545 | H86: =(H27-G27)/G27*100 -> 29.421945 | I86: =(I27-H27)/H27*100 -> 22.316455 | J86: =(J27-I27)/I27*100 -> -3.691101 | ... W86: =(W27-V27)/V27*100 -> 15.483583
A87: Mining and quarrying | C87: =(C28-B28)/B28*100 -> 18.698888 | D87: =(D28-C28)/C28*100 -> -2.3705183 | E87: =(E28-D28)/D28*100 -> 18.68726 | F87: =(F28-E28)/E28*100 -> 10.534122 | G87: =(G28-F28)/F28*100 -> 34.933597 | H87: =(H28-G28)/G28*100 -> 31.984979 | I87: =(I28-H28)/H28*100 -> 26.137892 | J87: =(J28-I28)/I28*100 -> -10.391803 | ... W87: =(W28-V28)/V28*100 -> 8.0401359
A88: Secondary Industries | C88: =(C29-B29)/B29*100 -> 9.0984935 | D88: =(D29-C29)/C29*100 -> 12.782363 | E88: =(E29-D29)/D29*100 -> -2.8384574 | F88: =(F29-E29)/E29*100 -> 3.5550144 | G88: =(G29-F29)/F29*100 -> 20.5558 | H88: =(H29-G29)/G29*100 -> 16.031125 | I88: =(I29-H29)/H29*100 -> 15.962604 | J88: =(J29-I29)/I29*100 -> 6.6010531 | ... W88: =(W29-V29)/V29*100 -> 2.236047
A89: Manufacturing | C89: =(C30-B30)/B30*100 -> 9.3894587 | D89: =(D30-C30)/C30*100 -> 12.516357 | E89: =(E30-D30)/D30*100 -> -3.3649515 | F89: =(F30-E30)/E30*100 -> 5.4427935 | G89: =(G30-F30)/F30*100 -> 24.236391 | H89: =(H30-G30)/G30*100 -> 15.389889 | I89: =(I30-H30)/H30*100 -> 21.509092 | J89: =(J30-I30)/I30*100 -> 8.6269326 | ... W89: =(W30-V30)/V30*100 -> 3.0372801
A90: Electricity, gas and water | C90: =(C31-B31)/B31*100 -> -0.8943512 | D90: =(D31-C31)/C31*100 -> 5.3657456 | E90: =(E31-D31)/D31*100 -> 3.9084379 | F90: =(F31-E31)/E31*100 -> -2.0747828 | G90: =(G31-F31)/F31*100 -> 10.475126 | H90: =(H31-G31)/G31*100 -> 3.8700469 | I90: =(I31-H31)/H31*100 -> 14.322548 | J90: =(J31-I31)/I31*100 -> -13.249889 | ... W90: =(W31-V31)/V31*100 -> 3.7511726
A91: Construction | C91: =(C32-B32)/B32*100 -> 18.855637 | D91: =(D32-C32)/C32*100 -> 21.717545 | E91: =(E32-D32)/D32*100 -> -5.5064297 | F91: =(F32-E32)/E32*100 -> -2.3930219 | G91: =(G32-F32)/F32*100 -> 6.4015306 | H91: =(H32-G32)/G32*100 -> 32.642836 | I91: =(I32-H32)/H32*100 -> -18.892403 | J91: =(J32-I32)/I32*100 -> 8.1308795 | ... W91: =(W32-V32)/V32*100 -> -1.2181535
A92: Tertiary industries | C92: =(C33-B33)/B33*100 -> 13.902869 | D92: =(D33-C33)/C33*100 -> 11.634669 | E92: =(E33-D33)/D33*100 -> 8.5573049 | F92: =(F33-E33)/E33*100 -> 13.544132 | G92: =(G33-F33)/F33*100 -> 16.130591 | H92: =(H33-G33)/G33*100 -> 12.23468 | I92: =(I33-H33)/H33*100 -> 20.774346 | J92: =(J33-I33)/I33*100 -> 14.40797 | ... W92: =(W33-V33)/V33*100 -> 5.7726516
A93: Wholesale & retail trade; hotels & restaurants | C93: =(C34-B34)/B34*100 -> 11.044549 | D93: =(D34-C34)/C34*100 -> 6.6172164 | E93: =(E34-D34)/D34*100 -> 2.3678999 | F93: =(F34-E34)/E34*100 -> 8.5173904 | G93: =(G34-F34)/F34*100 -> 25.787609 | H93: =(H34-G34)/G34*100 -> 17.928638 | I93: =(I34-H34)/H34*100 -> 19.478822 | J93: =(J34-I34)/I34*100 -> 11.844266 | ... W93: =(W34-V34)/V34*100 -> 8.8841567
A94: Transport , storage and communication | C94: =(C35-B35)/B35*100 -> 17.01696 | D94: =(D35-C35)/C35*100 -> 12.283108 | E94: =(E35-D35)/D35*100 -> 10.762529 | F94: =(F35-E35)/E35*100 -> 12.951772 | G94: =(G35-F35)/F35*100 -> 18.411623 | H94: =(H35-G35)/G35*100 -> 11.543063 | I94: =(I35-H35)/H35*100 -> 16.49337 | J94: =(J35-I35)/I35*100 -> 22.696511 | ... W94: =(W35-V35)/V35*100 -> 3.8964283
A95: Finance, real estate and business services | C95: =(C36-B36)/B36*100 -> 14.076981 | D95: =(D36-C36)/C36*100 -> 16.871635 | E95: =(E36-D36)/D36*100 -> 8.3623804 | F95: =(F36-E36)/E36*100 -> 18.805346 | G95: =(G36-F36)/F36*100 -> 7.6127797 | H95: =(H36-G36)/G36*100 -> 8.6765784 | I95: =(I36-H36)/H36*100 -> 27.222853 | J95: =(J36-I36)/I36*100 -> 12.878287 | ... W95: =(W36-V36)/V36*100 -> 4.6286683
A96: Personal services | C96: =(C37-B37)/B37*100 -> 14.136079 | D96: =(D37-C37)/C37*100 -> 9.8520947 | E96: =(E37-D37)/D37*100 -> 13.666279 | F96: =(F37-E37)/E37*100 -> 14.1292 | G96: =(G37-F37)/F37*100 -> 20.066831 | H96: =(H37-G37)/G37*100 -> 8.8255548 | I96: =(I37-H37)/H37*100 -> 20.373585 | J96: =(J37-I37)/I37*100 -> 16.108236 | ... W96: =(W37-V37)/V37*100 -> 2.0491383
... A99: Taxes less subsidies on products | C99: =(C40-B40)/B40*100 -> #DIV/0! | D99: =(D40-C40)/C40*100 -> #DIV/0! | E99: =(E40-D40)/D40*100 -> #DIV/0! | F99: =(F40-E40)/E40*100 -> #DIV/0! | G99: =(G40-F40)/F40*100 -> #DIV/0! | H99: =(H40-G40)/G40*100 -> #DIV/0! | I99: =(I40-H40)/H40*100 -> #DIV/0! | J99: =(J40-I40)/I40*100 -> #DIV/0! | ... W99: =(W40-V40)/V40*100 -> 14.285714
A100: =A60 -> KZN - Annual Gross Operating Surplus | C100: =(C41-B41)/B41*100 -> 12.943021 | D100: =(D41-C41)/C41*100 -> 11.051523 | E100: =(E41-D41)/D41*100 -> 4.266928 | F100: =(F41-E41)/E41*100 -> 8.3165847 | G100: =G98 -> 16.714984 | H100: =(H41-G41)/G41*100 -> 15.015605 | I100: =(I41-H41)/H41*100 -> 19.462265 | J100: =(J41-I41)/I41*100 -> 9.9552209 | K100: =(K41-J41)/J41*100 -> 10.47759 | L100: =(L41-K41)/K41*100 -> 9.7988526 | M100: =(M41-L41)/L41*100 -> 10.587909 | N100: =(N41-M41)/M41*100 -> 15.373597 | O100: =(O41-N41)/N41*100 -> 12.527887 | ... W100: =(W41-V41)/V41*100 -> 5.491316
A134: Primary Industries | B134: =B26/B$39*100 -> 10.873089 | C134: =C26/C$39*100 -> 11.616746 | D134: =D26/D$39*100 -> 10.80035 | E134: =E26/E$39*100 -> 10.913566 | F134: =F26/F$39*100 -> 9.5891135 | G134: =G26/G$39*100 -> 8.8724635 | H134: =H26/H$39*100 -> 10.024293 | I134: =I26/I$39*100 -> 10.330515 | ... P134: =P26/P$39*100 -> 9.4054677
A135: Agriculture, forestry and fishing | B135: =B27/B$39*100 -> 9.4081864 | C135: =C27/C$39*100 -> 10.077188 | D135: =D27/D$39*100 -> 9.4468674 | E135: =E27/E$39*100 -> 9.3728946 | F135: =F27/F$39*100 -> 8.0169 | G135: =G27/G$39*100 -> 7.0548355 | H135: =H27/H$39*100 -> 7.9384926 | I135: =I27/I$39*100 -> 8.1281588 | ... P135: =P27/P$39*100 -> 7.1249707
A136: Mining and quarrying | B136: =B28/B$39*100 -> 1.464903 | C136: =C28/C$39*100 -> 1.5395583 | D136: =D28/D$39*100 -> 1.3534823 | E136: =E28/E$39*100 -> 1.5406717 | F136: =F28/F$39*100 -> 1.5722135 | G136: =G28/G$39*100 -> 1.817628 | H136: =H28/H$39*100 -> 2.0858004 | I136: =I28/I$39*100 -> 2.2023562 | ... P136: =P28/P$39*100 -> 2.280497
A137: Secondary Industries | B137: =B29/B$39*100 -> 35.288481 | C137: =C29/C$39*100 -> 34.087277 | D137: =D29/D$39*100 -> 34.618559 | E137: =E29/E$39*100 -> 32.259439 | F137: =F29/F$39*100 -> 30.841322 | G137: =G29/G$39*100 -> 31.856237 | H137: =H29/H$39*100 -> 32.137509 | I137: =I29/I$39*100 -> 31.196037 | ... P137: =P29/P$39*100 -> 25.801792
A138: Manufacturing | B138: =B30/B$39*100 -> 26.753881 | C138: =C30/C$39*100 -> 25.912115 | D138: =D30/D$39*100 -> 26.253911 | E138: =E30/E$39*100 -> 24.33224 | F138: =F30/F$39*100 -> 23.686672 | G138: =G30/G$39*100 -> 25.2131 | H138: =H30/H$39*100 -> 25.295149 | I138: =I30/I$39*100 -> 25.728548 | ... P138: =P30/P$39*100 -> 17.509485
A139: Electricity, gas and water | B139: =B31/B$39*100 -> 4.6105224 | C139: =C31/C$39*100 -> 4.0456577 | D139: =D31/D$39*100 -> 3.8385223 | E139: =E31/E$39*100 -> 3.8253247 | F139: =F31/F$39*100 -> 3.4583416 | G139: =G31/G$39*100 -> 3.2734505 | H139: =H31/H$39*100 -> 2.9562376 | I139: =I31/I$39*100 -> 2.8290491 | ... P139: =P31/P$39*100 -> 2.8210198
A140: Construction | B140: =B32/B$39*100 -> 3.9240773 | C140: =C32/C$39*100 -> 4.1295044 | D140: =D32/D$39*100 -> 4.5261256 | E140: =E32/E$39*100 -> 4.1018737 | F140: =F32/F$39*100 -> 3.6963083 | G140: =G32/G$39*100 -> 3.3696861 | H140: =H32/H$39*100 -> 3.8861225 | I140: =I32/I$39*100 -> 2.6384403 | ... P140: =P32/P$39*100 -> 5.4712867
A141: Tertiary industries | B141: =B33/B$39*100 -> 53.83843 | C141: =C33/C$39*100 -> 54.295977 | D141: =D33/D$39*100 -> 54.581092 | E141: =E33/E$39*100 -> 56.826995 | F141: =F33/F$39*100 -> 59.569565 | G141: =G33/G$39*100 -> 59.2713 | H141: =H33/H$39*100 -> 57.838198 | I141: =I33/I$39*100 -> 58.473448 | ... P141: =P33/P$39*100 -> 64.792741
A142: Wholesale & retail trade; hotels & restaurants | B142: =B34/B$39*100 -> 14.559346 | C142: =C34/C$39*100 -> 14.314616 | D142: =D34/D$39*100 -> 13.743031 | E142: =E34/E$39*100 -> 13.492728 | F142: =F34/F$39*100 -> 13.517741 | G142: =G34/G$39*100 -> 14.568518 | H142: =H34/H$39*100 -> 14.937499 | I142: =I34/I$39*100 -> 14.939569 | ... P142: =P34/P$39*100 -> 16.181223
...

Sheet Quarterly
A1: Quarterly Gross Operating Surplus
A3: =Annual!A3 -> SA – Annual Gross Operating Surplus
A4: Rand million
A5: National Industry | B5: 1995q1 | C5: 1995q2 | D5: 1995q3 | E5: 1995q4 | F5: 1996q1 | G5: 1996q2 | H5: 1996q3 | I5: 1996q4 | J5: 1997q1 | K5: 1997q2 | L5: 1997q3 | M5: 1997q4 | N5: 1998q1 | O5: 1998q2 | P5: 1998q3 | Q5: 1998q4 | R5: 1999q1 | S5: 1999q2 | T5: 1999q3 | U5: 1999q4 | V5: 2000q1 | W5: 2000q2 | X5: 2000q3 | Y5: 2000q4 | Z5: 2001q1 | AA5: 2001q2 | AB5: 2001q3 | AC5: 2001q4 | AD5: 2002q1 | AE5: 2002q2 | AF5: 2002q3 | AG5: 2002q4 | AH5: 2003q1 | AI5: 2003q2 | AJ5: 2003q3 | AK5: 2003q4 | AL5: 2004q1 | AM5: 2004q2 | AN5: 2004q3 | AO5: 2004q4 | AP5: 2005q1 | AQ5: 2005q2 | AR5: 2005q3 | AS5: 2005q4 | AT5: 2006q1 | AU5: 2006q2 | AV5: 2006q3 | AW5: 2006q4 | AX5: 2007q1 | AY5: 2007q2 | AZ5: 2007q3 | BA5: 2007q4 | BB5: 2008q1 | BC5: 2008q2 | BD5: 2008q3 | BE5: 2008q4 | BF5: 2009q1 | BG5: 2009q2 | BH5: 2009q3 | BI5: 2009q4 | BJ5: 2010q1 | BK5: 2010q2 | BL5: 2010q3 | BM5: 2010q4 | BN5: 2011q1 | BO5: 2011q2 | BP5: 2011q3 | BQ5: 2011q4 | BR5: 2012q1 | BS5: 2012q2 | BT5: 2012q3 | BU5: 2012q4 | BV5: 2013q1 | BW5: 2013q2 | BX5: 2013q3 | BY5: 2013q4 | BZ5: 2014q1 | CA5: 2014q2 | CB5: 2014q3 | CC5: 2014q4 | CD5: 2015q1 | CE5: 2015q2 | CF5: 2015q3 | CG5: 2015q4 | CH5: 2016q1 | CI5: 2016q2 | CJ5: 2016q3 | CK5: 2016q4
A6: Primary Industries | B6: =SUM(B7:B8) -> 6033.0164 | C6: =SUM(C7:C8) -> 8538.8958 | D6: =SUM(D7:D8) -> 8767.2633 | E6: =SUM(E7:E8) -> 6588.5432 | F6: =SUM(F7:F8) -> 6553.0273 | G6: =SUM(G7:G8) -> 12507.211 | H6: =SUM(H7:H8) -> 10047.779 | I6: =SUM(I7:I8) -> 7428.5285 | ... CK6: =SUM(CK7:CK8) -> 50893
A7: Agriculture, forestry and fishing | B7: 2410.2984 | C7: 4031.7328 | D7: 4082.514 | E7: 2988.2881 | F7: 2524.5528 | G7: 7180.2712 | H7: 4663.4952 | I7: 3192.008 | J7: 3264.7021 | K7: 7692.958 | L7: 4670.52 | M7: 2900.0999 | N7: 3686.2927 | O7: 7443.1057 | P7: 4737.2696 | Q7: 2049.7758 | R7: 3168.0174 | S7: 8082.4848 | T7: 5069.4935 | U7: 1862.2201 | V7: 2934.2982 | W7: 6853.6886 | X7: 6692.0639 | Y7: 2413.7133 | Z7: 3531.7459 | AA7: 9642.1079 | AB7: 6777.1653 | AC7: 3679.1965 | AD7: 4198.9356 | AE7: 12683.727 | AF7: 8711.6829 | AG7: 3943.2542 | AH7: 3799.481 | AI7: 11987.338 | AJ7: 8001.48 | AK7: 3248.232 | AL7: 3812.182 | AM7: 11615.15 | AN7: 8913.423 | AO7: 3429.195 | AP7: 4921.531 | AQ7: 9479.275 | AR7: 8709.728 | AS7: 3839.466 | AT7: 5089.344 | AU7: 9248.106 | AV7: 10789.689 | AW7: 4865.66 | AX7: 7734.093 | AY7: 14655.402 | AZ7: 13264.304 | BA7: 5399.38 | BB7: 9088.288 | BC7: 20477.426 | BD7: 16392.78 | BE7: 5124.506 | BF7: 9700.525 | BG7: 21853.124 | BH7: 13412.971 | BI7: 4686.78 | BJ7: 9424 | BK7: 23267 | BL7: 10617 | BM7: 2803 | BN7: 8409 | BO7: 21203 | BP7: 14366 | BQ7: 5026 | BR7: 7909 | BS7: 24474 | BT7: 12471 | BU7: 4308 | BV7: 8773 | BW7: 27078 | BX7: 11731 | BY7: 3567 | BZ7: 9715 | CA7: 28674 | CB7: 15284 | CC7: 3985 | CD7: 12270 | CE7: 27566 | CF7: 12675 | CG7: 4980 | CH7: 15620 | CI7: 27319 | CJ7: 16675 | CK7: 6497
A8: Mining and quarrying | B8: 3622.718 | C8: 4507.163 | D8: 4684.7493 | E8: 3600.2551 | F8: 4028.4745 | G8: 5326.9398 | H8: 5384.2836 | I8: 4236.5204 | J8: 4193.4557 | K8: 5147.768 | L8: 5218.3273 | M8: 4075.9149 | N8: 4081.5967 | O8: 6024.1506 | P8: 6712.0675 | Q8: 5580.6465 | R8: 5604.3814 | S8: 6830.7711 | T8: 6991.6879 | U8: 6745.3103 | V8: 7627.0936 | W8: 9748.6162 | X8: 8980.8254 | Y8: 8844.3776 | Z8: 10582.076 | AA8: 12789.28 | AB8: 12028.244 | AC8: 10654.356 | AD8: 12693.5 | AE8: 16029 | AF8: 16476.2 | AG8: 13272.903 | AH8: 11980.778 | AI8: 13359.935 | AJ8: 14481.69 | AK8: 11347.808 | AL8: 11772 | AM8: 14268.4 | AN8: 15142.5 | AO8: 12505.794 | AP8: 12967.837 | AQ8: 18145.925 | AR8: 18055.778 | AS8: 16188.46 | AT8: 15240.927 | AU8: 20136.512 | AV8: 25756.807 | AW8: 22174.133 | AX8: 22279.644 | AY8: 25820.663 | AZ8: 26535.032 | BA8: 24815.55 | BB8: 25937.768 | BC8: 34303.961 | BD8: 36560.295 | BE8: 31165.947 | BF8: 26514.201 | BG8: 32940.388 | BH8: 34925.792 | BI8: 30843.244 | BJ8: 26024 | BK8: 37484 | BL8: 41223 | BM8: 39220 | BN8: 34815 | BO8: 40023 | BP8: 45640 | BQ8: 43619 | BR8: 35501 | BS8: 40451 | BT8: 44166 | BU8: 37429 | BV8: 38813 | BW8: 39600 | BX8: 47719 | BY8: 42760 | BZ8: 40591 | CA8: 38935 | CB8: 44112 | CC8: 40218 | CD8: 36814 | CE8: 37817 | CF8: 39092 | CG8: 37787 | CH8: 34666 | CI8: 42511 | CJ8: 41996 | CK8: 44396
A9: Secondary Industries | B9: =SUM(B10:B12) -> 16820.335 | C9: =SUM(C10:C12) -> 18116.757 | D9: =SUM(D10:D12) -> 19729.372 | E9: =SUM(E10:E12) -> 17503.069 | F9: =SUM(F10:F12) -> 18791.687 | G9: =SUM(G10:G12) -> 19824.123 | H9: =SUM(H10:H12) -> 20784.855 | I9: =SUM(I10:I12) -> 19180.199 | ... CK9: =SUM(CK10:CK12) -> 74658
A10: Manufacturing | B10: 12015.177 | C10: 13227.208 | D10: 14840.843 | E10: 13226.61 | F10: 13484.686 | G10: 14445.453 | H10: 15554.24 | I10: 14631.521 | J10: 15321.832 | K10: 16598.604 | L10: 17518.312 | M10: 15982.371 | N10: 15788.233 | O10: 15969.069 | P10: 16982.17 | Q10: 14639.126 | R10: 15190.107 | S10: 15669.023 | T10: 18189.373 | U10: 17095.126 | V10: 18353.328 | W10: 19284.049 | X10: 22725.518 | Y10: 21395.771 | Z10: 22561.412 | AA10: 22823.816 | AB10: 24852.869 | AC10: 24276.059 | AD10: 25620.283 | AE10: 27875.995 | AF10: 31294.969 | AG10: 30220.903 | AH10: 30698.714 | AI10: 30071.916 | AJ10: 32488.63 | AK10: 30913.435 | AL10: 32020.45 | AM10: 32467.936 | AN10: 36320.371 | AO10: 34412.054 | AP10: 32900.428 | AQ10: 36762.836 | AR10: 40186.371 | AS10: 35421.499 | AT10: 31658.295 | AU10: 33505.879 | AV10: 37343.41 | AW10: 32794.44 | AX10: 37514.867 | AY10: 35747.113 | AZ10: 38853.906 | BA10: 36548.739 | BB10: 40306.918 | BC10: 41349.353 | BD10: 45030.431 | BE10: 37823.996 | BF10: 41086.5 | BG10: 37466.314 | BH10: 41356.697 | BI10: 36642.092 | BJ10: 40128 | BK10: 37675 | BL10: 41421 | BM10: 33796 | BN10: 37701 | BO10: 35195 | BP10: 39918 | BQ10: 31665 | BR10: 39295 | BS10: 35687 | BT10: 38808 | BU10: 30798 | BV10: 35706 | BW10: 35710 | BX10: 41654 | BY10: 36345 | BZ10: 43337 | CA10: 42587 | CB10: 47831 | CC10: 40288 | CD10: 46193 | CE10: 44186 | CF10: 50618 | CG10: 39575 | CH10: 45875 | CI10: 48253 | CJ10: 52250 | CK10: 39639
A11: Electricity, gas and water | B11: 2991.6917 | C11: 3019.451 | D11: 3224.671 | E11: 2816.7801 | F11: 2978.2698 | G11: 3038.0926 | H11: 3279.7793 | I11: 2769.7479 | J11: 3016.6779 | K11: 3319.2469 | L11: 3422.6217 | M11: 3010.8123 | N11: 3168.7111 | O11: 3493.1889 | P11: 3476.7211 | Q11: 3103.1895 | R11: 2837.2505 | S11: 3340.9372 | T11: 3887.3859 | U11: 2859.348 | V11: 3231.1172 | W11: 3698.5728 | X11: 3990.3639 | Y11: 3150.5385 | Z11: 3291.3248 | AA11: 3678.7729 | AB11: 3986.1422 | AC11: 3299.7703 | AD11: 3527.305 | AE11: 4076.608 | AF11: 4629.341 | AG11: 3978.621 | AH11: 3176.155 | AI11: 3703.249 | AJ11: 4194.19 | AK11: 3255.169 | AL11: 3721.034 | AM11: 4025.932 | AN11: 4656.091 | AO11: 3606.996 | AP11: 3697.112 | AQ11: 4164.807 | AR11: 4585.139 | AS11: 3519.122 | AT11: 3736.105 | AU11: 4513.393 | AV11: 5062.817 | AW11: 3692.996 | AX11: 4167.34 | AY11: 4851.284 | AZ11: 5358.776 | BA11: 3440.661 | BB11: 4710.843 | BC11: 5537.855 | BD11: 6275.896 | BE11: 3631.643 | BF11: 7365.848 | BG11: 8832.257 | BH11: 10710.777 | BI11: 6557.798 | BJ11: 11938 | BK11: 13452 | BL11: 12517 | BM11: 7942 | BN11: 13472 | BO11: 19398 | BP11: 17042 | BQ11: 10581 | BR11: 17427 | BS11: 24342 | BT11: 20880 | BU11: 13607 | BV11: 19107 | BW11: 26834 | BX11: 22870 | BY11: 14822 | BZ11: 20954 | CA11: 29014 | CB11: 23798 | CC11: 15462 | CD11: 23542 | CE11: 31494 | CF11: 26104 | CG11: 17295 | CH11: 24205 | CI11: 32964 | CJ11: 27262 | CK11: 17709
A12: Construction | B12: 1813.4661 | C12: 1870.0978 | D12: 1663.8588 | E12: 1459.6792 | F12: 2328.7314 | G12: 2340.5775 | H12: 1950.8354 | I12: 1778.9303 | J12: 2674.9089 | K12: 2638.9871 | L12: 2472.7282 | M12: 2216.3826 | N12: 2745.9597 | O12: 2674.8178 | P12: 2480.9598 | Q12: 2121.3645 | R12: 2835.3447 | S12: 2737.3796 | T12: 2520.0577 | U12: 2140.6342 | V12: 2975.9243 | W12: 2898.4607 | X12: 2708.9831 | Y12: 2354.6668 | Z12: 3247.4538 | AA12: 3258.5942 | AB12: 3012.6584 | AC12: 2640.1731 | AD12: 3397 | AE12: 3352 | AF12: 3094 | AG12: 2952.6 | AH12: 3849 | AI12: 3729 | AJ12: 3354 | AK12: 3137 | AL12: 4227 | AM12: 4893 | AN12: 4514 | AO12: 4401.4 | AP12: 5449 | AQ12: 5903 | AR12: 5791 | AS12: 5353 | AT12: 6126 | AU12: 6766 | AV12: 6666 | AW12: 5959.2 | AX12: 8567 | AY12: 8715 | AZ12: 8495 | BA12: 7624.7 | BB12: 12580 | BC12: 14162 | BD12: 14831 | BE12: 13776 | BF12: 13783 | BG12: 14734 | BH12: 13760 | BI12: 11538.2 | BJ12: 13158 | BK12: 13839 | BL12: 13307 | BM12: 10862 | BN12: 13294 | BO12: 15148 | BP12: 14381 | BQ12: 13007 | BR12: 15236 | BS12: 16777 | BT12: 15277 | BU12: 13909 | BV12: 16192 | BW12: 18807 | BX12: 18415 | BY12: 16704 | BZ12: 20188 | CA12: 21265 | CB12: 18798 | CC12: 16552 | CD12: 21031 | CE12: 22836 | CF12: 19924 | CG12: 17856 | CH12: 20870 | CI12: 22895 | CJ12: 19537 | CK12: 17310
A13: Tertiary industries | B13: =SUM(B14:B18) -> 32683.383 | C13: =SUM(C14:C18) -> 32806.683 | D13: =SUM(D14:D18) -> 35143.91 | E13: =SUM(E14:E18) -> 36880.458 | F13: =SUM(F14:F18) -> 37464.035 | G13: =SUM(G14:G18) -> 37565.553 | H13: =SUM(H14:H18) -> 39962.018 | I13: =SUM(I14:I18) -> 41978.881 | ... CK13: =SUM(CK14:CK18) -> 319980
A14: Wholesale & retail trade; hotels & restaurants | B14: 9019.6688 | C14: 8786.6887 | D14: 9592.0358 | E14: 11220.738 | F14: 10078.063 | G14: 9938.5302 | H14: 10700.647 | I14: 12776.599 | J14: 10843.87 | K14: 11026.354 | L14: 11515.504 | M14: 12915.07 | N14: 11245.429 | O14: 12048.847 | P14: 11825.933 | Q14: 12473.842 | R14: 11650.429 | S14: 11664.05 | T14: 12896.963 | U14: 15575.556 | V14: 14629.219 | W14: 14828.799 | X14: 16534.946 | Y14: 18908.671 | Z14: 17120.215 | AA14: 16880.375 | AB14: 17684.092 | AC14: 20656.15 | AD14: 19732.618 | AE14: 20018.716 | AF14: 21263.531 | AG14: 25291.136 | AH14: 22615.329 | AI14: 22130.719 | AJ14: 23676.644 | AK14: 27356.308 | AL14: 25133.524 | AM14: 24144.923 | AN14: 27544.06 | AO14: 30679.495 | AP14: 27063.369 | AQ14: 26436.948 | AR14: 28953.299 | AS14: 33182.904 | AT14: 29729.224 | AU14: 29268.599 | AV14: 32119.643 | AW14: 36288.874 | AX14: 34061.749 | AY14: 33577.234 | AZ14: 36259.825 | BA14: 41258.662 | BB14: 40553.473 | BC14: 40543.474 | BD14: 42509.204 | BE14: 47283.279 | BF14: 44303.006 | BG14: 44298.409 | BH14: 44177.35 | BI14: 50575.204 | BJ14: 50688 | BK14: 55072 | BL14: 53023 | BM14: 63755 | BN14: 54018 | BO14: 58637 | BP14: 58437 | BQ14: 70215 | BR14: 58756 | BS14: 63080 | BT14: 62739 | BU14: 74048 | BV14: 63855 | BW14: 66721 | BX14: 68023 | BY14: 77134 | BZ14: 69110 | CA14: 70710 | CB14: 69793 | CC14: 78350 | CD14: 72808 | CE14: 78140 | CF14: 76258 | CG14: 86604 | CH14: 79349 | CI14: 85970 | CJ14: 82686 | CK14: 93675
A15: Transport , storage and communication | B15: 5648.0822 | C15: 5900.973 | D15: 6771.069 | E15: 7100.083 | F15: 7211.0466 | G15: 7009.3064 | H15: 7865.0719 | I15: 8096.6559 | J15: 7906.3116 | K15: 8287.3522 | L15: 9230.9173 | M15: 9091.1345 | N15: 8676.4861 | O15: 9323.8086 | P15: 10073.401 | Q15: 10436.458 | R15: 9875.1828 | S15: 10593.966 | T15: 11566.946 | U15: 12133.571 | V15: 11680.578 | W15: 12726.669 | X15: 14024.909 | Y15: 14805.855 | Z15: 13770.868 | AA15: 14524.115 | AB15: 15128.526 | AC15: 16542.84 | AD15: 16086.988 | AE15: 16610.706 | AF15: 17491.765 | AG15: 19440.495 | AH15: 19908.102 | AI15: 20296.315 | AJ15: 21313.655 | AK15: 23401.848 | AL15: 23389.886 | AM15: 23720.747 | AN15: 24640.173 | AO15: 25404.374 | AP15: 25812.519 | AQ15: 25491.005 | AR15: 27303.261 | AS15: 29812.698 | AT15: 31474.028 | AU15: 33943.75 | AV15: 36398.602 | AW15: 38104.011 | AX15: 33324.927 | AY15: 36497.99 | AZ15: 39317.167 | BA15: 40635.796 | BB15: 34413.709 | BC15: 38436.599 | BD15: 40023.175 | BE15: 43047.272 | BF15: 34736.44 | BG15: 38281.544 | BH15: 39665.19 | BI15: 41967.816 | BJ15: 33495 | BK15: 38130 | BL15: 39803 | BM15: 43407 | BN15: 38616 | BO15: 43469 | BP15: 45684 | BQ15: 46876 | BR15: 45384 | BS15: 49691 | BT15: 51860 | BU15: 52489 | BV15: 52001 | BW15: 54968 | BX15: 58520 | BY15: 59680 | BZ15: 55282 | CA15: 59385 | CB15: 62422 | CC15: 63964 | CD15: 59286 | CE15: 61654 | CF15: 63604 | CG15: 66323 | CH15: 60910 | CI15: 63257 | CJ15: 66926 | CK15: 69505
A16: Finance, real estate and business services | B16: 12585.09 | C16: 12494 | D16: 12978 | E16: 12702.91 | F16: 14145.1 | G16: 14323.1 | H16: 14857.2 | I16: 14489.11 | J16: 16208.2 | K16: 16799.2 | L16: 17635.18 | M16: 17284.96 | N16: 17967.2 | O16: 18464.2 | P16: 18194.18 | Q16: 18388.91 | R16: 20660.93 | S16: 20550.92 | T16: 22171.96 | U16: 22517.86 | V16: 22243.99 | W16: 22651.95 | X16: 24779.95 | Y16: 24974.88 | Z16: 25737.83 | AA16: 26036.9 | AB16: 26937.95 | AC16: 27495.81 | AD16: 32497.9 | AE16: 32635.92 | AF16: 34736 | AG16: 36826 | AH16: 38957.02 | AI16: 38621.07 | AJ16: 38097.05 | AK16: 37384.44 | AL16: 42637.9 | AM16: 41442.9 | AN16: 42575.9 | AO16: 42941.78 | AP16: 47654 | AQ16: 48319 | AR16: 48026.31 | AS16: 47949.99 | AT16: 52556.08 | AU16: 52874.07 | AV16: 55951.04 | AW16: 55929.48 | AX16: 65990.9 | AY16: 63700 | AZ16: 67186.8 | BA16: 69319.72 | BB16: 70034.07 | BC16: 66554.216 | BD16: 69031.18 | BE16: 69694.03 | BF16: 78302.08 | BG16: 75595.09 | BH16: 74607 | BI16: 79284 | BJ16: 83341 | BK16: 80188 | BL16: 79999 | BM16: 83700 | BN16: 87751 | BO16: 85468 | BP16: 85409 | BQ16: 89238 | BR16: 90998 | BS16: 90140 | BT16: 91053 | BU16: 97290 | BV16: 96622 | BW16: 97203 | BX16: 94750 | BY16: 97230 | BZ16: 103250 | CA16: 95472 | CB16: 100038 | CC16: 103438 | CD16: 108361 | CE16: 102405 | CF16: 106835 | CG16: 106543 | CH16: 112396 | CI16: 107962 | CJ16: 110954 | CK16: 112566
A17: Personal services | B17: 2143.5418 | C17: 2240.0217 | D17: 2361.8051 | E17: 2354.7269 | F17: 2442.5754 | G17: 2566.3661 | H17: 2692.0995 | I17: 2686.5163 | J17: 2693.7528 | K17: 2822.5148 | L17: 2955.9265 | M17: 2942.8097 | N17: 3130.9311 | O17: 3197.3269 | P17: 3350.5417 | Q17: 3295.77 | R17: 3497.8421 | S17: 3604.7441 | T17: 3899.695 | U17: 3836.2096 | V17: 4197.389 | W17: 4402.1424 | X17: 4655.6733 | Y17: 4579.8315 | Z17: 4875.5093 | AA17: 4808.6406 | AB17: 4862.1186 | AC17: 4857.5697 | AD17: 5673.737 | AE17: 5726.965 | AF17: 5929.086 | AG17: 6039.513 | AH17: 6765.433 | AI17: 6736.39 | AJ17: 6799.399 | AK17: 6843.178 | AL17: 7097.895 | AM17: 7411.295 | AN17: 7605.655 | AO17: 7719.155 | AP17: 7860.024 | AQ17: 8073.435 | AR17: 8375.927 | AS17: 8697.213 | AT17: 9049.944 | AU17: 9439.629 | AV17: 9852.909 | AW17: 10249.519 | AX17: 9560.711 | AY17: 10504.843 | AZ17: 10801.32 | BA17: 10075.725 | BB17: 9548.813 | BC17: 11234.935 | BD17: 11528.811 | BE17: 10567.242 | BF17: 11290.925 | BG17: 13599.183 | BH17: 13738.71 | BI17: 12745.782 | BJ17: 12402 | BK17: 15365 | BL17: 15542 | BM17: 14827 | BN17: 13780 | BO17: 16759 | BP17: 17532 | BQ17: 18069 | BR17: 15408 | BS17: 17776 | BT17: 18627 | BU17: 18481 | BV17: 16320 | BW17: 18055 | BX17: 18822 | BY17: 18724 | BZ17: 16779 | CA17: 18557 | CB17: 18936 | CC17: 18619 | CD17: 18659 | CE17: 19729 | CF17: 20648 | CG17: 20373 | CH17: 19381 | CI17: 20002 | CJ17: 20897 | CK17: 20747
A18: General government services | B18: 3287 | C18: 3385 | D18: 3441 | E18: 3502 | F18: 3587.25 | G18: 3728.25 | H18: 3847 | I18: 3930 | J18: 4013 | K18: 4111 | L18: 4307 | M18: 4336 | N18: 4379 | O18: 4604 | P18: 4997 | Q18: 5042 | R18: 5111 | S18: 5219 | T18: 5456 | U18: 5539 | V18: 5711 | W18: 5908 | X18: 6221 | Y18: 6394 | Z18: 6609 | AA18: 6640 | AB18: 6806 | AC18: 7101 | AD18: 7685 | AE18: 7749 | AF18: 7939 | AG18: 8142 | AH18: 8005 | AI18: 7995 | AJ18: 8024 | AK18: 8045 | AL18: 8141 | AM18: 8163 | AN18: 8385 | AO18: 8542 | AP18: 8645 | AQ18: 8829 | AR18: 9120 | AS18: 9306 | AT18: 9479 | AU18: 9698 | AV18: 10115 | AW18: 10392 | AX18: 10517 | AY18: 10965 | AZ18: 11424 | BA18: 11614 | BB18: 12028 | BC18: 12872 | BD18: 13621 | BE18: 13863 | BF18: 13767 | BG18: 13558 | BH18: 13735 | BI18: 14015 | BJ18: 14174 | BK18: 14254 | BL18: 14463 | BM18: 14430 | BN18: 14849 | BO18: 15032 | BP18: 15401 | BQ18: 15878 | BR18: 16138 | BS18: 16381 | BT18: 16789 | BU18: 17035 | BV18: 17542 | BW18: 18014 | BX18: 18661 | BY18: 18929 | BZ18: 19521 | CA18: 19776 | CB18: 20204 | CC18: 20250 | CD18: 20457 | CE18: 20539 | CF18: 21495 | CG18: 21654 | CH18: 22467 | CI18: 23037 | CJ18: 23507 | CK18: 23487
A19: All industries at basic prices | B19: =B13+B9+B6 -> 55536.734 | C19: =C13+C9+C6 -> 59462.336 | D19: =D13+D9+D6 -> 63640.546 | E19: =E13+E9+E6 -> 60972.07 | F19: =F13+F9+F6 -> 62808.749 | G19: =G13+G9+G6 -> 69896.887 | H19: =H13+H9+H6 -> 70794.652 | I19: =I13+I9+I6 -> 68587.608 | ... CK19: =CK13+CK9+CK6 -> 445531
A21: SA - Annual Gross Operating Surplus | B21: =B19+B20 -> 55536.734 | C21: =C19+C20 -> 59462.336 | D21: =D19+D20 -> 63640.546 | E21: =E19+E20 -> 60972.07 | F21: =F19+F20 -> 62808.749 | G21: =G19+G20 -> 69896.887 | H21: =H19+H20 -> 70794.652 | I21: =I19+I20 -> 68587.608 | ... CK21: =CK19+CK20 -> 445531
A23: =Annual!A23 -> KZN – Annual Gross Operating Surplus
A24: Rand million
A25: Provincial Industry | B25: =B5 -> 1995q1 | C25: =C5 -> 1995q2 | D25: =D5 -> 1995q3 | E25: =E5 -> 1995q4 | F25: =F5 -> 1996q1 | G25: =G5 -> 1996q2 | H25: =H5 -> 1996q3 | I25: =I5 -> 1996q4 | ... CK25: =CK5 -> 2016q4
A26: Primary Industries | B26: =SUM(B27:B28) -> 818.81813 | C26: =SUM(C27:C28) -> 1312.9605 | D26: =SUM(D27:D28) -> 1333.9088 | E26: =SUM(E27:E28) -> 982.6332 | F26: =SUM(F27:F28) -> 820.43069 | G26: =SUM(G27:G28) -> 2103.6211 | H26: =SUM(H27:H28) -> 1438.4205 | I26: =SUM(I27:I28) -> 1005.2128 | ... CK26: =SUM(CK27:CK28) -> 3322.7365
A27: Agriculture, forestry and fishing | B27: =B7*Annual!$B46/100 -> 686.55199 | C27: =C7*Annual!$B46/100 -> 1148.4031 | D27: =D7*Annual!$B46/100 -> 1162.8677 | E27: =E7*Annual!$B46/100 -> 851.18718 | F27: =F7*Annual!$C46/100 -> 669.41238 | G27: =G7*Annual!$C46/100 -> 1903.9263 | H27: =H7*Annual!$C46/100 -> 1236.576 | I27: =I7*Annual!$C46/100 -> 846.39532 | J27: =J7*Annual!$D46/100 -> 854.12869 | K27: =K7*Annual!$D46/100 -> 2012.6725 | L27: =L7*Annual!$D46/100 -> 1221.9263 | M27: =M7*Annual!$D46/100 -> 758.73953 | N27: =N7*Annual!$E46/100 -> 1031.7758 | O27: =O7*Annual!$E46/100 -> 2083.29 | P27: =P7*Annual!$E46/100 -> 1325.9393 | Q27: =Q7*Annual!$E46/100 -> 573.72253 | R27: =R7*Annual!$F46/100 -> 809.49802 | S27: =S7*Annual!$F46/100 -> 2065.2524 | T27: =T7*Annual!$F46/100 -> 1295.3669 | U27: =U7*Annual!$F46/100 -> 475.83814 | V27: =V7*Annual!$G46/100 -> 741.08469 | W27: =W7*Annual!$G46/100 -> 1730.9637 | X27: =X7*Annual!$G46/100 -> 1690.1439 | Y27: =Y7*Annual!$G46/100 -> 609.60608 | Z27: =Z7*Annual!H46/100 -> 923.02139 | AA27: =AA7*Annual!H46/100 -> 2519.9638 | AB27: =AB7*Annual!H46/100 -> 1771.2114 | AC27: =AC7*Annual!H46/100 -> 961.5576 | AD27: =AD7*Annual!$I46/100 -> 1073.8383 | AE27: =AE7*Annual!$I46/100 -> 3243.744 | AF27: =AF7*Annual!$I46/100 -> 2227.931 | AG27: =AG7*Annual!$I46/100 -> 1008.4502 | AH27: =AH7*Annual!$J46/100 -> 1022.3853 | AI27: =AI7*Annual!$J46/100 -> 3225.6192 | AJ27: =AJ7*Annual!$J46/100 -> 2153.0825 | AK27: =AK7*Annual!$J46/100 -> 874.05222 | AL27: =AL7*Annual!$K46/100 -> 1021.1824 | AM27: =AM7*Annual!$K46/100 -> 3111.3903 | AN27: =AN7*Annual!$K46/100 -> 2387.6694 | AO27: =AO7*Annual!$K46/100 -> 918.59031 | AP27: =AP7*Annual!$L46/100 -> 1202.4951 | AQ27: =AQ7*Annual!$L46/100 -> 2316.1048 | AR27: =AR7*Annual!$L46/100 -> 2128.0786 | AS27: =AS7*Annual!$L46/100 -> 938.1103 | AT27: =AT7*Annual!$M46/100 -> 1326.5029 | AU27: =AU7*Annual!$M46/100 -> 2410.456 | AV27: =AV7*Annual!$M46/100 -> 2812.2591 | AW27: =AW7*Annual!$M46/100 -> 1268.2012 | AX27: =AX7*Annual!$N46/100 -> 2061.9198 | AY27: =AY7*Annual!$N46/100 -> 3907.1502 | AZ27: =AZ7*Annual!$N46/100 -> 3536.2816 | BA27: =BA7*Annual!$N46/100 -> 1439.4821 | BB27: =BB7*Annual!$O46/100 -> 2466.7707 | BC27: =BC7*Annual!$O46/100 -> 5558.045 | BD27: =BD7*Annual!$O46/100 -> 4449.378 | BE27: =BE7*Annual!$O46/100 -> 1390.9089 | BF27: =BF7*Annual!P46/100 -> 2593.8117 | BG27: =BG7*Annual!P46/100 -> 5843.2805 | BH27: =BH7*Annual!P46/100 -> 3586.4782 | BI27: =BI7*Annual!P46/100 -> 1253.1925 | BJ27: =BJ7*Annual!Q46/100 -> 2544.5561 | BK27: =BK7*Annual!Q46/100 -> 6282.2779 | BL27: =BL7*Annual!Q46/100 -> 2866.6758 | BM27: =BM7*Annual!Q46/100 -> 756.83264 | BN27: =BN7*Annual!$R46/100 -> 2446.6192 | BO27: =BO7*Annual!$R46/100 -> 6169.0648 | BP27: =BP7*Annual!$R46/100 -> 4179.8229 | BQ27: =BQ7*Annual!$R46/100 -> 1462.327 | BR27: =BR7*Annual!$S46/100 -> 2144.6795 | BS27: =BS7*Annual!$S46/100 -> 6636.6021 | BT27: =BT7*Annual!$S46/100 -> 3381.7547 | BU27: =BU7*Annual!$S46/100 -> 1168.1982 | BV27: =BV7*Annual!$T46/100 -> 2394.3611 | BW27: =BW7*Annual!$T46/100 -> 7390.2325 | BX27: =BX7*Annual!$T46/100 -> 3201.6699 | BY27: =BY7*Annual!$T46/100 -> 973.51944 | BZ27: =BZ7*Annual!$U46/100 -> 2661.6926 | CA27: =CA7*Annual!$U46/100 -> 7856.0342 | CB27: =CB7*Annual!$U46/100 -> 4187.4739 | CC27: =CC7*Annual!$U46/100 -> 1091.8008 | CD27: =CD7*Annual!$W46/100 -> 3381.2743 | CE27: =CE7*Annual!$W46/100 -> 7596.431 | CF27: =CF7*Annual!$W46/100 -> 3492.8812 | CG27: =CG7*Annual!$W46/100 -> 1372.351 | CH27: =CH7*Annual!$X46/100 -> 4329.3539 | CI27: =CI7*Annual!$X46/100 -> 7571.9347 | CJ27: =CJ7*Annual!$X46/100 -> 4621.7655 | CK27: =CK7*Annual!$X46/100 -> 1800.7562
A28: Mining and quarrying | B28: =B8*Annual!$B47/100 -> 132.26614 | C28: =C8*Annual!$B47/100 -> 164.5574 | D28: =D8*Annual!$B47/100 -> 171.04111 | E28: =E8*Annual!$B47/100 -> 131.44601 | F28: =F8*Annual!$C47/100 -> 151.01831 | G28: =G8*Annual!$C47/100 -> 199.6948 | H28: =H8*Annual!$C47/100 -> 201.84449 | I28: =I8*Annual!$C47/100 -> 158.81747 | J28: =J8*Annual!$D47/100 -> 156.28289 | K28: =K8*Annual!$D47/100 -> 191.84847 | L28: =L8*Annual!$D47/100 -> 194.47809 | M28: =M8*Annual!$D47/100 -> 151.90235 | N28: =N8*Annual!$E47/100 -> 150.20889 | O28: =O8*Annual!$E47/100 -> 221.6978 | P28: =P8*Annual!$E47/100 -> 247.01417 | Q28: =Q8*Annual!$E47/100 -> 205.37617 | R28: =R8*Annual!$F47/100 -> 195.10499 | S28: =S8*Annual!$F47/100 -> 237.79922 | T28: =T8*Annual!$F47/100 -> 243.4012 | U28: =U8*Annual!$F47/100 -> 234.82408 | V28: =V8*Annual!$G47/100 -> 266.38229 | W28: =W8*Annual!$G47/100 -> 340.47815 | X28: =X8*Annual!$G47/100 -> 313.66245 | Y28: =Y8*Annual!$G47/100 -> 308.8969 | Z28: =Z8*Annual!H47/100 -> 372.84527 | AA28: =AA8*Annual!H47/100 -> 450.61315 | AB28: =AB8*Annual!H47/100 -> 423.79907 | AC28: =AC8*Annual!H47/100 -> 375.39197 | AD28: =AD8*Annual!$I47/100 -> 444.33105 | AE28: =AE8*Annual!$I47/100 -> 561.08894 | AF28: =AF8*Annual!$I47/100 -> 576.743 | AG28: =AG8*Annual!$I47/100 -> 464.61283 | AH28: =AH8*Annual!$J47/100 -> 429.42352 | AI28: =AI8*Annual!$J47/100 -> 478.85624 | AJ28: =AJ8*Annual!$J47/100 -> 519.06298 | AK28: =AK8*Annual!$J47/100 -> 406.73616 | AL28: =AL8*Annual!$K47/100 -> 423.99032 | AM28: =AM8*Annual!$K47/100 -> 513.90278 | AN28: =AN8*Annual!$K47/100 -> 545.3851 | AO28: =AO8*Annual!$K47/100 -> 450.41927 | AP28: =AP8*Annual!$L47/100 -> 433.38693 | AQ28: =AQ8*Annual!$L47/100 -> 606.43936 | AR28: =AR8*Annual!$L47/100 -> 603.42664 | AS28: =AS8*Annual!$L47/100 -> 541.02061 | AT28: =AT8*Annual!$M47/100 -> 495.263 | AU28: =AU8*Annual!$M47/100 -> 654.34795 | AV28: =AV8*Annual!$M47/100 -> 836.98279 | AW28: =AW8*Annual!$M47/100 -> 720.56166 | AX28: =AX8*Annual!$N47/100 -> 746.78992 | AY28: =AY8*Annual!$N47/100 -> 865.4811 | AZ28: =AZ8*Annual!$N47/100 -> 889.42599 | BA28: =BA8*Annual!$N47/100 -> 831.79079 | BB28: =BB8*Annual!$O47/100 -> 858.3744 | BC28: =BC8*Annual!$O47/100 -> 1135.2419 | BD28: =BD8*Annual!$O47/100 -> 1209.9122 | BE28: =BE8*Annual!$O47/100 -> 1031.3937 | BF28: =BF8*Annual!P47/100 -> 899.76874 | BG28: =BG8*Annual!P47/100 -> 1117.8437 | BH28: =BH8*Annual!P47/100 -> 1185.219 | BI28: =BI8*Annual!P47/100 -> 1046.6763 | BJ28: =BJ8*Annual!Q47/100 -> 899.54204 | BK28: =BK8*Annual!Q47/100 -> 1295.6668 | BL28: =BL8*Annual!Q47/100 -> 1424.9086 | BM28: =BM8*Annual!Q47/100 -> 1355.6732 | BN28: =BN8*Annual!$W47/100 -> 1187.6866 | BO28: =BO8*Annual!$W47/100 -> 1365.3534 | BP28: =BP8*Annual!$W47/100 -> 1556.973 | BQ28: =BQ8*Annual!$W47/100 -> 1488.0282 | BR28: =BR8*Annual!$S47/100 -> 1195.9181 | BS28: =BS8*Annual!$S47/100 -> 1362.6682 | BT28: =BT8*Annual!$S47/100 -> 1487.815 | BU28: =BU8*Annual!$S47/100 -> 1260.8664 | BV28: =BV8*Annual!$T47/100 -> 1315.1953 | BW28: =BW8*Annual!$T47/100 -> 1341.8632 | BX28: =BX8*Annual!$T47/100 -> 1616.979 | BY28: =BY8*Annual!$T47/100 -> 1448.9411 | BZ28: =BZ8*Annual!$W47/100 -> 1384.7303 | CA28: =CA8*Annual!$U47/100 -> 1321.7076 | CB28: =CB8*Annual!$U47/100 -> 1497.4487 | CC28: =CC8*Annual!$U47/100 -> 1365.261 | CD28: =CD8*Annual!$W47/100 -> 1255.8809 | CE28: =CE8*Annual!$W47/100 -> 1290.0975 | CF28: =CF8*Annual!$W47/100 -> 1333.5931 | CG28: =CG8*Annual!$W47/100 -> 1289.074 | CH28: =CH8*Annual!$X47/100 -> 1188.4172 | CI28: =CI8*Annual!$X47/100 -> 1457.3588 | CJ28: =CJ8*Annual!$X47/100 -> 1439.7037 | CK28: =CK8*Annual!$X47/100 -> 1521.9803
A29: Secondary Industries | B29: =SUM(B30:B32) -> 3362.7934 | C29: =SUM(C30:C32) -> 3629.3432 | D29: =SUM(D30:D32) -> 3944.1252 | E29: =SUM(E30:E32) -> 3500.7091 | F29: =SUM(F30:F32) -> 3768.5814 | G29: =SUM(G30:G32) -> 3978.4786 | H29: =SUM(H30:H32) -> 4155.8143 | I29: =SUM(I30:I32) -> 3847.6433 | ... CK29: =SUM(CK30:CK32) -> 14346.259
A30: Manufacturing | B30: =B10*Annual!$B49/100 -> 2466.9066 | C30: =C10*Annual!$B49/100 -> 2715.756 | D30: =D10*Annual!$B49/100 -> 3047.0607 | E30: =E10*Annual!$B49/100 -> 2715.6332 | F30: =F10*Annual!$C49/100 -> 2778.1216 | G30: =G10*Annual!$C49/100 -> 2976.0594 | H30: =H10*Annual!$C49/100 -> 3204.4922 | I30: =I10*Annual!$C49/100 -> 3014.3931 | J30: =J10*Annual!$D49/100 -> 3155.1047 | K30: =K10*Annual!$D49/100 -> 3418.0202 | L30: =L10*Annual!$D49/100 -> 3607.4086 | M30: =M10*Annual!$D49/100 -> 3291.1243 | N30: =N10*Annual!$E49/100 -> 3242.9974 | O30: =O10*Annual!$E49/100 -> 3280.1423 | P30: =P10*Annual!$E49/100 -> 3488.2394 | Q30: =Q10*Annual!$E49/100 -> 3006.964 | R30: =R10*Annual!$F49/100 -> 3152.4298 | S30: =S10*Annual!$F49/100 -> 3251.8203 | T30: =T10*Annual!$F49/100 -> 3774.8728 | U30: =U10*Annual!$F49/100 -> 3547.7818 | V30: =V10*Annual!$G49/100 -> 3828.2692 | W30: =W10*Annual!$G49/100 -> 4022.4057 | X30: =X10*Annual!$G49/100 -> 4740.2522 | Y30: =Y10*Annual!$G49/100 -> 4462.884 | Z30: =Z10*Annual!H49/100 -> 4697.4117 | AA30: =AA10*Annual!H49/100 -> 4752.0455 | AB30: =AB10*Annual!H49/100 -> 5174.5058 | AC30: =AC10*Annual!H49/100 -> 5054.4107 | AD30: =AD10*Annual!$I49/100 -> 5326.454 | AE30: =AE10*Annual!$I49/100 -> 5795.4162 | AF30: =AF10*Annual!$I49/100 -> 6506.2206 | AG30: =AG10*Annual!$I49/100 -> 6282.9224 | AH30: =AH10*Annual!$J49/100 -> 6421.3977 | AI30: =AI10*Annual!$J49/100 -> 6290.2874 | AJ30: =AJ10*Annual!$J49/100 -> 6795.8031 | AK30: =AK10*Annual!$J49/100 -> 6466.3119 | AL30: =AL10*Annual!$K49/100 -> 6685.0233 | AM30: =AM10*Annual!$K49/100 -> 6778.4466 | AN30: =AN10*Annual!$K49/100 -> 7582.7331 | AO30: =AO10*Annual!$K49/100 -> 7184.327 | AP30: =AP10*Annual!$L49/100 -> 6866.4514 | AQ30: =AQ10*Annual!$L49/100 -> 7672.5515 | AR30: =AR10*Annual!$L49/100 -> 8387.057 | AS30: =AS10*Annual!$L49/100 -> 7392.6091 | AT30: =AT10*Annual!$M49/100 -> 6582.2579 | AU30: =AU10*Annual!$M49/100 -> 6966.3996 | AV30: =AV10*Annual!$M49/100 -> 7764.2827 | AW30: =AW10*Annual!$M49/100 -> 6818.4803 | AX30: =AX10*Annual!$N49/100 -> 7805.2385 | AY30: =AY10*Annual!$N49/100 -> 7437.4446 | AZ30: =AZ10*Annual!$N49/100 -> 8083.8353 | BA30: =BA10*Annual!$N49/100 -> 7604.2287 | BB30: =BB10*Annual!$O49/100 -> 8379.7906 | BC30: =BC10*Annual!$O49/100 -> 8596.5123 | BD30: =BD10*Annual!$O49/100 -> 9361.8068 | BE30: =BE10*Annual!$O49/100 -> 7863.5922 | BF30: =BF10*Annual!P49/100 -> 8562.964 | BG30: =BG10*Annual!P49/100 -> 7808.4699 | BH30: =BH10*Annual!P49/100 -> 8619.2766 | BI30: =BI10*Annual!P49/100 -> 7636.6913 | BJ30: =BJ10*Annual!Q49/100 -> 8395.4036 | BK30: =BK10*Annual!Q49/100 -> 7882.1977 | BL30: =BL10*Annual!Q49/100 -> 8665.9194 | BM30: =BM10*Annual!Q49/100 -> 7070.6504 | BN30: =BN10*Annual!$R49/100 -> 7877.4241 | BO30: =BO10*Annual!$R49/100 -> 7353.8087 | BP30: =BP10*Annual!$R49/100 -> 8340.6545 | BQ30: =BQ10*Annual!$R49/100 -> 6616.2339 | BR30: =BR10*Annual!$S49/100 -> 8189.3786 | BS30: =BS10*Annual!$S49/100 -> 7437.4438 | BT30: =BT10*Annual!$S49/100 -> 8087.884 | BU30: =BU10*Annual!$S49/100 -> 6418.5388 | BV30: =BV10*Annual!$T49/100 -> 7444.3308 | BW30: =BW10*Annual!$T49/100 -> 7445.1648 | BX30: =BX10*Annual!$T49/100 -> 8684.4272 | BY30: =BY10*Annual!$T49/100 -> 7577.5557 | BZ30: =BZ10*Annual!$W49/100 -> 9045.0917 | CA30: =CA10*Annual!$U49/100 -> 8882.0173 | CB30: =CB10*Annual!$U49/100 -> 9975.7149 | CC30: =CC10*Annual!$U49/100 -> 8402.5339 | CD30: =CD10*Annual!$W49/100 -> 9641.1824 | CE30: =CE10*Annual!$W49/100 -> 9222.2909 | CF30: =CF10*Annual!$W49/100 -> 10564.747 | CG30: =CG10*Annual!$W49/100 -> 8259.905 | CH30: =CH10*Annual!$X49/100 -> 9581.8537 | CI30: =CI10*Annual!$X49/100 -> 10078.544 | CJ30: =CJ10*Annual!$X49/100 -> 10913.392 | CK30: =CK10*Annual!$X49/100 -> 8279.3482
A31: Electricity, gas and water | B31: =B11*Annual!$B50/100 -> 468.19802 | C31: =C11*Annual!$B50/100 -> 472.54234 | D31: =D11*Annual!$B50/100 -> 504.65914 | E31: =E11*Annual!$B50/100 -> 440.82445 | F31: =F11*Annual!$C50/100 -> 461.41994 | G31: =G11*Annual!$C50/100 -> 470.68821 | H31: =H11*Annual!$C50/100 -> 508.13245 | I31: =I11*Annual!$C50/100 -> 429.11388 | J31: =J11*Annual!$D50/100 -> 465.31919 | K31: =K11*Annual!$D50/100 -> 511.99011 | L31: =L11*Annual!$D50/100 -> 527.93556 | M31: =M11*Annual!$D50/100 -> 464.41442 | N31: =N11*Annual!$E50/100 -> 489.7531 | O31: =O11*Annual!$E50/100 -> 539.9041 | P31: =P11*Annual!$E50/100 -> 537.35885 | Q31: =Q11*Annual!$E50/100 -> 479.62615 | R31: =R11*Annual!$F50/100 -> 439.95295 | S31: =S11*Annual!$F50/100 -> 518.05618 | T31: =T11*Annual!$F50/100 -> 602.79024 | U31: =U11*Annual!$F50/100 -> 443.37945 | V31: =V11*Annual!$G50/100 -> 508.44187 | W31: =W11*Annual!$G50/100 -> 581.9997 | X31: =X11*Annual!$G50/100 -> 627.91534 | Y31: =Y11*Annual!$G50/100 -> 495.76216 | Z31: =Z11*Annual!H50/100 -> 530.96273 | AA31: =AA11*Annual!H50/100 -> 593.4666 | AB31: =AB11*Annual!H50/100 -> 643.052 | AC31: =AC11*Annual!H50/100 -> 532.32518 | AD31: =AD11*Annual!$I50/100 -> 572.08394 | AE31: =AE11*Annual!$I50/100 -> 661.17389 | AF31: =AF11*Annual!$I50/100 -> 750.82014 | AG31: =AG11*Annual!$I50/100 -> 645.28164 | AH31: =AH11*Annual!$J50/100 -> 505.57574 | AI31: =AI11*Annual!$J50/100 -> 589.4778 | AJ31: =AJ11*Annual!$J50/100 -> 667.62507 | AK31: =AK11*Annual!$J50/100 -> 518.15307 | AL31: =AL11*Annual!$K50/100 -> 598.07303 | AM31: =AM11*Annual!$K50/100 -> 647.07856 | AN31: =AN11*Annual!$K50/100 -> 748.36253 | AO31: =AO11*Annual!$K50/100 -> 579.74397 | AP31: =AP11*Annual!$L50/100 -> 600.79884 | AQ31: =AQ11*Annual!$L50/100 -> 676.80158 | AR31: =AR11*Annual!$L50/100 -> 745.10759 | AS31: =AS11*Annual!$L50/100 -> 571.8746 | AT31: =AT11*Annual!$M50/100 -> 608.72501 | AU31: =AU11*Annual!$M50/100 -> 735.36884 | AV31: =AV11*Annual!$M50/100 -> 824.8867 | AW31: =AW11*Annual!$M50/100 -> 601.70125 | AX31: =AX11*Annual!$N50/100 -> 678.45035 | AY31: =AY11*Annual!$N50/100 -> 789.79765 | AZ31: =AZ11*Annual!$N50/100 -> 872.41824 | BA31: =BA11*Annual!$N50/100 -> 560.14572 | BB31: =BB11*Annual!$O50/100 -> 759.42454 | BC31: =BC11*Annual!$O50/100 -> 892.74531 | BD31: =BD11*Annual!$O50/100 -> 1011.7233 | BE31: =BE11*Annual!$O50/100 -> 585.4491 | BF31: =BF11*Annual!P50/100 -> 1156.9787 | BG31: =BG11*Annual!P50/100 -> 1387.3125 | BH31: =BH11*Annual!P50/100 -> 1682.378 | BI31: =BI11*Annual!P50/100 -> 1030.0556 | BJ31: =BJ11*Annual!Q50/100 -> 1852.72 | BK31: =BK11*Annual!Q50/100 -> 2087.6855 | BL31: =BL11*Annual!Q50/100 -> 1942.578 | BM31: =BM11*Annual!Q50/100 -> 1232.5601 | BN31: =BN11*Annual!$R50/100 -> 2083.1264 | BO31: =BO11*Annual!$R50/100 -> 2999.4422 | BP31: =BP11*Annual!$R50/100 -> 2635.1425 | BQ31: =BQ11*Annual!$R50/100 -> 1636.1016 | BR31: =BR11*Annual!$S50/100 -> 2770.4134 | BS31: =BS11*Annual!$S50/100 -> 3869.7081 | BT31: =BT11*Annual!$S50/100 -> 3319.3453 | BU31: =BU11*Annual!$S50/100 -> 2163.1385 | BV31: =BV11*Annual!$T50/100 -> 3024.8832 | BW31: =BW11*Annual!$T50/100 -> 4248.1664 | BX31: =BX11*Annual!$T50/100 -> 3620.6144 | BY31: =BY11*Annual!$T50/100 -> 2346.5127 | BZ31: =BZ11*Annual!$W50/100 -> 3288.4823 | CA31: =CA11*Annual!$U50/100 -> 4571.5813 | CB31: =CB11*Annual!$U50/100 -> 3749.724 | CC31: =CC11*Annual!$U50/100 -> 2436.2649 | CD31: =CD11*Annual!$W50/100 -> 3694.6383 | CE31: =CE11*Annual!$W50/100 -> 4942.6106 | CF31: =CF11*Annual!$W50/100 -> 4096.7139 | CG31: =CG11*Annual!$W50/100 -> 2714.2456 | CH31: =CH11*Annual!$X50/100 -> 3783.5238 | CI31: =CI11*Annual!$X50/100 -> 5152.6577 | CJ31: =CJ11*Annual!$X50/100 -> 4261.3686 | CK31: =CK11*Annual!$X50/100 -> 2768.1233
A32: Construction | B32: =B12*Annual!$B51/100 -> 427.68879 | C32: =C12*Annual!$B51/100 -> 441.04483 | D32: =D12*Annual!$B51/100 -> 392.40532 | E32: =E12*Annual!$B51/100 -> 344.2515 | F32: =F12*Annual!$C51/100 -> 529.03989 | G32: =G12*Annual!$C51/100 -> 531.73108 | H32: =H12*Annual!$C51/100 -> 443.18969 | I32: =I12*Annual!$C51/100 -> 404.13638 | J32: =J12*Annual!$D51/100 -> 621.05789 | K32: =K12*Annual!$D51/100 -> 612.71758 | L32: =L12*Annual!$D51/100 -> 574.11575 | M32: =M12*Annual!$D51/100 -> 514.59767 | N32: =N12*Annual!$E51/100 -> 601.24007 | O32: =O12*Annual!$E51/100 -> 585.66324 | P32: =P12*Annual!$E51/100 -> 543.21717 | Q32: =Q12*Annual!$E51/100 -> 464.48219 | R32: =R12*Annual!$F51/100 -> 593.50173 | S32: =S12*Annual!$F51/100 -> 572.99543 | T32: =T12*Annual!$F51/100 -> 527.50505 | U32: =U12*Annual!$F51/100 -> 448.08314 | V32: =V12*Annual!$G51/100 -> 620.10783 | W32: =W12*Annual!$G51/100 -> 603.96638 | X32: =X12*Annual!$G51/100 -> 564.48401 | Y32: =Y12*Annual!$G51/100 -> 490.65338 | Z32: =Z12*Annual!H51/100 -> 807.45414 | AA32: =AA12*Annual!H51/100 -> 810.22413 | AB32: =AB12*Annual!H51/100 -> 749.0741 | AC32: =AC12*Annual!H51/100 -> 656.45852 | AD32: =AD12*Annual!$I51/100 -> 650.97584 | AE32: =AE12*Annual!$I51/100 -> 642.35237 | AF32: =AF12*Annual!$I51/100 -> 592.91117 | AG32: =AG12*Annual!$I51/100 -> 565.81432 | AH32: =AH12*Annual!$J51/100 -> 725.37802 | AI32: =AI12*Annual!$J51/100 -> 702.76296 | AJ32: =AJ12*Annual!$J51/100 -> 632.0909 | AK32: =AK12*Annual!$J51/100 -> 591.19534 | AL32: =AL12*Annual!$K51/100 -> 801.69711 | AM32: =AM12*Annual!$K51/100 -> 928.01134 | AN32: =AN12*Annual!$K51/100 -> 856.12982 | AO32: =AO12*Annual!$K51/100 -> 834.77399 | AP32: =AP12*Annual!$L51/100 -> 1049.5028 | AQ32: =AQ12*Annual!$L51/100 -> 1136.9453 | AR32: =AR12*Annual!$L51/100 -> 1115.3736 | AS32: =AS12*Annual!$L51/100 -> 1031.0128 | AT32: =AT12*Annual!$M51/100 -> 1151.4672 | AU32: =AU12*Annual!$M51/100 -> 1271.7641 | AV32: =AV12*Annual!$M51/100 -> 1252.9677 | AW32: =AW12*Annual!$M51/100 -> 1120.1148 | AX32: =AX12*Annual!$N51/100 -> 1604.9565 | AY32: =AY12*Annual!$N51/100 -> 1632.6831 | AZ32: =AZ12*Annual!$N51/100 -> 1591.4679 | BA32: =BA12*Annual!$N51/100 -> 1428.4244 | BB32: =BB12*Annual!$O51/100 -> 2362.4753 | BC32: =BC12*Annual!$O51/100 -> 2659.5688 | BD32: =BD12*Annual!$O51/100 -> 2785.2044 | BE32: =BE12*Annual!$O51/100 -> 2587.0795 | BF32: =BF12*Annual!P51/100 -> 2611.1835 | BG32: =BG12*Annual!P51/100 -> 2791.35 | BH32: =BH12*Annual!P51/100 -> 2606.8261 | BI32: =BI12*Annual!P51/100 -> 2185.9071 | BJ32: =BJ12*Annual!Q51/100 -> 2515.8183 | BK32: =BK12*Annual!Q51/100 -> 2646.0259 | BL32: =BL12*Annual!Q51/100 -> 2544.3072 | BM32: =BM12*Annual!Q51/100 -> 2076.8216 | BN32: =BN12*Annual!$R51/100 -> 2543.7866 | BO32: =BO12*Annual!$R51/100 -> 2898.5466 | BP32: =BP12*Annual!$R51/100 -> 2751.7823 | BQ32: =BQ12*Annual!$R51/100 -> 2488.8695 | BR32: =BR12*Annual!$S51/100 -> 2882.3986 | BS32: =BS12*Annual!$S51/100 -> 3173.9302 | BT32: =BT12*Annual!$S51/100 -> 2890.1551 | BU32: =BU12*Annual!$S51/100 -> 2631.3522 | BV32: =BV12*Annual!$T51/100 -> 3066.5488 | BW32: =BW12*Annual!$T51/100 -> 3561.795 | BX32: =BX12*Annual!$T51/100 -> 3487.5554 | BY32: =BY12*Annual!$T51/100 -> 3163.5148 | BZ32: =BZ12*Annual!$W51/100 -> 3838.735 | CA32: =CA12*Annual!$U51/100 -> 4034.555 | CB32: =CB12*Annual!$U51/100 -> 3566.4973 | CC32: =CC12*Annual!$U51/100 -> 3140.3693 | CD32: =CD12*Annual!$W51/100 -> 3999.0309 | CE32: =CE12*Annual!$W51/100 -> 4342.2505 | CF32: =CF12*Annual!$W51/100 -> 3788.5356 | CG32: =CG12*Annual!$W51/100 -> 3395.3067 | CH32: =CH12*Annual!$X51/100 -> 3977.2211 | CI32: =CI12*Annual!$X51/100 -> 4363.1278 | CJ32: =CJ12*Annual!$X51/100 -> 3723.1896 | CK32: =CK12*Annual!$X51/100 -> 3298.7876
A33: Tertiary industries | B33: =SUM(B34:B38) -> 5198.3503 | C33: =SUM(C34:C38) -> 5236.623 | D33: =SUM(D34:D38) -> 5648.1816 | E33: =SUM(E34:E38) -> 5942.8387 | F33: =SUM(F34:F38) -> 5982.3412 | G33: =SUM(G34:G38) -> 5983.0162 | H33: =SUM(H34:H38) -> 6397.5433 | I33: =SUM(I34:I38) -> 6725.338 | ... CK33: =SUM(CK34:CK38) -> 52117.105
A34: Wholesale & retail trade; hotels & restaurants | B34: =B14*Annual!$B53/100 -> 1391.1472 | C34: =C14*Annual!$B53/100 -> 1355.2136 | D34: =D14*Annual!$B53/100 -> 1479.4261 | E34: =E14*Annual!$B53/100 -> 1730.6287 | F34: =F14*Annual!$C53/100 -> 1532.6097 | G34: =G14*Annual!$C53/100 -> 1511.3904 | H34: =H14*Annual!$C53/100 -> 1627.2884 | I34: =I14*Annual!$C53/100 -> 1942.9864 | J34: =J14*Annual!$D53/100 -> 1651.602 | K34: =K14*Annual!$D53/100 -> 1679.3957 | L34: =L14*Annual!$D53/100 -> 1753.8969 | M34: =M14*Annual!$D53/100 -> 1967.0612 | N34: =N14*Annual!$E53/100 -> 1705.6767 | O34: =O14*Annual!$E53/100 -> 1827.5371 | P34: =P14*Annual!$E53/100 -> 1793.7261 | Q34: =Q14*Annual!$E53/100 -> 1891.9991 | R34: =R14*Annual!$F53/100 -> 1762.357 | S34: =S14*Annual!$F53/100 -> 1764.4175 | T34: =T14*Annual!$F53/100 -> 1950.9199 | U34: =U14*Annual!$F53/100 -> 2356.1099 | V34: =V14*Annual!$G53/100 -> 2221.1407 | W34: =W14*Annual!$G53/100 -> 2251.4427 | X34: =X14*Annual!$G53/100 -> 2510.4855 | Y34: =Y14*Annual!$G53/100 -> 2870.886 | Z34: =Z14*Annual!H53/100 -> 2750.1449 | AA34: =AA14*Annual!H53/100 -> 2711.6177 | AB34: =AB14*Annual!H53/100 -> 2840.7245 | AC34: =AC14*Annual!H53/100 -> 3318.1479 | AD34: =AD14*Annual!$I53/100 -> 3174.4209 | AE34: =AE14*Annual!$I53/100 -> 3220.4459 | AF34: =AF14*Annual!$I53/100 -> 3420.7015 | AG34: =AG14*Annual!$I53/100 -> 4068.6294 | AH34: =AH14*Annual!$J53/100 -> 3666.6303 | AI34: =AI14*Annual!$J53/100 -> 3588.0604 | AJ34: =AJ14*Annual!$J53/100 -> 3838.7017 | AK34: =AK14*Annual!$J53/100 -> 4435.2867 | AL34: =AL14*Annual!$K53/100 -> 4076.4126 | AM34: =AM14*Annual!$K53/100 -> 3916.0711 | AN34: =AN14*Annual!$K53/100 -> 4467.378 | AO34: =AO14*Annual!$K53/100 -> 4975.915 | AP34: =AP14*Annual!$L53/100 -> 4365.7083 | AQ34: =AQ14*Annual!$L53/100 -> 4264.6576 | AR34: =AR14*Annual!$L53/100 -> 4670.581 | AS34: =AS14*Annual!$L53/100 -> 5352.8768 | AT34: =AT14*Annual!$M53/100 -> 4815.6731 | AU34: =AU14*Annual!$M53/100 -> 4741.059 | AV34: =AV14*Annual!$M53/100 -> 5202.8839 | AW34: =AW14*Annual!$M53/100 -> 5878.2346 | AX34: =AX14*Annual!$N53/100 -> 5543.1981 | AY34: =AY14*Annual!$N53/100 -> 5464.3483 | AZ34: =AZ14*Annual!$N53/100 -> 5900.9123 | BA34: =BA14*Annual!$N53/100 -> 6714.4214 | BB34: =BB14*Annual!$O53/100 -> 6580.8587 | BC34: =BC14*Annual!$O53/100 -> 6579.2361 | BD34: =BD14*Annual!$O53/100 -> 6898.2271 | BE34: =BE14*Annual!$O53/100 -> 7672.9452 | BF34: =BF14*Annual!P53/100 -> 7285.5666 | BG34: =BG14*Annual!P53/100 -> 7284.8106 | BH34: =BH14*Annual!P53/100 -> 7264.9027 | BI34: =BI14*Annual!P53/100 -> 8317.0207 | BJ34: =BJ14*Annual!Q53/100 -> 8341.9744 | BK34: =BK14*Annual!Q53/100 -> 9063.4709 | BL34: =BL14*Annual!Q53/100 -> 8726.2569 | BM34: =BM14*Annual!Q53/100 -> 10492.475 | BN34: =BN14*Annual!$R53/100 -> 8968.8409 | BO34: =BO14*Annual!$R53/100 -> 9735.7534 | BP34: =BP14*Annual!$R53/100 -> 9702.5465 | BQ34: =BQ14*Annual!$R53/100 -> 11658.099 | BR34: =BR14*Annual!$S53/100 -> 9616.9673 | BS34: =BS14*Annual!$S53/100 -> 10324.704 | BT34: =BT14*Annual!$S53/100 -> 10268.89 | BU34: =BU14*Annual!$S53/100 -> 12119.906 | BV34: =BV14*Annual!$T53/100 -> 10469.559 | BW34: =BW14*Annual!$T53/100 -> 10939.463 | BX34: =BX14*Annual!$T53/100 -> 11152.937 | BY34: =BY14*Annual!$T53/100 -> 12646.761 | BZ34: =BZ14*Annual!$W53/100 -> 11367.224 | CA34: =CA14*Annual!$U53/100 -> 11607.855 | CB34: =CB14*Annual!$U53/100 -> 11457.319 | CC34: =CC14*Annual!$U53/100 -> 12862.048 | CD34: =CD14*Annual!$W53/100 -> 11975.472 | CE34: =CE14*Annual!$W53/100 -> 12852.48 | CF34: =CF14*Annual!$W53/100 -> 12542.928 | CG34: =CG14*Annual!$W53/100 -> 14244.64 | CH34: =CH14*Annual!$X53/100 -> 13076.628 | CI34: =CI14*Annual!$X53/100 -> 14167.761 | CJ34: =CJ14*Annual!$X53/100 -> 13626.562 | CK34: =CK14*Annual!$X53/100 -> 15437.537
A35: Transport , storage and communication | B35: =B15*Annual!$B54/100 -> 1253.2159 | C35: =C15*Annual!$B54/100 -> 1309.3282 | D35: =D15*Annual!$B54/100 -> 1502.388 | E35: =E15*Annual!$B54/100 -> 1575.3908 | F35: =F15*Annual!$C54/100 -> 1576.8918 | G35: =G15*Annual!$C54/100 -> 1532.7758 | H35: =H15*Annual!$C54/100 -> 1719.9123 | I35: =I15*Annual!$C54/100 -> 1770.5544 | J35: =J15*Annual!$D54/100 -> 1697.5565 | K35: =K15*Annual!$D54/100 -> 1779.3694 | L35: =L15*Annual!$D54/100 -> 1981.9613 | M35: =M15*Annual!$D54/100 -> 1951.9487 | N35: =N15*Annual!$E54/100 -> 1849.3908 | O35: =O15*Annual!$E54/100 -> 1987.3674 | P35: =P15*Annual!$E54/100 -> 2147.1429 | Q35: =Q15*Annual!$E54/100 -> 2224.5283 | R35: =R15*Annual!$F54/100 -> 2072.8799 | S35: =S15*Annual!$F54/100 -> 2223.7582 | T35: =T15*Annual!$F54/100 -> 2427.9946 | U35: =U15*Annual!$F54/100 -> 2546.9337 | V35: =V15*Annual!$G54/100 -> 2408.7402 | W35: =W15*Annual!$G54/100 -> 2624.4625 | X35: =X15*Annual!$G54/100 -> 2892.1824 | Y35: =Y15*Annual!$G54/100 -> 3053.2272 | Z35: =Z15*Annual!H54/100 -> 2812.184 | AA35: =AA15*Annual!H54/100 -> 2966.0065 | AB35: =AB15*Annual!H54/100 -> 3089.4347 | AC35: =AC15*Annual!H54/100 -> 3378.2553 | AD35: =AD15*Annual!$I54/100 -> 3295.8683 | AE35: =AE15*Annual!$I54/100 -> 3403.1666 | AF35: =AF15*Annual!$I54/100 -> 3583.6761 | AG35: =AG15*Annual!$I54/100 -> 3982.9278 | AH35: =AH15*Annual!$J54/100 -> 4103.3987 | AI35: =AI15*Annual!$J54/100 -> 4183.416 | AJ35: =AJ15*Annual!$J54/100 -> 4393.1071 | AK35: =AK15*Annual!$J54/100 -> 4823.5192 | AL35: =AL15*Annual!$K54/100 -> 4802.283 | AM35: =AM15*Annual!$K54/100 -> 4870.2136 | AN35: =AN15*Annual!$K54/100 -> 5058.9851 | AO35: =AO15*Annual!$K54/100 -> 5215.8866 | AP35: =AP15*Annual!$L54/100 -> 5330.9541 | AQ35: =AQ15*Annual!$L54/100 -> 5264.5532 | AR35: =AR15*Annual!$L54/100 -> 5638.831 | AS35: =AS15*Annual!$L54/100 -> 6157.0948 | AT35: =AT15*Annual!$M54/100 -> 6505.4187 | AU35: =AU15*Annual!$M54/100 -> 7015.8896 | AV35: =AV15*Annual!$M54/100 -> 7523.287 | AW35: =AW15*Annual!$M54/100 -> 7875.7808 | AX35: =AX15*Annual!$N54/100 -> 6938.7349 | AY35: =AY15*Annual!$N54/100 -> 7599.4128 | AZ35: =AZ15*Annual!$N54/100 -> 8186.4065 | BA35: =BA15*Annual!$N54/100 -> 8460.9643 | BB35: =BB15*Annual!$O54/100 -> 7180.8667 | BC35: =BC15*Annual!$O54/100 -> 8020.2948 | BD35: =BD15*Annual!$O54/100 -> 8351.3545 | BE35: =BE15*Annual!$O54/100 -> 8982.3716 | BF35: =BF15*Annual!P54/100 -> 7269.5768 | BG35: =BG15*Annual!P54/100 -> 8011.4894 | BH35: =BH15*Annual!P54/100 -> 8301.0563 | BI35: =BI15*Annual!P54/100 -> 8782.9455 | BJ35: =BJ15*Annual!Q54/100 -> 7045.901 | BK35: =BK15*Annual!Q54/100 -> 8020.9047 | BL35: =BL15*Annual!Q54/100 -> 8372.8316 | BM35: =BM15*Annual!Q54/100 -> 9130.9575 | BN35: =BN15*Annual!$R54/100 -> 8103.9465 | BO35: =BO15*Annual!$R54/100 -> 9122.3961 | BP35: =BP15*Annual!$R54/100 -> 9587.2356 | BQ35: =BQ15*Annual!$R54/100 -> 9837.3885 | BR35: =BR15*Annual!$S54/100 -> 9478.1753 | BS35: =BS15*Annual!$S54/100 -> 10377.666 | BT35: =BT15*Annual!$S54/100 -> 10830.649 | BU35: =BU15*Annual!$S54/100 -> 10962.012 | BV35: =BV15*Annual!$T54/100 -> 10878.75 | BW35: =BW15*Annual!$T54/100 -> 11499.454 | BX35: =BX15*Annual!$T54/100 -> 12242.542 | BY35: =BY15*Annual!$T54/100 -> 12485.217 | BZ35: =BZ15*Annual!$W54/100 -> 11582.643 | CA35: =CA15*Annual!$U54/100 -> 12433.283 | CB35: =CB15*Annual!$U54/100 -> 13069.132 | CC35: =CC15*Annual!$U54/100 -> 13391.976 | CD35: =CD15*Annual!$W54/100 -> 12421.558 | CE35: =CE15*Annual!$W54/100 -> 12917.7 | CF35: =CF15*Annual!$W54/100 -> 13326.262 | CG35: =CG15*Annual!$W54/100 -> 13895.945 | CH35: =CH15*Annual!$X54/100 -> 12771.067 | CI35: =CI15*Annual!$X54/100 -> 13263.165 | CJ35: =CJ15*Annual!$X54/100 -> 14032.448 | CK35: =CK15*Annual!$X54/100 -> 14573.19
A36: Finance, real estate and business services | B36: =B16*Annual!$B55/100 -> 1712.0998 | C36: =C16*Annual!$B55/100 -> 1699.7077 | D36: =D16*Annual!$B55/100 -> 1765.552 | E36: =E16*Annual!$B55/100 -> 1728.1282 | F36: =F16*Annual!$C55/100 -> 1927.3543 | G36: =G16*Annual!$C55/100 -> 1951.6078 | H36: =H16*Annual!$C55/100 -> 2024.3821 | I36: =I16*Annual!$C55/100 -> 1974.2277 | J36: =J16*Annual!$D55/100 -> 2196.7994 | K36: =K16*Annual!$D55/100 -> 2276.9013 | L36: =L16*Annual!$D55/100 -> 2390.2069 | M36: =M16*Annual!$D55/100 -> 2342.7394 | N36: =N16*Annual!$E55/100 -> 2454.9993 | O36: =O16*Annual!$E55/100 -> 2522.9083 | P36: =P16*Annual!$E55/100 -> 2486.0134 | Q36: =Q16*Annual!$E55/100 -> 2512.6209 | R36: =R16*Annual!$F55/100 -> 2850.7838 | S36: =S16*Annual!$F55/100 -> 2835.6046 | T36: =T16*Annual!$F55/100 -> 3059.2748 | U36: =U16*Annual!$F55/100 -> 3107.0019 | V36: =V16*Annual!$G55/100 -> 2997.5636 | W36: =W16*Annual!$G55/100 -> 3052.5396 | X36: =X16*Annual!$G55/100 -> 3339.3054 | Y36: =Y16*Annual!$G55/100 -> 3365.5738 | Z36: =Z16*Annual!H55/100 -> 3359.1432 | AA36: =AA16*Annual!H55/100 -> 3398.176 | AB36: =AB16*Annual!H55/100 -> 3515.7755 | AC36: =AC16*Annual!H55/100 -> 3588.5839 | AD36: =AD16*Annual!$I55/100 -> 4192.5767 | AE36: =AE16*Annual!$I55/100 -> 4210.3827 | AF36: =AF16*Annual!$I55/100 -> 4481.3155 | AG36: =AG16*Annual!$I55/100 -> 4750.9479 | AH36: =AH16*Annual!$J55/100 -> 5066.5995 | AI36: =AI16*Annual!$J55/100 -> 5022.9071 | AJ36: =AJ16*Annual!$J55/100 -> 4954.7551 | AK36: =AK16*Annual!$J55/100 -> 4862.0758 | AL36: =AL16*Annual!$K55/100 -> 5554.1547 | AM36: =AM16*Annual!$K55/100 -> 5398.49 | AN36: =AN16*Annual!$K55/100 -> 5546.0783 | AO36: =AO16*Annual!$K55/100 -> 5593.7391 | AP36: =AP16*Annual!$L55/100 -> 6497.6632 | AQ36: =AQ16*Annual!$L55/100 -> 6588.3366 | AR36: =AR16*Annual!$L55/100 -> 6548.428 | AS36: =AS16*Annual!$L55/100 -> 6538.0217 | AT36: =AT16*Annual!$M55/100 -> 7036.3417 | AU36: =AU16*Annual!$M55/100 -> 7078.915 | AV36: =AV16*Annual!$M55/100 -> 7490.8675 | AW36: =AW16*Annual!$M55/100 -> 7487.981 | AX36: =AX16*Annual!$N55/100 -> 8840.4428 | AY36: =AY16*Annual!$N55/100 -> 8533.5434 | AZ36: =AZ16*Annual!$N55/100 -> 9000.6511 | BA36: =BA16*Annual!$N55/100 -> 9286.3868 | BB36: =BB16*Annual!$O55/100 -> 9404.9214 | BC36: =BC16*Annual!$O55/100 -> 8937.6096 | BD36: =BD16*Annual!$O55/100 -> 9270.2427 | BE36: =BE16*Annual!$O55/100 -> 9359.2572 | BF36: =BF16*Annual!P55/100 -> 10576.533 | BG36: =BG16*Annual!P55/100 -> 10210.891 | BH36: =BH16*Annual!P55/100 -> 10077.426 | BI36: =BI16*Annual!P55/100 -> 10709.164 | BJ36: =BJ16*Annual!Q55/100 -> 11256.852 | BK36: =BK16*Annual!Q55/100 -> 10830.977 | BL36: =BL16*Annual!Q55/100 -> 10805.449 | BM36: =BM16*Annual!Q55/100 -> 11305.342 | BN36: =BN16*Annual!$R55/100 -> 11856.566 | BO36: =BO16*Annual!$R55/100 -> 11548.096 | BP36: =BP16*Annual!$R55/100 -> 11540.124 | BQ36: =BQ16*Annual!$R55/100 -> 12057.484 | BR36: =BR16*Annual!$S55/100 -> 12245.253 | BS36: =BS16*Annual!$S55/100 -> 12129.795 | BT36: =BT16*Annual!$S55/100 -> 12252.654 | BU36: =BU16*Annual!$S55/100 -> 13091.943 | BV36: =BV16*Annual!$T55/100 -> 13013.062 | BW36: =BW16*Annual!$T55/100 -> 13091.311 | BX36: =BX16*Annual!$T55/100 -> 12760.941 | BY36: =BY16*Annual!$T55/100 -> 13094.948 | BZ36: =BZ16*Annual!$W55/100 -> 13923.532 | CA36: =CA16*Annual!$U55/100 -> 12869.566 | CB36: =CB16*Annual!$U55/100 -> 13485.06 | CC36: =CC16*Annual!$U55/100 -> 13943.378 | CD36: =CD16*Annual!$W55/100 -> 14612.763 | CE36: =CE16*Annual!$W55/100 -> 13809.581 | CF36: =CF16*Annual!$W55/100 -> 14406.978 | CG36: =CG16*Annual!$W55/100 -> 14367.601 | CH36: =CH16*Annual!$X55/100 -> 15162.877 | CI36: =CI16*Annual!$X55/100 -> 14564.705 | CJ36: =CJ16*Annual!$X55/100 -> 14968.343 | CK36: =CK16*Annual!$X55/100 -> 15185.811
A37: Personal services | B37: =B17*Annual!$B56/100 -> 354.4404 | C37: =C17*Annual!$B56/100 -> 370.39362 | D37: =D17*Annual!$B56/100 -> 390.53083 | E37: =E17*Annual!$B56/100 -> 389.36042 | F37: =F17*Annual!$C56/100 -> 403.845 | G37: =G17*Annual!$C56/100 -> 424.31203 | H37: =H17*Annual!$C56/100 -> 445.10025 | I37: =I17*Annual!$C56/100 -> 444.17715 | J37: =J17*Annual!$D56/100 -> 445.21541 | K37: =K17*Annual!$D56/100 -> 466.49681 | L37: =L17*Annual!$D56/100 -> 488.54669 | M37: =M17*Annual!$D56/100 -> 486.37879 | N37: =N17*Annual!$E56/100 -> 517.48849 | O37: =O17*Annual!$E56/100 -> 528.46257 | P37: =P17*Annual!$E56/100 -> 553.7863 | Q37: =Q17*Annual!$E56/100 -> 544.73351 | R37: =R17*Annual!$F56/100 -> 576.93568 | S37: =S17*Annual!$F56/100 -> 594.56814 | T37: =T17*Annual!$F56/100 -> 643.21747 | U37: =U17*Annual!$F56/100 -> 632.74617 | V37: =V17*Annual!$G56/100 -> 691.58442 | W37: =W17*Annual!$G56/100 -> 725.32068 | X37: =X17*Annual!$G56/100 -> 767.0938 | Y37: =Y17*Annual!$G56/100 -> 754.59771 | Z37: =Z17*Annual!H56/100 -> 803.53205 | AA37: =AA17*Annual!H56/100 -> 792.51144 | AB37: =AB17*Annual!H56/100 -> 801.32514 | AC37: =AC17*Annual!H56/100 -> 800.57544 | AD37: =AD17*Annual!$I56/100 -> 934.59948 | AE37: =AE17*Annual!$I56/100 -> 943.3674 | AF37: =AF17*Annual!$I56/100 -> 976.66154 | AG37: =AG17*Annual!$I56/100 -> 994.85149 | AH37: =AH17*Annual!$J56/100 -> 1113.9878 | AI37: =AI17*Annual!$J56/100 -> 1109.2056 | AJ37: =AJ17*Annual!$J56/100 -> 1119.5806 | AK37: =AK17*Annual!$J56/100 -> 1126.7892 | AL37: =AL17*Annual!$K56/100 -> 1168.6886 | AM37: =AM17*Annual!$K56/100 -> 1220.2909 | AN37: =AN17*Annual!$K56/100 -> 1252.2928 | AO37: =AO17*Annual!$K56/100 -> 1270.9809 | AP37: =AP17*Annual!$L56/100 -> 1288.3122 | AQ37: =AQ17*Annual!$L56/100 -> 1323.2917 | AR37: =AR17*Annual!$L56/100 -> 1372.8722 | AS37: =AS17*Annual!$L56/100 -> 1425.5332 | AT37: =AT17*Annual!$M56/100 -> 1485.9376 | AU37: =AU17*Annual!$M56/100 -> 1549.9212 | AV37: =AV17*Annual!$M56/100 -> 1617.7789 | AW37: =AW17*Annual!$M56/100 -> 1682.8995 | AX37: =AX17*Annual!$N56/100 -> 1568.2675 | AY37: =AY17*Annual!$N56/100 -> 1723.1358 | AZ37: =AZ17*Annual!$N56/100 -> 1771.7677 | BA37: =BA17*Annual!$N56/100 -> 1652.7465 | BB37: =BB17*Annual!$O56/100 -> 1563.3855 | BC37: =BC17*Annual!$O56/100 -> 1839.447 | BD37: =BD17*Annual!$O56/100 -> 1887.562 | BE37: =BE17*Annual!$O56/100 -> 1730.1285 | BF37: =BF17*Annual!P56/100 -> 1862.0958 | BG37: =BG17*Annual!P56/100 -> 2242.773 | BH37: =BH17*Annual!P56/100 -> 2265.7837 | BI37: =BI17*Annual!P56/100 -> 2102.0303 | BJ37: =BJ17*Annual!Q56/100 -> 2050.1152 | BK37: =BK17*Annual!Q56/100 -> 2539.9146 | BL37: =BL17*Annual!Q56/100 -> 2569.1736 | BM37: =BM17*Annual!Q56/100 -> 2450.9804 | BN37: =BN17*Annual!$R56/100 -> 2283.9007 | BO37: =BO17*Annual!$R56/100 -> 2777.641 | BP37: =BP17*Annual!$R56/100 -> 2905.7582 | BQ37: =BQ17*Annual!$R56/100 -> 2994.7607 | BR37: =BR17*Annual!$S56/100 -> 2536.9691 | BS37: =BS17*Annual!$S56/100 -> 2926.8668 | BT37: =BT17*Annual!$S56/100 -> 3066.9862 | BU37: =BU17*Annual!$S56/100 -> 3042.9469 | BV37: =BV17*Annual!$T56/100 -> 2688.3828 | BW37: =BW17*Annual!$T56/100 -> 2974.1882 | BX37: =BX17*Annual!$T56/100 -> 3100.5356 | BY37: =BY17*Annual!$T56/100 -> 3084.3921 | BZ37: =BZ17*Annual!$W56/100 -> 2769.3883 | CA37: =CA17*Annual!$U56/100 -> 3059.0375 | CB37: =CB17*Annual!$U56/100 -> 3121.5139 | CC37: =CC17*Annual!$U56/100 -> 3069.2579 | CD37: =CD17*Annual!$W56/100 -> 3079.6839 | CE37: =CE17*Annual!$W56/100 -> 3256.2883 | CF37: =CF17*Annual!$W56/100 -> 3407.97 | CG37: =CG17*Annual!$W56/100 -> 3362.581 | CH37: =CH17*Annual!$X56/100 -> 3202.831 | CI37: =CI17*Annual!$X56/100 -> 3305.4551 | CJ37: =CJ17*Annual!$X56/100 -> 3453.3594 | CK37: =CK17*Annual!$X56/100 -> 3428.571
A38: General government services | B38: =B18*Annual!$B57/100 -> 487.44704 | C38: =C18*Annual!$B57/100 -> 501.98 | D38: =D18*Annual!$B57/100 -> 510.28454 | E38: =E18*Annual!$B57/100 -> 519.33056 | F38: =F18*Annual!$C57/100 -> 541.64042 | G38: =G18*Annual!$C57/100 -> 562.93007 | H38: =H18*Annual!$C57/100 -> 580.86019 | I38: =I18*Annual!$C57/100 -> 593.39239 | J38: =J18*Annual!$D57/100 -> 586.64319 | K38: =K18*Annual!$D57/100 -> 600.96938 | L38: =L18*Annual!$D57/100 -> 629.62178 | M38: =M18*Annual!$D57/100 -> 633.86117 | N38: =N18*Annual!$E57/100 -> 657.34494 | O38: =O18*Annual!$E57/100 -> 691.12038 | P38: =P18*Annual!$E57/100 -> 750.11479 | Q38: =Q18*Annual!$E57/100 -> 756.86988 | R38: =R18*Annual!$F57/100 -> 746.88017 | S38: =S18*Annual!$F57/100 -> 762.66241 | T38: =T18*Annual!$F57/100 -> 797.29567 | U38: =U18*Annual!$F57/100 -> 809.42462 | V38: =V18*Annual!$G57/100 -> 839.93809 | W38: =W18*Annual!$G57/100 -> 868.91162 | X38: =X18*Annual!$G57/100 -> 914.9457 | Y38: =Y18*Annual!$G57/100 -> 940.38945 | Z38: =Z18*Annual!H57/100 -> 990.30761 | AA38: =AA18*Annual!H57/100 -> 994.95272 | AB38: =AB18*Annual!H57/100 -> 1019.8265 | AC38: =AC18*Annual!H57/100 -> 1064.03 | AD38: =AD18*Annual!$I57/100 -> 1148.1011 | AE38: =AE18*Annual!$I57/100 -> 1157.6624 | AF38: =AF18*Annual!$I57/100 -> 1186.0475 | AG38: =AG18*Annual!$I57/100 -> 1216.3747 | AH38: =AH18*Annual!$J57/100 -> 1189.277 | AI38: =AI18*Annual!$J57/100 -> 1187.7913 | AJ38: =AJ18*Annual!$J57/100 -> 1192.0998 | AK38: =AK18*Annual!$J57/100 -> 1195.2197 | AL38: =AL18*Annual!$K57/100 -> 1202.7891 | AM38: =AM18*Annual!$K57/100 -> 1206.0395 | AN38: =AN18*Annual!$K57/100 -> 1238.8388 | AO38: =AO18*Annual!$K57/100 -> 1262.0347 | AP38: =AP18*Annual!$L57/100 -> 1279.6511 | AQ38: =AQ18*Annual!$L57/100 -> 1306.8871 | AR38: =AR18*Annual!$L57/100 -> 1349.9616 | AS38: =AS18*Annual!$L57/100 -> 1377.4937 | AT38: =AT18*Annual!$M57/100 -> 1401.9854 | AU38: =AU18*Annual!$M57/100 -> 1434.3765 | AV38: =AV18*Annual!$M57/100 -> 1496.0526 | AW38: =AW18*Annual!$M57/100 -> 1537.0221 | AX38: =AX18*Annual!$N57/100 -> 1559.8019 | AY38: =AY18*Annual!$N57/100 -> 1626.2458 | AZ38: =AZ18*Annual!$N57/100 -> 1694.3212 | BA38: =BA18*Annual!$N57/100 -> 1722.5006 | BB38: =BB18*Annual!$O57/100 -> 1782.9551 | BC38: =BC18*Annual!$O57/100 -> 1908.0643 | BD38: =BD18*Annual!$O57/100 -> 2019.0914 | BE38: =BE18*Annual!$O57/100 -> 2054.9639 | BF38: =BF18*Annual!P57/100 -> 2042.6325 | BG38: =BG18*Annual!P57/100 -> 2011.6228 | BH38: =BH18*Annual!P57/100 -> 2037.8846 | BI38: =BI18*Annual!P57/100 -> 2079.4287 | BJ38: =BJ18*Annual!Q57/100 -> 2117.0493 | BK38: =BK18*Annual!Q57/100 -> 2128.9982 | BL38: =BL18*Annual!Q57/100 -> 2160.2148 | BM38: =BM18*Annual!Q57/100 -> 2155.2858 | BN38: =BN18*Annual!$R57/100 -> 2201.3432 | BO38: =BO18*Annual!$R57/100 -> 2228.4727 | BP38: =BP18*Annual!$R57/100 -> 2283.1765 | BQ38: =BQ18*Annual!$R57/100 -> 2353.891 | BR38: =BR18*Annual!$S57/100 -> 2394.9658 | BS38: =BS18*Annual!$S57/100 -> 2431.0283 | BT38: =BT18*Annual!$S57/100 -> 2491.5777 | BU38: =BU18*Annual!$S57/100 -> 2528.0854 | BV38: =BV18*Annual!$T57/100 -> 2604.7917 | BW38: =BW18*Annual!$T57/100 -> 2674.8785 | BX38: =BX18*Annual!$T57/100 -> 2770.9508 | BY38: =BY18*Annual!$T57/100 -> 2810.7458 | BZ38: =BZ18*Annual!$W57/100 -> 2900.7824 | CA38: =CA18*Annual!$U57/100 -> 2937.0974 | CB38: =CB18*Annual!$U57/100 -> 3000.6632 | CC38: =CC18*Annual!$U57/100 -> 3007.495 | CD38: =CD18*Annual!$W57/100 -> 3039.8701 | CE38: =CE18*Annual!$W57/100 -> 3052.0552 | CF38: =CF18*Annual!$W57/100 -> 3194.1149 | CG38: =CG18*Annual!$W57/100 -> 3217.742 | CH38: =CH18*Annual!$X57/100 -> 3340.3444 | CI38: =CI18*Annual!$X57/100 -> 3425.0907 | CJ38: =CJ18*Annual!$X57/100 -> 3494.9693 | CK38: =CK18*Annual!$X57/100 -> 3491.9957
A39: =A21 -> SA - Annual Gross Operating Surplus | B39: =B33+B29+B26 -> 9379.9618 | C39: =C33+C29+C26 -> 10178.927 | D39: =D33+D29+D26 -> 10926.216 | E39: =E33+E29+E26 -> 10426.181 | F39: =F33+F29+F26 -> 10571.353 | G39: =G33+G29+G26 -> 12065.116 | H39: =H33+H29+H26 -> 11991.778 | I39: =I33+I29+I26 -> 11578.194 | ... CK39: =CK33+CK29+CK26 -> 69786.1
A41: KZN - Annual Gross Operating Surplus | B41: =B39+B40 -> 9379.9618 | C41: =C39+C40 -> 10178.927 | D41: =D39+D40 -> 10926.216 | E41: =E39+E40 -> 10426.181 | F41: =F39+F40 -> 10571.353 | G41: =G39+G40 -> 12065.116 | H41: =H39+H40 -> 11991.778 | I41: =I39+I40 -> 11578.194 | ... CK41: =CK39+CK40 -> 69786.1
A43: =A3 -> SA – Annual Gross Operating Surplus
A44: Quarterly Change
A45: National Industry | B45: =B25 -> 1995q1 | C45: =C25 -> 1995q2 | D45: =D25 -> 1995q3 | E45: =E25 -> 1995q4 | F45: =F25 -> 1996q1 | G45: =G25 -> 1996q2 | H45: =H25 -> 1996q3 | I45: =I25 -> 1996q4 | ... CK45: =CK25 -> 2016q4
A46: Primary Industries | C46: =(C6-B6)/B6*100 -> 41.536094 | D46: =(D6-C6)/C6*100 -> 2.6744377 | E46: =(E6-D6)/D6*100 -> -24.850629 | F46: =(F6-E6)/E6*100 -> -0.53905451 | G46: =(G6-F6)/F6*100 -> 90.861573 | H46: =(H6-G6)/G6*100 -> -19.664114 | I46: =(I6-H6)/H6*100 -> -26.067954 | J46: =(J6-I6)/I6*100 -> 0.39885832 | ... CK46: =(CK6-CJ6)/CJ6*100 -> -13.256975
A47: Agriculture, forestry and fishing | C47: =(C7-B7)/B7*100 -> 67.271106 | D47: =(D7-C7)/C7*100 -> 1.2595362 | E47: =(E7-D7)/D7*100 -> -26.802748 | F47: =(F7-E7)/E7*100 -> -15.518425 | G47: =(G7-F7)/F7*100 -> 184.41755 | H47: =(H7-G7)/G7*100 -> -35.051267 | I47: =(I7-H7)/H7*100 -> -31.553311 | J47: =(J7-I7)/I7*100 -> 2.277376 | ... CK47: =(CK7-CJ7)/CJ7*100 -> -61.037481
A48: Mining and quarrying | C48: =(C8-B8)/B8*100 -> 24.413851 | D48: =(D8-C8)/C8*100 -> 3.9400908 | E48: =(E8-D8)/D8*100 -> -23.149461 | F48: =(F8-E8)/E8*100 -> 11.894141 | G48: =(G8-F8)/F8*100 -> 32.232182 | H48: =(H8-G8)/G8*100 -> 1.076488 | I48: =(I8-H8)/H8*100 -> -21.316915 | J48: =(J8-I8)/I8*100 -> -1.0165116 | ... CK48: =(CK8-CJ8)/CJ8*100 -> 5.71483
A49: Secondary Industries | C49: =(C9-B9)/B9*100 -> 7.707473 | D49: =(D9-C9)/C9*100 -> 8.901235 | E49: =(E9-D9)/D9*100 -> -11.284206 | F49: =(F9-E9)/E9*100 -> 7.3622384 | G49: =(G9-F9)/F9*100 -> 5.4941112 | H49: =(H9-G9)/G9*100 -> 4.8462751 | I49: =(I9-H9)/H9*100 -> -7.7203135 | J49: =(J9-I9)/I9*100 -> 9.5578787 | ... CK49: =(CK9-CJ9)/CJ9*100 -> -24.625186
A50: Manufacturing | C50: =(C10-B10)/B10*100 -> 10.087507 | D50: =(D10-C10)/C10*100 -> 12.199355 | E50: =(E10-D10)/D10*100 -> -10.87696 | F50: =(F10-E10)/E10*100 -> 1.9511858 | G50: =(G10-F10)/F10*100 -> 7.1248771 | H50: =(H10-G10)/G10*100 -> 7.6756813 | I50: =(I10-H10)/H10*100 -> -5.9322699 | J50: =(J10-I10)/I10*100 -> 4.7179752 | ... CK50: =(CK10-CJ10)/CJ10*100 -> -24.135885
A51: Electricity, gas and water | C51: =(C11-B11)/B11*100 -> 0.92788038 | D51: =(D11-C11)/C11*100 -> 6.7965985 | E51: =(E11-D11)/D11*100 -> -12.649071 | F51: =(F11-E11)/E11*100 -> 5.7331333 | G51: =(G11-F11)/F11*100 -> 2.0086414 | H51: =(H11-G11)/G11*100 -> 7.955212 | I51: =(I11-H11)/H11*100 -> -15.550782 | J51: =(J11-I11)/I11*100 -> 8.9152516 | ... CK51: =(CK11-CJ11)/CJ11*100 -> -35.04145
A52: Construction | C52: =(C12-B12)/B12*100 -> 3.1228417 | D52: =(D12-C12)/C12*100 -> -11.028247 | E52: =(E12-D12)/D12*100 -> -12.271448 | F52: =(F12-E12)/E12*100 -> 59.537206 | G52: =(G12-F12)/F12*100 -> 0.50869391 | H52: =(H12-G12)/G12*100 -> -16.651536 | I52: =(I12-H12)/H12*100 -> -8.8118716 | J52: =(J12-I12)/I12*100 -> 50.366146 | ... CK52: =(CK12-CJ12)/CJ12*100 -> -11.398884
A53: Tertiary industries | C53: =(C13-B13)/B13*100 -> 0.37725788 | D53: =(D13-C13)/C13*100 -> 7.124239 | E53: =(E13-D13)/D13*100 -> 4.9412475 | F53: =(F13-E13)/E13*100 -> 1.5823481 | G53: =(G13-F13)/F13*100 -> 0.27097469 | H53: =(H13-G13)/G13*100 -> 6.3794232 | I53: =(I13-H13)/H13*100 -> 5.0469488 | J53: =(J13-I13)/I13*100 -> -0.74739145 | ... CK53: =(CK13-CJ13)/CJ13*100 -> 4.9217956
A54: Wholesale & retail trade; hotels & restaurants | C54: =(C14-B14)/B14*100 -> -2.5830229 | D54: =(D14-C14)/C14*100 -> 9.1655362 | E54: =(E14-D14)/D14*100 -> 16.979731 | F54: =(F14-E14)/E14*100 -> -10.183599 | G54: =(G14-F14)/F14*100 -> -1.3845176 | H54: =(H14-G14)/G14*100 -> 7.6683044 | I54: =(I14-H14)/H14*100 -> 19.400246 | J54: =(J14-I14)/I14*100 -> -15.127099 | ... CK54: =(CK14-CJ14)/CJ14*100 -> 13.290037
A55: Transport , storage and communication | C55: =(C15-B15)/B15*100 -> 4.477463 | D55: =(D15-C15)/C15*100 -> 14.744959 | E55: =(E15-D15)/D15*100 -> 4.8591139 | F55: =(F15-E15)/E15*100 -> 1.5628498 | G55: =(G15-F15)/F15*100 -> -2.7976546 | H55: =(H15-G15)/G15*100 -> 12.20899 | I55: =(I15-H15)/H15*100 -> 2.9444609 | J55: =(J15-I15)/I15*100 -> -2.3508997 | ... CK55: =(CK15-CJ15)/CJ15*100 -> 3.8535098
A56: Finance, real estate and business services | C56: =(C16-B16)/B16*100 -> -0.723793 | D56: =(D16-C16)/C16*100 -> 3.8738595 | E56: =(E16-D16)/D16*100 -> -2.119664 | F56: =(F16-E16)/E16*100 -> 11.353225 | G56: =(G16-F16)/F16*100 -> 1.2583863 | H56: =(H16-G16)/G16*100 -> 3.7289414 | I56: =(I16-H16)/H16*100 -> -2.4775193 | J56: =(J16-I16)/I16*100 -> 11.864704 | ... CK56: =(CK16-CJ16)/CJ16*100 -> 1.4528543
A57: Personal services | C57: =(C17-B17)/B17*100 -> 4.5009599 | D57: =(D17-C17)/C17*100 -> 5.436705 | E57: =(E17-D17)/D17*100 -> -0.29969665 | F57: =(F17-E17)/E17*100 -> 3.7307293 | G57: =(G17-F17)/F17*100 -> 5.0680433 | H57: =(H17-G17)/G17*100 -> 4.8992751 | I57: =(I17-H17)/H17*100 -> -0.20739014 | J57: =(J17-I17)/I17*100 -> 0.26936282 | ... CK57: =(CK17-CJ17)/CJ17*100 -> -0.71780638
... A61: SA - Gross Operating Surplus | C61: =(C21-B21)/B21*100 -> 7.0684797 | D61: =(D21-C21)/C21*100 -> 7.0266481 | E61: =(E21-D21)/D21*100 -> -4.193043 | F61: =(F21-E21)/E21*100 -> 3.0123285 | G61: =(G21-F21)/F21*100 -> 11.285272 | H61: =(H21-G21)/G21*100 -> 1.2844134 | I61: =(I21-H21)/H21*100 -> -3.1175288 | J61: =(J21-I21)/I21*100 -> 2.2585755 | ... CK61: =(CK21-CJ21)/CJ21*100 -> -3.7085305
A63: =A23 -> KZN – Annual Gross Operating Surplus
A64: Quarterly Change
A65: Provincial Industry | B65: =B45 -> 1995q1 | C65: =C45 -> 1995q2 | D65: =D45 -> 1995q3 | E65: =E45 -> 1995q4 | F65: =F45 -> 1996q1 | G65: =G45 -> 1996q2 | H65: =H45 -> 1996q3 | I65: =I45 -> 1996q4 | ... CK65: =CK45 -> 2016q4
A66: Primary Industries | C66: =(C26-B26)/B26*100 -> 60.348246 | D66: =(D26-C26)/C26*100 -> 1.5954983 | E66: =(E26-D26)/D26*100 -> -26.334303 | F66: =(F26-E26)/E26*100 -> -16.506924 | G66: =(G26-F26)/F26*100 -> 156.40449 | H66: =(H26-G26)/G26*100 -> -31.621693 | I66: =(I26-H26)/H26*100 -> -30.116902 | J66: =(J26-I26)/I26*100 -> 0.51718214 | ... CK66: =(CK26-CJ26)/CJ26*100 -> -45.182654
A67: Agriculture, forestry and fishing | C67: =(C27-B27)/B27*100 -> 67.271106 | D67: =(D27-C27)/C27*100 -> 1.2595362 | E67: =(E27-D27)/D27*100 -> -26.802748 | F67: =(F27-E27)/E27*100 -> -21.355444 | G67: =(G27-F27)/F27*100 -> 184.41755 | H67: =(H27-G27)/G27*100 -> -35.051267 | I67: =(I27-H27)/H27*100 -> -31.553311 | J67: =(J27-I27)/I27*100 -> 0.9136823 | ... CK67: =(CK27-CJ27)/CJ27*100 -> -61.037481
A68: Mining and quarrying | C68: =(C28-B28)/B28*100 -> 24.413851 | D68: =(D28-C28)/C28*100 -> 3.9400908 | E68: =(E28-D28)/D28*100 -> -23.149461 | F68: =(F28-E28)/E28*100 -> 14.889987 | G68: =(G28-F28)/F28*100 -> 32.232182 | H68: =(H28-G28)/G28*100 -> 1.076488 | I68: =(I28-H28)/H28*100 -> -21.316915 | J68: =(J28-I28)/I28*100 -> -1.5959095 | ... CK68: =(CK28-CJ28)/CJ28*100 -> 5.71483
A69: Secondary Industries | C69: =(C29-B29)/B29*100 -> 7.9264378 | D69: =(D29-C29)/C29*100 -> 8.6732503 | E69: =(E29-D29)/D29*100 -> -11.242444 | F69: =(F29-E29)/E29*100 -> 7.6519447 | G69: =(G29-F29)/F29*100 -> 5.5696612 | H69: =(H29-G29)/G29*100 -> 4.4573743 | I69: =(I29-H29)/H29*100 -> -7.415418 | J69: =(J29-I29)/I29*100 -> 10.235836 | ... CK69: =(CK29-CJ29)/CJ29*100 -> -24.085634
A70: Manufacturing | C70: =(C30-B30)/B30*100 -> 10.087507 | D70: =(D30-C30)/C30*100 -> 12.199355 | E70: =(E30-D30)/D30*100 -> -10.87696 | F70: =(F30-E30)/E30*100 -> 2.3010639 | G70: =(G30-F30)/F30*100 -> 7.1248771 | H70: =(H30-G30)/G30*100 -> 7.6756813 | I70: =(I30-H30)/H30*100 -> -5.9322699 | J70: =(J30-I30)/I30*100 -> 4.6679932 | ... CK70: =(CK30-CJ30)/CJ30*100 -> -24.135885
A71: Electricity, gas and water | C71: =(C31-B31)/B31*100 -> 0.92788038 | D71: =(D31-C31)/C31*100 -> 6.7965985 | E71: =(E31-D31)/D31*100 -> -12.649071 | F71: =(F31-E31)/E31*100 -> 4.6720382 | G71: =(G31-F31)/F31*100 -> 2.0086414 | H71: =(H31-G31)/G31*100 -> 7.955212 | I71: =(I31-H31)/H31*100 -> -15.550782 | J71: =(J31-I31)/I31*100 -> 8.4372256 | ... CK71: =(CK31-CJ31)/CJ31*100 -> -35.04145
A72: Construction | C72: =(C32-B32)/B32*100 -> 3.1228417 | D72: =(D32-C32)/C32*100 -> -11.028247 | E72: =(E32-D32)/D32*100 -> -12.271448 | F72: =(F32-E32)/E32*100 -> 53.678309 | G72: =(G32-F32)/F32*100 -> 0.50869391 | H72: =(H32-G32)/G32*100 -> -16.651536 | I72: =(I32-H32)/H32*100 -> -8.8118716 | J72: =(J32-I32)/I32*100 -> 53.675321 | ... CK72: =(CK32-CJ32)/CJ32*100 -> -11.398884
A73: Tertiary industries | C73: =(C33-B33)/B33*100 -> 0.73624781 | D73: =(D33-C33)/C33*100 -> 7.8592353 | E73: =(E33-D33)/D33*100 -> 5.2168502 | F73: =(F33-E33)/E33*100 -> 0.66470642 | G73: =(G33-F33)/F33*100 -> 0.011283474 | H73: =(H33-G33)/G33*100 -> 6.9283967 | I73: =(I33-H33)/H33*100 -> 5.1237598 | J73: =(J33-I33)/I33*100 -> -2.1935182 | ... CK73: =(CK33-CJ33)/CJ33*100 -> 5.1263503
A74: Wholesale & retail trade; hotels & restaurants | C74: =(C34-B34)/B34*100 -> -2.5830229 | D74: =(D34-C34)/C34*100 -> 9.1655362 | E74: =(E34-D34)/D34*100 -> 16.979731 | F74: =(F34-E34)/E34*100 -> -11.442031 | G74: =(G34-F34)/F34*100 -> -1.3845176 | H74: =(H34-G34)/G34*100 -> 7.6683044 | I74: =(I34-H34)/H34*100 -> 19.400246 | J74: =(J34-I34)/I34*100 -> -14.996728 | ... CK74: =(CK34-CJ34)/CJ34*100 -> 13.290037
A75: Transport , storage and communication | C75: =(C35-B35)/B35*100 -> 4.477463 | D75: =(D35-C35)/C35*100 -> 14.744959 | E75: =(E35-D35)/D35*100 -> 4.8591139 | F75: =(F35-E35)/E35*100 -> 0.095279611 | G75: =(G35-F35)/F35*100 -> -2.7976546 | H75: =(H35-G35)/G35*100 -> 12.20899 | I75: =(I35-H35)/H35*100 -> 2.9444609 | J75: =(J35-I35)/I35*100 -> -4.1228826 | ... CK75: =(CK35-CJ35)/CJ35*100 -> 3.8535098
A76: Finance, real estate and business services | C76: =(C36-B36)/B36*100 -> -0.723793 | D76: =(D36-C36)/C36*100 -> 3.8738595 | E76: =(E36-D36)/D36*100 -> -2.119664 | F76: =(F36-E36)/E36*100 -> 11.528429 | G76: =(G36-F36)/F36*100 -> 1.2583863 | H76: =(H36-G36)/G36*100 -> 3.7289414 | I76: =(I36-H36)/H36*100 -> -2.4775193 | J76: =(J36-I36)/I36*100 -> 11.273862 | ... CK76: =(CK36-CJ36)/CJ36*100 -> 1.4528543
A77: Personal services | C77: =(C37-B37)/B37*100 -> 4.5009599 | D77: =(D37-C37)/C37*100 -> 5.436705 | E77: =(E37-D37)/D37*100 -> -0.29969665 | F77: =(F37-E37)/E37*100 -> 3.7200934 | G77: =(G37-F37)/F37*100 -> 5.0680433 | H77: =(H37-G37)/G37*100 -> 4.8992751 | I77: =(I37-H37)/H37*100 -> -0.20739014 | J77: =(J37-I37)/I37*100 -> 0.2337478 | ... CK77: =(CK37-CJ37)/CJ37*100 -> -0.71780638
... A79: All industries at basic prices | C79: =(C39-B39)/B39*100 -> 8.5177836 | D79: =(D39-C39)/C39*100 -> 7.3415285 | E79: =(E39-D39)/D39*100 -> -4.5764655 | F79: =(F39-E39)/E39*100 -> 1.3923818 | G79: =(G39-F39)/F39*100 -> 14.130288 | H79: =(H39-G39)/G39*100 -> -0.60785006 | I79: =(I39-H39)/H39*100 -> -3.448896 | J79: =(J39-I39)/I39*100 -> 2.1723227 | ... CK79: =(CK39-CJ39)/CJ39*100 -> -6.3714955
A81: =A41 -> KZN - Annual Gross Operating Surplus | C81: =(C41-B41)/B41*100 -> 8.5177836 | D81: =(D41-C41)/C41*100 -> 7.3415285 | E81: =(E41-D41)/D41*100 -> -4.5764655 | F81: =(F41-E41)/E41*100 -> 1.3923818 | G81: =(G41-F41)/F41*100 -> 14.130288 | H81: =(H41-G41)/G41*100 -> -0.60785006 | I81: =(I41-H41)/H41*100 -> -3.448896 | J81: =(J41-I41)/I41*100 -> 2.1723227 | ... CK81: =(CK41-CJ41)/CJ41*100 -> -6.3714955
A83: =A43 -> SA – Annual Gross Operating Surplus
A84: Annual Change
A85: National Industry | B85: =B65 -> 1995q1 | C85: =C65 -> 1995q2 | D85: =D65 -> 1995q3 | E85: =E65 -> 1995q4 | F85: =F65 -> 1996q1 | G85: =G65 -> 1996q2 | H85: =H65 -> 1996q3 | I85: =I65 -> 1996q4 | ... CK85: =CK65 -> 2016q4
A86: Primary Industries | F86: =(F6-B6)/B6*100 -> 8.6194179 | G86: =(G6-C6)/C6*100 -> 46.4734 | H86: =(H6-D6)/D6*100 -> 14.605648 | I86: =(I6-E6)/E6*100 -> 12.749182 | J86: =(J6-F6)/F6*100 -> 13.812402 | K86: =(K6-G6)/G6*100 -> 2.666582 | L86: =(L6-H6)/H6*100 -> -1.5817574 | M86: =(M6-I6)/I6*100 -> -6.0915658 | ... CK86: =(CK6-CG6)/CG6*100 -> 19.000631
A87: Agriculture, forestry and fishing | F87: =(F7-B7)/B7*100 -> 4.7402588 | G87: =(G7-C7)/C7*100 -> 78.093925 | H87: =(H7-D7)/D7*100 -> 14.230967 | I87: =(I7-E7)/E7*100 -> 6.8172805 | J87: =(J7-F7)/F7*100 -> 29.318034 | K87: =(K7-G7)/G7*100 -> 7.1402143 | L87: =(L7-H7)/H7*100 -> 0.15063474 | M87: =(M7-I7)/I7*100 -> -9.144969 | ... CK87: =(CK7-CG7)/CG7*100 -> 30.461847
A88: Mining and quarrying | F88: =(F8-B8)/B8*100 -> 11.200334 | G88: =(G8-C8)/C8*100 -> 18.18831 | H88: =(H8-D8)/D8*100 -> 14.932162 | I88: =(I8-E8)/E8*100 -> 17.672785 | J88: =(J8-F8)/F8*100 -> 4.0953771 | K88: =(K8-G8)/G8*100 -> -3.3635019 | L88: =(L8-H8)/H8*100 -> -3.082236 | M88: =(M8-I8)/I8*100 -> -3.7909779 | ... CK88: =(CK8-CG8)/CG8*100 -> 17.490142
A89: Secondary Industries | F89: =(F9-B9)/B9*100 -> 11.720056 | G89: =(G9-C9)/C9*100 -> 9.4242366 | H89: =(H9-D9)/D9*100 -> 5.3498026 | I89: =(I9-E9)/E9*100 -> 9.5819164 | J89: =(J9-F9)/F9*100 -> 11.822951 | K89: =(K9-G9)/G9*100 -> 13.784792 | L89: =(L9-H9)/H9*100 -> 12.647706 | M89: =(M9-I9)/I9*100 -> 10.580533 | ... CK89: =(CK9-CG9)/CG9*100 -> -0.090999117
A90: Manufacturing | F90: =(F10-B10)/B10*100 -> 12.230442 | G90: =(G10-C10)/C10*100 -> 9.2101425 | H90: =(H10-D10)/D10*100 -> 4.806988 | I90: =(I10-E10)/E10*100 -> 10.621848 | J90: =(J10-F10)/F10*100 -> 13.623946 | K90: =(K10-G10)/G10*100 -> 14.905384 | L90: =(L10-H10)/H10*100 -> 12.627246 | M90: =(M10-I10)/I10*100 -> 9.2324682 | ... CK90: =(CK10-CG10)/CG10*100 -> 0.16171826
A91: Electricity, gas and water | F91: =(F11-B11)/B11*100 -> -0.44863832 | G91: =(G11-C11)/C11*100 -> 0.61738264 | H91: =(H11-D11)/D11*100 -> 1.7089591 | I91: =(I11-E11)/E11*100 -> -1.669712 | J91: =(J11-F11)/F11*100 -> 1.2896122 | K91: =(K11-G11)/G11*100 -> 9.2543041 | L91: =(L11-H11)/H11*100 -> 4.3552463 | M91: =(M11-I11)/I11*100 -> 8.7034774 | ... CK91: =(CK11-CG11)/CG11*100 -> 2.3937554
A92: Construction | F92: =(F12-B12)/B12*100 -> 28.413286 | G92: =(G12-C12)/C12*100 -> 25.15803 | H92: =(H12-D12)/D12*100 -> 17.247657 | I92: =(I12-E12)/E12*100 -> 21.87132 | J92: =(J12-F12)/F12*100 -> 14.865499 | K92: =(K12-G12)/G12*100 -> 12.749398 | L92: =(L12-H12)/H12*100 -> 26.752272 | M92: =(M12-I12)/I12*100 -> 24.590752 | ... CK92: =(CK12-CG12)/CG12*100 -> -3.0577957
A93: Tertiary industries | F93: =(F13-B13)/B13*100 -> 14.627164 | G93: =(G13-C13)/C13*100 -> 14.505792 | H93: =(H13-D13)/D13*100 -> 13.709654 | I93: =(I13-E13)/E13*100 -> 13.824187 | J93: =(J13-F13)/F13*100 -> 11.213687 | K93: =(K13-G13)/G13*100 -> 14.590144 | L93: =(L13-H13)/H13*100 -> 14.219777 | M93: =(M13-I13)/I13*100 -> 10.936674 | ... CK93: =(CK13-CG13)/CG13*100 -> 6.1304093
A94: Wholesale & retail trade; hotels & restaurants | F94: =(F14-B14)/B14*100 -> 11.734289 | G94: =(G14-C14)/C14*100 -> 13.108938 | H94: =(H14-D14)/D14*100 -> 11.557621 | I94: =(I14-E14)/E14*100 -> 13.865943 | J94: =(J14-F14)/F14*100 -> 7.5987541 | K94: =(K14-G14)/G14*100 -> 10.945519 | L94: =(L14-H14)/H14*100 -> 7.6150303 | M94: =(M14-I14)/I14*100 -> 1.0837889 | ... CK94: =(CK14-CG14)/CG14*100 -> 8.1647499
A95: Transport , storage and communication | F95: =(F15-B15)/B15*100 -> 27.67248 | G95: =(G15-C15)/C15*100 -> 18.782215 | H95: =(H15-D15)/D15*100 -> 16.157019 | I95: =(I15-E15)/E15*100 -> 14.036074 | J95: =(J15-F15)/F15*100 -> 9.641666 | K95: =(K15-G15)/G15*100 -> 18.233556 | L95: =(L15-H15)/H15*100 -> 17.365962 | M95: =(M15-I15)/I15*100 -> 12.282584 | ... CK95: =(CK15-CG15)/CG15*100 -> 4.7977323
A96: Finance, real estate and business services | F96: =(F16-B16)/B16*100 -> 12.3957 | G96: =(G16-C16)/C16*100 -> 14.639827 | H96: =(H16-D16)/D16*100 -> 14.479889 | I96: =(I16-E16)/E16*100 -> 14.061345 | J96: =(J16-F16)/F16*100 -> 14.585263 | K96: =(K16-G16)/G16*100 -> 17.287459 | L96: =(L16-H16)/H16*100 -> 18.69787 | M96: =(M16-I16)/I16*100 -> 19.296216 | ... CK96: =(CK16-CG16)/CG16*100 -> 5.6531166
A97: Personal services | F97: =(F17-B17)/B17*100 -> 13.950443 | G97: =(G17-C17)/C17*100 -> 14.568804 | H97: =(H17-D17)/D17*100 -> 13.984827 | I97: =(I17-E17)/E17*100 -> 14.090358 | J97: =(J17-F17)/F17*100 -> 10.283304 | K97: =(K17-G17)/G17*100 -> 9.980987 | L97: =(L17-H17)/H17*100 -> 9.8000463 | M97: =(M17-I17)/I17*100 -> 9.5399909 | ... CK97: =(CK17-CG17)/CG17*100 -> 1.835763
... A99: All industries at basic prices | F99: =(F19-B19)/B19*100 -> 13.094064 | G99: =(G19-C19)/C19*100 -> 17.548168 | H99: =(H19-D19)/D19*100 -> 11.241429 | I99: =(I19-E19)/E19*100 -> 12.490208 | J99: =(J19-F19)/F19*100 -> 11.667104 | K99: =(K19-G19)/G19*100 -> 12.228152 | L99: =(L19-H19)/H19*100 -> 11.515539 | M99: =(M19-I19)/I19*100 -> 8.9928006 | ... CK99: =(CK19-CG19)/CG19*100 -> 6.3345187
A101: =A61 -> SA - Gross Operating Surplus | F101: =(F21-B21)/B21*100 -> 13.094064 | G101: =(G21-C21)/C21*100 -> 17.548168 | H101: =(H21-D21)/D21*100 -> 11.241429 | I101: =(I21-E21)/E21*100 -> 12.490208 | J101: =(J21-F21)/F21*100 -> 11.667104 | K101: =(K21-G21)/G21*100 -> 12.228152 | L101: =(L21-H21)/H21*100 -> 11.515539 | M101: =(M21-I21)/I21*100 -> 8.9928006 | ... CK101: =(CK21-CG21)/CG21*100 -> 6.3345187
A103: =A63 -> KZN – Annual Gross Operating Surplus
A104: Annual Change
A105: Provincial Industry | B105: =B85 -> 1995q1 | C105: =C85 -> 1995q2 | D105: =D85 -> 1995q3 | E105: =E85 -> 1995q4 | F105: =F85 -> 1996q1 | G105: =G85 -> 1996q2 | H105: =H85 -> 1996q3 | I105: =I85 -> 1996q4 | ... CK105: =CK85 -> 2016q4
A106: Primary Industries | F106: =(F26-B26)/B26*100 -> 0.19693662 | G106: =(G26-C26)/C26*100 -> 60.219677 | H106: =(H26-D26)/D26*100 -> 7.8349973 | I106: =(I26-E26)/E26*100 -> 2.2978668 | J106: =(J26-F26)/F26*100 -> 23.156239 | K106: =(K26-G26)/G26*100 -> 4.7964866 | L106: =(L26-H26)/H26*100 -> -1.5305779 | M106: =(M26-I26)/I26*100 -> -9.4080497 | ... CK106: =(CK26-CG26)/CG26*100 -> 24.848024
A107: Agriculture, forestry and fishing | F107: =(F27-B27)/B27*100 -> -2.4964777 | G107: =(G27-C27)/C27*100 -> 65.789021 | H107: =(H27-D27)/D27*100 -> 6.3384967 | I107: =(I27-E27)/E27*100 -> -0.56296195 | J107: =(J27-F27)/F27*100 -> 27.5938 | K107: =(K27-G27)/G27*100 -> 5.711683 | L107: =(L27-H27)/H27*100 -> -1.1847025 | M107: =(M27-I27)/I27*100 -> -10.356365 | ... CK107: =(CK27-CG27)/CG27*100 -> 31.216889
A108: Mining and quarrying | F108: =(F28-B28)/B28*100 -> 14.177604 | G108: =(G28-C28)/C28*100 -> 21.352676 | H108: =(H28-D28)/D28*100 -> 18.009348 | I108: =(I28-E28)/E28*100 -> 20.823349 | J108: =(J28-F28)/F28*100 -> 3.4860568 | K108: =(K28-G28)/G28*100 -> -3.9291618 | L108: =(L28-H28)/H28*100 -> -3.6495423 | M108: =(M28-I28)/I28*100 -> -4.3541356 | ... CK108: =(CK28-CG28)/CG28*100 -> 18.067717
A109: Secondary Industries | F109: =(F29-B29)/B29*100 -> 12.066992 | G109: =(G29-C29)/C29*100 -> 9.6197982 | H109: =(H29-D29)/D29*100 -> 5.3672017 | I109: =(I29-E29)/E29*100 -> 9.9103985 | J109: =(J29-F29)/F29*100 -> 12.548498 | K109: =(K29-G29)/G29*100 -> 14.182539 | L109: =(L29-H29)/H29*100 -> 13.322193 | M109: =(M29-I29)/I29*100 -> 10.980568 | ... CK109: =(CK29-CG29)/CG29*100 -> -0.1614417
A110: Manufacturing | F110: =(F30-B30)/B30*100 -> 12.615596 | G110: =(G30-C30)/C30*100 -> 9.584932 | H110: =(H30-D30)/D30*100 -> 5.1666667 | I110: =(I30-E30)/E30*100 -> 11.001483 | J110: =(J30-F30)/F30*100 -> 13.569713 | K110: =(K30-G30)/G30*100 -> 14.85054 | L110: =(L30-H30)/H30*100 -> 12.573488 | M110: =(M30-I30)/I30*100 -> 9.1803314 | ... CK110: =(CK30-CG30)/CG30*100 -> 0.23539225
A111: Electricity, gas and water | F111: =(F31-B31)/B31*100 -> -1.4476956 | G111: =(G31-C31)/C31*100 -> -0.39237282 | H111: =(H31-D31)/D31*100 -> 0.68824902 | I111: =(I31-E31)/E31*100 -> -2.6565151 | J111: =(J31-F31)/F31*100 -> 0.84505487 | K111: =(K31-G31)/G31*100 -> 8.77479 | L111: =(L31-H31)/H31*100 -> 3.897234 | M111: =(M31-I31)/I31*100 -> 8.2263808 | ... CK111: =(CK31-CG31)/CG31*100 -> 1.984996
A112: Construction | F112: =(F32-B32)/B32*100 -> 23.697394 | G112: =(G32-C32)/C32*100 -> 20.561685 | H112: =(H32-D32)/D32*100 -> 12.941815 | I112: =(I32-E32)/E32*100 -> 17.395677 | J112: =(J32-F32)/F32*100 -> 17.393395 | K112: =(K32-G32)/G32*100 -> 15.230725 | L112: =(L32-H32)/H32*100 -> 29.541765 | M112: =(M32-I32)/I32*100 -> 27.332676 | ... CK112: =(CK32-CG32)/CG32*100 -> -2.8427222
A113: Tertiary industries | F113: =(F33-B33)/B33*100 -> 15.081532 | G113: =(G33-C33)/C33*100 -> 14.25333 | H113: =(H33-D33)/D33*100 -> 13.267309 | I113: =(I33-E33)/E33*100 -> 13.167096 | J113: =(J33-F33)/F33*100 -> 9.9538849 | K113: =(K33-G33)/G33*100 -> 13.707407 | L113: =(L33-H33)/H33*100 -> 13.234618 | M113: =(M33-I33)/I33*100 -> 9.7638403 | ... CK113: =(CK33-CG33)/CG33*100 -> 6.1696617
A114: Wholesale & retail trade; hotels & restaurants | F114: =(F34-B34)/B34*100 -> 10.168762 | G114: =(G34-C34)/C34*100 -> 11.52415 | H114: =(H34-D34)/D34*100 -> 9.9945697 | I114: =(I34-E34)/E34*100 -> 12.270549 | J114: =(J34-F34)/F34*100 -> 7.7640343 | K114: =(K34-G34)/G34*100 -> 11.11594 | L114: =(L34-H34)/H34*100 -> 7.7803354 | M114: =(M34-I34)/I34*100 -> 1.2390616 | ... CK114: =(CK34-CG34)/CG34*100 -> 8.3743557
A115: Transport , storage and communication | F115: =(F35-B35)/B35*100 -> 25.827629 | G115: =(G35-C35)/C35*100 -> 17.065828 | H115: =(H35-D35)/D35*100 -> 14.478565 | I115: =(I35-E35)/E35*100 -> 12.388268 | J115: =(J35-F35)/F35*100 -> 7.6520608 | K115: =(K35-G35)/G35*100 -> 16.088038 | L115: =(L35-H35)/H35*100 -> 15.236188 | M115: =(M35-I35)/I35*100 -> 10.245056 | ... CK115: =(CK35-CG35)/CG35*100 -> 4.8736861
...

Sheet Growth Rates Annual
A1: Year-on-Year Growth Rates per Sector
B2: Primary Industries | C2: Agriculture, forestry and fishing | D2: Mining and quarrying | E2: Secondary Industries | F2: Manufacturing | G2: Electricity, gas and water | H2: Construction | I2: Tertiary industries | J2: Wholesale & retail trade; hotels & restaurants | K2: Transport , storage and communication | L2: Finance, real estate and business services | M2: Personal services | N2: General government services | O2: All industries at basic prices | P2: Taxes less subsidies on products | Q2: Annual Gross Operating Surplus
A3: 1996 | B3: 20.667675 | C3: 20.974225 | D3: 18.698888 | E3: 9.0984935 | F3: 9.3894587 | G3: -0.8943512 | H3: 18.855637 | I3: 13.902869 | J3: 11.044549 | K3: 17.01696 | L3: 14.076981 | M3: 14.136079 | N3: 12.866544 | O3: 14.256428 | P3: #DIV/0! | Q3: 12.943021
A4: =A3+1 -> 1997 | B4: 3.2470931 | C4: 4.1053325 | D4: -2.3705183 | E4: 12.782363 | F4: 12.516357 | G4: 5.3657456 | H4: 21.717545 | I4: 11.634669 | J4: 6.6172164 | K4: 12.283108 | L4: 16.871635 | M4: 9.8520947 | N4: 7.5597111 | O4: 11.176682 | P4: #DIV/0! | Q4: 11.051523
A5: =A4+1 -> 1998 | B5: 5.3599247 | C5: 3.4504756 | D5: 18.68726 | E5: -2.8384574 | F5: -3.3649515 | G5: 3.9084379 | H5: -5.5064297 | I5: 8.5573049 | J5: 2.3678999 | K5: 10.762529 | L5: 8.3623804 | M5: 13.666279 | N5: 16.496888 | O5: 4.195802 | P5: #DIV/0! | Q5: 4.266928
A6: =A5+1 -> 1999 | B6: -4.8285414 | C6: -7.3537829 | D6: 10.534122 | E6: 3.5550144 | F6: 5.4427935 | G6: -2.0747828 | H6: -2.3930219 | I6: 13.544132 | J6: 8.5173904 | K6: 12.951772 | L6: 18.805346 | M6: 14.1292 | N6: 9.1338625 | O6: 7.7901771 | P6: #DIV/0! | Q6: 8.3165847
A7: =A6+1 -> 2000 | B7: 7.9921971 | C7: 2.7086545 | D7: 34.933597 | E7: 20.5558 | F7: 24.236391 | G7: 10.475126 | H7: 6.4015306 | I7: 16.130591 | J7: 25.787609 | K7: 18.411623 | L7: 7.6127797 | M7: 20.066831 | N7: 14.373691 | O7: 16.968288 | P7: #DIV/0! | Q7: 16.714984
A8: =A7+1 -> 2001 | B8: 29.947012 | C8: 29.421945 | D8: 31.984979 | E8: 16.031125 | F8: 15.389889 | G8: 3.8700469 | H8: 32.642836 | I8: 12.23468 | J8: 17.928638 | K8: 11.543063 | L8: 8.6765784 | M8: 8.8255548 | N8: 14.166831 | O8: 14.965273 | P8: #DIV/0! | Q8: 15.015605
A9: =A8+1 -> 2002 | B9: 23.111599 | C9: 22.316455 | D9: 26.137892 | E9: 15.962604 | F9: 21.509092 | G9: 14.322548 | H9: -18.892403 | I9: 20.774346 | J9: 19.478822 | K9: 16.49337 | L9: 27.222853 | M9: 20.373585 | N9: 15.705343 | O9: 17.033115 | P9: #DIV/0! | Q9: 19.462265
A10: =A9+1 -> 2003 | B10: -5.1196197 | C10: -3.691101 | D10: -10.391803 | E10: 6.6010531 | F10: 8.6269326 | G10: -13.249889 | H10: 8.1308795 | I10: 14.40797 | J10: 11.844266 | K10: 22.696511 | L10: 12.878287 | M10: 16.108236 | N10: 1.193712 | O10: 9.0708137 | P10: #DIV/0! | Q10: 9.9552209
A11: =A10+1 -> 2004 | B11: 2.8906081 | C11: 2.2500357 | D11: 5.4315313 | E11: 10.736863 | F11: 8.6884858 | G11: 12.821043 | H11: 29.010225 | I11: 11.460315 | J11: 12.281132 | K11: 13.962553 | L11: 10.982054 | M11: 9.9045463 | N11: 3.0500104 | O11: 9.8667053 | P11: #DIV/0! | Q11: 10.47759
A12: =A11+1 -> 2005 | B12: -6.4386842 | C12: -11.480883 | D12: 12.95839 | E12: 8.8290395 | F12: 7.3967404 | G12: 0.82869726 | H12: 26.668392 | I12: 12.473955 | J12: 6.9859067 | K12: 12.252567 | L12: 18.467781 | M12: 10.132951 | N12: 8.2345368 | O12: 9.6277191 | P12: #DIV/0! | Q12: 9.7988526
A13: =A12+1 -> 2006 | B13: 20.019386 | C13: 18.719364 | D13: 23.938479 | E13: -4.1552554 | F13: -7.214197 | G13: 6.7871879 | H13: 10.696908 | I13: 16.572124 | J13: 10.636033 | K13: 29.158219 | L13: 11.163096 | M13: 17.126178 | N13: 10.452463 | O13: 11.458901 | P13: #DIV/0! | Q13: 10.587909
A14: =A13+1 -> 2007 | B14: 35.666492 | C14: 40.005712 | D14: 23.136182 | E14: 12.299355 | F14: 9.9508894 | G14: 4.6966832 | H14: 30.465442 | I14: 14.230844 | J14: 14.463859 | K14: 7.8323409 | L14: 22.571304 | M14: 5.9871877 | N14: 12.495798 | O14: 13.615066 | P14: #DIV/0! | Q14: 15.373597
A15: =A14+1 -> 2008 | B15: 26.765776 | C15: 26.681713 | D15: 27.041781 | E15: 19.34761 | F15: 10.575092 | G15: 12.014921 | H15: 66.109063 | I15: 7.9349799 | J15: 17.391558 | K15: 4.3269091 | L15: 3.6763017 | M15: 4.5355745 | N15: 17.601518 | O15: 12.733104 | P15: #DIV/0! | Q15: 12.527887
A16: =A15+1 -> 2009 | B16: -3.1699089 | C16: -4.243314 | D16: 0.34441088 | E16: 0.48912012 | F16: -4.6029876 | G16: 61.778123 | H16: -1.9150945 | I16: 7.7767863 | J16: 8.7303387 | K16: -0.52196147 | L16: 12.4472 | M16: 20.684496 | N16: 5.2348991 | O16: 6.1734766 | P16: #DIV/0! | Q16: 4.7048131
A17: 2010 | B17: -0.57155376 | C17: -6.2245625 | D17: 17.090175 | E17: 1.7328407 | F17: -1.8794958 | G17: 35.357826 | H17: -4.0439717 | I17: 8.9696277 | J17: 21.463411 | K17: 0.63567683 | L17: 6.3130948 | M17: 13.425511 | N17: 4.7723958 | O17: 8.5898086 | P17: #DIV/0! | Q17: 6.2055176
A18: =A17+1 -> 2011 | B18: 14.319326 | C18: 14.519942 | D18: 13.817345 | E18: 2.6835202 | F18: -5.7038801 | G18: 31.458918 | H18: 9.2017368 | I18: 9.2595819 | J18: 9.3956406 | K18: 12.527051 | L18: 6.3436023 | M18: 14.068853 | N18: 5.902382 | O18: 6.2310133 | P18: 50 | Q18: 8.0802393
A19: =A18+1 -> 2012 | B19: -6.4382606 | C19: -6.4988867 | D19: -6.2856255 | E19: 7.1848047 | F19: -0.18178055 | G19: 29.600685 | H19: 8.3744721 | I19: 7.909914 | J19: 5.6542866 | K19: 13.634912 | L19: 5.7807803 | M19: 5.5801387 | N19: 8.589211 | Q19: 6.4036842
A20: 2013 | B20: 5.6011552 | C20: 4.7127265 | D20: 7.8328154 | E20: 7.1282184 | F20: 3.379103 | G20: 9.2189045 | H20: 14.696857 | I20: 7.6497008 | J20: 6.7994819 | K20: 13.103685 | L20: 4.5067841 | M20: 2.3650536 | N20: 10.317828 | Q20: 7.3588924
A21: 2014 | B21: 8.5179998 | C21: 13.160796 | D21: -2.8068807 | E21: 12.586318 | F21: 16.523886 | G21: 6.1857455 | H21: 9.7310474 | I21: 5.2898871 | J21: 4.564822 | K21: 7.1390096 | L21: 4.341089 | M21: 1.4173531 | N21: 9.0513535 | Q21: 7.2723677
B22: -1.9610918 | C22: -0.13468774 | D22: -7.148033 | E22: 5.7257319 | F22: 3.8056737 | G22: 9.8922744 | H22: 6.4887108 | I22: 6.3508422 | J22: 9.1843986 | K22: 4.1296628 | L22: 5.5228596 | M22: 9.0669601 | N22: 5.5407639 | Q22: 5.5188932
A23: =A21+1 -> 2015 | B23: 13.647728 | C23: 15.483583 | D23: 8.0401359 | E23: 2.236047 | F23: 3.0372801 | G23: 3.7511726 | H23: -1.2181535 | I23: 5.7726516 | J23: 8.8841567 | K23: 3.8964283 | L23: 4.6286683 | M23: 2.0491383 | N23: 9.9521489 | Q23: 5.491316
A24: Average Year on Year Growth Rate | B24: =AVERAGE(B3:B23) -> 9.0107768 | C24: =AVERAGE(C3:C23) -> 8.5182734 | D24: =AVERAGE(D3:D23) -> 11.981196 | E24: =AVERAGE(E3:E23) -> 8.0272481 | F24: =AVERAGE(F3:F23) -> 6.5486082 | G24: =AVERAGE(G3:G23) -> 11.719765 | H24: =AVERAGE(H3:H23) -> 12.629629 | I24: =AVERAGE(I3:I23) -> 11.087513 | ... Q24: =AVERAGE(Q3:Q23) -> 9.882271

Sheet Growth Rates Annualised
A1: Annualised Quarterly Rates per Sector
B2: Primary Industries | C2: Agriculture, forestry and fishing | D2: Mining and quarrying | E2: Secondary Industries | F2: Manufacturing | G2: Electricity, gas and water | H2: Construction | I2: Tertiary industries | J2: Wholesale & retail trade; hotels & restaurants | K2: Transport , storage and communication | L2: Finance, real estate and business services | M2: Personal services | N2: General government services | O2: All industries at basic prices | P2: Taxes less subsidies on products | Q2: Annual Gross Operating Surplus
A3: 1996q1 | B3: 0.19693662 | C3: -2.4964777 | D3: 14.177604 | E3: 12.066992 | F3: 12.615596 | G3: -1.4476956 | H3: 23.697394 | I3: 15.081532 | J3: 10.168762 | K3: 25.827629 | L3: 12.572544 | M3: 13.938759 | N3: 11.117798 | O3: 14.06282 | Q3: 12.701453
A4: 1996q2 | B4: 60.219677 | C4: 65.789021 | D4: 21.352676 | E4: 9.6197982 | F4: 9.584932 | G4: -0.39237282 | H4: 20.561685 | I4: 14.25333 | J4: 11.52415 | K4: 17.065828 | L4: 14.820202 | M4: 14.557057 | N4: 12.141934 | O4: 20.542689 | Q4: 18.530335
A5: 1996q3 | B5: 7.8349973 | C5: 6.3384967 | D5: 18.009348 | E5: 5.3672017 | F5: 5.1666667 | G5: 0.68824902 | H5: 12.941815 | I5: 13.267309 | J5: 9.9945697 | K5: 14.478565 | L5: 14.660013 | M5: 13.973139 | N5: 13.830646 | O5: 10.947332 | Q5: 9.7523482
A6: 1996q4 | B6: 2.2978668 | C6: -0.56296195 | D6: 20.823349 | E6: 9.9103985 | F6: 11.001483 | G6: -2.6565151 | H6: 17.395677 | I6: 13.167096 | J6: 12.270549 | K6: 12.388268 | L6: 14.24081 | M6: 14.07866 | N6: 14.26102 | O6: 11.767456 | Q6: 11.049234
A7: 1997q1 | B7: 23.156239 | C7: 27.5938 | D7: 3.4860568 | E7: 12.548498 | F7: 13.569713 | G7: 0.84505487 | H7: 17.393395 | I7: 9.9538849 | J7: 7.7640343 | K7: 7.6520608 | L7: 13.980051 | M7: 10.244132 | N7: 8.3086052 | O7: 12.184746 | Q7: 11.903458
A8: 1997q2 | B8: 4.7964866 | C8: 5.711683 | D8: -3.9291618 | E8: 14.182539 | F8: 14.85054 | G8: 8.77479 | H8: 15.230725 | I8: 13.707407 | J8: 11.11594 | K8: 16.088038 | L8: 16.667975 | M8: 9.9419224 | N8: 6.7573777 | O8: 12.507062 | Q8: 12.310413
A9: 1997q3 | B9: -1.5305779 | C9: -1.1847025 | D9: -3.6495423 | E9: 13.322193 | F9: 12.573488 | G9: 3.897234 | H9: 29.541765 | I9: 13.234618 | J9: 7.7803354 | K9: 15.236188 | L9: 18.070937 | M9: 9.761046 | N9: 8.3947213 | O9: 11.477097 | Q9: 11.493874
A10: 1997q4 | B10: -9.4080497 | C10: -10.356365 | D10: -4.3541356 | E10: 10.980568 | F10: 9.1803314 | G10: 8.2263808 | H10: 27.332676 | I10: 9.7638403 | J10: 1.2390616 | K10: 10.245056 | L10: 18.666123 | M10: 9.501083 | N10: 6.8199009 | O10: 8.5428216 | Q10: 8.5036875
A11: 1998q1 | B11: 16.980522 | C11: 20.798641 | D11: -3.8865426 | E11: 2.1810494 | F11: 2.7857306 | G11: 5.2510002 | H11: -3.1909773 | I11: 9.2292592 | J11: 3.274076 | K11: 8.9442815 | L11: 11.753461 | M11: 16.233284 | N11: 12.051918 | O11: 7.4699998 | Q11: 7.3642188
A12: 1998q2 | B12: 4.5573067 | C12: 3.5086414 | D12: 15.558802 | E12: -3.0162111 | F12: -4.0338532 | G12: 5.4520566 | H12: -4.4154663 | I12: 11.086998 | J12: 8.8211167 | K12: 11.689421 | L12: 10.804465 | M12: 13.283213 | N12: 15.000929 | O12: 5.3060074 | Q12: 5.2966164
A13: 1998q3 | B13: 11.052573 | C13: 8.5122196 | D13: 27.013878 | E13: -2.9864254 | F13: -3.3034577 | G13: 1.784931 | H13: -5.3819418 | I13: 6.7163723 | J13: 2.2708935 | K13: 8.3342451 | L13: 4.0082903 | M13: 13.353814 | N13: 19.137364 | O13: 3.6007019 | Q13: 3.7580452
A14: 1998q4 | B14: -14.445105 | C14: -24.384785 | D14: 35.202766 | E14: -7.4719886 | F14: -8.6341418 | G14: 3.275463 | H14: -9.7387708 | I14: 7.4338019 | J14: -3.8159482 | K14: 13.964487 | L14: 7.2514015 | M14: 11.997791 | N14: 19.406255 | O14: 0.53740028 | Q14: 0.78131812
... A70: 2012q4 | B70: -17.668741 | C70: -20.113755 | D70: -15.265957 | E70: 4.3926582 | F70: -2.9880314 | G70: 32.212972 | H70: 5.7247928 | I70: 7.3088756 | J70: 3.961259 | K70: 11.432133 | L70: 8.5794002 | M70: 1.6090182 | N70: 7.4002738 | O70: 7.1196793 | Q70: 5.3121049
A71: 2013q1 | B71: 11.044695 | C71: 11.641908 | D71: 9.9736943 | E71: -2.2137221 | F71: -9.0977321 | G71: 9.1852653 | H71: 6.3887858 | I71: 9.3245032 | J71: 8.8654901 | K71: 14.776838 | L71: 6.2702599 | M71: 5.9682899 | N71: 8.7611235 | Q71: 6.4441833
A72: 2013q2 | B72: 9.1611534 | C72: 11.355667 | D72: -1.5267862 | E72: 5.3452092 | F72: 0.10381299 | G72: 9.7800233 | H72: 12.22033 | I72: 7.8272591 | J72: 5.9542562 | K72: 10.809636 | L72: 7.9268949 | M72: 1.6167948 | N72: 10.030741 | Q72: 7.4107037
A73: 2013q3 | B73: -1.0456933 | C73: -5.3251878 | D73: 8.6814576 | E73: 10.457944 | F73: 7.3757628 | G73: 9.0761578 | H73: 20.670181 | I73: 8.0110221 | J73: 8.6089798 | K73: 13.036092 | L73: 4.1483818 | M73: 1.0938871 | N73: 11.212697 | Q73: 7.8540303
A74: 2013q4 | B74: -0.27187464 | C74: -16.664871 | D74: 14.916307 | E74: 16.717639 | F74: 18.057333 | G74: 8.4772297 | H74: 20.223923 | I74: 5.6945185 | J74: 4.3470236 | K74: 13.895311 | L74: 0.022947772 | M74: 1.3620083 | N74: 11.180807 | Q74: 7.6644726
A75: 2014q1 | B75: 9.081044 | C75: 11.165044 | D75: 5.2870459 | E75: 19.478371 | F75: 21.503086 | G75: 8.7143581 | H75: 25.180951 | I75: 7.2854814 | J75: 8.5740534 | K75: 6.4703505 | L75: 6.9965822 | M75: 3.0131667 | N75: 11.363314 | Q75: 10.303077
A76: 2014q2 | B76: 5.1035423 | C76: 6.3029375 | D76: -1.5020562 | E76: 14.637882 | F76: 19.299136 | G76: 7.6130471 | H76: 13.273083 | I76: 4.1951728 | J76: 6.1099108 | K76: 8.1206336 | L76: -1.6938379 | M76: 2.8528552 | N76: 9.8030216 | Q76: 6.7614726
A77: 2014q3 | B77: 17.977524 | C77: 30.790308 | D77: -7.392196 | E77: 9.493937 | F77: 14.869002 | G77: 3.5659595 | H77: 2.2635306 | I77: 5.0104338 | J77: 2.7291617 | K77: 6.7517784 | L77: 5.6744928 | M77: 0.67660295 | N77: 8.2900223 | Q77: 7.1383364
A78: 2014q4 | B78: 1.4283512 | C78: 12.149873 | D78: -5.7752607 | E78: 6.812449 | F78: 10.887128 | G78: 3.8249181 | H78: -0.73163779 | I78: 4.8775831 | J78: 1.7023075 | K78: 7.2626586 | L78: 6.4790626 | M78: -0.49067124 | N78: 6.9998953 | Q78: 5.1621126
A79: 2015q1 | B79: 14.598879 | C79: 27.034744 | D79: -9.3050184 | E79: 7.188476 | F79: 6.5902116 | G79: 12.350864 | H79: 4.175748 | I79: 6.0779521 | J79: 5.3508899 | K79: 7.2428639 | L79: 4.9501211 | M79: 11.204482 | N79: 4.7948363 | O79: 7.1196793 | Q79: 6.9134697
A80: 2015q2 | B80: -3.1730396 | C80: -3.3045072 | D80: -2.3916154 | E80: 5.8267925 | F80: 3.8310399 | G80: 8.1159949 | H80: 7.6265037 | I80: 6.9482317 | J80: 10.722269 | K80: 3.8961305 | L80: 7.3041748 | M80: 6.4481324 | N80: 3.9139939 | Q80: 5.3311856
A81: 2015q3 | B81: -15.100441 | C81: -16.587392 | D81: -10.942321 | E81: 6.6971134 | F81: 5.9046633 | G81: 9.2537452 | H81: 6.2256684 | I81: 6.2187575 | J81: 9.475252 | K81: 1.9674657 | L81: 6.8365934 | M81: 9.1768319 | N81: 6.4469654 | Q81: 4.5360668
A82: 2015q4 | B82: 8.3173804 | C82: 25.696093 | D82: -5.580396 | E82: 2.7919339 | F82: -1.6974513 | G82: 11.410117 | H82: 8.11807 | I82: 6.0819159 | J82: 10.749394 | K82: 3.763216 | L82: 3.0424756 | M82: 9.556809 | N82: 6.9907669 | Q82: 5.4361132
A83: 2016q1 | B83: 18.990432 | C83: 28.03912 | D83: -5.3718259 | E83: 0.044690352 | F83: -0.61536732 | G83: 2.4057973 | H83: -0.54537759 | I83: 5.3721135 | J83: 9.1950961 | K83: 2.8137258 | L83: 3.7646108 | M83: 3.998694 | N83: 9.8844428 | Q83: 4.9369534
A84: 2016q2 | B84: 1.6065333 | C84: -0.32247183 | D84: 12.96502 | E84: 5.8743616 | F84: 9.2845981 | G84: 4.2497192 | H84: 0.48079459 | I84: 6.1847666 | J84: 10.233678 | K84: 2.6743545 | L84: 5.4681114 | M84: 1.5099044 | N84: 12.222438 | Q84: 5.5511942
A85: 2016q3 | B85: 25.587929 | C85: 32.319572 | D85: 7.9567427 | E85: 2.4279325 | F85: 3.3000761 | G85: 4.0191892 | H85: -1.724833 | I85: 5.7541129 | J85: 8.639398 | K85: 5.2992039 | L85: 3.8964765 | M85: 1.3318613 | N85: 9.4190219 | Q85: 6.2438787
A86: 2016q4 | B86: 24.848024 | C86: 31.216889 | D86: 18.067717 | E86: -0.1614417 | F86: 0.23539225 | G86: 1.984996 | H86: -2.8427222 | I86: 6.1696617 | J86: 8.3743557 | K86: 4.8736861 | L86: 5.6948246 | M86: 1.9624801 | N86: 8.5231736 | O86: 1.5756491 | Q86: 5.5455867
A87: Average Year on Year Growth Rate | B87: =AVERAGE(B3:B86) -> 9.4769389 | C87: =AVERAGE(C3:C86) -> 9.5029249 | D87: =AVERAGE(D3:D86) -> 12.302885 | E87: =AVERAGE(E3:E86) -> 8.0743236 | F87: =AVERAGE(F3:F86) -> 6.6460252 | G87: =AVERAGE(G3:G86) -> 11.748379 | H87: =AVERAGE(H3:H86) -> 12.785351 | I87: =AVERAGE(I3:I86) -> 11.1117 | ... Q87: =AVERAGE(Q3:Q86) -> 9.9194478

Sheet Prov Contributions
A1: Yearly Provincial Contribution Rates per Sector
B2: Primary Industries | C2: Agriculture, forestry and fishing | D2: Mining and quarrying | E2: Secondary Industries | F2: Manufacturing | G2: Electricity, gas and water | H2: Construction | I2: Tertiary industries | J2: Wholesale & retail trade; hotels & restaurants | K2: Transport , storage and communication | L2: Finance, real estate and business services | M2: Personal services | N2: General government services
A3: 1996 | B3: 11.616746 | C3: 10.077188 | D3: 1.5395583 | E3: 34.087277 | F3: 25.912115 | G3: 4.0456577 | H3: 4.1295044 | I3: 54.295977 | J3: 14.314616 | K3: 14.284014 | L3: 17.048644 | M3: 3.7168723 | N3: 4.9318299
A4: =A3+1 -> 1997 | B4: 10.80035 | C4: 9.4468674 | D4: 1.3534823 | E4: 34.618559 | F4: 26.253911 | G4: 3.8385223 | H4: 4.5261256 | I4: 54.581092 | J4: 13.743031 | K4: 14.442426 | L4: 17.942149 | M4: 3.6767277 | N4: 4.7767575
A5: =A4+1 -> 1998 | B5: 10.913566 | C5: 9.3728946 | D5: 1.5406717 | E5: 32.259439 | F5: 24.33224 | G5: 3.8253247 | H5: 4.1018737 | I5: 56.826995 | J5: 13.492728 | K5: 15.342158 | L5: 18.64689 | M5: 4.0081737 | N5: 5.3370459
A6: =A5+1 -> 1999 | B6: 9.5891135 | C6: 8.0169 | D6: 1.5722135 | E6: 30.841322 | F6: 23.686672 | G6: 3.4583416 | H6: 3.6963083 | I6: 59.569565 | J6: 13.517741 | K6: 15.998694 | L6: 20.452549 | M6: 4.2232651 | N6: 5.3773154
A7: =A6+1 -> 2000 | B7: 8.8724635 | C7: 7.0548355 | D7: 1.817628 | E7: 31.856237 | F7: 25.2131 | G7: 3.2734505 | H7: 3.3696861 | I7: 59.2713 | J7: 14.568518 | K7: 16.231261 | L7: 18.857524 | M7: 4.3445498 | N7: 5.2694468
A8: =A7+1 -> 2001 | B8: 10.024293 | C8: 7.9384926 | D8: 2.0858004 | E8: 32.137509 | F8: 25.295149 | G8: 2.9562376 | H8: 3.8861225 | I8: 57.838198 | J8: 14.937499 | K8: 15.741208 | L8: 17.818201 | M8: 4.1107295 | N8: 5.2305602
A9: =A8+1 -> 2002 | B9: 10.330515 | C9: 8.1281588 | D9: 2.2023562 | E9: 31.196037 | F9: 25.728548 | G9: 2.8290491 | H9: 2.6384403 | I9: 58.473448 | J9: 14.939569 | K9: 15.350005 | L9: 18.975719 | M9: 4.1420883 | N9: 5.0660663
A10: =A9+1 -> 2003 | B10: 8.9142033 | C10: 7.1193893 | D10: 1.794814 | E10: 30.244406 | F10: 25.41774 | G10: 2.2320025 | H10: 2.5946641 | I10: 60.84139 | J10: 15.196233 | K10: 17.128719 | L10: 19.480172 | M10: 4.3738765 | N10: 4.6623894
A11: =A10+1 -> 2004 | B11: 8.3020258 | C11: 6.5891898 | D11: 1.712836 | E11: 30.315385 | F11: 25.006118 | G11: 2.2793478 | H11: 3.0299195 | I11: 61.382589 | J11: 15.444311 | K11: 17.669036 | L11: 19.569123 | M11: 4.3511894 | N11: 4.3489297
A12: =A11+1 -> 2005 | B12: 7.0742857 | C12: 5.3121617 | D12: 1.762124 | E12: 30.047621 | F12: 24.459049 | G12: 2.0931336 | H12: 3.4954375 | I12: 62.878094 | J12: 15.048642 | K12: 18.063892 | L12: 21.11416 | M12: 4.3644293 | N12: 4.2869701
A13: =A12+1 -> 2006 | B13: 7.6776154 | C13: 5.7027614 | D13: 1.974854 | E13: 26.041785 | F13: 20.521706 | G13: 2.0211961 | H13: 3.4988828 | I13: 66.2806 | J13: 15.055191 | K13: 21.097244 | L13: 21.223979 | M13: 4.6224666 | N13: 4.2817195
A14: =A13+1 -> 2007 | B14: 9.0280201 | C14: 6.9202937 | D14: 2.1077264 | E14: 25.347876 | F14: 19.557159 | G14: 1.8341504 | H14: 3.9565663 | I14: 65.624104 | J14: 14.936478 | K14: 19.718248 | L14: 22.54806 | M14: 4.2463982 | N14: 4.1749192
A15: =A14+1 -> 2008 | B15: 10.170314 | C15: 7.7907324 | D15: 2.3795818 | E15: 26.884077 | F15: 19.217767 | G15: 1.8257893 | H15: 5.8405213 | I15: 62.945608 | J15: 15.582061 | K15: 18.281192 | L15: 20.774401 | M15: 3.9447971 | N15: 4.363157
... A17: =A16+1 -> 2010 | B17: 8.805249 | C17: 6.2910447 | D17: 2.5142043 | E17: 24.715057 | F17: 16.176469 | G17: 3.595341 | H17: 4.9432472 | I17: 66.478683 | J17: 18.50578 | K17: 16.457731 | L17: 22.333161 | M17: 4.8559384 | N17: 4.3260724
A18: 2011 | B18: 9.3135446 | C18: 6.6658816 | D18: 2.6476631 | E18: 23.480972 | F18: 14.113387 | G18: 4.373044 | H18: 4.9945409 | I18: 67.204081 | J18: 18.731007 | K18: 17.134862 | L18: 21.974311 | M18: 5.1250008 | N18: 4.2389004
A19: 2012 | B19: 8.1894855 | C19: 5.857573 | D19: 2.3319126 | E19: 23.653349 | F19: 13.239891 | G19: 5.3264085 | H19: 5.0870488 | I19: 68.155408 | J19: 18.599085 | K19: 18.299353 | L19: 21.84567 | M19: 5.0853343 | N19: 4.3259672
A20: 2013 | B20: 8.0554029 | C20: 5.7131964 | D20: 2.3422065 | E20: 23.602526 | F20: 12.749089 | G20: 5.4186895 | H20: 5.4347478 | I20: 68.340024 | J20: 18.502171 | K20: 19.278554 | L20: 21.265315 | M20: 4.848788 | N20: 4.4451959
A21: 2014 | B21: 8.1489411 | C21: 6.026807 | D21: 2.1221342 | E21: 24.771725 | F21: 13.848612 | G21: 5.3638006 | H21: 5.5593121 | I21: 67.077045 | J21: 18.035178 | K21: 19.254587 | L21: 20.684228 | M21: 4.5841372 | N21: 4.5189142
A22: 2015 | B22: 7.571282 | C22: 5.7038976 | D22: 1.8673844 | E22: 24.820282 | F22: 13.623764 | G22: 5.586111 | H22: 5.6104074 | I22: 67.605905 | J22: 18.661682 | K22: 19.001087 | L22: 20.685006 | M22: 4.7382785 | N22: 4.5198508
A23: 2016 | B23: 8.1566808 | C23: 6.2441778 | D23: 1.912503 | E23: 24.054374 | F23: 13.306835 | G23: 5.4939647 | H23: 5.2535737 | I23: 67.786204 | J23: 19.261885 | K23: 18.713816 | L23: 20.515856 | M23: 4.5836687 | N23: 4.7109784
A24: Average Yearly Contributions | B24: =AVERAGE(B3:B23) -> 9.0933102 | C24: =AVERAGE(C3:C23) -> 7.099875 | D24: =AVERAGE(D3:D23) -> 1.9934352 | E24: =AVERAGE(E3:E23) -> 28.13226 | F24: =AVERAGE(F3:F23) -> 20.246129 | G24: =AVERAGE(G3:G23) -> 3.5471699 | H24: =AVERAGE(H3:H23) -> 4.3389613 | I24: =AVERAGE(I3:I23) -> 62.773748 | ... N24: =AVERAGE(N3:N23) -> 4.6465825
I26: \

Sheet National Contributions
A1: Yearly Provincial Sector as a % of National Sector GOS
B2: Primary Industries | C2: Agriculture, forestry and fishing | D2: Mining and quarrying | E2: Secondary Industries | F2: Manufacturing | G2: Electricity, gas and water | H2: Construction | I2: Tertiary industries | J2: Wholesale & retail trade; hotels & restaurants | K2: Transport , storage and communication | L2: Finance, real estate and business services | M2: Personal services | N2: General government services
A3: 1995 | B3: 14.863547 | C3: 28.484108 | D3: 3.6510194 | E3: 20.004246 | F3: 20.531588 | G3: 15.649942 | H3: 23.584052 | I3: 16.017223 | J3: 15.423484 | K3: 22.188343 | L3: 13.604192 | M3: 16.535269 | N3: 14.829542
A4: =A3+1 -> 1996 | B4: 14.691277 | C4: 26.516077 | D4: 3.7487716 | E4: 20.043706 | F4: 20.602049 | G4: 15.492886 | H4: 22.717944 | I4: 15.982774 | J4: 15.207384 | K4: 21.867725 | L4: 13.625597 | M4: 16.533574 | N4: 15.099043
A5: =A4+1 -> 1997 | B5: 14.912326 | C5: 26.162531 | D5: 3.7268282 | E5: 20.141858 | F5: 20.592216 | G5: 15.424888 | H5: 23.217908 | I5: 15.829874 | J5: 15.230743 | K5: 21.470903 | L5: 13.553629 | M5: 16.527701 | N5: 14.618569
A6: =A5+1 -> 1998 | B6: 14.483538 | C6: 27.989526 | D6: 3.6801503 | E6: 19.920232 | F6: 20.540598 | G6: 15.455909 | H6: 21.895444 | I6: 15.908636 | J6: 15.167734 | K6: 21.314974 | L6: 13.663784 | M6: 16.528262 | N6: 15.011303
A7: =A6+1 -> 1999 | B7: 12.528834 | C7: 25.552196 | D7: 3.4812939 | E7: 20.014306 | F7: 20.753178 | G7: 15.506313 | H7: 20.932261 | I7: 15.834087 | J7: 15.126971 | K7: 20.9908 | L7: 13.797945 | M7: 16.494046 | N7: 14.61319
A8: =A7+1 -> 2000 | B8: 11.093916 | C8: 25.255943 | D8: 3.4925793 | E8: 20.181407 | F8: 20.85872 | G8: 15.735791 | H8: 20.837487 | I8: 15.730369 | J8: 15.182907 | K8: 20.621755 | L8: 13.475836 | M8: 16.476538 | N8: 14.707373
A9: =A8+1 -> 2001 | B9: 11.191069 | C9: 26.134989 | D9: 3.5233661 | E9: 20.67443 | F9: 20.820557 | G9: 16.132189 | H9: 24.864223 | I9: 15.783627 | J9: 16.063728 | K9: 20.421254 | L9: 13.051385 | M9: 16.480987 | N9: 14.984228
A10: =A9+1 -> 2002 | B10: 10.90879 | C10: 25.57406 | D10: 3.5004613 | E10: 20.130913 | F10: 20.789989 | G10: 16.218726 | H10: 19.163257 | I10: 15.637471 | J10: 16.087176 | K10: 20.48779 | L10: 12.90107 | M10: 16.472379 | N10: 14.939507
A11: =A10+1 -> 2003 | B11: 11.647612 | C11: 26.908553 | D11: 3.5842707 | E11: 20.256909 | F11: 20.917481 | G11: 15.917855 | H11: 18.845883 | I11: 15.821083 | J11: 16.213031 | K11: 20.611702 | L11: 13.005614 | M11: 16.465876 | N11: 14.856677
A12: =A11+1 -> 2004 | B12: 11.505875 | C12: 26.787345 | D12: 3.6016847 | E12: 20.219268 | F12: 20.877356 | G12: 16.072764 | H12: 18.966101 | I12: 15.845938 | J12: 16.219025 | K12: 20.531451 | L12: 13.026333 | M12: 16.465285 | N12: 14.774464
A13: =A12+1 -> 2005 | B13: 9.4997858 | C13: 24.433353 | D13: 3.342014 | E13: 20.27182 | F13: 20.870402 | G13: 16.250491 | H13: 19.260466 | I13: 16.073375 | J13: 16.13143 | K13: 20.652592 | L13: 13.635085 | M13: 16.39069 | N13: 14.80221
A14: =A13+1 -> 2006 | B14: 9.289025 | C14: 26.064321 | D14: 3.2495596 | E14: 20.075079 | F14: 20.791574 | G14: 16.293038 | H14: 18.796396 | I14: 16.140725 | J14: 16.198449 | K14: 20.669165 | L14: 13.388254 | M14: 16.419302 | N14: 14.790436
A15: =A14+1 -> 2007 | B15: 10.162212 | C15: 26.660137 | D15: 3.3518934 | E15: 20.056139 | F15: 20.805721 | G15: 16.280177 | H15: 18.734172 | I15: 16.051543 | J15: 16.273968 | K15: 20.821456 | L15: 13.396457 | M15: 16.403252 | N15: 14.831243
... A18: =A17+1 -> 2010 | B18: 9.1686872 | C18: 27.000808 | D18: 3.4565864 | E18: 19.562353 | F18: 20.92156 | G18: 15.519518 | H18: 19.120066 | I18: 16.043398 | J18: 16.457494 | K18: 21.03568 | L18: 13.50698 | M18: 16.530521 | N18: 14.936146
A19: 2011 | B19: 9.3483365 | C19: 29.095245 | D19: 3.4511954 | E19: 19.257873 | F19: 20.89447 | G19: 15.462636 | H19: 19.134847 | I19: 16.131129 | J19: 16.60343 | K19: 20.985981 | L19: 13.511602 | M19: 16.574026 | N19: 14.824858
A20: 2012 | B20: 9.0168433 | C20: 27.116949 | D20: 3.3686885 | E20: 19.087049 | F20: 20.840765 | G20: 15.897248 | H20: 18.918342 | I20: 16.088361 | J20: 16.367635 | K20: 20.884398 | L20: 13.456618 | M20: 16.465272 | N20: 14.840537
A21: 2013 | B21: 8.9450175 | C21: 27.292387 | D21: 3.3885433 | E21: 19.022934 | F21: 20.848963 | G21: 15.831283 | H21: 18.938666 | I21: 16.18414 | J21: 16.395832 | K21: 20.920271 | L21: 13.468012 | M21: 16.472934 | N21: 14.848887
A22: 2014 | B22: 9.6424061 | C22: 27.397762 | D22: 3.3946516 | E22: 19.092769 | F22: 20.85617 | G22: 15.756467 | H22: 18.972749 | I22: 16.221467 | J22: 16.416143 | K22: 20.93674 | L22: 13.479937 | M22: 16.484548 | N22: 14.851827
A23: 2015 | B23: 10.01933 | C23: 27.440338 | D23: 3.4088667 | E23: 19.034153 | F23: 20.867206 | G23: 15.695748 | H23: 19.004938 | I23: 16.225914 | J23: 16.447565 | K23: 20.94848 | L23: 13.488416 | M23: 16.503211 | N23: 14.85657
A24: 2016 | B24: 10.361547 | C24: 27.557248 | D24: 3.411422 | E24: 19.031593 | F24: 20.871522 | G24: 15.693817 | H24: 19.014935 | I24: 16.215437 | J24: 16.448016 | K24: 20.951925 | L24: 13.485261 | M24: 16.505085 | N24: 14.859804
A25: Average Yearly Contributions | B25: =AVERAGE(B3:B24) -> 11.064132 | C25: =AVERAGE(C3:C24) -> 26.786594 | D25: =AVERAGE(D3:D24) -> 3.4780338 | E25: =AVERAGE(E3:E24) -> 19.805973 | F25: =AVERAGE(F3:F24) -> 20.794698 | G25: =AVERAGE(G3:G24) -> 15.823446 | H25: =AVERAGE(H3:H24) -> 20.120214 | I25: =AVERAGE(I3:I24) -> 15.994546 | ... N25: =AVERAGE(N3:N24) -> 14.842589

Sheet GOS Durban
D1: Ethekwini Municipal Area GOS
D2: SA Quarterly GOS | E2: KZN Quarterly GOS | F2: SA Fuel Consumption | G2: KZN Fuel Consumption | H2: SA KZN GDP Ratio | I2: SA KZN Fuel Ratio | J2: SA Usage | K2: KZN Usage | L2: Durban Fuel Usage | M2: Durban Quarterly GOS | N2: Durban Quarterly Rate | O2: Durban Annual Rate
A3: 2001q1 | B3: 18047.007 | C3: 111327.44 | D3: =C3*1000000 -> 1.1132744e+11 | E3: =B3*1000000 -> 1.8047007e+10
A4: 2001q2 | B4: 19989.577 | C4: 121082.6 | D4: =C4*1000000 -> 1.210826e+11 | E4: =B4*1000000 -> 1.9989577e+10
A5: 2001q3 | B5: 20028.729 | C5: 122075.77 | D5: =C5*1000000 -> 1.2207577e+11 | E5: =B5*1000000 -> 2.0028729e+10
A6: 2001q4 | B6: 19729.737 | C6: 121202.92 | D6: =C6*1000000 -> 1.2120292e+11 | E6: =B6*1000000 -> 1.9729737e+10
A7: 2002q1 | B7: 20813.25 | C7: 131113.27 | D7: =C7*1000000 -> 1.3111327e+11 | E7: =B7*1000000 -> 2.081325e+10 | F7: 4118958622 | G7: 674878797 | H7: =E7/D7*100 -> 15.874251 | I7: =G7/F7*100 -> 16.384695 | J7: =D7/F7 -> 31.831654 | K7: =E7/G7 -> 30.839982 | M7: =E7*$L$26 -> 1.1912154e+10
A8: 2002q2 | B8: 23838.801 | C8: 146758.64 | D8: =C8*1000000 -> 1.4675864e+11 | E8: =B8*1000000 -> 2.3838801e+10 | F8: 4128329079 | G8: 697677279 | H8: =E8/D8*100 -> 16.243542 | I8: =G8/F8*100 -> 16.89975 | J8: =D8/F8 -> 35.549161 | K8: =E8/G8 -> 34.168807 | M8: =E8*$L$26 -> 1.3643783e+10 | N8: =(M8-M7)/M7*100 -> 14.536658
A9: 2002q3 | B9: 24303.028 | C9: 151565.57 | D9: =C9*1000000 -> 1.5156557e+11 | E9: =B9*1000000 -> 2.4303028e+10 | F9: 4479766142 | G9: 748604188 | H9: =E9/D9*100 -> 16.034662 | I9: =G9/F9*100 -> 16.710787 | J9: =D9/F9 -> 33.833368 | K9: =E9/G9 -> 32.464456 | M9: =E9*$L$26 -> 1.3909477e+10 | N9: =(M9-M8)/M8*100 -> 1.9473609
A10: 2002q4 | B10: 23980.813 | C10: 150107.42 | D10: =C10*1000000 -> 1.5010742e+11 | E10: =B10*1000000 -> 2.3980813e+10 | F10: 4393645140 | G10: 741841930 | H10: =E10/D10*100 -> 15.975767 | I10: =G10/F10*100 -> 16.88443 | J10: =D10/F10 -> 34.164667 | K10: =E10/G10 -> 32.326041 | M10: =E10*$L$26 -> 1.3725061e+10 | N10: =(M10-M9)/M9*100 -> -1.3258242
A11: 2003q1 | B11: 24244.054 | C11: 149755.01 | D11: =C11*1000000 -> 149755012000 | E11: =B11*1000000 -> 2.4244054e+10 | F11: 4.3245102e+09 | G11: 7.3345414e+08 | H11: =E11/D11*100 -> 16.189143 | I11: =G11/F11*100 -> 16.960398 | J11: =D11/F11 -> 34.629358 | K11: =E11/G11 -> 33.054628 | M11: =E11*$L$26 -> 1.3875723e+10 | N11: =(M11-M10)/M10*100 -> 1.0977154 | O11: =(M11-M7)/M7*100 -> 16.48375 | R11: Yearly Growth Rate %
A12: 2003q2 | B12: 26378.384 | C12: 158630.93 | D12: =C12*1000000 -> 1.5863093e+11 | E12: =B12*1000000 -> 2.6378384e+10 | F12: 4.3448327e+09 | G12: 7.3310499e+08 | H12: =E12/D12*100 -> 16.628777 | I12: =G12/F12*100 -> 16.873032 | J12: =D12/F12 -> 36.510251 | K12: =E12/G12 -> 35.981727 | M12: =E12*$L$26 -> 1.5097276e+10 | N12: =(M12-M11)/M11*100 -> 8.8035208 | O12: =(M12-M8)/M8*100 -> 10.653151 | R12: 2001
A13: 2003q3 | B13: 26265.909 | C13: 160430.74 | D13: =C13*1000000 -> 160430738000 | E13: =B13*1000000 -> 2.6265909e+10 | F13: 4.469508e+09 | G13: 7.5596579e+08 | H13: =E13/D13*100 -> 16.372117 | I13: =G13/F13*100 -> 16.913848 | J13: =D13/F13 -> 35.894497 | K13: =E13/G13 -> 34.744838 | M13: =E13*$L$26 -> 1.5032902e+10 | N13: =(M13-M12)/M12*100 -> -0.42639176 | O13: =(M13-M9)/M9*100 -> 8.0766919 | R13: =R12+1 -> 2002 | S13: =SUM(M7:M10) -> 5.3190474e+10
A14: 2003q4 | B14: 25299.339 | C14: 154932.42 | D14: =C14*1000000 -> 154932418000 | E14: =B14*1000000 -> 2.5299339e+10 | F14: 4.7924549e+09 | G14: 792421454 | H14: =E14/D14*100 -> 16.329274 | I14: =G14/F14*100 -> 16.534771 | J14: =D14/F14 -> 32.328404 | K14: =E14/G14 -> 31.926621 | M14: =E14*$L$26 -> 1.44797e+10 | N14: =(M14-M13)/M13*100 -> -3.6799388 | O14: =(M14-M10)/M10*100 -> 5.4982573 | R14: =R13+1 -> 2003 | S14: =SUM(M11:M14) -> 5.8485602e+10 | T14: =(S14-S13)/S13*100 -> 9.955029
A15: 2004q1 | B15: 26334.294 | C15: 161952.87 | D15: =C15*1000000 -> 161952871000 | E15: =B15*1000000 -> 2.6334294e+10 | F15: 4.4993406e+09 | G15: 7.3594163e+08 | H15: =E15/D15*100 -> 16.260468 | I15: =G15/F15*100 -> 16.356655 | J15: =D15/F15 -> 35.994802 | K15: =E15/G15 -> 35.783129 | M15: =E15*$L$26 -> 1.5072041e+10 | N15: =(M15-M14)/M14*100 -> 4.0908372 | O15: =(M15-M11)/M11*100 -> 8.6216625 | R15: =R14+1 -> 2004 | S15: =SUM(M15:M18) -> 6.4613483e+10 | T15: =(S15-S14)/S14*100 -> 10.47759
A16: 2004q2 | B16: 28589.935 | C16: 172153.28 | D16: =C16*1000000 -> 172153283000 | E16: =B16*1000000 -> 2.8589935e+10 | F16: 4.5436772e+09 | G16: 7.6518177e+08 | H16: =E16/D16*100 -> 16.607255 | I16: =G16/F16*100 -> 16.840584 | J16: =D16/F16 -> 37.888537 | K16: =E16/G16 -> 37.363586 | M16: =E16*$L$26 -> 1.6363024e+10 | N16: =(M16-M15)/M15*100 -> 8.5654109 | O16: =(M16-M12)/M12*100 -> 8.3839506 | R16: =R15+1 -> 2005 | S16: =SUM(M19:M22) -> 7.0944863e+10 | T16: =(S16-S15)/S15*100 -> 9.7988526
A17: 2004q3 | B17: 29683.853 | C17: 180297.17 | D17: =C17*1000000 -> 180297173000 | E17: =B17*1000000 -> 2.9683853e+10 | F17: 4.7754909e+09 | G17: 7.9366597e+08 | H17: =E17/D17*100 -> 16.463848 | I17: =G17/F17*100 -> 16.619568 | J17: =D17/F17 -> 37.754689 | K17: =E17/G17 -> 37.40094 | M17: =E17*$L$26 -> 1.6989112e+10 | N17: =(M17-M16)/M16*100 -> 3.826236 | O17: =(M17-M13)/M13*100 -> 13.012854 | R17: =R16+1 -> 2006 | S17: =SUM(M23:M26) -> 7.8456441e+10 | T17: =(S17-S16)/S16*100 -> 10.587909
A18: 2004q4 | B18: 28286.411 | C18: 173642.24 | D18: =C18*1000000 -> 1.7364224e+11 | E18: =B18*1000000 -> 2.8286411e+10 | F18: 4.830257e+09 | G18: 826240651 | H18: =E18/D18*100 -> 16.290052 | I18: =G18/F18*100 -> 17.105521 | J18: =D18/F18 -> 35.948862 | K18: =E18/G18 -> 34.235075 | L18: =L31/G31 -> 0.58440942 | M18: =E18*$L$26 -> 1.6189306e+10 | N18: =(M18-M17)/M17*100 -> -4.7077519 | O18: =(M18-M14)/M14*100 -> 11.806915 | R18: =R17+1 -> 2007 | S18: =SUM(M27:M30) -> 9.0518018e+10 | T18: =(S18-S17)/S17*100 -> 15.373597
A19: 2005q1 | B19: 28914.924 | C19: 176970.82 | D19: =C19*1000000 -> 176970820000 | E19: =B19*1000000 -> 2.8914924e+10 | F19: 4690209425 | G19: 774740717 | H19: =E19/D19*100 -> 16.338809 | I19: =G19/F19*100 -> 16.518254 | J19: =D19/F19 -> 37.731965 | K19: =E19/G19 -> 37.322066 | L19: =L32/G32 -> 0.58543455 | M19: =E19*$L$26 -> 1.6549027e+10 | N19: =(M19-M18)/M18*100 -> 2.2219616 | O19: =(M19-M15)/M15*100 -> 9.7995027 | R19: =R18+1 -> 2008 | S19: =SUM(M31:M34) -> 1.029658e+11 | T19: =(S19-S18)/S18*100 -> 13.751721
A20: 2005q2 | B20: 31156.569 | C20: 191605.23 | D20: =C20*1000000 -> 1.9160523e+11 | E20: =B20*1000000 -> 3.1156569e+10 | F20: 4760343407 | G20: 805551748 | H20: =E20/D20*100 -> 16.260813 | I20: =G20/F20*100 -> 16.922135 | J20: =D20/F20 -> 40.250296 | K20: =E20/G20 -> 38.677303 | L20: =L33/G33 -> 0.58087082 | M20: =E20*$L$26 -> 1.7831999e+10 | N20: =(M20-M19)/M19*100 -> 7.7525527 | O20: =(M20-M16)/M16*100 -> 8.9774046 | R20: =R19+1 -> 2009 | S20: =SUM(M35:M38) -> 1.0490377e+11 | T20: =(S20-S19)/S19*100 -> 1.8821462
A21: 2005q3 | B21: 32559.717 | C21: 199106.81 | D21: =C21*1000000 -> 1.9910681e+11 | E21: =B21*1000000 -> 3.2559717e+10 | F21: 4824982237 | G21: 802738840 | H21: =E21/D21*100 -> 16.35289 | I21: =G21/F21*100 -> 16.637136 | J21: =D21/F21 -> 41.265813 | K21: =E21/G21 -> 40.560785 | L21: =L34/G34 -> 0.5631147 | M21: =E21*$L$26 -> 1.863507e+10 | N21: =(M21-M20)/M20*100 -> 4.5035401 | O21: =(M21-M17)/M17*100 -> 9.688312 | R21: =R20+1 -> 2010 | S21: =SUM(M39:M42) -> 1.1306354e+11 | T21: =(S21-S20)/S20*100 -> 7.7783431
A22: 2005q4 | B22: 31325.648 | C22: 193270.35 | D22: =C22*1000000 -> 193270352000 | E22: =B22*1000000 -> 3.1325648e+10 | F22: 5011501336 | G22: 832010091 | H22: =E22/D22*100 -> 16.208201 | I22: =G22/F22*100 -> 16.602013 | J22: =D22/F22 -> 38.56536 | K22: =E22/G22 -> 37.650562 | L22: =L35/G35 -> 0.56498434 | M22: =E22*$L$26 -> 1.7928768e+10 | N22: =(M22-M21)/M21*100 -> -3.7901735 | O22: =(M22-M18)/M18*100 -> 10.744512 | R22: =R21+1 -> 2011 | S22: =SUM(M43:M46) -> 1.2207639e+11 | T22: =(S22-S21)/S21*100 -> 7.9714891
A23: 2006q1 | B23: 31409.573 | C23: 194138.95 | D23: =C23*1000000 -> 1.9413895e+11 | E23: =B23*1000000 -> 3.1409573e+10 | F23: 4675546289 | G23: 750919883 | H23: =E23/D23*100 -> 16.178914 | I23: =G23/F23*100 -> 16.060581 | J23: =D23/F23 -> 41.522195 | K23: =E23/G23 -> 41.828127 | L23: =L36/G36 -> 0.56386607 | M23: =E23*$L$26 -> 1.7976802e+10 | N23: =(M23-M22)/M22*100 -> 0.26791153 | O23: =(M23-M19)/M19*100 -> 8.6275466 | R23: =R22+1 -> 2012 | S23: =SUM(M47:M50) -> 1.2936219e+11 | T23: =(S23-S22)/S22*100 -> 5.9682303
A24: 2006q2 | B24: 33858.498 | C24: 209393.94 | D24: =C24*1000000 -> 209393937500 | E24: =B24*1000000 -> 3.3858498e+10 | F24: 4859349229 | G24: 811777848 | H24: =E24/D24*100 -> 16.16976 | I24: =G24/F24*100 -> 16.705485 | J24: =D24/F24 -> 43.090942 | K24: =E24/G24 -> 41.709068 | L24: =L37/G37 -> 0.56366596 | M24: =E24*$L$26 -> 1.9378407e+10 | N24: =(M24-M23)/M23*100 -> 7.7967481 | O24: =(M24-M20)/M20*100 -> 8.6721008 | R24: 2013 | S24: =SUM(M51:M54) -> 1.393227e+11 | T24: =(S24-S23)/S23*100 -> 7.6997046
A25: 2006q3 | B25: 36822.249 | C25: 230055.92 | D25: =C25*1000000 -> 230055916500 | E25: =B25*1000000 -> 3.6822249e+10 | F25: 4906222423 | G25: 827883368 | H25: =E25/D25*100 -> 16.005782 | I25: =G25/F25*100 -> 16.874151 | J25: =D25/F25 -> 46.890641 | K25: =E25/G25 -> 44.47758 | M25: =E25*$L$26 -> 2.1074666e+10 | N25: =(M25-M24)/M24*100 -> 8.7533453 | O25: =(M25-M21)/M21*100 -> 13.091427 | R25: 2014 | S25: =SUM(M55:M58) -> 1.4940162e+11 | T25: =(S25-S24)/S24*100 -> 7.2342269
A26: 2006q4 | B26: 34990.977 | C26: 220450.31 | D26: =C26*1000000 -> 2.2045031e+11 | E26: =B26*1000000 -> 3.4990977e+10 | F26: 5280826192 | G26: 873224453 | H26: =E26/D26*100 -> 15.872501 | I26: =G26/F26*100 -> 16.535754 | J26: =D26/F26 -> 41.745421 | K26: =E26/G26 -> 40.071 | L26: =AVERAGE(L18:L24) -> 0.57233512 | M26: =E26*$L$26 -> 2.0026565e+10 | N26: =(M26-M25)/M25*100 -> -4.9732752 | O26: =(M26-M22)/M22*100 -> 11.700731 | Q26: =M26/E26 -> 0.57233512 | R26: 2015 | S26: =SUM(M59:M62) -> 1.5756611e+11 | T26: =(S26-S25)/S25*100 -> 5.464795
A27: 2007q1 | B27: 37347.8 | C27: 233718.23 | D27: =C27*1000000 -> 233718231000 | E27: =B27*1000000 -> 3.73478e+10 | F27: 5154329343 | G27: 833477953 | H27: =E27/D27*100 -> 15.97984 | I27: =G27/F27*100 -> 16.170444 | J27: =D27/F27 -> 45.344062 | K27: =E27/G27 -> 44.809584 | M27: =E27*$L$26 -> 2.1375458e+10 | N27: =(M27-M26)/M26*100 -> 6.7355164 | O27: =(M27-M23)/M23*100 -> 18.90579 | Q27: =M27/E27 -> 0.57233512 | R27: 2016 | S27: =SUM(M63:M66) -> 1.6645864e+11 | T27: =(S27-S26)/S26*100 -> 5.6436776
A28: 2007q2 | B28: 39579.243 | C28: 245034.53 | D28: =C28*1000000 -> 2.4503453e+11 | E28: =B28*1000000 -> 3.9579243e+10 | F28: 5056692012 | G28: 821281896 | H28: =E28/D28*100 -> 16.152517 | I28: =G28/F28*100 -> 16.241485 | J28: =D28/F28 -> 48.457476 | K28: =E28/G28 -> 48.192031 | M28: =E28*$L$26 -> 2.2652591e+10 | N28: =(M28-M27)/M27*100 -> 5.9747631 | O28: =(M28-M24)/M24*100 -> 16.896039 | Q28: =M28/E28 -> 0.57233512
A29: 2007q3 | B29: 41527.488 | C29: 257496.13 | D29: =C29*1000000 -> 2.5749613e+11 | E29: =B29*1000000 -> 4.1527488e+10 | F29: 5400223668 | G29: 898105429 | H29: =E29/D29*100 -> 16.127422 | I29: =G29/F29*100 -> 16.630893 | J29: =D29/F29 -> 47.682494 | K29: =E29/G29 -> 46.23899 | M29: =E29*$L$26 -> 2.376764e+10 | N29: =(M29-M28)/M28*100 -> 4.9223908 | O29: =(M29-M25)/M25*100 -> 12.778249 | Q29: =M29/E29 -> 0.57233512
A30: 2007q4 | B30: 39701.091 | C30: 250732.93 | D30: =C30*1000000 -> 250732933500 | E30: =B30*1000000 -> 3.9701091e+10 | F30: 5579296845 | G30: 902642355 | H30: =E30/D30*100 -> 15.834015 | I30: =G30/F30*100 -> 16.178425 | J30: =D30/F30 -> 44.939881 | K30: =E30/G30 -> 43.983191 | M30: =E30*$L$26 -> 2.2722329e+10 | N30: =(M30-M29)/M29*100 -> -4.3980424 | O30: =(M30-M26)/M26*100 -> 13.460939 | Q30: =M30/E30 -> 0.57233512
A31: 2008q1 | B31: 41339.823 | C31: 259201.88 | D31: =C31*1000000 -> 2.5920188e+11 | E31: =B31*1000000 -> 4.1339823e+10 | F31: 5543646776 | G31: 903773016 | H31: =E31/D31*100 -> 15.94889 | I31: =G31/F31*100 -> 16.302861 | J31: =D31/F31 -> 46.756565 | K31: =E31/G31 -> 45.741378 | L31: 528173464 | M31: =L31*K31 -> 2.4159382e+10 | N31: =(M31-M30)/M30*100 -> 6.3244086 | O31: =(M31-M27)/M27*100 -> 13.023927 | Q31: =M31/E31 -> 0.58440942
A32: 2008q2 | B32: 46126.765 | C32: 285471.82 | D32: =C32*1000000 -> 2.8547182e+11 | E32: =B32*1000000 -> 4.6126765e+10 | F32: 5265926862 | G32: 890535459 | H32: =E32/D32*100 -> 16.15808 | I32: =G32/F32*100 -> 16.911277 | J32: =D32/F32 -> 54.211125 | K32: =E32/G32 -> 51.796663 | L32: 521350226 | M32: =L32*K32 -> 2.7004202e+10 | N32: =(M32-M31)/M31*100 -> 11.775219 | O32: =(M32-M28)/M28*100 -> 19.210214 | Q32: =M32/E32 -> 0.58543455
A33: 2008q3 | B33: 47244.502 | C33: 295803.77 | D33: =C33*1000000 -> 295803772000 | E33: =B33*1000000 -> 4.7244502e+10 | F33: 5202135900 | G33: 869534795 | H33: =E33/D33*100 -> 15.971569 | I33: =G33/F33*100 -> 16.714957 | J33: =D33/F33 -> 56.861985 | K33: =E33/G33 -> 54.333079 | L33: 505087388 | M33: =L33*K33 -> 2.7442953e+10 | N33: =(M33-M32)/M32*100 -> 1.6247497 | O33: =(M33-M29)/M29*100 -> 15.463516 | Q33: =M33/E33 -> 0.58087082
A34: 2008q4 | B34: 43258.09 | C34: 275976.91 | D34: =C34*1000000 -> 275976915000 | E34: =B34*1000000 -> 4.325809e+10 | F34: 5460259824 | G34: 899511198 | H34: =E34/D34*100 -> 15.674532 | I34: =G34/F34*100 -> 16.47378 | J34: =D34/F34 -> 50.542817 | K34: =E34/G34 -> 48.090663 | L34: 506527974 | M34: =L34*K34 -> 2.4359266e+10 | N34: =(M34-M33)/M33*100 -> -11.236716 | O34: =(M34-M30)/M30*100 -> 7.2040904 | Q34: =M34/E34 -> 0.5631147
A35: 2009q1 | B35: 44861.111 | C35: 280849.53 | D35: =C35*1000000 -> 280849525000 | E35: =B35*1000000 -> 4.4861111e+10 | F35: 5083035776 | G35: 823636857 | H35: =E35/D35*100 -> 15.973362 | I35: =G35/F35*100 -> 16.203641 | J35: =D35/F35 -> 55.252321 | K35: =E35/G35 -> 54.4671 | L35: 465341929 | M35: =L35*K35 -> 2.5345826e+10 | N35: =(M35-M34)/M34*100 -> 4.0500376 | O35: =(M35-M31)/M31*100 -> 4.9109021 | Q35: =M35/E35 -> 0.56498434
A36: 2009q2 | B36: 48709.843 | C36: 301158.31 | D36: =C36*1000000 -> 301158309000 | E36: =B36*1000000 -> 4.8709843e+10 | F36: 4994646966 | G36: 831381344 | H36: =E36/D36*100 -> 16.174165 | I36: =G36/F36*100 -> 16.645448 | J36: =D36/F36 -> 60.296215 | K36: =E36/G36 -> 58.58905 | L36: 468787734 | M36: =L36*K36 -> 2.7465828e+10 | N36: =(M36-M35)/M35*100 -> 8.3643059 | O36: =(M36-M32)/M32*100 -> 1.7094595 | Q36: =M36/E36 -> 0.56386607
A37: 2009q3 | B37: 47627.231 | C37: 300089.49 | D37: =C37*1000000 -> 3.0008949e+11 | E37: =B37*1000000 -> 4.7627231e+10 | F37: 5002707417 | G37: 835393434 | H37: =E37/D37*100 -> 15.87101 | I37: =G37/F37*100 -> 16.698827 | J37: =D37/F37 -> 59.985416 | K37: =E37/G37 -> 57.011737 | L37: 470882842 | M37: =L37*K37 -> 2.6845849e+10 | N37: =(M37-M36)/M36*100 -> -2.2572741 | O37: =(M37-M33)/M33*100 -> -2.1758002 | Q37: =M37/E37 -> 0.56366596
A38: 2009q4 | B38: 45143.112 | C38: 288855.92 | D38: =C38*1000000 -> 288855916000 | E38: =B38*1000000 -> 4.5143112e+10 | F38: 5074816265 | G38: 901763015 | H38: =E38/D38*100 -> 15.628246 | I38: =G38/F38*100 -> 17.769373 | J38: =D38/F38 -> 56.919483 | K38: =E38/G38 -> 50.060949 | L38: 504310603 | M38: =L38*K38 -> 2.5246267e+10 | N38: =(M38-M37)/M37*100 -> -5.9583944 | O38: =(M38-M34)/M34*100 -> 3.6413299 | Q38: =M38/E38 -> 0.5592496
A39: 2010q1 | B39: 47019.932 | C39: 294772 | D39: =C39*1000000 -> 294772000000 | E39: =B39*1000000 -> 4.7019932e+10 | H39: =E39/D39*100 -> 15.951289 | I39: =G39/F39*100 -> #DIV/0! | J39: =D39/F39 -> #DIV/0! | K39: =E39/G39 -> #DIV/0! | M39: =E39*Q39 -> 2.6985192e+10 | N39: =(M39-M38)/M38*100 -> 6.8878479 | O39: =(M39-M35)/M35*100 -> 6.4679933 | Q39: =(Q27+Q31+Q35)/3 -> 0.57390963
A40: 2010q2 | B40: 52778.12 | C40: 328726 | D40: =C40*1000000 -> 328726000000 | E40: =B40*1000000 -> 5.277812e+10 | H40: =E40/D40*100 -> 16.055353 | M40: =E40*Q40 -> 3.0288232e+10 | N40: =(M40-M39)/M39*100 -> 12.240197 | O40: =(M40-M36)/M36*100 -> 10.276058 | Q40: =(Q28+Q32+Q36)/3 -> 0.57387858
A41: 2010q3 | B41: 50078.315 | C41: 321915 | D41: =C41*1000000 -> 321915000000 | E41: =B41*1000000 -> 5.0078315e+10 | H41: =E41/D41*100 -> 15.556378 | M41: =E41*Q41 -> 2.8659351e+10 | N41: =(M41-M40)/M40*100 -> -5.3779365 | O41: =(M41-M37)/M37*100 -> 6.7552404 | Q41: =(Q29+Q33+Q37)/3 -> 0.57229063
A42: 2010q4 | B42: 48027.579 | C42: 314742 | D42: =C42*1000000 -> 314742000000 | E42: =B42*1000000 -> 4.8027579e+10 | H42: =E42/D42*100 -> 15.259349 | M42: =E42*Q42 -> 2.713077e+10 | N42: =(M42-M41)/M41*100 -> -5.3336186 | O42: =(M42-M38)/M38*100 -> 7.4644805 | Q42: =(Q30+Q34+Q38)/3 -> 0.56489981
A43: 2011q1 | B43: 49553.24 | C43: 316705 | D43: =C43*1000000 -> 316705000000 | E43: =B43*1000000 -> 4.955324e+10 | H43: =E43/D43*100 -> 15.646498 | M43: =E43*Q43 -> 2.8465089e+10 | N43: =(M43-M42)/M42*100 -> 4.918102 | O43: =(M43-M39)/M39*100 -> 5.4841084 | Q43: =(Q31+Q35+Q39)/3 -> 0.57443446
A44: 2011q2 | B44: 56198.575 | C44: 350332 | D44: =C44*1000000 -> 350332000000 | E44: =B44*1000000 -> 5.6198575e+10 | H44: =E44/D44*100 -> 16.041519 | M44: =E44*Q44 -> 3.2280072e+10 | N44: =(M44-M43)/M43*100 -> 13.402323 | O44: =(M44-M40)/M40*100 -> 6.5762822 | Q44: =(Q32+Q36+Q40)/3 -> 0.57439307
A45: 2011q3 | B45: 55483.216 | C45: 353810 | D45: =C45*1000000 -> 353810000000 | E45: =B45*1000000 -> 5.5483216e+10 | H45: =E45/D45*100 -> 15.681642 | M45: =E45*Q45 -> 3.1751702e+10 | N45: =(M45-M44)/M44*100 -> -1.6368296 | O45: =(M45-M41)/M41*100 -> 10.790027 | Q45: =(Q33+Q37+Q41)/3 -> 0.5722758
A46: 2011q4 | B46: 52593.183 | C46: 344174 | D46: =C46*1000000 -> 344174000000 | E46: =B46*1000000 -> 5.2593183e+10 | H46: =E46/D46*100 -> 15.280987 | M46: =E46*Q46 -> 2.957953e+10 | N46: =(M46-M45)/M45*100 -> -6.8411221 | O46: =(M46-M42)/M42*100 -> 9.0257649 | Q46: =(Q34+Q38+Q42)/3 -> 0.56242137
A47: 2012q1 | B47: 53455.119 | C47: 342052 | D47: =C47*1000000 -> 342052000000 | E47: =B47*1000000 -> 5.3455119e+10 | H47: =E47/D47*100 -> 15.627775 | M47: =E47*Q47 -> 3.0528725e+10 | N47: =(M47-M46)/M46*100 -> 3.2089604 | O47: =(M47-M43)/M43*100 -> 7.2497084 | Q47: =(Q35+Q39+Q43)/3 -> 0.57110948
A48: 2012q2 | B48: 60670.413 | C48: 378799 | D48: =C48*1000000 -> 378799000000 | E48: =B48*1000000 -> 6.0670413e+10 | H48: =E48/D48*100 -> 16.016519 | M48: =E48*Q48 -> 3.4625367e+10 | N48: =(M48-M47)/M47*100 -> 13.418977 | O48: =(M48-M44)/M44*100 -> 7.265459 | Q48: =(Q36+Q40+Q44)/3 -> 0.57071257
A49: 2012q3 | B49: 58077.711 | C49: 372670 | D49: =C49*1000000 -> 372670000000 | E49: =B49*1000000 -> 5.8077711e+10 | H49: =E49/D49*100 -> 15.58422 | M49: =E49*Q49 -> 3.3070076e+10 | N49: =(M49-M48)/M48*100 -> -4.4917688 | O49: =(M49-M45)/M45*100 -> 4.1521357 | Q49: =(Q37+Q41+Q45)/3 -> 0.5694108
A50: 2012q4 | B50: 55386.988 | C50: 359394 | D50: =C50*1000000 -> 359394000000 | E50: =B50*1000000 -> 5.5386988e+10 | H50: =E50/D50*100 -> 15.411217 | M50: =E50*Q50 -> 3.1138025e+10 | N50: =(M50-M49)/M49*100 -> -5.8422947 | O50: =(M50-M46)/M46*100 -> 5.2688301 | Q50: =(Q38+Q42+Q46)/3 -> 0.56219026
A51: 2013q1 | B51: 56899.864 | C51: 364931 | D51: =C51*1000000 -> 364931000000 | E51: =B51*1000000 -> 5.6899864e+10 | H51: =E51/D51*100 -> 15.591951 | M51: =E51*Q51 -> 3.2612225e+10 | N51: =(M51-M50)/M50*100 -> 4.7344055 | O51: =(M51-M47)/M47*100 -> 6.8247204 | Q51: =(Q39+Q43+Q47)/3 -> 0.57315119
... A66: 2016q4 | B66: 69786.1 | C66: 445531 | D66: =C66*1000000 -> 445531000000 | E66: =B66*1000000 -> 6.97861e+10 | H66: =E66/D66*100 -> 15.663579 | M66: =E66*Q66 -> 3.9275992e+10 | N66: =(M66-M65)/M65*100 -> -7.7103488 | O66: =(M66-M62)/M62*100 -> 5.5744332 | Q66: =(Q54+Q58+Q62)/3 -> 0.56280537
B72: 76650.248

Sheet GOS PMB
D1: Msunduzi Municipal Area GOS
C2: SA GDP | D2: SA Quarterly GOS | E2: KZN Quarterly GOS | F2: SA Fuel Consumption | G2: KZN Fuel Consumption | H2: KZN GDP Ratio | I2: KZN Fuel Ratio | J2: SA Usage | K2: KZN Usage | L2: PMB Fuel Usage | M2: Pietermaritzburg Quarterly GOS | N2: PMB Quarterly Rate | O2: PMB Annual Rate
A3: 2001g1 | B3: 37676.736 | C3: 228114.65 | D3: ='GOS Durban'!D3 -> 1.1132744e+11 | E3: ='GOS Durban'!E3 -> 1.8047007e+10
A4: 2001g2 | B4: 39785.999 | C4: 237077.62 | D4: ='GOS Durban'!D4 -> 1.210826e+11 | E4: ='GOS Durban'!E4 -> 1.9989577e+10
A5: 2001g3 | B5: 40039.788 | C5: 239764.67 | D5: ='GOS Durban'!D5 -> 1.2207577e+11 | E5: ='GOS Durban'!E5 -> 2.0028729e+10
A6: 2001g4 | B6: 40074.592 | C6: 242416.26 | D6: ='GOS Durban'!D6 -> 1.2120292e+11 | E6: ='GOS Durban'!E6 -> 1.9729737e+10
A7: 2002g1 | B7: 38164.554 | C7: 234422.23 | D7: ='GOS Durban'!D7 -> 1.3111327e+11 | E7: ='GOS Durban'!E7 -> 2.081325e+10 | F7: 4118958622 | G7: 674878797 | H7: =E7/D7*100 -> 15.874251 | I7: =G7/F7*100 -> 16.384695 | J7: =D7/F7 -> 31.831654 | K7: =E7/G7 -> 30.839982 | M7: =E7*$L$23 -> 1.6715719e+09
A8: 2002g2 | B8: 40899.51 | C8: 246692 | D8: ='GOS Durban'!D8 -> 1.4675864e+11 | E8: ='GOS Durban'!E8 -> 2.3838801e+10 | F8: 4128329079 | G8: 697677279 | H8: =E8/D8*100 -> 16.243542 | I8: =G8/F8*100 -> 16.89975 | J8: =D8/F8 -> 35.549161 | K8: =E8/G8 -> 34.168807 | M8: =E8*$L$23 -> 1.9145626e+09 | N8: =(M8-M7)/M7*100 -> 14.536658
A9: 2002g3 | B9: 40843.516 | C9: 248774.74 | D9: ='GOS Durban'!D9 -> 1.5156557e+11 | E9: ='GOS Durban'!E9 -> 2.4303028e+10 | F9: 4479766142 | G9: 748604188 | H9: =E9/D9*100 -> 16.034662 | I9: =G9/F9*100 -> 16.710787 | J9: =D9/F9 -> 33.833368 | K9: =E9/G9 -> 32.464456 | M9: =E9*$L$23 -> 1.951846e+09 | N9: =(M9-M8)/M8*100 -> 1.9473609
A10: 2002g4 | B10: 41049.653 | C10: 252232.95 | D10: ='GOS Durban'!D10 -> 1.5010742e+11 | E10: ='GOS Durban'!E10 -> 2.3980813e+10 | F10: 4393645140 | G10: 741841930 | H10: =E10/D10*100 -> 15.975767 | I10: =G10/F10*100 -> 16.88443 | J10: =D10/F10 -> 34.164667 | K10: =E10/G10 -> 32.326041 | M10: =E10*$L$23 -> 1.925968e+09 | N10: =(M10-M9)/M9*100 -> -1.3258242
A11: ='GOS Durban'!A11 -> 2003q1 | B11: 39679.286 | C11: 242968.68 | D11: ='GOS Durban'!D11 -> 149755012000 | E11: ='GOS Durban'!E11 -> 2.4244054e+10 | F11: 4.3245102e+09 | G11: 7.3345414e+08 | H11: =E11/D11*100 -> 16.189143 | I11: =G11/F11*100 -> 16.960398 | J11: =D11/F11 -> 34.629358 | K11: =E11/G11 -> 33.054628 | M11: =E11*$L$23 -> 1.9471096e+09 | N11: =(M11-M10)/M10*100 -> 1.0977154 | O11: =(M11-M7)/M7*100 -> 16.48375 | R11: Yearly Growth Rate %
A12: ='GOS Durban'!A12 -> 2003q2 | B12: 42428.908 | C12: 254647.49 | D12: ='GOS Durban'!D12 -> 1.5863093e+11 | E12: ='GOS Durban'!E12 -> 2.6378384e+10 | F12: 4.3448327e+09 | G12: 7.3310499e+08 | H12: =E12/D12*100 -> 16.628777 | I12: =G12/F12*100 -> 16.873032 | J12: =D12/F12 -> 36.510251 | K12: =E12/G12 -> 35.981727 | M12: =E12*$L$23 -> 2.1185238e+09 | N12: =(M12-M11)/M11*100 -> 8.8035208 | O12: =(M12-M8)/M8*100 -> 10.653151 | R12: 2001
A13: ='GOS Durban'!A13 -> 2003q3 | B13: 42149.481 | C13: 256275.03 | D13: ='GOS Durban'!D13 -> 160430738000 | E13: ='GOS Durban'!E13 -> 2.6265909e+10 | F13: 4.469508e+09 | G13: 7.5596579e+08 | H13: =E13/D13*100 -> 16.372117 | I13: =G13/F13*100 -> 16.913848 | J13: =D13/F13 -> 35.894497 | K13: =E13/G13 -> 34.744838 | M13: =E13*$L$23 -> 2.1094906e+09 | N13: =(M13-M12)/M12*100 -> -0.42639176 | O13: =(M13-M9)/M9*100 -> 8.0766919 | R13: =R12+1 -> 2002 | S13: =SUM(M7:M10) -> 7.4639485e+09
A14: ='GOS Durban'!A14 -> 2003q4 | B14: 42100.347 | C14: 258872.64 | D14: ='GOS Durban'!D14 -> 154932418000 | E14: ='GOS Durban'!E14 -> 2.5299339e+10 | F14: 4.7924549e+09 | G14: 792421454 | H14: =E14/D14*100 -> 16.329274 | I14: =G14/F14*100 -> 16.534771 | J14: =D14/F14 -> 32.328404 | K14: =E14/G14 -> 31.926621 | L14: =L31/G31 -> 0.081954277 | M14: =E14*$L$23 -> 2.0318627e+09 | N14: =(M14-M13)/M13*100 -> -3.6799388 | O14: =(M14-M10)/M10*100 -> 5.4982573 | R14: =R13+1 -> 2003 | S14: =SUM(M11:M14) -> 8.2069868e+09 | T14: =(S14-S13)/S13*100 -> 9.955029
A15: ='GOS Durban'!A15 -> 2004q1 | B15: 40825.253 | C15: 251444.38 | D15: ='GOS Durban'!D15 -> 161952871000 | E15: ='GOS Durban'!E15 -> 2.6334294e+10 | F15: 4.4993406e+09 | G15: 7.3594163e+08 | H15: =E15/D15*100 -> 16.260468 | I15: =G15/F15*100 -> 16.356655 | J15: =D15/F15 -> 35.994802 | K15: =E15/G15 -> 35.783129 | L15: =L32/G32 -> 0.075731592 | M15: =E15*$L$23 -> 2.1149829e+09 | N15: =(M15-M14)/M14*100 -> 4.0908372 | O15: =(M15-M11)/M11*100 -> 8.6216625 | R15: =R14+1 -> 2004 | S15: =SUM(M15:M18) -> 9.0668812e+09 | T15: =(S15-S14)/S14*100 -> 10.47759
A16: ='GOS Durban'!A16 -> 2004q2 | B16: 43839.245 | C16: 264778.95 | D16: ='GOS Durban'!D16 -> 172153283000 | E16: ='GOS Durban'!E16 -> 2.8589935e+10 | F16: 4.5436772e+09 | G16: 7.6518177e+08 | H16: =E16/D16*100 -> 16.607255 | I16: =G16/F16*100 -> 16.840584 | J16: =D16/F16 -> 37.888537 | K16: =E16/G16 -> 37.363586 | L16: =L33/G33 -> 0.077303872 | M16: =E16*$L$23 -> 2.2961398e+09 | N16: =(M16-M15)/M15*100 -> 8.5654109 | O16: =(M16-M12)/M12*100 -> 8.3839506 | R16: =R15+1 -> 2005 | S16: =SUM(M19:M22) -> 9.9553316e+09 | T16: =(S16-S15)/S15*100 -> 9.7988526
A17: ='GOS Durban'!A17 -> 2004q3 | B17: 44543.657 | C17: 270547.83 | D17: ='GOS Durban'!D17 -> 180297173000 | E17: ='GOS Durban'!E17 -> 2.9683853e+10 | F17: 4.7754909e+09 | G17: 7.9366597e+08 | H17: =E17/D17*100 -> 16.463848 | I17: =G17/F17*100 -> 16.619568 | J17: =D17/F17 -> 37.754689 | K17: =E17/G17 -> 37.40094 | L17: =L34/G34 -> 0.08154082 | M17: =E17*$L$23 -> 2.3839956e+09 | N17: =(M17-M16)/M16*100 -> 3.826236 | O17: =(M17-M13)/M13*100 -> 13.012854 | R17: =R16+1 -> 2006 | S17: =SUM(M23:M26) -> 1.1009393e+10 | T17: =(S17-S16)/S16*100 -> 10.587909
A18: ='GOS Durban'!A18 -> 2004q4 | B18: 44924.846 | C18: 275256.89 | D18: ='GOS Durban'!D18 -> 1.7364224e+11 | E18: ='GOS Durban'!E18 -> 2.8286411e+10 | F18: 4.830257e+09 | G18: 826240651 | H18: =E18/D18*100 -> 16.290052 | I18: =G18/F18*100 -> 17.105521 | J18: =D18/F18 -> 35.948862 | K18: =E18/G18 -> 34.235075 | L18: =L35/G35 -> 0.080220365 | M18: =E18*$L$23 -> 2.271763e+09 | N18: =(M18-M17)/M17*100 -> -4.7077519 | O18: =(M18-M14)/M14*100 -> 11.806915 | R18: =R17+1 -> 2007 | S18: =SUM(M27:M30) -> 1.2701933e+10 | T18: =(S18-S17)/S17*100 -> 15.373597
A19: ='GOS Durban'!A19 -> 2005q1 | B19: 43267.605 | C19: 265766.29 | D19: ='GOS Durban'!D19 -> 176970820000 | E19: ='GOS Durban'!E19 -> 2.8914924e+10 | F19: 4690209425 | G19: 774740717 | H19: =E19/D19*100 -> 16.338809 | I19: =G19/F19*100 -> 16.518254 | J19: =D19/F19 -> 37.731965 | K19: =E19/G19 -> 37.322066 | L19: =L36/G36 -> 0.083003445 | M19: =E19*$L$23 -> 2.3222407e+09 | N19: =(M19-M18)/M18*100 -> 2.2219616 | O19: =(M19-M15)/M15*100 -> 9.7995027 | R19: =R18+1 -> 2008 | S19: =SUM(M31:M34) -> 1.4060712e+10 | T19: =(S19-S18)/S18*100 -> 10.69742
A20: ='GOS Durban'!A20 -> 2005q2 | B20: 45920.175 | C20: 277268.9 | D20: ='GOS Durban'!D20 -> 1.9160523e+11 | E20: ='GOS Durban'!E20 -> 3.1156569e+10 | F20: 4760343407 | G20: 805551748 | H20: =E20/D20*100 -> 16.260813 | I20: =G20/F20*100 -> 16.922135 | J20: =D20/F20 -> 40.250296 | K20: =E20/G20 -> 38.677303 | L20: =L37/G37 -> 0.082435751 | M20: =E20*$L$23 -> 2.5022736e+09 | N20: =(M20-M19)/M19*100 -> 7.7525527 | O20: =(M20-M16)/M16*100 -> 8.9774046 | R20: =R19+1 -> 2009 | S20: =SUM(M35:M38) -> 1.5702192e+10 | T20: =(S20-S19)/S19*100 -> 11.674232
A21: ='GOS Durban'!A21 -> 2005q3 | B21: 47037.654 | C21: 283831.22 | D21: ='GOS Durban'!D21 -> 1.9910681e+11 | E21: ='GOS Durban'!E21 -> 3.2559717e+10 | F21: 4824982237 | G21: 802738840 | H21: =E21/D21*100 -> 16.35289 | I21: =G21/F21*100 -> 16.637136 | J21: =D21/F21 -> 41.265813 | K21: =E21/G21 -> 40.560785 | M21: =E21*$L$23 -> 2.6149645e+09 | N21: =(M21-M20)/M20*100 -> 4.5035401 | O21: =(M21-M17)/M17*100 -> 9.688312 | R21: =R20+1 -> 2010 | S21: =SUM(M39:M42) -> 1.6070471e+10 | T21: =(S21-S20)/S20*100 -> 2.3453997
A22: ='GOS Durban'!A22 -> 2005q4 | B22: 47137.581 | C22: 287892.13 | D22: ='GOS Durban'!D22 -> 193270352000 | E22: ='GOS Durban'!E22 -> 3.1325648e+10 | F22: 5011501336 | G22: 832010091 | H22: =E22/D22*100 -> 16.208201 | I22: =G22/F22*100 -> 16.602013 | J22: =D22/F22 -> 38.56536 | K22: =E22/G22 -> 37.650562 | M22: =E22*$L$23 -> 2.5158528e+09 | N22: =(M22-M21)/M21*100 -> -3.7901735 | O22: =(M22-M18)/M18*100 -> 10.744512 | R22: =R21+1 -> 2011 | S22: =SUM(M43:M46) -> 1.7430233e+10 | T22: =(S22-S21)/S21*100 -> 8.4612453
A23: ='GOS Durban'!A23 -> 2006q1 | B23: 45515.077 | C23: 278720.46 | D23: ='GOS Durban'!D23 -> 1.9413895e+11 | E23: ='GOS Durban'!E23 -> 3.1409573e+10 | F23: 4675546289 | G23: 750919883 | H23: =E23/D23*100 -> 16.178914 | I23: =G23/F23*100 -> 16.060581 | J23: =D23/F23 -> 41.522195 | K23: =E23/G23 -> 41.828127 | L23: =AVERAGE(L14:L20) -> 0.080312875 | M23: =E23*$L$23 -> 2.5225931e+09 | N23: =(M23-M22)/M22*100 -> 0.26791153 | O23: =(M23-M19)/M19*100 -> 8.6275466 | R23: =R22+1 -> 2012 | S23: =SUM(M47:M50) -> 1.8738068e+10 | T23: =(S23-S22)/S22*100 -> 7.5032572
A24: ='GOS Durban'!A24 -> 2006q2 | B24: 48049.393 | C24: 290944.86 | D24: ='GOS Durban'!D24 -> 209393937500 | E24: ='GOS Durban'!E24 -> 3.3858498e+10 | F24: 4859349229 | G24: 811777848 | H24: =E24/D24*100 -> 16.16976 | I24: =G24/F24*100 -> 16.705485 | J24: =D24/F24 -> 43.090942 | K24: =E24/G24 -> 41.709068 | M24: =E24*$L$23 -> 2.7192733e+09 | N24: =(M24-M23)/M23*100 -> 7.7967481 | O24: =(M24-M20)/M20*100 -> 8.6721008 | R24: =R23+1 -> 2013 | S24: =SUM(M51:M54) -> 1.9958002e+10 | T24: =(S24-S23)/S23*100 -> 6.5104563
A25: ='GOS Durban'!A25 -> 2006q3 | B25: 49171.99 | C25: 297456.97 | D25: ='GOS Durban'!D25 -> 230055916500 | E25: ='GOS Durban'!E25 -> 3.6822249e+10 | F25: 4906222423 | G25: 827883368 | H25: =E25/D25*100 -> 16.005782 | I25: =G25/F25*100 -> 16.874151 | J25: =D25/F25 -> 46.890641 | K25: =E25/G25 -> 44.47758 | M25: =E25*$L$23 -> 2.9573007e+09 | N25: =(M25-M24)/M24*100 -> 8.7533453 | O25: =(M25-M21)/M21*100 -> 13.091427 | R25: 2014 | S25: =SUM(M55:M58) -> 2.144839e+10 | T25: =(S25-S24)/S24*100 -> 7.467623
A26: ='GOS Durban'!A26 -> 2006q4 | B26: 50201.911 | C26: 306956.06 | D26: ='GOS Durban'!D26 -> 2.2045031e+11 | E26: ='GOS Durban'!E26 -> 3.4990977e+10 | F26: 5280826192 | G26: 873224453 | H26: =E26/D26*100 -> 15.872501 | I26: =G26/F26*100 -> 16.535754 | J26: =D26/F26 -> 41.745421 | K26: =E26/G26 -> 40.071 | M26: =E26*$L$23 -> 2.810226e+09 | N26: =(M26-M25)/M25*100 -> -4.9732752 | O26: =(M26-M22)/M22*100 -> 11.700731 | Q26: =M26/E26 -> 0.080312875 | R26: =R25+1 -> 2015 | S26: =SUM(M59:M62) -> 2.2665509e+10 | T26: =(S26-S25)/S25*100 -> 5.6746403
A27: ='GOS Durban'!A27 -> 2007q1 | B27: 48194.137 | C27: 294828.76 | D27: ='GOS Durban'!D27 -> 233718231000 | E27: ='GOS Durban'!E27 -> 3.73478e+10 | F27: 5154329343 | G27: 833477953 | H27: =E27/D27*100 -> 15.97984 | I27: =G27/F27*100 -> 16.170444 | J27: =D27/F27 -> 45.344062 | K27: =E27/G27 -> 44.809584 | M27: =E27*$L$23 -> 2.9995092e+09 | N27: =(M27-M26)/M26*100 -> 6.7355164 | O27: =(M27-M23)/M23*100 -> 18.90579 | Q27: =M27/E27 -> 0.080312875 | R27: 2015 | S27: =SUM(M63:M66) -> 2.3892427e+10 | T27: =(S27-S26)/S26*100 -> 5.413151
A28: ='GOS Durban'!A28 -> 2007q2 | B28: 50488.786 | C28: 305341.24 | D28: ='GOS Durban'!D28 -> 2.4503453e+11 | E28: ='GOS Durban'!E28 -> 3.9579243e+10 | F28: 5056692012 | G28: 821281896 | H28: =E28/D28*100 -> 16.152517 | I28: =G28/F28*100 -> 16.241485 | J28: =D28/F28 -> 48.457476 | K28: =E28/G28 -> 48.192031 | M28: =E28*$L$23 -> 3.1787228e+09 | N28: =(M28-M27)/M27*100 -> 5.9747631 | O28: =(M28-M24)/M24*100 -> 16.896039 | Q28: =M28/E28 -> 0.080312875
A29: ='GOS Durban'!A29 -> 2007q3 | B29: 51623.877 | C29: 312536.95 | D29: ='GOS Durban'!D29 -> 2.5749613e+11 | E29: ='GOS Durban'!E29 -> 4.1527488e+10 | F29: 5400223668 | G29: 898105429 | H29: =E29/D29*100 -> 16.127422 | I29: =G29/F29*100 -> 16.630893 | J29: =D29/F29 -> 47.682494 | K29: =E29/G29 -> 46.23899 | M29: =E29*$L$23 -> 3.3351919e+09 | N29: =(M29-M28)/M28*100 -> 4.9223908 | O29: =(M29-M25)/M25*100 -> 12.778249 | Q29: =M29/E29 -> 0.080312875
A30: ='GOS Durban'!A30 -> 2007q4 | B30: 52621.553 | C30: 321222.87 | D30: ='GOS Durban'!D30 -> 250732933500 | E30: ='GOS Durban'!E30 -> 3.9701091e+10 | F30: 5579296845 | G30: 902642355 | H30: =E30/D30*100 -> 15.834015 | I30: =G30/F30*100 -> 16.178425 | J30: =D30/F30 -> 44.939881 | K30: =E30/G30 -> 43.983191 | M30: =E30*$L$23 -> 3.1885088e+09 | N30: =(M30-M29)/M29*100 -> -4.3980424 | O30: =(M30-M26)/M26*100 -> 13.460939 | Q30: =M30/E30 -> 0.080312875
A31: ='GOS Durban'!A31 -> 2008q1 | B31: 50304.132 | C31: 306287.39 | D31: ='GOS Durban'!D31 -> 2.5920188e+11 | E31: ='GOS Durban'!E31 -> 4.1339823e+10 | F31: 5543646776 | G31: 903654581 | H31: =E31/D31*100 -> 15.94889 | I31: =G31/F31*100 -> 16.300724 | J31: =D31/F31 -> 46.756565 | K31: =E31/G31 -> 45.747373 | L31: 74058358 | M31: =L31*K31 -> 3.3879753e+09 | N31: =(M31-M30)/M30*100 -> 6.2557937 | O31: =(M31-M27)/M27*100 -> 12.950989 | Q31: =M31/E31 -> 0.081954277
A32: ='GOS Durban'!A32 -> 2008q2 | B32: 52106.987 | C32: 319011.07 | D32: ='GOS Durban'!D32 -> 2.8547182e+11 | E32: ='GOS Durban'!E32 -> 4.6126765e+10 | F32: 5265926862 | G32: 890416751 | H32: =E32/D32*100 -> 16.15808 | I32: =G32/F32*100 -> 16.909022 | J32: =D32/F32 -> 54.211125 | K32: =E32/G32 -> 51.803568 | L32: 67432678 | M32: =L32*K32 -> 3.4932534e+09 | N32: =(M32-M31)/M31*100 -> 3.1074031 | O32: =(M32-M28)/M28*100 -> 9.894873 | Q32: =M32/E32 -> 0.075731592
A33: ='GOS Durban'!A33 -> 2008q3 | B33: 53105.277 | C33: 322043.51 | D33: ='GOS Durban'!D33 -> 295803772000 | E33: ='GOS Durban'!E33 -> 4.7244502e+10 | F33: 5202135900 | G33: 869415812 | H33: =E33/D33*100 -> 15.971569 | I33: =G33/F33*100 -> 16.71267 | J33: =D33/F33 -> 56.861985 | K33: =E33/G33 -> 54.340514 | L33: 67209209 | M33: =L33*K33 -> 3.652183e+09 | N33: =(M33-M32)/M32*100 -> 4.5496163 | O33: =(M33-M29)/M29*100 -> 9.504432 | Q33: =M33/E33 -> 0.077303872
A34: ='GOS Durban'!A34 -> 2008q4 | B34: 54606.741 | C34: 324375.43 | D34: ='GOS Durban'!D34 -> 275976915000 | E34: ='GOS Durban'!E34 -> 4.325809e+10 | F34: 5460259824 | G34: 899391940 | H34: =E34/D34*100 -> 15.674532 | I34: =G34/F34*100 -> 16.471596 | J34: =D34/F34 -> 50.542817 | K34: =E34/G34 -> 48.09704 | L34: 73337156 | M34: =L34*K34 -> 3.5273001e+09 | N34: =(M34-M33)/M33*100 -> -3.4194034 | O34: =(M34-M30)/M30*100 -> 10.625385 | Q34: =M34/E34 -> 0.08154082
A35: ='GOS Durban'!A35 -> 2009q1 | B35: 49513.613 | C35: 302489.23 | D35: ='GOS Durban'!D35 -> 280849525000 | E35: ='GOS Durban'!E35 -> 4.4861111e+10 | F35: 5206564996 | G35: 842784368 | H35: =E35/D35*100 -> 15.973362 | I35: =G35/F35*100 -> 16.186956 | J35: =D35/F35 -> 53.941423 | K35: =E35/G35 -> 53.229643 | L35: 67608470 | M35: =L35*K35 -> 3.5987747e+09 | N35: =(M35-M34)/M34*100 -> 2.0263271 | O35: =(M35-M31)/M31*100 -> 6.2219886 | Q35: =M35/E35 -> 0.080220365
A36: ='GOS Durban'!A36 -> 2009q2 | B36: 51361.106 | C36: 310058.43 | D36: ='GOS Durban'!D36 -> 301158309000 | E36: ='GOS Durban'!E36 -> 4.8709843e+10 | F36: 4994646966 | G36: 831381344 | H36: =E36/D36*100 -> 16.174165 | I36: =G36/F36*100 -> 16.645448 | J36: =D36/F36 -> 60.296215 | K36: =E36/G36 -> 58.58905 | L36: 69007516 | M36: =L36*K36 -> 4.0430848e+09 | N36: =(M36-M35)/M35*100 -> 12.346148 | O36: =(M36-M32)/M32*100 -> 15.73981 | Q36: =M36/E36 -> 0.083003445
A37: ='GOS Durban'!A37 -> 2009q3 | D37: ='GOS Durban'!D37 -> 3.0008949e+11 | E37: ='GOS Durban'!E37 -> 4.7627231e+10 | F37: 5002707417 | G37: 835393434 | H37: =E37/D37*100 -> 15.87101 | I37: =G37/F37*100 -> 16.698827 | J37: =D37/F37 -> 59.985416 | K37: =E37/G37 -> 57.011737 | L37: 68866285 | M37: =L37*K37 -> 3.9261865e+09 | N37: =(M37-M36)/M36*100 -> -2.8913132 | O37: =(M37-M33)/M33*100 -> 7.5024601 | Q37: =M37/E37 -> 0.082435751
A38: ='GOS Durban'!A38 -> 2009q4 | D38: ='GOS Durban'!D38 -> 288855916000 | E38: ='GOS Durban'!E38 -> 4.5143112e+10 | F38: 5074816265 | G38: 901763015 | H38: =E38/D38*100 -> 15.628246 | I38: =G38/F38*100 -> 17.769373 | J38: =D38/F38 -> 56.919483 | K38: =E38/G38 -> 50.060949 | L38: 82582248 | M38: =L38*K38 -> 4.1341457e+09 | N38: =(M38-M37)/M37*100 -> 5.2967211 | O38: =(M38-M34)/M34*100 -> 17.204252 | Q38: =M38/E38 -> 0.091578659
A39: ='GOS Durban'!A39 -> 2010q1 | D39: ='GOS Durban'!D39 -> 294772000000 | E39: ='GOS Durban'!E39 -> 4.7019932e+10 | H39: =E39/D39*100 -> 15.951289 | M39: =E39*Q39 -> 3.8005822e+09 | N39: =(M39-M38)/M38*100 -> -8.0684987 | O39: =(M39-M35)/M35*100 -> 5.6076714 | Q39: =(Q27+Q31+Q35)/3 -> 0.080829172
A40: ='GOS Durban'!A40 -> 2010q2 | D40: ='GOS Durban'!D40 -> 328726000000 | E40: ='GOS Durban'!E40 -> 5.277812e+10 | H40: =E40/D40*100 -> 16.055353 | M40: =E40*Q40 -> 4.2054998e+09 | N40: =(M40-M39)/M39*100 -> 10.654093 | O40: =(M40-M36)/M36*100 -> 4.0171051 | Q40: =(Q28+Q32+Q36)/3 -> 0.079682637
A41: ='GOS Durban'!A41 -> 2010q3 | D41: ='GOS Durban'!D41 -> 321915000000 | E41: ='GOS Durban'!E41 -> 5.0078315e+10 | M41: =E41*Q41 -> 4.0071415e+09 | N41: =(M41-M40)/M40*100 -> -4.7166389 | O41: =(M41-M37)/M37*100 -> 2.0619237 | Q41: =(Q29+Q33+Q37)/3 -> 0.080017499
A42: ='GOS Durban'!A42 -> 2010q4 | D42: ='GOS Durban'!D42 -> 314742000000 | E42: ='GOS Durban'!E42 -> 4.8027579e+10 | M42: =E42*Q42 -> 4.0572475e+09 | N42: =(M42-M41)/M41*100 -> 1.2504162 | O42: =(M42-M38)/M38*100 -> -1.8600755 | Q42: =(Q30+Q34+Q38)/3 -> 0.084477451
A43: ='GOS Durban'!A43 -> 2011q1 | D43: ='GOS Durban'!D43 -> 316705000000 | E43: ='GOS Durban'!E43 -> 4.955324e+10 | M43: =E43*Q43 -> 4.0138755e+09 | N43: =(M43-M42)/M42*100 -> -1.0690004 | O43: =(M43-M39)/M39*100 -> 5.6121209 | Q43: =(Q31+Q35+Q39)/3 -> 0.081001272
A44: ='GOS Durban'!A44 -> 2011q2 | D44: ='GOS Durban'!D44 -> 350332000000 | E44: ='GOS Durban'!E44 -> 5.6198575e+10 | M44: =E44*Q44 -> 4.4662445e+09 | N44: =(M44-M43)/M43*100 -> 11.270132 | O44: =(M44-M40)/M40*100 -> 6.2000903 | Q44: =(Q32+Q36+Q40)/3 -> 0.079472558
A45: ='GOS Durban'!A45 -> 2011q3 | D45: ='GOS Durban'!D45 -> 353810000000 | E45: ='GOS Durban'!E45 -> 5.5483216e+10 | M45: =E45*Q45 -> 4.4341654e+09 | N45: =(M45-M44)/M44*100 -> -0.71825668 | O45: =(M45-M41)/M41*100 -> 10.656572 | Q45: =(Q33+Q37+Q41)/3 -> 0.079919041
A46: ='GOS Durban'!A46 -> 2011q4 | D46: ='GOS Durban'!D46 -> 344174000000 | E46: ='GOS Durban'!E46 -> 5.2593183e+10 | M46: =E46*Q46 -> 4.5159475e+09 | N46: =(M46-M45)/M45*100 -> 1.8443611 | O46: =(M46-M42)/M42*100 -> 11.305694 | Q46: =(Q34+Q38+Q42)/3 -> 0.085865643
A47: ='GOS Durban'!A47 -> 2012q1 | D47: ='GOS Durban'!D47 -> 342052000000 | E47: ='GOS Durban'!E47 -> 5.3455119e+10 | M47: =E47*Q47 -> 4.3129516e+09 | N47: =(M47-M46)/M46*100 -> -4.4950895 | O47: =(M47-M43)/M43*100 -> 7.4510559 | Q47: =(Q35+Q39+Q43)/3 -> 0.080683603
A48: ='GOS Durban'!A48 -> 2012q2 | D48: ='GOS Durban'!D48 -> 378799000000 | E48: ='GOS Durban'!E48 -> 6.0670413e+10 | M48: =E48*Q48 -> 4.8972882e+09 | N48: =(M48-M47)/M47*100 -> 13.548417 | O48: =(M48-M44)/M44*100 -> 9.6511441 | Q48: =(Q36+Q40+Q44)/3 -> 0.080719547
A49: ='GOS Durban'!A49 -> 2012q3 | D49: ='GOS Durban'!D49 -> 372670000000 | E49: ='GOS Durban'!E49 -> 5.8077711e+10 | M49: =E49*Q49 -> 4.6921427e+09 | N49: =(M49-M48)/M48*100 -> -4.1889628 | O49: =(M49-M45)/M45*100 -> 5.8179429 | Q49: =(Q37+Q41+Q45)/3 -> 0.080790764
A50: ='GOS Durban'!A50 -> 2012q4 | D50: ='GOS Durban'!D50 -> 359394000000 | E50: ='GOS Durban'!E50 -> 5.5386988e+10 | M50: =E50*Q50 -> 4.8356856e+09 | N50: =(M50-M49)/M49*100 -> 3.0592206 | O50: =(M50-M46)/M46*100 -> 7.0802016 | Q50: =(Q38+Q42+Q46)/3 -> 0.087307251
A51: ='GOS Durban'!A51 -> 2013q1 | D51: ='GOS Durban'!D51 -> 364931000000 | E51: ='GOS Durban'!E51 -> 5.6899864e+10 | M51: =E51*Q51 -> 4.5996721e+09 | N51: =(M51-M50)/M50*100 -> -4.8806627 | O51: =(M51-M47)/M47*100 -> 6.6478966 | Q51: =(Q39+Q43+Q47)/3 -> 0.080838016
A52: ='GOS Durban'!A52 -> 2013q2 | D52: ='GOS Durban'!D52 -> 402990000000 | E52: ='GOS Durban'!E52 -> 6.5166517e+10 | M52: =E52*Q52 -> 5.2106005e+09 | N52: =(M52-M51)/M51*100 -> 13.281998 | O52: =(M52-M48)/M48*100 -> 6.3976689 | Q52: =(Q40+Q44+Q48)/3 -> 0.079958248
... A66: ='GOS Durban'!A66 -> 2016q4 | D66: ='GOS Durban'!D66 -> 445531000000 | E66: ='GOS Durban'!E66 -> 6.97861e+10 | M66: =E66*Q66 -> 6.0190473e+09 | N66: =(M66-M65)/M65*100 -> 0.52012314 | O66: =(M66-M62)/M62*100 -> 5.2231138 | Q66: =(Q54+Q58+Q62)/3 -> 0.086249945

Sheet GOS RBay
D1: Mthlatuze Municipal Area GOS
C2: SA GDP | D2: SA Quarterly GOS | E2: KZN Quarterly GOS | F2: SA Fuel Consumption | G2: KZN Fuel Consumption | H2: KZN GDP Ratio | I2: KZN Fuel Ratio | J2: SA Usage | K2: KZN Usage | L2: RBay Fuel Usage | M2: Richards Bay Quarterly GOS | N2: RBay Quarterly Rate | O2: RBay Annual Rate
A3: 2001g1 | B3: 37676.736 | C3: 228114.65 | D3: ='GOS Durban'!D3 -> 1.1132744e+11 | E3: ='GOS Durban'!E3 -> 1.8047007e+10
A4: 2001g2 | B4: 39785.999 | C4: 237077.62 | D4: ='GOS Durban'!D4 -> 1.210826e+11 | E4: ='GOS Durban'!E4 -> 1.9989577e+10
A5: 2001g3 | B5: 40039.788 | C5: 239764.67 | D5: ='GOS Durban'!D5 -> 1.2207577e+11 | E5: ='GOS Durban'!E5 -> 2.0028729e+10
A6: 2001g4 | B6: 40074.592 | C6: 242416.26 | D6: ='GOS Durban'!D6 -> 1.2120292e+11 | E6: ='GOS Durban'!E6 -> 1.9729737e+10
A7: 2002g1 | B7: 38164.554 | C7: 234422.23 | D7: ='GOS Durban'!D7 -> 1.3111327e+11 | E7: ='GOS Durban'!E7 -> 2.081325e+10 | F7: 4118958622 | G7: 674878797 | H7: =E7/D7*100 -> 15.874251 | I7: =G7/F7*100 -> 16.384695 | J7: =D7/F7 -> 31.831654 | K7: =E7/G7 -> 30.839982 | M7: =E7*$L$26 -> 1.28982e+09
A8: 2002g2 | B8: 40899.51 | C8: 246692 | D8: ='GOS Durban'!D8 -> 1.4675864e+11 | E8: ='GOS Durban'!E8 -> 2.3838801e+10 | F8: 4128329079 | G8: 697677279 | H8: =E8/D8*100 -> 16.243542 | I8: =G8/F8*100 -> 16.89975 | J8: =D8/F8 -> 35.549161 | K8: =E8/G8 -> 34.168807 | M8: =E8*$L$26 -> 1.4773168e+09 | N8: =(M8-M7)/M7*100 -> 14.536658
A9: 2002g3 | B9: 40843.516 | C9: 248774.74 | D9: ='GOS Durban'!D9 -> 1.5156557e+11 | E9: ='GOS Durban'!E9 -> 2.4303028e+10 | F9: 4479766142 | G9: 748604188 | H9: =E9/D9*100 -> 16.034662 | I9: =G9/F9*100 -> 16.710787 | J9: =D9/F9 -> 33.833368 | K9: =E9/G9 -> 32.464456 | M9: =E9*$L$26 -> 1.5060854e+09 | N9: =(M9-M8)/M8*100 -> 1.9473609
A10: 2002g4 | B10: 41049.653 | C10: 252232.95 | D10: ='GOS Durban'!D10 -> 1.5010742e+11 | E10: ='GOS Durban'!E10 -> 2.3980813e+10 | F10: 4393645140 | G10: 741841930 | H10: =E10/D10*100 -> 15.975767 | I10: =G10/F10*100 -> 16.88443 | J10: =D10/F10 -> 34.164667 | K10: =E10/G10 -> 32.326041 | M10: =E10*$L$26 -> 1.4861174e+09 | N10: =(M10-M9)/M9*100 -> -1.3258242
A11: ='GOS Durban'!A11 -> 2003q1 | B11: 39679.286 | C11: 242968.68 | D11: ='GOS Durban'!D11 -> 149755012000 | E11: ='GOS Durban'!E11 -> 2.4244054e+10 | F11: 4.3245102e+09 | G11: 7.3345414e+08 | H11: =E11/D11*100 -> 16.189143 | I11: =G11/F11*100 -> 16.960398 | J11: =D11/F11 -> 34.629358 | K11: =E11/G11 -> 33.054628 | M11: =E11*$L$26 -> 1.5024307e+09 | N11: =(M11-M10)/M10*100 -> 1.0977154 | O11: =(M11-M7)/M7*100 -> 16.48375 | R11: Yearly Growth Rate %
A12: ='GOS Durban'!A12 -> 2003q2 | B12: 39679.286 | C12: 242968.68 | D12: ='GOS Durban'!D12 -> 1.5863093e+11 | E12: ='GOS Durban'!E12 -> 2.6378384e+10 | F12: 4.3448327e+09 | G12: 7.3310499e+08 | H12: =E12/D12*100 -> 16.628777 | I12: =G12/F12*100 -> 16.873032 | J12: =D12/F12 -> 36.510251 | K12: =E12/G12 -> 35.981727 | M12: =E12*$L$26 -> 1.6346975e+09 | N12: =(M12-M11)/M11*100 -> 8.8035208 | O12: =(M12-M8)/M8*100 -> 10.653151 | R12: 2001
A13: ='GOS Durban'!A13 -> 2003q3 | B13: 39679.286 | C13: 242968.68 | D13: ='GOS Durban'!D13 -> 160430738000 | E13: ='GOS Durban'!E13 -> 2.6265909e+10 | F13: 4.469508e+09 | G13: 7.5596579e+08 | H13: =E13/D13*100 -> 16.372117 | I13: =G13/F13*100 -> 16.913848 | J13: =D13/F13 -> 35.894497 | K13: =E13/G13 -> 34.744838 | M13: =E13*$L$26 -> 1.6277273e+09 | N13: =(M13-M12)/M12*100 -> -0.42639176 | O13: =(M13-M9)/M9*100 -> 8.0766919 | R13: =R12+1 -> 2002 | S13: =SUM(M7:M10) -> 5.7593396e+09
A14: ='GOS Durban'!A14 -> 2003q4 | B14: 39679.286 | C14: 242968.68 | D14: ='GOS Durban'!D14 -> 154932418000 | E14: ='GOS Durban'!E14 -> 2.5299339e+10 | F14: 4.7924549e+09 | G14: 792421454 | H14: =E14/D14*100 -> 16.329274 | I14: =G14/F14*100 -> 16.534771 | J14: =D14/F14 -> 32.328404 | K14: =E14/G14 -> 31.926621 | M14: =E14*$L$26 -> 1.567828e+09 | N14: =(M14-M13)/M13*100 -> -3.6799388 | O14: =(M14-M10)/M10*100 -> 5.4982573 | R14: =R13+1 -> 2003 | S14: =SUM(M11:M14) -> 6.3326836e+09 | T14: =(S14-S13)/S13*100 -> 9.955029
A15: ='GOS Durban'!A15 -> 2004q1 | B15: 39679.286 | C15: 242968.68 | D15: ='GOS Durban'!D15 -> 161952871000 | E15: ='GOS Durban'!E15 -> 2.6334294e+10 | F15: 4.4993406e+09 | G15: 7.3594163e+08 | H15: =E15/D15*100 -> 16.260468 | I15: =G15/F15*100 -> 16.356655 | J15: =D15/F15 -> 35.994802 | K15: =E15/G15 -> 35.783129 | M15: =E15*$L$26 -> 1.6319652e+09 | N15: =(M15-M14)/M14*100 -> 4.0908372 | O15: =(M15-M11)/M11*100 -> 8.6216625 | R15: =R14+1 -> 2004 | S15: =SUM(M15:M18) -> 6.9961962e+09 | T15: =(S15-S14)/S14*100 -> 10.47759
A16: ='GOS Durban'!A16 -> 2004q2 | B16: 39679.286 | C16: 242968.68 | D16: ='GOS Durban'!D16 -> 172153283000 | E16: ='GOS Durban'!E16 -> 2.8589935e+10 | F16: 4.5436772e+09 | G16: 7.6518177e+08 | H16: =E16/D16*100 -> 16.607255 | I16: =G16/F16*100 -> 16.840584 | J16: =D16/F16 -> 37.888537 | K16: =E16/G16 -> 37.363586 | M16: =E16*$L$26 -> 1.7717498e+09 | N16: =(M16-M15)/M15*100 -> 8.5654109 | O16: =(M16-M12)/M12*100 -> 8.3839506 | R16: =R15+1 -> 2005 | S16: =SUM(M19:M22) -> 7.6817431e+09 | T16: =(S16-S15)/S15*100 -> 9.7988526
A17: ='GOS Durban'!A17 -> 2004q3 | B17: 39679.286 | C17: 242968.68 | D17: ='GOS Durban'!D17 -> 180297173000 | E17: ='GOS Durban'!E17 -> 2.9683853e+10 | F17: 4.7754909e+09 | G17: 7.9366597e+08 | H17: =E17/D17*100 -> 16.463848 | I17: =G17/F17*100 -> 16.619568 | J17: =D17/F17 -> 37.754689 | K17: =E17/G17 -> 37.40094 | M17: =E17*$L$26 -> 1.8395411e+09 | N17: =(M17-M16)/M16*100 -> 3.826236 | O17: =(M17-M13)/M13*100 -> 13.012854 | R17: =R16+1 -> 2006 | S17: =SUM(M23:M26) -> 8.4950791e+09 | T17: =(S17-S16)/S16*100 -> 10.587909
A18: ='GOS Durban'!A18 -> 2004q4 | B18: 39679.286 | C18: 242968.68 | D18: ='GOS Durban'!D18 -> 1.7364224e+11 | E18: ='GOS Durban'!E18 -> 2.8286411e+10 | F18: 4.830257e+09 | G18: 826240651 | H18: =E18/D18*100 -> 16.290052 | I18: =G18/F18*100 -> 17.105521 | J18: =D18/F18 -> 35.948862 | K18: =E18/G18 -> 34.235075 | M18: =E18*$L$26 -> 1.7529401e+09 | N18: =(M18-M17)/M17*100 -> -4.7077519 | O18: =(M18-M14)/M14*100 -> 11.806915 | R18: =R17+1 -> 2007 | S18: =SUM(M27:M30) -> 9.8010783e+09 | T18: =(S18-S17)/S17*100 -> 15.373597
A19: ='GOS Durban'!A19 -> 2005q1 | B19: 39679.286 | C19: 242968.68 | D19: ='GOS Durban'!D19 -> 176970820000 | E19: ='GOS Durban'!E19 -> 2.8914924e+10 | F19: 4690209425 | G19: 774740717 | H19: =E19/D19*100 -> 16.338809 | I19: =G19/F19*100 -> 16.518254 | J19: =D19/F19 -> 37.731965 | K19: =E19/G19 -> 37.322066 | L19: =M31/E31 -> 0.063044421 | M19: =E19*$L$26 -> 1.7918897e+09 | N19: =(M19-M18)/M18*100 -> 2.2219616 | O19: =(M19-M15)/M15*100 -> 9.7995027 | R19: =R18+1 -> 2008 | S19: =SUM(M31:M34) -> 1.1670061e+10 | T19: =(S19-S18)/S18*100 -> 19.069155
A20: ='GOS Durban'!A20 -> 2005q2 | B20: 39679.286 | C20: 242968.68 | D20: ='GOS Durban'!D20 -> 1.9160523e+11 | E20: ='GOS Durban'!E20 -> 3.1156569e+10 | F20: 4760343407 | G20: 805551748 | H20: =E20/D20*100 -> 16.260813 | I20: =G20/F20*100 -> 16.922135 | J20: =D20/F20 -> 40.250296 | K20: =E20/G20 -> 38.677303 | L20: =M32/E32 -> 0.068349777 | M20: =E20*$L$26 -> 1.9308069e+09 | N20: =(M20-M19)/M19*100 -> 7.7525527 | O20: =(M20-M16)/M16*100 -> 8.9774046 | R20: =R19+1 -> 2009 | S20: =SUM(M35:M38) -> 1.0762704e+10 | T20: =(S20-S19)/S19*100 -> -7.7750858
A21: ='GOS Durban'!A21 -> 2005q3 | B21: 39679.286 | C21: 242968.68 | D21: ='GOS Durban'!D21 -> 1.9910681e+11 | E21: ='GOS Durban'!E21 -> 3.2559717e+10 | F21: 4824982237 | G21: 802738840 | H21: =E21/D21*100 -> 16.35289 | I21: =G21/F21*100 -> 16.637136 | J21: =D21/F21 -> 41.265813 | K21: =E21/G21 -> 40.560785 | L21: =M33/E33 -> 0.067743762 | M21: =E21*$L$26 -> 2.0177616e+09 | N21: =(M21-M20)/M20*100 -> 4.5035401 | O21: =(M21-M17)/M17*100 -> 9.688312 | R21: =R20+1 -> 2010 | S21: =SUM(M39:M42) -> 1.2222502e+10 | T21: =(S21-S20)/S20*100 -> 13.563492
A22: ='GOS Durban'!A22 -> 2005q4 | B22: 39679.286 | C22: 242968.68 | D22: ='GOS Durban'!D22 -> 193270352000 | E22: ='GOS Durban'!E22 -> 3.1325648e+10 | F22: 5011501336 | G22: 832010091 | H22: =E22/D22*100 -> 16.208201 | I22: =G22/F22*100 -> 16.602013 | J22: =D22/F22 -> 38.56536 | K22: =E22/G22 -> 37.650562 | L22: =M34/E34 -> 0.062659759 | M22: =E22*$L$26 -> 1.9412849e+09 | N22: =(M22-M21)/M21*100 -> -3.7901735 | O22: =(M22-M18)/M18*100 -> 10.744512 | R22: =R21+1 -> 2011 | S22: =SUM(M43:M46) -> 1.3194336e+10 | T22: =(S22-S21)/S21*100 -> 7.9511813
A23: ='GOS Durban'!A23 -> 2006q1 | B23: 39679.286 | C23: 242968.68 | D23: ='GOS Durban'!D23 -> 1.9413895e+11 | E23: ='GOS Durban'!E23 -> 3.1409573e+10 | F23: 4675546289 | G23: 750919883 | H23: =E23/D23*100 -> 16.178914 | I23: =G23/F23*100 -> 16.060581 | J23: =D23/F23 -> 41.522195 | K23: =E23/G23 -> 41.828127 | L23: =M35/E35 -> 0.05623937 | M23: =E23*$L$26 -> 1.9464858e+09 | N23: =(M23-M22)/M22*100 -> 0.26791153 | O23: =(M23-M19)/M19*100 -> 8.6275466 | R23: =R22+1 -> 2012 | S23: =SUM(M47:M50) -> 1.3748262e+10 | T23: =(S23-S22)/S22*100 -> 4.1982163
A24: ='GOS Durban'!A24 -> 2006q2 | B24: 39679.286 | C24: 242968.68 | D24: ='GOS Durban'!D24 -> 209393937500 | E24: ='GOS Durban'!E24 -> 3.3858498e+10 | F24: 4859349229 | G24: 811777848 | H24: =E24/D24*100 -> 16.16976 | I24: =G24/F24*100 -> 16.705485 | J24: =D24/F24 -> 43.090942 | K24: =E24/G24 -> 41.709068 | L24: =M36/E36 -> 0.056442926 | M24: =E24*$L$26 -> 2.0982484e+09 | N24: =(M24-M23)/M23*100 -> 7.7967481 | O24: =(M24-M20)/M20*100 -> 8.6721008 | R24: =R23+1 -> 2013 | S24: =SUM(M51:M54) -> 1.4976616e+10 | T24: =(S24-S23)/S23*100 -> 8.9346113
A25: ='GOS Durban'!A25 -> 2006q3 | B25: 39679.286 | C25: 242968.68 | D25: ='GOS Durban'!D25 -> 230055916500 | E25: ='GOS Durban'!E25 -> 3.6822249e+10 | F25: 4906222423 | G25: 827883368 | H25: =E25/D25*100 -> 16.005782 | I25: =G25/F25*100 -> 16.874151 | J25: =D25/F25 -> 46.890641 | K25: =E25/G25 -> 44.47758 | L25: 0.059317703 | M25: =E25*$L$26 -> 2.2819154e+09 | N25: =(M25-M24)/M24*100 -> 8.7533453 | O25: =(M25-M21)/M21*100 -> 13.091427 | R25: 2014 | S25: =SUM(M55:M58) -> 1.6024579e+10 | T25: =(S25-S24)/S24*100 -> 6.9973268
A26: ='GOS Durban'!A26 -> 2006q4 | B26: 39679.286 | C26: 242968.68 | D26: ='GOS Durban'!D26 -> 2.2045031e+11 | E26: ='GOS Durban'!E26 -> 3.4990977e+10 | F26: 5280826192 | G26: 873224453 | H26: =E26/D26*100 -> 15.872501 | I26: =G26/F26*100 -> 16.535754 | J26: =D26/F26 -> 41.745421 | K26: =E26/G26 -> 40.071 | L26: =AVERAGE(L19:L25) -> 0.061971103 | M26: =E26*$L$26 -> 2.1684294e+09 | N26: =(M26-M25)/M25*100 -> -4.9732752 | O26: =(M26-M22)/M22*100 -> 11.700731 | Q26: =M26/E26 -> 0.061971103 | R26: 2015 | S26: =SUM(M59:M62) -> 1.6856495e+10 | T26: =(S26-S25)/S25*100 -> 5.1914985
A27: ='GOS Durban'!A27 -> 2007q1 | B27: 39679.286 | C27: 242968.68 | D27: ='GOS Durban'!D27 -> 233718231000 | E27: ='GOS Durban'!E27 -> 3.73478e+10 | F27: 5154329343 | G27: 833477953 | H27: =E27/D27*100 -> 15.97984 | I27: =G27/F27*100 -> 16.170444 | J27: =D27/F27 -> 45.344062 | K27: =E27/G27 -> 44.809584 | M27: =E27*$L$26 -> 2.3144844e+09 | N27: =(M27-M26)/M26*100 -> 6.7355164 | O27: =(M27-M23)/M23*100 -> 18.90579 | Q27: =M27/E27 -> 0.061971103 | R27: 2016 | S27: =SUM(M63:M66) -> 1.7850006e+10 | T27: =(S27-S26)/S26*100 -> 5.8939356
A28: ='GOS Durban'!A28 -> 2007q2 | B28: 39679.286 | C28: 242968.68 | D28: ='GOS Durban'!D28 -> 2.4503453e+11 | E28: ='GOS Durban'!E28 -> 3.9579243e+10 | F28: 5056692012 | G28: 821281896 | H28: =E28/D28*100 -> 16.152517 | I28: =G28/F28*100 -> 16.241485 | J28: =D28/F28 -> 48.457476 | K28: =E28/G28 -> 48.192031 | M28: =E28*$L$26 -> 2.4527693e+09 | N28: =(M28-M27)/M27*100 -> 5.9747631 | O28: =(M28-M24)/M24*100 -> 16.896039 | Q28: =M28/E28 -> 0.061971103
A29: ='GOS Durban'!A29 -> 2007q3 | B29: 39679.286 | C29: 242968.68 | D29: ='GOS Durban'!D29 -> 2.5749613e+11 | E29: ='GOS Durban'!E29 -> 4.1527488e+10 | F29: 5400223668 | G29: 898105429 | H29: =E29/D29*100 -> 16.127422 | I29: =G29/F29*100 -> 16.630893 | J29: =D29/F29 -> 47.682494 | K29: =E29/G29 -> 46.23899 | M29: =E29*$L$26 -> 2.5735042e+09 | N29: =(M29-M28)/M28*100 -> 4.9223908 | O29: =(M29-M25)/M25*100 -> 12.778249 | Q29: =M29/E29 -> 0.061971103
A30: ='GOS Durban'!A30 -> 2007q4 | B30: 39679.286 | C30: 242968.68 | D30: ='GOS Durban'!D30 -> 250732933500 | E30: ='GOS Durban'!E30 -> 3.9701091e+10 | F30: 5579296845 | G30: 902642355 | H30: =E30/D30*100 -> 15.834015 | I30: =G30/F30*100 -> 16.178425 | J30: =D30/F30 -> 44.939881 | K30: =E30/G30 -> 43.983191 | M30: =E30*$L$26 -> 2.4603204e+09 | N30: =(M30-M29)/M29*100 -> -4.3980424 | O30: =(M30-M26)/M26*100 -> 13.460939 | Q30: =M30/E30 -> 0.061971103
A31: ='GOS Durban'!A31 -> 2008q1 | B31: 39679.286 | C31: 242968.68 | D31: ='GOS Durban'!D31 -> 2.5920188e+11 | E31: ='GOS Durban'!E31 -> 4.1339823e+10 | F31: 5543646776 | G31: 903654581 | H31: =E31/D31*100 -> 15.94889 | I31: =G31/F31*100 -> 16.300724 | J31: =D31/F31 -> 46.756565 | K31: =E31/G31 -> 45.747373 | L31: 56970380 | M31: =L31*K31 -> 2.6062452e+09 | N31: =(M31-M30)/M30*100 -> 5.9311299 | O31: =(M31-M27)/M27*100 -> 12.605868 | Q31: =M31/E31 -> 0.063044421
A32: ='GOS Durban'!A32 -> 2008q2 | B32: 39679.286 | C32: 242968.68 | D32: ='GOS Durban'!D32 -> 2.8547182e+11 | E32: ='GOS Durban'!E32 -> 4.6126765e+10 | F32: 5265926862 | G32: 890416751 | H32: =E32/D32*100 -> 16.15808 | I32: =G32/F32*100 -> 16.909022 | J32: =D32/F32 -> 54.211125 | K32: =E32/G32 -> 51.803568 | L32: 60859786 | M32: =L32*K32 -> 3.1527541e+09 | N32: =(M32-M31)/M31*100 -> 20.969204 | O32: =(M32-M28)/M28*100 -> 28.538549 | Q32: =M32/E32 -> 0.068349777
A33: ='GOS Durban'!A33 -> 2008q3 | B33: 39679.286 | C33: 242968.68 | D33: ='GOS Durban'!D33 -> 295803772000 | E33: ='GOS Durban'!E33 -> 4.7244502e+10 | F33: 5202135900 | G33: 869415812 | H33: =E33/D33*100 -> 15.971569 | I33: =G33/F33*100 -> 16.71267 | J33: =D33/F33 -> 56.861985 | K33: =E33/G33 -> 54.340514 | L33: 58897498 | M33: =L33*K33 -> 3.2005203e+09 | N33: =(M33-M32)/M32*100 -> 1.5150638 | O33: =(M33-M29)/M29*100 -> 24.364293 | Q33: =M33/E33 -> 0.067743762
A34: ='GOS Durban'!A34 -> 2008q4 | B34: 39679.286 | C34: 242968.68 | D34: ='GOS Durban'!D34 -> 275976915000 | E34: ='GOS Durban'!E34 -> 4.325809e+10 | F34: 5460259824 | G34: 899391940 | H34: =E34/D34*100 -> 15.674532 | I34: =G34/F34*100 -> 16.471596 | J34: =D34/F34 -> 50.542817 | K34: =E34/G34 -> 48.09704 | L34: 56355682 | M34: =L34*K34 -> 2.7105415e+09 | N34: =(M34-M33)/M33*100 -> -15.30935 | O34: =(M34-M30)/M30*100 -> 10.170264 | Q34: =M34/E34 -> 0.062659759
A35: ='GOS Durban'!A35 -> 2009q1 | B35: 39679.286 | C35: 242968.68 | D35: ='GOS Durban'!D35 -> 280849525000 | E35: ='GOS Durban'!E35 -> 4.4861111e+10 | F35: 5206564996 | G35: 842784368 | H35: =E35/D35*100 -> 15.973362 | I35: =G35/F35*100 -> 16.186956 | J35: =D35/F35 -> 53.941423 | K35: =E35/G35 -> 53.229643 | L35: 47397662 | M35: =L35*K35 -> 2.5229606e+09 | N35: =(M35-M34)/M34*100 -> -6.9204193 | O35: =(M35-M31)/M31*100 -> -3.1955767 | Q35: =M35/E35 -> 0.05623937
A36: ='GOS Durban'!A36 -> 2009q2 | B36: 39679.286 | C36: 242968.68 | D36: ='GOS Durban'!D36 -> 301158309000 | E36: ='GOS Durban'!E36 -> 4.8709843e+10 | F36: 4994646966 | G36: 831381344 | H36: =E36/D36*100 -> 16.174165 | I36: =G36/F36*100 -> 16.645448 | J36: =D36/F36 -> 60.296215 | K36: =E36/G36 -> 58.58905 | L36: 46925596 | M36: =L36*K36 -> 2.7493261e+09 | N36: =(M36-M35)/M35*100 -> 8.9722145 | O36: =(M36-M32)/M32*100 -> -12.796051 | Q36: =M36/E36 -> 0.056442926
A37: ='GOS Durban'!A37 -> 2009q3 | B37: 39679.286 | C37: 242968.68 | D37: ='GOS Durban'!D37 -> 3.0008949e+11 | E37: ='GOS Durban'!E37 -> 4.7627231e+10 | F37: 5002707417 | G37: 835393434 | H37: =E37/D37*100 -> 15.87101 | I37: =G37/F37*100 -> 16.698827 | J37: =D37/F37 -> 59.985416 | K37: =E37/G37 -> 57.011737 | L37: 49355219 | M37: =L37*K37 -> 2.8138268e+09 | N37: =(M37-M36)/M36*100 -> 2.3460548 | O37: =(M37-M33)/M33*100 -> -12.082209 | Q37: =M37/E37 -> 0.059080209
A38: ='GOS Durban'!A38 -> 2009q4 | B38: 39679.286 | C38: 242968.68 | D38: ='GOS Durban'!D38 -> 288855916000 | E38: ='GOS Durban'!E38 -> 4.5143112e+10 | F38: 5074816265 | G38: 901763015 | H38: =E38/D38*100 -> 15.628246 | I38: =G38/F38*100 -> 17.769373 | J38: =D38/F38 -> 56.919483 | K38: =E38/G38 -> 50.060949 | L38: 53466632 | M38: =L38*K38 -> 2.6765903e+09 | N38: =(M38-M37)/M37*100 -> -4.8772173 | O38: =(M38-M34)/M34*100 -> -1.2525594 | Q38: =M38/E38 -> 0.059291223
A39: ='GOS Durban'!A39 -> 2010q1 | B39: 39679.286 | C39: 242968.68 | D39: ='GOS Durban'!D39 -> 294772000000 | E39: ='GOS Durban'!E39 -> 4.7019932e+10 | M39: =E39*Q39 -> 2.8408643e+09 | N39: =(M39-M38)/M38*100 -> 6.1374331 | O39: =(M39-M35)/M35*100 -> 12.60042 | Q39: =(Q27+Q31+Q35)/3 -> 0.060418298
A40: ='GOS Durban'!A40 -> 2010q2 | B40: 39679.286 | C40: 242968.68 | D40: ='GOS Durban'!D40 -> 328726000000 | E40: ='GOS Durban'!E40 -> 5.277812e+10 | M40: =E40*Q40 -> 3.2856808e+09 | N40: =(M40-M39)/M39*100 -> 15.657789 | O40: =(M40-M36)/M36*100 -> 19.508589 | Q40: =(Q28+Q32+Q36)/3 -> 0.062254602
A41: ='GOS Durban'!A41 -> 2010q3 | B41: 39679.286 | C41: 242968.68 | D41: ='GOS Durban'!D41 -> 321915000000 | E41: ='GOS Durban'!E41 -> 5.0078315e+10 | M41: =E41*Q41 -> 3.1515131e+09 | N41: =(M41-M40)/M40*100 -> -4.0834084 | O41: =(M41-M37)/M37*100 -> 12.000962 | Q41: =(Q29+Q33+Q37)/3 -> 0.062931691
A42: ='GOS Durban'!A42 -> 2010q4 | B42: 39679.286 | C42: 242968.68 | D42: ='GOS Durban'!D42 -> 314742000000 | E42: ='GOS Durban'!E42 -> 4.8027579e+10 | M42: =E42*Q42 -> 2.9444441e+09 | N42: =(M42-M41)/M41*100 -> -6.5704599 | O42: =(M42-M38)/M38*100 -> 10.007277 | Q42: =(Q30+Q34+Q38)/3 -> 0.061307361
A43: ='GOS Durban'!A43 -> 2011q1 | B43: 39679.286 | C43: 242968.68 | D43: ='GOS Durban'!D43 -> 316705000000 | E43: ='GOS Durban'!E43 -> 4.955324e+10 | M43: =E43*Q43 -> 2.9682736e+09 | N43: =(M43-M42)/M42*100 -> 0.80930219 | O43: =(M43-M39)/M39*100 -> 4.484879 | Q43: =(Q31+Q35+Q39)/3 -> 0.059900696
A44: ='GOS Durban'!A44 -> 2011q2 | B44: 39679.286 | C44: 242968.68 | D44: ='GOS Durban'!D44 -> 350332000000 | E44: ='GOS Durban'!E44 -> 5.6198575e+10 | M44: =E44*Q44 -> 3.5039307e+09 | N44: =(M44-M43)/M43*100 -> 18.046082 | O44: =(M44-M40)/M40*100 -> 6.6424546 | Q44: =(Q32+Q36+Q40)/3 -> 0.062349102
A45: ='GOS Durban'!A45 -> 2011q3 | B45: 39679.286 | C45: 242968.68 | D45: ='GOS Durban'!D45 -> 353810000000 | E45: ='GOS Durban'!E45 -> 5.5483216e+10 | M45: =E45*Q45 -> 3.5094182e+09 | N45: =(M45-M44)/M44*100 -> 0.15660969 | O45: =(M45-M41)/M41*100 -> 11.356612 | Q45: =(Q33+Q37+Q41)/3 -> 0.063251888
A46: ='GOS Durban'!A46 -> 2011q4 | B46: 39679.286 | C46: 242968.68 | D46: ='GOS Durban'!D46 -> 344174000000 | E46: ='GOS Durban'!E46 -> 5.2593183e+10 | M46: =E46*Q46 -> 3.2127132e+09 | N46: =(M46-M45)/M45*100 -> -8.4545355 | O46: =(M46-M42)/M42*100 -> 9.1110242 | Q46: =(Q34+Q38+Q42)/3 -> 0.061086114
A47: ='GOS Durban'!A47 -> 2012q1 | B47: 39679.286 | C47: 242968.68 | D47: ='GOS Durban'!D47 -> 342052000000 | E47: ='GOS Durban'!E47 -> 5.3455119e+10 | M47: =E47*Q47 -> 3.1459828e+09 | N47: =(M47-M46)/M46*100 -> -2.0770728 | O47: =(M47-M43)/M43*100 -> 5.986954 | Q47: =(Q35+Q39+Q43)/3 -> 0.058852788
A48: ='GOS Durban'!A48 -> 2012q2 | B48: 39679.286 | C48: 242968.68 | D48: ='GOS Durban'!D48 -> 378799000000 | E48: ='GOS Durban'!E48 -> 6.0670413e+10 | M48: =E48*Q48 -> 3.6613913e+09 | N48: =(M48-M47)/M47*100 -> 16.383067 | O48: =(M48-M44)/M44*100 -> 4.4938269 | Q48: =(Q36+Q40+Q44)/3 -> 0.060348877
A49: ='GOS Durban'!A49 -> 2012q3 | B49: 39679.286 | C49: 242968.68 | D49: ='GOS Durban'!D49 -> 372670000000 | E49: ='GOS Durban'!E49 -> 5.8077711e+10 | M49: =E49*Q49 -> 3.5865656e+09 | N49: =(M49-M48)/M48*100 -> -2.0436397 | O49: =(M49-M45)/M45*100 -> 2.1982971 | Q49: =(Q37+Q41+Q45)/3 -> 0.061754596
A50: ='GOS Durban'!A50 -> 2012q4 | B50: 39679.286 | C50: 242968.68 | D50: ='GOS Durban'!D50 -> 359394000000 | E50: ='GOS Durban'!E50 -> 5.5386988e+10 | M50: =E50*Q50 -> 3.3543227e+09 | N50: =(M50-M49)/M49*100 -> -6.475356 | O50: =(M50-M46)/M46*100 -> 4.407787 | Q50: =(Q38+Q42+Q46)/3 -> 0.060561566
... A66: ='GOS Durban'!A66 -> 2016q4 | B66: 39679.286 | C66: 242968.68 | D66: ='GOS Durban'!D66 -> 445531000000 | E66: ='GOS Durban'!E66 -> 6.97861e+10 | M66: =E66*Q66 -> 4.2492902e+09 | N66: =(M66-M65)/M65*100 -> -8.7898985 | O66: =(M66-M62)/M62*100 -> 5.6881945 | Q66: =(Q54+Q58+Q62)/3 -> 0.060890209
Q67: =(Q48+Q52+Q56)/3 -> 0.061149783

Sheet GOS Port Shepstone
D1: Hibiscus Coast Municipal Area GOS
C2: SA GDP | D2: SA Quarterly GOS | E2: KZN Quarterly GOS | F2: SA Fuel Consumption | G2: KZN Fuel Consumption | H2: KZN GDP Ratio | I2: KZN Fuel Ratio | J2: SA Usage | K2: KZN Usage | L2: PS Fuel Usage | M2: Port Shepstone Quarterly GOS | N2: Port Shepstone Quarterly Rate | O2: Port Shepstone Annual Rate
A3: 2001g1 | B3: 37676.736 | C3: 228114.65 | D3: ='GOS Durban'!D3 -> 1.1132744e+11 | E3: ='GOS Durban'!E3 -> 1.8047007e+10
A4: 2001g2 | B4: 39785.999 | C4: 237077.62 | D4: ='GOS Durban'!D4 -> 1.210826e+11 | E4: ='GOS Durban'!E4 -> 1.9989577e+10
A5: 2001g3 | B5: 40039.788 | C5: 239764.67 | D5: ='GOS Durban'!D5 -> 1.2207577e+11 | E5: ='GOS Durban'!E5 -> 2.0028729e+10
A6: 2001g4 | B6: 40074.592 | C6: 242416.26 | D6: ='GOS Durban'!D6 -> 1.2120292e+11 | E6: ='GOS Durban'!E6 -> 1.9729737e+10
A7: 2002g1 | B7: 38164.554 | C7: 234422.23 | D7: ='GOS Durban'!D7 -> 1.3111327e+11 | E7: ='GOS Durban'!E7 -> 2.081325e+10 | F7: 4118958622 | G7: 674878797 | H7: =E7/D7*100 -> 15.874251 | I7: =G7/F7*100 -> 16.384695 | J7: =D7/F7 -> 31.831654 | K7: =E7/G7 -> 30.839982 | M7: =E7*$L$26 -> 6.3558327e+08
A8: 2002g2 | B8: 40899.51 | C8: 246692 | D8: ='GOS Durban'!D8 -> 1.4675864e+11 | E8: ='GOS Durban'!E8 -> 2.3838801e+10 | F8: 4128329079 | G8: 697677279 | H8: =E8/D8*100 -> 16.243542 | I8: =G8/F8*100 -> 16.89975 | J8: =D8/F8 -> 35.549161 | K8: =E8/G8 -> 34.168807 | M8: =E8*$L$26 -> 7.2797583e+08 | N8: =(M8-M7)/M7*100 -> 14.536658
A9: 2002g3 | B9: 40843.516 | C9: 248774.74 | D9: ='GOS Durban'!D9 -> 1.5156557e+11 | E9: ='GOS Durban'!E9 -> 2.4303028e+10 | F9: 4479766142 | G9: 748604188 | H9: =E9/D9*100 -> 16.034662 | I9: =G9/F9*100 -> 16.710787 | J9: =D9/F9 -> 33.833368 | K9: =E9/G9 -> 32.464456 | M9: =E9*$L$26 -> 7.4215215e+08 | N9: =(M9-M8)/M8*100 -> 1.9473609
