Workbook

Sheet Cover
C2: KZN Multiple Deprivation Index
C3: Ranking by:
C4: Income | D4: The Deprivation Index identifies the areas of greatest need and highlights the KZN Municipalities that are most deprived or in a state of most disadvantage.
C5: Employment
C6: Health
C7: Education
C8: Living environment
C9: Crime
C10: Scores
C11: Final Ranking
C12: Rank Change
C14: Please Note
C15: Score = 1 Most Deprived
C16: Sources: Glabal Insight Reginal Explorer, National Treasury, Stats SA

Sheet Rank-income
A1: KZN Multiple Deprivation Index | B1: 1996 | D1: 2002 | F1: 2007 | H1: 2010
A2: Per Capita Income | B2: Per Capita Income | C2: Score | D2: =B2 -> Per Capita Income | E2: Score | F2: =B2 -> Per Capita Income | G2: Score | H2: =D2 -> Per Capita Income | I2: Score
A3: The Big Five False Bay Local Municipality | B3: 2590.6428 | C3: 2 | D3: 3599.2182 | E3: 1 | F3: 5842.3802 | G3: 1 | H3: 7687.9093 | I3: 1
A4: Mthonjaneni Local Municipality | B4: 3881.6716 | C4: 24 | D4: 5294.1468 | E4: 15 | F4: 6803.6483 | G4: 3 | H4: 8353.0726 | I4: 2
A5: Dannhauser Local Municipality | B5: 3919.3175 | C5: 26 | D5: 3901.6664 | E5: 2 | F5: 6240.6049 | G5: 2 | H5: 8511.483 | I5: 3
A6: Jozini Local Municipality | B6: 2900.0698 | C6: 9 | D6: 4150.356 | E6: 3 | F6: 6889.6002 | G6: 4 | H6: 9064.8464 | I6: 4
A7: Hlabisa Local Municipality | B7: 2765.3777 | C7: 6 | D7: 4242.2112 | E7: 4 | F7: 7115.8488 | G7: 5 | H7: 9490.2831 | I7: 5
A8: Ingwe Local Municipality | B8: 2830.9336 | C8: 7 | D8: 4758.5283 | E8: 10 | F8: 7353.9643 | G8: 7 | H8: 9685.8727 | I8: 6
A9: Okhahlamba Local Municipality | B9: 3005.0193 | C9: 11 | D9: 4855.789 | E9: 11 | F9: 7272.4635 | G9: 6 | H9: 9848.9722 | I9: 7
A10: Ubuhlebezwe Local Municipality | B10: 4051.6714 | C10: 28 | D10: 6052.0893 | E10: 22 | F10: 7949.2108 | G10: 11 | H10: 9923.8317 | I10: 8
A11: Nquthu Local Municipality | B11: 2602.1322 | C11: 3 | D11: 4322.2653 | E11: 5 | F11: 7519.1636 | G11: 8 | H11: 10050.549 | I11: 9
A12: eDumbe Local Municipality | B12: 3679.4921 | C12: 21 | D12: 5473.0079 | E12: 17 | F12: 7816.8235 | G12: 9 | H12: 10105.81 | I12: 10
A13: Umhlabuyalingana Local Municipality | B13: 2834.3386 | C13: 8 | D13: 4662.7247 | E13: 9 | F13: 7831.1506 | G13: 10 | H13: 10258.574 | I13: 11
A14: Umzumbe Local Municipality | B14: 3142.1495 | C14: 14 | D14: 5153.7503 | E14: 13 | F14: 8117.6981 | G14: 12 | H14: 10355.77 | I14: 12
... A54: uMngeni Local Municipality | B54: 14237.86 | C54: 51 | D54: 23893.663 | E54: 52 | F54: 38156.127 | G54: 52 | H54: 50835.578 | I54: 52

Sheet Rank-employment
A1: KZN Multiple Deprivation Index | B1: 1996 | D1: 2002 | F1: 2007 | H1: 2010
A2: Number of People Formally and Informally employed | B2: Employment | C2: Score | D2: Employment | E2: Score | F2: Employment | G2: Score | H2: Employment | I2: Score
A3: Abaqulusi Local Municipality | B3: 0.11762105 | C3: 35 | D3: 0.11047351 | E3: 33 | F3: 0.12114835 | G3: 34 | H3: 0.12636158 | I3: 34
A4: Dannhauser Local Municipality | B4: 0.091791236 | C4: 27 | D4: 0.043770129 | E4: 8 | F4: 0.024344352 | G4: 3 | H4: 0.016662939 | I4: 1
A5: eDumbe Local Municipality | B5: 0.084440012 | C5: 25 | D5: 0.087036875 | E5: 26 | F5: 0.096683855 | G5: 27 | H5: 0.099179752 | I5: 27
A6: Emadlangeni Local Municipality (Utrecht) | B6: 0.15767691 | C6: 41 | D6: 0.14835916 | E6: 39 | F6: 0.16453881 | G6: 38 | H6: 0.16754339 | I6: 38
A7: Emnambithi-Ladysmith Local Municipality | B7: 0.15189978 | C7: 40 | D7: 0.15556593 | E7: 40 | F7: 0.1681042 | G7: 39 | H7: 0.17006207 | I7: 39
A8: Endumeni Local Municipality | B8: 0.10468511 | C8: 32 | D8: 0.090654717 | E8: 27 | F8: 0.10352234 | G8: 28 | H8: 0.10988369 | I8: 28
A9: eThekwini Metropolitan Municipality | B9: 0.25031934 | C9: 50 | D9: 0.25871332 | E9: 50 | F9: 0.28887652 | G9: 48 | H9: 0.30465149 | I9: 50
A10: Ezingoleni Local Municipality | B10: 0.051528526 | C10: 12 | D10: 0.057094914 | E10: 17 | F10: 0.082803986 | G10: 25 | H10: 0.097323884 | I10: 26
A11: Greater Kokstad Local Municipality | B11: 0.2575338 | C11: 52 | D11: 0.24636987 | E11: 47 | F11: 0.2588505 | G11: 47 | H11: 0.25861522 | I11: 47
A12: Hibiscus Coast Local Municipality | B12: 0.17304136 | C12: 43 | D12: 0.19176093 | E12: 43 | F12: 0.22081208 | G12: 42 | H12: 0.21980592 | I12: 42
A13: Hlabisa Local Municipality | B13: 0.070421084 | C13: 19 | D13: 0.069788357 | E13: 22 | F13: 0.07327853 | G13: 21 | H13: 0.076199226 | I13: 24
A14: Imbabazane Local Municipality | B14: 0.087031057 | C14: 26 | D14: 0.068212276 | E14: 20 | F14: 0.053029582 | G14: 15 | H14: 0.06567265 | I14: 19
... A54: Vulamehlo Local Municipality | B54: 0.070920176 | C54: 21 | D54: 0.05286318 | E54: 14 | F54: 0.036009309 | G54: 9 | H54: 0.029152126 | I54: 7

Sheet Rank-health
A1: KZN Multiple Deprivation Index | B1: 1996 | D1: 2002 | F1: 2007 | H1: 2010
A2: Number of HIV Infected People | B2: Health | C2: Score | D2: =B2 -> Health | E2: Score | F2: =B2 -> Health | G2: Score | H2: =B2 -> Health | I2: Score
A3: Abaqulusi Local Municipality | B3: 0.93507308 | C3: 19 | D3: 0.85182184 | E3: 21 | F3: 0.86461091 | G3: 25 | H3: 0.88008163 | I3: 27
A4: Dannhauser Local Municipality | B4: 0.93505597 | C4: 18 | D4: 0.8592235 | E4: 38 | F4: 0.87510577 | G4: 44 | H4: 0.89028194 | I4: 45
A5: eDumbe Local Municipality | B5: 0.93915979 | C5: 31 | D5: 0.85589192 | E5: 29 | F5: 0.86447185 | G5: 24 | H5: 0.87919845 | I5: 23
A6: Emadlangeni Local Municipality (Utrecht) | B6: 0.93080948 | C6: 7 | D6: 0.83643321 | E6: 7 | F6: 0.84700539 | G6: 5 | H6: 0.86497971 | I6: 6
A7: Emnambithi-Ladysmith Local Municipality | B7: 0.93303043 | C7: 15 | D7: 0.84196092 | E7: 12 | F7: 0.85283135 | G7: 10 | H7: 0.86963681 | I7: 10
A8: Endumeni Local Municipality | B8: 0.93983004 | C8: 34 | D8: 0.84946702 | E8: 16 | F8: 0.85682581 | G8: 15 | H8: 0.87156815 | I8: 14
A9: eThekwini Metropolitan Municipality | B9: 0.94001555 | C9: 36 | D9: 0.85801213 | E9: 35 | F9: 0.8676734 | G9: 32 | H9: 0.88287643 | I9: 35
A10: Ezingoleni Local Municipality | B10: 0.93924897 | C10: 32 | D10: 0.85643504 | E10: 30 | F10: 0.86625508 | G10: 30 | H10: 0.88013971 | I10: 28
A11: Greater Kokstad Local Municipality | B11: 0.92951488 | C11: 5 | D11: 0.82081669 | E11: 1 | F11: 0.83050306 | G11: 1 | H11: 0.84940493 | I11: 1
A12: Hibiscus Coast Local Municipality | B12: 0.94118092 | C12: 40 | D12: 0.85275825 | E12: 24 | F12: 0.85983715 | G12: 18 | H12: 0.87458154 | I12: 17
A13: Hlabisa Local Municipality | B13: 0.94328735 | C13: 46 | D13: 0.86305008 | E13: 41 | F13: 0.87045293 | G13: 37 | H13: 0.88323562 | I13: 36
A14: Imbabazane Local Municipality | B14: 0.9317573 | C14: 12 | D14: 0.8553028 | E14: 27 | F14: 0.87321095 | G14: 40 | H14: 0.88883258 | I14: 42
... A54: Vulamehlo Local Municipality | B54: 0.94024852 | C54: 37 | D54: 0.85257389 | E54: 23 | F54: 0.85236458 | G54: 9 | H54: 0.86308401 | I54: 4

Sheet Rank education
A1: KZN Multiple Deprivation Index | B1: 1996 | D1: 2002 | F1: 2007 | H1: 2010
A2: Post Matric Education Per Population | B2: Education, Skills and Training | C2: Score | D2: Education, Skills and Training | E2: Score | F2: Education, Skills and Training | G2: Score | H2: Education, Skills and Training | I2: Score
A3: Abaqulusi Local Municipality | B3: 0.016879824 | C3: 37 | D3: 0.031857636 | E3: 38 | F3: 0.038826182 | G3: 38 | H3: 0.046295705 | I3: 38
A4: Dannhauser Local Municipality | B4: 0.0081803125 | C4: 23 | D4: 0.016521434 | E4: 22 | F4: 0.020300382 | G4: 21 | H4: 0.024269171 | I4: 20
A5: eDumbe Local Municipality | B5: 0.0068406403 | C5: 20 | D5: 0.01441092 | E5: 19 | F5: 0.01861408 | G5: 19 | H5: 0.022999564 | I5: 18
A6: Emadlangeni Local Municipality (Utrecht) | B6: 0.012718844 | C6: 34 | D6: 0.027339711 | E6: 36 | F6: 0.03369086 | G6: 36 | H6: 0.039692043 | I6: 36
A7: Emnambithi-Ladysmith Local Municipality | B7: 0.020871966 | C7: 38 | D7: 0.037017839 | E7: 39 | F7: 0.044454938 | G7: 39 | H7: 0.051568418 | I7: 40
A8: Endumeni Local Municipality | B8: 0.03315661 | C8: 46 | D8: 0.045137679 | E8: 44 | F8: 0.050299891 | G8: 44 | H8: 0.056759727 | I8: 44
A9: eThekwini Metropolitan Municipality | B9: 0.045732362 | C9: 50 | D9: 0.063040892 | E9: 49 | F9: 0.072508185 | G9: 49 | H9: 0.080450247 | I9: 49
A10: Ezingoleni Local Municipality | B10: 0.0057973293 | C10: 17 | D10: 0.01231171 | E10: 14 | F10: 0.016497022 | G10: 13 | H10: 0.02085446 | I10: 13
A11: Greater Kokstad Local Municipality | B11: 0.024513684 | C11: 40 | D11: 0.048427832 | E11: 46 | F11: 0.059156164 | G11: 46 | H11: 0.068772927 | I11: 47
A12: Hibiscus Coast Local Municipality | B12: 0.030884889 | C12: 44 | D12: 0.042775668 | E12: 43 | F12: 0.049354915 | G12: 43 | H12: 0.056437338 | I12: 43
A13: Hlabisa Local Municipality | B13: 0.0025725599 | C13: 2 | D13: 0.012079815 | E13: 12 | F13: 0.016575265 | G13: 14 | H13: 0.02093773 | I13: 14
A14: Imbabazane Local Municipality | B14: 0.0038347073 | C14: 6 | D14: 0.010886445 | E14: 7 | F14: 0.013926628 | G14: 4 | H14: 0.017036525 | I14: 4
... A54: Vulamehlo Local Municipality | B54: 0.0043638135 | C54: 8 | D54: 0.010217307 | E54: 5 | F54: 0.014730257 | G54: 7 | H54: 0.019242028 | I54: 8

Sheet Rank-Living enviro
A1: KZN Multiple Deprivation Index | B1: 1996 | G1: 2002 | L1: 2007 | Q1: 2010
A2: Household Infrastructure | B2: Toilet-Index- Base KZN Total | C2: Water-Index- Base KZN Total | D2: Electricity -Index- Base KZN Total | E2: Weighted average inverse | F2: Score | G2: Toilet-Index- Base KZN Total | H2: Water-Index- Base KZN Total | I2: Electricity -Index- Base KZN Total | J2: Weighted average inverse | K2: Score | L2: Toilet-Index- Base KZN Total | M2: Water-Index- Base KZN Total | N2: Electricity -Index- Base KZN Total | O2: Weighted average inverse | P2: Score | Q2: Toilet-Index- Base KZN Total | R2: Water-Index- Base KZN Total | S2: Electricity -Index- Base KZN Total | T2: Weighted average inverse | U2: Score
A3: Abaqulusi Local Municipality | B3: 0.5091958 | C3: 0.59097363 | D3: 0.36097156 | E3: =((B3*1/3)+(C3*1/3)+(D3*1/3)) -> 0.48704699 | F3: 37 | G3: 0.47280446 | H3: 0.56492151 | I3: 0.49164429 | J3: =((G3*1/3)+(H3*1/3)+(I3*1/3)) -> 0.50979009 | K3: 35 | L3: 0.54712453 | M3: 0.68164795 | N3: 0.63670166 | O3: =((L3*1/3)+(M3*1/3)+(N3*1/3)) -> 0.62182471 | P3: 37 | Q3: 0.6270117 | R3: 0.72479554 | S3: 0.68185992 | T3: =((Q3*1/3)+(R3*1/3)+(S3*1/3)) -> 0.67788906 | U3: 39
A4: Dannhauser Local Municipality | B4: 0.31349841 | C4: 0.35441458 | D4: 0.28799669 | E4: =((B4*1/3)+(C4*1/3)+(D4*1/3)) -> 0.31863656 | F4: 30 | G4: 0.23537157 | H4: 0.33750659 | I4: 0.45925435 | J4: =((G4*1/3)+(H4*1/3)+(I4*1/3)) -> 0.34404417 | K4: 18 | L4: 0.35930992 | M4: 0.35033948 | N4: 0.39304252 | O4: =((L4*1/3)+(M4*1/3)+(N4*1/3)) -> 0.36756397 | P4: 14 | Q4: 0.33055024 | R4: 0.34730775 | S4: 0.30041843 | T4: =((Q4*1/3)+(R4*1/3)+(S4*1/3)) -> 0.32609214 | U4: 6
A5: eDumbe Local Municipality | B5: 0.182074 | C5: 0.42028203 | D5: 0.3002875 | E5: =((B5*1/3)+(C5*1/3)+(D5*1/3)) -> 0.30088118 | F5: 26 | G5: 0.34954228 | H5: 0.52364325 | I5: 0.35776899 | J5: =((G5*1/3)+(H5*1/3)+(I5*1/3)) -> 0.41031817 | K5: 25 | L5: 0.48018687 | M5: 0.65358445 | N5: 0.35436888 | O5: =((L5*1/3)+(M5*1/3)+(N5*1/3)) -> 0.49604674 | P5: 23 | Q5: 0.48473477 | R5: 0.70611003 | S5: 0.33126229 | T5: =((Q5*1/3)+(R5*1/3)+(S5*1/3)) -> 0.50736903 | U5: 23
A6: Emadlangeni Local Municipality (Utrecht) | B6: 0.37201015 | C6: 0.40547562 | D6: 0.29467946 | E6: =((B6*1/3)+(C6*1/3)+(D6*1/3)) -> 0.35738841 | F6: 33 | G6: 0.31351598 | H6: 0.4943643 | I6: 0.41855992 | J6: =((G6*1/3)+(H6*1/3)+(I6*1/3)) -> 0.4088134 | K6: 24 | L6: 0.45826265 | M6: 0.54484695 | N6: 0.81077216 | O6: =((L6*1/3)+(M6*1/3)+(N6*1/3)) -> 0.60462725 | P6: 35 | Q6: 0.4512829 | R6: 0.57916727 | S6: 0.9501247 | T6: =((Q6*1/3)+(R6*1/3)+(S6*1/3)) -> 0.66019162 | U6: 35
A7: Emnambithi-Ladysmith Local Municipality | B7: 0.58118695 | C7: 0.69717729 | D7: 0.61252064 | E7: =((B7*1/3)+(C7*1/3)+(D7*1/3)) -> 0.63029496 | F7: 43 | G7: 0.57004672 | H7: 0.69797677 | I7: 0.66855803 | J7: =((G7*1/3)+(H7*1/3)+(I7*1/3)) -> 0.64552717 | K7: 41 | L7: 0.64638205 | M7: 0.68417653 | N7: 0.5539427 | O7: =((L7*1/3)+(M7*1/3)+(N7*1/3)) -> 0.62816709 | P7: 38 | Q7: 0.71554578 | R7: 0.70629366 | S7: 0.50236153 | T7: =((Q7*1/3)+(R7*1/3)+(S7*1/3)) -> 0.64140033 | U7: 33
A8: Endumeni Local Municipality | B8: 0.81235407 | C8: 0.87533353 | D8: 0.6669826 | E8: =((B8*1/3)+(C8*1/3)+(D8*1/3)) -> 0.78489007 | F8: 51 | G8: 0.81344053 | H8: 0.88100135 | I8: 0.72007244 | J8: =((G8*1/3)+(H8*1/3)+(I8*1/3)) -> 0.80483811 | K8: 51 | L8: 0.81716866 | M8: 0.90547071 | N8: 0.77808638 | O8: =((L8*1/3)+(M8*1/3)+(N8*1/3)) -> 0.83357525 | P8: 52 | Q8: 0.84076815 | R8: 0.91479273 | S8: 0.81840946 | T8: =((Q8*1/3)+(R8*1/3)+(S8*1/3)) -> 0.85799012 | U8: 52
A9: eThekwini Metropolitan Municipality | B9: 0.71625207 | C9: 0.86153016 | D9: 0.76227369 | E9: =((B9*1/3)+(C9*1/3)+(D9*1/3)) -> 0.78001864 | F9: 50 | G9: 0.73899811 | H9: 0.86981607 | I9: 0.83154334 | J9: =((G9*1/3)+(H9*1/3)+(I9*1/3)) -> 0.81345251 | K9: 52 | L9: 0.76532242 | M9: 0.83283883 | N9: 0.88056721 | O9: =((L9*1/3)+(M9*1/3)+(N9*1/3)) -> 0.82624282 | P9: 50 | Q9: 0.79720847 | R9: 0.83914678 | S9: 0.88624725 | T9: =((Q9*1/3)+(R9*1/3)+(S9*1/3)) -> 0.8408675 | U9: 51
A10: Ezingoleni Local Municipality | B10: 0.16864192 | C10: 0.13166448 | D10: 0.30635984 | E10: =((B10*1/3)+(C10*1/3)+(D10*1/3)) -> 0.20222208 | F10: 18 | G10: 0.33646554 | H10: 0.23182034 | I10: 0.40756194 | J10: =((G10*1/3)+(H10*1/3)+(I10*1/3)) -> 0.32528261 | K10: 15 | L10: 0.47037835 | M10: 0.30452232 | N10: 0.348228 | O10: =((L10*1/3)+(M10*1/3)+(N10*1/3)) -> 0.37437623 | P10: 15 | Q10: 0.58620111 | R10: 0.30621665 | S10: 0.30951664 | T10: =((Q10*1/3)+(R10*1/3)+(S10*1/3)) -> 0.4006448 | U10: 15
A11: Greater Kokstad Local Municipality | B11: 0.5665064 | C11: 0.7566089 | D11: 0.33808309 | E11: =((B11*1/3)+(C11*1/3)+(D11*1/3)) -> 0.5537328 | F11: 39 | G11: 0.67473071 | H11: 0.86209478 | I11: 0.52607513 | J11: =((G11*1/3)+(H11*1/3)+(I11*1/3)) -> 0.68763354 | K11: 45 | L11: 0.7232653 | M11: 0.77582549 | N11: 0.58452053 | O11: =((L11*1/3)+(M11*1/3)+(N11*1/3)) -> 0.69453711 | P11: 42 | Q11: 0.71372314 | R11: 0.76469488 | S11: 0.51210751 | T11: =((Q11*1/3)+(R11*1/3)+(S11*1/3)) -> 0.66350851 | U11: 36
A12: Hibiscus Coast Local Municipality | B12: 0.57572117 | C12: 0.60501394 | D12: 0.7563539 | E12: =((B12*1/3)+(C12*1/3)+(D12*1/3)) -> 0.64569634 | F12: 45 | G12: 0.51918801 | H12: 0.56881527 | I12: 0.74743754 | J12: =((G12*1/3)+(H12*1/3)+(I12*1/3)) -> 0.6118136 | K12: 40 | L12: 0.5136506 | M12: 0.69026628 | N12: 0.64379926 | O12: =((L12*1/3)+(M12*1/3)+(N12*1/3)) -> 0.61590538 | P12: 36 | Q12: 0.57209002 | R12: 0.71021576 | S12: 0.60445867 | T12: =((Q12*1/3)+(R12*1/3)+(S12*1/3)) -> 0.62892148 | U12: 32
A13: Hlabisa Local Municipality | B13: 0.086409152 | C13: 0.059650006 | D13: 0.18708227 | E13: =((B13*1/3)+(C13*1/3)+(D13*1/3)) -> 0.11104714 | F13: 7 | G13: 0.25289542 | H13: 0.2472767 | I13: 0.35041148 | J13: =((G13*1/3)+(H13*1/3)+(I13*1/3)) -> 0.28352786 | K13: 9 | L13: 0.30043804 | M13: 0.38027273 | N13: 0.39308654 | O13: =((L13*1/3)+(M13*1/3)+(N13*1/3)) -> 0.35793243 | P13: 11 | Q13: 0.39337778 | R13: 0.39652268 | S13: 0.40706392 | T13: =((Q13*1/3)+(R13*1/3)+(S13*1/3)) -> 0.39898813 | U13: 14
A14: Imbabazane Local Municipality | B14: 0.18086843 | C14: 0.32887611 | D14: 0.40050614 | E14: =((B14*1/3)+(C14*1/3)+(D14*1/3)) -> 0.30341689 | F14: 27 | G14: 0.19445983 | H14: 0.28606973 | I14: 0.6076358 | J14: =((G14*1/3)+(H14*1/3)+(I14*1/3)) -> 0.36272179 | K14: 20 | L14: 0.34292929 | M14: 0.22949881 | N14: 0.33651856 | O14: =((L14*1/3)+(M14*1/3)+(N14*1/3)) -> 0.30298222 | P14: 5 | Q14: 0.47129058 | R14: 0.22038192 | S14: 0.24592128 | T14: =((Q14*1/3)+(R14*1/3)+(S14*1/3)) -> 0.31253126 | U14: 4
... A54: Vulamehlo Local Municipality | B54: 0.19809984 | C54: 0.10511495 | D54: 0.14197638 | E54: =((B54*1/3)+(C54*1/3)+(D54*1/3)) -> 0.14839706 | F54: 14 | G54: 0.3850296 | H54: 0.18151043 | I54: 0.29134315 | J54: =((G54*1/3)+(H54*1/3)+(I54*1/3)) -> 0.28596106 | K54: 10 | L54: 0.39693165 | M54: 0.24592411 | N54: 0.45397815 | O54: =((L54*1/3)+(M54*1/3)+(N54*1/3)) -> 0.3656113 | P54: 13 | Q54: 0.47640667 | R54: 0.2606863 | S54: 0.49311273 | T54: =((Q54*1/3)+(R54*1/3)+(S54*1/3)) -> 0.41006857 | U54: 16

Sheet Rank-crime
A1: KZN Multiple Deprivation Index | B1: 1996 | D1: 2002 | F1: 2007 | H1: 2010
A2: Global Insight Crime Index | B2: Crime | C2: Score | D2: Crime | E2: Score | F2: Crime | G2: Score | H2: Crime | I2: Score
A3: The Big Five False Bay Local Municipality | B3: 9.1011225 | C3: 18 | D3: 2.4906081 | E3: 1 | F3: 2.9925218 | G3: 1 | H3: 3.1705742 | I3: 1
A4: Endumeni Local Municipality | B4: 4.3989244 | C4: 2 | D4: 4.5611523 | E4: 2 | F4: 6.8673635 | G4: 6 | H4: 5.8643768 | I4: 2
A5: Umdoni Local Municipality | B5: 4.1721299 | C5: 1 | D5: 4.8909785 | E5: 4 | F5: 5.977263 | G5: 2 | H5: 5.8893001 | I5: 3
A6: Vulamehlo Local Municipality | B6: 13.378641 | C6: 31 | D6: 7.2571263 | E6: 14 | F6: 7.4460286 | G6: 9 | H6: 6.3676474 | I6: 4
A7: KwaDukuza Local Municipality | B7: 6.2071938 | C7: 7 | D7: 5.6608933 | E7: 7 | F7: 6.8744676 | G7: 7 | H7: 6.805361 | I7: 5
A8: eThekwini Metropolitan Municipality | B8: 6.8381998 | C8: 11 | D8: 5.7016269 | E8: 8 | F8: 6.8568311 | G8: 5 | H8: 6.8379098 | I8: 6
A9: Ndwedwe Local Municipality | B9: 5.4920051 | C9: 5 | D9: 4.8001804 | E9: 3 | F9: 6.204626 | G9: 3 | H9: 7.2286909 | I9: 7
A10: Kwa Sani Local Municipality | B10: 9.6134517 | C10: 19 | D10: 8.2951904 | E10: 19 | F10: 6.8281 | G10: 4 | H10: 7.3577665 | I10: 8
A11: Mbonambi Local Municipality | B11: 11.13765 | C11: 25 | D11: 7.0507304 | E11: 13 | F11: 7.8010842 | G11: 10 | H11: 7.6952986 | I11: 9
A12: uMlalazi Local Municipality | B12: 11.136911 | C12: 24 | D12: 7.7717817 | E12: 16 | F12: 9.0411272 | G12: 11 | H12: 7.9990628 | I12: 10
A13: uMhlathuze Local Municipality | B13: 5.8226982 | C13: 6 | D13: 5.1582917 | E13: 5 | F13: 7.3364934 | G13: 8 | H13: 8.0163025 | I13: 11
A14: Mthonjaneni Local Municipality | B14: 6.4737597 | C14: 8 | D14: 5.4884863 | E14: 6 | F14: 9.6513869 | G14: 14 | H14: 8.2740325 | I14: 12
... A54: The Msunduzi Local Municipality | B54: 38.692938 | C54: 52 | D54: 22.252601 | E54: 52 | F54: 32.640824 | G54: 52 | H54: 27.935772 | I54: 52

Sheet Scores
A1: KZN Multiple Deprivation Index-Ranking | B1: 1996 | I1: 2002 | P1: 2007 | W1: 2010
A2: Scores | B2: Income | C2: Employment | D2: Health | E2: Education | F2: Living Eviron | G2: Crime | H2: Weighted Average | I2: Income | J2: Employment | K2: Health | L2: Education | M2: Living Eviron | N2: Crime | O2: Weighted Average | P2: Income | Q2: Employment | R2: Health | S2: Education | T2: Living Eviron | U2: Crime | V2: Weighted Average | W2: Income | X2: Employment | Y2: Health | Z2: Education | AA2: Living Eviron | AB2: Crime | AC2: Weighted Average
A3: Abaqulusi Local Municipality | B3: ='Rank-income'!C3 -> 2 | C3: ='Rank-employment'!C3 -> 35 | D3: ='Rank-health'!C3 -> 19 | E3: ='Rank education'!C3 -> 37 | F3: ='Rank-Living enviro'!F3 -> 37 | G3: ='Rank-crime'!C3 -> 18 | H3: =0.25*(B3)+0.25*(C3)+0.14*(D3)+0.14*(E3)+0.14*(F3)+0.08*(G3) -> 23.71 | I3: ='Rank-income'!E3 -> 1 | J3: ='Rank-employment'!E3 -> 33 | K3: ='Rank-health'!E3 -> 21 | L3: ='Rank education'!E3 -> 38 | M3: ='Rank-Living enviro'!K3 -> 35 | N3: ='Rank-crime'!E3 -> 1 | O3: =0.25*(I3)+0.25*(J3)+0.14*(K3)+0.14*(L3)+0.14*(M3)+0.08*(N3) -> 21.74 | P3: ='Rank-income'!G3 -> 1 | Q3: ='Rank-employment'!G3 -> 34 | R3: ='Rank-health'!G3 -> 25 | S3: ='Rank education'!G3 -> 38 | T3: ='Rank-Living enviro'!P3 -> 37 | U3: ='Rank-crime'!G3 -> 1 | V3: =0.25*(P3)+0.25*(Q3)+0.14*(R3)+0.14*(S3)+0.14*(T3)+0.08*(U3) -> 22.83 | W3: ='Rank-income'!I3 -> 1 | X3: ='Rank-employment'!I3 -> 34 | Y3: ='Rank-health'!I3 -> 27 | Z3: ='Rank education'!I3 -> 38 | AA3: ='Rank-Living enviro'!U3 -> 39 | AB3: ='Rank-crime'!I3 -> 1 | AC3: =0.25*(W3)+0.25*(X3)+0.14*(Y3)+0.14*(Z3)+0.14*(AA3)+0.08*(AB3) -> 23.39
A4: Dannhauser Local Municipality | B4: ='Rank-income'!C4 -> 24 | C4: ='Rank-employment'!C4 -> 27 | D4: ='Rank-health'!C4 -> 18 | E4: ='Rank education'!C4 -> 23 | F4: ='Rank-Living enviro'!F4 -> 30 | G4: ='Rank-crime'!C4 -> 2 | H4: =0.25*(B4)+0.25*(C4)+0.14*(D4)+0.14*(E4)+0.14*(F4)+0.08*(G4) -> 22.85 | I4: ='Rank-income'!E4 -> 15 | J4: ='Rank-employment'!E4 -> 8 | K4: ='Rank-health'!E4 -> 38 | L4: ='Rank education'!E4 -> 22 | M4: ='Rank-Living enviro'!K4 -> 18 | N4: ='Rank-crime'!E4 -> 2 | O4: =0.25*(I4)+0.25*(J4)+0.14*(K4)+0.14*(L4)+0.14*(M4)+0.08*(N4) -> 16.83 | P4: ='Rank-income'!G4 -> 3 | Q4: ='Rank-employment'!G4 -> 3 | R4: ='Rank-health'!G4 -> 44 | S4: ='Rank education'!G4 -> 21 | T4: ='Rank-Living enviro'!P4 -> 14 | U4: ='Rank-crime'!G4 -> 6 | V4: =0.25*(P4)+0.25*(Q4)+0.14*(R4)+0.14*(S4)+0.14*(T4)+0.08*(U4) -> 13.04 | W4: ='Rank-income'!I4 -> 2 | X4: ='Rank-employment'!I4 -> 1 | Y4: ='Rank-health'!I4 -> 45 | Z4: ='Rank education'!I4 -> 20 | AA4: ='Rank-Living enviro'!U4 -> 6 | AB4: ='Rank-crime'!I4 -> 2 | AC4: =0.25*(W4)+0.25*(X4)+0.14*(Y4)+0.14*(Z4)+0.14*(AA4)+0.08*(AB4) -> 10.85
A5: eDumbe Local Municipality | B5: ='Rank-income'!C5 -> 26 | C5: ='Rank-employment'!C5 -> 25 | D5: ='Rank-health'!C5 -> 31 | E5: ='Rank education'!C5 -> 20 | F5: ='Rank-Living enviro'!F5 -> 26 | G5: ='Rank-crime'!C5 -> 1 | H5: =0.25*(B5)+0.25*(C5)+0.14*(D5)+0.14*(E5)+0.14*(F5)+0.08*(G5) -> 23.61 | I5: ='Rank-income'!E5 -> 2 | J5: ='Rank-employment'!E5 -> 26 | K5: ='Rank-health'!E5 -> 29 | L5: ='Rank education'!E5 -> 19 | M5: ='Rank-Living enviro'!K5 -> 25 | N5: ='Rank-crime'!E5 -> 4 | O5: =0.25*(I5)+0.25*(J5)+0.14*(K5)+0.14*(L5)+0.14*(M5)+0.08*(N5) -> 17.54 | P5: ='Rank-income'!G5 -> 2 | Q5: ='Rank-employment'!G5 -> 27 | R5: ='Rank-health'!G5 -> 24 | S5: ='Rank education'!G5 -> 19 | T5: ='Rank-Living enviro'!P5 -> 23 | U5: ='Rank-crime'!G5 -> 2 | V5: =0.25*(P5)+0.25*(Q5)+0.14*(R5)+0.14*(S5)+0.14*(T5)+0.08*(U5) -> 16.65 | W5: ='Rank-income'!I5 -> 3 | X5: ='Rank-employment'!I5 -> 27 | Y5: ='Rank-health'!I5 -> 23 | Z5: ='Rank education'!I5 -> 18 | AA5: ='Rank-Living enviro'!U5 -> 23 | AB5: ='Rank-crime'!I5 -> 3 | AC5: =0.25*(W5)+0.25*(X5)+0.14*(Y5)+0.14*(Z5)+0.14*(AA5)+0.08*(AB5) -> 16.7
A6: Emadlangeni Local Municipality (Utrecht) | B6: ='Rank-income'!C6 -> 9 | C6: ='Rank-employment'!C6 -> 41 | D6: ='Rank-health'!C6 -> 7 | E6: ='Rank education'!C6 -> 34 | F6: ='Rank-Living enviro'!F6 -> 33 | G6: ='Rank-crime'!C6 -> 31 | H6: =0.25*(B6)+0.25*(C6)+0.14*(D6)+0.14*(E6)+0.14*(F6)+0.08*(G6) -> 25.34 | I6: ='Rank-income'!E6 -> 3 | J6: ='Rank-employment'!E6 -> 39 | K6: ='Rank-health'!E6 -> 7 | L6: ='Rank education'!E6 -> 36 | M6: ='Rank-Living enviro'!K6 -> 24 | N6: ='Rank-crime'!E6 -> 14 | O6: =0.25*(I6)+0.25*(J6)+0.14*(K6)+0.14*(L6)+0.14*(M6)+0.08*(N6) -> 21 | P6: ='Rank-income'!G6 -> 4 | Q6: ='Rank-employment'!G6 -> 38 | R6: ='Rank-health'!G6 -> 5 | S6: ='Rank education'!G6 -> 36 | T6: ='Rank-Living enviro'!P6 -> 35 | U6: ='Rank-crime'!G6 -> 9 | V6: =0.25*(P6)+0.25*(Q6)+0.14*(R6)+0.14*(S6)+0.14*(T6)+0.08*(U6) -> 21.86 | W6: ='Rank-income'!I6 -> 4 | X6: ='Rank-employment'!I6 -> 38 | Y6: ='Rank-health'!I6 -> 6 | Z6: ='Rank education'!I6 -> 36 | AA6: ='Rank-Living enviro'!U6 -> 35 | AB6: ='Rank-crime'!I6 -> 4 | AC6: =0.25*(W6)+0.25*(X6)+0.14*(Y6)+0.14*(Z6)+0.14*(AA6)+0.08*(AB6) -> 21.6
A7: Emnambithi-Ladysmith Local Municipality | B7: ='Rank-income'!C7 -> 6 | C7: ='Rank-employment'!C7 -> 40 | D7: ='Rank-health'!C7 -> 15 | E7: ='Rank education'!C7 -> 38 | F7: ='Rank-Living enviro'!F7 -> 43 | G7: ='Rank-crime'!C7 -> 7 | H7: =0.25*(B7)+0.25*(C7)+0.14*(D7)+0.14*(E7)+0.14*(F7)+0.08*(G7) -> 25.5 | I7: ='Rank-income'!E7 -> 4 | J7: ='Rank-employment'!E7 -> 40 | K7: ='Rank-health'!E7 -> 12 | L7: ='Rank education'!E7 -> 39 | M7: ='Rank-Living enviro'!K7 -> 41 | N7: ='Rank-crime'!E7 -> 7 | O7: =0.25*(I7)+0.25*(J7)+0.14*(K7)+0.14*(L7)+0.14*(M7)+0.08*(N7) -> 24.44 | P7: ='Rank-income'!G7 -> 5 | Q7: ='Rank-employment'!G7 -> 39 | R7: ='Rank-health'!G7 -> 10 | S7: ='Rank education'!G7 -> 39 | T7: ='Rank-Living enviro'!P7 -> 38 | U7: ='Rank-crime'!G7 -> 7 | V7: =0.25*(P7)+0.25*(Q7)+0.14*(R7)+0.14*(S7)+0.14*(T7)+0.08*(U7) -> 23.74 | W7: ='Rank-income'!I7 -> 5 | X7: ='Rank-employment'!I7 -> 39 | Y7: ='Rank-health'!I7 -> 10 | Z7: ='Rank education'!I7 -> 40 | AA7: ='Rank-Living enviro'!U7 -> 33 | AB7: ='Rank-crime'!I7 -> 5 | AC7: =0.25*(W7)+0.25*(X7)+0.14*(Y7)+0.14*(Z7)+0.14*(AA7)+0.08*(AB7) -> 23.02
A8: Endumeni Local Municipality | B8: ='Rank-income'!C8 -> 7 | C8: ='Rank-employment'!C8 -> 32 | D8: ='Rank-health'!C8 -> 34 | E8: ='Rank education'!C8 -> 46 | F8: ='Rank-Living enviro'!F8 -> 51 | G8: ='Rank-crime'!C8 -> 11 | H8: =0.25*(B8)+0.25*(C8)+0.14*(D8)+0.14*(E8)+0.14*(F8)+0.08*(G8) -> 28.97 | I8: ='Rank-income'!E8 -> 10 | J8: ='Rank-employment'!E8 -> 27 | K8: ='Rank-health'!E8 -> 16 | L8: ='Rank education'!E8 -> 44 | M8: ='Rank-Living enviro'!K8 -> 51 | N8: ='Rank-crime'!E8 -> 8 | O8: =0.25*(I8)+0.25*(J8)+0.14*(K8)+0.14*(L8)+0.14*(M8)+0.08*(N8) -> 25.43 | P8: ='Rank-income'!G8 -> 7 | Q8: ='Rank-employment'!G8 -> 28 | R8: ='Rank-health'!G8 -> 15 | S8: ='Rank education'!G8 -> 44 | T8: ='Rank-Living enviro'!P8 -> 52 | U8: ='Rank-crime'!G8 -> 5 | V8: =0.25*(P8)+0.25*(Q8)+0.14*(R8)+0.14*(S8)+0.14*(T8)+0.08*(U8) -> 24.69 | W8: ='Rank-income'!I8 -> 6 | X8: ='Rank-employment'!I8 -> 28 | Y8: ='Rank-health'!I8 -> 14 | Z8: ='Rank education'!I8 -> 44 | AA8: ='Rank-Living enviro'!U8 -> 52 | AB8: ='Rank-crime'!I8 -> 6 | AC8: =0.25*(W8)+0.25*(X8)+0.14*(Y8)+0.14*(Z8)+0.14*(AA8)+0.08*(AB8) -> 24.38
A9: eThekwini Metropolitan Municipality | B9: ='Rank-income'!C9 -> 11 | C9: ='Rank-employment'!C9 -> 50 | D9: ='Rank-health'!C9 -> 36 | E9: ='Rank education'!C9 -> 50 | F9: ='Rank-Living enviro'!F9 -> 50 | G9: ='Rank-crime'!C9 -> 5 | H9: =0.25*(B9)+0.25*(C9)+0.14*(D9)+0.14*(E9)+0.14*(F9)+0.08*(G9) -> 34.69 | I9: ='Rank-income'!E9 -> 11 | J9: ='Rank-employment'!E9 -> 50 | K9: ='Rank-health'!E9 -> 35 | L9: ='Rank education'!E9 -> 49 | M9: ='Rank-Living enviro'!K9 -> 52 | N9: ='Rank-crime'!E9 -> 3 | O9: =0.25*(I9)+0.25*(J9)+0.14*(K9)+0.14*(L9)+0.14*(M9)+0.08*(N9) -> 34.53 | P9: ='Rank-income'!G9 -> 6 | Q9: ='Rank-employment'!G9 -> 48 | R9: ='Rank-health'!G9 -> 32 | S9: ='Rank education'!G9 -> 49 | T9: ='Rank-Living enviro'!P9 -> 50 | U9: ='Rank-crime'!G9 -> 3 | V9: =0.25*(P9)+0.25*(Q9)+0.14*(R9)+0.14*(S9)+0.14*(T9)+0.08*(U9) -> 32.08 | W9: ='Rank-income'!I9 -> 7 | X9: ='Rank-employment'!I9 -> 50 | Y9: ='Rank-health'!I9 -> 35 | Z9: ='Rank education'!I9 -> 49 | AA9: ='Rank-Living enviro'!U9 -> 51 | AB9: ='Rank-crime'!I9 -> 7 | AC9: =0.25*(W9)+0.25*(X9)+0.14*(Y9)+0.14*(Z9)+0.14*(AA9)+0.08*(AB9) -> 33.71
A10: Ezingoleni Local Municipality | B10: ='Rank-income'!C10 -> 28 | C10: ='Rank-employment'!C10 -> 12 | D10: ='Rank-health'!C10 -> 32 | E10: ='Rank education'!C10 -> 17 | F10: ='Rank-Living enviro'!F10 -> 18 | G10: ='Rank-crime'!C10 -> 19 | H10: =0.25*(B10)+0.25*(C10)+0.14*(D10)+0.14*(E10)+0.14*(F10)+0.08*(G10) -> 20.9 | I10: ='Rank-income'!E10 -> 22 | J10: ='Rank-employment'!E10 -> 17 | K10: ='Rank-health'!E10 -> 30 | L10: ='Rank education'!E10 -> 14 | M10: ='Rank-Living enviro'!K10 -> 15 | N10: ='Rank-crime'!E10 -> 19 | O10: =0.25*(I10)+0.25*(J10)+0.14*(K10)+0.14*(L10)+0.14*(M10)+0.08*(N10) -> 19.53 | P10: ='Rank-income'!G10 -> 11 | Q10: ='Rank-employment'!G10 -> 25 | R10: ='Rank-health'!G10 -> 30 | S10: ='Rank education'!G10 -> 13 | T10: ='Rank-Living enviro'!P10 -> 15 | U10: ='Rank-crime'!G10 -> 4 | V10: =0.25*(P10)+0.25*(Q10)+0.14*(R10)+0.14*(S10)+0.14*(T10)+0.08*(U10) -> 17.44 | W10: ='Rank-income'!I10 -> 8 | X10: ='Rank-employment'!I10 -> 26 | Y10: ='Rank-health'!I10 -> 28 | Z10: ='Rank education'!I10 -> 13 | AA10: ='Rank-Living enviro'!U10 -> 15 | AB10: ='Rank-crime'!I10 -> 8 | AC10: =0.25*(W10)+0.25*(X10)+0.14*(Y10)+0.14*(Z10)+0.14*(AA10)+0.08*(AB10) -> 16.98
A11: Greater Kokstad Local Municipality | B11: ='Rank-income'!C11 -> 3 | C11: ='Rank-employment'!C11 -> 52 | D11: ='Rank-health'!C11 -> 5 | E11: ='Rank education'!C11 -> 40 | F11: ='Rank-Living enviro'!F11 -> 39 | G11: ='Rank-crime'!C11 -> 25 | H11: =0.25*(B11)+0.25*(C11)+0.14*(D11)+0.14*(E11)+0.14*(F11)+0.08*(G11) -> 27.51 | I11: ='Rank-income'!E11 -> 5 | J11: ='Rank-employment'!E11 -> 47 | K11: ='Rank-health'!E11 -> 1 | L11: ='Rank education'!E11 -> 46 | M11: ='Rank-Living enviro'!K11 -> 45 | N11: ='Rank-crime'!E11 -> 13 | O11: =0.25*(I11)+0.25*(J11)+0.14*(K11)+0.14*(L11)+0.14*(M11)+0.08*(N11) -> 26.92 | P11: ='Rank-income'!G11 -> 8 | Q11: ='Rank-employment'!G11 -> 47 | R11: ='Rank-health'!G11 -> 1 | S11: ='Rank education'!G11 -> 46 | T11: ='Rank-Living enviro'!P11 -> 42 | U11: ='Rank-crime'!G11 -> 10 | V11: =0.25*(P11)+0.25*(Q11)+0.14*(R11)+0.14*(S11)+0.14*(T11)+0.08*(U11) -> 27.01 | W11: ='Rank-income'!I11 -> 9 | X11: ='Rank-employment'!I11 -> 47 | Y11: ='Rank-health'!I11 -> 1 | Z11: ='Rank education'!I11 -> 47 | AA11: ='Rank-Living enviro'!U11 -> 36 | AB11: ='Rank-crime'!I11 -> 9 | AC11: =0.25*(W11)+0.25*(X11)+0.14*(Y11)+0.14*(Z11)+0.14*(AA11)+0.08*(AB11) -> 26.48
A12: Hibiscus Coast Local Municipality | B12: ='Rank-income'!C12 -> 21 | C12: ='Rank-employment'!C12 -> 43 | D12: ='Rank-health'!C12 -> 40 | E12: ='Rank education'!C12 -> 44 | F12: ='Rank-Living enviro'!F12 -> 45 | G12: ='Rank-crime'!C12 -> 24 | H12: =0.25*(B12)+0.25*(C12)+0.14*(D12)+0.14*(E12)+0.14*(F12)+0.08*(G12) -> 35.98 | I12: ='Rank-income'!E12 -> 17 | J12: ='Rank-employment'!E12 -> 43 | K12: ='Rank-health'!E12 -> 24 | L12: ='Rank education'!E12 -> 43 | M12: ='Rank-Living enviro'!K12 -> 40 | N12: ='Rank-crime'!E12 -> 16 | O12: =0.25*(I12)+0.25*(J12)+0.14*(K12)+0.14*(L12)+0.14*(M12)+0.08*(N12) -> 31.26 | P12: ='Rank-income'!G12 -> 9 | Q12: ='Rank-employment'!G12 -> 42 | R12: ='Rank-health'!G12 -> 18 | S12: ='Rank education'!G12 -> 43 | T12: ='Rank-Living enviro'!P12 -> 36 | U12: ='Rank-crime'!G12 -> 11 | V12: =0.25*(P12)+0.25*(Q12)+0.14*(R12)+0.14*(S12)+0.14*(T12)+0.08*(U12) -> 27.21 | W12: ='Rank-income'!I12 -> 10 | X12: ='Rank-employment'!I12 -> 42 | Y12: ='Rank-health'!I12 -> 17 | Z12: ='Rank education'!I12 -> 43 | AA12: ='Rank-Living enviro'!U12 -> 32 | AB12: ='Rank-crime'!I12 -> 10 | AC12: =0.25*(W12)+0.25*(X12)+0.14*(Y12)+0.14*(Z12)+0.14*(AA12)+0.08*(AB12) -> 26.68
A13: Hlabisa Local Municipality | B13: ='Rank-income'!C13 -> 8 | C13: ='Rank-employment'!C13 -> 19 | D13: ='Rank-health'!C13 -> 46 | E13: ='Rank education'!C13 -> 2 | F13: ='Rank-Living enviro'!F13 -> 7 | G13: ='Rank-crime'!C13 -> 6 | H13: =0.25*(B13)+0.25*(C13)+0.14*(D13)+0.14*(E13)+0.14*(F13)+0.08*(G13) -> 14.93 | I13: ='Rank-income'!E13 -> 9 | J13: ='Rank-employment'!E13 -> 22 | K13: ='Rank-health'!E13 -> 41 | L13: ='Rank education'!E13 -> 12 | M13: ='Rank-Living enviro'!K13 -> 9 | N13: ='Rank-crime'!E13 -> 5 | O13: =0.25*(I13)+0.25*(J13)+0.14*(K13)+0.14*(L13)+0.14*(M13)+0.08*(N13) -> 16.83 | P13: ='Rank-income'!G13 -> 10 | Q13: ='Rank-employment'!G13 -> 21 | R13: ='Rank-health'!G13 -> 37 | S13: ='Rank education'!G13 -> 14 | T13: ='Rank-Living enviro'!P13 -> 11 | U13: ='Rank-crime'!G13 -> 8 | V13: =0.25*(P13)+0.25*(Q13)+0.14*(R13)+0.14*(S13)+0.14*(T13)+0.08*(U13) -> 17.07 | W13: ='Rank-income'!I13 -> 11 | X13: ='Rank-employment'!I13 -> 24 | Y13: ='Rank-health'!I13 -> 36 | Z13: ='Rank education'!I13 -> 14 | AA13: ='Rank-Living enviro'!U13 -> 14 | AB13: ='Rank-crime'!I13 -> 11 | AC13: =0.25*(W13)+0.25*(X13)+0.14*(Y13)+0.14*(Z13)+0.14*(AA13)+0.08*(AB13) -> 18.59
A14: Imbabazane Local Municipality | B14: ='Rank-income'!C14 -> 14 | C14: ='Rank-employment'!C14 -> 26 | D14: ='Rank-health'!C14 -> 12 | E14: ='Rank education'!C14 -> 6 | F14: ='Rank-Living enviro'!F14 -> 27 | G14: ='Rank-crime'!C14 -> 8 | H14: =0.25*(B14)+0.25*(C14)+0.14*(D14)+0.14*(E14)+0.14*(F14)+0.08*(G14) -> 16.94 | I14: ='Rank-income'!E14 -> 13 | J14: ='Rank-employment'!E14 -> 20 | K14: ='Rank-health'!E14 -> 27 | L14: ='Rank education'!E14 -> 7 | M14: ='Rank-Living enviro'!K14 -> 20 | N14: ='Rank-crime'!E14 -> 6 | O14: =0.25*(I14)+0.25*(J14)+0.14*(K14)+0.14*(L14)+0.14*(M14)+0.08*(N14) -> 16.29 | P14: ='Rank-income'!G14 -> 12 | Q14: ='Rank-employment'!G14 -> 15 | R14: ='Rank-health'!G14 -> 40 | S14: ='Rank education'!G14 -> 4 | T14: ='Rank-Living enviro'!P14 -> 5 | U14: ='Rank-crime'!G14 -> 14 | V14: =0.25*(P14)+0.25*(Q14)+0.14*(R14)+0.14*(S14)+0.14*(T14)+0.08*(U14) -> 14.73 | W14: ='Rank-income'!I14 -> 12 | X14: ='Rank-employment'!I14 -> 19 | Y14: ='Rank-health'!I14 -> 42 | Z14: ='Rank education'!I14 -> 4 | AA14: ='Rank-Living enviro'!U14 -> 4 | AB14: ='Rank-crime'!I14 -> 12 | AC14: =0.25*(W14)+0.25*(X14)+0.14*(Y14)+0.14*(Z14)+0.14*(AA14)+0.08*(AB14) -> 15.71
... A54: Vulamehlo Local Municipality | B54: ='Rank-income'!C54 -> 51 | C54: ='Rank-employment'!C54 -> 21 | D54: ='Rank-health'!C54 -> 37 | E54: ='Rank education'!C54 -> 8 | F54: ='Rank-Living enviro'!F54 -> 14 | G54: ='Rank-crime'!C54 -> 52 | H54: =0.25*(B54)+0.25*(C54)+0.14*(D54)+0.14*(E54)+0.14*(F54)+0.08*(G54) -> 30.42 | I54: ='Rank-income'!E54 -> 52 | J54: ='Rank-employment'!E54 -> 14 | K54: ='Rank-health'!E54 -> 23 | L54: ='Rank education'!E54 -> 5 | M54: ='Rank-Living enviro'!K54 -> 10 | N54: ='Rank-crime'!E54 -> 52 | O54: =0.25*(I54)+0.25*(J54)+0.14*(K54)+0.14*(L54)+0.14*(M54)+0.08*(N54) -> 25.98 | P54: ='Rank-income'!G54 -> 52 | Q54: ='Rank-employment'!G54 -> 9 | R54: ='Rank-health'!G54 -> 9 | S54: ='Rank education'!G54 -> 7 | T54: ='Rank-Living enviro'!P54 -> 13 | U54: ='Rank-crime'!G54 -> 52 | V54: =0.25*(P54)+0.25*(Q54)+0.14*(R54)+0.14*(S54)+0.14*(T54)+0.08*(U54) -> 23.47 | W54: ='Rank-income'!I54 -> 52 | X54: ='Rank-employment'!I54 -> 7 | Y54: ='Rank-health'!I54 -> 4 | Z54: ='Rank education'!I54 -> 8 | AA54: ='Rank-Living enviro'!U54 -> 16 | AB54: ='Rank-crime'!I54 -> 52 | AC54: =0.25*(W54)+0.25*(X54)+0.14*(Y54)+0.14*(Z54)+0.14*(AA54)+0.08*(AB54) -> 22.83
A56: Urban
A57: Rural

Sheet Final ranking
A1: Final Ranking | B1: 1996 | C1: 2002 | D1: 2007 | E1: 2010
B2: Weighted Rank | C2: =B2 -> Weighted Rank | D2: =C2 -> Weighted Rank | E2: =D2 -> Weighted Rank
A3: Jozini Local Municipality | B3: =Scores!H18 -> 11.22 | C3: =Scores!O18 -> 13.89 | D3: =Scores!V18 -> 19.38 | E3: =Scores!AC18 -> 19.96
A4: Hlabisa Local Municipality | B4: =Scores!H13 -> 14.93 | C4: =Scores!O13 -> 16.83 | D4: =Scores!V13 -> 17.07 | E4: =Scores!AC13 -> 18.59
A5: Maphumulo Local Municipality | B5: =Scores!H22 -> 15.99 | C5: =Scores!O22 -> 16.16 | D5: =Scores!V22 -> 17.12 | E5: =Scores!AC22 -> 16.39
A6: Nongoma Local Municipality | B6: =Scores!H32 -> 16.05 | C6: =Scores!O32 -> 19.39 | D6: =Scores!V32 -> 21.12 | E6: =Scores!AC32 -> 22.6
A7: Imbabazane Local Municipality | B7: =Scores!H14 -> 16.94 | C7: =Scores!O14 -> 16.29 | D7: =Scores!V14 -> 14.73 | E7: =Scores!AC14 -> 15.71
A8: Mthonjaneni Local Municipality | B8: =Scores!H27 -> 17.67 | C8: =Scores!O27 -> 24.36 | D8: =Scores!V27 -> 28.67 | E8: =Scores!AC27 -> 28.88
A9: The Big Five False Bay Local Municipality | B9: =Scores!H38 -> 18 | C9: =Scores!O38 -> 22.64 | D9: =Scores!V38 -> 28.39 | E9: =Scores!AC38 -> 30.05
A10: Nquthu Local Municipality | B10: =Scores!H33 -> 18.19 | C10: =Scores!O33 -> 19.09 | D10: =Scores!V33 -> 20.57 | E10: =Scores!AC33 -> 21.02
A11: Msinga Local Municipality | B11: =Scores!H26 -> 18.61 | C11: =Scores!O26 -> 17.62 | D11: =Scores!V26 -> 16.72 | E11: =Scores!AC26 -> 16.79
A12: Nkandla Local Municipality | B12: =Scores!H31 -> 19.47 | C12: =Scores!O31 -> 19.13 | D12: =Scores!V31 -> 21.81 | E12: =Scores!AC31 -> 22.35
A13: Umhlabuyalingana Local Municipality | B13: =Scores!H43 -> 19.72 | C13: =Scores!O43 -> 22.52 | D13: =Scores!V43 -> 27.18 | E13: =Scores!AC43 -> 25.6
A14: Ndwedwe Local Municipality | B14: =Scores!H29 -> 20.83 | C14: =Scores!O29 -> 18.93 | D14: =Scores!V29 -> 17.11 | E14: =Scores!AC29 -> 18.09
A15: Indaka Local Municipality | B15: =Scores!H16 -> 20.87 | C15: =Scores!O16 -> 22.25 | D15: =Scores!V16 -> 23.15 | E15: =Scores!AC16 -> 23.82
A16: Ezingoleni Local Municipality | B16: =Scores!H10 -> 20.9 | C16: =Scores!O10 -> 19.53 | D16: =Scores!V10 -> 17.44 | E16: =Scores!AC10 -> 16.98
A17: Impendle Local Municipality | B17: =Scores!H15 -> 21.88 | C17: =Scores!O15 -> 24.13 | D17: =Scores!V15 -> 21.62 | E17: =Scores!AC15 -> 18.93
A18: St Lucia Park District Management Area | B18: =Scores!H37 -> 22.82 | C18: =Scores!O37 -> 27.05 | D18: =Scores!V37 -> 18.97 | E18: =Scores!AC37 -> 19.59
A19: Dannhauser Local Municipality | B19: =Scores!H4 -> 22.85 | C19: =Scores!O4 -> 16.83 | D19: =Scores!V4 -> 13.04 | E19: =Scores!AC4 -> 10.85
A20: Mandeni Local Municipality (Endondakusuka) | B20: =Scores!H21 -> 23.42 | C20: =Scores!O21 -> 25.97 | D20: =Scores!V21 -> 26.49 | E20: =Scores!AC21 -> 26
A21: Ingwe Local Municipality | B21: =Scores!H17 -> 23.52 | C21: =Scores!O17 -> 20.55 | D21: =Scores!V17 -> 19.45 | E21: =Scores!AC17 -> 19.33
A22: eDumbe Local Municipality | B22: =Scores!H5 -> 23.61 | C22: =Scores!O5 -> 17.54 | D22: =Scores!V5 -> 16.65 | E22: =Scores!AC5 -> 16.7
A23: Abaqulusi Local Municipality | B23: =Scores!H3 -> 23.71 | C23: =Scores!O3 -> 21.74 | D23: =Scores!V3 -> 22.83 | E23: =Scores!AC3 -> 23.39
A24: Ntambanana Local Municipality | B24: =Scores!H34 -> 24.12 | C24: =Scores!O34 -> 20.89 | D24: =Scores!V34 -> 18.86 | E24: =Scores!AC34 -> 17.02
A25: Emadlangeni Local Municipality (Utrecht) | B25: =Scores!H6 -> 25.34 | C25: =Scores!O6 -> 21 | D25: =Scores!V6 -> 21.86 | E25: =Scores!AC6 -> 21.6
A26: Emnambithi-Ladysmith Local Municipality | B26: =Scores!H7 -> 25.5 | C26: =Scores!O7 -> 24.44 | D26: =Scores!V7 -> 23.74 | E26: =Scores!AC7 -> 23.02
A27: Richmond Local Municipality | B27: =Scores!H36 -> 26.07 | C27: =Scores!O36 -> 28.99 | D27: =Scores!V36 -> 24.57 | E27: =Scores!AC36 -> 24.54
A28: Mbonambi Local Municipality | B28: =Scores!H23 -> 27.14 | C28: =Scores!O23 -> 29 | D28: =Scores!V23 -> 27.65 | E28: =Scores!AC23 -> 26.68
A29: Kwa Sani Local Municipality | B29: =Scores!H19 -> 27.23 | C29: =Scores!O19 -> 28.51 | D29: =Scores!V19 -> 30.09 | E29: =Scores!AC19 -> 30.07
A30: Greater Kokstad Local Municipality | B30: =Scores!H11 -> 27.51 | C30: =Scores!O11 -> 26.92 | D30: =Scores!V11 -> 27.01 | E30: =Scores!AC11 -> 26.48
A31: Okhahlamba Local Municipality | B31: =Scores!H35 -> 27.68 | C31: =Scores!O35 -> 26.87 | D31: =Scores!V35 -> 24.9 | E31: =Scores!AC35 -> 23.91
A32: Ulundi Local Municipality | B32: =Scores!H41 -> 27.73 | C32: =Scores!O41 -> 27.44 | D32: =Scores!V41 -> 29.49 | E32: =Scores!AC41 -> 31.42
A33: uMuziwabantu Local Municipality | B33: =Scores!H49 -> 28.41 | C33: =Scores!O49 -> 28.63 | D33: =Scores!V49 -> 27.7 | E33: =Scores!AC49 -> 27.64
A34: Endumeni Local Municipality | B34: =Scores!H8 -> 28.97 | C34: =Scores!O8 -> 25.43 | D34: =Scores!V8 -> 24.69 | E34: =Scores!AC8 -> 24.38
A35: Mtubatuba Local Municipality | B35: =Scores!H28 -> 29.19 | C35: =Scores!O28 -> 30.6 | D35: =Scores!V28 -> 30.03 | E35: =Scores!AC28 -> 30.22
A36: uMlalazi Local Municipality | B36: =Scores!H45 -> 29.33 | C36: =Scores!O45 -> 30.15 | D36: =Scores!V45 -> 31.7 | E36: =Scores!AC45 -> 31.8
A37: Mkhambathini Local Municipality | B37: =Scores!H24 -> 29.71 | C37: =Scores!O24 -> 28.36 | D37: =Scores!V24 -> 28.73 | E37: =Scores!AC24 -> 28.24
A38: KwaDukuza Local Municipality | B38: =Scores!H20 -> 30.04 | C38: =Scores!O20 -> 31.93 | D38: =Scores!V20 -> 33.63 | E38: =Scores!AC20 -> 34.99
A39: Vulamehlo Local Municipality | B39: =Scores!H54 -> 30.42 | C39: =Scores!O54 -> 25.98 | D39: =Scores!V54 -> 23.47 | E39: =Scores!AC54 -> 22.83
A40: Mooi Mpofana Local Municipality | B40: =Scores!H25 -> 30.48 | C40: =Scores!O25 -> 29.28 | D40: =Scores!V25 -> 30.3 | E40: =Scores!AC25 -> 29.82
A41: Ubuhlebezwe Local Municipality | B41: =Scores!H40 -> 30.67 | C41: =Scores!O40 -> 29.04 | D41: =Scores!V40 -> 29.61 | E41: =Scores!AC40 -> 28.51
A42: uMshwathi Local Municipality | B42: =Scores!H47 -> 30.81 | C42: =Scores!O47 -> 33.45 | D42: =Scores!V47 -> 32.66 | E42: =Scores!AC47 -> 32.39
A43: uPhongolo Local Municipality | B43: =Scores!H53 -> 31.28 | C43: =Scores!O53 -> 31.98 | D43: =Scores!V53 -> 34.2 | E43: =Scores!AC53 -> 34.65
A44: Umzimkhulu Local Municipality (Umzimkulu) | B44: =Scores!H51 -> 31.63 | C44: =Scores!O51 -> 30.59 | D44: =Scores!V51 -> 30.46 | E44: =Scores!AC51 -> 31.62
A45: Umzumbe Local Municipality | B45: =Scores!H52 -> 32 | C45: =Scores!O52 -> 31.35 | D45: =Scores!V52 -> 32.95 | E45: =Scores!AC52 -> 32.95
A46: Umvoti Local Municipality | B46: =Scores!H50 -> 33.98 | C46: =Scores!O50 -> 38.02 | D46: =Scores!V50 -> 39.26 | E46: =Scores!AC50 -> 40.39
A47: eThekwini Metropolitan Municipality | B47: =Scores!H9 -> 34.69 | C47: =Scores!O9 -> 34.53 | D47: =Scores!V9 -> 32.08 | E47: =Scores!AC9 -> 33.71
A48: Umdoni Local Municipality | B48: =Scores!H42 -> 35.08 | C48: =Scores!O42 -> 38.91 | D48: =Scores!V42 -> 39.6 | E48: =Scores!AC42 -> 39.95
A49: Hibiscus Coast Local Municipality | B49: =Scores!H12 -> 35.98 | C49: =Scores!O12 -> 31.26 | D49: =Scores!V12 -> 27.21 | E49: =Scores!AC12 -> 26.68
A50: uMhlathuze Local Municipality | B50: =Scores!H44 -> 37.65 | C50: =Scores!O44 -> 37.82 | D50: =Scores!V44 -> 38.63 | E50: =Scores!AC44 -> 38.42
A51: Newcastle Local Municipality | B51: =Scores!H30 -> 38.18 | C51: =Scores!O30 -> 36.48 | D51: =Scores!V30 -> 35.17 | E51: =Scores!AC30 -> 34.38
A52: Umtshezi Local Municipality | B52: =Scores!H48 -> 38.39 | C52: =Scores!O48 -> 35.69 | D52: =Scores!V48 -> 36.51 | E52: =Scores!AC48 -> 35.85
A53: The Msunduzi Local Municipality | B53: =Scores!H39 -> 40.35 | C53: =Scores!O39 -> 39.4 | D53: =Scores!V39 -> 38.88 | E53: =Scores!AC39 -> 38.98
A54: uMngeni Local Municipality | B54: =Scores!H46 -> 41.24 | C54: =Scores!O46 -> 42.62 | D54: =Scores!V46 -> 42.85 | E54: =Scores!AC46 -> 43.24
A58: Rural KZN
A59: Urban KZN

Sheet RankChange
B1: Rank Change1996 to 2010
A2: Kwa Sani Local Municipality | B2: =('Final ranking'!E19-'Final ranking'!B19)/'Final ranking'!B19*100 -> -52.516411
A3: Mkhambathini Local Municipality | B3: =('Final ranking'!E24-'Final ranking'!B24)/'Final ranking'!B24*100 -> -29.436153
A4: Maphumulo Local Municipality | B4: =('Final ranking'!E22-'Final ranking'!B22)/'Final ranking'!B22*100 -> -29.26726
A5: uMuziwabantu Local Municipality | B5: =('Final ranking'!E49-'Final ranking'!B49)/'Final ranking'!B49*100 -> -25.847693
A6: The Msunduzi Local Municipality | B6: =('Final ranking'!E39-'Final ranking'!B39)/'Final ranking'!B39*100 -> -24.95069
A7: Indaka Local Municipality | B7: =('Final ranking'!E16-'Final ranking'!B16)/'Final ranking'!B16*100 -> -18.755981
A8: Mandeni Local Municipality (Endondakusuka) | B8: =('Final ranking'!E21-'Final ranking'!B21)/'Final ranking'!B21*100 -> -17.814626
A9: Ntambanana Local Municipality | B9: =('Final ranking'!E34-'Final ranking'!B34)/'Final ranking'!B34*100 -> -15.843977
A10: Mooi Mpofana Local Municipality | B10: =('Final ranking'!E25-'Final ranking'!B25)/'Final ranking'!B25*100 -> -14.759274
A11: Jozini Local Municipality | B11: =('Final ranking'!E18-'Final ranking'!B18)/'Final ranking'!B18*100 -> -14.154251
A12: Nkandla Local Municipality | B12: =('Final ranking'!E31-'Final ranking'!B31)/'Final ranking'!B31*100 -> -13.619942
A13: Ingwe Local Municipality | B13: =('Final ranking'!E17-'Final ranking'!B17)/'Final ranking'!B17*100 -> -13.482633
A14: Imbabazane Local Municipality | B14: =('Final ranking'!E14-'Final ranking'!B14)/'Final ranking'!B14*100 -> -13.154105
A15: Umzimkhulu Local Municipality (Umzimkulu) | B15: =('Final ranking'!E51-'Final ranking'!B51)/'Final ranking'!B51*100 -> -9.9528549
A16: Greater Kokstad Local Municipality | B16: =('Final ranking'!E11-'Final ranking'!B11)/'Final ranking'!B11*100 -> -9.7796883
A17: Msinga Local Municipality | B17: =('Final ranking'!E26-'Final ranking'!B26)/'Final ranking'!B26*100 -> -9.7254902
A18: Emnambithi-Ladysmith Local Municipality | B18: =('Final ranking'!E7-'Final ranking'!B7)/'Final ranking'!B7*100 -> -7.2609209
A19: Ulundi Local Municipality | B19: =('Final ranking'!E41-'Final ranking'!B41)/'Final ranking'!B41*100 -> -7.0427127
A20: Umzumbe Local Municipality | B20: =('Final ranking'!E52-'Final ranking'!B52)/'Final ranking'!B52*100 -> -6.6163063
A21: Mthonjaneni Local Municipality | B21: =('Final ranking'!E27-'Final ranking'!B27)/'Final ranking'!B27*100 -> -5.8688147
A22: St Lucia Park District Management Area | B22: =('Final ranking'!E37-'Final ranking'!B37)/'Final ranking'!B37*100 -> -4.947829
A23: Newcastle Local Municipality | B23: =('Final ranking'!E30-'Final ranking'!B30)/'Final ranking'!B30*100 -> -3.7440931
A24: uPhongolo Local Municipality | B24: =('Final ranking'!E53-'Final ranking'!B53)/'Final ranking'!B53*100 -> -3.3952912
A25: uMshwathi Local Municipality | B25: =('Final ranking'!E47-'Final ranking'!B47)/'Final ranking'!B47*100 -> -2.8250216
A26: Nquthu Local Municipality | B26: =('Final ranking'!E33-'Final ranking'!B33)/'Final ranking'!B33*100 -> -2.7103133
A27: Ubuhlebezwe Local Municipality | B27: =('Final ranking'!E40-'Final ranking'!B40)/'Final ranking'!B40*100 -> -2.1653543
A28: Mtubatuba Local Municipality | B28: =('Final ranking'!E28-'Final ranking'!B28)/'Final ranking'!B28*100 -> -1.6949153
A29: Mbonambi Local Municipality | B29: =('Final ranking'!E23-'Final ranking'!B23)/'Final ranking'!B23*100 -> -1.3496415
A30: uMhlathuze Local Municipality | B30: =('Final ranking'!E44-'Final ranking'!B44)/'Final ranking'!B44*100 -> -0.031615555
A31: Umvoti Local Municipality | B31: =('Final ranking'!E50-'Final ranking'!B50)/'Final ranking'!B50*100 -> 2.0451527
A32: eDumbe Local Municipality | B32: =('Final ranking'!E5-'Final ranking'!B5)/'Final ranking'!B5*100 -> 2.5015635
A33: uMlalazi Local Municipality | B33: =('Final ranking'!E45-'Final ranking'!B45)/'Final ranking'!B45*100 -> 2.96875
A34: Okhahlamba Local Municipality | B34: =('Final ranking'!E35-'Final ranking'!B35)/'Final ranking'!B35*100 -> 3.5286057
A35: Vulamehlo Local Municipality | B35: =('Final ranking'!E54-'Final ranking'!B54)/'Final ranking'!B54*100 -> 4.8496605
A36: Umdoni Local Municipality | B36: =('Final ranking'!E42-'Final ranking'!B42)/'Final ranking'!B42*100 -> 5.1282051
A37: Richmond Local Municipality | B37: =('Final ranking'!E36-'Final ranking'!B36)/'Final ranking'!B36*100 -> 8.4214115
A38: Ndwedwe Local Municipality | B38: =('Final ranking'!E29-'Final ranking'!B29)/'Final ranking'!B29*100 -> 10.429673
A39: Umhlabuyalingana Local Municipality | B39: =('Final ranking'!E43-'Final ranking'!B43)/'Final ranking'!B43*100 -> 10.773657
A40: KwaDukuza Local Municipality | B40: =('Final ranking'!E20-'Final ranking'!B20)/'Final ranking'!B20*100 -> 11.016225
A41: Nongoma Local Municipality | B41: =('Final ranking'!E32-'Final ranking'!B32)/'Final ranking'!B32*100 -> 13.306888
A42: Umtshezi Local Municipality | B42: =('Final ranking'!E48-'Final ranking'!B48)/'Final ranking'!B48*100 -> 13.882554
A43: Impendle Local Municipality | B43: =('Final ranking'!E15-'Final ranking'!B15)/'Final ranking'!B15*100 -> 14.135122
A44: Hibiscus Coast Local Municipality | B44: =('Final ranking'!E12-'Final ranking'!B12)/'Final ranking'!B12*100 -> 14.791988
A45: Ezingoleni Local Municipality | B45: =('Final ranking'!E10-'Final ranking'!B10)/'Final ranking'!B10*100 -> 15.557999
A46: The Big Five False Bay Local Municipality | B46: =('Final ranking'!E38-'Final ranking'!B38)/'Final ranking'!B38*100 -> 16.478029
A47: uMngeni Local Municipality | B47: =('Final ranking'!E46-'Final ranking'!B46)/'Final ranking'!B46*100 -> 18.864038
A48: Dannhauser Local Municipality | B48: =('Final ranking'!E4-'Final ranking'!B4)/'Final ranking'!B4*100 -> 24.514401
A49: Hlabisa Local Municipality | B49: =('Final ranking'!E13-'Final ranking'!B13)/'Final ranking'!B13*100 -> 29.817444
A50: Emadlangeni Local Municipality (Utrecht) | B50: =('Final ranking'!E6-'Final ranking'!B6)/'Final ranking'!B6*100 -> 40.809969
A51: Endumeni Local Municipality | B51: =('Final ranking'!E8-'Final ranking'!B8)/'Final ranking'!B8*100 -> 63.44086
A52: eThekwini Metropolitan Municipality | B52: =('Final ranking'!E9-'Final ranking'!B9)/'Final ranking'!B9*100 -> 66.944444
A53: Abaqulusi Local Municipality | B53: =('Final ranking'!E3-'Final ranking'!B3)/'Final ranking'!B3*100 -> 77.896613
A56: Rural KZN
A57: Urban KZN
