Workbook

Sheet Stats
A1: Individual Tax Payers: Taxable income and Tax assessed by Province 2005-2009
A2: PROVINCE | B2: 2005 | E2: 2006 | H2: 2007 | K2: 2008 | N2: 2009
B3: Number of taxpayers | C3: Taxable income ( R million) | D3: Tax assessed ( R million) | E3: Number of taxpayers | F3: Taxable income ( R million) | G3: Tax assessed ( R million) | H3: Number of taxpayers | I3: Taxable income ( R million) | J3: Tax assessed ( R million) | K3: Number of taxpayers | L3: Taxable income ( R million) | M3: Tax assessed ( R million) | N3: Number of taxpayers | O3: Taxable income ( R million) | P3: Tax assessed ( R million)
A4: Eastern Cape | B4: 327734 | C4: 30855 | D4: 5593 | E4: 341834 | F4: 34423 | G4: 6198 | H4: 326325 | I4: 37545 | J4: 6545 | K4: 288095 | L4: 39505 | M4: 7138 | N4: 297860 | O4: 45023 | P4: 8146
A5: Free State | B5: 184574 | C5: 15299 | D5: 3092 | E5: 189885 | F5: 17105 | G5: 3377 | H5: 184516 | I5: 18950 | J5: 3626 | K5: 162792 | L5: 20195 | M5: 4053 | N5: 169008 | O5: 24194 | P5: 4804
A6: Gauteng | B6: 1470375 | C6: 204031 | D6: 47791 | E6: 1548984 | F6: 238317 | G6: 56176 | H6: 1532641 | I6: 274641 | J6: 63508 | K6: 1403468 | L6: 307583 | M6: 7305 | N6: 1434567 | O6: 335330 | P6: 79369
A7: KwaZulu Natal | B7: 598249 | C7: 63610 | D7: 12866 | E7: 635404 | F7: 74143 | G7: 14994 | H7: 601143 | I7: 81158 | J7: 15949 | K7: 531401 | L7: 86977 | M7: 17799 | N7: 531257 | O7: 96180 | P7: 19725
A8: Limpopo | B8: 140504 | C8: 12966 | D8: 2412 | E8: 146715 | F8: 14912 | G8: 2760 | H8: 144018 | I8: 16356 | J8: 2865 | K8: 120550 | L8: 17043 | M8: 3137 | N8: 125658 | O8: 20335 | P8: 3816
A9: Mpumalanga | B9: 209555 | C9: 22986 | D9: 4834 | E9: 218482 | F9: 26122 | G9: 5387 | H9: 212631 | I9: 29309 | J9: 5877 | K9: 191407 | L9: 31958 | M9: 6666 | N9: 203178 | O9: 38693 | P9: 8159
A10: North West | B10: 157753 | C10: 15329 | D10: 3078 | E10: 164253 | F10: 17652 | G10: 3495 | H10: 161279 | I10: 19671 | J10: 3819 | K10: 145188 | L10: 21586 | M10: 4430 | N10: 152238 | O10: 25125 | P10: 5101
A11: Northern Cape | B11: 5841 | C11: 4800 | D11: 990 | E11: 60922 | F11: 5642 | G11: 1149 | H11: 61054 | I11: 6195 | J11: 1190 | K11: 54500 | L11: 6792 | M11: 1367 | N11: 57542 | O11: 8155 | P11: 1611
A12: Western Cape | B12: 659841 | C12: 71630 | D12: 15339 | E12: 699987 | F12: 83231 | G12: 17793 | H12: 692536 | I12: 93674 | J12: 19350 | K12: 615176 | L12: 100913 | M12: 21658 | N12: 613235 | O12: 107489 | P12: 23322
A13: Total | B13: =SUM(B4:B12) -> 3754426 | C13: =SUM(C4:C12) -> 441506 | D13: =SUM(D4:D12) -> 95995 | E13: =SUM(E4:E12) -> 4006466 | F13: =SUM(F4:F12) -> 511547 | G13: =SUM(G4:G12) -> 111329 | H13: =SUM(H4:H12) -> 3916143 | I13: =SUM(I4:I12) -> 577499 | ... P13: =SUM(P4:P12) -> 154053
A15: PERCENTAGE OF TOTAL | B15: 2005 | E15: 2006 | H15: 2007 | K15: 2008 | N15: 2009
B16: Number of taxpayers | C16: Taxable income ( R million) | D16: Tax assessed ( R million) | E16: Number of taxpayers | F16: Taxable income ( R million) | G16: Tax assessed ( R million) | H16: Number of taxpayers | I16: Taxable income ( R million) | J16: Tax assessed ( R million) | K16: Number of taxpayers | L16: Taxable income ( R million) | M16: Tax assessed ( R million) | N16: Number of taxpayers | O16: Taxable income ( R million) | P16: Tax assessed ( R million)
A17: Eastern Cape | B17: =B4/B13 -> 0.087292705 | C17: =C4/C13 -> 0.0698858 | D17: =D4/D13 -> 0.058263451 | E17: =E4/E13 -> 0.085320579 | F17: =F4/F13 -> 0.067291959 | G17: =G4/G13 -> 0.055672826 | H17: =H4/H13 -> 0.083328162 | I17: =I4/I13 -> 0.0650131 | ... P17: =P4/P13 -> 0.052877906
A18: Free State | B18: =B5/B13 -> 0.049161709 | C18: =C5/C13 -> 0.034651851 | D18: =D5/D13 -> 0.032210011 | E18: =E5/E13 -> 0.047394637 | F18: =F5/F13 -> 0.033437788 | G18: =G5/G13 -> 0.030333516 | H18: =H5/H13 -> 0.047116768 | I18: =I5/I13 -> 0.03281391 | ... P18: =P5/P13 -> 0.031184073
A19: Gauteng | B19: =B6/B13 -> 0.39163776 | C19: =C6/C13 -> 0.46212509 | D19: =D6/D13 -> 0.49784885 | E19: =E6/E13 -> 0.38662103 | F19: =F6/F13 -> 0.46587508 | G19: =G6/G13 -> 0.50459449 | H19: =H6/H13 -> 0.39136492 | I19: =I6/I13 -> 0.47556965 | ... P19: =P6/P13 -> 0.51520581
A20: KwaZulu Natal | B20: =B7/B13 -> 0.159345 | C20: =C7/C13 -> 0.14407505 | D20: =D7/D13 -> 0.13402781 | E20: =E7/E13 -> 0.15859463 | F20: =F7/F13 -> 0.14493878 | G20: =G7/G13 -> 0.13468189 | H20: =H7/H13 -> 0.15350384 | I20: =I7/I13 -> 0.14053358 | ... P20: =P7/P13 -> 0.12804035
A21: Limpopo | B21: =B8/B13 -> 0.037423564 | C21: =C8/C13 -> 0.029367664 | D21: =D8/D13 -> 0.025126309 | E21: =E8/E13 -> 0.036619554 | F21: =F8/F13 -> 0.029150792 | G21: =G8/G13 -> 0.024791384 | H21: =H8/H13 -> 0.03677547 | I21: =I8/I13 -> 0.028322127 | ... P21: =P8/P13 -> 0.024770696
A22: Mpumalanga | B22: =B9/B13 -> 0.055815456 | C22: =C9/C13 -> 0.052062713 | D22: =D9/D13 -> 0.050356789 | E22: =E9/E13 -> 0.054532348 | F22: =F9/F13 -> 0.051064712 | G22: =G9/G13 -> 0.048388111 | H22: =H9/H13 -> 0.054296025 | I22: =I9/I13 -> 0.050751603 | ... P22: =P9/P13 -> 0.052962292
A23: North West | B23: =B10/B13 -> 0.042017874 | C23: =C10/C13 -> 0.0347198 | D23: =D10/D13 -> 0.03206417 | E23: =E10/E13 -> 0.040996978 | F23: =F10/F13 -> 0.034507093 | G23: =G10/G13 -> 0.031393437 | H23: =H10/H13 -> 0.041183123 | I23: =I10/I13 -> 0.034062397 | ... P23: =P10/P13 -> 0.033111981
A24: Northern Cape | B24: =B11/B13 -> 0.0015557638 | C24: =C11/C13 -> 0.010871879 | D24: =D11/D13 -> 0.010313037 | E24: =E11/E13 -> 0.01520592 | F24: =F11/F13 -> 0.01102929 | G24: =G11/G13 -> 0.010320761 | H24: =H11/H13 -> 0.01559034 | I24: =I11/I13 -> 0.010727291 | ... P24: =P11/P13 -> 0.01045744
A25: Western Cape | B25: =B12/B13 -> 0.17575017 | C25: =C12/C13 -> 0.16224015 | D25: =D12/D13 -> 0.15978957 | E25: =E12/E13 -> 0.17471432 | F25: =F12/F13 -> 0.1627045 | G25: =G12/G13 -> 0.15982359 | H25: =H12/H13 -> 0.17684135 | I25: =I12/I13 -> 0.16220634 | ... P25: =P12/P13 -> 0.15138946
A26: Total | B26: =SUM(B17:B25) -> 1 | C26: =SUM(C17:C25) -> 1 | D26: =SUM(D17:D25) -> 1 | E26: =SUM(E17:E25) -> 1 | F26: =SUM(F17:F25) -> 1 | G26: =SUM(G17:G25) -> 1 | H26: =SUM(H17:H25) -> 1 | I26: =SUM(I17:I25) -> 1 | ... P26: =SUM(P17:P25) -> 1
B28: =C3 -> Taxable income ( R million) | C28: Nominal Increase | D28: Inflation | E28: Real Increase
A29: 2005 | B29: =C7 -> 63610
A30: =A29+1 -> 2006 | B30: =F7 -> 74143 | C30: =(B30-B29)/B29*100 -> 16.558717 | D30: 4.7 | E30: =C30-D30 -> 11.858717
A31: =A30+1 -> 2007 | B31: =I7 -> 81158 | C31: =(B31-B30)/B30*100 -> 9.4614461 | D31: 7.1 | E31: =C31-D31 -> 2.3614461
A32: =A31+1 -> 2008 | B32: =L7 -> 86977 | C32: =(B32-B31)/B31*100 -> 7.1699648 | D32: 10.56 | E32: =C32-D32 -> -3.3900352
A33: =A32+1 -> 2009 | B33: =O7 -> 96180 | C33: =(B33-B32)/B32*100 -> 10.580958 | D33: 7.1 | E33: =C33-D33 -> 3.4809582
A35: Average | C35: =AVERAGE(C30:C33) -> 10.942772 | D35: =AVERAGE(D30:D33) -> 7.365 | E35: =AVERAGE(E30:E33) -> 3.5777716

Sheet Graphs
A1: KZN PERSONAL TAX STATISTICS
B3: Number of taxpayers | C3: Taxable income ( R million) | D3: Tax Burden
A4: 2005 | B4: =Stats!B7 -> 598249 | C4: =Stats!C7 -> 63610 | D4: =Stats!D7 -> 12866 | E4: =D4*1000000/B4 -> 21506.095
A5: =A4+1 -> 2006 | B5: =Stats!E7 -> 635404 | C5: =Stats!F7 -> 74143 | D5: =Stats!G7 -> 14994 | E5: =D5*1000000/B5 -> 23597.585
A6: =A5+1 -> 2007 | B6: =Stats!H7 -> 601143 | C6: =Stats!I7 -> 81158 | D6: =Stats!J7 -> 15949 | E6: =D6*1000000/B6 -> 26531.125
A7: =A6+1 -> 2008 | B7: =Stats!K7 -> 531401 | C7: =Stats!L7 -> 86977 | D7: =Stats!M7 -> 17799 | E7: =D7*1000000/B7 -> 33494.48
A8: 2009 | B8: 531257 | C8: 96180 | D8: 19725 | E8: =D8*1000000/B8 -> 37128.923
P23: KZN Tax Burden as a % of SA Tax Burden
K24: 2005 | L24: =Stats!B13 -> 3754426 | M24: =Stats!C13 -> 441506 | N24: =Stats!D13 -> 95995 | O24: =E4 -> 21506.095 | P24: =N24*1000000/L24 -> 25568.489 | Q24: =O24/P24*100 -> 84.111718
K25: 2006 | L25: =Stats!E13 -> 4006466 | M25: =Stats!F13 -> 511547 | N25: =Stats!G13 -> 111329 | O25: =E5 -> 23597.585 | P25: =N25*1000000/L25 -> 27787.332 | Q25: =O25/P25*100 -> 84.922098
K26: 2007 | L26: =Stats!H13 -> 3916143 | M26: =Stats!I13 -> 577499 | N26: =Stats!J13 -> 122729 | O26: =E6 -> 26531.125 | P26: =N26*1000000/L26 -> 31339.254 | Q26: =O26/P26*100 -> 84.657806
K27: 2008 | L27: =Stats!K13 -> 3512577 | M27: =Stats!L13 -> 632552 | N27: =Stats!M13 -> 73553 | O27: =E7 -> 33494.48 | P27: =N27*1000000/L27 -> 20939.897 | Q27: =O27/P27*100 -> 159.95532
K28: 2009 | L28: =Stats!N13 -> 3584543 | M28: =Stats!O13 -> 700524 | N28: =Stats!P13 -> 154053 | O28: =E8 -> 37128.923 | P28: =N28*1000000/L28 -> 42977.027 | Q28: =O28/P28*100 -> 86.392488
K30: 2005 | L30: =B4/L24*100 -> 15.9345 | M30: =C4/M24*100 -> 14.407505
K31: 2006 | L31: =B5/L25*100 -> 15.859463 | M31: =C5/M25*100 -> 14.493878
K32: 2007 | L32: =B6/L26*100 -> 15.350384 | M32: =C6/M26*100 -> 14.053358
K33: 2008 | L33: =B7/L27*100 -> 15.128522 | M33: =C7/M27*100 -> 13.750174
K34: 2009 | L34: =B8/L28*100 -> 14.820774 | M34: =C8/M28*100 -> 13.729722

Sheet PieCharts
A1: KZN PERSONAL TAX STATISTICS
