Workbook

Sheet Intro
A1: KZN RISK INDICES | N1: Low or Decreasing Risk
C2: Risk Index | N2: Neutral Risk
C3: KZN GDP vs KZN Risk | N3: High or Increasing Risk
C4: KZN Shift Share Analysis | H4: Risk Index | M4: ='Risk Analysis'!B1 -> KZN | N4: ='Risk Analysis'!C1 -> Durban | O4: ='Risk Analysis'!D1 -> PMB | P4: ='Risk Analysis'!E1 -> Rbay | Q4: ='Risk Analysis'!F1 -> Newcastle | R4: ='Risk Analysis'!G1 -> Port Shepstone | S4: ='Risk Analysis'!H1 -> Ilembe
C5: KZN Comparative Analysis | H5: Increasing | I5: Neutral | J5: Decreasing | L5: ='Risk Analysis'!A151 -> 40330 | M5: ='Risk Analysis'!B151 -> 0.57380612 | N5: ='Risk Analysis'!C151 -> 0.48075584 | O5: ='Risk Analysis'!D151 -> 0.53303367 | P5: ='Risk Analysis'!E151 -> 0.68852989 | Q5: ='Risk Analysis'!F151 -> 0.5466684 | R5: ='Risk Analysis'!G151 -> 0.60435453 | S5: ='Risk Analysis'!H151 -> 0.81985989
C6: KZN Sector Analysis | H6: <0 | I6: =0 -> 0 | J6: >0 | L6: ='Risk Analysis'!A152 -> 40360 | M6: ='Risk Analysis'!B152 -> -1.1264194 | N6: ='Risk Analysis'!C152 -> -1.1541088 | O6: ='Risk Analysis'!D152 -> -0.8322688 | P6: ='Risk Analysis'!E152 -> -1.8157061 | Q6: ='Risk Analysis'!F152 -> -1.2369855 | R6: ='Risk Analysis'!G152 -> -0.90433399 | S6: ='Risk Analysis'!H152 -> -1.1436695
L7: ='Risk Analysis'!A153 -> 40391 | M7: ='Risk Analysis'!B153 -> 0.82750608 | N7: ='Risk Analysis'!C153 -> 0.76762006 | O7: ='Risk Analysis'!D153 -> 0.77536717 | P7: ='Risk Analysis'!E153 -> 0.96585953 | Q7: ='Risk Analysis'!F153 -> 0.72774446 | R7: ='Risk Analysis'!G153 -> 0.88176649 | S7: ='Risk Analysis'!H153 -> 0.91491671
A8: Relative Economic Sector Impact | B8: Rand Dollar (Rand per USD) | C8: Interest Rate (R157 = %) | D8: Inflation (pa %) | E8: Oil Price (USD) | F8: Sugar Price (US cents per pound) | G8: Gold Price (USD) | H8: Credit extended to the domestic private sector (Rm) | I8: Physical volume of electricity production (2005=100) | J8: Total Weights | L8: ='Risk Analysis'!A154 -> 40422 | M8: ='Risk Analysis'!B154 -> -1.0625476 | N8: ='Risk Analysis'!C154 -> -1.2858176 | O8: ='Risk Analysis'!D154 -> -0.82506936 | P8: ='Risk Analysis'!E154 -> -1.403375 | Q8: ='Risk Analysis'!F154 -> -1.2944415 | R8: ='Risk Analysis'!G154 -> -0.74963921 | S8: ='Risk Analysis'!H154 -> -0.74556532
A9: Agriculture, forestry and fishing | B9: 0.2 | C9: 0.1 | D9: 0.05 | E9: 0.17 | F9: 0.3 | G9: 0 | H9: 0.1 | I9: 0.08 | J9: =SUM(B9:I9) -> 1 | L9: ='Risk Analysis'!A155 -> 40452 | M9: ='Risk Analysis'!B155 -> 0.34324118 | N9: ='Risk Analysis'!C155 -> 0.1213467 | O9: ='Risk Analysis'!D155 -> 0.31010264 | P9: ='Risk Analysis'!E155 -> 0.51074048 | Q9: ='Risk Analysis'!F155 -> 0.31637969 | R9: ='Risk Analysis'!G155 -> 0.41439864 | S9: ='Risk Analysis'!H155 -> 0.9289905
A10: Mining and quarrying | B10: 0.3 | C10: 0 | D10: 0 | E10: 0.1 | F10: 0 | G10: 0.4 | H10: 0 | I10: 0.2 | J10: =SUM(B10:I10) -> 1 | L10: ='Risk Analysis'!A156 -> 40483 | M10: ='Risk Analysis'!B156 -> -0.42917386 | N10: ='Risk Analysis'!C156 -> -0.45359833 | O10: ='Risk Analysis'!D156 -> -0.40879213 | P10: ='Risk Analysis'!E156 -> -0.27778591 | Q10: ='Risk Analysis'!F156 -> -0.31175127 | R10: ='Risk Analysis'!G156 -> -0.48877275 | S10: ='Risk Analysis'!H156 -> -0.40020485
A11: Manufacturing | B11: 0.35 | C11: 0.2 | D11: 0.05 | E11: 0.1 | F11: 0 | G11: 0 | H11: 0.1 | I11: 0.2 | J11: =SUM(B11:I11) -> 1 | L11: ='Risk Analysis'!A157 -> 40513 | M11: ='Risk Analysis'!B157 -> -1.9764798 | N11: ='Risk Analysis'!C157 -> -2.035796 | O11: ='Risk Analysis'!D157 -> -1.6880605 | P11: ='Risk Analysis'!E157 -> -2.3965852 | Q11: ='Risk Analysis'!F157 -> -2.0820897 | R11: ='Risk Analysis'!G157 -> -1.785888 | S11: ='Risk Analysis'!H157 -> -2.0817248
A12: Electricity, gas and water | B12: 0.1 | C12: 0.05 | D12: 0.05 | E12: 0.2 | F12: 0 | G12: 0 | H12: 0.1 | I12: 0.5 | J12: =SUM(B12:I12) -> 1 | L12: ='Risk Analysis'!A158 -> 40544 | M12: ='Risk Analysis'!B158 -> 0.72705859 | N12: ='Risk Analysis'!C158 -> 0.60171868 | O12: ='Risk Analysis'!D158 -> 0.6001371 | P12: ='Risk Analysis'!E158 -> 1.1298208 | Q12: ='Risk Analysis'!F158 -> 1.015024 | R12: ='Risk Analysis'!G158 -> 0.56052752 | S12: ='Risk Analysis'!H158 -> 1.2832154
A13: Construction | B13: 0.1 | C13: 0.3 | D13: 0.1 | E13: 0.15 | F13: 0 | G13: 0 | H13: 0.3 | I13: 0.05 | J13: =SUM(B13:I13) -> 1 | L13: ='Risk Analysis'!A159 -> 40575 | M13: ='Risk Analysis'!B159 -> -1.4891752 | N13: ='Risk Analysis'!C159 -> -1.5329372 | O13: ='Risk Analysis'!D159 -> -1.2807097 | P13: ='Risk Analysis'!E159 -> -1.4985573 | Q13: ='Risk Analysis'!F159 -> -1.3732378 | R13: ='Risk Analysis'!G159 -> -1.4910806 | S13: ='Risk Analysis'!H159 -> -1.5989347
A14: Wholesale & retail trade; hotels & restaurants | B14: 0.1 | C14: 0.35 | D14: 0.2 | E14: 0.1 | F14: 0 | G14: 0 | H14: 0.25 | I14: 0 | J14: =SUM(B14:I14) -> 1 | L14: ='Risk Analysis'!A160 -> 40603 | M14: ='Risk Analysis'!B160 -> -1.0599857 | N14: ='Risk Analysis'!C160 -> -0.95575151 | O14: ='Risk Analysis'!D160 -> -0.93342328 | P14: ='Risk Analysis'!E160 -> -1.1610133 | Q14: ='Risk Analysis'!F160 -> -0.9760505 | R14: ='Risk Analysis'!G160 -> -1.1148176 | S14: ='Risk Analysis'!H160 -> -1.4491947
A15: Transport , storage and communication | B15: 0.1 | C15: 0.2 | D15: 0.1 | E15: 0.3 | F15: 0 | G15: 0 | H15: 0.2 | I15: 0.1 | J15: =SUM(B15:I15) -> 1 | L15: ='Risk Analysis'!A161 -> 40634 | M15: ='Risk Analysis'!B161 -> -1.233264 | N15: ='Risk Analysis'!C161 -> -1.2022072 | O15: ='Risk Analysis'!D161 -> -1.0809561 | P15: ='Risk Analysis'!E161 -> -1.1921787 | Q15: ='Risk Analysis'!F161 -> -1.180431 | R15: ='Risk Analysis'!G161 -> -1.2490562 | S15: ='Risk Analysis'!H161 -> -1.5603325
A16: Finance, real estate and business services | B16: 0.1 | C16: 0.35 | D16: 0.1 | E16: 0.1 | F16: 0 | G16: 0 | H16: 0.3 | I16: 0.05 | J16: =SUM(B16:I16) -> 1 | L16: ='Risk Analysis'!A162 -> 40664 | M16: ='Risk Analysis'!B162 -> 1.4596048 | N16: ='Risk Analysis'!C162 -> 1.5436355 | O16: ='Risk Analysis'!D162 -> 1.2373229 | P16: ='Risk Analysis'!E162 -> 1.7923623 | Q16: ='Risk Analysis'!F162 -> 1.5152959 | R16: ='Risk Analysis'!G162 -> 1.322266 | S16: ='Risk Analysis'!H162 -> 1.3992684
A17: Personal and General Government Services | B17: 0.1 | C17: 0.35 | D17: 0.2 | E17: 0 | F17: 0 | G17: 0 | H17: 0.3 | I17: 0.05 | J17: =SUM(B17:I17) -> 1 | L17: ='Risk Analysis'!A163 -> 40695 | M17: ='Risk Analysis'!B163 -> 0.28395349 | N17: ='Risk Analysis'!C163 -> 0.19413324 | O17: ='Risk Analysis'!D163 -> 0.31776363 | P17: ='Risk Analysis'!E163 -> -0.00083568043 | Q17: ='Risk Analysis'!F163 -> 0.083215118 | R17: ='Risk Analysis'!G163 -> 0.46689498 | S17: ='Risk Analysis'!H163 -> 0.52587176
L18: ='Risk Analysis'!A164 -> 40725 | M18: ='Risk Analysis'!B164 -> -0.39209266 | N18: ='Risk Analysis'!C164 -> -0.59593337 | O18: ='Risk Analysis'!D164 -> -0.26628789 | P18: ='Risk Analysis'!E164 -> -0.47710806 | Q18: ='Risk Analysis'!F164 -> -0.56977319 | R18: ='Risk Analysis'!G164 -> -0.15725964 | S18: ='Risk Analysis'!H164 -> -0.070931941
L19: ='Risk Analysis'!A165 -> 40756 | M19: ='Risk Analysis'!B165 -> 1.151109 | N19: ='Risk Analysis'!C165 -> 1.0708515 | O19: ='Risk Analysis'!D165 -> 0.9013015 | P19: ='Risk Analysis'!E165 -> 2.009091 | Q19: ='Risk Analysis'!F165 -> 1.2712654 | R19: ='Risk Analysis'!G165 -> 0.96991677 | S19: ='Risk Analysis'!H165 -> 1.3359438

Sheet Notes
A1: Economic Indicator | B1: Unit | C1: Movement | D1: Decreasing Risk | E1: Increasing Risk | F1: Source
A2: Rand Dollar Exchange Rate | B2: Rand per 1USD | C2: Appreciate or Depreciate | D2: Depreciate | E2: Appreciate | F2: Sharenet
A3: Interest Rate | B3: Percentage R157 Bond | C3: Increase or Decrease | D3: Decrease | E3: Increase | F3: Sharenet
A4: Inflation Rate | B4: Percentage Per Annum | C4: Increase or Decrease | D4: Decrease | E4: Increase | F4: Stats SA
A5: Oil Price | B5: USD per Barrel | C5: Increase or Decrease | D5: Decrease | E5: Increase | F5: Sharenet
A6: Sugar Price | B6: US cents per pound | C6: Increase or Decrease | D6: Increase | E6: Decrease | F6: Indexmundi
A7: Gold Price | B7: USD per Ounce | C7: Increase or Decrease | D7: Increase | E7: Decrease | F7: Sharenet
A8: Credit extended to the domestic private sector | B8: Rand million | C8: Increase or Decrease | D8: Increase | E8: Decrease | F8: SARB
A9: Physical volume of electricity production | B9: Index, 2005=100 | C9: Increase or Decrease | D9: Increase | E9: Decrease | F9: Stats SA
A12: Risk Index Interpretation
A14: Positive Numbers | B14: Low or Decreasing Risk
A15: Zero | B15: Neutral Risk
A16: Negative Numbers | B16: High or Increasing Risk

Sheet KZN
A1: KwaZulu-Natal
A2: Number of formally employed people | B2: Agriculture | D2: Mining | F2: Manufacturing | H2: Electricity | J2: Construction | L2: Trade | N2: Transport | P2: Finance | R2: Community services | T2: Private Households | V2: Total | X2: Year-on-Year MA | Y2: Total-Private Households
B3: SA | C3: KZN | D3: SA | E3: =C3 -> KZN | F3: SA | G3: =E3 -> KZN | H3: SA | I3: =G3 -> KZN | J3: SA | K3: =I3 -> KZN | L3: SA | M3: =K3 -> KZN | N3: SA | O3: =M3 -> KZN | P3: SA | Q3: =O3 -> KZN | R3: SA | S3: =Q3 -> KZN | T3: SA | U3: =S3 -> KZN | V3: SA | W3: =U3 -> KZN | Y3: SA | Z3: MA
A4: 1996 | B4: 887880 | C4: 119935.87 | D4: 568517 | E4: 12742.287 | F4: 1457136.5 | G4: 298396.56 | H4: 76930.867 | I4: 9439.4677 | J4: 345823.5 | K4: 37055.55 | L4: 1085992 | M4: 110834.7 | N4: 479493.16 | O4: 74232.951 | P4: 713126.49 | Q4: 92858.436 | R4: 1578263.3 | S4: 230694.89 | T4: 1015292.6 | U4: 153872.12 | V4: =B4+D4+F4+H4+J4+L4+N4+P4+R4+T4 -> 8208455.4 | W4: =C4+E4+G4+I4+K4+M4+O4+Q4+S4+U4 -> 1140062.8 | Y4: =V4-T4 -> 7193162.8 | Z4: =W4-U4 -> 986190.71
A5: =A4+1 -> 1997 | B5: 881959.67 | C5: 119290.18 | D5: 552238 | E5: 10731.787 | F5: 1396428.8 | G5: 285072.38 | H5: 77385.042 | I5: 9522.6779 | J5: 357720.37 | K5: 38356.855 | L5: 1120388.8 | M5: 114457.71 | N5: 486881.96 | O5: 75572.063 | P5: 747970.5 | Q5: 97744.033 | R5: 1683664.2 | S5: 247302.37 | T5: 1003185.5 | U5: 151949.32 | V5: =B5+D5+F5+H5+J5+L5+N5+P5+R5+T5 -> 8307822.7 | W5: =C5+E5+G5+I5+K5+M5+O5+Q5+S5+U5 -> 1149999.4 | X5: =(W5-W4)/W4*100 -> 0.87157818 | Y5: =V5-T5 -> 7304637.2 | Z5: =W5-U5 -> 998050.05
A6: =A5+1 -> 1998 | B6: 867918.28 | C6: 117430.64 | D6: 465851 | E6: 9516.8939 | F6: 1350784.2 | G6: 273390.61 | H6: 75323.284 | I6: 9144.5514 | J6: 336634.99 | K6: 35789.493 | L6: 1189534.6 | M6: 120378.1 | N6: 461107.75 | O6: 71429.169 | P6: 773497.72 | Q6: 99537.299 | R6: 1772084.2 | S6: 260368.4 | T6: 991531.26 | U6: 148994.34 | V6: =B6+D6+F6+H6+J6+L6+N6+P6+R6+T6 -> 8284267.3 | W6: =C6+E6+G6+I6+K6+M6+O6+Q6+S6+U6 -> 1145979.5 | X6: =(W6-W5)/W5*100 -> -0.34955423 | Y6: =V6-T6 -> 7292736 | Z6: =W6-U6 -> 996985.16
A7: =A6+1 -> 1999 | B7: 866463.02 | C7: 117279.42 | D7: 436254 | E7: 7319.5869 | F7: 1315722.5 | G7: 264821.89 | H7: 74493.773 | I7: 8938.1365 | J7: 332065.66 | K7: 34509.149 | L7: 1307911.3 | M7: 129366.16 | N7: 462724.37 | O7: 70142.255 | P7: 812416.77 | Q7: 101702.16 | R7: 1837006.2 | S7: 269829.03 | T7: 985259.98 | U7: 146600.04 | V7: =B7+D7+F7+H7+J7+L7+N7+P7+R7+T7 -> 8430317.6 | W7: =C7+E7+G7+I7+K7+M7+O7+Q7+S7+U7 -> 1150507.8 | X7: =(W7-W6)/W6*100 -> 0.39515017 | Y7: =V7-T7 -> 7445057.6 | Z7: =W7-U7 -> 1003907.8
A8: =A7+1 -> 2000 | B8: 856696.91 | C8: 116128.47 | D8: 417717 | E8: 6322.7164 | F8: 1296165.5 | G8: 260883.83 | H8: 74502.364 | I8: 8875.0146 | J8: 350824.84 | K8: 36068.179 | L8: 1300427.2 | M8: 126760.83 | N8: 456984.32 | O8: 67634.965 | P8: 852256.59 | Q8: 105587.71 | R8: 1892891.1 | S8: 278101.68 | T8: 968553.77 | U8: 143196.29 | V8: =B8+D8+F8+H8+J8+L8+N8+P8+R8+T8 -> 8467019.5 | W8: =C8+E8+G8+I8+K8+M8+O8+Q8+S8+U8 -> 1149559.7 | X8: =(W8-W7)/W7*100 -> -0.082411095 | Y8: =V8-T8 -> 7498465.8 | Z8: =W8-U8 -> 1006363.4
A9: =A8+1 -> 2001 | B9: 916347.6 | C9: 123006.08 | D9: 406654 | E9: 5755.1779 | F9: 1262623.2 | G9: 253856.85 | H9: 74310.356 | I9: 8769.8623 | J9: 336682.72 | K9: 34804.01 | L9: 1319587.6 | M9: 129071.44 | N9: 440380.52 | O9: 64794.466 | P9: 931090.71 | Q9: 114349.95 | R9: 1879377.6 | S9: 273448.78 | T9: 953808.48 | U9: 139474.5 | V9: =B9+D9+F9+H9+J9+L9+N9+P9+R9+T9 -> 8520862.8 | W9: =C9+E9+G9+I9+K9+M9+O9+Q9+S9+U9 -> 1147331.1 | X9: =(W9-W8)/W8*100 -> -0.19386396 | Y9: =V9-T9 -> 7567054.3 | Z9: =W9-U9 -> 1007856.6
A10: =A9+1 -> 2002 | B10: 934015.47 | C10: 125405 | D10: 416153 | E10: 5780.2124 | F10: 1270647 | G10: 254839.75 | H10: 74998.982 | I10: 8944.5009 | J10: 336239.54 | K10: 34621.136 | L10: 1320665.2 | M10: 128804.3 | N10: 446726.56 | O10: 64599.084 | P10: 1009426.3 | Q10: 122510.19 | R10: 1944631.2 | S10: 280444.93 | T10: 954695.98 | U10: 138878.8 | V10: =B10+D10+F10+H10+J10+L10+N10+P10+R10+T10 -> 8708199.2 | W10: =C10+E10+G10+I10+K10+M10+O10+Q10+S10+U10 -> 1164827.9 | X10: =(W10-W9)/W9*100 -> 1.524998 | Y10: =V10-T10 -> 7753503.2 | Z10: =W10-U10 -> 1025949.1
A11: =A10+1 -> 2003 | B11: 905008.74 | C11: 122030.58 | D11: 433700 | E11: 6377.6469 | F11: 1239012.6 | G11: 248418.65 | H11: 71848.049 | I11: 8419.1897 | J11: 374174.99 | K11: 38273.893 | L11: 1415881 | M11: 137496.49 | N11: 425105.42 | O11: 61553.887 | P11: 1027718.8 | Q11: 123357.46 | R11: 2049583.8 | S11: 290955.2 | T11: 987319.81 | U11: 142821.99 | V11: =B11+D11+F11+H11+J11+L11+N11+P11+R11+T11 -> 8929353.2 | W11: =C11+E11+G11+I11+K11+M11+O11+Q11+S11+U11 -> 1179705 | X11: =(W11-W10)/W10*100 -> 1.2771935 | Y11: =V11-T11 -> 7942033.4 | Z11: =W11-U11 -> 1036883
A12: =A11+1 -> 2004 | B12: 823813.55 | C12: 109453.26 | D12: 455367 | E12: 7936.8594 | F12: 1294617 | G12: 254885.43 | H12: 72457.373 | I12: 8382.2427 | J12: 446174.83 | K12: 45396.098 | L12: 1491315.6 | M12: 144543.82 | N12: 438479.23 | O12: 63788.294 | P12: 1110165 | Q12: 132166.49 | R12: 2048749 | S12: 292721.53 | T12: 952845.06 | U12: 137626.88 | V12: =B12+D12+F12+H12+J12+L12+N12+P12+R12+T12 -> 9133983.6 | W12: =C12+E12+G12+I12+K12+M12+O12+Q12+S12+U12 -> 1196900.9 | X12: =(W12-W11)/W11*100 -> 1.4576451 | Y12: =V12-T12 -> 8181138.5 | Z12: =W12-U12 -> 1059274
A13: =A12+1 -> 2005 | B13: 775444.7 | C13: 102061.28 | D13: 443266.67 | E13: 8009.8446 | F13: 1314558.3 | G13: 252954.23 | H13: 74136.926 | I13: 8438.3424 | J13: 526599.68 | K13: 53079.222 | L13: 1644000.5 | M13: 158196.93 | N13: 450342.35 | O13: 65149.405 | P13: 1208059.9 | Q13: 142075.39 | R13: 2032627.8 | S13: 291310.95 | T13: 951818.88 | U13: 137284.96 | V13: =B13+D13+F13+H13+J13+L13+N13+P13+R13+T13 -> 9420855.7 | W13: =C13+E13+G13+I13+K13+M13+O13+Q13+S13+U13 -> 1218560.6 | X13: =(W13-W12)/W12*100 -> 1.8096438 | Y13: =V13-T13 -> 8469036.9 | Z13: =W13-U13 -> 1081275.6
A14: =A13+1 -> 2006 | B14: 758916.65 | C14: 100336.72 | D14: 458600 | E14: 9798.0739 | F14: 1371316.6 | G14: 261904.82 | H14: 75338.886 | I14: 8461.2486 | J14: 533220.28 | K14: 53684.525 | L14: 1800159.6 | M14: 173400.93 | N14: 444421.66 | O14: 64231.357 | P14: 1304349 | Q14: 153118.98 | R14: 2065501.6 | S14: 298134.59 | T14: 978273.99 | U14: 141663.32 | V14: =B14+D14+F14+H14+J14+L14+N14+P14+R14+T14 -> 9790098.3 | W14: =C14+E14+G14+I14+K14+M14+O14+Q14+S14+U14 -> 1264734.6 | X14: =(W14-W13)/W13*100 -> 3.7892256 | Y14: =V14-T14 -> 8811824.3 | Z14: =W14-U14 -> 1123071.2
A15: =A14+1 -> 2007 | B15: 819375.96 | C15: 108729.23 | D15: 495474 | E15: 10313.374 | F15: 1398078.7 | G15: 264242.48 | H15: 77581.522 | I15: 8700.9809 | J15: 548754.73 | K15: 55474.553 | L15: 1848834.1 | M15: 179201.65 | N15: 445507.11 | O15: 64146.299 | P15: 1425301.5 | Q15: 167868.28 | R15: 2174677.6 | S15: 317047.23 | T15: 1084152.9 | U15: 158286.56 | V15: =B15+D15+F15+H15+J15+L15+N15+P15+R15+T15 -> 10317738 | W15: =C15+E15+G15+I15+K15+M15+O15+Q15+S15+U15 -> 1334010.6 | X15: =(W15-W14)/W14*100 -> 5.4775191 | Y15: =V15-T15 -> 9233585.2 | Z15: =W15-U15 -> 1175724.1
A16: =A15+1 -> 2008 | B16: 809281.53 | C16: 107870.49 | D16: 515725.42 | E16: 11125.93 | F16: 1469726.2 | G16: 280018.91 | H16: 74320.434 | I16: 8421.6006 | J16: 575886.64 | K16: 59127.815 | L16: 1859529.3 | M16: 183120.02 | N16: 503022.2 | O16: 73825.657 | P16: 1529644.5 | Q16: 182762.95 | R16: 2294855.6 | S16: 341387.98 | T16: 1180526.3 | U16: 174745.33 | V16: =B16+D16+F16+H16+J16+L16+N16+P16+R16+T16 -> 10812518 | W16: =C16+E16+G16+I16+K16+M16+O16+Q16+S16+U16 -> 1422406.7 | X16: =(W16-W15)/W15*100 -> 6.6263382 | Y16: =V16-T16 -> 9631991.8 | Z16: =W16-U16 -> 1247661.4
... A18: =A17+1 -> 2010 | B18: 701904.36 | C18: 93910.155 | D18: 498055.17 | E18: 11357.113 | F18: 1396938.5 | G18: 280912.28 | H18: 65610.247 | I18: 7637.4072 | J18: 551968.07 | K18: 58397.078 | L18: 1737056.5 | M18: 175770.37 | N18: 494852.77 | O18: 74000.265 | P18: 1539060.5 | Q18: 188766.73 | R18: 2324767.9 | S18: 356811.24 | T18: 1121504.2 | U18: 171126.56 | V18: =B18+D18+F18+H18+J18+L18+N18+P18+R18+T18 -> 10431718 | W18: =C18+E18+G18+I18+K18+M18+O18+Q18+S18+U18 -> 1418689.2 | X18: =(W18-W17)/W17*100 -> 0.12512413 | Y18: =V18-T18 -> 9310214 | Z18: =W18-U18 -> 1247562.6
A20: Gross Value Added by Region (GVA-R) | B20: Agriculture | D20: Mining | F20: Manufacturing | H20: Electricity | J20: Construction | L20: Trade | N20: Transport | P20: Finance | R20: Community services | V20: Total | X20: Year-on-Year MA
A21: Constant 2005 prices (R 1000) | B21: SA | C21: =C3 -> KZN | D21: SA | E21: =E3 -> KZN | F21: SA | G21: =G3 -> KZN | H21: SA | I21: =I3 -> KZN | J21: SA | K21: =K3 -> KZN | L21: SA | M21: =M3 -> KZN | N21: SA | O21: =O3 -> KZN | P21: SA | Q21: =Q3 -> KZN | R21: SA | S21: =S3 -> KZN | V21: SA | W21: =W3 -> KZN
A22: =A4 -> 1996 | B22: 32582299 | C22: 9562775.6 | D22: 99506344 | E22: 6108300 | F22: 1.987152e+08 | G22: 41760874 | H22: 28494360 | I22: 4974365 | J22: 26033135 | K22: 4525152.4 | L22: 1.3585407e+08 | M22: 21832344 | N22: 79153561 | O22: 18171674 | P22: 1.8566338e+08 | Q22: 25955780 | R22: 2.5896799e+08 | S22: 37988506 | V22: =B22+D22+F22+H22+J22+L22+N22+P22+R22+T22 -> 1.0449703e+09 | W22: =C22+E22+G22+I22+K22+M22+O22+Q22+S22+U22 -> 1.7087977e+08
A23: =A5 -> 1997 | B23: 32906507 | C23: 9539885.9 | D23: 1.0129328e+08 | E23: 6181240.1 | F23: 2.0427276e+08 | G23: 42907239 | H23: 29633529 | I23: 5150178.2 | J23: 26929349 | K23: 4783448.2 | L23: 1.3652596e+08 | M23: 21971673 | N23: 85249460 | O23: 19199733 | P23: 1.9458399e+08 | Q23: 27080880 | R23: 2.6072052e+08 | S23: 37367522 | V23: =B23+D23+F23+H23+J23+L23+N23+P23+R23+T23 -> 1.0721154e+09 | W23: =C23+E23+G23+I23+K23+M23+O23+Q23+S23+U23 -> 1.741818e+08 | X23: =(W23-W22)/W22*100 -> 1.9323697
A24: =A6 -> 1998 | B24: 31153062 | C24: 9621678.5 | D24: 1.0116145e+08 | E24: 6096050.3 | F24: 2.0380269e+08 | G24: 42699604 | H24: 27758236 | I24: 4834245.4 | J24: 25342082 | K24: 4245578.9 | L24: 1.3825907e+08 | M24: 22153373 | N24: 89911045 | O24: 20061898 | P24: 1.9900335e+08 | Q24: 27727494 | R24: 2.6322982e+08 | S24: 38522252 | V24: =B24+D24+F24+H24+J24+L24+N24+P24+R24+T24 -> 1.0796208e+09 | W24: =C24+E24+G24+I24+K24+M24+O24+Q24+S24+U24 -> 1.7596217e+08 | X24: =(W24-W23)/W23*100 -> 1.022136
A25: =A7 -> 1999 | B25: 33129731 | C25: 9387106.7 | D25: 99881396 | E25: 4424531.5 | F25: 2.0530547e+08 | G25: 43442091 | H25: 27657162 | I25: 4844981.6 | J25: 24998102 | K25: 4004203.9 | L25: 1.489699e+08 | M25: 23766478 | N25: 94715567 | O25: 20802989 | P25: 2.0945915e+08 | Q25: 29452691 | R25: 2.6461575e+08 | S25: 38066218 | V25: =B25+D25+F25+H25+J25+L25+N25+P25+R25+T25 -> 1.1087322e+09 | W25: =C25+E25+G25+I25+K25+M25+O25+Q25+S25+U25 -> 1.7819129e+08 | X25: =(W25-W24)/W24*100 -> 1.2668155
A26: =A8 -> 2000 | B26: 34721349 | C26: 9743891.6 | D26: 98881009 | E26: 4314555.1 | F26: 2.221561e+08 | G26: 47224994 | H26: 28542916 | I26: 5134847.8 | J26: 26410338 | K26: 4162462.5 | L26: 1.6119674e+08 | M26: 25762927 | N26: 1.0267905e+08 | O26: 22169060 | P26: 2.1633553e+08 | Q26: 29837448 | R26: 2.6656813e+08 | S26: 38596162 | V26: =B26+D26+F26+H26+J26+L26+N26+P26+R26+T26 -> 1.1574912e+09 | W26: =C26+E26+G26+I26+K26+M26+O26+Q26+S26+U26 -> 1.8694635e+08 | X26: =(W26-W25)/W25*100 -> 4.9132914
A27: =A9 -> 2001 | B27: 33596824 | C27: 9731948.9 | D27: 98844719 | E27: 4097183.6 | F27: 2.2941036e+08 | G27: 48659746 | H27: 27504242 | I27: 5129083.6 | J27: 27711128 | K27: 5580757.8 | L27: 1.6436355e+08 | M27: 27772733 | N27: 1.0880602e+08 | O27: 23139624 | P27: 2.3415309e+08 | Q27: 31561290 | R27: 2.6665188e+08 | S27: 39148038 | V27: =B27+D27+F27+H27+J27+L27+N27+P27+R27+T27 -> 1.1910418e+09 | W27: =C27+E27+G27+I27+K27+M27+O27+Q27+S27+U27 -> 1.948204e+08 | X27: =(W27-W26)/W26*100 -> 4.2119337
A28: =A10 -> 2002 | B28: 35826000 | C28: 10181108 | D28: 99959810 | E28: 3665594.8 | F28: 2.36133e+08 | G28: 50004904 | H28: 28503000 | I28: 5630179.6 | J28: 29321000 | K28: 4409433.3 | L28: 1.683572e+08 | M28: 28490010 | N28: 1.18749e+08 | O28: 25336584 | P28: 2.49165e+08 | Q28: 33199227 | R28: 2.70256e+08 | S28: 39616845 | V28: =B28+D28+F28+H28+J28+L28+N28+P28+R28+T28 -> 1.23627e+09 | W28: =C28+E28+G28+I28+K28+M28+O28+Q28+S28+U28 -> 2.0053389e+08 | X28: =(W28-W27)/W27*100 -> 2.9326912
A29: =A11 -> 2003 | B29: 36070000 | C29: 10703723 | D29: 1.0335482e+08 | E29: 3879581.8 | F29: 2.32581e+08 | G29: 49546138 | H29: 29344000 | I29: 4983876.8 | J29: 31575000 | K29: 4621229.4 | L29: 1.728452e+08 | M29: 29472754 | N29: 1.26287e+08 | O29: 27106804 | P29: 2.61123e+08 | Q29: 35054126 | R29: 2.79949e+08 | S29: 40925113 | V29: =B29+D29+F29+H29+J29+L29+N29+P29+R29+T29 -> 1.273129e+09 | W29: =C29+E29+G29+I29+K29+M29+O29+Q29+S29+U29 -> 2.0629335e+08 | X29: =(W29-W28)/W28*100 -> 2.8720638
A30: =A12 -> 2004 | B30: 36380000 | C30: 10738206 | D30: 1.0491526e+08 | E30: 3957124 | F30: 2.43965e+08 | G30: 51873630 | H30: 31335000 | I30: 5348135.5 | J30: 34451000 | K30: 5054489.7 | L30: 1.82175e+08 | M30: 31070165 | N30: 1.32459e+08 | O30: 28320059 | P30: 2.79544e+08 | Q30: 37586504 | R30: 2.85166e+08 | S30: 41538495 | V30: =B30+D30+F30+H30+J30+L30+N30+P30+R30+T30 -> 1.3303903e+09 | W30: =C30+E30+G30+I30+K30+M30+O30+Q30+S30+U30 -> 2.1548681e+08 | X30: =(W30-W29)/W29*100 -> 4.4564994
A31: =A13 -> 2005 | B31: 37402392 | C31: 10109249 | D31: 1.0599188e+08 | E31: 3709413.8 | F31: 2.5910094e+08 | G31: 55070173 | H31: 33010193 | I31: 5695450.5 | J31: 38558200 | K31: 5738870.6 | L31: 1.9501216e+08 | M31: 33073603 | N31: 1.3947227e+08 | O31: 29994478 | P31: 2.9550364e+08 | Q31: 41559581 | R31: 2.9701544e+08 | S31: 43251444 | V31: =B31+D31+F31+H31+J31+L31+N31+P31+R31+T31 -> 1.4010671e+09 | W31: =C31+E31+G31+I31+K31+M31+O31+Q31+S31+U31 -> 2.2820226e+08 | X31: =(W31-W30)/W30*100 -> 5.9008047
A32: =A14 -> 2006 | B32: 35359000 | C32: 10173891 | D32: 1.0536426e+08 | E32: 3585375.8 | F32: 2.757824e+08 | G32: 58392376 | H32: 34139000 | I32: 5883144.8 | J32: 42582000 | K32: 6174933.4 | L32: 2.06636e+08 | M32: 35182914 | N32: 1.46607e+08 | O32: 31553257 | P32: 3.24002e+08 | Q32: 44750052 | R32: 3.0802e+08 | S32: 44876863 | V32: =B32+D32+F32+H32+J32+L32+N32+P32+R32+T32 -> 1.4784917e+09 | W32: =C32+E32+G32+I32+K32+M32+O32+Q32+S32+U32 -> 2.4057281e+08 | X32: =(W32-W31)/W31*100 -> 5.4208679
A33: =A15 -> 2007 | B33: 36301000 | C33: 10587367 | D33: 1.0533568e+08 | E33: 3674644.4 | F33: 2.90246e+08 | G33: 61485577 | H33: 35294000 | I33: 6078945 | J33: 48971000 | K33: 7064988.8 | L33: 2.17607e+08 | M33: 37143260 | N33: 1.56289e+08 | O33: 33802472 | P33: 3.49501e+08 | Q33: 48220421 | R33: 3.21865e+08 | S33: 46975138 | V33: =B33+D33+F33+H33+J33+L33+N33+P33+R33+T33 -> 1.5614097e+09 | W33: =C33+E33+G33+I33+K33+M33+O33+Q33+S33+U33 -> 2.5503281e+08 | X33: =(W33-W32)/W32*100 -> 6.0106568
A34: =A16 -> 2008 | B34: 42154000 | C34: 12121171 | D34: 99397870 | E34: 3436627.5 | F34: 2.979e+08 | G34: 63054732 | H34: 34198000 | I34: 5835190.6 | J34: 53644000 | K34: 7744235.9 | L34: 2.19359e+08 | M34: 37460514 | N34: 1.61672e+08 | O34: 35081946 | P34: 3.7509e+08 | Q34: 51736244 | R34: 3.3576e+08 | S34: 49078098 | V34: =B34+D34+F34+H34+J34+L34+N34+P34+R34+T34 -> 1.6191749e+09 | W34: =C34+E34+G34+I34+K34+M34+O34+Q34+S34+U34 -> 2.6554876e+08 | X34: =(W34-W33)/W33*100 -> 4.1233697
... A36: =A18 -> 2010 | B36: 41246962 | C36: 11846292 | D36: 1.0065926e+08 | E36: 3741899.8 | F36: 2.8018998e+08 | G36: 59053300 | H36: 34310972 | I36: 5920287.4 | J36: 58523000 | K36: 8164699.5 | L36: 2.1856982e+08 | M36: 37815501 | N36: 1.6746229e+08 | O36: 36508406 | P36: 3.8549086e+08 | Q36: 53420526 | R36: 3.5291788e+08 | S36: 51609651 | V36: =B36+D36+F36+H36+J36+L36+N36+P36+R36+T36 -> 1.639371e+09 | W36: =C36+E36+G36+I36+K36+M36+O36+Q36+S36+U36 -> 2.6808056e+08 | X36: =(W36-W35)/W35*100 -> 2.670416
A39: Location Quotients | C39: Agriculture, forestry and fishing | D39: Mining and quarrying | E39: Manufacturing | F39: Electricity, gas and water | G39: Construction | H39: Wholesale & retail trade; hotels & restaurants | I39: Transport , storage and communication | J39: Finance, real estate and business services | K39: Personal and General Government Services | L39: Actual vs Necessary Employment | M39: Agriculture, forestry and fishing | N39: Mining and quarrying | O39: Manufacturing | P39: Electricity, gas and water | Q39: Construction | R39: Wholesale & retail trade; hotels & restaurants | S39: Transport , storage and communication | T39: Finance, real estate and business services | U39: Personal and General Government Services
A40: 1996 | C40: =(C4/$W4)/(B4/$V4) -> 0.97258476 | D40: =(E4/$W4)/(D4/$V4) -> 0.16137513 | E40: =(G4/$W4)/(F4/$V4) -> 1.474437 | F40: =(I4/$W4)/(H4/$V4) -> 0.88344503 | G40: =(K4/$W4)/(J4/$V4) -> 0.77149199 | H40: =(M4/$W4)/(L4/$V4) -> 0.73482134 | I40: =(O4/$W4)/(N4/$V4) -> 1.1146717 | J40: =(Q4/$W4)/(P4/$V4) -> 0.93753491 | K40: =(S4/$W4)/(R4/$V4) -> 1.0524251 | L40: =A40 -> 1996 | M40: =(1-1/C40)*C4 -> -3380.7546 | N40: =(1-1/D40)*E4 -> -66218.379 | O40: =(1-1/E40)*G4 -> 96016.563 | P40: =(1-1/F40)*I4 -> -1245.3711 | Q40: =(1-1/G40)*K4 -> -10975.474 | R40: =(1-1/H40)*M4 -> -39997.471 | S40: =(1-1/I40)*O4 -> 7636.7031 | T40: =(1-1/J40)*Q4 -> -6186.8738 | U40: =(1-1/K40)*S4 -> 11491.74 | V40: =AVERAGE(M40:U40) -> -1428.8131 | W40: =V40/1000 -> -1.4288131
A41: =A40+1 -> 1997 | C41: =(C5/$W5)/(B5/$V5) -> 0.97711479 | D41: =(E5/$W5)/(D5/$V5) -> 0.14038975 | E41: =(G5/$W5)/(F5/$V5) -> 1.4747757 | F41: =(I5/$W5)/(H5/$V5) -> 0.88897939 | G41: =(K5/$W5)/(J5/$V5) -> 0.7746204 | H41: =(M5/$W5)/(L5/$V5) -> 0.73801623 | I41: =(O5/$W5)/(N5/$V5) -> 1.1213139 | J41: =(Q5/$W5)/(P5/$V5) -> 0.94405088 | K41: =(S5/$W5)/(R5/$V5) -> 1.0611149 | L41: =A41 -> 1997 | M41: =(1-1/C41)*C5 -> -2793.9198 | N41: =(1-1/D41)*E5 -> -65711.027 | O41: =(1-1/E41)*G5 -> 91773.576 | P41: =(1-1/F41)*I5 -> -1189.2441 | Q41: =(1-1/G41)*K5 -> -11160.115 | R41: =(1-1/H41)*M5 -> -40630.625 | S41: =(1-1/I41)*O5 -> 8176.072 | T41: =(1-1/J41)*Q5 -> -5792.7949 | U41: =(1-1/K41)*S5 -> 14243.386 | V41: =AVERAGE(M41:U41) -> -1453.8547 | W41: =V41/1000 -> -1.4538547
A42: =A41+1 -> 1998 | C42: =(C6/$W6)/(B6/$V6) -> 0.97809235 | D42: =(E6/$W6)/(D6/$V6) -> 0.14768128 | E42: =(G6/$W6)/(F6/$V6) -> 1.4631029 | F42: =(I6/$W6)/(H6/$V6) -> 0.87762788 | G42: =(K6/$W6)/(J6/$V6) -> 0.7685525 | H42: =(M6/$W6)/(L6/$V6) -> 0.73155617 | I42: =(O6/$W6)/(N6/$V6) -> 1.1198257 | J42: =(Q6/$W6)/(P6/$V6) -> 0.9302594 | K42: =(S6/$W6)/(R6/$V6) -> 1.0621386 | L42: =A42 -> 1998 | M42: =(1-1/C42)*C6 -> -2630.2526 | N42: =(1-1/D42)*E6 -> -54925.22 | O42: =(1-1/E42)*G6 -> 86533.885 | P42: =(1-1/F42)*I6 -> -1275.0713 | Q42: =(1-1/G42)*K6 -> -10777.909 | R42: =(1-1/H42)*M6 -> -44172.629 | S42: =(1-1/I42)*O6 -> 7643.199 | T42: =(1-1/J42)*Q6 -> -7462.2096 | U42: =(1-1/K42)*S6 -> 15232.397 | V42: =AVERAGE(M42:U42) -> -1314.8677 | W42: =V42/1000 -> -1.3148677
A43: =A42+1 -> 1999 | C43: =(C7/$W7)/(B7/$V7) -> 0.99180466 | D43: =(E7/$W7)/(D7/$V7) -> 0.12294235 | E43: =(G7/$W7)/(F7/$V7) -> 1.4748367 | F43: =(I7/$W7)/(H7/$V7) -> 0.87918722 | G43: =(K7/$W7)/(J7/$V7) -> 0.76149075 | H43: =(M7/$W7)/(L7/$V7) -> 0.72476423 | I43: =(O7/$W7)/(N7/$V7) -> 1.1107382 | J43: =(Q7/$W7)/(P7/$V7) -> 0.91728788 | K43: =(S7/$W7)/(R7/$V7) -> 1.0762977 | L43: =A43 -> 1999 | M43: =(1-1/C43)*C7 -> -969.08662 | N43: =(1-1/D43)*E7 -> -52217.156 | O43: =(1-1/E43)*G7 -> 85261.749 | P43: =(1-1/F43)*I7 -> -1228.2266 | Q43: =(1-1/G43)*K7 -> -10808.734 | R43: =(1-1/H43)*M7 -> -49127.969 | S43: =(1-1/I43)*O7 -> 6993.031 | T43: =(1-1/J43)*Q7 -> -9170.5145 | U43: =(1-1/K43)*S7 -> 19127.912 | V43: =AVERAGE(M43:U43) -> -1348.7773 | W43: =V43/1000 -> -1.3487773
A44: =A43+1 -> 2000 | C44: =(C8/$W8)/(B8/$V8) -> 0.99841371 | D44: =(E8/$W8)/(D8/$V8) -> 0.11148607 | E44: =(G8/$W8)/(F8/$V8) -> 1.4824694 | F44: =(I8/$W8)/(H8/$V8) -> 0.87740087 | G44: =(K8/$W8)/(J8/$V8) -> 0.75723889 | H44: =(M8/$W8)/(L8/$V8) -> 0.71795642 | I44: =(O8/$W8)/(N8/$V8) -> 1.0901067 | J44: =(Q8/$W8)/(P8/$V8) -> 0.91251926 | K44: =(S8/$W8)/(R8/$V8) -> 1.082124 | L44: =A44 -> 2000 | M44: =(1-1/C44)*C8 -> -184.50608 | N44: =(1-1/D44)*E8 -> -50390.348 | O44: =(1-1/E44)*G8 -> 84904.594 | P44: =(1-1/F44)*I8 -> -1240.1049 | Q44: =(1-1/G44)*K8 -> -11562.997 | R44: =(1-1/H44)*M8 -> -49797.005 | S44: =(1-1/I44)*O8 -> 5590.6116 | T44: =(1-1/J44)*Q8 -> -10122.406 | U44: =(1-1/K44)*S8 -> 21105.55 | V44: =AVERAGE(M44:U44) -> -1299.6236 | W44: =V44/1000 -> -1.2996236
A45: =A44+1 -> 2001 | C45: =(C9/$W9)/(B9/$V9) -> 0.99692185 | D45: =(E9/$W9)/(D9/$V9) -> 0.10510624 | E45: =(G9/$W9)/(F9/$V9) -> 1.4931722 | F45: =(I9/$W9)/(H9/$V9) -> 0.87647238 | G45: =(K9/$W9)/(J9/$V9) -> 0.76772072 | H45: =(M9/$W9)/(L9/$V9) -> 0.72641824 | I45: =(O9/$W9)/(N9/$V9) -> 1.0927092 | J45: =(Q9/$W9)/(P9/$V9) -> 0.91209228 | K45: =(S9/$W9)/(R9/$V9) -> 1.0805796 | L45: =A45 -> 2001 | M45: =(1-1/C45)*C9 -> -379.79964 | N45: =(1-1/D45)*E9 -> -49000.637 | O45: =(1-1/E45)*G9 -> 83845.086 | P45: =(1-1/F45)*I9 -> -1236.0004 | Q45: =(1-1/G45)*K9 -> -10530.197 | R45: =(1-1/H45)*M9 -> -48610.551 | S45: =(1-1/I45)*O9 -> 5497.3874 | T45: =(1-1/J45)*Q9 -> -11021.081 | U45: =(1-1/K45)*S9 -> 20391.264 | V45: =AVERAGE(M45:U45) -> -1227.1699 | W45: =V45/1000 -> -1.2271699
...

Sheet Durban
A1: Durban
A2: Number of formally employed people | B2: Agriculture | D2: Mining | F2: Manufacturing | H2: Electricity | J2: Construction | L2: Trade | N2: Transport | P2: Finance | R2: Community services | T2: Private Households | V2: Total | X2: Year-on-Year MA | Y2: Total-Private Households | AB2: Unemployment Rate | AC2: Number of Claims for Unemployment Benefits | AD2: ='[1]Data Input'!C1 -> Index of New Job Postings | AE2: ='[1]Data Input'!D1 -> Average Salary per Placement
B3: SA | C3: MA | D3: SA | E3: =C3 -> MA | F3: SA | G3: =E3 -> MA | H3: SA | I3: =G3 -> MA | J3: SA | K3: =I3 -> MA | L3: SA | M3: =K3 -> MA | N3: SA | O3: =M3 -> MA | P3: SA | Q3: =O3 -> MA | R3: SA | S3: =Q3 -> MA | T3: SA | U3: =S3 -> MA | V3: SA | W3: =U3 -> MA | Y3: SA | Z3: MA
A4: 1996 | B4: 887880 | C4: 13462.774 | D4: 568517 | E4: 374.70279 | F4: 1457136.5 | G4: 194674.75 | H4: 76930.867 | I4: 5088.3678 | J4: 345823.5 | K4: 24284.43 | L4: 1085992 | M4: 72395.208 | N4: 479493.16 | O4: 49068.287 | P4: 713126.49 | Q4: 63312.465 | R4: 1578263.3 | S4: 114473.54 | T4: 1015292.6 | U4: 79350.895 | V4: =B4+D4+F4+H4+J4+L4+N4+P4+R4+T4 -> 8208455.4 | W4: =C4+E4+G4+I4+K4+M4+O4+Q4+S4+U4 -> 616485.42 | Y4: =V4-T4 -> 7193162.8 | Z4: =W4-U4 -> 537134.53 | AA4: =A4 -> 1996 | AB4: 0.24949781
A5: =A4+1 -> 1997 | B5: 881959.67 | C5: 13409.885 | D5: 552238 | E5: 372.58378 | F5: 1396428.8 | G5: 186551.08 | H5: 77385.042 | I5: 5145.7299 | J5: 357720.37 | K5: 25210.896 | L5: 1120388.8 | M5: 75081.425 | N5: 486881.96 | O5: 50020.125 | P5: 747970.5 | Q5: 66901.708 | R5: 1683664.2 | S5: 122979.62 | T5: 1003185.5 | U5: 78632.058 | V5: =B5+D5+F5+H5+J5+L5+N5+P5+R5+T5 -> 8307822.7 | W5: =C5+E5+G5+I5+K5+M5+O5+Q5+S5+U5 -> 624305.11 | X5: =(W5-W4)/W4*100 -> 1.2684305 | Y5: =V5-T5 -> 7304637.2 | Z5: =W5-U5 -> 545673.05 | AA5: =A5 -> 1997 | AB5: 0.26166346
A6: =A5+1 -> 1998 | B6: 867918.28 | C6: 13092.184 | D6: 465851 | E6: 317.91041 | F6: 1350784.2 | G6: 179263.4 | H6: 75323.284 | I6: 4945.5668 | J6: 336634.99 | K6: 23553.668 | L6: 1189534.6 | M6: 79104.694 | N6: 461107.75 | O6: 47242.926 | P6: 773497.72 | Q6: 68209.024 | R6: 1772084.2 | S6: 129391.28 | T6: 991531.26 | U6: 77139.277 | V6: =B6+D6+F6+H6+J6+L6+N6+P6+R6+T6 -> 8284267.3 | W6: =C6+E6+G6+I6+K6+M6+O6+Q6+S6+U6 -> 622259.93 | X6: =(W6-W5)/W5*100 -> -0.32759248 | Y6: =V6-T6 -> 7292736 | Z6: =W6-U6 -> 545120.66 | AA6: =A6 -> 1998 | AB6: 0.31391034
A7: =A6+1 -> 1999 | B7: 866463.02 | C7: 12916.084 | D7: 436254 | E7: 237.08165 | F7: 1315722.5 | G7: 173270.19 | H7: 74493.773 | I7: 4822.9197 | J7: 332065.66 | K7: 22650.854 | L7: 1307911.3 | M7: 84827.525 | N7: 462724.37 | O7: 46176.032 | P7: 812416.77 | Q7: 69563.973 | R7: 1837006.2 | S7: 133509.12 | T7: 985259.98 | U7: 75722.406 | V7: =B7+D7+F7+H7+J7+L7+N7+P7+R7+T7 -> 8430317.6 | W7: =C7+E7+G7+I7+K7+M7+O7+Q7+S7+U7 -> 623696.18 | X7: =(W7-W6)/W6*100 -> 0.2308122 | Y7: =V7-T7 -> 7445057.6 | Z7: =W7-U7 -> 547973.78 | AA7: =A7 -> 1999 | AB7: 0.29814548
A8: =A7+1 -> 2000 | B8: 856696.91 | C8: 12627.931 | D8: 417717 | E8: 176.85962 | F8: 1296165.5 | G8: 172712.03 | H8: 74502.364 | I8: 4775.5529 | J8: 350824.84 | K8: 23863.613 | L8: 1300427.2 | M8: 83895.898 | N8: 456984.32 | O8: 44873.061 | P8: 852256.59 | Q8: 73023.943 | R8: 1892891.1 | S8: 137081.29 | T8: 968553.77 | U8: 73785.262 | V8: =B8+D8+F8+H8+J8+L8+N8+P8+R8+T8 -> 8467019.5 | W8: =C8+E8+G8+I8+K8+M8+O8+Q8+S8+U8 -> 626815.44 | X8: =(W8-W7)/W7*100 -> 0.50012432 | Y8: =V8-T8 -> 7498465.8 | Z8: =W8-U8 -> 553030.18 | AA8: =A8 -> 2000 | AB8: 0.32515915
A9: =A8+1 -> 2001 | B9: 916347.6 | C9: 13250.067 | D9: 406654 | E9: 229.78514 | F9: 1262623.2 | G9: 168909.06 | H9: 74310.356 | I9: 4703.9493 | J9: 336682.72 | K9: 23192.025 | L9: 1319587.6 | M9: 86019.193 | N9: 440380.52 | O9: 43262.016 | P9: 931090.71 | Q9: 79615.425 | R9: 1879377.6 | S9: 135192.93 | T9: 953808.48 | U9: 71677.175 | V9: =B9+D9+F9+H9+J9+L9+N9+P9+R9+T9 -> 8520862.8 | W9: =C9+E9+G9+I9+K9+M9+O9+Q9+S9+U9 -> 626051.63 | X9: =(W9-W8)/W8*100 -> -0.12185582 | Y9: =V9-T9 -> 7567054.3 | Z9: =W9-U9 -> 554374.45 | AA9: =A9 -> 2001 | AB9: 0.34697585
A10: =A9+1 -> 2002 | B10: 934015.47 | C10: 13254.735 | D10: 416153 | E10: 206.41397 | F10: 1270647 | G10: 169345.25 | H10: 74998.982 | I10: 4772.0874 | J10: 336239.54 | K10: 23065.181 | L10: 1320665.2 | M10: 85846.299 | N10: 446726.56 | O10: 43094.354 | P10: 1009426.3 | Q10: 85269.564 | R10: 1944631.2 | S10: 138337.9 | T10: 954695.98 | U10: 71112.812 | V10: =B10+D10+F10+H10+J10+L10+N10+P10+R10+T10 -> 8708199.2 | W10: =C10+E10+G10+I10+K10+M10+O10+Q10+S10+U10 -> 634304.6 | X10: =(W10-W9)/W9*100 -> 1.3182568 | Y10: =V10-T10 -> 7753503.2 | Z10: =W10-U10 -> 563191.79 | AA10: =A10 -> 2002 | AB10: 0.38264742
A11: =A10+1 -> 2003 | B11: 905008.74 | C11: 12475.63 | D11: 433700 | E11: 199.74611 | F11: 1239012.6 | G11: 164698.62 | H11: 71848.049 | I11: 4469.9359 | J11: 374174.99 | K11: 25464.543 | L11: 1415881 | M11: 91506.79 | N11: 425105.42 | O11: 40956.957 | P11: 1027718.8 | Q11: 85818.167 | R11: 2049583.8 | S11: 142951.7 | T11: 987319.81 | U11: 72716.402 | V11: =B11+D11+F11+H11+J11+L11+N11+P11+R11+T11 -> 8929353.2 | W11: =C11+E11+G11+I11+K11+M11+O11+Q11+S11+U11 -> 641258.49 | X11: =(W11-W10)/W10*100 -> 1.096302 | Y11: =V11-T11 -> 7942033.4 | Z11: =W11-U11 -> 568542.09 | AA11: =A11 -> 2003 | AB11: 0.37748072 | AC11: =[2]Input!B91*12 -> 58700 | AD11: =[2]Input!C91 -> 100
A12: =A11+1 -> 2004 | B12: 823813.55 | C12: 11106.958 | D12: 455367 | E12: 235.84285 | F12: 1294617 | G12: 169053.95 | H12: 72457.373 | I12: 4425.6935 | J12: 446174.83 | K12: 30115.268 | L12: 1491315.6 | M12: 95934.494 | N12: 438479.23 | O12: 42279.426 | P12: 1110165 | Q12: 91751.343 | R12: 2048749 | S12: 143687 | T12: 952845.06 | U12: 69642.827 | V12: =B12+D12+F12+H12+J12+L12+N12+P12+R12+T12 -> 9133983.6 | W12: =C12+E12+G12+I12+K12+M12+O12+Q12+S12+U12 -> 658232.8 | X12: =(W12-W11)/W11*100 -> 2.6470312 | Y12: =V12-T12 -> 8181138.5 | Z12: =W12-U12 -> 588589.98 | AA12: =A12 -> 2004 | AB12: 0.34303516 | AC12: =[2]Input!B92*12 -> 62729 | AD12: =[2]Input!C92 -> 98.98374
A13: =A12+1 -> 2005 | B13: 775444.7 | C13: 10303.89 | D13: 443266.67 | E13: 220.10454 | F13: 1314558.3 | G13: 167747.48 | H13: 74136.926 | I13: 4444.9166 | J13: 526599.68 | K13: 35195.37 | L13: 1644000.5 | M13: 104991 | N13: 450342.35 | O13: 43150.441 | P13: 1208059.9 | Q13: 98662.687 | R13: 2032627.8 | S13: 141682.06 | T13: 951818.88 | U13: 69244.437 | V13: =B13+D13+F13+H13+J13+L13+N13+P13+R13+T13 -> 9420855.7 | W13: =C13+E13+G13+I13+K13+M13+O13+Q13+S13+U13 -> 675642.39 | X13: =(W13-W12)/W12*100 -> 2.644898 | Y13: =V13-T13 -> 8469036.9 | Z13: =W13-U13 -> 606397.95 | AA13: =A13 -> 2005 | AB13: 0.33122808 | AC13: =[2]Input!B93*12 -> 64429 | AD13: =[2]Input!C93 -> 116.66667 | AE13: =[2]Input!D93 -> 4712.3333
A14: =A13+1 -> 2006 | B14: 758916.65 | C14: 9896.7163 | D14: 458600 | E14: 271.14711 | F14: 1371316.6 | G14: 172419.78 | H14: 75338.886 | I14: 4434.543 | J14: 533220.28 | K14: 35481.373 | L14: 1800159.6 | M14: 114808.17 | N14: 444421.66 | O14: 42391.737 | P14: 1304349 | Q14: 106169.12 | R14: 2065501.6 | S14: 144543.73 | T14: 978273.99 | U14: 71000.007 | V14: =B14+D14+F14+H14+J14+L14+N14+P14+R14+T14 -> 9790098.3 | W14: =C14+E14+G14+I14+K14+M14+O14+Q14+S14+U14 -> 701416.32 | X14: =(W14-W13)/W13*100 -> 3.8147301 | Y14: =V14-T14 -> 8811824.3 | Z14: =W14-U14 -> 630416.32 | AA14: =A14 -> 2006 | AB14: 0.31204857 | AC14: =[2]Input!B94*12 -> 57465 | AD14: =[2]Input!C94 -> 99.186992 | AE14: =[2]Input!D94 -> 6558.9486
A15: =A14+1 -> 2007 | B15: 819375.96 | C15: 10607.866 | D15: 495474 | E15: 276.93776 | F15: 1398078.7 | G15: 174496.53 | H15: 77581.522 | I15: 4540.6696 | J15: 548754.73 | K15: 36668.144 | L15: 1848834.1 | M15: 118709.96 | N15: 445507.11 | O15: 42364.172 | P15: 1425301.5 | Q15: 116511.9 | R15: 2174677.6 | S15: 152720.57 | T15: 1084152.9 | U15: 78978.722 | V15: =B15+D15+F15+H15+J15+L15+N15+P15+R15+T15 -> 10317738 | W15: =C15+E15+G15+I15+K15+M15+O15+Q15+S15+U15 -> 735875.47 | X15: =(W15-W14)/W14*100 -> 4.9127947 | Y15: =V15-T15 -> 9233585.2 | Z15: =W15-U15 -> 656896.75 | AA15: =A15 -> 2007 | AB15: 0.28408932 | AC15: =[2]Input!B95*12 -> 54587 | AD15: =[2]Input!C95 -> 155.28455 | AE15: =[2]Input!D95 -> 8592.2398
A16: =A15+1 -> 2008 | B16: 809281.53 | C16: 10520.278 | D16: 515725.42 | E16: 300.92717 | F16: 1469726.2 | G16: 183404.17 | H16: 74320.434 | I16: 4384.804 | J16: 575886.64 | K16: 39205.957 | L16: 1859529.3 | M16: 121657.71 | N16: 503022.2 | O16: 48903.276 | P16: 1529644.5 | Q16: 127184.14 | R16: 2294855.6 | S16: 164319.34 | T16: 1180526.3 | U16: 87019.376 | V16: =B16+D16+F16+H16+J16+L16+N16+P16+R16+T16 -> 10812518 | W16: =C16+E16+G16+I16+K16+M16+O16+Q16+S16+U16 -> 786899.99 | X16: =(W16-W15)/W15*100 -> 6.9338523 | Y16: =V16-T16 -> 9631991.8 | Z16: =W16-U16 -> 699880.61 | AA16: =A16 -> 2008 | AB16: 0.23947944 | AC16: =[2]Input!B96*12 -> 61653 | AD16: =[2]Input!C96 -> 161.78862 | AE16: =[2]Input!D96 -> 10503.963
A17: =A16+1 -> 2009 | B17: 715545.37 | C17: 9337.0406 | D17: 492219.25 | E17: 319.18397 | F17: 1430523.8 | G17: 185383.02 | H17: 70872.467 | I17: 4207.6298 | J17: 556190.88 | K17: 38416.479 | L17: 1758081.6 | M17: 116650.96 | N17: 491152.64 | O17: 47988.594 | P17: 1562754.5 | Q17: 131562.44 | R17: 2320536 | S17: 167140.23 | T17: 1150308.1 | U17: 85587.584 | V17: =B17+D17+F17+H17+J17+L17+N17+P17+R17+T17 -> 10548185 | W17: =C17+E17+G17+I17+K17+M17+O17+Q17+S17+U17 -> 786593.17 | X17: =(W17-W16)/W16*100 -> -0.038990576 | Y17: =V17-T17 -> 9397876.6 | Z17: =W17-U17 -> 701005.59 | AA17: =A17 -> 2009 | AB17: 0.22155656
A18: =A17+1 -> 2010 | B18: 701904.36 | C18: 9250.5067 | D18: 498055.17 | E18: 300.35246 | F18: 1396938.5 | G18: 184056.11 | H18: 65610.247 | I18: 3946.6996 | J18: 551968.07 | K18: 38785.044 | L18: 1737056.5 | M18: 116987.32 | N18: 494852.77 | O18: 49129.158 | P18: 1539060.5 | Q18: 131492.61 | R18: 2324767.9 | S18: 169278.9 | T18: 1121504.2 | U18: 84554.514 | V18: =B18+D18+F18+H18+J18+L18+N18+P18+R18+T18 -> 10431718 | W18: =C18+E18+G18+I18+K18+M18+O18+Q18+S18+U18 -> 787781.21 | X18: =(W18-W17)/W17*100 -> 0.15103623 | Y18: =V18-T18 -> 9310214 | Z18: =W18-U18 -> 703226.7 | AA18: =A18 -> 2010 | AB18: 0.20284178
A20: Gross Value Added by Region (GVA-R) | B20: Agriculture | D20: Mining | F20: Manufacturing | H20: Electricity | J20: Construction | L20: Trade | N20: Transport | P20: Finance | R20: Community services | V20: Total | X20: Year-on-Year MA
A21: Constant 2000 prices (R 1000) | B21: SA | C21: =C3 -> MA | D21: SA | E21: =E3 -> MA | F21: SA | G21: =G3 -> MA | H21: SA | I21: =I3 -> MA | J21: SA | K21: =K3 -> MA | L21: SA | M21: =M3 -> MA | N21: SA | O21: =O3 -> MA | P21: SA | Q21: =Q3 -> MA | R21: SA | S21: =S3 -> MA | V21: SA | W21: =W3 -> MA
A22: =A4 -> 1996 | B22: 32582299 | C22: 1680492 | D22: 99506344 | E22: 672958.28 | F22: 1.987152e+08 | G22: 26023661 | H22: 28494360 | I22: 3366057.1 | J22: 26033135 | K22: 3050279.3 | L22: 1.3585407e+08 | M22: 15448255 | N22: 79153561 | O22: 13286836 | P22: 1.8566338e+08 | Q22: 18992603 | R22: 2.5896799e+08 | S22: 22107679 | V22: =B22+D22+F22+H22+J22+L22+N22+P22+R22+T22 -> 1.0449703e+09 | W22: =C22+E22+G22+I22+K22+M22+O22+Q22+S22+U22 -> 1.0462882e+08
A23: =A5 -> 1997 | B23: 32906507 | C23: 1665812.1 | D23: 1.0129328e+08 | E23: 769675.6 | F23: 2.0427276e+08 | G23: 26504163 | H23: 29633529 | I23: 3493912.7 | J23: 26929349 | K23: 3225829.5 | L23: 1.3652596e+08 | M23: 15588759 | N23: 85249460 | O23: 14018835 | P23: 1.9458399e+08 | Q23: 19790463 | R23: 2.6072052e+08 | S23: 21724746 | V23: =B23+D23+F23+H23+J23+L23+N23+P23+R23+T23 -> 1.0721154e+09 | W23: =C23+E23+G23+I23+K23+M23+O23+Q23+S23+U23 -> 1.067822e+08 | X23: =(W23-W22)/W22*100 -> 2.0581096
A24: =A6 -> 1998 | B24: 31153062 | C24: 1667010.1 | D24: 1.0116145e+08 | E24: 696006.48 | F24: 2.0380269e+08 | G24: 26482586 | H24: 27758236 | I24: 3280540.3 | J24: 25342082 | K24: 2863263.4 | L24: 1.3825907e+08 | M24: 15752031 | N24: 89911045 | O24: 14638058 | P24: 1.9900335e+08 | Q24: 20152259 | R24: 2.6322982e+08 | S24: 22543473 | V24: =B24+D24+F24+H24+J24+L24+N24+P24+R24+T24 -> 1.0796208e+09 | W24: =C24+E24+G24+I24+K24+M24+O24+Q24+S24+U24 -> 1.0807523e+08 | X24: =(W24-W23)/W23*100 -> 1.2109043
A25: =A7 -> 1999 | B25: 33129731 | C25: 1622428.8 | D25: 99881396 | E25: 441264.63 | F25: 2.0530547e+08 | G25: 26843115 | H25: 27657162 | I25: 3301380.5 | J25: 24998102 | K25: 2695759.8 | L25: 1.489699e+08 | M25: 16901298 | N25: 94715567 | O25: 15130182 | P25: 2.0945915e+08 | Q25: 21463673 | R25: 2.6461575e+08 | S25: 22316306 | V25: =B25+D25+F25+H25+J25+L25+N25+P25+R25+T25 -> 1.1087322e+09 | W25: =C25+E25+G25+I25+K25+M25+O25+Q25+S25+U25 -> 1.1071541e+08 | X25: =(W25-W24)/W24*100 -> 2.4429103
A26: =A8 -> 2000 | B26: 34721349 | C26: 1685792.2 | D26: 98881009 | E26: 363901.87 | F26: 2.221561e+08 | G26: 29447055 | H26: 28542916 | I26: 3533359.1 | J26: 26410338 | K26: 2828374.5 | L26: 1.6119674e+08 | M26: 18474685 | N26: 1.0267905e+08 | O26: 16250261 | P26: 2.1633553e+08 | Q26: 21816501 | R26: 2.6656813e+08 | S26: 22591481 | V26: =B26+D26+F26+H26+J26+L26+N26+P26+R26+T26 -> 1.1574912e+09 | W26: =C26+E26+G26+I26+K26+M26+O26+Q26+S26+U26 -> 1.1699141e+08 | X26: =(W26-W25)/W25*100 -> 5.6685916
A27: =A9 -> 2001 | B27: 33596824 | C27: 1677824.4 | D27: 98844719 | E27: 444605.77 | F27: 2.2941036e+08 | G27: 30688867 | H27: 27504242 | I27: 3566590.1 | J27: 27711128 | K27: 3825442.5 | L27: 1.6436355e+08 | M27: 20098831 | N27: 1.0880602e+08 | O27: 17039338 | P27: 2.3415309e+08 | Q27: 23282073 | R27: 2.6665188e+08 | S27: 22989729 | V27: =B27+D27+F27+H27+J27+L27+N27+P27+R27+T27 -> 1.1910418e+09 | W27: =C27+E27+G27+I27+K27+M27+O27+Q27+S27+U27 -> 1.236133e+08 | X27: =(W27-W26)/W26*100 -> 5.6601509
A28: =A10 -> 2002 | B28: 35826000 | C28: 1775117.4 | D28: 99959810 | E28: 341619.16 | F28: 2.36133e+08 | G28: 31305847 | H28: 28503000 | I28: 3918295.1 | J28: 29321000 | K28: 3031204 | L28: 1.683572e+08 | M28: 20664623 | N28: 1.18749e+08 | O28: 18712424 | P28: 2.49165e+08 | Q28: 24568934 | R28: 2.70256e+08 | S28: 23165226 | V28: =B28+D28+F28+H28+J28+L28+N28+P28+R28+T28 -> 1.23627e+09 | W28: =C28+E28+G28+I28+K28+M28+O28+Q28+S28+U28 -> 1.2748329e+08 | X28: =(W28-W27)/W27*100 -> 3.1307215
A29: =A11 -> 2003 | B29: 36070000 | C29: 1877238.4 | D29: 1.0335482e+08 | E29: 322073.78 | F29: 2.32581e+08 | G29: 31149156 | H29: 29344000 | I29: 3467067.8 | J29: 31575000 | K29: 3189944.4 | L29: 1.728452e+08 | M29: 21452158 | N29: 1.26287e+08 | O29: 20089280 | P29: 2.61123e+08 | Q29: 25793857 | R29: 2.79949e+08 | S29: 23999938 | V29: =B29+D29+F29+H29+J29+L29+N29+P29+R29+T29 -> 1.273129e+09 | W29: =C29+E29+G29+I29+K29+M29+O29+Q29+S29+U29 -> 1.3134071e+08 | X29: =(W29-W28)/W28*100 -> 3.0258264
A30: =A12 -> 2004 | B30: 36380000 | C30: 1875474.9 | D30: 1.0491526e+08 | E30: 318777.05 | F30: 2.43965e+08 | G30: 32675387 | H30: 31335000 | I30: 3720995 | J30: 34451000 | K30: 3496405.5 | L30: 1.82175e+08 | M30: 22655676 | N30: 1.32459e+08 | O30: 21065364 | P30: 2.79544e+08 | Q30: 27737752 | R30: 2.85166e+08 | S30: 24330649 | V30: =B30+D30+F30+H30+J30+L30+N30+P30+R30+T30 -> 1.3303903e+09 | W30: =C30+E30+G30+I30+K30+M30+O30+Q30+S30+U30 -> 1.3787648e+08 | X30: =(W30-W29)/W29*100 -> 4.9761926
A31: =A13 -> 2005 | B31: 37402392 | C31: 1739654.1 | D31: 1.0599188e+08 | E31: 291022.26 | F31: 2.5910094e+08 | G31: 34849891 | H31: 33010193 | I31: 3978901 | J31: 38558200 | K31: 3979091.6 | L31: 1.9501216e+08 | M31: 24161155 | N31: 1.3947227e+08 | O31: 22426271 | P31: 2.9550364e+08 | Q31: 30949619 | R31: 2.9701544e+08 | S31: 25236764 | V31: =B31+D31+F31+H31+J31+L31+N31+P31+R31+T31 -> 1.4010671e+09 | W31: =C31+E31+G31+I31+K31+M31+O31+Q31+S31+U31 -> 1.4761237e+08 | X31: =(W31-W30)/W30*100 -> 7.0613125
A32: =A14 -> 2006 | B32: 35359000 | C32: 1741525.2 | D32: 1.0536426e+08 | E32: 289509.1 | F32: 2.757824e+08 | G32: 37022120 | H32: 34139000 | I32: 4121583.3 | J32: 42582000 | K32: 4289612.2 | L32: 2.06636e+08 | M32: 25756675 | N32: 1.46607e+08 | O32: 23696198 | P32: 3.24002e+08 | Q32: 32948698 | R32: 3.0802e+08 | S32: 26332646 | V32: =B32+D32+F32+H32+J32+L32+N32+P32+R32+T32 -> 1.4784917e+09 | W32: =C32+E32+G32+I32+K32+M32+O32+Q32+S32+U32 -> 1.5619857e+08 | X32: =(W32-W31)/W31*100 -> 5.816719
A33: =A15 -> 2007 | B33: 36301000 | C33: 1813730.6 | D33: 1.0533568e+08 | E33: 296919.03 | F33: 2.90246e+08 | G33: 39039300 | H33: 35294000 | I33: 4270993.4 | J33: 48971000 | K33: 4922939 | L33: 2.17607e+08 | M33: 27267987 | N33: 1.56289e+08 | O33: 25496950 | P33: 3.49501e+08 | Q33: 35719886 | R33: 3.21865e+08 | S33: 27577830 | V33: =B33+D33+F33+H33+J33+L33+N33+P33+R33+T33 -> 1.5614097e+09 | W33: =C33+E33+G33+I33+K33+M33+O33+Q33+S33+U33 -> 1.6640653e+08 | X33: =(W33-W32)/W32*100 -> 6.5352512
A34: =A16 -> 2008 | B34: 42154000 | C34: 2106813.3 | D34: 99397870 | E34: 266754.57 | F34: 2.979e+08 | G34: 40061127 | H34: 34198000 | I34: 4096704 | J34: 53644000 | K34: 5415989.3 | L34: 2.19359e+08 | M34: 27602809 | N34: 1.61672e+08 | O34: 26591313 | P34: 3.7509e+08 | Q34: 38593359 | R34: 3.3576e+08 | S34: 28987581 | V34: =B34+D34+F34+H34+J34+L34+N34+P34+R34+T34 -> 1.6191749e+09 | W34: =C34+E34+G34+I34+K34+M34+O34+Q34+S34+U34 -> 1.7372245e+08 | X34: =(W34-W33)/W33*100 -> 4.3964111
... A36: =A18 -> 2010 | B36: 41246962 | C36: 2040813.4 | D36: 1.0065926e+08 | E36: 293491.55 | F36: 2.8018998e+08 | G36: 38205148 | H36: 34310972 | I36: 4186922.2 | J36: 58523000 | K36: 5721945.3 | L36: 2.1856982e+08 | M36: 27918523 | N36: 1.6746229e+08 | O36: 27746613 | P36: 3.8549086e+08 | Q36: 39625327 | R36: 3.5291788e+08 | S36: 30349884 | V36: =B36+D36+F36+H36+J36+L36+N36+P36+R36+T36 -> 1.639371e+09 | W36: =C36+E36+G36+I36+K36+M36+O36+Q36+S36+U36 -> 1.7608867e+08 | X36: =(W36-W35)/W35*100 -> 2.8156117
A39: Location Quotients | C39: Agriculture, forestry and fishing | D39: Mining and quarrying | E39: Manufacturing | F39: Electricity, gas and water | G39: Construction | H39: Wholesale & retail trade; hotels & restaurants | I39: Transport , storage and communication | J39: Finance, real estate and business services | K39: Personal and General Government Services | L39: Actual vs Necessary Employment | M39: Agriculture, forestry and fishing | N39: Mining and quarrying | O39: Manufacturing | P39: Electricity, gas and water | Q39: Construction | R39: Wholesale & retail trade; hotels & restaurants | S39: Transport , storage and communication | T39: Finance, real estate and business services | U39: Personal and General Government Services
A40: =A22 -> 1996 | C40: =(C4/$W4)/(B4/$V4) -> 0.20189191 | D40: =(E4/$W4)/(D4/$V4) -> 0.0087757068 | E40: =(G4/$W4)/(F4/$V4) -> 1.7788856 | F40: =(I4/$W4)/(H4/$V4) -> 0.88067668 | G40: =(K4/$W4)/(J4/$V4) -> 0.93500095 | H40: =(M4/$W4)/(L4/$V4) -> 0.88760926 | I40: =(O4/$W4)/(N4/$V4) -> 1.3625646 | J40: =(Q4/$W4)/(P4/$V4) -> 1.1821192 | K40: =(S4/$W4)/(R4/$V4) -> 0.96574909 | L40: =AVERAGE(C40:K40) -> 0.91147478 | M40: =(1-1/C40)*C4 -> -53220.305 | N40: =(1-1/D40)*E4 -> -42323.031 | O40: =(1-1/E40)*G4 -> 85238.395 | P40: =(1-1/F40)*I4 -> -689.42544 | Q40: =(1-1/G40)*K4 -> -1688.1961 | R40: =(1-1/H40)*M4 -> -9166.816 | S40: =(1-1/I40)*O4 -> 13056.573 | T40: =(1-1/J40)*Q4 -> 9754.0226 | U40: =(1-1/K40)*S4 -> -4059.878 | V40: =AVERAGE(M40:U40) -> -344.29554 | W40: =V40/1000 -> -0.34429554 | X40: =W40/V40 -> 0.001
A41: =A23 -> 1997 | C41: =(C5/$W5)/(B5/$V5) -> 0.20233296 | D41: =(E5/$W5)/(D5/$V5) -> 0.0089781733 | E41: =(G5/$W5)/(F5/$V5) -> 1.7777444 | F41: =(I5/$W5)/(H5/$V5) -> 0.88487168 | G41: =(K5/$W5)/(J5/$V5) -> 0.93785335 | H41: =(M5/$W5)/(L5/$V5) -> 0.89177254 | I41: =(O5/$W5)/(N5/$V5) -> 1.3671351 | J41: =(Q5/$W5)/(P5/$V5) -> 1.1902634 | K41: =(S5/$W5)/(R5/$V5) -> 0.9720039 | L41: =AVERAGE(C41:K41) -> 0.91477282 | M41: =(1-1/C41)*C5 -> -52866.437 | N41: =(1-1/D41)*E5 -> -41126.256 | O41: =(1-1/E41)*G5 -> 81614.127 | P41: =(1-1/F41)*I5 -> -669.49733 | Q41: =(1-1/G41)*K5 -> -1670.5947 | R41: =(1-1/H41)*M5 -> -9112.045 | S41: =(1-1/I41)*O5 -> 13432.573 | T41: =(1-1/J41)*Q5 -> 10694.224 | U41: =(1-1/K41)*S5 -> -3542.115 | V41: =AVERAGE(M41:U41) -> -360.66895 | W41: =V41/1000 -> -0.36066895 | X41: =W41/V41 -> 0.001
A42: =A24 -> 1998 | C42: =(C6/$W6)/(B6/$V6) -> 0.20082396 | D42: =(E6/$W6)/(D6/$V6) -> 0.0090853148 | E42: =(G6/$W6)/(F6/$V6) -> 1.7668021 | F42: =(I6/$W6)/(H6/$V6) -> 0.87411605 | G42: =(K6/$W6)/(J6/$V6) -> 0.93149721 | H42: =(M6/$W6)/(L6/$V6) -> 0.88533463 | I42: =(O6/$W6)/(N6/$V6) -> 1.3640071 | J42: =(Q6/$W6)/(P6/$V6) -> 1.1739918 | K42: =(S6/$W6)/(R6/$V6) -> 0.97208208 | L42: =AVERAGE(C42:K42) -> 0.9086378 | M42: =(1-1/C42)*C6 -> -52100.156 | N42: =(1-1/D42)*E6 -> -34673.767 | O42: =(1-1/E42)*G6 -> 77801.327 | P42: =(1-1/F42)*I6 -> -712.22522 | Q42: =(1-1/G42)*K6 -> -1732.1491 | R42: =(1-1/H42)*M6 -> -10245.357 | S42: =(1-1/I42)*O6 -> 12607.531 | T42: =(1-1/J42)*Q6 -> 10108.939 | U42: =(1-1/K42)*S6 -> -3716.081 | V42: =AVERAGE(M42:U42) -> -295.77101 | W42: =V42/1000 -> -0.29577101 | X42: =W42/V42 -> 0.001
A43: =A25 -> 1999 | C43: =(C7/$W7)/(B7/$V7) -> 0.20148916 | D43: =(E7/$W7)/(D7/$V7) -> 0.0073456354 | E43: =(G7/$W7)/(F7/$V7) -> 1.7800426 | F43: =(I7/$W7)/(H7/$V7) -> 0.8751065 | G43: =(K7/$W7)/(J7/$V7) -> 0.92200113 | H43: =(M7/$W7)/(L7/$V7) -> 0.87665629 | I43: =(O7/$W7)/(N7/$V7) -> 1.3488544 | J43: =(Q7/$W7)/(P7/$V7) -> 1.157381 | K43: =(S7/$W7)/(R7/$V7) -> 0.98236108 | L43: =AVERAGE(C43:K43) -> 0.9056931 | M43: =(1-1/C43)*C7 -> -51187.038 | N43: =(1-1/D43)*E7 -> -32038.091 | O43: =(1-1/E43)*G7 -> 75929.719 | P43: =(1-1/F43)*I7 -> -688.31773 | Q43: =(1-1/G43)*K7 -> -1916.2027 | R43: =(1-1/H43)*M7 -> -11935.056 | S43: =(1-1/I43)*O7 -> 11942.515 | T43: =(1-1/J43)*Q7 -> 9459.3289 | U43: =(1-1/K43)*S7 -> -2397.2407 | V43: =AVERAGE(M43:U43) -> -314.48714 | W43: =V43/1000 -> -0.31448714 | X43: =W43/V43 -> 0.001
A44: =A26 -> 2000 | C44: =(C8/$W8)/(B8/$V8) -> 0.19911128 | D44: =(E8/$W8)/(D8/$V8) -> 0.005719228 | E44: =(G8/$W8)/(F8/$V8) -> 1.7999191 | F44: =(I8/$W8)/(H8/$V8) -> 0.86585363 | G44: =(K8/$W8)/(J8/$V8) -> 0.91883333 | H44: =(M8/$W8)/(L8/$V8) -> 0.87145619 | I44: =(O8/$W8)/(N8/$V8) -> 1.3264023 | J44: =(Q8/$W8)/(P8/$V8) -> 1.1574061 | K44: =(S8/$W8)/(R8/$V8) -> 0.97823557 | L44: =AVERAGE(C44:K44) -> 0.90254854 | M44: =(1-1/C44)*C8 -> -50793.542 | N44: =(1-1/D44)*E8 -> -30746.828 | O44: =(1-1/E44)*G8 -> 76756.591 | P44: =(1-1/F44)*I8 -> -739.87458 | Q44: =(1-1/G44)*K8 -> -2108.032 | R44: =(1-1/H44)*M8 -> -12375.032 | S44: =(1-1/I44)*O8 -> 11042.405 | T44: =(1-1/J44)*Q8 -> 9931.1876 | U44: =(1-1/K44)*S8 -> -3049.8747 | V44: =AVERAGE(M44:U44) -> -231.4444 | W44: =V44/1000 -> -0.2314444 | X44: =W44/V44 -> 0.001
...

Sheet PMB
A1: Pietermaritzburg
A2: Number of formally employed people | B2: Agriculture | D2: Mining | F2: Manufacturing | H2: Electricity | J2: Construction | L2: Trade | N2: Transport | P2: Finance | R2: Community services | T2: Private Households | V2: Total | X2: Year-on-Year MA | Y2: Total-Private Households | AB2: Unemployment Rate | AC2: Number of Claims for Unemployment Benefits | AD2: ='[1]Data Input'!C1 -> Index of New Job Postings | AE2: ='[1]Data Input'!D1 -> Average Salary per Placement
B3: SA | C3: MA | D3: SA | E3: =C3 -> MA | F3: SA | G3: =E3 -> MA | H3: SA | I3: =G3 -> MA | J3: SA | K3: =I3 -> MA | L3: SA | M3: =K3 -> MA | N3: SA | O3: =M3 -> MA | P3: SA | Q3: =O3 -> MA | R3: SA | S3: =Q3 -> MA | T3: SA | U3: =S3 -> MA | V3: SA | W3: =U3 -> MA | Y3: SA | Z3: MA
A4: 1996 | B4: 887880 | C4: 3113.3819 | D4: 568517 | E4: 214.754 | F4: 1457136.5 | G4: 20116.779 | H4: 76930.867 | I4: 1254.3746 | J4: 345823.5 | K4: 2832.0601 | L4: 1085992 | M4: 9581.5093 | N4: 479493.16 | O4: 5247.8726 | P4: 713126.49 | Q4: 9321.6654 | R4: 1578263.3 | S4: 23670.044 | T4: 1015292.6 | U4: 15196.694 | V4: =B4+D4+F4+H4+J4+L4+N4+P4+R4+T4 -> 8208455.4 | W4: =C4+E4+G4+I4+K4+M4+O4+Q4+S4+U4 -> 90549.135 | Y4: =V4-T4 -> 7193162.8 | Z4: =W4-U4 -> 75352.441 | AA4: =A4 -> 1996 | AB4: 0.32272748
A5: =A4+1 -> 1997 | B5: 881959.67 | C5: 3089.0373 | D5: 552238 | E5: 210.77174 | F5: 1396428.8 | G5: 18931.223 | H5: 77385.042 | I5: 1258.8999 | J5: 357720.37 | K5: 2883.3505 | L5: 1120388.8 | M5: 9746.9001 | N5: 486881.96 | O5: 5270.8826 | P5: 747970.5 | Q5: 9666.8116 | R5: 1683664.2 | S5: 25223.182 | T5: 1003185.5 | U5: 14905.93 | V5: =B5+D5+F5+H5+J5+L5+N5+P5+R5+T5 -> 8307822.7 | W5: =C5+E5+G5+I5+K5+M5+O5+Q5+S5+U5 -> 91186.989 | X5: =(W5-W4)/W4*100 -> 0.70442825 | Y5: =V5-T5 -> 7304637.2 | Z5: =W5-U5 -> 76281.059 | AA5: =A5 -> 1997 | AB5: 0.3404649
A6: =A5+1 -> 1998 | B6: 867918.28 | C6: 2983.47 | D6: 465851 | E6: 175.4834 | F6: 1350784.2 | G6: 17767.207 | H6: 75323.284 | I6: 1185.7416 | J6: 336634.99 | K6: 2644.127 | L6: 1189534.6 | M6: 10079.593 | N6: 461107.75 | O6: 4900.6408 | P6: 773497.72 | Q6: 9686.0452 | R6: 1772084.2 | S6: 26124.418 | T6: 991531.26 | U6: 14365.757 | V6: =B6+D6+F6+H6+J6+L6+N6+P6+R6+T6 -> 8284267.3 | W6: =C6+E6+G6+I6+K6+M6+O6+Q6+S6+U6 -> 89912.483 | X6: =(W6-W5)/W5*100 -> -1.3976841 | Y6: =V6-T6 -> 7292736 | Z6: =W6-U6 -> 75546.726 | AA6: =A6 -> 1998 | AB6: 0.3983989
A7: =A6+1 -> 1999 | B7: 866463.02 | C7: 2927.0907 | D7: 436254 | E7: 129.52008 | F7: 1315722.5 | G7: 16973.47 | H7: 74493.773 | I7: 1143.5742 | J7: 332065.66 | K7: 2514.8038 | L7: 1307911.3 | M7: 10688.706 | N7: 462724.37 | O7: 4757.2862 | P7: 812416.77 | Q7: 9767.5451 | R7: 1837006.2 | S7: 26687.491 | T7: 985259.98 | U7: 13936.012 | V7: =B7+D7+F7+H7+J7+L7+N7+P7+R7+T7 -> 8430317.6 | W7: =C7+E7+G7+I7+K7+M7+O7+Q7+S7+U7 -> 89525.5 | X7: =(W7-W6)/W6*100 -> -0.43039999 | Y7: =V7-T7 -> 7445057.6 | Z7: =W7-U7 -> 75589.487 | AA7: =A7 -> 1999 | AB7: 0.38052356
A8: =A7+1 -> 2000 | B8: 856696.91 | C8: 2853.1607 | D8: 417717 | E8: 95.701957 | F8: 1296165.5 | G8: 14919.943 | H8: 74502.364 | I8: 1124.9644 | J8: 350824.84 | K8: 2349.3229 | L8: 1300427.2 | M8: 9373.7479 | N8: 456984.32 | O8: 4123.0501 | P8: 852256.59 | Q8: 9108.2413 | R8: 1892891.1 | S8: 27203.732 | T8: 968553.77 | U8: 13459.595 | V8: =B8+D8+F8+H8+J8+L8+N8+P8+R8+T8 -> 8467019.5 | W8: =C8+E8+G8+I8+K8+M8+O8+Q8+S8+U8 -> 84611.459 | X8: =(W8-W7)/W7*100 -> -5.4889846 | Y8: =V8-T8 -> 7498465.8 | Z8: =W8-U8 -> 71151.864 | AA8: =A8 -> 2000 | AB8: 0.4275168
A9: =A8+1 -> 2001 | B9: 916347.6 | C9: 2944.6813 | D9: 406654 | E9: 122.59709 | F9: 1262623.2 | G9: 13988.151 | H9: 74310.356 | I9: 1097.1851 | J9: 336682.72 | K9: 2185.8207 | L9: 1319587.6 | M9: 9200.7847 | N9: 440380.52 | O9: 3823.1404 | P9: 931090.71 | Q9: 9518.9628 | R9: 1879377.6 | S9: 26234.607 | T9: 953808.48 | U9: 12885.859 | V9: =B9+D9+F9+H9+J9+L9+N9+P9+R9+T9 -> 8520862.8 | W9: =C9+E9+G9+I9+K9+M9+O9+Q9+S9+U9 -> 82001.789 | X9: =(W9-W8)/W8*100 -> -3.0842977 | Y9: =V9-T9 -> 7567054.3 | Z9: =W9-U9 -> 69115.931 | AA9: =A9 -> 2001 | AB9: 0.46191555
A10: =A9+1 -> 2002 | B10: 934015.47 | C10: 2916.9765 | D10: 416153 | E10: 108.12618 | F10: 1270647 | G10: 13759.897 | H10: 74998.982 | I10: 1105.2795 | J10: 336239.54 | K10: 2129.6601 | L10: 1320665.2 | M10: 8995.2841 | N10: 446726.56 | O10: 3780.5899 | P10: 1009426.3 | Q10: 10014.592 | R10: 1944631.2 | S10: 26366.857 | T10: 954695.98 | U10: 12526.675 | V10: =B10+D10+F10+H10+J10+L10+N10+P10+R10+T10 -> 8708199.2 | W10: =C10+E10+G10+I10+K10+M10+O10+Q10+S10+U10 -> 81703.939 | X10: =(W10-W9)/W9*100 -> -0.36322474 | Y10: =V10-T10 -> 7753503.2 | Z10: =W10-U10 -> 69177.263 | AA10: =A10 -> 2002 | AB10: 0.51364485
A11: =A10+1 -> 2003 | B11: 905008.74 | C11: 2726.5394 | D11: 433700 | E11: 102.17752 | F11: 1239012.6 | G11: 12999.204 | H11: 71848.049 | I11: 997.16643 | J11: 374174.99 | K11: 2273.7128 | L11: 1415881 | M11: 9272.0164 | N11: 425105.42 | O11: 3449.9744 | P11: 1027718.8 | Q11: 9760.8822 | R11: 2049583.8 | S11: 26542.201 | T11: 987319.81 | U11: 12404.509 | V11: =B11+D11+F11+H11+J11+L11+N11+P11+R11+T11 -> 8929353.2 | W11: =C11+E11+G11+I11+K11+M11+O11+Q11+S11+U11 -> 80528.384 | X11: =(W11-W10)/W10*100 -> -1.4387983 | Y11: =V11-T11 -> 7942033.4 | Z11: =W11-U11 -> 68123.875 | AA11: =A11 -> 2003 | AB11: 0.50776867 | AC11: ='[1]Data Input'!B102*12 -> 12602 | AD11: ='[1]Data Input'!C102 -> 101.77469
A12: =A11+1 -> 2004 | B12: 823813.55 | C12: 2355.4887 | D12: 455367 | E12: 119.83488 | F12: 1294617 | G12: 12986.231 | H12: 72457.373 | I12: 966.65324 | J12: 446174.83 | K12: 2634.2092 | L12: 1491315.6 | M12: 9521.7068 | N12: 438479.23 | O12: 3457.3911 | P12: 1110165 | Q12: 10238.524 | R12: 2048749 | S12: 26193.294 | T12: 952845.06 | U12: 11692.575 | V12: =B12+D12+F12+H12+J12+L12+N12+P12+R12+T12 -> 9133983.6 | W12: =C12+E12+G12+I12+K12+M12+O12+Q12+S12+U12 -> 80165.908 | X12: =(W12-W11)/W11*100 -> -0.45012201 | Y12: =V12-T12 -> 8181138.5 | Z12: =W12-U12 -> 68473.333 | AA12: =A12 -> 2004 | AB12: 0.47850932 | AC12: ='[1]Data Input'!B103*12 -> 15467 | AD12: ='[1]Data Input'!C103 -> 115.50926
A13: =A12+1 -> 2005 | B13: 775444.7 | C13: 2144.0428 | D13: 443266.67 | E13: 110.18711 | F13: 1314558.3 | G13: 12504.368 | H13: 74136.926 | I13: 952.07297 | J13: 526599.68 | K13: 2995.8078 | L13: 1644000.5 | M13: 10139.569 | N13: 450342.35 | O13: 3427.8977 | P13: 1208059.9 | Q13: 10728.007 | R13: 2032627.8 | S13: 25533.042 | T13: 951818.88 | U13: 11493.54 | V13: =B13+D13+F13+H13+J13+L13+N13+P13+R13+T13 -> 9420855.7 | W13: =C13+E13+G13+I13+K13+M13+O13+Q13+S13+U13 -> 80028.535 | X13: =(W13-W12)/W12*100 -> -0.17136089 | Y13: =V13-T13 -> 8469036.9 | Z13: =W13-U13 -> 68534.995 | AA13: =A13 -> 2005 | AB13: 0.48135522 | AC13: ='[1]Data Input'!B104*12 -> 15325 | AD13: ='[1]Data Input'!C104 -> 142.20679 | AE13: ='[1]Data Input'!D104 -> 8024.8081
A14: =A13+1 -> 2006 | B14: 758916.65 | C14: 2057.2016 | D14: 458600 | E14: 135.01747 | F14: 1371316.6 | G14: 12528.233 | H14: 75338.886 | I14: 928.33174 | J14: 533220.28 | K14: 2921.692 | L14: 1800159.6 | M14: 10725.708 | N14: 444421.66 | O14: 3269.5373 | P14: 1304349 | Q14: 11174.894 | R14: 2065501.6 | S14: 25786.924 | T14: 978273.99 | U14: 11642.974 | V14: =B14+D14+F14+H14+J14+L14+N14+P14+R14+T14 -> 9790098.3 | W14: =C14+E14+G14+I14+K14+M14+O14+Q14+S14+U14 -> 81170.514 | X14: =(W14-W13)/W13*100 -> 1.4269644 | Y14: =V14-T14 -> 8811824.3 | Z14: =W14-U14 -> 69527.54 | AA14: =A14 -> 2006 | AB14: 0.46202888 | AC14: ='[1]Data Input'!B105*12 -> 13210 | AD14: ='[1]Data Input'!C105 -> 122.37654 | AE14: ='[1]Data Input'!D105 -> 6620.4275
