Workbook

Sheet Listings
A1: KZN Listed Entities
A2: Company Name | B2: Issuer Code | C2: Location | D2: Company Description | E2: June 2010 Turnover (R'm) | F2: June 210 Ordinary Shareholders' Interest (R'm) | G2: As a % of Total Turnover | H2: As a % of Total Equity | I2: Total Equity
A3: JSE Main Board
A4: ADAPTIT HOLDINGS LIMITED | B4: ADI | C4: Durban | D4: Adapt IT Holdings Ltd is listed in the computer services sector | E4: 208 | F4: 42 | G4: =E4*1000000/E$20*100 -> 0.29430908 | H4: =F4*1000000/F$20*100 -> 0.15739179 | I4: =H4/100 -> 0.0015739179
A5: ARGENT INDUSTRIAL LIMITED | B5: ART | C5: Durban | D5: Argent Industrial Ltd carries on the business of a holding company. The group derives its income from manufacturing, trading, contracts and renta | E5: 869 | F5: 1276 | G5: =E5*1000000/E$20*100 -> 1.2295894 | H5: =F5*1000000/F$20*100 -> 4.7817126 | I5: =H5/100 -> 0.047817126
A6: BELL EQUIPMENT LIMITED | B6: BEL | C6: Durban | D6: Bell Equipment is Southern Africa's premier provider of earth-moving, construction, mining and materials handling equipment, serving customers across a diverse range of industries. | E6: 1502 | F6: 1404 | G6: =E6*1000000/E$20*100 -> 2.1252512 | H6: =F6*1000000/F$20*100 -> 5.2613828 | I6: =H6/100 -> 0.052613828
A7: GRINDROD LIMITED | B7: GND | C7: Durban | D7: Grindrod is a holding company principally investing in subsidiaries, joint ventures and associates, operating in four business divisions, Shipping, Trading, Freight Services and Financial Services. | E7: 14884 | F7: 6220 | G7: =E7*1000000/E$20*100 -> 21.060079 | H7: =F7*1000000/F$20*100 -> 23.308975 | I7: =H7/100 -> 0.23308975
A8: HULAMIN LIMITED | B8: HLM | C8: Pietemaritzburg | D8: The Hulamin group consists of two operations: Hulamin Rolled Products and Hulamin Extrusions. | E8: 2704 | F8: 4506 | G8: =E8*1000000/E$20*100 -> 3.8260181 | H8: =F8*1000000/F$20*100 -> 16.885891 | I8: =H8/100 -> 0.16885891
A9: HWANGE COLLIERY COMPANY LIMITED | B9: HWA | C9: Vryheid | D9: Hwange Colliery is a company that extracts, processes and distributes coal and coal products. | E9: 315 | F9: 399 | G9: =E9*1000000/E$20*100 -> 0.44570846 | H9: =F9*1000000/F$20*100 -> 1.495222 | I9: =H9/100 -> 0.01495222
A10: IFA HOTELS AND RESORTS LIMITED | B10: IFH | C10: Kwadukuza | D10: The group is engaged to invest in land and develop apartments, hotels and timeshare resorts and operates principally in South Africa and Namibia. | E10: 78 | F10: 79 | G10: =E10*1000000/E$20*100 -> 0.11036591 | H10: =F10*1000000/F$20*100 -> 0.29604647 | I10: =H10/100 -> 0.0029604647
A11: MARSHALL MONTEAGLE HLDGS SOC ANON | B11: MTE | C11: Durban | D11: The company is a financial holding company listed in Luxembourg, London and Johannesburg. It functions as a central management company and controls the group's investments in its operating subsidiaries and the administration of investment portfolios. | E11: 1141 | F11: 406 | G11: =E11*1000000/E$20*100 -> 1.6144551 | H11: =F11*1000000/F$20*100 -> 1.521454 | I11: =H11/100 -> 0.01521454
A12: MASONITE (AFRICA) LIMITED | B12: MAS | C12: Durban | D12: Masonite manufactures and distributes hardboard, softboard, door facings, and decorative wall panelling. It also owns and develops plantations and markets mineral fibre ceiling panels and metal grid systems. | E12: 257 | F12: 369 | G12: =E12*1000000/E$20*100 -> 0.36364151 | H12: =F12*1000000/F$20*100 -> 1.3827993 | I12: =H12/100 -> 0.013827993
A13: MERCHANT & INDUSTRIAL PROP LIMITED | B13: MIP | C13: Durban | D13: Merchant - Industrial Properties Ltd is a property investment company. The group's commercial property portfolio is situated in Durban and Cape Town. It also owns a permanent portfolio of high quality foreign listed shares and operates as a confirming house. | E13: 22 | F13: 122 | G13: =E13*1000000/E$20*100 -> 0.031128845 | H13: =F13*1000000/F$20*100 -> 0.45718568 | I13: =H13/100 -> 0.0045718568
A14: MR PRICE GROUP LIMITED | B14: MPC | C14: Durban | D14: The group operates within the Apparel (Mr Price, Mr Price Sport and Miladys) and Home (Mr Price Home and Sheet Street) markets. | E14: 4887 | F14: 1937 | G14: =E14*1000000/E$20*100 -> 6.9148485 | H14: =F14*1000000/F$20*100 -> 7.2587596 | I14: =H14/100 -> 0.072587596
A15: RAINBOW CHICKEN LIMITED | B15: RBW | C15: Durban | D15: Rainbow Chicken Ltd is the holding company of three principal operating subsidiaries being Rainbow Farms (Pty) Ltd, Rainbow Chicken Foods (Pty) Ltd and Vector Logistics (Pty) Ltd. These subsidiaries enable the group to be a vertically integrated chicken producer. | E15: 3384 | F15: 2695 | G15: =E15*1000000/E$20*100 -> 4.7881824 | H15: =F15*1000000/F$20*100 -> 10.099307 | I15: =H15/100 -> 0.10099307
... A18: TONGAAT HULETT LIMITED | B18: TON | C18: Ballito, Kzn | D18: Tongaat Hulett is an independent agri-processing business which includes integrated components of land management, property development and agriculture. | E18: 4724 | F18: 4253 | G18: =E18*1000000/E$20*100 -> 6.684212 | H18: =F18*1000000/F$20*100 -> 15.937793 | I18: =H18/100 -> 0.15937793
A20: Total | E20: =SUM(E4:E19)*1000000 -> 70674000000 | F20: =SUM(F4:F19)*1000000 -> 26685000000
A22: JSE AltX Board
A23: BIOSCIENCE BRANDS LIMITED | B23: BIO | C23: Durban | D23: BioSci develops and markets health focused consumer packaged products and services | E23: 51 | F23: 44 | G23: =E23*1000000/E$32*100 -> 2.80837 | H23: =F23*1000000/F$32*100 -> 3.313253 | I23: =H23/100 -> 0.03313253
A24: CHEMICAL SPECIALITIES LIMITED | B24: CSP | C24: Balito,KZN | D24: The ChemSpec group is one of Africa's largest paint and coatings companies and manufactures a vast range of high-technology automotive, industrial and decorative paints and related products. | E24: 151 | F24: 195 | G24: =E24*1000000/E$32*100 -> 8.314978 | H24: =F24*1000000/F$32*100 -> 14.683735 | I24: =H24/100 -> 0.14683735
A25: ERBACON INVESTMENT HOLDINGS LIMITED | B25: ERB | C25: Durban | D25: Erbacon provides a comprehensive suite of heavy civil engineering, commercial and industrial building, general construction and plant hire services. | E25: 511 | F25: 322 | G25: =E25*1000000/E$32*100 -> 28.138767 | H25: =F25*1000000/F$32*100 -> 24.246988 | I25: =H25/100 -> 0.24246988
A26: IPSA GROUP PLC | B26: IPS | C26: Dannhauser | D26: IPSA Group PLC and its subsidiaries' ("Group") principal activity is the construction, development and operation of electricity generation assets and the supply of electricity to the wholesale market and major end-users. | E26: 11 | F26: 114 | G26: =E26*1000000/E$32*100 -> 0.60572687 | H26: =F26*1000000/F$32*100 -> 8.5843373 | I26: =H26/100 -> 0.085843373
A27: IMUNITI HOLDINGS LIMITED | B27: IMU | C27: Durban | D27: The group is engaged in the manufacture of high-protein fortified nutritional food products and supplements, as well as pharmaceutical products and complementary natural medicines in South Africa. | E27: 26 | F27: 18 | G27: =E27*1000000/E$32*100 -> 1.4317181 | H27: =F27*1000000/F$32*100 -> 1.3554217 | I27: =H27/100 -> 0.013554217
A28: GOODERSON LEISURE CORPORATION LTD | B28: GDN | C28: Durban | D28: Gooderson is an investment and holding company and operates in the leisure industry. Through investments in subsidiaries, the group operates hotels, a management company, game lodges, touring ventures and timeshare development ventures. | E28: 44 | F28: 138 | G28: =E28*1000000/E$32*100 -> 2.4229075 | H28: =F28*1000000/F$32*100 -> 10.391566 | I28: =H28/100 -> 0.10391566
A29: SANTOVA LOGISTICS LIMITED | B29: SNV | C29: Durban | D29: Santova provides supply chain optimisation solutions to our international and domestic clients, through industry-leading strategic logistics management practices and resources. | E29: 70 | F29: 93 | G29: =E29*1000000/E$32*100 -> 3.8546256 | H29: =F29*1000000/F$32*100 -> 7.003012 | I29: =H29/100 -> 0.07003012
A30: BSI STEEL | B30: BSS | C30: Pietermaritzburg | D30: The BSI group of companies operates in the steel and associated industries with strategically located operations in South Africa, Mauritius, DRC, Zimbabwe, Mozambique and Zambia to service the southern African markets. | E30: 952 | F30: 404 | G30: =E30*1000000/E$32*100 -> 52.422907 | H30: =F30*1000000/F$32*100 -> 30.421687 | I30: =H30/100 -> 0.30421687
A32: Total | E32: =SUM(E23:E31)*1000000 -> 1816000000 | F32: =SUM(F23:F31)*1000000 -> 1328000000

Sheet JSE
A1: Cents | B1: ADI | C1: ART | D1: BEL | E1: GND | F1: HLM | G1: HWA | H1: IFH | I1: MTE | J1: MAS | K1: MIP | L1: MPC | M1: RBW | N1: SAN | O1: SPP | P1: TON | Q1: INDEX
A2: 36770 | B2: 10 | C2: 102 | D2: 965 | E2: 50 | G2: 60 | I2: 1100 | J2: 400 | K2: 150 | L2: 630 | M2: 160 | P2: 3500 | Q2: =B2*Listings!I$4+JSE!C2*Listings!I$5+JSE!D2*Listings!I$6+JSE!E2*Listings!I$7+JSE!F2*Listings!I$8+JSE!G2*Listings!I$9+JSE!H2*Listings!I$10+JSE!I2*Listings!I$11+JSE!J2*Listings!I$12+JSE!K2*Listings!I$13+JSE!L2*Listings!I$14+JSE!M2*Listings!I$15+JSE!N2*Listings!I$16+JSE!O2*Listings!I$17+JSE!P2*Listings!I$18 -> 710.88184
A3: 36800 | B3: 13 | C3: 90 | D3: 800 | E3: 46 | G3: 60 | I3: 1125 | J3: 400 | K3: 150 | L3: 600 | M3: 158 | P3: 3175 | Q3: =B3*Listings!I$4+JSE!C3*Listings!I$5+JSE!D3*Listings!I$6+JSE!E3*Listings!I$7+JSE!F3*Listings!I$8+JSE!G3*Listings!I$9+JSE!H3*Listings!I$10+JSE!I3*Listings!I$11+JSE!J3*Listings!I$12+JSE!K3*Listings!I$13+JSE!L3*Listings!I$14+JSE!M3*Listings!I$15+JSE!N3*Listings!I$16+JSE!O3*Listings!I$17+JSE!P3*Listings!I$18 -> 646.90204
A4: 36831 | B4: 8 | C4: 100 | D4: 675 | E4: 53 | G4: 60 | I4: 1100 | J4: 390 | K4: 200 | L4: 325 | M4: 150 | P4: 3450 | Q4: =B4*Listings!I$4+JSE!C4*Listings!I$5+JSE!D4*Listings!I$6+JSE!E4*Listings!I$7+JSE!F4*Listings!I$8+JSE!G4*Listings!I$9+JSE!H4*Listings!I$10+JSE!I4*Listings!I$11+JSE!J4*Listings!I$12+JSE!K4*Listings!I$13+JSE!L4*Listings!I$14+JSE!M4*Listings!I$15+JSE!N4*Listings!I$16+JSE!O4*Listings!I$17+JSE!P4*Listings!I$18 -> 665.19659
A5: 36861 | B5: 17 | C5: 110 | D5: 780 | E5: 61 | G5: 60 | I5: 1100 | J5: 400 | K5: 200 | L5: 368 | M5: 165 | P5: 3815 | Q5: =B5*Listings!I$4+JSE!C5*Listings!I$5+JSE!D5*Listings!I$6+JSE!E5*Listings!I$7+JSE!F5*Listings!I$8+JSE!G5*Listings!I$9+JSE!H5*Listings!I$10+JSE!I5*Listings!I$11+JSE!J5*Listings!I$12+JSE!K5*Listings!I$13+JSE!L5*Listings!I$14+JSE!M5*Listings!I$15+JSE!N5*Listings!I$16+JSE!O5*Listings!I$17+JSE!P5*Listings!I$18 -> 736.02548
A6: 36892 | B6: 20 | C6: 132 | D6: 760 | E6: 64 | G6: 30 | I6: 1200 | J6: 390 | K6: 200 | L6: 430 | M6: 187 | P6: 4150 | Q6: =B6*Listings!I$4+JSE!C6*Listings!I$5+JSE!D6*Listings!I$6+JSE!E6*Listings!I$7+JSE!F6*Listings!I$8+JSE!G6*Listings!I$9+JSE!H6*Listings!I$10+JSE!I6*Listings!I$11+JSE!J6*Listings!I$12+JSE!K6*Listings!I$13+JSE!L6*Listings!I$14+JSE!M6*Listings!I$15+JSE!N6*Listings!I$16+JSE!O6*Listings!I$17+JSE!P6*Listings!I$18 -> 797.77767
A7: 36923 | B7: 15 | C7: 129 | D7: 720 | E7: 60 | G7: 25 | I7: 1200 | J7: 500 | K7: 200 | L7: 304 | M7: 185 | P7: 4240 | Q7: =B7*Listings!I$4+JSE!C7*Listings!I$5+JSE!D7*Listings!I$6+JSE!E7*Listings!I$7+JSE!F7*Listings!I$8+JSE!G7*Listings!I$9+JSE!H7*Listings!I$10+JSE!I7*Listings!I$11+JSE!J7*Listings!I$12+JSE!K7*Listings!I$13+JSE!L7*Listings!I$14+JSE!M7*Listings!I$15+JSE!N7*Listings!I$16+JSE!O7*Listings!I$17+JSE!P7*Listings!I$18 -> 801.03174
A8: 36951 | B8: 10 | C8: 115 | D8: 635 | E8: 65 | G8: 26 | I8: 1100 | J8: 460 | K8: 200 | L8: 280 | M8: 180 | P8: 4450 | Q8: =B8*Listings!I$4+JSE!C8*Listings!I$5+JSE!D8*Listings!I$6+JSE!E8*Listings!I$7+JSE!F8*Listings!I$8+JSE!G8*Listings!I$9+JSE!H8*Listings!I$10+JSE!I8*Listings!I$11+JSE!J8*Listings!I$12+JSE!K8*Listings!I$13+JSE!L8*Listings!I$14+JSE!M8*Listings!I$15+JSE!N8*Listings!I$16+JSE!O8*Listings!I$17+JSE!P8*Listings!I$18 -> 826.21038
A9: 36982 | B9: 14 | C9: 120 | D9: 711 | E9: 68 | G9: 24 | I9: 1050 | J9: 531 | K9: 200 | L9: 285 | M9: 183 | P9: 4115 | Q9: =B9*Listings!I$4+JSE!C9*Listings!I$5+JSE!D9*Listings!I$6+JSE!E9*Listings!I$7+JSE!F9*Listings!I$8+JSE!G9*Listings!I$9+JSE!H9*Listings!I$10+JSE!I9*Listings!I$11+JSE!J9*Listings!I$12+JSE!K9*Listings!I$13+JSE!L9*Listings!I$14+JSE!M9*Listings!I$15+JSE!N9*Listings!I$16+JSE!O9*Listings!I$17+JSE!P9*Listings!I$18 -> 778.61915
A10: 37012 | B10: 18 | C10: 132 | D10: 720 | E10: 70 | G10: 22 | I10: 1050 | J10: 525 | K10: 200 | L10: 324 | M10: 216 | P10: 4300 | Q10: =B10*Listings!I$4+JSE!C10*Listings!I$5+JSE!D10*Listings!I$6+JSE!E10*Listings!I$7+JSE!F10*Listings!I$8+JSE!G10*Listings!I$9+JSE!H10*Listings!I$10+JSE!I10*Listings!I$11+JSE!J10*Listings!I$12+JSE!K10*Listings!I$13+JSE!L10*Listings!I$14+JSE!M10*Listings!I$15+JSE!N10*Listings!I$16+JSE!O10*Listings!I$17+JSE!P10*Listings!I$18 -> 815.67469
A11: 37043 | B11: 15 | C11: 145 | D11: 780 | E11: 67 | G11: 25 | I11: 1200 | J11: 550 | K11: 200 | L11: 406 | M11: 225 | P11: 4250 | Q11: =B11*Listings!I$4+JSE!C11*Listings!I$5+JSE!D11*Listings!I$6+JSE!E11*Listings!I$7+JSE!F11*Listings!I$8+JSE!G11*Listings!I$9+JSE!H11*Listings!I$10+JSE!I11*Listings!I$11+JSE!J11*Listings!I$12+JSE!K11*Listings!I$13+JSE!L11*Listings!I$14+JSE!M11*Listings!I$15+JSE!N11*Listings!I$16+JSE!O11*Listings!I$17+JSE!P11*Listings!I$18 -> 820.31411
A12: 37073 | B12: 7 | C12: 145 | D12: 830 | E12: 63 | G12: 26 | I12: 1220 | J12: 555 | K12: 208 | L12: 420 | M12: 238 | P12: 4545 | Q12: =B12*Listings!I$4+JSE!C12*Listings!I$5+JSE!D12*Listings!I$6+JSE!E12*Listings!I$7+JSE!F12*Listings!I$8+JSE!G12*Listings!I$9+JSE!H12*Listings!I$10+JSE!I12*Listings!I$11+JSE!J12*Listings!I$12+JSE!K12*Listings!I$13+JSE!L12*Listings!I$14+JSE!M12*Listings!I$15+JSE!N12*Listings!I$16+JSE!O12*Listings!I$17+JSE!P12*Listings!I$18 -> 871.77043
A13: 37104 | B13: 15 | C13: 185 | D13: 775 | E13: 79 | G13: 20 | I13: 1220 | J13: 551 | K13: 210 | L13: 500 | M13: 266 | P13: 4775 | Q13: =B13*Listings!I$4+JSE!C13*Listings!I$5+JSE!D13*Listings!I$6+JSE!E13*Listings!I$7+JSE!F13*Listings!I$8+JSE!G13*Listings!I$9+JSE!H13*Listings!I$10+JSE!I13*Listings!I$11+JSE!J13*Listings!I$12+JSE!K13*Listings!I$13+JSE!L13*Listings!I$14+JSE!M13*Listings!I$15+JSE!N13*Listings!I$16+JSE!O13*Listings!I$17+JSE!P13*Listings!I$18 -> 919.68724
... A50: 38231 | B50: 35 | C50: 665 | D50: 630 | E50: 552 | G50: 39 | I50: 1520 | J50: 1250 | K50: 185 | L50: 890 | M50: 610 | P50: 4649 | Q50: =B50*Listings!I$4+JSE!C50*Listings!I$5+JSE!D50*Listings!I$6+JSE!E50*Listings!I$7+JSE!F50*Listings!I$8+JSE!G50*Listings!I$9+JSE!H50*Listings!I$10+JSE!I50*Listings!I$11+JSE!J50*Listings!I$12+JSE!K50*Listings!I$13+JSE!L50*Listings!I$14+JSE!M50*Listings!I$15+JSE!N50*Listings!I$16+JSE!O50*Listings!I$17+JSE!P50*Listings!I$18 -> 1102.6625
A51: 38261 | B51: 35 | C51: 680 | D51: 610 | E51: 610 | G51: 39 | I51: 1520 | J51: 1275 | K51: 176 | L51: 900 | M51: 700 | O51: 2070 | P51: 5000 | Q51: =B51*Listings!I$4+JSE!C51*Listings!I$5+JSE!D51*Listings!I$6+JSE!E51*Listings!I$7+JSE!F51*Listings!I$8+JSE!G51*Listings!I$9+JSE!H51*Listings!I$10+JSE!I51*Listings!I$11+JSE!J51*Listings!I$12+JSE!K51*Listings!I$13+JSE!L51*Listings!I$14+JSE!M51*Listings!I$15+JSE!N51*Listings!I$16+JSE!O51*Listings!I$17+JSE!P51*Listings!I$18 -> 1351.5574
A52: 38292 | B52: 35 | C52: 959 | D52: 620 | E52: 790 | G52: 45 | I52: 1500 | J52: 1375 | K52: 175 | L52: 1130 | M52: 700 | O52: 2115 | P52: 5000 | Q52: =B52*Listings!I$4+JSE!C52*Listings!I$5+JSE!D52*Listings!I$6+JSE!E52*Listings!I$7+JSE!F52*Listings!I$8+JSE!G52*Listings!I$9+JSE!H52*Listings!I$10+JSE!I52*Listings!I$11+JSE!J52*Listings!I$12+JSE!K52*Listings!I$13+JSE!L52*Listings!I$14+JSE!M52*Listings!I$15+JSE!N52*Listings!I$16+JSE!O52*Listings!I$17+JSE!P52*Listings!I$18 -> 1428.9274
A53: 38322 | B53: 37 | C53: 999 | D53: 620 | E53: 790 | G53: 41 | I53: 1400 | J53: 1375 | K53: 175 | L53: 1244 | M53: 750 | O53: 2150 | P53: 5404 | Q53: =B53*Listings!I$4+JSE!C53*Listings!I$5+JSE!D53*Listings!I$6+JSE!E53*Listings!I$7+JSE!F53*Listings!I$8+JSE!G53*Listings!I$9+JSE!H53*Listings!I$10+JSE!I53*Listings!I$11+JSE!J53*Listings!I$12+JSE!K53*Listings!I$13+JSE!L53*Listings!I$14+JSE!M53*Listings!I$15+JSE!N53*Listings!I$16+JSE!O53*Listings!I$17+JSE!P53*Listings!I$18 -> 1509.8438
A54: 38353 | B54: 39 | C54: 1040 | D54: 650 | E54: 812 | G54: 41 | I54: 1400 | J54: 1600 | K54: 175 | L54: 1143 | M54: 790 | O54: 2230 | P54: 6000 | Q54: =B54*Listings!I$4+JSE!C54*Listings!I$5+JSE!D54*Listings!I$6+JSE!E54*Listings!I$7+JSE!F54*Listings!I$8+JSE!G54*Listings!I$9+JSE!H54*Listings!I$10+JSE!I54*Listings!I$11+JSE!J54*Listings!I$12+JSE!K54*Listings!I$13+JSE!L54*Listings!I$14+JSE!M54*Listings!I$15+JSE!N54*Listings!I$16+JSE!O54*Listings!I$17+JSE!P54*Listings!I$18 -> 1619.8793
A55: 38384 | B55: 35 | C55: 1140 | D55: 635 | E55: 938 | G55: 40 | I55: 1400 | J55: 1950 | K55: 175 | L55: 1200 | M55: 670 | O55: 2515 | P55: 6002 | Q55: =B55*Listings!I$4+JSE!C55*Listings!I$5+JSE!D55*Listings!I$6+JSE!E55*Listings!I$7+JSE!F55*Listings!I$8+JSE!G55*Listings!I$9+JSE!H55*Listings!I$10+JSE!I55*Listings!I$11+JSE!J55*Listings!I$12+JSE!K55*Listings!I$13+JSE!L55*Listings!I$14+JSE!M55*Listings!I$15+JSE!N55*Listings!I$16+JSE!O55*Listings!I$17+JSE!P55*Listings!I$18 -> 1673.7542
A56: 38412 | B56: 33 | C56: 1021 | D56: 610 | E56: 880 | G56: 52 | I56: 1400 | J56: 1900 | K56: 177 | L56: 1145 | M56: 650 | O56: 2400 | P56: 5925 | Q56: =B56*Listings!I$4+JSE!C56*Listings!I$5+JSE!D56*Listings!I$6+JSE!E56*Listings!I$7+JSE!F56*Listings!I$8+JSE!G56*Listings!I$9+JSE!H56*Listings!I$10+JSE!I56*Listings!I$11+JSE!J56*Listings!I$12+JSE!K56*Listings!I$13+JSE!L56*Listings!I$14+JSE!M56*Listings!I$15+JSE!N56*Listings!I$16+JSE!O56*Listings!I$17+JSE!P56*Listings!I$18 -> 1625.0142
A57: 38443 | B57: 35 | C57: 995 | D57: 815 | E57: 800 | G57: 70 | I57: 1400 | J57: 1600 | K57: 240 | L57: 1120 | M57: 630 | O57: 2390 | P57: 5450 | Q57: =B57*Listings!I$4+JSE!C57*Listings!I$5+JSE!D57*Listings!I$6+JSE!E57*Listings!I$7+JSE!F57*Listings!I$8+JSE!G57*Listings!I$9+JSE!H57*Listings!I$10+JSE!I57*Listings!I$11+JSE!J57*Listings!I$12+JSE!K57*Listings!I$13+JSE!L57*Listings!I$14+JSE!M57*Listings!I$15+JSE!N57*Listings!I$16+JSE!O57*Listings!I$17+JSE!P57*Listings!I$18 -> 1531.9629
A58: 38473 | B58: 50 | C58: 1026 | D58: 866 | E58: 959 | G58: 60 | I58: 1400 | J58: 1560 | K58: 250 | L58: 1210 | M58: 712 | O58: 2360 | P58: 5900 | Q58: =B58*Listings!I$4+JSE!C58*Listings!I$5+JSE!D58*Listings!I$6+JSE!E58*Listings!I$7+JSE!F58*Listings!I$8+JSE!G58*Listings!I$9+JSE!H58*Listings!I$10+JSE!I58*Listings!I$11+JSE!J58*Listings!I$12+JSE!K58*Listings!I$13+JSE!L58*Listings!I$14+JSE!M58*Listings!I$15+JSE!N58*Listings!I$16+JSE!O58*Listings!I$17+JSE!P58*Listings!I$18 -> 1656.6322
A59: 38504 | B59: 50 | C59: 1044 | D59: 850 | E59: 890 | G59: 60 | I59: 1600 | J59: 1575 | K59: 251 | L59: 1190 | M59: 740 | O59: 2430 | P59: 6000 | Q59: =B59*Listings!I$4+JSE!C59*Listings!I$5+JSE!D59*Listings!I$6+JSE!E59*Listings!I$7+JSE!F59*Listings!I$8+JSE!G59*Listings!I$9+JSE!H59*Listings!I$10+JSE!I59*Listings!I$11+JSE!J59*Listings!I$12+JSE!K59*Listings!I$13+JSE!L59*Listings!I$14+JSE!M59*Listings!I$15+JSE!N59*Listings!I$16+JSE!O59*Listings!I$17+JSE!P59*Listings!I$18 -> 1666.8736
A60: 38534 | B60: 42 | C60: 1110 | D60: 875 | E60: 960 | G60: 60 | I60: 1500 | J60: 1750 | K60: 264 | L60: 1425 | M60: 825 | O60: 2740 | P60: 6520 | Q60: =B60*Listings!I$4+JSE!C60*Listings!I$5+JSE!D60*Listings!I$6+JSE!E60*Listings!I$7+JSE!F60*Listings!I$8+JSE!G60*Listings!I$9+JSE!H60*Listings!I$10+JSE!I60*Listings!I$11+JSE!J60*Listings!I$12+JSE!K60*Listings!I$13+JSE!L60*Listings!I$14+JSE!M60*Listings!I$15+JSE!N60*Listings!I$16+JSE!O60*Listings!I$17+JSE!P60*Listings!I$18 -> 1822.5318
A61: 38565 | B61: 50 | C61: 1200 | D61: 900 | E61: 1102 | G61: 60 | I61: 1510 | J61: 1750 | K61: 262 | L61: 1425 | M61: 850 | O61: 2855 | P61: 6490 | Q61: =B61*Listings!I$4+JSE!C61*Listings!I$5+JSE!D61*Listings!I$6+JSE!E61*Listings!I$7+JSE!F61*Listings!I$8+JSE!G61*Listings!I$9+JSE!H61*Listings!I$10+JSE!I61*Listings!I$11+JSE!J61*Listings!I$12+JSE!K61*Listings!I$13+JSE!L61*Listings!I$14+JSE!M61*Listings!I$15+JSE!N61*Listings!I$16+JSE!O61*Listings!I$17+JSE!P61*Listings!I$18 -> 1868.5735
A62: 38596 | B62: 55 | C62: 1200 | D62: 950 | E62: 1124 | G62: 60 | I62: 1510 | J62: 1900 | K62: 280 | L62: 1470 | M62: 857 | O62: 3090 | P62: 7225 | Q62: =B62*Listings!I$4+JSE!C62*Listings!I$5+JSE!D62*Listings!I$6+JSE!E62*Listings!I$7+JSE!F62*Listings!I$8+JSE!G62*Listings!I$9+JSE!H62*Listings!I$10+JSE!I62*Listings!I$11+JSE!J62*Listings!I$12+JSE!K62*Listings!I$13+JSE!L62*Listings!I$14+JSE!M62*Listings!I$15+JSE!N62*Listings!I$16+JSE!O62*Listings!I$17+JSE!P62*Listings!I$18 -> 2018.8724
... A66: 38718 | B66: 59 | C66: 1270 | D66: 1050 | E66: 1400 | G66: 100 | I66: 2000 | J66: 1785 | K66: 330 | L66: 2000 | M66: 1025 | O66: 3430 | P66: 9745 | Q66: =B66*Listings!I$4+JSE!C66*Listings!I$5+JSE!D66*Listings!I$6+JSE!E66*Listings!I$7+JSE!F66*Listings!I$8+JSE!G66*Listings!I$9+JSE!H66*Listings!I$10+JSE!I66*Listings!I$11+JSE!J66*Listings!I$12+JSE!K66*Listings!I$13+JSE!L66*Listings!I$14+JSE!M66*Listings!I$15+JSE!N66*Listings!I$16+JSE!O66*Listings!I$17+JSE!P66*Listings!I$18 -> 2583.4474
A67: 38749 | B67: 65 | C67: 1370 | D67: 1000 | E67: 1375 | G67: 101 | H67: 555 | I67: 2000 | J67: 1850 | K67: 300 | L67: 2120 | M67: 960 | O67: 3700 | P67: 9200 | Q67: =B67*Listings!I$4+JSE!C67*Listings!I$5+JSE!D67*Listings!I$6+JSE!E67*Listings!I$7+JSE!F67*Listings!I$8+JSE!G67*Listings!I$9+JSE!H67*Listings!I$10+JSE!I67*Listings!I$11+JSE!J67*Listings!I$12+JSE!K67*Listings!I$13+JSE!L67*Listings!I$14+JSE!M67*Listings!I$15+JSE!N67*Listings!I$16+JSE!O67*Listings!I$17+JSE!P67*Listings!I$18 -> 2519.6134
A68: 38777 | B68: 65 | C68: 1445 | D68: 1075 | E68: 1339 | G68: 110 | H68: 500 | I68: 1800 | J68: 2400 | K68: 300 | L68: 2140 | M68: 950 | O68: 3825 | P68: 9915 | Q68: =B68*Listings!I$4+JSE!C68*Listings!I$5+JSE!D68*Listings!I$6+JSE!E68*Listings!I$7+JSE!F68*Listings!I$8+JSE!G68*Listings!I$9+JSE!H68*Listings!I$10+JSE!I68*Listings!I$11+JSE!J68*Listings!I$12+JSE!K68*Listings!I$13+JSE!L68*Listings!I$14+JSE!M68*Listings!I$15+JSE!N68*Listings!I$16+JSE!O68*Listings!I$17+JSE!P68*Listings!I$18 -> 2647.9303
A69: 38808 | B69: 72 | C69: 1432 | D69: 1080 | E69: 1320 | G69: 115 | H69: 450 | I69: 2000 | J69: 1910 | K69: 330 | L69: 2185 | M69: 1080 | O69: 3755 | P69: 9750 | Q69: =B69*Listings!I$4+JSE!C69*Listings!I$5+JSE!D69*Listings!I$6+JSE!E69*Listings!I$7+JSE!F69*Listings!I$8+JSE!G69*Listings!I$9+JSE!H69*Listings!I$10+JSE!I69*Listings!I$11+JSE!J69*Listings!I$12+JSE!K69*Listings!I$13+JSE!L69*Listings!I$14+JSE!M69*Listings!I$15+JSE!N69*Listings!I$16+JSE!O69*Listings!I$17+JSE!P69*Listings!I$18 -> 2623.8464
A70: 38838 | B70: 70 | C70: 1322 | D70: 1170 | E70: 1195 | G70: 105 | H70: 420 | I70: 2000 | J70: 1800 | K70: 390 | L70: 2050 | M70: 1018 | O70: 3356 | P70: 9200 | Q70: =B70*Listings!I$4+JSE!C70*Listings!I$5+JSE!D70*Listings!I$6+JSE!E70*Listings!I$7+JSE!F70*Listings!I$8+JSE!G70*Listings!I$9+JSE!H70*Listings!I$10+JSE!I70*Listings!I$11+JSE!J70*Listings!I$12+JSE!K70*Listings!I$13+JSE!L70*Listings!I$14+JSE!M70*Listings!I$15+JSE!N70*Listings!I$16+JSE!O70*Listings!I$17+JSE!P70*Listings!I$18 -> 2456.278
A71: 38869 | B71: 55 | C71: 1310 | D71: 1320 | E71: 1165 | G71: 105 | H71: 405 | I71: 2000 | J71: 1850 | K71: 350 | L71: 1750 | M71: 960 | N71: 110 | O71: 3455 | P71: 9410 | Q71: =B71*Listings!I$4+JSE!C71*Listings!I$5+JSE!D71*Listings!I$6+JSE!E71*Listings!I$7+JSE!F71*Listings!I$8+JSE!G71*Listings!I$9+JSE!H71*Listings!I$10+JSE!I71*Listings!I$11+JSE!J71*Listings!I$12+JSE!K71*Listings!I$13+JSE!L71*Listings!I$14+JSE!M71*Listings!I$15+JSE!N71*Listings!I$16+JSE!O71*Listings!I$17+JSE!P71*Listings!I$18 -> 2474.2498
A72: 38899 | B72: 60 | C72: 1415 | D72: 1500 | E72: 1209 | G72: 95 | H72: 350 | I72: 1800 | J72: 1950 | K72: 390 | L72: 1835 | M72: 965 | N72: 120 | O72: 3550 | P72: 9900 | Q72: =B72*Listings!I$4+JSE!C72*Listings!I$5+JSE!D72*Listings!I$6+JSE!E72*Listings!I$7+JSE!F72*Listings!I$8+JSE!G72*Listings!I$9+JSE!H72*Listings!I$10+JSE!I72*Listings!I$11+JSE!J72*Listings!I$12+JSE!K72*Listings!I$13+JSE!L72*Listings!I$14+JSE!M72*Listings!I$15+JSE!N72*Listings!I$16+JSE!O72*Listings!I$17+JSE!P72*Listings!I$18 -> 2590.0673
A73: 38930 | B73: 55 | C73: 1415 | D73: 1700 | E73: 1287 | G73: 95 | H73: 385 | I73: 2000 | J73: 1910 | K73: 390 | L73: 1950 | M73: 1009 | N73: 162 | O73: 3740 | P73: 9375 | Q73: =B73*Listings!I$4+JSE!C73*Listings!I$5+JSE!D73*Listings!I$6+JSE!E73*Listings!I$7+JSE!F73*Listings!I$8+JSE!G73*Listings!I$9+JSE!H73*Listings!I$10+JSE!I73*Listings!I$11+JSE!J73*Listings!I$12+JSE!K73*Listings!I$13+JSE!L73*Listings!I$14+JSE!M73*Listings!I$15+JSE!N73*Listings!I$16+JSE!O73*Listings!I$17+JSE!P73*Listings!I$18 -> 2567.2895
A74: 38961 | B74: 55 | C74: 1485 | D74: 1640 | E74: 1410 | G74: 95 | H74: 365 | I74: 1800 | J74: 2490 | K74: 350 | L74: 1900 | M74: 1061 | N74: 160 | O74: 3635 | P74: 8900 | Q74: =B74*Listings!I$4+JSE!C74*Listings!I$5+JSE!D74*Listings!I$6+JSE!E74*Listings!I$7+JSE!F74*Listings!I$8+JSE!G74*Listings!I$9+JSE!H74*Listings!I$10+JSE!I74*Listings!I$11+JSE!J74*Listings!I$12+JSE!K74*Listings!I$13+JSE!L74*Listings!I$14+JSE!M74*Listings!I$15+JSE!N74*Listings!I$16+JSE!O74*Listings!I$17+JSE!P74*Listings!I$18 -> 2518.1383
A75: 38991 | B75: 55 | C75: 1600 | D75: 2160 | E75: 1470 | G75: 70 | H75: 320 | I75: 1800 | J75: 2500 | K75: 385 | L75: 2055 | M75: 1161 | N75: 186 | O75: 3990 | P75: 9500 | Q75: =B75*Listings!I$4+JSE!C75*Listings!I$5+JSE!D75*Listings!I$6+JSE!E75*Listings!I$7+JSE!F75*Listings!I$8+JSE!G75*Listings!I$9+JSE!H75*Listings!I$10+JSE!I75*Listings!I$11+JSE!J75*Listings!I$12+JSE!K75*Listings!I$13+JSE!L75*Listings!I$14+JSE!M75*Listings!I$15+JSE!N75*Listings!I$16+JSE!O75*Listings!I$17+JSE!P75*Listings!I$18 -> 2711.6144
A76: 39022 | B76: 56 | C76: 1579 | D76: 2440 | E76: 1480 | G76: 100 | H76: 330 | I76: 1800 | J76: 2500 | K76: 385 | L76: 2340 | M76: 1246 | N76: 196 | O76: 4200 | P76: 9750 | Q76: =B76*Listings!I$4+JSE!C76*Listings!I$5+JSE!D76*Listings!I$6+JSE!E76*Listings!I$7+JSE!F76*Listings!I$8+JSE!G76*Listings!I$9+JSE!H76*Listings!I$10+JSE!I76*Listings!I$11+JSE!J76*Listings!I$12+JSE!K76*Listings!I$13+JSE!L76*Listings!I$14+JSE!M76*Listings!I$15+JSE!N76*Listings!I$16+JSE!O76*Listings!I$17+JSE!P76*Listings!I$18 -> 2814.7759
A77: 39052 | B77: 60 | C77: 1618 | D77: 2600 | E77: 1560 | G77: 76 | H77: 399 | I77: 1800 | J77: 2500 | K77: 375 | L77: 2524 | M77: 1390 | N77: 195 | O77: 4320 | P77: 11200 | Q77: =B77*Listings!I$4+JSE!C77*Listings!I$5+JSE!D77*Listings!I$6+JSE!E77*Listings!I$7+JSE!F77*Listings!I$8+JSE!G77*Listings!I$9+JSE!H77*Listings!I$10+JSE!I77*Listings!I$11+JSE!J77*Listings!I$12+JSE!K77*Listings!I$13+JSE!L77*Listings!I$14+JSE!M77*Listings!I$15+JSE!N77*Listings!I$16+JSE!O77*Listings!I$17+JSE!P77*Listings!I$18 -> 3112.3144
A78: 39083 | B78: 78 | C78: 1750 | D78: 3045 | E78: 1705 | G78: 80 | H78: 350 | I78: 1600 | J78: 2750 | K78: 550 | L78: 3000 | M78: 1450 | N78: 217 | O78: 4690 | P78: 11900 | Q78: =B78*Listings!I$4+JSE!C78*Listings!I$5+JSE!D78*Listings!I$6+JSE!E78*Listings!I$7+JSE!F78*Listings!I$8+JSE!G78*Listings!I$9+JSE!H78*Listings!I$10+JSE!I78*Listings!I$11+JSE!J78*Listings!I$12+JSE!K78*Listings!I$13+JSE!L78*Listings!I$14+JSE!M78*Listings!I$15+JSE!N78*Listings!I$16+JSE!O78*Listings!I$17+JSE!P78*Listings!I$18 -> 3360.1456
A79: 39114 | B79: 66 | C79: 1742 | D79: 3206 | E79: 1725 | G79: 77 | H79: 345 | I79: 1600 | J79: 3275 | K79: 650 | L79: 2970 | M79: 1275 | N79: 233 | O79: 4501 | P79: 12000 | Q79: =B79*Listings!I$4+JSE!C79*Listings!I$5+JSE!D79*Listings!I$6+JSE!E79*Listings!I$7+JSE!F79*Listings!I$8+JSE!G79*Listings!I$9+JSE!H79*Listings!I$10+JSE!I79*Listings!I$11+JSE!J79*Listings!I$12+JSE!K79*Listings!I$13+JSE!L79*Listings!I$14+JSE!M79*Listings!I$15+JSE!N79*Listings!I$16+JSE!O79*Listings!I$17+JSE!P79*Listings!I$18 -> 3361.6044
...

Sheet AltX
A1: Cents | B1: BIO | C1: CSP | D1: ERB | E1: IPS | F1: IMU | G1: GDN | H1: SNV | I1: BSS | J1: INDEX
A2: 38596 | B2: 74 | H2: 12 | J2: =AltX!B2*Listings!I$23+AltX!C2*Listings!I$24+AltX!D2*Listings!I$25+AltX!E2*Listings!I$26+AltX!F2*Listings!I$27+AltX!G2*Listings!I$28+AltX!H2*Listings!I$29+AltX!I2*Listings!I$30 -> 3.2921687
A3: 38626 | B3: 57 | H3: 10 | J3: =AltX!B3*Listings!I$23+AltX!C3*Listings!I$24+AltX!D3*Listings!I$25+AltX!E3*Listings!I$26+AltX!F3*Listings!I$27+AltX!G3*Listings!I$28+AltX!H3*Listings!I$29+AltX!I3*Listings!I$30 -> 2.5888554
A4: 38657 | B4: 60 | H4: 11 | J4: =AltX!B4*Listings!I$23+AltX!C4*Listings!I$24+AltX!D4*Listings!I$25+AltX!E4*Listings!I$26+AltX!F4*Listings!I$27+AltX!G4*Listings!I$28+AltX!H4*Listings!I$29+AltX!I4*Listings!I$30 -> 2.7582831
A5: 38687 | B5: 45 | H5: 12 | J5: =AltX!B5*Listings!I$23+AltX!C5*Listings!I$24+AltX!D5*Listings!I$25+AltX!E5*Listings!I$26+AltX!F5*Listings!I$27+AltX!G5*Listings!I$28+AltX!H5*Listings!I$29+AltX!I5*Listings!I$30 -> 2.3313253
A6: 38718 | B6: 46 | H6: 13 | J6: =AltX!B6*Listings!I$23+AltX!C6*Listings!I$24+AltX!D6*Listings!I$25+AltX!E6*Listings!I$26+AltX!F6*Listings!I$27+AltX!G6*Listings!I$28+AltX!H6*Listings!I$29+AltX!I6*Listings!I$30 -> 2.434488
A7: 38749 | B7: 50 | H7: 12 | J7: =AltX!B7*Listings!I$23+AltX!C7*Listings!I$24+AltX!D7*Listings!I$25+AltX!E7*Listings!I$26+AltX!F7*Listings!I$27+AltX!G7*Listings!I$28+AltX!H7*Listings!I$29+AltX!I7*Listings!I$30 -> 2.496988
A8: 38777 | B8: 42 | H8: 10 | J8: =AltX!B8*Listings!I$23+AltX!C8*Listings!I$24+AltX!D8*Listings!I$25+AltX!E8*Listings!I$26+AltX!F8*Listings!I$27+AltX!G8*Listings!I$28+AltX!H8*Listings!I$29+AltX!I8*Listings!I$30 -> 2.0918675
A9: 38808 | B9: 44 | H9: 14 | J9: =AltX!B9*Listings!I$23+AltX!C9*Listings!I$24+AltX!D9*Listings!I$25+AltX!E9*Listings!I$26+AltX!F9*Listings!I$27+AltX!G9*Listings!I$28+AltX!H9*Listings!I$29+AltX!I9*Listings!I$30 -> 2.438253
A10: 38838 | B10: 33 | H10: 19 | J10: =AltX!B10*Listings!I$23+AltX!C10*Listings!I$24+AltX!D10*Listings!I$25+AltX!E10*Listings!I$26+AltX!F10*Listings!I$27+AltX!G10*Listings!I$28+AltX!H10*Listings!I$29+AltX!I10*Listings!I$30 -> 2.4239458
A11: 38869 | B11: 40 | H11: 19 | J11: =AltX!B11*Listings!I$23+AltX!C11*Listings!I$24+AltX!D11*Listings!I$25+AltX!E11*Listings!I$26+AltX!F11*Listings!I$27+AltX!G11*Listings!I$28+AltX!H11*Listings!I$29+AltX!I11*Listings!I$30 -> 2.6558735
A12: 38899 | B12: 31 | H12: 17 | J12: =AltX!B12*Listings!I$23+AltX!C12*Listings!I$24+AltX!D12*Listings!I$25+AltX!E12*Listings!I$26+AltX!F12*Listings!I$27+AltX!G12*Listings!I$28+AltX!H12*Listings!I$29+AltX!I12*Listings!I$30 -> 2.2176205
A13: 38930 | B13: 30 | H13: 13 | J13: =AltX!B13*Listings!I$23+AltX!C13*Listings!I$24+AltX!D13*Listings!I$25+AltX!E13*Listings!I$26+AltX!F13*Listings!I$27+AltX!G13*Listings!I$28+AltX!H13*Listings!I$29+AltX!I13*Listings!I$30 -> 1.9043675
A14: 38961 | B14: 25 | G14: 80 | H14: 12 | J14: =AltX!B14*Listings!I$23+AltX!C14*Listings!I$24+AltX!D14*Listings!I$25+AltX!E14*Listings!I$26+AltX!F14*Listings!I$27+AltX!G14*Listings!I$28+AltX!H14*Listings!I$29+AltX!I14*Listings!I$30 -> 9.9819277
A15: 38991 | B15: 29 | E15: 600 | G15: 85 | H15: 17 | J15: =AltX!B15*Listings!I$23+AltX!C15*Listings!I$24+AltX!D15*Listings!I$25+AltX!E15*Listings!I$26+AltX!F15*Listings!I$27+AltX!G15*Listings!I$28+AltX!H15*Listings!I$29+AltX!I15*Listings!I$30 -> 62.490211
A16: 39022 | B16: 20 | E16: 600 | G16: 85 | H16: 14 | J16: =AltX!B16*Listings!I$23+AltX!C16*Listings!I$24+AltX!D16*Listings!I$25+AltX!E16*Listings!I$26+AltX!F16*Listings!I$27+AltX!G16*Listings!I$28+AltX!H16*Listings!I$29+AltX!I16*Listings!I$30 -> 61.981928
A17: 39052 | B17: 20 | E17: 590 | F17: 120 | G17: 86 | H17: 17 | J17: =AltX!B17*Listings!I$23+AltX!C17*Listings!I$24+AltX!D17*Listings!I$25+AltX!E17*Listings!I$26+AltX!F17*Listings!I$27+AltX!G17*Listings!I$28+AltX!H17*Listings!I$29+AltX!I17*Listings!I$30 -> 63.064006
A18: 39083 | B18: 18 | E18: 844 | F18: 98 | G18: 85 | H18: 14 | J18: =AltX!B18*Listings!I$23+AltX!C18*Listings!I$24+AltX!D18*Listings!I$25+AltX!E18*Listings!I$26+AltX!F18*Listings!I$27+AltX!G18*Listings!I$28+AltX!H18*Listings!I$29+AltX!I18*Listings!I$30 -> 84.189759
A19: 39114 | B19: 21 | E19: 1089 | F19: 90 | G19: 95 | H19: 16 | J19: =AltX!B19*Listings!I$23+AltX!C19*Listings!I$24+AltX!D19*Listings!I$25+AltX!E19*Listings!I$26+AltX!F19*Listings!I$27+AltX!G19*Listings!I$28+AltX!H19*Listings!I$29+AltX!I19*Listings!I$30 -> 106.39157
A20: 39142 | B20: 15 | E20: 910 | F20: 50 | G20: 100 | H20: 18 | J20: =AltX!B20*Listings!I$23+AltX!C20*Listings!I$24+AltX!D20*Listings!I$25+AltX!E20*Listings!I$26+AltX!F20*Listings!I$27+AltX!G20*Listings!I$28+AltX!H20*Listings!I$29+AltX!I20*Listings!I$30 -> 90.944277
A21: 39173 | B21: 18 | E21: 1025 | F21: 38 | G21: 100 | H21: 17 | J21: =AltX!B21*Listings!I$23+AltX!C21*Listings!I$24+AltX!D21*Listings!I$25+AltX!E21*Listings!I$26+AltX!F21*Listings!I$27+AltX!G21*Listings!I$28+AltX!H21*Listings!I$29+AltX!I21*Listings!I$30 -> 100.68298
A22: 39203 | B22: 20 | E22: 900 | F22: 35 | G22: 103 | H22: 16 | J22: =AltX!B22*Listings!I$23+AltX!C22*Listings!I$24+AltX!D22*Listings!I$25+AltX!E22*Listings!I$26+AltX!F22*Listings!I$27+AltX!G22*Listings!I$28+AltX!H22*Listings!I$29+AltX!I22*Listings!I$30 -> 90.21988
A23: 39234 | B23: 8 | E23: 910 | F23: 30 | G23: 110 | H23: 14 | J23: =AltX!B23*Listings!I$23+AltX!C23*Listings!I$24+AltX!D23*Listings!I$25+AltX!E23*Listings!I$26+AltX!F23*Listings!I$27+AltX!G23*Listings!I$28+AltX!H23*Listings!I$29+AltX!I23*Listings!I$30 -> 91.200301
A24: 39264 | B24: 8 | E24: 840 | F24: 24 | G24: 103 | H24: 14 | J24: =AltX!B24*Listings!I$23+AltX!C24*Listings!I$24+AltX!D24*Listings!I$25+AltX!E24*Listings!I$26+AltX!F24*Listings!I$27+AltX!G24*Listings!I$28+AltX!H24*Listings!I$29+AltX!I24*Listings!I$30 -> 84.38253
A25: 39295 | B25: 8 | E25: 820 | F25: 18 | G25: 100 | H25: 13 | J25: =AltX!B25*Listings!I$23+AltX!C25*Listings!I$24+AltX!D25*Listings!I$25+AltX!E25*Listings!I$26+AltX!F25*Listings!I$27+AltX!G25*Listings!I$28+AltX!H25*Listings!I$29+AltX!I25*Listings!I$30 -> 82.20256
A26: 39326 | B26: 8 | E26: 700 | F26: 17 | G26: 105 | H26: 11 | J26: =AltX!B26*Listings!I$23+AltX!C26*Listings!I$24+AltX!D26*Listings!I$25+AltX!E26*Listings!I$26+AltX!F26*Listings!I$27+AltX!G26*Listings!I$28+AltX!H26*Listings!I$29+AltX!I26*Listings!I$30 -> 72.267319
A27: 39356 | B27: 8 | E27: 675 | F27: 14 | G27: 108 | H27: 11 | I27: 100 | J27: =AltX!B27*Listings!I$23+AltX!C27*Listings!I$24+AltX!D27*Listings!I$25+AltX!E27*Listings!I$26+AltX!F27*Listings!I$27+AltX!G27*Listings!I$28+AltX!H27*Listings!I$29+AltX!I27*Listings!I$30 -> 100.81401
A28: 39387 | B28: 8 | C28: 114 | E28: 690 | F28: 6 | G28: 95 | H28: 10 | I28: 96 | J28: =AltX!B28*Listings!I$23+AltX!C28*Listings!I$24+AltX!D28*Listings!I$25+AltX!E28*Listings!I$26+AltX!F28*Listings!I$27+AltX!G28*Listings!I$28+AltX!H28*Listings!I$29+AltX!I28*Listings!I$30 -> 116.09488
A29: 39417 | B29: 8 | C29: 110 | D29: 270 | E29: 650 | F29: 14 | G29: 80 | H29: 9 | I29: 89 | J29: =AltX!B29*Listings!I$23+AltX!C29*Listings!I$24+AltX!D29*Listings!I$25+AltX!E29*Listings!I$26+AltX!F29*Listings!I$27+AltX!G29*Listings!I$28+AltX!H29*Listings!I$29+AltX!I29*Listings!I$30 -> 173.89081
A30: 39448 | B30: 8 | C30: 85 | D30: 250 | E30: 1201 | F30: 8 | G30: 78 | H30: 7 | I30: 70 | J30: =AltX!B30*Listings!I$23+AltX!C30*Listings!I$24+AltX!D30*Listings!I$25+AltX!E30*Listings!I$26+AltX!F30*Listings!I$27+AltX!G30*Listings!I$28+AltX!H30*Listings!I$29+AltX!I30*Listings!I$30 -> 206.46084
A31: 39479 | B31: 8 | C31: 110 | D31: 225 | E31: 1249 | F31: 11 | G31: 90 | H31: 7 | I31: 84 | J31: =AltX!B31*Listings!I$23+AltX!C31*Listings!I$24+AltX!D31*Listings!I$25+AltX!E31*Listings!I$26+AltX!F31*Listings!I$27+AltX!G31*Listings!I$28+AltX!H31*Listings!I$29+AltX!I31*Listings!I$30 -> 213.7372
A32: 39508 | B32: 8 | C32: 143 | D32: 250 | E32: 1205 | F32: 9 | G32: 85 | H32: 10 | I32: 90 | J32: =AltX!B32*Listings!I$23+AltX!C32*Listings!I$24+AltX!D32*Listings!I$25+AltX!E32*Listings!I$26+AltX!F32*Listings!I$27+AltX!G32*Listings!I$28+AltX!H32*Listings!I$29+AltX!I32*Listings!I$30 -> 222.35617
A33: 39539 | B33: 8 | C33: 133 | D33: 230 | E33: 1041 | F33: 10 | G33: 85 | H33: 9 | I33: 130 | J33: =AltX!B33*Listings!I$23+AltX!C33*Listings!I$24+AltX!D33*Listings!I$25+AltX!E33*Listings!I$26+AltX!F33*Listings!I$27+AltX!G33*Listings!I$28+AltX!H33*Listings!I$29+AltX!I33*Listings!I$30 -> 214.07229
A34: 39569 | B34: 8 | C34: 135 | D34: 250 | E34: 998 | F34: 8 | G34: 80 | H34: 10 | I34: 125 | J34: =AltX!B34*Listings!I$23+AltX!C34*Listings!I$24+AltX!D34*Listings!I$25+AltX!E34*Listings!I$26+AltX!F34*Listings!I$27+AltX!G34*Listings!I$28+AltX!H34*Listings!I$29+AltX!I34*Listings!I$30 -> 213.52636
A35: 39600 | B35: 8 | C35: 128 | D35: 180 | E35: 1192 | F35: 6 | G35: 75 | H35: 8 | I35: 120 | J35: =AltX!B35*Listings!I$23+AltX!C35*Listings!I$24+AltX!D35*Listings!I$25+AltX!E35*Listings!I$26+AltX!F35*Listings!I$27+AltX!G35*Listings!I$28+AltX!H35*Listings!I$29+AltX!I35*Listings!I$30 -> 209.97139
A36: 39630 | B36: 8 | C36: 112 | D36: 200 | E36: 950 | F36: 11 | G36: 60 | H36: 6 | I36: 100 | J36: =AltX!B36*Listings!I$23+AltX!C36*Listings!I$24+AltX!D36*Listings!I$25+AltX!E36*Listings!I$26+AltX!F36*Listings!I$27+AltX!G36*Listings!I$28+AltX!H36*Listings!I$29+AltX!I36*Listings!I$30 -> 183.98193
A37: 39661 | B37: 8 | C37: 117 | D37: 188 | E37: 760 | F37: 9 | G37: 60 | H37: 7 | I37: 119 | J37: =AltX!B37*Listings!I$23+AltX!C37*Listings!I$24+AltX!D37*Listings!I$25+AltX!E37*Listings!I$26+AltX!F37*Listings!I$27+AltX!G37*Listings!I$28+AltX!H37*Listings!I$29+AltX!I37*Listings!I$30 -> 171.31928
A38: 39692 | B38: 8 | C38: 100 | D38: 198 | E38: 800 | F38: 6 | G38: 60 | H38: 6 | I38: 120 | J38: =AltX!B38*Listings!I$23+AltX!C38*Listings!I$24+AltX!D38*Listings!I$25+AltX!E38*Listings!I$26+AltX!F38*Listings!I$27+AltX!G38*Listings!I$28+AltX!H38*Listings!I$29+AltX!I38*Listings!I$30 -> 174.875
A39: 39722 | B39: 4 | C39: 90 | D39: 150 | E39: 600 | F39: 5 | G39: 65 | H39: 6 | I39: 98 | J39: =AltX!B39*Listings!I$23+AltX!C39*Listings!I$24+AltX!D39*Listings!I$25+AltX!E39*Listings!I$26+AltX!F39*Listings!I$27+AltX!G39*Listings!I$28+AltX!H39*Listings!I$29+AltX!I39*Listings!I$30 -> 138.28012
A40: 39753 | B40: 5 | C40: 80 | D40: 150 | E40: 456 | F40: 4 | G40: 70 | H40: 6 | I40: 85 | J40: =AltX!B40*Listings!I$23+AltX!C40*Listings!I$24+AltX!D40*Listings!I$25+AltX!E40*Listings!I$26+AltX!F40*Listings!I$27+AltX!G40*Listings!I$28+AltX!H40*Listings!I$29+AltX!I40*Listings!I$30 -> 121.03464
...
