Workbook

Sheet Introduction
A1: KWAZULU-NATAL METRO, DISTRICT AND LOCAL MUNICIPAL FINANCES
C4: SUMMARY – KWAZULU-NATAL, 2003/04 – 2012/13
C6: Total Income and Expenditure per Catogory as a percentage of Total Income and Expenditure | K6: Analysis of sources of revenue
C8: Year-on-Year Growth Rate in Revenue and Expenditure
C10: Total Municipal Income and Expenditure - 2003 to 2013
K11: OPEX 2008/09
C12: Municipal Income and Expenditure as a % of Total Income and Expenditure | K12: OPEX 2009/10
C14: Municipal Ratings based on Income and Expenditure
C16: Correlation Matrix
C18: 2003/04 | G18: Conditional Grants
C19: 2004/05 | G19: Conditional Grants
C20: 2005/06
C21: 2006/07
C22: 2007/08
C23: 2008/09
C24: 2009/10
C25: 2010/11- Medium-Term Estimates
C26: 2011/12- Medium-Term Estimates
C27: 2012/13- Medium-Term Estimates

Sheet Revenue
A1: Analysis of sources of revenue
C3: 2009/10 Quarter 3: Results | H3: 2009/10 Quarter 1: Results | N3: 2008/09 Quarter 3: Results | S3: 2008/09 Quarter 1: Results | Y3: Increase/Decrease 2009/10 Quarter 1 to 3 | Z3: Increase/Decrease 2009/10 Quarter 3 Annual | AA3: Increase/Decrease 2009/10: Quarter 1 Annual
C4: Own Revenue | F4: Grants Revenue | G4: Total | H4: Own Revenue | K4: Grants Revenue | L4: Total | N4: Own Revenue | Q4: Grants Revenue | R4: Total | S4: Own Revenue | V4: Grants Revenue | W4: Total
C5: Property Rates | D5: Service Charges | E5: Other | H5: Property Rates | I5: Service Charges | J5: Other | N5: Property Rates | O5: Service Charges | P5: Other | S5: Property Rates | T5: Service Charges | U5: Other
B7: KwaZulu-Natal
A9: A | B9: eThekwini | C9: 1130600.3 | D9: 1993272.5 | E9: 576371.8 | F9: 1096054 | G9: 4796298.6 | H9: 966499.54 | I9: 2080815 | J9: =L9-(H9+I9+K9) -> 765911.32 | K9: 862336 | L9: 4675561.9 | N9: 1076890.1 | O9: 1630822.3 | P9: -41715.418 | Q9: 1666108 | R9: 4332104.9 | S9: 652169 | T9: 1772904 | U9: =W9-(S9+T9+V9) -> 130693 | V9: 823527 | W9: 3379293 | Y9: =(G9-L9)/L9 -> 0.02582293 | Z9: =(G9-R9)/R9 -> 0.10715198 | AA9: =(L9-W9)/L9 -> 0.27724344
B11: Ugu Municipalities
A12: B | B12: Vulamehlo | C12: 0 | D12: 0 | E12: -2241.551 | F12: 3070 | G12: 828.449 | H12: 0.15 | I12: 0 | J12: =L12-(H12+I12+K12) -> 12781.855 | K12: 1735 | L12: 14517.005 | N12: 0 | O12: 0 | P12: 6356.767 | Q12: 1235 | R12: 7591.767 | S12: 0 | T12: 0 | U12: =W12-(S12+T12+V12) -> 649 | V12: 1235 | W12: 1884 | Y12: =(G12-L12)/L12 -> -0.94293251 | Z12: =(G12-R12)/R12 -> -0.89087534 | AA12: =(L12-W12)/L12 -> 0.87022116
A13: B | B13: Umdoni | C13: 903.851 | D13: 129.494 | E13: -3060.128 | F13: 12085 | G13: 10058.217 | H13: -27.239 | I13: 106.079 | J13: =L13-(H13+I13+K13) -> 12594.624 | K13: 750 | L13: 13423.464 | N13: 1430.653 | O13: 75.222 | P13: 111.559 | Q13: 900 | R13: 2517.434 | S13: 44962 | T13: 6210 | U13: =W13-(S13+T13+V13) -> 11546 | V13: 900 | W13: 63618 | Y13: =(G13-L13)/L13 -> -0.25069885 | Z13: =(G13-R13)/R13 -> 2.9954243 | AA13: =(L13-W13)/L13 -> -3.7393132
A14: B | B14: Umzumbe | C14: 0 | D14: 0 | E14: 4339.385 | F14: 3541 | G14: 7880.385 | H14: 0 | I14: 0 | J14: =L14-(H14+I14+K14) -> 22297.104 | K14: 1000 | L14: 23297.104 | N14: 0 | O14: 0 | P14: 10487.937 | Q14: 985 | R14: 11472.937 | S14: 0 | T14: 0 | U14: =W14-(S14+T14+V14) -> 12994 | V14: 735 | W14: 13729 | Y14: =(G14-L14)/L14 -> -0.66174401 | Z14: =(G14-R14)/R14 -> -0.31313272 | AA14: =(L14-W14)/L14 -> 0.41069929
A15: B | B15: uMuziwabantu | C15: 1304.971 | D15: 3349.846 | E15: -1387.959 | F15: 3063 | G15: 6329.858 | H15: 986.978 | I15: 3789.508 | J15: =L15-(H15+I15+K15) -> 248.983 | K15: 1400 | L15: 6425.469 | N15: 4164.119 | O15: 2389.492 | P15: 12342.331 | Q15: 900 | R15: 19795.942 | S15: 23 | T15: 2950 | U15: =W15-(S15+T15+V15) -> 6718 | V15: 400 | W15: 10091 | Y15: =(G15-L15)/L15 -> -0.014880003 | Z15: =(G15-R15)/R15 -> -0.68024467 | AA15: =(L15-W15)/L15 -> -0.57046902
A16: B | B16: Ezinqolweni | C16: 20.27 | D16: 0 | E16: -1690.219 | F16: 1735 | G16: 65.051 | H16: 12.462 | I16: 0 | J16: =L16-(H16+I16+K16) -> 6629.552 | K16: 1000 | L16: 7642.014 | N16: 0.854 | O16: 1 | P16: 4546.511 | Q16: 985 | R16: 5533.365 | S16: 0 | T16: 51 | U16: =W16-(S16+T16+V16) -> 4384 | V16: 985 | W16: 5420 | Y16: =(G16-L16)/L16 -> -0.99148772 | Z16: =(G16-R16)/R16 -> -0.98824386 | AA16: =(L16-W16)/L16 -> 0.29076288
A17: B | B17: Hibiscus Coast | C17: 0 | D17: 0 | E17: -1479 | F17: 1479 | G17: 0 | H17: 83601.251 | I17: 23532.104 | J17: =L17-(H17+I17+K17) -> 31569.122 | K17: 750 | L17: 139452.48 | N17: 60527.207 | O17: 16395.666 | P17: 49606.491 | Q17: 900 | R17: 127429.36 | S17: 75896 | T17: 17607 | U17: =W17-(S17+T17+V17) -> 22847 | V17: 400 | W17: 116750 | Z17: =(G17-R17)/R17 -> -1 | AA17: =(L17-W17)/L17 -> 0.16279723
A18: C | B18: Ugu District Municipality | C18: 0 | D18: 75489.66 | E18: 96482.664 | F18: 11001 | G18: 182973.32 | H18: 0 | I18: 72464.471 | J18: =L18-(H18+I18+K18) -> 125073.74 | K18: 2095 | L18: 199633.22 | N18: 0 | O18: 51582.143 | P18: 148863.79 | Q18: 12776 | R18: 213221.94 | S18: 0 | T18: 53581 | U18: =W18-(S18+T18+V18) -> 53711 | V18: 1305 | W18: 108597 | Y18: =(G18-L18)/L18 -> -0.083452505 | Z18: =(G18-R18)/R18 -> -0.14186445 | AA18: =(L18-W18)/L18 -> 0.45601738
B20: uMgungundlovu Municipalities
A21: B | B21: uMshwathi | C21: 7152.089 | D21: 348.892 | E21: 11394.556 | F21: 2103 | G21: 20998.537 | H21: 7076.703 | I21: 361.235 | J21: =L21-(H21+I21+K21) -> 13547.993 | K21: 1500 | L21: 22485.931 | N21: 6708.999 | O21: 337.112 | P21: 10015.318 | Q21: 2735 | R21: 19796.429 | S21: 6542 | T21: 341 | U21: =W21-(S21+T21+V21) -> 9753 | V21: 1235 | W21: 17871 | Y21: =(G21-L21)/L21 -> -0.066147761 | Z21: =(G21-R21)/R21 -> 0.060723477 | AA21: =(L21-W21)/L21 -> 0.20523638
A22: B | B22: uMngeni | C22: 3476.983 | D22: 9452.294 | E22: -9256.639 | F22: 22106 | G22: 25778.638 | H22: 75886.967 | I22: 11200.699 | J22: =L22-(H22+I22+K22) -> 3589.875 | K22: 7778 | L22: 98455.541 | N22: 35776.25 | O22: 13517.446 | P22: 7092.761 | Q22: 5052 | R22: 61438.457 | S22: 71929 | T22: 15682 | U22: =W22-(S22+T22+V22) -> 7233 | V22: 2052 | W22: 96896 | Y22: =(G22-L22)/L22 -> -0.73816976 | Z22: =(G22-R22)/R22 -> -0.58041528 | AA22: =(L22-W22)/L22 -> 0.015840053
A23: B | B23: Mpofana | C23: 1477.377 | D23: 1930.759 | E23: -549.468 | F23: 2235 | G23: 5093.668 | H23: 1012.202 | I23: 5317.685 | J23: =L23-(H23+I23+K23) -> 7196.119 | K23: 1500 | L23: 15026.006 | N23: 3027.818 | O23: 5719.177 | P23: 2812.652 | Q23: 985 | R23: 12544.647 | S23: 2940 | T23: 4319 | U23: =W23-(S23+T23+V23) -> 1742 | V23: 735 | W23: 9736 | Y23: =(G23-L23)/L23 -> -0.66100985 | Z23: =(G23-R23)/R23 -> -0.59395685 | AA23: =(L23-W23)/L23 -> 0.35205669
A24: B | B24: Impendle | C24: 59.6 | D24: 0 | E24: 1506.325 | F24: 1799 | G24: 3364.925 | H24: 0 | I24: 0 | J24: =L24-(H24+I24+K24) -> -1735 | K24: 1735 | L24: 0 | N24: 26.601 | O24: 14.842 | P24: 6500.244 | Q24: 1235 | R24: 7776.687 | S24: 3 | T24: 27 | U24: =W24-(S24+T24+V24) -> 3427 | V24: 1235 | W24: 4692 | Z24: =(G24-R24)/R24 -> -0.5673061
A25: B | B25: Msunduzi | C25: 108995.66 | D25: 279247.81 | E25: 85286.225 | F25: 14272 | G25: 487801.7 | H25: 112231.34 | I25: 301208.72 | J25: =L25-(H25+I25+K25) -> 117282.59 | K25: 1150 | L25: 531872.65 | N25: 96886.582 | O25: 231288.63 | P25: 235460.25 | Q25: 3530 | R25: 567165.46 | S25: 98596 | T25: 247755 | U25: =W25-(S25+T25+V25) -> 68831 | V25: 2936 | W25: 418118 | Y25: =(G25-L25)/L25 -> -0.08285997 | Z25: =(G25-R25)/R25 -> -0.13993052 | AA25: =(L25-W25)/L25 -> 0.21387573
A26: B | B26: Mkhambathini | C26: 868.935 | D26: 0 | E26: -219.881 | F26: 2505 | G26: 3154.054 | H26: 836.161 | I26: 0 | J26: =L26-(H26+I26+K26) -> 7195.822 | K26: 1500 | L26: 9531.983 | N26: 3634.014 | O26: 0 | P26: 27000.509 | Q26: 2735 | R26: 33369.523 | S26: 1158 | T26: 1670 | U26: =W26-(S26+T26+V26) -> 3551 | V26: 735 | W26: 7114 | Y26: =(G26-L26)/L26 -> -0.66910831 | Z26: =(G26-R26)/R26 -> -0.905481 | AA26: =(L26-W26)/L26 -> 0.25367051
A27: B | B27: Richmond | C27: 1050.099 | D27: 310.134 | E27: 3037.109 | F27: 31450 | G27: 35847.342 | H27: 1388.808 | I27: 257.885 | J27: =L27-(H27+I27+K27) -> 8258.215 | K27: 1735 | L27: 11639.908 | N27: 964.563 | O27: 548.464 | P27: 7946.04 | Q27: 985 | R27: 10444.067 | S27: 309 | T27: 547 | U27: =W27-(S27+T27+V27) -> 5615 | V27: 735 | W27: 7206 | Y27: =(G27-L27)/L27 -> 2.0796929 | Z27: =(G27-R27)/R27 -> 2.4323164 | AA27: =(L27-W27)/L27 -> 0.38092294
A28: C | B28: uMgungundlovu District Municipality | C28: 0 | D28: 5302.968 | E28: 57338.308 | F28: 1485 | G28: 64126.276 | H28: 0 | I28: 2853.347 | J28: =L28-(H28+I28+K28) -> 231758.47 | K28: 1485 | L28: 236096.82 | N28: 0 | O28: 0 | P28: 80778.9 | Q28: 4277 | R28: 85055.9 | S28: 0 | T28: 0 | U28: =W28-(S28+T28+V28) -> -1235 | V28: 1235 | W28: 0 | Y28: =(G28-L28)/L28 -> -0.72838992 | Z28: =(G28-R28)/R28 -> -0.24606904
B30: Total:Uthukela Municipalities
A31: B | B31: Emnambithi/Ladysmith | C31: 2149.243 | D31: 30763.35 | E31: 22601.029 | F31: 6128 | G31: 61641.622 | H31: 92574.726 | I31: 40883.586 | J31: =L31-(H31+I31+K31) -> 30169.545 | K31: 1485 | L31: 165112.86 | N31: 1849.601 | O31: 26794.022 | P31: 38490.833 | Q31: 3156 | R31: 70290.456 | S31: 157947 | T31: 51482 | U31: =W31-(S31+T31+V31) -> 30045 | V31: 1500 | W31: 240974 | Y31: =(G31-L31)/L31 -> -0.62666976 | Z31: =(G31-R31)/R31 -> -0.12304422 | AA31: =(L31-W31)/L31 -> -0.45945025
A32: B | B32: Indaka | C32: 0 | D32: 11.725 | E32: 16390.965 | F32: 3278 | G32: 19680.69 | H32: 0 | I32: 29.065 | J32: =L32-(H32+I32+K32) -> 19459.251 | K32: 1000 | L32: 20488.316 | N32: 0 | O32: 16.673 | P32: 21011.521 | Q32: 985 | R32: 22013.194 | S32: 0 | T32: 11 | U32: =W32-(S32+T32+V32) -> 16028 | V32: 735 | W32: 16774 | Y32: =(G32-L32)/L32 -> -0.039418857 | Z32: =(G32-R32)/R32 -> -0.10595936 | AA32: =(L32-W32)/L32 -> 0.18128947
A33: B | B33: Umtshezi | C33: 8964.74 | D33: 24517.829 | E33: 13885.528 | F33: 2526 | G33: 49894.097 | H33: 6864.329 | I33: 28830.562 | J33: =L33-(H33+I33+K33) -> 17814.316 | K33: 750 | L33: 54259.207 | N33: 6253.841 | O33: 14335.52 | P33: 9017.047 | Q33: 2435 | R33: 32041.408 | S33: 5667 | T33: 16719 | U33: =W33-(S33+T33+V33) -> 8040 | V33: 1535 | W33: 31961 | Y33: =(G33-L33)/L33 -> -0.080449204 | Z33: =(G33-R33)/R33 -> 0.55717555 | AA33: =(L33-W33)/L33 -> 0.41095711
A34: B | B34: Okhahlamba | C34: 3770.598 | D34: 132.118 | E34: -15396.044 | F34: 28874 | G34: 17380.672 | H34: 82.77 | I34: 53.701 | J34: =L34-(H34+I34+K34) -> 15400.264 | K34: 750 | L34: 16286.735 | N34: 873.034 | O34: 110.597 | P34: 36825.37 | Q34: 985 | R34: 38794.001 | S34: 1416 | T34: 113 | U34: =W34-(S34+T34+V34) -> 8057 | V34: 985 | W34: 10571 | Y34: =(G34-L34)/L34 -> 0.06716736 | Z34: =(G34-R34)/R34 -> -0.55197527 | AA34: =(L34-W34)/L34 -> 0.35094419
A35: B | B35: Imbabazane | C35: 4.984 | D35: 0 | E35: -1928.108 | F35: 2289 | G35: 365.876 | H35: 222.797 | I35: 0 | J35: =L35-(H35+I35+K35) -> 23199.858 | K35: 1500 | L35: 24922.655 | N35: 0 | O35: 0 | P35: 27452.289 | Q35: 985 | R35: 28437.289 | S35: 0 | T35: 0 | U35: =W35-(S35+T35+V35) -> 10842 | V35: 985 | W35: 11827 | Y35: =(G35-L35)/L35 -> -0.98531954 | Z35: =(G35-R35)/R35 -> -0.98713394 | AA35: =(L35-W35)/L35 -> 0.52545184
A36: C | B36: Uthukela District Municipality | C36: 0 | D36: 25826.089 | E36: 89429.969 | F36: 7445 | G36: 122701.06 | H36: 193.663 | I36: 26357.129 | J36: =L36-(H36+I36+K36) -> 104137.53 | K36: 1962 | L36: 132650.32 | N36: 0 | O36: 24242.221 | P36: 3179.826 | Q36: 8176 | R36: 35598.047 | S36: 0 | T36: 16615 | U36: =W36-(S36+T36+V36) -> 57317 | V36: 1378 | W36: 75310 | Y36: =(G36-L36)/L36 -> -0.075003658 | Z36: =(G36-R36)/R36 -> 2.446848 | AA36: =(L36-W36)/L36 -> 0.43226672
B38: Umzinyathi Municipalities
A39: B | B39: Endumeni | C39: 11485.197 | D39: 0 | E39: 16530.663 | F39: 1485 | G39: 29500.86 | H39: 11340.563 | I39: 0 | J39: =L39-(H39+I39+K39) -> 17705.646 | K39: 1485 | L39: 30531.209 | N39: 10344.993 | O39: 0 | P39: 10986.531 | Q39: 1235 | R39: 22566.524 | S39: 0 | T39: 0 | U39: =W39-(S39+T39+V39) -> -1235 | V39: 1235 | W39: 0 | Y39: =(G39-L39)/L39 -> -0.033747403 | Z39: =(G39-R39)/R39 -> 0.30728419 | AA39: =(L39-W39)/L39 -> 1
A40: B | B40: Nquthu | C40: 0 | D40: 641.47 | E40: -3709.878 | F40: 6883 | G40: 3814.592 | H40: 0 | I40: 994.893 | J40: =L40-(H40+I40+K40) -> -1735 | K40: 1735 | L40: 994.893 | N40: 36.897 | O40: 462.61 | P40: -1204.39 | Q40: 1235 | R40: 530.117 | S40: 0 | T40: 620 | U40: =W40-(S40+T40+V40) -> 8640 | V40: 1235 | W40: 10495 | Y40: =(G40-L40)/L40 -> 2.8341731 | Z40: =(G40-R40)/R40 -> 6.1957549 | AA40: =(L40-W40)/L40 -> -9.5488731
A41: B | B41: Msinga | C41: 110.259 | D41: 5.235 | E41: -4302.688 | F41: 11170 | G41: 6982.806 | H41: 110.259 | I41: 5.235 | J41: =L41-(H41+I41+K41) -> 5867.312 | K41: 1000 | L41: 6982.806 | N41: 110.259 | O41: 5.235 | P41: 5632.312 | Q41: 1235 | R41: 6982.806 | S41: 110 | T41: 5 | U41: =W41-(S41+T41+V41) -> 6133 | V41: 735 | W41: 6983 | Y41: =(G41-L41)/L41 -> 0 | Z41: =(G41-R41)/R41 -> 0 | AA41: =(L41-W41)/L41 -> -2.7782528e-05
A42: B | B42: Umvoti | C42: 5508.311 | D42: 7871.884 | E42: 21523.674 | F42: 756 | G42: 35659.869 | H42: 5311.924 | I42: 8385.606 | J42: =L42-(H42+I42+K42) -> 17155.28 | K42: 750 | L42: 31602.81 | N42: 1525.656 | O42: 2033.525 | P42: 3609.629 | Q42: 1235 | R42: 8403.81 | S42: 4565 | T42: 6158 | U42: =W42-(S42+T42+V42) -> 10042 | V42: 1235 | W42: 22000 | Y42: =(G42-L42)/L42 -> 0.12837653 | Z42: =(G42-R42)/R42 -> 3.2432979 | AA42: =(L42-W42)/L42 -> 0.30385937
A43: C | B43: Umzinyathi District Municipality | C43: 0 | D43: 0 | E43: 32135.472 | F43: 4285 | G43: 36420.472 | H43: 0 | I43: 0 | J43: =L43-(H43+I43+K43) -> 91590.946 | K43: 2069 | L43: 93659.946 | N43: 0 | O43: 0 | P43: 69574.883 | Q43: 17824 | R43: 87398.883 | S43: 0 | T43: 0 | U43: =W43-(S43+T43+V43) -> 64631 | V43: 1186 | W43: 65817 | Y43: =(G43-L43)/L43 -> -0.61114144 | Z43: =(G43-R43)/R43 -> -0.58328447 | AA43: =(L43-W43)/L43 -> 0.29727698
B45: Amajuba Municipalities
A46: B | B46: Newcastle | C46: 30982.337 | D46: 130992.91 | E46: 61302.349 | F46: 1298 | G46: 224575.6 | H46: 27294.387 | I46: 120422.64 | J46: =L46-(H46+I46+K46) -> 60438.76 | K46: 750 | L46: 208905.79 | N46: 41263.972 | O46: 98069.58 | P46: 30840.233 | Q46: 7900 | R46: 178073.79 | S46: 40575 | T46: 114148 | U46: =W46-(S46+T46+V46) -> 45034 | V46: 900 | W46: 200657 | Y46: =(G46-L46)/L46 -> 0.07500897 | Z46: =(G46-R46)/R46 -> 0.26113789 | AA46: =(L46-W46)/L46 -> 0.039485689
A47: B | B47: eMadlangeni | C47: 870.809 | D47: 61.202 | E47: 903.169 | F47: 1883 | G47: 3718.18 | H47: 0 | I47: 0 | J47: =L47-(H47+I47+K47) -> -1735 | K47: 1735 | L47: 0 | N47: 0 | O47: 0 | P47: -1340.411 | Q47: 2485 | R47: 1144.589 | S47: 255 | T47: 7 | U47: =W47-(S47+T47+V47) -> 6807 | V47: 985 | W47: 8054 | Z47: =(G47-R47)/R47 -> 2.2484848
A48: B | B48: Dannhauser | C48: 806.571 | D48: 37.933 | E48: 5808.868 | F48: 3485 | G48: 10138.372 | H48: 942.275 | I48: 13.14 | J48: =L48-(H48+I48+K48) -> 8927.294 | K48: 2750 | L48: 12632.709 | N48: 870.722 | O48: 101.943 | P48: 11587.801 | Q48: 1985 | R48: 14545.466 | S48: 223 | T48: 25 | U48: =W48-(S48+T48+V48) -> 8750 | V48: 1985 | W48: 10983 | Y48: =(G48-L48)/L48 -> -0.19745068 | Z48: =(G48-R48)/R48 -> -0.30298747 | AA48: =(L48-W48)/L48 -> 0.13059028
...

Sheet KZN
A1: SUMMARY-KZN
B3: 2003/04. | C3: 2004/05. | D3: 2005/06. | E3: 2006/07 | F3: 2007/08 | G3: 2008/09 | H3: 2009/10 | I3: 2010/11 | J3: 2011/12 | K3: 2012/13 | M3: Total
A4: R thousands | B4: Outcome | C4: Outcome | D4: Outcome | E4: Outcome | F4: Outcome | G4: Outcome | H4: Outcome | I4: Medium-term estimates
A6: Operating Revenue and Expenditure
A7: Operating Revenue | B7: =SUM(B8:B14) -> 13462781 | C7: =SUM(C8:C14) -> 15652853 | D7: =SUM(D8:D14) -> 17865624 | E7: =SUM(E8:E14) -> 20511458 | F7: =SUM(F8:F14) -> 24531931 | G7: =SUM(G8:G14) -> 28404557 | H7: =SUM(H8:H14) -> 32969856 | I7: =SUM(I8:I14) -> 36822413 | ... K7: =SUM(K8:K14) -> 45534197 | M7: =SUM(B7:L7) -> 2.7614902e+08
A8: Property rates | B8: ='2003'!B8 -> 3201323 | C8: ='2004'!B8 -> 3995220 | D8: ='2005'!B8 -> 4284428 | E8: ='2006'!B8 -> 4720846 | F8: ='2007'!B8 -> 5236265 | G8: ='2008'!B8 -> 5502934 | H8: ='2009'!B8 -> 5996993.6 | I8: ='2010'!B8 -> 6224958.6 | J8: ='2011'!B8 -> 6645488.7 | K8: ='2012'!B8 -> 7143958.1 | M8: =SUM(B8:L8) -> 52952415
A9: Service charges | B9: ='2003'!B9 -> 6010112 | C9: ='2004'!B9 -> 6558894 | D9: ='2005'!B9 -> 7352819 | E9: ='2006'!B9 -> 7812834 | F9: ='2007'!B9 -> 8394640 | G9: ='2008'!B9 -> 9795971 | H9: ='2009'!B9 -> 12062549 | I9: ='2010'!B9 -> 15210923 | J9: ='2011'!B9 -> 18071545 | K9: ='2012'!B9 -> 21308064 | M9: =SUM(B9:L9) -> 1.1257835e+08
A10: Regional Service Levies | B10: ='2003'!B10 -> 264508 | C10: ='2004'!B10 -> 797677 | D10: ='2005'!B10 -> 865288 | E10: ='2006'!B10 -> 37122 | F10: ='2007'!B10 -> 9715 | G10: ='2008'!B10 -> 662 | H10: ='2009'!B10 -> 0 | I10: ='2010'!B10 -> 0 | J10: ='2011'!B10 -> 0 | K10: ='2012'!B10 -> 0 | M10: =SUM(B10:L10) -> 1974972
A11: Investment revenue | B11: ='2003'!B11 -> 618536 | C11: ='2004'!B11 -> 329280 | D11: ='2005'!B11 -> 543168 | E11: ='2006'!B11 -> 463569 | F11: ='2007'!B11 -> 702484 | G11: ='2008'!B11 -> 903810 | H11: ='2009'!B11 -> 440968 | I11: ='2010'!B11 -> 0 | J11: ='2011'!B11 -> 0 | K11: ='2012'!B11 -> 0 | M11: =SUM(B11:L11) -> 4001815
A12: Government grants | B12: ='2003'!B12 -> 1822198 | C12: ='2004'!B12 -> 2625526 | D12: ='2005'!B12 -> 3514352 | E12: ='2006'!B12 -> 5345794 | F12: ='2007'!B12 -> 7134527 | G12: ='2008'!B12 -> 9008043.4 | H12: ='2009'!B12 -> 9832648.7 | I12: ='2010'!B12 -> 9348965 | J12: ='2011'!B12 -> 8944639 | K12: ='2012'!B12 -> 9337838.9 | M12: =SUM(B12:L12) -> 66914532
A13: Public contributions and donations | B13: ='2003'!B13 -> 219 | C13: ='2004'!B13 -> 10642 | D13: ='2005'!B13 -> 15982 | E13: ='2006'!B13 -> 15382 | F13: ='2007'!B13 -> 798091 | G13: ='2008'!B13 -> 19492 | H13: ='2009'!B13 -> 36200 | I13: ='2010'!B13 -> 0 | J13: ='2011'!B13 -> 0 | K13: ='2012'!B13 -> 0 | M13: =SUM(B13:L13) -> 896008
A14: Other own revenue | B14: ='2003'!B14 -> 1545885 | C14: ='2004'!B14 -> 1335614 | D14: ='2005'!B14 -> 1289587 | E14: ='2006'!B14 -> 2115911 | F14: ='2007'!B14 -> 2256209 | G14: ='2008'!B14 -> 3173644.2 | H14: ='2009'!B14 -> 4600497.1 | I14: ='2010'!B14 -> 6037566.2 | J14: ='2011'!B14 -> 6731681.8 | K14: ='2012'!B14 -> 7744335.6 | M14: =SUM(B14:L14) -> 36830931
K15: ='2012'!B15 -> 0
A16: Operating Expenditure | B16: =SUM(B17:B24) -> 13118974 | C16: =SUM(C17:C24) -> 15075235 | D16: =SUM(D17:D24) -> 16297858 | E16: =SUM(E17:E24) -> 18939471 | F16: =SUM(F17:F24) -> 19902725 | G16: =SUM(G17:G24) -> 25537738 | H16: =SUM(H17:H24) -> 30689425 | I16: =SUM(I17:I24) -> 33799974 | ... K16: =SUM(K17:K24) -> 41585941 | M16: =SUM(B16:L16) -> 2.5211205e+08
A17: Employee costs | B17: ='2003'!B17 -> 4022149 | C17: ='2004'!B17 -> 4351702 | D17: ='2005'!B17 -> 4364023 | E17: ='2006'!B17 -> 5313480 | F17: ='2007'!B17 -> 5620335 | G17: ='2008'!B17 -> 6924988.3 | H17: ='2009'!B17 -> 7836512.4 | I17: ='2010'!B17 -> 8918730.1 | J17: ='2011'!B17 -> 9482559.5 | K17: ='2012'!B17 -> 10314786 | M17: =SUM(B17:L17) -> 67149266
A18: Remuneration of Councillors | B18: ='2003'!B18 -> 124999 | C18: ='2004'!B18 -> 144145 | D18: ='2005'!B18 -> 176637 | E18: ='2006'!B18 -> 307841 | F18: ='2007'!B18 -> 322255 | G18: ='2008'!B18 -> 369640 | H18: ='2009'!B18 -> 387875 | I18: ='2010'!B18 -> 0 | J18: ='2011'!B18 -> 0 | K18: ='2012'!B18 -> 0 | M18: =SUM(B18:L18) -> 1833392
A19: Repairs and maintenance | B19: ='2003'!B19 -> 1124783 | C19: ='2004'!B19 -> 1071001 | D19: ='2005'!B19 -> 1194885 | E19: ='2006'!B19 -> 1244165 | F19: ='2007'!B19 -> 1597727 | G19: ='2008'!B19 -> 2052078 | H19: ='2009'!B19 -> 2503748 | I19: ='2010'!B19 -> 0 | J19: ='2011'!B19 -> 0 | K19: ='2012'!B19 -> 0 | M19: =SUM(B19:L19) -> 10788387
A20: Depreciation and amortisation | B20: ='2003'!B20 -> 213593 | C20: ='2004'!B20 -> 701788 | D20: ='2005'!B20 -> 1265312 | E20: ='2006'!B20 -> 1491319 | F20: ='2007'!B20 -> 1255152 | G20: ='2008'!B20 -> 1902794 | H20: ='2009'!B20 -> 2462584 | I20: ='2010'!B20 -> 0 | J20: ='2011'!B20 -> 0 | K20: ='2012'!B20 -> 0 | M20: =SUM(B20:L20) -> 9292542
A21: Finance charges | B21: ='2003'!B21 -> 1416990 | C21: ='2004'!B21 -> 987879 | D21: ='2005'!B21 -> 762884 | E21: ='2006'!B21 -> 778178 | F21: ='2007'!B21 -> 796287 | G21: ='2008'!B21 -> 905647 | H21: ='2009'!B21 -> 728642 | I21: ='2010'!B21 -> 1187048.9 | J21: ='2011'!B21 -> 1287739.3 | K21: ='2012'!B21 -> 1355197.9 | M21: =SUM(B21:L21) -> 10206493
A22: Materials and bulk purchases | B22: ='2003'!B22 -> 3430456 | C22: ='2004'!B22 -> 3451865 | D22: ='2005'!B22 -> 3812014 | E22: ='2006'!B22 -> 4255979 | F22: ='2007'!B22 -> 4264351 | G22: ='2008'!B22 -> 5496002 | H22: ='2009'!B22 -> 6950831 | I22: ='2010'!B22 -> 8485767.1 | J22: ='2011'!B22 -> 10586305 | K22: ='2012'!B22 -> 13142036 | M22: =SUM(B22:L22) -> 63875607
A23: Grants and subsidies | B23: ='2003'!B23 -> 192184 | C23: ='2004'!B23 -> 502887 | D23: ='2005'!B23 -> 293726 | E23: ='2006'!B23 -> 251013 | F23: ='2007'!B23 -> 346581 | G23: ='2008'!B23 -> 540692 | H23: ='2009'!B23 -> 753897 | I23: ='2010'!B23 -> 0 | J23: ='2011'!B23 -> 0 | K23: ='2012'!B23 -> 0 | M23: =SUM(B23:L23) -> 2880980
A24: Other expenditure | B24: ='2003'!B24 -> 2593820 | C24: ='2004'!B24 -> 3863968 | D24: ='2005'!B24 -> 4428377 | E24: ='2006'!B24 -> 5297496 | F24: ='2007'!B24 -> 5700037 | G24: ='2008'!B24 -> 7345896.7 | H24: ='2009'!B24 -> 9065335.1 | I24: ='2010'!B24 -> 15208428 | J24: ='2011'!B24 -> 15808106 | K24: ='2012'!B24 -> 16773920 | M24: =SUM(B24:L24) -> 86085383
A26: Surplus/(Deficit) | B26: =SUM(B7-B16) -> 343807 | C26: =SUM(C7-C16) -> 577618 | D26: =SUM(D7-D16) -> 1567766 | E26: =SUM(E7-E16) -> 1571987 | F26: ='2007'!B26 -> 4629206 | G26: ='2007'!C26 -> 4065931 | H26: ='2007'!D26 -> -2315 | I26: ='2007'!E26 -> 2856 | J26: ='2007'!F26 -> 11565 | K26: ='2007'!G26 -> 10287 | M26: =SUM(B26:L26) -> 12778708
A28: Capital Revenue and Expenditure
A29: Source of Finance | B29: =SUM(B30:B33) -> 2646078 | C29: =SUM(C30:C33) -> 3116337 | D29: =SUM(D30:D33) -> 4428394 | E29: =SUM(E30:E33) -> 4394927 | F29: =SUM(F30:F33) -> 6712980.8 | G29: =SUM(G30:G33) -> 8663850.3 | H29: =SUM(H30:H33) -> 9611629.7 | I29: =SUM(I30:I33) -> 9705679 | ... K29: =SUM(K30:K33) -> 8561998.9 | M29: =SUM(B29:L29) -> 66199475
A30: External Loans | B30: ='2003'!B30 -> 426347 | C30: ='2004'!B30 -> 564352 | D30: ='2005'!B30 -> 1536884 | E30: ='2006'!B30 -> 1097278 | F30: ='2007'!B30 -> 1193037 | G30: ='2008'!B30 -> 1153742 | H30: ='2009'!B30 -> 1267815 | I30: ='2010'!B30 -> 597324.84 | J30: ='2011'!B30 -> 409605.21 | K30: ='2012'!B30 -> 520845.26 | M30: =SUM(B30:L30) -> 8767230.3
A31: Public Contributions and Donations | B31: ='2003'!B31 -> 596 | C31: ='2004'!B31 -> 27189 | D31: ='2005'!B31 -> 51570 | E31: ='2006'!B31 -> 4971 | F31: ='2007'!B31 -> 37692 | G31: ='2008'!B31 -> 55223 | H31: ='2009'!B31 -> 4971 | I31: ='2010'!B31 -> 33539 | J31: ='2011'!B31 -> 47550 | K31: ='2012'!B31 -> 51223 | M31: =SUM(B31:L31) -> 314524
A32: Grants and subsidies | B32: ='2003'!B32 -> 1073097 | C32: ='2004'!B32 -> 1063371 | D32: ='2005'!B32 -> 1977245 | E32: ='2006'!B32 -> 2482700 | F32: ='2007'!B32 -> 3337608 | G32: ='2008'!B32 -> 4694947 | H32: ='2009'!B32 -> 4705821 | I32: ='2010'!B32 -> 5608282.1 | J32: ='2011'!B32 -> 4459568.2 | K32: ='2012'!B32 -> 4930323.7 | M32: =SUM(B32:L32) -> 34332963
A33: Other | B33: ='2003'!B33 -> 1146038 | C33: ='2004'!B33 -> 1461425 | D33: ='2005'!B33 -> 862695 | E33: ='2006'!B33 -> 809978 | F33: ='2007'!B33 -> 2144643.8 | G33: ='2008'!B33 -> 2759938.3 | H33: ='2009'!B33 -> 3633022.7 | I33: ='2010'!B33 -> 3466533 | J33: ='2011'!B33 -> 3440877.3 | K33: ='2012'!B33 -> 3059606.9 | M33: =SUM(B33:L33) -> 22784758
A35: Capital Expenditure | B35: =SUM(B36:B40) -> 2646078 | C35: =SUM(C36:C40) -> 3116337.2 | D35: =SUM(D36:D40) -> 4428394 | E35: =SUM(E36:E40) -> 4394943 | F35: =SUM(F36:F40) -> 6751656.4 | G35: =SUM(G36:G40) -> 8687795 | H35: =SUM(H36:H40) -> 9614262.7 | I35: =SUM(I36:I40) -> 10123966 | ... K35: =SUM(K36:K40) -> 8901803.6 | M35: =SUM(B35:L35) -> 67572195
A36: Water and Sanitation | B36: ='2003'!B36 -> 708241 | C36: ='2004'!B36 -> 667494.04 | D36: ='2005'!B36 -> 1410417 | E36: ='2006'!B36 -> 1417137 | F36: ='2007'!B36 -> 1874209 | G36: ='2008'!B36 -> 2774075 | H36: ='2009'!B36 -> 3280885 | I36: ='2010'!B36 -> 3317850.1 | J36: ='2011'!B36 -> 3237446.6 | K36: ='2012'!B36 -> 3260481.2 | M36: =SUM(B36:L36) -> 21948236
A37: Electricity | B37: ='2003'!B37 -> 267093 | C37: ='2004'!B37 -> 316543.92 | D37: ='2005'!B37 -> 405381 | E37: ='2006'!B37 -> 488691 | F37: ='2007'!B37 -> 591917 | G37: ='2008'!B37 -> 724199 | H37: ='2009'!B37 -> 788966.83 | I37: ='2010'!B37 -> 1191368 | J37: ='2011'!B37 -> 1170936 | K37: ='2012'!B37 -> 1065157 | M37: =SUM(B37:L37) -> 7010252.8
A38: Housing | B38: ='2003'!B38 -> 34403 | C38: ='2004'!B38 -> 38645.267 | D38: ='2005'!B38 -> 36793 | E38: ='2006'!B38 -> 137696 | F38: ='2007'!B38 -> 860523 | G38: ='2008'!B38 -> 330344 | H38: ='2009'!B38 -> 182466 | I38: ='2010'!B38 -> 1482290.1 | J38: ='2011'!B38 -> 1470732.6 | K38: ='2012'!B38 -> 1597647 | M38: =SUM(B38:L38) -> 6171540
A39: Roads and storm water | B39: ='2003'!B39 -> 85893 | C39: ='2004'!B39 -> 93730 | D39: ='2005'!B39 -> 464819 | E39: ='2006'!B39 -> 618670 | F39: ='2007'!B39 -> 903408 | G39: ='2008'!B39 -> 1288564 | H39: ='2009'!B39 -> 2037691 | I39: ='2010'!B39 -> 1682586.7 | J39: ='2011'!B39 -> 1303903.1 | K39: ='2012'!B39 -> 1355677.4 | M39: =SUM(B39:L39) -> 9834942.2
A40: Other | B40: ='2003'!B40 -> 1550448 | C40: ='2004'!B40 -> 1999924 | D40: ='2005'!B40 -> 2110984 | E40: ='2006'!B40 -> 1732749 | F40: ='2007'!B40 -> 2521599.4 | G40: ='2008'!B40 -> 3570613 | H40: ='2009'!B40 -> 3324253.9 | I40: ='2010'!B40 -> 2449871.3 | J40: ='2011'!B40 -> 1723940.1 | K40: ='2012'!B40 -> 1622841.1 | M40: =SUM(B40:L40) -> 22607224
A42: Capital and Operating Expenditure | B42: =SUM(B43:B44) -> 15765052 | C42: =SUM(C43:C44) -> 18191572 | D42: =SUM(D43:D44) -> 20726252 | E42: =SUM(E43:E44) -> 23334414 | F42: =SUM(F43:F44) -> 26654381 | G42: =SUM(G43:G44) -> 34225533 | H42: =SUM(H43:H44) -> 40303687 | I42: =SUM(I43:I44) -> 43923940 | ... K42: =SUM(K43:K44) -> 50487744
A43: Operating Expenditure | B43: ='2003'!B43 -> 13118974 | C43: ='2004'!B43 -> 15075235 | D43: ='2005'!B43 -> 16297858 | E43: ='2006'!B43 -> 18939471 | F43: ='2007'!B43 -> 19902725 | G43: ='2008'!B43 -> 25537738 | H43: ='2009'!B43 -> 30689425 | I43: ='2010'!B43 -> 33799974 | J43: ='2011'!B43 -> 37164710 | K43: ='2012'!B43 -> 41585941 | M43: =SUM(B43:L43) -> 2.5211205e+08
A44: Capital Expenditure | B44: ='2003'!B44 -> 2646078 | C44: ='2004'!B44 -> 3116337.2 | D44: ='2005'!B44 -> 4428394 | E44: ='2006'!B44 -> 4394943 | F44: ='2007'!B44 -> 6751656.4 | G44: ='2008'!B44 -> 8687795 | H44: ='2009'!B44 -> 9614262.7 | I44: ='2010'!B44 -> 10123966 | J44: ='2011'!B44 -> 8906958.5 | K44: ='2012'!B44 -> 8901803.6 | M44: =SUM(B44:L44) -> 67572195
A46: Total | B46: =SUM(B43:B44) -> 15765052 | C46: =SUM(C43:C44) -> 18191572 | D46: =SUM(D43:D44) -> 20726252 | E46: =SUM(E43:E44) -> 23334414 | F46: =SUM(F43:F44) -> 26654381 | G46: =SUM(G43:G44) -> 34225533 | H46: =SUM(H43:H44) -> 40303687 | I46: =SUM(I43:I44) -> 43923940 | ... K46: =SUM(K43:K44) -> 50487744 | M46: =SUM(B46:L46) -> 3.1968424e+08
A47: Notes:
...

Sheet KZN Structure
A1: SUMMARY – KWAZULU-NATAL, 2003/04 – 2012/13 | B1: Each Catogory Item as a percentage of Catogory Total
B3: 2003/04. | C3: 2004/05. | D3: 2005/06. | E3: 2006/07 | F3: 2007/08 | G3: 2008/09 | H3: 2009/10 | I3: 2010/11 | J3: 2011/12 | K3: 2012/13 | M3: Average Structure | N3: Range | O3: Trend
A4: R thousands | B4: Outcome | C4: Outcome | D4: Outcome | E4: Outcome | F4: Outcome | G4: Outcome | H4: Outcome | I4: Medium-term estimates
A6: Operating Revenue and Expenditure
A7: Operating Revenue | B7: =KZN!B7 -> 13462781 | C7: =KZN!C7 -> 15652853 | D7: =KZN!D7 -> 17865624 | E7: =KZN!E7 -> 20511458 | F7: =KZN!F7 -> 24531931 | G7: =KZN!G7 -> 28404557 | H7: =KZN!K7 -> 45534197 | I7: =KZN!I7 -> 36822413 | J7: =KZN!J7 -> 40393354 | K7: =KZN!K7 -> 45534197 | M7: 100 | N7: =MAX(B7:K7)-MIN(B7:K7) -> 32071416 | O7: =K7-B7 -> 32071416
A8: Property rates | B8: =KZN!B8/KZN!B7*100 -> 23.779062 | C8: =KZN!C8/KZN!C7*100 -> 25.523909 | D8: =KZN!D8/KZN!D7*100 -> 23.981407 | E8: =KZN!E8/KZN!E7*100 -> 23.015653 | F8: =KZN!F8/KZN!F7*100 -> 21.344692 | G8: =KZN!G8/KZN!G7*100 -> 19.37342 | H8: =KZN!H8/KZN!H7*100 -> 18.189323 | I8: =KZN!I8/KZN!I7*100 -> 16.905352 | ... K8: =KZN!K8/KZN!K7*100 -> 15.689215 | M8: =AVERAGE(B8:K8) -> 20.425397 | N8: =MAX(B8:K8)-MIN(B8:K8) -> 9.8346941 | O8: =K8-B8 -> -8.0898466
A9: Service charges | B9: =KZN!B9/KZN!B7*100 -> 44.642426 | C9: =KZN!C9/KZN!C7*100 -> 41.902227 | D9: =KZN!D9/KZN!D7*100 -> 41.156239 | E9: =KZN!E9/KZN!E7*100 -> 38.090096 | F9: =KZN!F9/KZN!F7*100 -> 34.219239 | G9: =KZN!G9/KZN!G7*100 -> 34.487322 | H9: =KZN!H9/KZN!H7*100 -> 36.586599 | I9: =KZN!I9/KZN!I7*100 -> 41.308871 | ... K9: =KZN!K9/KZN!K7*100 -> 46.79574 | M9: =AVERAGE(B9:K9) -> 40.392766 | N9: =MAX(B9:K9)-MIN(B9:K9) -> 12.576501 | O9: =K9-B9 -> 2.1533139
A10: Regional Service Levies | B10: =KZN!B10/KZN!B7*100 -> 1.9647352 | C10: =KZN!C10/KZN!C7*100 -> 5.0960486 | D10: =KZN!D10/KZN!D7*100 -> 4.8433125 | E10: =KZN!E10/KZN!E7*100 -> 0.18098177 | F10: =KZN!F10/KZN!F7*100 -> 0.039601448 | G10: =KZN!G10/KZN!G7*100 -> 0.002330612 | M10: =AVERAGE(B10:K10) -> 2.0211684 | N10: =MAX(B10:K10)-MIN(B10:K10) -> 5.093718 | O10: =K10-B10 -> -1.9647352
A11: Investment revenue | B11: =KZN!B11/KZN!B7*100 -> 4.5944148 | C11: =KZN!C11/KZN!C7*100 -> 2.1036421 | D11: =KZN!D11/KZN!D7*100 -> 3.0402968 | E11: =KZN!E11/KZN!E7*100 -> 2.260049 | F11: =KZN!F11/KZN!F7*100 -> 2.8635496 | G11: =KZN!G11/KZN!G7*100 -> 3.1819191 | H11: =KZN!H11/KZN!H7*100 -> 1.3374884 | M11: =AVERAGE(B11:K11) -> 2.7687657 | N11: =MAX(B11:K11)-MIN(B11:K11) -> 3.2569264 | O11: =K11-B11 -> -4.5944148
A12: Government grants | B12: =KZN!B12/KZN!B7*100 -> 13.535079 | C12: =KZN!C12/KZN!C7*100 -> 16.773466 | D12: =KZN!D12/KZN!D7*100 -> 19.671029 | E12: =KZN!E12/KZN!E7*100 -> 26.062477 | F12: =KZN!F12/KZN!F7*100 -> 29.082615 | G12: =KZN!G12/KZN!G7*100 -> 31.713375 | H12: =KZN!H12/KZN!H7*100 -> 29.823147 | I12: =KZN!I12/KZN!I7*100 -> 25.389333 | ... K12: =KZN!K12/KZN!K7*100 -> 20.50731 | M12: =AVERAGE(B12:K12) -> 23.470167 | N12: =MAX(B12:K12)-MIN(B12:K12) -> 18.178296 | O12: =K12-B12 -> 6.9722314
A13: Public contributions and donations | B13: =KZN!B13/KZN!B7*100 -> 0.001626707 | C13: =KZN!C13/KZN!C7*100 -> 0.067987606 | D13: =KZN!D13/KZN!D7*100 -> 0.089456713 | E13: =KZN!E13/KZN!E7*100 -> 0.074992231 | F13: =KZN!F13/KZN!F7*100 -> 3.2532743 | G13: =KZN!G13/KZN!G7*100 -> 0.068622793 | H13: =KZN!H13/KZN!H7*100 -> 0.10979726 | M13: =AVERAGE(B13:K13) -> 0.52367966 | N13: =MAX(B13:K13)-MIN(B13:K13) -> 3.2516476 | O13: =K13-B13 -> -0.001626707
A14: Other own revenue | B14: =KZN!B14/KZN!B7*100 -> 11.482657 | C14: =KZN!C14/KZN!C7*100 -> 8.5327192 | D14: =KZN!D14/KZN!D7*100 -> 7.2182589 | E14: =KZN!E14/KZN!E7*100 -> 10.315751 | F14: =KZN!F14/KZN!F7*100 -> 9.1970298 | G14: =KZN!G14/KZN!G7*100 -> 11.173011 | H14: =KZN!H14/KZN!H7*100 -> 13.953646 | I14: =KZN!I14/KZN!I7*100 -> 16.396444 | ... K14: =KZN!K14/KZN!K7*100 -> 17.007735 | M14: =AVERAGE(B14:K14) -> 12.194257 | N14: =MAX(B14:K14)-MIN(B14:K14) -> 9.7894763 | O14: =K14-B14 -> 5.525078
A16: Operating Expenditure | B16: =KZN!B16 -> 13118974 | C16: =KZN!C16 -> 15075235 | D16: =KZN!D16 -> 16297858 | E16: =KZN!E16 -> 18939471 | F16: =KZN!F16 -> 19902725 | G16: =KZN!G16 -> 25537738 | H16: =KZN!K16 -> 41585941 | I16: =KZN!J16 -> 37164710 | J16: =KZN!K16 -> 41585941 | K16: =KZN!K16 -> 41585941 | M16: 100 | N16: =MAX(B16:K16)-MIN(B16:K16) -> 28466967 | O16: =K16-B16 -> 28466967
A17: Employee costs | B17: =KZN!B17/KZN!B16*100 -> 30.659021 | C17: =KZN!C17/KZN!C16*100 -> 28.866562 | D17: =KZN!D17/KZN!D16*100 -> 26.776666 | E17: =KZN!E17/KZN!E16*100 -> 28.05506 | F17: =KZN!F17/KZN!F16*100 -> 28.239023 | G17: =KZN!G17/KZN!G16*100 -> 27.116686 | H17: =KZN!H17/KZN!H16*100 -> 25.534895 | I17: =KZN!I17/KZN!I16*100 -> 26.386796 | ... K17: =KZN!K17/KZN!K16*100 -> 24.803542 | M17: =AVERAGE(B17:K17) -> 27.195321 | N17: =MAX(B17:K17)-MIN(B17:K17) -> 5.8554787 | O17: =K17-B17 -> -5.8554787
A18: Remuneration of Councillors | B18: =KZN!B18/KZN!B16*100 -> 0.95281079 | C18: =KZN!C18/KZN!C16*100 -> 0.95617083 | D18: =KZN!D18/KZN!D16*100 -> 1.083805 | E18: =KZN!E18/KZN!E16*100 -> 1.6253939 | F18: =KZN!F18/KZN!F16*100 -> 1.6191501 | G18: =KZN!G18/KZN!G16*100 -> 1.4474265 | H18: =KZN!H18/KZN!H16*100 -> 1.2638719 | M18: =AVERAGE(B18:K18) -> 1.2783756 | N18: =MAX(B18:K18)-MIN(B18:K18) -> 0.67258308 | O18: =K18-B18 -> -0.95281079
A19: Repairs and maintenance | B19: =KZN!B19/KZN!B16*100 -> 8.5737116 | C19: =KZN!C19/KZN!C16*100 -> 7.1043735 | D19: =KZN!D19/KZN!D16*100 -> 7.3315463 | E19: =KZN!E19/KZN!E16*100 -> 6.5691645 | F19: =KZN!F19/KZN!F16*100 -> 8.0276796 | G19: =KZN!G19/KZN!G16*100 -> 8.0354728 | H19: =KZN!H19/KZN!H16*100 -> 8.1583413 | M19: =AVERAGE(B19:K19) -> 7.6857557 | N19: =MAX(B19:K19)-MIN(B19:K19) -> 2.0045472 | O19: =K19-B19 -> -8.5737116
A20: Depreciation and amortisation | B20: =KZN!B20/KZN!B16*100 -> 1.6281227 | C20: =KZN!C20/KZN!C16*100 -> 4.6552375 | D20: =KZN!D20/KZN!D16*100 -> 7.7636705 | E20: =KZN!E20/KZN!E16*100 -> 7.8741323 | F20: =KZN!F20/KZN!F16*100 -> 6.3064329 | G20: =KZN!G20/KZN!G16*100 -> 7.4509105 | H20: =KZN!H20/KZN!H16*100 -> 8.0242104 | M20: =AVERAGE(B20:K20) -> 6.2432453 | N20: =MAX(B20:K20)-MIN(B20:K20) -> 6.3960877 | O20: =K20-B20 -> -1.6281227
A21: Finance charges | B21: =KZN!B21/KZN!B16*100 -> 10.801073 | C21: =KZN!C21/KZN!C16*100 -> 6.5529924 | D21: =KZN!D21/KZN!D16*100 -> 4.6808851 | E21: =KZN!E21/KZN!E16*100 -> 4.1087631 | F21: =KZN!F21/KZN!F16*100 -> 4.0008943 | G21: =KZN!G21/KZN!G16*100 -> 3.5463086 | H21: =KZN!H21/KZN!H16*100 -> 2.3742446 | I21: =KZN!I21/KZN!I16*100 -> 3.5119817 | ... K21: =KZN!K21/KZN!K16*100 -> 3.2587886 | M21: =AVERAGE(B21:K21) -> 4.6300884 | N21: =MAX(B21:K21)-MIN(B21:K21) -> 8.4268287 | O21: =K21-B21 -> -7.5422847
A22: Materials and bulk purchases | B22: =KZN!B22/KZN!B16*100 -> 26.148813 | C22: =KZN!C22/KZN!C16*100 -> 22.897587 | D22: =KZN!D22/KZN!D16*100 -> 23.389663 | E22: =KZN!E22/KZN!E16*100 -> 22.471478 | F22: =KZN!F22/KZN!F16*100 -> 21.425966 | G22: =KZN!G22/KZN!G16*100 -> 21.521099 | H22: =KZN!H22/KZN!H16*100 -> 22.648945 | I22: =KZN!I22/KZN!I16*100 -> 25.105839 | ... K22: =KZN!K22/KZN!K16*100 -> 31.602114 | M22: =AVERAGE(B22:K22) -> 24.569634 | N22: =MAX(B22:K22)-MIN(B22:K22) -> 10.176149 | O22: =K22-B22 -> 5.453301
A23: Grants and subsidies | B23: =KZN!B23/KZN!B16*100 -> 1.4649316 | C23: =KZN!C23/KZN!C16*100 -> 3.3358485 | D23: =KZN!D23/KZN!D16*100 -> 1.8022368 | E23: =KZN!E23/KZN!E16*100 -> 1.3253432 | F23: =KZN!F23/KZN!F16*100 -> 1.7413746 | G23: =KZN!G23/KZN!G16*100 -> 2.1172275 | H23: =KZN!H23/KZN!H16*100 -> 2.4565368 | M23: =AVERAGE(B23:K23) -> 2.0347856 | N23: =MAX(B23:K23)-MIN(B23:K23) -> 2.0105052 | O23: =K23-B23 -> -1.4649316
A24: Other expenditure | B24: =KZN!B24/KZN!B16*100 -> 19.771516 | C24: =KZN!C24/KZN!C16*100 -> 25.631229 | D24: =KZN!D24/KZN!D16*100 -> 27.171528 | E24: =KZN!E24/KZN!E16*100 -> 27.970665 | F24: =KZN!F24/KZN!F16*100 -> 28.63948 | G24: =KZN!G24/KZN!G16*100 -> 28.764868 | H24: =KZN!H24/KZN!H16*100 -> 29.538954 | I24: =KZN!I24/KZN!I16*100 -> 44.995383 | ... K24: =KZN!K24/KZN!K16*100 -> 40.335555 | M24: =AVERAGE(B24:K24) -> 31.535444 | N24: =MAX(B24:K24)-MIN(B24:K24) -> 25.223867 | O24: =K24-B24 -> 20.564039
A26: Surplus/(Deficit) as a % of Revenue | B26: =(B7-B16)/B7*100 -> 2.5537591 | C26: =(C7-C16)/C7*100 -> 3.6901771 | D26: =(D7-D16)/D7*100 -> 8.7753218 | E26: =(E7-E16)/E7*100 -> 7.6639457 | F26: =(F7-F16)/F7*100 -> 18.870125 | G26: =(G7-G16)/G7*100 -> 10.092812 | H26: =(H7-H16)/H7*100 -> 8.6709691 | I26: =(I7-I16)/I7*100 -> -0.92958772 | ... K26: =(K7-K16)/K7*100 -> 8.6709691
A28: Capital Revenue and Expenditure
A29: Source of Finance | B29: =KZN!B29 -> 2646078 | C29: =KZN!C29 -> 3116337 | D29: =KZN!D29 -> 4428394 | E29: =KZN!E29 -> 4394927 | F29: =KZN!F29 -> 6712980.8 | G29: =KZN!G29 -> 8663850.3 | H29: =KZN!K29 -> 8561998.9 | I29: =KZN!I29 -> 9705679 | J29: =KZN!M29 -> 66199475 | K29: =KZN!K29 -> 8561998.9 | M29: 100 | N29: =MAX(B29:H29)-MIN(B29:H29) -> 6017772.3 | O29: =K29-B29 -> 5915920.9
A30: External Loans | B30: =KZN!B30/KZN!B29*100 -> 16.112412 | C30: =KZN!C30/KZN!C29*100 -> 18.109466 | D30: =KZN!D30/KZN!D29*100 -> 34.705223 | E30: =KZN!E30/KZN!E29*100 -> 24.966922 | F30: =KZN!F30/KZN!F29*100 -> 17.77209 | G30: =KZN!G30/KZN!G29*100 -> 13.316735 | H30: =KZN!H30/KZN!H29*100 -> 13.190427 | I30: =KZN!I30/KZN!I29*100 -> 6.1543849 | ... K30: =KZN!K30/KZN!K29*100 -> 6.0832203 | M30: =AVERAGE(B30:K30) -> 15.531187 | N30: =MAX(B30:K30)-MIN(B30:K30) -> 29.804232 | O30: =K30-B30 -> -10.029192
A31: Public Contributions and Donations | B31: =KZN!B31/KZN!B29*100 -> 0.022523901 | D31: =KZN!D31/KZN!D29*100 -> 1.1645305 | E31: =KZN!E31/KZN!E29*100 -> 0.11310768 | F31: =KZN!F31/KZN!F29*100 -> 0.56147934 | G31: =KZN!G31/KZN!G29*100 -> 0.63739559 | H31: =KZN!H31/KZN!H29*100 -> 0.051718597 | I31: =KZN!I31/KZN!I29*100 -> 0.34556057 | J31: =KZN!J31/KZN!J29*100 -> 0.56894319 | K31: =KZN!K31/KZN!K29*100 -> 0.59825983 | M31: =AVERAGE(B31:K31) -> 0.45150214 | N31: =MAX(B31:K31)-MIN(B31:K31) -> 1.1420066 | O31: =K31-B31 -> 0.57573593
A32: Grants and subsidies | B32: =KZN!B32/KZN!B29*100 -> 40.554247 | C32: =KZN!C32/KZN!C29*100 -> 34.122465 | D32: =KZN!D32/KZN!D29*100 -> 44.649257 | E32: =KZN!E32/KZN!E29*100 -> 56.490131 | F32: =KZN!F32/KZN!F29*100 -> 49.718718 | G32: =KZN!G32/KZN!G29*100 -> 54.190075 | H32: =KZN!H32/KZN!H29*100 -> 48.959658 | I32: =KZN!I32/KZN!I29*100 -> 57.783512 | ... K32: =KZN!K32/KZN!K29*100 -> 57.583793 | M32: =AVERAGE(B32:K32) -> 49.741129 | N32: =MAX(B32:K32)-MIN(B32:K32) -> 23.661047 | O32: =K32-B32 -> 17.029546
A33: Other | B33: =KZN!B33/KZN!B29*100 -> 43.310817 | C33: =KZN!C33/KZN!C29*100 -> 46.895602 | D33: =KZN!D33/KZN!D29*100 -> 19.48099 | E33: =KZN!E33/KZN!E29*100 -> 18.42984 | F33: =KZN!F33/KZN!F29*100 -> 31.947712 | G33: =KZN!G33/KZN!G29*100 -> 31.855794 | H33: =KZN!H33/KZN!H29*100 -> 37.798197 | I33: =KZN!I33/KZN!I29*100 -> 35.716543 | ... K33: =KZN!K33/KZN!K29*100 -> 35.734727 | M33: =AVERAGE(B33:K33) -> 34.234086 | N33: =MAX(B33:K33)-MIN(B33:K33) -> 28.465762 | O33: =K33-B33 -> -7.5760899
A35: Capital Expenditure | B35: =KZN!B35 -> 2646078 | C35: =KZN!C35 -> 3116337.2 | D35: =KZN!D35 -> 4428394 | E35: =KZN!E35 -> 4394943 | F35: =KZN!F35 -> 6751656.4 | G35: =KZN!G35 -> 8687795 | H35: =KZN!K35 -> 8901803.6 | I35: =KZN!I35 -> 10123966 | J35: =KZN!M35 -> 67572195 | K35: =KZN!K35 -> 8901803.6 | M35: 100 | N35: =MAX(B35:K35)-MIN(B35:K35) -> 64926117 | O35: =K35-B35 -> 6255725.6
A36: Water and Sanitation | B36: =KZN!B36/KZN!B35*100 -> 26.765689 | C36: =KZN!C36/KZN!C35*100 -> 21.419185 | D36: =KZN!D36/KZN!D35*100 -> 31.849402 | E36: =KZN!E36/KZN!E35*100 -> 32.244719 | F36: =KZN!F36/KZN!F35*100 -> 27.759247 | G36: =KZN!G36/KZN!G35*100 -> 31.930714 | H36: =KZN!H36/KZN!H35*100 -> 34.125186 | I36: =KZN!I36/KZN!I35*100 -> 32.772236 | ... K36: =KZN!K36/KZN!K35*100 -> 36.627197 | M36: =AVERAGE(B36:K36) -> 31.184096 | N36: =MAX(B36:K36)-MIN(B36:K36) -> 15.208012 | O36: =K36-B36 -> 9.8615085
A37: Electricity | B37: =KZN!B37/KZN!B35*100 -> 10.09392 | C37: =KZN!C37/KZN!C35*100 -> 10.157563 | D37: =KZN!D37/KZN!D35*100 -> 9.1541313 | E37: =KZN!E37/KZN!E35*100 -> 11.119393 | F37: =KZN!F37/KZN!F35*100 -> 8.7669894 | G37: =KZN!G37/KZN!G35*100 -> 8.3358205 | H37: =KZN!H37/KZN!H35*100 -> 8.2062125 | I37: =KZN!I37/KZN!I35*100 -> 11.767799 | ... K37: =KZN!K37/KZN!K35*100 -> 11.965631 | M37: =AVERAGE(B37:K37) -> 10.271377 | N37: =MAX(B37:K37)-MIN(B37:K37) -> 4.9400933 | O37: =K37-B37 -> 1.8717112
A38: Housing | B38: =KZN!B38/KZN!B35*100 -> 1.3001506 | D38: =KZN!D38/KZN!D35*100 -> 0.83084296 | E38: =KZN!E38/KZN!E35*100 -> 3.1330554 | F38: =KZN!F38/KZN!F35*100 -> 12.745361 | G38: =KZN!G38/KZN!G35*100 -> 3.8023917 | H38: =KZN!H38/KZN!H35*100 -> 1.8978678 | I38: =KZN!I38/KZN!I35*100 -> 14.641397 | J38: =KZN!J38/KZN!J35*100 -> 16.512176 | K38: =KZN!K38/KZN!K35*100 -> 17.947453 | M38: =AVERAGE(B38:K38) -> 8.0900773 | N38: =MAX(B38:K38)-MIN(B38:K38) -> 17.11661 | O38: =K38-B38 -> 16.647302
A39: Roads and storm water | B39: =KZN!B39/KZN!B35*100 -> 3.2460494 | D39: =KZN!D39/KZN!D35*100 -> 10.496333 | E39: =KZN!E39/KZN!E35*100 -> 14.076861 | F39: =KZN!F39/KZN!F35*100 -> 13.380539 | G39: =KZN!G39/KZN!G35*100 -> 14.831888 | H39: =KZN!H39/KZN!H35*100 -> 21.194459 | I39: =KZN!I39/KZN!I35*100 -> 16.619838 | J39: =KZN!J39/KZN!J35*100 -> 14.639151 | K39: =KZN!K39/KZN!K35*100 -> 15.229244 | M39: =AVERAGE(B39:K39) -> 13.74604 | N39: =MAX(B39:K39)-MIN(B39:K39) -> 17.94841 | O39: =K39-B39 -> 11.983194
A40: Other | B40: =KZN!B40/KZN!B35*100 -> 58.594191 | C40: =KZN!C40/KZN!C35*100 -> 64.175468 | D40: =KZN!D40/KZN!D35*100 -> 47.66929 | E40: =KZN!E40/KZN!E35*100 -> 39.425972 | F40: =KZN!F40/KZN!F35*100 -> 37.347863 | G40: =KZN!G40/KZN!G35*100 -> 41.099186 | H40: =KZN!H40/KZN!H35*100 -> 34.576275 | I40: =KZN!I40/KZN!I35*100 -> 24.19873 | ... K40: =KZN!K40/KZN!K35*100 -> 18.230475 | M40: =AVERAGE(B40:K40) -> 38.467243 | N40: =MAX(B40:K40)-MIN(B40:K40) -> 45.944993 | O40: =K40-B40 -> -40.363716
A42: Capital and Operating Expenditure
A43: Operating Expenditure | B43: =KZN!B43/KZN!B46*100 -> 83.215545 | C43: =KZN!C43/KZN!C46*100 -> 82.869335 | D43: =KZN!D43/KZN!D46*100 -> 78.633889 | E43: =KZN!E43/KZN!E46*100 -> 81.165402 | F43: =KZN!F43/KZN!F46*100 -> 74.669619 | G43: =KZN!G43/KZN!G46*100 -> 74.616042 | H43: =KZN!H43/KZN!H46*100 -> 76.145451 | I43: =KZN!I43/KZN!I46*100 -> 76.951143 | ... K43: =KZN!K43/KZN!K46*100 -> 82.368387 | M43: =AVERAGE(B43:K43) -> 79.130198 | N43: =MAX(B43:K43)-MIN(B43:K43) -> 8.5995036 | O43: =K43-B43 -> -0.84715819
A44: Capital Expenditure | B44: =KZN!B44/KZN!B46*100 -> 16.784455 | C44: =KZN!C44/KZN!C46*100 -> 17.130665 | D44: =KZN!D44/KZN!D46*100 -> 21.366111 | E44: =KZN!E44/KZN!E46*100 -> 18.834598 | F44: =KZN!F44/KZN!F46*100 -> 25.330381 | G44: =KZN!G44/KZN!G46*100 -> 25.383958 | H44: =KZN!H44/KZN!H46*100 -> 23.854549 | I44: =KZN!I44/KZN!I46*100 -> 23.048857 | ... K44: =KZN!K44/KZN!K46*100 -> 17.631613 | M44: =AVERAGE(B44:K44) -> 20.869802 | N44: =MAX(B44:K44)-MIN(B44:K44) -> 8.5995036 | O44: =K44-B44 -> 0.84715819
A46: Total | B46: =KZN!B46 -> 15765052 | C46: =KZN!C46 -> 18191572 | D46: =KZN!D46 -> 20726252 | E46: =KZN!E46 -> 23334414 | F46: =KZN!F46 -> 26654381 | G46: =KZN!G46 -> 34225533 | H46: =KZN!K46 -> 50487744 | I46: =KZN!I46 -> 43923940 | J46: =KZN!J46 -> 46071668 | K46: =KZN!K46 -> 50487744 | M46: 100 | N46: =MAX(B46:K46)-MIN(B46:K46) -> 34722692 | O46: =K46-B46 -> 34722692

Sheet KZN Growth
A1: SUMMARY – KWAZULU-NATAL, 2003/04 – 2012/13 | B1: Year-on-Year Growth Rate
B3: 2004/05. | C3: 2005/06. | D3: 2006/07 | E3: 2007/08 | F3: 2008/09 | G3: 2009/10 | H3: 2010/11 | I3: 2011/12 | J3: 2012/13 | L3: Average Growth | M3: Range | N3: Trend
A4: R thousands | B4: Outcome | C4: Outcome | D4: Outcome | E4: Outcome | F4: Outcome | G4: Outcome | H4: Medium-Term Estimates
A6: Operating Revenue and Expenditure
A7: Operating Revenue | B7: =(KZN!C7-KZN!B7)/KZN!B7*100 -> 16.267605 | C7: =(KZN!D7-KZN!C7)/KZN!C7*100 -> 14.136535 | D7: =(KZN!E7-KZN!D7)/KZN!D7*100 -> 14.809637 | E7: =(KZN!F7-KZN!E7)/KZN!E7*100 -> 19.601108 | F7: =(KZN!G7-KZN!F7)/KZN!F7*100 -> 15.786061 | G7: =(KZN!H7-KZN!G7)/KZN!G7*100 -> 16.072421 | H7: =(KZN!I7-KZN!H7)/KZN!H7*100 -> 11.685087 | I7: =(KZN!J7-KZN!I7)/KZN!I7*100 -> 9.6977388 | J7: =(KZN!K7-KZN!J7)/KZN!J7*100 -> 12.726951 | L7: =AVERAGE(B7:J7) -> 14.53146 | M7: =MAX(B7:J7)-MIN(B7:G7) -> 5.4645731 | N7: =J7-B7 -> -3.5406536
A8: Property rates | B8: =(KZN!C8-KZN!B8)/KZN!B8*100 -> 24.799028 | C8: =(KZN!D8-KZN!C8)/KZN!C8*100 -> 7.2388504 | D8: =(KZN!E8-KZN!D8)/KZN!D8*100 -> 10.186144 | E8: =(KZN!F8-KZN!E8)/KZN!E8*100 -> 10.917937 | F8: =(KZN!G8-KZN!F8)/KZN!F8*100 -> 5.0927331 | G8: =(KZN!H8-KZN!G8)/KZN!G8*100 -> 8.9781129 | H8: =(KZN!I8-KZN!H8)/KZN!H8*100 -> 3.8013215 | I8: =(KZN!J8-KZN!I8)/KZN!I8*100 -> 6.7555483 | J8: =(KZN!K8-KZN!J8)/KZN!J8*100 -> 7.5008685 | L8: =AVERAGE(B8:J8) -> 9.4745049 | M8: =MAX(B8:J8)-MIN(B8:G8) -> 19.706295 | N8: =J8-B8 -> -17.29816
A9: Service charges | B9: =(KZN!C9-KZN!B9)/KZN!B9*100 -> 9.1309779 | C9: =(KZN!D9-KZN!C9)/KZN!C9*100 -> 12.104556 | D9: =(KZN!E9-KZN!D9)/KZN!D9*100 -> 6.256308 | E9: =(KZN!F9-KZN!E9)/KZN!E9*100 -> 7.4467984 | F9: =(KZN!G9-KZN!F9)/KZN!F9*100 -> 16.693164 | G9: =(KZN!H9-KZN!G9)/KZN!G9*100 -> 23.137859 | H9: =(KZN!I9-KZN!H9)/KZN!H9*100 -> 26.100404 | I9: =(KZN!J9-KZN!I9)/KZN!I9*100 -> 18.806366 | J9: =(KZN!K9-KZN!J9)/KZN!J9*100 -> 17.909477 | L9: =AVERAGE(B9:J9) -> 15.287323 | M9: =MAX(B9:J9)-MIN(B9:G9) -> 19.844096 | N9: =J9-B9 -> 8.7784995
A10: Regional Service Levies | B10: =(KZN!C10-KZN!B10)/KZN!B10*100 -> 201.57008 | C10: =(KZN!D10-KZN!C10)/KZN!C10*100 -> 8.4759871 | D10: =(KZN!E10-KZN!D10)/KZN!D10*100 -> -95.709868 | E10: =(KZN!F10-KZN!E10)/KZN!E10*100 -> -73.829535 | F10: =(KZN!G10-KZN!F10)/KZN!F10*100 -> -93.185795 | G10: =(KZN!H10-KZN!G10)/KZN!G10*100 -> -100 | L10: =AVERAGE(B10:J10) -> -25.446521 | M10: =MAX(B10:J10)-MIN(B10:G10) -> 301.57008 | N10: =J10-B10 -> -201.57008
A11: Investment revenue | B11: =(KZN!C11-KZN!B11)/KZN!B11*100 -> -46.764618 | C11: =(KZN!D11-KZN!C11)/KZN!C11*100 -> 64.956268 | D11: =(KZN!E11-KZN!D11)/KZN!D11*100 -> -14.654582 | E11: =(KZN!F11-KZN!E11)/KZN!E11*100 -> 51.538174 | F11: =(KZN!G11-KZN!F11)/KZN!F11*100 -> 28.659158 | G11: =(KZN!H11-KZN!G11)/KZN!G11*100 -> -51.210099 | L11: =AVERAGE(B11:J11) -> 5.4207168 | M11: =MAX(B11:J11)-MIN(B11:G11) -> 116.16637 | N11: =J11-B11 -> 46.764618
A12: Government grants | B12: =(KZN!C12-KZN!B12)/KZN!B12*100 -> 44.085659 | C12: =(KZN!D12-KZN!C12)/KZN!C12*100 -> 33.853255 | D12: =(KZN!E12-KZN!D12)/KZN!D12*100 -> 52.11322 | E12: =(KZN!F12-KZN!E12)/KZN!E12*100 -> 33.460567 | F12: =(KZN!G12-KZN!F12)/KZN!F12*100 -> 26.259855 | G12: =(KZN!H12-KZN!G12)/KZN!G12*100 -> 9.1540998 | H12: =(KZN!I12-KZN!H12)/KZN!H12*100 -> -4.9191596 | I12: =(KZN!J12-KZN!I12)/KZN!I12*100 -> -4.324822 | J12: =(KZN!K12-KZN!J12)/KZN!J12*100 -> 4.3959288 | L12: =AVERAGE(B12:J12) -> 21.564289 | M12: =MAX(B12:J12)-MIN(B12:G12) -> 42.959121 | N12: =J12-B12 -> -39.68973
A13: Public contributions and donations | B13: =(KZN!C13-KZN!B13)/KZN!B13*100 -> 4759.3607 | C13: =(KZN!D13-KZN!C13)/KZN!C13*100 -> 50.178538 | D13: =(KZN!E13-KZN!D13)/KZN!D13*100 -> -3.7542235 | E13: =(KZN!F13-KZN!E13)/KZN!E13*100 -> 5088.4735 | F13: =(KZN!G13-KZN!F13)/KZN!F13*100 -> -97.557672 | G13: =(KZN!H13-KZN!G13)/KZN!G13*100 -> 85.717217 | L13: =AVERAGE(B13:J13) -> 1647.0697 | M13: =MAX(B13:J13)-MIN(B13:G13) -> 5186.0312 | N13: =J13-B13 -> -4759.3607
A14: Other own revenue | B14: =(KZN!C14-KZN!B14)/KZN!B14*100 -> -13.601982 | C14: =(KZN!D14-KZN!C14)/KZN!C14*100 -> -3.4461304 | D14: =(KZN!E14-KZN!D14)/KZN!D14*100 -> 64.076638 | E14: =(KZN!F14-KZN!E14)/KZN!E14*100 -> 6.6306192 | F14: =(KZN!G14-KZN!F14)/KZN!F14*100 -> 40.662685 | G14: =(KZN!H14-KZN!G14)/KZN!G14*100 -> 44.959448 | H14: =(KZN!I14-KZN!H14)/KZN!H14*100 -> 31.237258 | I14: =(KZN!J14-KZN!I14)/KZN!I14*100 -> 11.496612 | J14: =(KZN!K14-KZN!J14)/KZN!J14*100 -> 15.043104 | L14: =AVERAGE(B14:J14) -> 21.895361 | M14: =MAX(B14:J14)-MIN(B14:G14) -> 77.678621 | N14: =J14-B14 -> 28.645086
A16: Operating Expenditure | B16: =(KZN!C16-KZN!B16)/KZN!B16*100 -> 14.911692 | C16: =(KZN!D16-KZN!C16)/KZN!C16*100 -> 8.1101422 | D16: =(KZN!E16-KZN!D16)/KZN!D16*100 -> 16.208345 | E16: =(KZN!F16-KZN!E16)/KZN!E16*100 -> 5.0859604 | F16: =(KZN!G16-KZN!F16)/KZN!F16*100 -> 28.312771 | G16: =(KZN!H16-KZN!G16)/KZN!G16*100 -> 20.172838 | H16: =(KZN!I16-KZN!H16)/KZN!H16*100 -> 10.135573 | I16: =(KZN!J16-KZN!I16)/KZN!I16*100 -> 9.9548476 | J16: =(KZN!K16-KZN!J16)/KZN!J16*100 -> 11.896316 | L16: =AVERAGE(B16:J16) -> 13.865387 | M16: =MAX(B16:J16)-MIN(B16:G16) -> 23.226811 | N16: =J16-B16 -> -3.0153764
A17: Employee costs | B17: =(KZN!C17-KZN!B17)/KZN!B17*100 -> 8.1934558 | C17: =(KZN!D17-KZN!C17)/KZN!C17*100 -> 0.2831306 | D17: =(KZN!E17-KZN!D17)/KZN!D17*100 -> 21.756462 | E17: =(KZN!F17-KZN!E17)/KZN!E17*100 -> 5.7750288 | F17: =(KZN!G17-KZN!F17)/KZN!F17*100 -> 23.213089 | G17: =(KZN!H17-KZN!G17)/KZN!G17*100 -> 13.162825 | H17: =(KZN!I17-KZN!H17)/KZN!H17*100 -> 13.80994 | I17: =(KZN!J17-KZN!I17)/KZN!I17*100 -> 6.3218578 | J17: =(KZN!K17-KZN!J17)/KZN!J17*100 -> 8.7763951 | L17: =AVERAGE(B17:J17) -> 11.254687 | M17: =MAX(B17:J17)-MIN(B17:G17) -> 22.929958 | N17: =J17-B17 -> 0.58293928
A18: Remuneration of Councillors | B18: =(KZN!C18-KZN!B18)/KZN!B18*100 -> 15.316923 | C18: =(KZN!D18-KZN!C18)/KZN!C18*100 -> 22.541191 | D18: =(KZN!E18-KZN!D18)/KZN!D18*100 -> 74.278888 | E18: =(KZN!F18-KZN!E18)/KZN!E18*100 -> 4.6822873 | F18: =(KZN!G18-KZN!F18)/KZN!F18*100 -> 14.704194 | G18: =(KZN!H18-KZN!G18)/KZN!G18*100 -> 4.9331782 | L18: =AVERAGE(B18:J18) -> 22.742777 | M18: =MAX(B18:J18)-MIN(B18:G18) -> 69.596601 | N18: =J18-B18 -> -15.316923
A19: Repairs and maintenance | B19: =(KZN!C19-KZN!B19)/KZN!B19*100 -> -4.7815445 | C19: =(KZN!D19-KZN!C19)/KZN!C19*100 -> 11.567123 | D19: =(KZN!E19-KZN!D19)/KZN!D19*100 -> 4.1242463 | E19: =(KZN!F19-KZN!E19)/KZN!E19*100 -> 28.417613 | F19: =(KZN!G19-KZN!F19)/KZN!F19*100 -> 28.437336 | G19: =(KZN!H19-KZN!G19)/KZN!G19*100 -> 22.010372 | L19: =AVERAGE(B19:J19) -> 14.962524 | M19: =MAX(B19:J19)-MIN(B19:G19) -> 33.218881 | N19: =J19-B19 -> 4.7815445
A20: Depreciation and amortisation | B20: =(KZN!C20-KZN!B20)/KZN!B20*100 -> 228.5632 | C20: =(KZN!D20-KZN!C20)/KZN!C20*100 -> 80.298324 | D20: =(KZN!E20-KZN!D20)/KZN!D20*100 -> 17.861761 | E20: =(KZN!F20-KZN!E20)/KZN!E20*100 -> -15.836116 | F20: =(KZN!G20-KZN!F20)/KZN!F20*100 -> 51.598691 | G20: =(KZN!H20-KZN!G20)/KZN!G20*100 -> 29.41937 | L20: =AVERAGE(B20:J20) -> 65.317539 | M20: =MAX(B20:J20)-MIN(B20:G20) -> 244.39932 | N20: =J20-B20 -> -228.5632
A21: Finance charges | B21: =(KZN!C21-KZN!B21)/KZN!B21*100 -> -30.283277 | C21: =(KZN!D21-KZN!C21)/KZN!C21*100 -> -22.775563 | D21: =(KZN!E21-KZN!D21)/KZN!D21*100 -> 2.0047609 | E21: =(KZN!F21-KZN!E21)/KZN!E21*100 -> 2.3271025 | F21: =(KZN!G21-KZN!F21)/KZN!F21*100 -> 13.733742 | G21: =(KZN!H21-KZN!G21)/KZN!G21*100 -> -19.544591 | H21: =(KZN!I21-KZN!H21)/KZN!H21*100 -> 62.912498 | I21: =(KZN!J21-KZN!I21)/KZN!I21*100 -> 8.4824173 | J21: =(KZN!K21-KZN!J21)/KZN!J21*100 -> 5.2385261 | L21: =AVERAGE(B21:J21) -> 2.4550685 | M21: =MAX(B21:J21)-MIN(B21:G21) -> 93.195774 | N21: =J21-B21 -> 35.521803
A22: Materials and bulk purchases | B22: =(KZN!C22-KZN!B22)/KZN!B22*100 -> 0.62408613 | C22: =(KZN!D22-KZN!C22)/KZN!C22*100 -> 10.433461 | D22: =(KZN!E22-KZN!D22)/KZN!D22*100 -> 11.646468 | E22: =(KZN!F22-KZN!E22)/KZN!E22*100 -> 0.1967115 | F22: =(KZN!G22-KZN!F22)/KZN!F22*100 -> 28.882496 | G22: =(KZN!H22-KZN!G22)/KZN!G22*100 -> 26.470678 | H22: =(KZN!I22-KZN!H22)/KZN!H22*100 -> 22.082771 | I22: =(KZN!J22-KZN!I22)/KZN!I22*100 -> 24.753659 | J22: =(KZN!K22-KZN!J22)/KZN!J22*100 -> 24.141865 | L22: =AVERAGE(B22:J22) -> 16.581355 | M22: =MAX(B22:J22)-MIN(B22:G22) -> 28.685784 | N22: =J22-B22 -> 23.517779
A23: Grants and subsidies | B23: =(KZN!C23-KZN!B23)/KZN!B23*100 -> 161.66955 | C23: =(KZN!D23-KZN!C23)/KZN!C23*100 -> -41.592048 | D23: =(KZN!E23-KZN!D23)/KZN!D23*100 -> -14.541784 | E23: =(KZN!F23-KZN!E23)/KZN!E23*100 -> 38.072928 | F23: =(KZN!G23-KZN!F23)/KZN!F23*100 -> 56.007398 | G23: =(KZN!H23-KZN!G23)/KZN!G23*100 -> 39.431876 | H23: =(KZN!I23-KZN!H23)/KZN!H23*100 -> -100 | L23: =AVERAGE(B23:J23) -> 19.863988 | M23: =MAX(B23:J23)-MIN(B23:G23) -> 203.26159 | N23: =J23-B23 -> -161.66955
A24: Other expenditure | B24: =(KZN!C24-KZN!B24)/KZN!B24*100 -> 48.96824 | C24: =(KZN!D24-KZN!C24)/KZN!C24*100 -> 14.606979 | D24: =(KZN!E24-KZN!D24)/KZN!D24*100 -> 19.626129 | E24: =(KZN!F24-KZN!E24)/KZN!E24*100 -> 7.5987032 | F24: =(KZN!G24-KZN!F24)/KZN!F24*100 -> 28.874544 | G24: =(KZN!H24-KZN!G24)/KZN!G24*100 -> 23.406788 | H24: =(KZN!I24-KZN!H24)/KZN!H24*100 -> 67.764649 | I24: =(KZN!J24-KZN!I24)/KZN!I24*100 -> 3.9430645 | J24: =(KZN!K24-KZN!J24)/KZN!J24*100 -> 6.109614 | L24: =AVERAGE(B24:J24) -> 24.544301 | M24: =MAX(B24:J24)-MIN(B24:G24) -> 60.165946 | N24: =J24-B24 -> -42.858626
A26: Surplus/(Deficit) | B26: =(KZN!C26-KZN!B26)/KZN!B26*100 -> 68.006469 | C26: =(KZN!D26-KZN!C26)/KZN!C26*100 -> 171.41917 | D26: =(KZN!E26-KZN!D26)/KZN!D26*100 -> 0.26923661 | E26: =(KZN!F26-KZN!E26)/KZN!E26*100 -> 194.48119 | F26: =(KZN!G26-KZN!F26)/KZN!F26*100 -> -12.167853 | G26: =(KZN!H26-KZN!G26)/KZN!G26*100 -> -100.05694 | H26: =(KZN!I26-KZN!H26)/KZN!H26*100 -> -223.36933 | I26: =(KZN!J26-KZN!I26)/KZN!I26*100 -> 304.93697 | J26: =(KZN!K26-KZN!J26)/KZN!J26*100 -> -11.050584 | L26: =AVERAGE(B26:J26) -> 43.607593 | M26: =MAX(B26:J26)-MIN(B26:G26) -> 404.99391 | N26: =J26-B26 -> -79.057052
A28: Capital Revenue and Expenditure
A29: Source of Finance | B29: =(KZN!C29-KZN!B29)/KZN!B29*100 -> 17.771925 | C29: =(KZN!D29-KZN!C29)/KZN!C29*100 -> 42.102539 | D29: =(KZN!E29-KZN!D29)/KZN!D29*100 -> -0.75573673 | E29: =(KZN!F29-KZN!E29)/KZN!E29*100 -> 52.743852 | F29: =(KZN!G29-KZN!F29)/KZN!F29*100 -> 29.061151 | G29: =(KZN!H29-KZN!G29)/KZN!G29*100 -> 10.939471 | H29: =(KZN!I29-KZN!H29)/KZN!H29*100 -> 0.97849451 | I29: =(KZN!J29-KZN!I29)/KZN!I29*100 -> -13.889582 | J29: =(KZN!K29-KZN!J29)/KZN!J29*100 -> 2.445656 | L29: =AVERAGE(B29:J29) -> 15.710863 | M29: =MAX(B29:J29)-MIN(B29:G29) -> 53.499589 | N29: =J29-B29 -> -15.326269
A30: External Loans | B30: =(KZN!C30-KZN!B30)/KZN!B30*100 -> 32.369173 | C30: =(KZN!D30-KZN!C30)/KZN!C30*100 -> 172.3272 | D30: =(KZN!E30-KZN!D30)/KZN!D30*100 -> -28.60372 | E30: =(KZN!F30-KZN!E30)/KZN!E30*100 -> 8.7269589 | F30: =(KZN!G30-KZN!F30)/KZN!F30*100 -> -3.293695 | G30: =(KZN!H30-KZN!G30)/KZN!G30*100 -> 9.8872192 | H30: =(KZN!I30-KZN!H30)/KZN!H30*100 -> -52.885489 | I30: =(KZN!J30-KZN!I30)/KZN!I30*100 -> -31.426725 | J30: =(KZN!K30-KZN!J30)/KZN!J30*100 -> 27.15787 | L30: =AVERAGE(B30:J30) -> 14.917644 | M30: =MAX(B30:J30)-MIN(B30:G30) -> 200.93092 | N30: =J30-B30 -> -5.2113034
A31: Public Contributions and Donations | B31: =(KZN!C31-KZN!B31)/KZN!B31*100 -> 4461.9128 | D31: =(KZN!E31-KZN!D31)/KZN!D31*100 -> -90.360675 | E31: =(KZN!F31-KZN!E31)/KZN!E31*100 -> 658.23778 | F31: =(KZN!G31-KZN!F31)/KZN!F31*100 -> 46.511196 | G31: =(KZN!H31-KZN!G31)/KZN!G31*100 -> -90.998316 | H31: =(KZN!I31-KZN!H31)/KZN!H31*100 -> 574.69322 | I31: =(KZN!J31-KZN!I31)/KZN!I31*100 -> 41.775247 | J31: =(KZN!K31-KZN!J31)/KZN!J31*100 -> 7.7245005 | L31: =AVERAGE(B31:J31) -> 701.18696 | M31: =MAX(B31:J31)-MIN(B31:G31) -> 4552.9111 | N31: =J31-B31 -> -4454.1883
A32: Grants and subsidies | B32: =(KZN!C32-KZN!B32)/KZN!B32*100 -> -0.90634863 | C32: =(KZN!D32-KZN!C32)/KZN!C32*100 -> 85.941219 | D32: =(KZN!E32-KZN!D32)/KZN!D32*100 -> 25.5636 | E32: =(KZN!F32-KZN!E32)/KZN!E32*100 -> 34.434607 | F32: =(KZN!G32-KZN!F32)/KZN!F32*100 -> 40.668017 | G32: =(KZN!H32-KZN!G32)/KZN!G32*100 -> 0.23161071 | H32: =(KZN!I32-KZN!H32)/KZN!H32*100 -> 19.177549 | I32: =(KZN!J32-KZN!I32)/KZN!I32*100 -> -20.482457 | J32: =(KZN!K32-KZN!J32)/KZN!J32*100 -> 10.556078 | L32: =AVERAGE(B32:J32) -> 21.687097 | M32: =MAX(B32:J32)-MIN(B32:G32) -> 86.847568 | N32: =J32-B32 -> 11.462427
A33: Other | B33: =(KZN!C33-KZN!B33)/KZN!B33*100 -> 27.519768 | C33: =(KZN!D33-KZN!C33)/KZN!C33*100 -> -40.968917 | D33: =(KZN!E33-KZN!D33)/KZN!D33*100 -> -6.1107344 | E33: =(KZN!F33-KZN!E33)/KZN!E33*100 -> 164.77803 | F33: =(KZN!G33-KZN!F33)/KZN!F33*100 -> 28.689822 | G33: =(KZN!H33-KZN!G33)/KZN!G33*100 -> 31.6342 | H33: =(KZN!I33-KZN!H33)/KZN!H33*100 -> -4.5826772 | I33: =(KZN!J33-KZN!I33)/KZN!I33*100 -> -0.7400962 | J33: =(KZN!K33-KZN!J33)/KZN!J33*100 -> -11.080616 | L33: =AVERAGE(B33:J33) -> 21.01542 | M33: =MAX(B33:J33)-MIN(B33:G33) -> 205.74695 | N33: =J33-B33 -> -38.600384
A35: Capital Expenditure | B35: =(KZN!C35-KZN!B35)/KZN!B35*100 -> 17.771933 | C35: =(KZN!D35-KZN!C35)/KZN!C35*100 -> 42.102529 | D35: =(KZN!E35-KZN!D35)/KZN!D35*100 -> -0.75537543 | E35: =(KZN!F35-KZN!E35)/KZN!E35*100 -> 53.623298 | F35: =(KZN!G35-KZN!F35)/KZN!F35*100 -> 28.676498 | G35: =(KZN!H35-KZN!G35)/KZN!G35*100 -> 10.664014 | H35: =(KZN!I35-KZN!H35)/KZN!H35*100 -> 5.3015357 | I35: =(KZN!J35-KZN!I35)/KZN!I35*100 -> -12.021057 | J35: =(KZN!K35-KZN!J35)/KZN!J35*100 -> -0.05787511 | L35: =AVERAGE(B35:J35) -> 16.145056 | M35: =MAX(B35:J35)-MIN(B35:G35) -> 54.378674 | N35: =J35-B35 -> -17.829809
A36: Water and Sanitation | B36: =(KZN!C36-KZN!B36)/KZN!B36*100 -> -5.7532623 | C36: =(KZN!D36-KZN!C36)/KZN!C36*100 -> 111.30031 | D36: =(KZN!E36-KZN!D36)/KZN!D36*100 -> 0.47645484 | E36: =(KZN!F36-KZN!E36)/KZN!E36*100 -> 32.253198 | F36: =(KZN!G36-KZN!F36)/KZN!F36*100 -> 48.013108 | G36: =(KZN!H36-KZN!G36)/KZN!G36*100 -> 18.269513 | H36: =(KZN!I36-KZN!H36)/KZN!H36*100 -> 1.1266801 | I36: =(KZN!J36-KZN!I36)/KZN!I36*100 -> -2.4233612 | J36: =(KZN!K36-KZN!J36)/KZN!J36*100 -> 0.711504 | L36: =AVERAGE(B36:J36) -> 22.663794 | M36: =MAX(B36:J36)-MIN(B36:G36) -> 117.05358 | N36: =J36-B36 -> 6.4647663
A37: Electricity | B37: =(KZN!C37-KZN!B37)/KZN!B37*100 -> 18.514494 | C37: =(KZN!D37-KZN!C37)/KZN!C37*100 -> 28.064695 | D37: =(KZN!E37-KZN!D37)/KZN!D37*100 -> 20.551037 | E37: =(KZN!F37-KZN!E37)/KZN!E37*100 -> 21.122959 | F37: =(KZN!G37-KZN!F37)/KZN!F37*100 -> 22.348066 | G37: =(KZN!H37-KZN!G37)/KZN!G37*100 -> 8.9433745 | H37: =(KZN!I37-KZN!H37)/KZN!H37*100 -> 51.003566 | I37: =(KZN!J37-KZN!I37)/KZN!I37*100 -> -1.7150074 | J37: =(KZN!K37-KZN!J37)/KZN!J37*100 -> -9.0337132 | L37: =AVERAGE(B37:J37) -> 17.755497 | M37: =MAX(B37:J37)-MIN(B37:G37) -> 42.060192 | N37: =J37-B37 -> -27.548207
A38: Housing | B38: =(KZN!C38-KZN!B38)/KZN!B38*100 -> 12.331095 | D38: =(KZN!E38-KZN!D38)/KZN!D38*100 -> 274.2451 | E38: =(KZN!F38-KZN!E38)/KZN!E38*100 -> 524.94408 | F38: =(KZN!G38-KZN!F38)/KZN!F38*100 -> -61.611253 | G38: =(KZN!H38-KZN!G38)/KZN!G38*100 -> -44.764851 | H38: =(KZN!I38-KZN!H38)/KZN!H38*100 -> 712.3651 | I38: =(KZN!J38-KZN!I38)/KZN!I38*100 -> -0.77970284 | J38: =(KZN!K38-KZN!J38)/KZN!J38*100 -> 8.6293284 | L38: =AVERAGE(B38:J38) -> 178.16986 | M38: =MAX(B38:J38)-MIN(B38:G38) -> 773.97636 | N38: =J38-B38 -> -3.7017667
A39: Roads and storm water | B39: =(KZN!C39-KZN!B39)/KZN!B39*100 -> 9.1241428 | D39: =(KZN!E39-KZN!D39)/KZN!D39*100 -> 33.09912 | E39: =(KZN!F39-KZN!E39)/KZN!E39*100 -> 46.024213 | F39: =(KZN!G39-KZN!F39)/KZN!F39*100 -> 42.633672 | G39: =(KZN!H39-KZN!G39)/KZN!G39*100 -> 58.136577 | H39: =(KZN!I39-KZN!H39)/KZN!H39*100 -> -17.426796 | I39: =(KZN!J39-KZN!I39)/KZN!I39*100 -> -22.506038 | J39: =(KZN!K39-KZN!J39)/KZN!J39*100 -> 3.9707117 | L39: =AVERAGE(B39:J39) -> 19.13195 | M39: =MAX(B39:J39)-MIN(B39:G39) -> 49.012434 | N39: =J39-B39 -> -5.1534311
A40: Other | B40: =(KZN!C40-KZN!B40)/KZN!B40*100 -> 28.990073 | C40: =(KZN!D40-KZN!C40)/KZN!C40*100 -> 5.553211 | D40: =(KZN!E40-KZN!D40)/KZN!D40*100 -> -17.917474 | E40: =(KZN!F40-KZN!E40)/KZN!E40*100 -> 45.525947 | F40: =(KZN!G40-KZN!F40)/KZN!F40*100 -> 41.60112 | G40: =(KZN!H40-KZN!G40)/KZN!G40*100 -> -6.8996312 | H40: =(KZN!I40-KZN!H40)/KZN!H40*100 -> -26.303123 | I40: =(KZN!J40-KZN!I40)/KZN!I40*100 -> -29.6314 | J40: =(KZN!K40-KZN!J40)/KZN!J40*100 -> -5.8644182 | L40: =AVERAGE(B40:J40) -> 3.8949228 | M40: =MAX(B40:J40)-MIN(B40:G40) -> 63.443421 | N40: =J40-B40 -> -34.854491
A42: Capital and Operating Expenditure
A43: Operating Expenditure | B43: =(KZN!C43-KZN!B43)/KZN!B43*100 -> 14.911692 | C43: =(KZN!D43-KZN!C43)/KZN!C43*100 -> 8.1101422 | D43: =(KZN!E43-KZN!D43)/KZN!D43*100 -> 16.208345 | E43: =(KZN!F43-KZN!E43)/KZN!E43*100 -> 5.0859604 | F43: =(KZN!G43-KZN!F43)/KZN!F43*100 -> 28.312771 | G43: =(KZN!H43-KZN!G43)/KZN!G43*100 -> 20.172838 | H43: =(KZN!I43-KZN!H43)/KZN!H43*100 -> 10.135573 | I43: =(KZN!J43-KZN!I43)/KZN!I43*100 -> 9.9548476 | J43: =(KZN!K43-KZN!J43)/KZN!J43*100 -> 11.896316 | L43: =AVERAGE(B43:J43) -> 13.865387 | M43: =MAX(B43:J43)-MIN(B43:G43) -> 23.226811 | N43: =J43-B43 -> -3.0153764
