Workbook

Sheet Real Trend
B1: FERTILIZER & DIESEL PRICES
B2: (Year on Year Nominal and Real Changes)
B4: Nominal | I4: Real
B5: LAN | C5: Urea | D5: Supers | E5: MAP | F5: Potash | G5: Diesel | H5: CPI | I5: LAN | J5: Urea | K5: Supers | L5: MAP | M5: Potash | N5: Diesel
A7: 39512
A8: 39539
A9: 39569
A10: 39600
A11: 39630
A12: 39661
A13: 39697
A14: 39722
A15: 39753
A16: 39785
A17: 39815 | H17: 8.1 | I17: =B17-$H17 -> -8.1 | J17: =C17-$H17 -> -8.1 | K17: =D17-$H17 -> -8.1 | L17: =E17-$H17 -> -8.1 | M17: =F17-$H17 -> -8.1 | N17: =G17-$H17 -> -8.1
A18: 39846 | B18: =(Data!B20-Data!B8)/Data!B8*100 -> 20.857143 | C18: =(Data!C20-Data!C8)/Data!C8*100 -> 13.544018 | D18: =(Data!D20-Data!D8)/Data!D8*100 -> 22.900763 | E18: =(Data!E20-Data!E8)/Data!E8*100 -> -9.2993631 | F18: =(Data!F20-Data!F8)/Data!F8*100 -> 136.7713 | G18: =(Data!G20-Data!G8)/Data!G8*100 -> -12.654746 | H18: 8.6 | I18: =B18-$H18 -> 12.257143 | J18: =C18-$H18 -> 4.9440181 | K18: =D18-$H18 -> 14.300763 | L18: =E18-$H18 -> -17.899363 | M18: =F18-$H18 -> 128.1713 | N18: =G18-$H18 -> -21.254746 | P18: 1
A19: =Data!A21 -> 39874 | B19: =(Data!B21-Data!B9)/Data!B9*100 -> 20.170455 | C19: =(Data!C21-Data!C9)/Data!C9*100 -> 6.5677966 | D19: =(Data!D21-Data!D9)/Data!D9*100 -> -16.86747 | E19: =(Data!E21-Data!E9)/Data!E9*100 -> -23.60515 | F19: =(Data!F21-Data!F9)/Data!F9*100 -> 92 | G19: =(Data!G21-Data!G9)/Data!G9*100 -> -21.118012 | H19: 10.362694 | I19: =B19-$H19 -> 9.8077602 | J19: =C19-$H19 -> -3.7948977 | K19: =D19-$H19 -> -27.230164 | L19: =E19-$H19 -> -33.967845 | M19: =F19-$H19 -> 81.637306 | N19: =G19-$H19 -> -31.480707 | P19: =P18+1 -> 2
A20: 39905 | B20: =(Data!B22-Data!B10)/Data!B10*100 -> -5.6701031 | C20: =(Data!C22-Data!C10)/Data!C10*100 -> 1.8329939 | D20: =(Data!D22-Data!D10)/Data!D10*100 -> -30.970724 | E20: =(Data!E22-Data!E10)/Data!E10*100 -> -56.403732 | F20: =(Data!F22-Data!F10)/Data!F10*100 -> 46.025105 | G20: =(Data!G22-Data!G10)/Data!G10*100 -> -31.905782 | H20: 9.9589322 | I20: =B20-$H20 -> -15.629035 | J20: =C20-$H20 -> -8.1259383 | K20: =D20-$H20 -> -40.929656 | L20: =E20-$H20 -> -66.362664 | M20: =F20-$H20 -> 36.066172 | N20: =G20-$H20 -> -41.864714
A21: =Data!A23 -> 39935 | B21: =(Data!B23-Data!B11)/Data!B11*100 -> -15.277778 | C21: =(Data!C23-Data!C11)/Data!C11*100 -> -21.99688 | D21: =(Data!D23-Data!D11)/Data!D11*100 -> -38.797814 | E21: =(Data!E23-Data!E11)/Data!E11*100 -> -67.693275 | F21: =(Data!F23-Data!F11)/Data!F11*100 -> 23.176471 | G21: =(Data!G23-Data!G11)/Data!G11*100 -> -36.779324 | H21: 9.3781855 | I21: =B21-$H21 -> -24.655963 | J21: =C21-$H21 -> -31.375065 | K21: =D21-$H21 -> -48.176 | L21: =E21-$H21 -> -77.07146 | M21: =F21-$H21 -> 13.798285 | N21: =G21-$H21 -> -46.15751 | P21: 3
A22: 39968 | B22: =(Data!B24-Data!B12)/Data!B12*100 -> -43.667297 | C22: =(Data!C24-Data!C12)/Data!C12*100 -> -45.899471 | D22: =(Data!D24-Data!D12)/Data!D12*100 -> -50 | E22: =(Data!E24-Data!E12)/Data!E12*100 -> -67.578947 | F22: =(Data!F24-Data!F12)/Data!F12*100 -> -1.4238773 | G22: =(Data!G24-Data!G12)/Data!G12*100 -> -41.171004 | H22: 7.6 | I22: =B22-$H22 -> -51.267297 | J22: =C22-$H22 -> -53.499471 | K22: =D22-$H22 -> -57.6 | L22: =E22-$H22 -> -75.178947 | M22: =F22-$H22 -> -9.0238773 | N22: =G22-$H22 -> -48.771004 | P22: =P21+1 -> 4
A23: 39996 | B23: =(Data!B25-Data!B13)/Data!B13*100 -> -51.666667 | C23: =(Data!C25-Data!C13)/Data!C13*100 -> -47.464239 | D23: =(Data!D25-Data!D13)/Data!D13*100 -> -52.61745 | E23: =(Data!E25-Data!E13)/Data!E13*100 -> -69.985775 | F23: =(Data!F25-Data!F13)/Data!F13*100 -> -9.5 | G23: =(Data!G25-Data!G13)/Data!G13*100 -> -40.913082 | H23: 6.5880039 | I23: =B23-$H23 -> -58.254671 | J23: =C23-$H23 -> -54.052243 | K23: =D23-$H23 -> -59.205454 | L23: =E23-$H23 -> -76.573779 | M23: =F23-$H23 -> -16.088004 | N23: =G23-$H23 -> -47.501086 | P23: =P22+1 -> 5
A24: 40030 | B24: =(Data!B26-Data!B14)/Data!B14*100 -> -56.48 | C24: =(Data!C26-Data!C14)/Data!C14*100 -> -57.929515 | D24: =(Data!D26-Data!D14)/Data!D14*100 -> -59.308511 | E24: =(Data!E26-Data!E14)/Data!E14*100 -> -71.630205 | F24: =(Data!F26-Data!F14)/Data!F14*100 -> -15.862709 | G24: =(Data!G26-Data!G14)/Data!G14*100 -> -41.852182 | H24: 6.0606061 | I24: =B24-$H24 -> -62.540606 | J24: =C24-$H24 -> -63.990121 | K24: =D24-$H24 -> -65.369117 | L24: =E24-$H24 -> -77.690811 | M24: =F24-$H24 -> -21.923315 | N24: =G24-$H24 -> -47.912788 | P24: =P23+1 -> 6
A25: 40058 | B25: =(Data!B27-Data!B15)/Data!B15*100 -> -60.526316 | C25: =(Data!C27-Data!C15)/Data!C15*100 -> -61.235357 | D25: =(Data!D27-Data!D15)/Data!D15*100 -> -59.972106 | E25: =(Data!E27-Data!E15)/Data!E15*100 -> -68.216463 | F25: =(Data!F27-Data!F15)/Data!F15*100 -> -28.11284 | G25: =(Data!G27-Data!G15)/Data!G15*100 -> -33.162743 | H25: 5.8365759 | I25: =B25-$H25 -> -66.362892 | J25: =C25-$H25 -> -67.071933 | K25: =D25-$H25 -> -65.808682 | L25: =E25-$H25 -> -74.053039 | M25: =F25-$H25 -> -33.949416 | N25: =G25-$H25 -> -38.999319 | P25: =P24+1 -> 7
A26: 40120 | B26: =(Data!B28-Data!B17)/Data!B17*100 -> -60.46875 | C26: =(Data!C28-Data!C17)/Data!C17*100 -> -57.074341 | D26: =(Data!D28-Data!D17)/Data!D17*100 -> -60.514372 | E26: =(Data!E28-Data!E17)/Data!E17*100 -> -63.613014 | F26: =(Data!F28-Data!F17)/Data!F17*100 -> -40.9 | G26: =(Data!G28-Data!G17)/Data!G17*100 -> -27.874187 | H26: 5.2224371 | I26: =B26-$H26 -> -65.691187 | J26: =C26-$H26 -> -62.296778 | K26: =D26-$H26 -> -65.736809 | L26: =E26-$H26 -> -68.835451 | M26: =F26-$H26 -> -46.122437 | N26: =G26-$H26 -> -33.096624 | P26: =P25+1 -> 8
A27: 40150 | B27: =(Data!B29-Data!B18)/Data!B18*100 -> -49.908257 | C27: =(Data!C29-Data!C18)/Data!C18*100 -> -49.705015 | D27: =(Data!D29-Data!D18)/Data!D18*100 -> -57.561728 | E27: =(Data!E29-Data!E18)/Data!E18*100 -> -60.829493 | F27: =(Data!F29-Data!F18)/Data!F18*100 -> -42.2 | G27: =(Data!G29-Data!G18)/Data!G18*100 -> -14.60396 | H27: 5.410628 | I27: =B27-$H27 -> -55.318885 | J27: =C27-$H27 -> -55.115643 | K27: =D27-$H27 -> -62.972356 | L27: =E27-$H27 -> -66.240121 | M27: =F27-$H27 -> -47.610628 | N27: =G27-$H27 -> -20.014588 | P27: 9
A28: 40183 | B28: =(Data!B30-Data!B19)/Data!B19*100 -> -38.651685 | C28: =(Data!C30-Data!C19)/Data!C19*100 -> -32.553957 | D28: =(Data!D30-Data!D19)/Data!D19*100 -> -54.895666 | E28: =(Data!E30-Data!E19)/Data!E19*100 -> -53.32681 | F28: =(Data!F30-Data!F19)/Data!F19*100 -> -44.455253 | G28: =(Data!G30-Data!G19)/Data!G19*100 -> 5.625 | H28: 4.784689 | I28: =B28-$H28 -> -43.436374 | J28: =C28-$H28 -> -37.338646 | K28: =D28-$H28 -> -59.680355 | L28: =E28-$H28 -> -58.111499 | M28: =F28-$H28 -> -49.239942 | N28: =G28-$H28 -> 0.840311 | P28: 10
A29: 40212 | B29: =(Data!B31-Data!B20)/Data!B20*100 -> -35.460993 | C29: =(Data!C31-Data!C20)/Data!C20*100 -> -22.465209 | D29: =(Data!D31-Data!D20)/Data!D20*100 -> -39.544513 | E29: =(Data!E31-Data!E20)/Data!E20*100 -> -22.050562 | F29: =(Data!F31-Data!F20)/Data!F20*100 -> -50.852273 | G29: =(Data!G31-Data!G20)/Data!G20*100 -> 8.0314961 | H29: 4.368471 | I29: =B29-$H29 -> -39.829464 | J29: =C29-$H29 -> -26.83368 | K29: =D29-$H29 -> -43.912984 | L29: =E29-$H29 -> -26.419033 | M29: =F29-$H29 -> -55.220744 | N29: =G29-$H29 -> 3.663025 | P29: 1
A30: 40239 | B30: =(Data!B32-Data!B21)/Data!B21*100 -> -35.933806 | C30: =(Data!C32-Data!C21)/Data!C21*100 -> -23.06163 | D30: =(Data!D32-Data!D21)/Data!D21*100 -> -33.333333 | E30: =(Data!E32-Data!E21)/Data!E21*100 -> -15.308989 | F30: =(Data!F32-Data!F21)/Data!F21*100 -> -50.473485 | G30: =(Data!G32-Data!G21)/Data!G21*100 -> 8.6614173 | H30: 3.943662 | I30: =B30-$H30 -> -39.877468 | J30: =C30-$H30 -> -27.005292 | K30: =D30-$H30 -> -37.276995 | L30: =E30-$H30 -> -19.252651 | M30: =F30-$H30 -> -54.417147 | N30: =G30-$H30 -> 4.7177554 | P30: =P29+1 -> 2
A31: =Data!A33 -> 40302 | B31: =(Data!B33-Data!B23)/Data!B23*100 -> -12.84153 | C31: =(Data!C33-Data!C21)/Data!C21*100 -> -23.06163 | D31: =(Data!D33-Data!D21)/Data!D21*100 -> -32.091097 | E31: =(Data!E33-Data!E21)/Data!E21*100 -> -15.730337 | F31: =(Data!F33-Data!F21)/Data!F21*100 -> -52.746212 | G31: =(Data!G33-Data!G21)/Data!G21*100 -> 22.834646 | H31: 3.4482759 | I31: =B31-$H31 -> -16.289806 | J31: =C31-$H31 -> -26.509906 | K31: =D31-$H31 -> -35.539373 | L31: =E31-$H31 -> -19.178613 | M31: =F31-$H31 -> -56.194488 | N31: =G31-$H31 -> 19.38637 | P31: =P30+1 -> 3
A32: =Data!A34 -> 40331 | B32: =(Data!B34-Data!B24)/Data!B24*100 -> 12.751678 | C32: =(Data!C34-Data!C22)/Data!C22*100 -> -24 | D32: =(Data!D34-Data!D22)/Data!D22*100 -> -28.571429 | E32: =(Data!E34-Data!E22)/Data!E22*100 -> 13.229572 | F32: =(Data!F34-Data!F22)/Data!F22*100 -> -53.581662 | G32: =(Data!G34-Data!G22)/Data!G22*100 -> 18.396226 | H32: 3.1598513 | I32: =B32-$H32 -> 9.5918266 | J32: =C32-$H32 -> -27.159851 | K32: =D32-$H32 -> -31.73128 | L32: =E32-$H32 -> 10.069721 | M32: =F32-$H32 -> -56.741513 | N32: =G32-$H32 -> 15.236375 | P32: =P31+1 -> 4
A33: =Data!A35 -> 40362 | B33: =(Data!B35-Data!B25)/Data!B25*100 -> 10 | C33: =(Data!C35-Data!C23)/Data!C23*100 -> -27.2 | D33: =(Data!D35-Data!D23)/Data!D23*100 -> -26.785714 | E33: =(Data!E35-Data!E23)/Data!E23*100 -> 10.505837 | F33: =(Data!F35-Data!F23)/Data!F23*100 -> -55.491882 | G33: =(Data!G35-Data!G23)/Data!G23*100 -> 16.037736 | H33: 2.8597786 | I33: =B33-$H33 -> 7.1402214 | J33: =C33-$H33 -> -30.059779 | K33: =D33-$H33 -> -29.645493 | L33: =E33-$H33 -> 7.646058 | M33: =F33-$H33 -> -58.35166 | N33: =G33-$H33 -> 13.177957 | P33: =P32+1 -> 5
A34: =Data!A36 -> 40393 | B34: =(Data!B36-Data!B26)/Data!B26*100 -> 19.117647 | C34: =(Data!C36-Data!C24)/Data!C24*100 -> -11.246944 | D34: =(Data!D36-Data!D24)/Data!D24*100 -> -16.052632 | E34: =(Data!E36-Data!E24)/Data!E24*100 -> 27.489177 | F34: =(Data!F36-Data!F24)/Data!F24*100 -> -49.888889 | G34: =(Data!G36-Data!G24)/Data!G24*100 -> 14.533965 | H34: 2.8571429 | I34: =B34-$H34 -> 16.260504 | J34: =C34-$H34 -> -14.104087 | K34: =D34-$H34 -> -18.909774 | L34: =E34-$H34 -> 24.632035 | M34: =F34-$H34 -> -52.746032 | N34: =G34-$H34 -> 11.676822 | P34: =P33+1 -> 6
A35: =Data!A37 -> 40423 | B35: =(Data!B37-Data!B27)/Data!B27*100 -> 33.72549 | C35: =(Data!C37-Data!C25)/Data!C25*100 -> -9.9009901 | D35: =(Data!D37-Data!D25)/Data!D25*100 -> -9.9150142 | E35: =(Data!E37-Data!E25)/Data!E25*100 -> 48.578199 | F35: =(Data!F37-Data!F25)/Data!F25*100 -> -50.165746 | G35: =(Data!G37-Data!G25)/Data!G25*100 -> 7.7265973 | H35: 2.4816176 | I35: =B35-$H35 -> 31.243873 | J35: =C35-$H35 -> -12.382608 | K35: =D35-$H35 -> -12.396632 | L35: =E35-$H35 -> 46.096581 | M35: =F35-$H35 -> -52.647364 | N35: =G35-$H35 -> 5.2449797 | P35: =P34+1 -> 7
A36: =Data!A38 -> 40484 | B36: =(Data!B38-Data!B28)/Data!B28*100 -> 43.478261 | C36: =(Data!C38-Data!C28)/Data!C28*100 -> 7.8212291 | D36: =(Data!D38-Data!D28)/Data!D28*100 -> 24.904215 | E36: =(Data!E38-Data!E28)/Data!E28*100 -> 52.235294 | F36: =(Data!F38-Data!F28)/Data!F28*100 -> -21.827411 | G36: =(Data!G38-Data!G28)/Data!G28*100 -> 10.225564 | H36: 2.9411765 | I36: =B36-$H36 -> 40.537084 | J36: =C36-$H36 -> 4.8800526 | K36: =D36-$H36 -> 21.963038 | L36: =E36-$H36 -> 49.294118 | M36: =F36-$H36 -> -24.768588 | N36: =G36-$H36 -> 7.2843874 | P36: =P35+1 -> 8
A37: =Data!A39 -> 40514 | B37: =(Data!B39-Data!B29)/Data!B29*100 -> 32.967033 | C37: =(Data!C39-Data!C29)/Data!C29*100 -> 18.181818 | D37: =(Data!D39-Data!D29)/Data!D29*100 -> 17.818182 | E37: =(Data!E39-Data!E29)/Data!E29*100 -> 53.882353 | F37: =(Data!F39-Data!F29)/Data!F29*100 -> -19.204152 | G37: =(Data!G39-Data!G29)/Data!G29*100 -> 8.2608696 | H37: 2.7497709 | I37: =B37-$H37 -> 30.217262 | J37: =C37-$H37 -> 15.432047 | K37: =D37-$H37 -> 15.068411 | L37: =E37-$H37 -> 51.132582 | M37: =F37-$H37 -> -21.953923 | N37: =G37-$H37 -> 5.5110987 | P37: =P36+1 -> 9
A38: =Data!A40 -> 40546 | B38: =(Data!B40-Data!B30)/Data!B30*100 -> 32.967033 | C38: =(Data!C40-Data!C30)/Data!C30*100 -> 16.533333 | D38: =(Data!D40-Data!D30)/Data!D30*100 -> 15.302491 | E38: =(Data!E40-Data!E30)/Data!E30*100 -> 37.106918 | F38: =(Data!F40-Data!F30)/Data!F30*100 -> -18.739054 | G38: =(Data!G40-Data!G30)/Data!G30*100 -> 13.905325 | H38: 2.9223744 | I38: =B38-$H38 -> 30.044659 | J38: =C38-$H38 -> 13.610959 | K38: =D38-$H38 -> 12.380117 | L38: =E38-$H38 -> 34.184544 | M38: =F38-$H38 -> -21.661429 | N38: =G38-$H38 -> 10.982951 | P38: =P37+1 -> 10
A39: =Data!A41 -> 40576 | B39: =(Data!B41-Data!B31)/Data!B31*100 -> 32.967033 | C39: =(Data!C41-Data!C31)/Data!C31*100 -> 13.589744 | D39: =(Data!D41-Data!D31)/Data!D31*100 -> 10.958904 | E39: =(Data!E41-Data!E31)/Data!E31*100 -> 12.432432 | F39: =(Data!F41-Data!F31)/Data!F31*100 -> -10.597303 | G39: =(Data!G41-Data!G31)/Data!G31*100 -> 16.618076 | H39: 3.1847134 | I39: =B39-$H39 -> 29.78232 | J39: =C39-$H39 -> 10.40503 | K39: =D39-$H39 -> 7.7741907 | L39: =E39-$H39 -> 9.2477191 | M39: =F39-$H39 -> -13.782016 | N39: =G39-$H39 -> 13.433362 | P39: 1
A40: =Data!A42 -> 40604 | B40: =(Data!B42-Data!B32)/Data!B32*100 -> 35.424354 | C40: =(Data!C42-Data!C32)/Data!C32*100 -> 18.863049 | D40: =(Data!D42-Data!D32)/Data!D32*100 -> 3.7267081 | E40: =(Data!E42-Data!E32)/Data!E32*100 -> 7.1310116 | F40: =(Data!F42-Data!F32)/Data!F32*100 -> -8.2217973 | G40: =(Data!G42-Data!G32)/Data!G32*100 -> 25.217391 | H40: 3.432701 | I40: =B40-$H40 -> 31.991653 | J40: =C40-$H40 -> 15.430348 | K40: =D40-$H40 -> 0.29400708 | L40: =E40-$H40 -> 3.6983106 | M40: =F40-$H40 -> -11.654498 | N40: =G40-$H40 -> 21.78469 | P40: =P39+1 -> 2
A41: =Data!A43 -> 40667 | B41: =(Data!B43-Data!B33)/Data!B33*100 -> 20.376176 | C41: =(Data!C43-Data!C31)/Data!C31*100 -> 13.846154 | D41: =(Data!D43-Data!D31)/Data!D31*100 -> 18.835616 | E41: =(Data!E43-Data!E31)/Data!E31*100 -> 16.396396 | F41: =(Data!F43-Data!F31)/Data!F31*100 -> -6.5510597 | G41: =(Data!G43-Data!G31)/Data!G31*100 -> 37.609329 | H41: 3.963964 | I41: =B41-$H41 -> 16.412212 | J41: =C41-$H41 -> 9.8821899 | K41: =D41-$H41 -> 14.871652 | L41: =E41-$H41 -> 12.432432 | M41: =F41-$H41 -> -10.515024 | N41: =G41-$H41 -> 33.645365 | P41: =P40+1 -> 3
A42: =Data!A44 -> 40696 | B42: =(Data!B44-Data!B34)/Data!B34*100 -> 14.285714 | C42: =(Data!C44-Data!C34)/Data!C34*100 -> 15.789474 | D42: =(Data!D44-Data!D34)/Data!D34*100 -> 10.3125 | E42: =(Data!E44-Data!E34)/Data!E34*100 -> 20.446735 | F42: =(Data!F44-Data!F34)/Data!F34*100 -> 0.61728395 | G42: =(Data!G44-Data!G34)/Data!G34*100 -> 20.318725 | H42: 4.5045045 | I42: =B42-$H42 -> 9.7812098 | J42: =C42-$H42 -> 11.284969 | K42: =D42-$H42 -> 5.8079955 | L42: =E42-$H42 -> 15.942231 | M42: =F42-$H42 -> -3.8872206 | N42: =G42-$H42 -> 15.814221 | P42: =P41+1 -> 4
...

Sheet Data
B1: FERTILIZER & DIESEL PRICES
B2: (Fertilizer: R/ton, excluding transport)
B4: LAN | C4: Urea | D4: Supers | E4: MAP | F4: Potash | G4: Diesel
A5: 35796 | B5: 800 | C5: 1120 | D5: 901 | E5: 1603 | F5: 1050 | G5: 1.84
A6: 37865 | B6: 1775 | C6: 2280 | D6: 1510 | E6: 2760 | F6: 2050 | G6: 3.23
A7: 39083 | B7: 2350 | C7: 2900 | D7: 1995 | E7: 3650 | F7: 2600 | G7: 5.42
A8: 39479 | B8: 3500 | C8: 4430 | D8: 3930 | E8: 7850 | F8: 4460 | G8: 7.27
A9: 39512 | B9: 3520 | C9: 4720 | D9: 5810 | E9: 9320 | F9: 5500 | G9: 8.05
A10: 39539 | B10: 3880 | C10: 4910 | D10: 6490 | E10: 11790 | F10: 7170 | G10: 9.34
A11: 39569 | B11: 4320 | C11: 6410 | D11: 7320 | E11: 15910 | F11: 8500 | G11: 10.06
A12: 39600 | B12: 5290 | C12: 7560 | D12: 7600 | E12: 14250 | F12: 9130 | G12: 10.76
A13: 39630 | B13: 6000 | C13: 7690 | D13: 7450 | E13: 14060 | F13: 10000 | G13: 11.39
A14: 39661 | B14: 6250 | C14: 9080 | D14: 7520 | E14: 14170 | F14: 10780 | G14: 11.23
A15: 39697 | B15: 6460 | C15: 9390 | D15: 7170 | E15: 13120 | F15: 10280 | G15: 9.77
A16: 39722 | B16: 6670 | C16: 9390 | D16: 6840 | E16: 12340 | F16: 10320 | G16: 9.22
... A50: 40878 | B50: 4659 | C50: 6347 | D50: 4218 | E50: 7891 | F50: 5937 | G50: 10.28
A51: 40910 | B51: =(B50+B52)/2 -> 4447 | C51: =(C50+C52)/2 -> 5850 | D51: =(D50+D52)/2 -> 4109.5 | E51: =(E50+E52)/2 -> 7318.5 | F51: =(F50+F52)/2 -> 5901.5 | G51: 10.07
A52: 40943 | B52: 4235 | C52: 5353 | D52: 4001 | E52: 6746 | F52: 5866 | G52: 10.06
A53: 40969 | B53: 4235 | C53: 5353 | D53: 4033 | E53: 6580 | F53: 5983 | G53: 10.16
A54: 41000 | B54: 3968 | C54: 5294 | D54: 3913 | E54: 6573 | F54: 5904 | G54: 10.64
A55: 41030 | B55: 3968 | C55: 5412 | D55: 3775 | E55: 6894 | F55: 5864 | G55: 10.73
A57: Year on Year Change
A58: 40157 | B58: =(B29-B18)/B18*100 -> -49.908257 | C58: =(C29-C18)/C18*100 -> -49.705015 | D58: =(D29-D18)/D18*100 -> -57.561728 | E58: =(E29-E18)/E18*100 -> -60.829493 | F58: =(F29-F18)/F18*100 -> -42.2 | G58: =(G29-G18)/G18*100 -> -14.60396
A59: 40522 | B59: =(B39-B29)/B29*100 -> 32.967033 | C59: =(C39-C29)/C29*100 -> 18.181818 | D59: =(D39-D29)/D29*100 -> 17.818182 | E59: =(E39-E29)/E29*100 -> 53.882353 | F59: =(F39-F29)/F29*100 -> -19.204152 | G59: =(G39-G29)/G29*100 -> 8.2608696
A60: 40888 | B60: =(B50-B39)/B39*100 -> 28.347107 | C60: =(C50-C39)/C39*100 -> 57.493797 | D60: =(D50-D39)/D39*100 -> 30.185185 | E60: =(E50-E39)/E39*100 -> 20.657492 | F60: =(F50-F39)/F39*100 -> 27.130621 | G60: =(G50-G39)/G39*100 -> 37.617135
